Workbook

Sheet Rekapitulace stavby
A1: Export Komplet | BA1: 2.0 | BT1: False | BU1: False | BV1: {d1934d9a-7de5-48f1-a2c5-90aaac941e50}
AR2: >> skryté sloupce << | BS2: 0,01 | BT2: 21
BS3: 0,01 | BT3: 12
D4: REKAPITULACE STAVBY | AS4: v --- níže se nacházejí doplnkové a pomocné údaje k sestavám --- v | BS4: 0,001
D5: Kód: | K5: 2025/04 | BS5: 0,01
D6: Stavba: | K6: Segment II v okružním parku Zelený pás Líbeznice | BS6: 0,01
D7: KSO: | AK7: CC-CZ: | BS7: 0,01
D8: Místo: | K8: Líbeznice | AK8: Datum: | AN8: 17. 4. 2025 | BS8: 0,01
BS9: 0,01
D10: Zadavatel: | AK10: IČ: | BS10: 0,01
E11: Obec Líbeznice | AK11: DIČ: | BS11: 0,01
BS12: 0,01
D13: Zhotovitel: | AK13: IČ: | BS13: 0,01
AK14: DIČ: | BS14: 0,01
BS15: False
D16: Projektant: | AK16: IČ: | BS16: False
E17: MENU Architekti s.r.o. | AK17: DIČ: | BS17: True
BS18: 0,01
D19: Zpracovatel: | AK19: IČ: | BS19: 0,01
E20: MENU Architekti s.r.o. | AK20: DIČ: | BS20: True
D22: Poznámka:
D26: Cena bez DPH | AK26: =ROUND(AG94,2) -> 0
L28: Sazba daně | W28: Základ daně | AK28: Výše daně
D29: DPH | F29: základní | L29: 0.21 | W29: =ROUND(AZ94, 2) -> 0 | AK29: =ROUND(AV94, 2) -> 0
F30: snížená | L30: 0.12 | W30: =ROUND(BA94, 2) -> 0 | AK30: =ROUND(AW94, 2) -> 0
F31: zákl. přenesená | L31: 0.21 | W31: =ROUND(BB94, 2) -> 0 | AK31: 0
F32: sníž. přenesená | L32: 0.12 | W32: =ROUND(BC94, 2) -> 0 | AK32: 0
F33: nulová | L33: 0 | W33: =ROUND(BD94, 2) -> 0 | AK33: 0
D35: Cena s DPH | T35: v | X35: CZK | AK35: =SUM(AK26:AK33) -> 0
D49: Projektant | AH49: Zpracovatel
D60: Datum a podpis: | V60: Razítko | AH60: Datum a podpis: | AM60: Razítko
D64: Objednavatel | AH64: Zhotovitel
D75: Datum a podpis: | V75: Razítko | AH75: Datum a podpis: | AM75: Razítko
C82: REKAPITULACE OBJEKTŮ STAVBY A SOUPISŮ PRACÍ
C84: Kód: | L84: =K5 -> 2025/04
C85: Stavba: | L85: =K6 -> Segment II v okružním parku Zelený pás Líbeznice
C87: Místo: | L87: =IF(K8="","",K8) -> Líbeznice | AI87: Datum: | AM87: =IF(AN8= "","",AN8) -> 17. 4. 2025
C89: Zadavatel: | L89: =IF(E11= "","",E11) -> Obec Líbeznice | AI89: Projektant: | AM89: =IF(E17="","",E17) -> MENU Architekti s.r.o. | AS89: Informatívní údaje z listů zakázek
C90: Zhotovitel: | L90: =IF(E14="","",E14) | AI90: Zpracovatel: | AM90: =IF(E20="","",E20) -> MENU Architekti s.r.o.
C92: Kód | I92: Popis | AG92: Cena bez DPH [CZK] | AN92: Cena s DPH [CZK] | AQ92: Typ | AS92: z toho Ostat._x000D_ náklady [CZK] | AT92: DPH [CZK] | AU92: Normohodiny [h] | AV92: DPH základní [CZK] | AW92: DPH snížená [CZK] | AX92: DPH základní přenesená_x000D_ [CZK] | AY92: DPH snížená přenesená_x000D_ [CZK] | AZ92: Základna_x000D_ DPH základní | BA92: Základna_x000D_ DPH snížená | BB92: Základna_x000D_ DPH zákl. přenesená | BC92: Základna_x000D_ DPH sníž. přenesená | BD92: Základna_x000D_ DPH nulová
C94: Náklady z rozpočtů | AG94: =ROUND(SUM(AG95:AG99),2) -> 0 | AN94: =SUM(AG94,AT94) -> 0 | AS94: =ROUND(SUM(AS95:AS99),2) -> 0 | AT94: =ROUND(SUM(AV94:AW94),2) -> 0 | AU94: =ROUND(SUM(AU95:AU99),5) -> 1794.8875 | AV94: =ROUND(AZ94*L29,2) -> 0 | AW94: =ROUND(BA94*L30,2) -> 0 | AX94: =ROUND(BB94*L29,2) -> 0 | AY94: =ROUND(BC94*L30,2) -> 0 | AZ94: =ROUND(SUM(AZ95:AZ99),2) -> 0 | BA94: =ROUND(SUM(BA95:BA99),2) -> 0 | BB94: =ROUND(SUM(BB95:BB99),2) -> 0 | BC94: =ROUND(SUM(BC95:BC99),2) -> 0 | BD94: =ROUND(SUM(BD95:BD99),2) -> 0 | BS94: D | BT94: 0 | BU94: ###NOIMPORT### | BV94: IMPORT | BW94: {d1934d9a-7de5-48f1-a2c5-90aaac941e50} | BX94: {00000000-0000-0000-0000-000000000000}
A95: / | D95: SO.01 | J95: Terénní úpravy | AG95: ='SO.01 - Terénní úpravy'!J30 -> 0 | AN95: =SUM(AG95,AT95) -> 0 | AQ95: STA | AS95: 0 | AT95: =ROUND(SUM(AV95:AW95),2) -> 0 | AU95: ='SO.01 - Terénní úpravy'!P121 -> 1582.2594 | AV95: ='SO.01 - Terénní úpravy'!J33 -> 0 | AW95: ='SO.01 - Terénní úpravy'!J34 -> 0 | AX95: ='SO.01 - Terénní úpravy'!J35 -> 0 | AY95: ='SO.01 - Terénní úpravy'!J36 -> 0 | AZ95: ='SO.01 - Terénní úpravy'!F33 -> 0 | BA95: ='SO.01 - Terénní úpravy'!F34 -> 0 | BB95: ='SO.01 - Terénní úpravy'!F35 -> 0 | BC95: ='SO.01 - Terénní úpravy'!F36 -> 0 | BD95: ='SO.01 - Terénní úpravy'!F37 -> 0 | BT95: 1 | BV95: IMPORT | BW95: {c6f6580b-0501-4064-9c1f-30b78706df29} | BX95: {d1934d9a-7de5-48f1-a2c5-90aaac941e50} | CM95: 2
A96: / | D96: SO.02 | J96: Sadové úpravy a krajina | AG96: ='SO.02 - Sadové úpravy a k...'!J30 -> 0 | AN96: =SUM(AG96,AT96) -> 0 | AQ96: STA | AS96: 0 | AT96: =ROUND(SUM(AV96:AW96),2) -> 0 | AU96: ='SO.02 - Sadové úpravy a k...'!P132 -> 0 | AV96: ='SO.02 - Sadové úpravy a k...'!J33 -> 0 | AW96: ='SO.02 - Sadové úpravy a k...'!J34 -> 0 | AX96: ='SO.02 - Sadové úpravy a k...'!J35 -> 0 | AY96: ='SO.02 - Sadové úpravy a k...'!J36 -> 0 | AZ96: ='SO.02 - Sadové úpravy a k...'!F33 -> 0 | BA96: ='SO.02 - Sadové úpravy a k...'!F34 -> 0 | BB96: ='SO.02 - Sadové úpravy a k...'!F35 -> 0 | BC96: ='SO.02 - Sadové úpravy a k...'!F36 -> 0 | BD96: ='SO.02 - Sadové úpravy a k...'!F37 -> 0 | BT96: 1 | BV96: IMPORT | BW96: {939a7001-2f8c-4de1-a2ce-c9582be110aa} | BX96: {d1934d9a-7de5-48f1-a2c5-90aaac941e50} | CM96: 2
A97: / | D97: SO.03 | J97: Lávka | AG97: ='SO.03 - Lávka'!J30 -> 0 | AN97: =SUM(AG97,AT97) -> 0 | AQ97: STA | AS97: 0 | AT97: =ROUND(SUM(AV97:AW97),2) -> 0 | AU97: ='SO.03 - Lávka'!P123 -> 212.62818 | AV97: ='SO.03 - Lávka'!J33 -> 0 | AW97: ='SO.03 - Lávka'!J34 -> 0 | AX97: ='SO.03 - Lávka'!J35 -> 0 | AY97: ='SO.03 - Lávka'!J36 -> 0 | AZ97: ='SO.03 - Lávka'!F33 -> 0 | BA97: ='SO.03 - Lávka'!F34 -> 0 | BB97: ='SO.03 - Lávka'!F35 -> 0 | BC97: ='SO.03 - Lávka'!F36 -> 0 | BD97: ='SO.03 - Lávka'!F37 -> 0 | BT97: 1 | BV97: IMPORT | BW97: {88580bfe-aca6-4922-ac63-2820908a011c} | BX97: {d1934d9a-7de5-48f1-a2c5-90aaac941e50} | CM97: 2
A98: / | D98: SO.04 | J98: Psí hřiště | AG98: ='SO.04 - Psí hřiště'!J30 -> 0 | AN98: =SUM(AG98,AT98) -> 0 | AQ98: STA | AS98: 0 | AT98: =ROUND(SUM(AV98:AW98),2) -> 0 | AU98: ='SO.04 - Psí hřiště'!P119 -> 0 | AV98: ='SO.04 - Psí hřiště'!J33 -> 0 | AW98: ='SO.04 - Psí hřiště'!J34 -> 0 | AX98: ='SO.04 - Psí hřiště'!J35 -> 0 | AY98: ='SO.04 - Psí hřiště'!J36 -> 0 | AZ98: ='SO.04 - Psí hřiště'!F33 -> 0 | BA98: ='SO.04 - Psí hřiště'!F34 -> 0 | BB98: ='SO.04 - Psí hřiště'!F35 -> 0 | BC98: ='SO.04 - Psí hřiště'!F36 -> 0 | BD98: ='SO.04 - Psí hřiště'!F37 -> 0 | BT98: 1 | BV98: IMPORT | BW98: {d133f2a1-8a89-4a8f-9611-b1c14addb89b} | BX98: {d1934d9a-7de5-48f1-a2c5-90aaac941e50} | CM98: 2
A99: / | D99: SO.05 | J99: VRN | AG99: ='SO.05 - VRN'!J30 -> 0 | AN99: =SUM(AG99,AT99) -> 0 | AQ99: STA | AS99: 0 | AT99: =ROUND(SUM(AV99:AW99),2) -> 0 | AU99: ='SO.05 - VRN'!P121 -> 0 | AV99: ='SO.05 - VRN'!J33 -> 0 | AW99: ='SO.05 - VRN'!J34 -> 0 | AX99: ='SO.05 - VRN'!J35 -> 0 | AY99: ='SO.05 - VRN'!J36 -> 0 | AZ99: ='SO.05 - VRN'!F33 -> 0 | BA99: ='SO.05 - VRN'!F34 -> 0 | BB99: ='SO.05 - VRN'!F35 -> 0 | BC99: ='SO.05 - VRN'!F36 -> 0 | BD99: ='SO.05 - VRN'!F37 -> 0 | BT99: 1 | BV99: IMPORT | BW99: {a4b0ace9-8e82-41f6-8d02-63757de827b5} | BX99: {d1934d9a-7de5-48f1-a2c5-90aaac941e50} | CM99: 2

Sheet SO.01 - Terénní úpravy
L2: >> skryté sloupce << | AT2: {c6f6580b-0501-4064-9c1f-30b78706df29}
AT3: 2
D4: KRYCÍ LIST SOUPISU PRACÍ | M4: v --- níže se nacházejí doplnkové a pomocné údaje k sestavám --- v | AT4: False
D6: Stavba:
E7: ='Rekapitulace stavby'!K6 -> Segment II v okružním parku Zelený pás Líbeznice
D8: Objekt:
E9: SO.01 - Terénní úpravy
D11: KSO: | I11: CC-CZ:
D12: Místo: | F12: Líbeznice | I12: Datum: | J12: ='Rekapitulace stavby'!AN8 -> 17. 4. 2025
D14: Zadavatel: | I14: IČ:
E15: Obec Líbeznice | I15: DIČ:
D17: Zhotovitel: | I17: IČ: | J17: ='Rekapitulace stavby'!AN13
E18: ='Rekapitulace stavby'!E14 | I18: DIČ: | J18: ='Rekapitulace stavby'!AN14
D20: Projektant: | I20: IČ:
E21: MENU Architekti s.r.o. | I21: DIČ:
D23: Zpracovatel: | I23: IČ:
E24: MENU Architekti s.r.o. | I24: DIČ:
D26: Poznámka:
D30: Cena bez DPH | J30: =ROUND(J121, 2) -> 0
F32: Základ daně | I32: Sazba daně | J32: Výše daně
D33: DPH | E33: základní | F33: =ROUND((SUM(BE121:BE170)), 2) -> 0 | I33: 0.21 | J33: =ROUND(((SUM(BE121:BE170))*I33), 2) -> 0
E34: snížená | F34: =ROUND((SUM(BF121:BF170)), 2) -> 0 | I34: 0.12 | J34: =ROUND(((SUM(BF121:BF170))*I34), 2) -> 0
E35: zákl. přenesená | F35: =ROUND((SUM(BG121:BG170)), 2) -> 0 | I35: 0.21 | J35: =0 -> 0
E36: sníž. přenesená | F36: =ROUND((SUM(BH121:BH170)), 2) -> 0 | I36: 0.12 | J36: =0 -> 0
E37: nulová | F37: =ROUND((SUM(BI121:BI170)), 2) -> 0 | I37: 0 | J37: =0 -> 0
D39: Cena s DPH | G39: v | H39: CZK | J39: =SUM(J30:J37) -> 0
D50: Projektant | G50: Zpracovatel
D61: Datum a podpis: | F61: Razítko | G61: Datum a podpis: | J61: Razítko
D65: Objednavatel | G65: Zhotovitel
D76: Datum a podpis: | F76: Razítko | G76: Datum a podpis: | J76: Razítko
C82: REKAPITULACE ČLENĚNÍ SOUPISU PRACÍ
C84: Stavba:
E85: =E7 -> Segment II v okružním parku Zelený pás Líbeznice
C86: Objekt:
E87: =E9 -> SO.01 - Terénní úpravy
C89: Místo: | F89: =F12 -> Líbeznice | I89: Datum: | J89: =IF(J12="","",J12) -> 17. 4. 2025
C91: Zadavatel: | F91: =E15 -> Obec Líbeznice | I91: Projektant: | J91: =E21 -> MENU Architekti s.r.o.
C92: Zhotovitel: | F92: =IF(E18="","",E18) | I92: Zpracovatel: | J92: =E24 -> MENU Architekti s.r.o.
C94: Kód dílu - Popis | J94: Cena celkem [CZK]
C96: Náklady ze soupisu prací | J96: =J121 -> 0 | AU96: -1
D97: HSV - Práce a dodávky HSV | J97: =J122 -> 0
D98: 1 - Zemní práce | J98: =J123 -> 0
D99: 5 - Komunikace pozemní | J99: =J146 -> 0
D100: 9 - Ostatní konstrukce a práce, bourání | J100: =J165 -> 0
D101: 998 - Přesun hmot | J101: =J169 -> 0
C108: SOUPIS PRACÍ
C110: Stavba:
E111: =E7 -> Segment II v okružním parku Zelený pás Líbeznice
C112: Objekt:
E113: =E9 -> SO.01 - Terénní úpravy
C115: Místo: | F115: =F12 -> Líbeznice | I115: Datum: | J115: =IF(J12="","",J12) -> 17. 4. 2025
C117: Zadavatel: | F117: =E15 -> Obec Líbeznice | I117: Projektant: | J117: =E21 -> MENU Architekti s.r.o.
C118: Zhotovitel: | F118: =IF(E18="","",E18) | I118: Zpracovatel: | J118: =E24 -> MENU Architekti s.r.o.
C120: PČ | D120: Typ | E120: Kód | F120: Popis | G120: MJ | H120: Množství | I120: J.cena [CZK] | J120: Cena celkem [CZK] | K120: Cenová soustava | N120: DPH | O120: J. Nh [h] | P120: Nh celkem [h] | Q120: J. hmotnost [t] | R120: Hmotnost celkem [t] | S120: J. suť [t] | T120: Suť Celkem [t]
C121: Náklady soupisu celkem | J121: =BK121 -> 0 | P121: =P122 -> 1582.2594 | R121: =R122 -> 891.68671 | T121: =T122 -> 0 | AT121: D | AU121: -1 | BK121: =BK122 -> 0
D122: D | E122: HSV | F122: Práce a dodávky HSV | J122: =BK122 -> 0 | P122: =P123+P146+P165+P169 -> 1582.2594 | R122: =R123+R146+R165+R169 -> 891.68671 | T122: =T123+T146+T165+T169 -> 0 | AR122: 1 | AT122: D | AU122: 0 | AY122: ROZPOCET | BK122: =BK123+BK146+BK165+BK169 -> 0
D123: D | E123: 1 | F123: Zemní práce | J123: =BK123 -> 0 | P123: =SUM(P124:P145) -> 1397.8945 | R123: =SUM(R124:R145) -> 0 | T123: =SUM(T124:T145) -> 0 | AR123: 1 | AT123: D | AU123: 1 | AY123: ROZPOCET | BK123: =SUM(BK124:BK145) -> 0
C124: 1 | D124: K | E124: 119005132 | F124: Vytyčení výsadeb zapojených nebo v záhonu plochy přes 100 m2 s rozmístěním rostlin do plochy nepravidelně | G124: m2 | H124: 25003 | I124: 0 | J124: =ROUND(I124*H124,2) -> 0 | N124: základní | O124: 0.029 | P124: =O124*H124 -> 725.087 | Q124: 0 | R124: =Q124*H124 -> 0 | S124: 0 | T124: =S124*H124 -> 0 | AR124: 4 | AT124: K | AU124: 2 | AY124: ROZPOCET | BE124: =IF(N124="základní",J124,0) -> 0 | BF124: =IF(N124="snížená",J124,0) -> 0 | BG124: =IF(N124="zákl. přenesená",J124,0) -> 0 | BH124: =IF(N124="sníž. přenesená",J124,0) -> 0 | BI124: =IF(N124="nulová",J124,0) -> 0 | BJ124: 1 | BK124: =ROUND(I124*H124,2) -> 0 | BL124: 4 | BM124: -1235108695
C125: 2 | D125: K | E125: 121151123 | F125: Sejmutí ornice plochy přes 500 m2 tl vrstvy do 200 mm strojně | G125: m2 | H125: =H130 -> 13587.73 | I125: 0 | J125: 0 | N125: základní | O125: 0.015 | P125: =O125*H125 -> 203.81595 | Q125: 0 | R125: =Q125*H125 -> 0 | S125: 0 | T125: =S125*H125 -> 0 | AR125: 4 | AT125: K | AU125: 2 | AY125: ROZPOCET | BE125: =IF(N125="základní",J125,0) -> 0 | BF125: =IF(N125="snížená",J125,0) -> 0 | BG125: =IF(N125="zákl. přenesená",J125,0) -> 0 | BH125: =IF(N125="sníž. přenesená",J125,0) -> 0 | BI125: =IF(N125="nulová",J125,0) -> 0 | BJ125: 1 | BK125: =ROUND(I125*H125,2) -> 0 | BL125: 4 | BM125: -19738947
D126: VV | F126: Mlatová cesta | AT126: VV | AU126: 2 | AV126: 1 | AW126: True | AX126: 0 | AY126: ROZPOCET
D127: VV | F127: =617.13+520.6 -> 1137.73 | H127: =F127 -> 1137.73 | AT127: VV | AU127: 2 | AV127: 2 | AW127: True | AX127: 0 | AY127: ROZPOCET
D128: VV | F128: Ostatní plocha | AT128: VV | AU128: 2 | AV128: 1 | AW128: True | AX128: 0 | AY128: ROZPOCET
D129: VV | F129: 12450 | H129: =12450 -> 12450 | AT129: VV | AU129: 2 | AV129: 2 | AW129: True | AX129: 0 | AY129: ROZPOCET
D130: VV | F130: Součet | H130: =H127+H129 -> 13587.73 | AT130: VV | AU130: 2 | AV130: 4 | AW130: True | AX130: 1 | AY130: ROZPOCET
C131: 3 | D131: K | E131: 131251105 | F131: Hloubení jam nezapažených v hornině třídy těžitelnosti I skupiny 3 objemu do 1000 m3 strojně | G131: m3 | H131: 333 | I131: 0 | J131: =ROUND(I131*H131,2) -> 0 | N131: základní | O131: 0.214 | P131: =O131*H131 -> 71.262 | Q131: 0 | R131: =Q131*H131 -> 0 | S131: 0 | T131: =S131*H131 -> 0 | AR131: 4 | AT131: K | AU131: 2 | AY131: ROZPOCET | BE131: =IF(N131="základní",J131,0) -> 0 | BF131: =IF(N131="snížená",J131,0) -> 0 | BG131: =IF(N131="zákl. přenesená",J131,0) -> 0 | BH131: =IF(N131="sníž. přenesená",J131,0) -> 0 | BI131: =IF(N131="nulová",J131,0) -> 0 | BJ131: 1 | BK131: =ROUND(I131*H131,2) -> 0 | BL131: 4 | BM131: 356141639
C132: 4 | D132: K | E132: 162351104 | F132: Vodorovné přemístění přes 500 do 1000 m výkopku/sypaniny z horniny třídy těžitelnosti I skupiny 1 až 3 | G132: m3 | H132: 333 | I132: 0 | J132: =ROUND(I132*H132,2) -> 0 | N132: základní | O132: 0.046 | P132: =O132*H132 -> 15.318 | Q132: 0 | R132: =Q132*H132 -> 0 | S132: 0 | T132: =S132*H132 -> 0 | AR132: 4 | AT132: K | AU132: 2 | AY132: ROZPOCET | BE132: =IF(N132="základní",J132,0) -> 0 | BF132: =IF(N132="snížená",J132,0) -> 0 | BG132: =IF(N132="zákl. přenesená",J132,0) -> 0 | BH132: =IF(N132="sníž. přenesená",J132,0) -> 0 | BI132: =IF(N132="nulová",J132,0) -> 0 | BJ132: 1 | BK132: =ROUND(I132*H132,2) -> 0 | BL132: 4 | BM132: 314507539
D133: VV | F133: 237 | H133: 237 | AT133: VV | AU133: 2 | AV133: 2 | AW133: True | AX133: 0 | AY133: ROZPOCET
D134: VV | F134: 45 | H134: 45 | AT134: VV | AU134: 2 | AV134: 2 | AW134: True | AX134: 0 | AY134: ROZPOCET
D135: VV | F135: 25+16+10 | H135: 51 | AT135: VV | AU135: 2 | AV135: 2 | AW135: True | AX135: 0 | AY135: ROZPOCET
D136: VV | F136: Součet | H136: 333 | AT136: VV | AU136: 2 | AV136: 4 | AW136: True | AX136: 1 | AY136: ROZPOCET
C137: 5 | D137: K | E137: 167151111 | F137: Nakládání výkopku z hornin třídy těžitelnosti I skupiny 1 až 3 přes 100 m3 | G137: m3 | H137: 333 | I137: 0 | J137: =ROUND(I137*H137,2) -> 0 | N137: základní | O137: 0.072 | P137: =O137*H137 -> 23.976 | Q137: 0 | R137: =Q137*H137 -> 0 | S137: 0 | T137: =S137*H137 -> 0 | AR137: 4 | AT137: K | AU137: 2 | AY137: ROZPOCET | BE137: =IF(N137="základní",J137,0) -> 0 | BF137: =IF(N137="snížená",J137,0) -> 0 | BG137: =IF(N137="zákl. přenesená",J137,0) -> 0 | BH137: =IF(N137="sníž. přenesená",J137,0) -> 0 | BI137: =IF(N137="nulová",J137,0) -> 0 | BJ137: 1 | BK137: =ROUND(I137*H137,2) -> 0 | BL137: 4 | BM137: 997932563
C138: 6 | D138: K | E138: 171151101 | F138: Hutnění boků násypů pro jakýkoliv sklon a míru zhutnění svahu | G138: m2 | H138: 1947.36 | I138: 0 | J138: =ROUND(I138*H138,2) -> 0 | N138: základní | O138: 0.023 | P138: =O138*H138 -> 44.78928 | Q138: 0 | R138: =Q138*H138 -> 0 | S138: 0 | T138: =S138*H138 -> 0 | AR138: 4 | AT138: K | AU138: 2 | AY138: ROZPOCET | BE138: =IF(N138="základní",J138,0) -> 0 | BF138: =IF(N138="snížená",J138,0) -> 0 | BG138: =IF(N138="zákl. přenesená",J138,0) -> 0 | BH138: =IF(N138="sníž. přenesená",J138,0) -> 0 | BI138: =IF(N138="nulová",J138,0) -> 0 | BJ138: 1 | BK138: =ROUND(I138*H138,2) -> 0 | BL138: 4 | BM138: -2041405024
C139: 7 | D139: K | E139: 171152501 | F139: Zhutnění podloží z hornin soudržných nebo nesoudržných pod násypy | G139: m2 | H139: 1571.49 | I139: 0 | J139: =ROUND(I139*H139,2) -> 0 | N139: základní | O139: 0.005 | P139: =O139*H139 -> 7.85745 | Q139: 0 | R139: =Q139*H139 -> 0 | S139: 0 | T139: =S139*H139 -> 0 | AR139: 4 | AT139: K | AU139: 2 | AY139: ROZPOCET | BE139: =IF(N139="základní",J139,0) -> 0 | BF139: =IF(N139="snížená",J139,0) -> 0 | BG139: =IF(N139="zákl. přenesená",J139,0) -> 0 | BH139: =IF(N139="sníž. přenesená",J139,0) -> 0 | BI139: =IF(N139="nulová",J139,0) -> 0 | BJ139: 1 | BK139: =ROUND(I139*H139,2) -> 0 | BL139: 4 | BM139: 220909253
D140: VV | F140: 617,13+454,36+500,0 "rezerva | H140: 1571.49 | AT140: VV | AU140: 2 | AV140: 2 | AW140: True | AX140: 0 | AY140: ROZPOCET
D141: VV | F141: Součet | H141: 1571.49 | AT141: VV | AU141: 2 | AV141: 4 | AW141: True | AX141: 1 | AY141: ROZPOCET
C142: 8 | D142: K | E142: 182151111 | F142: Svahování v zářezech v hornině třídy těžitelnosti I skupiny 1 až 3 strojně | G142: m2 | H142: 1947.36 | I142: 0 | J142: =ROUND(I142*H142,2) -> 0 | N142: základní | O142: 0.08 | P142: =O142*H142 -> 155.7888 | Q142: 0 | R142: =Q142*H142 -> 0 | S142: 0 | T142: =S142*H142 -> 0 | AR142: 4 | AT142: K | AU142: 2 | AY142: ROZPOCET | BE142: =IF(N142="základní",J142,0) -> 0 | BF142: =IF(N142="snížená",J142,0) -> 0 | BG142: =IF(N142="zákl. přenesená",J142,0) -> 0 | BH142: =IF(N142="sníž. přenesená",J142,0) -> 0 | BI142: =IF(N142="nulová",J142,0) -> 0 | BJ142: 1 | BK142: =ROUND(I142*H142,2) -> 0 | BL142: 4 | BM142: 2035260293
C143: 9 | D143: K | E143: 182351123 | F143: Rozprostření ornice pl přes 100 do 500 m2 ve svahu přes 1:5 tl vrstvy do 200 mm strojně | G143: m2 | H143: 2500 | I143: 0 | J143: =ROUND(I143*H143,2) -> 0 | N143: základní | O143: 0.06 | P143: =O143*H143 -> 150 | Q143: 0 | R143: =Q143*H143 -> 0 | S143: 0 | T143: =S143*H143 -> 0 | AR143: 4 | AT143: K | AU143: 2 | AY143: ROZPOCET | BE143: =IF(N143="základní",J143,0) -> 0 | BF143: =IF(N143="snížená",J143,0) -> 0 | BG143: =IF(N143="zákl. přenesená",J143,0) -> 0 | BH143: =IF(N143="sníž. přenesená",J143,0) -> 0 | BI143: =IF(N143="nulová",J143,0) -> 0 | BJ143: 1 | BK143: =ROUND(I143*H143,2) -> 0 | BL143: 4 | BM143: 1359374471
D144: VV | F144: Rozprostření přebývající zeminy | AT144: VV | AU144: 2 | AV144: 1 | AW144: True | AX144: 0 | AY144: ROZPOCET
D145: VV | F145: 2500 | H145: 2500 | AT145: VV | AU145: 2 | AV145: 2 | AW145: True | AX145: 1 | AY145: ROZPOCET
D146: D | E146: 5 | F146: Komunikace pozemní | J146: =BK146 -> 0 | P146: =SUM(P147:P164) -> 51.18765 | R146: =SUM(R147:R164) -> 890.84259 | T146: =SUM(T147:T164) -> 0 | AR146: 1 | AT146: D | AU146: 1 | AY146: ROZPOCET | BK146: =SUM(BK147:BK164) -> 0
C147: 10 | D147: K | E147: 561121101 | F147: Zřízení podkladu nebo ochranné vrstvy vozovky z mechanicky zpevněné zeminy MZ tl 50 mm | G147: m2 | H147: =H150 -> 1137.73 | I147: 0 | J147: =ROUND(I147*H147,2) -> 0 | N147: základní | O147: 0.013 | P147: =O147*H147 -> 14.79049 | Q147: 0 | R147: =Q147*H147 -> 0 | S147: 0 | T147: =S147*H147 -> 0 | AR147: 4 | AT147: K | AU147: 2 | AY147: ROZPOCET | BE147: =IF(N147="základní",J147,0) -> 0 | BF147: =IF(N147="snížená",J147,0) -> 0 | BG147: =IF(N147="zákl. přenesená",J147,0) -> 0 | BH147: =IF(N147="sníž. přenesená",J147,0) -> 0 | BI147: =IF(N147="nulová",J147,0) -> 0 | BJ147: 1 | BK147: =ROUND(I147*H147,2) -> 0 | BL147: 4 | BM147: 937900678
D148: VV | F148: Mlatová cesta | AT148: VV | AU148: 2 | AV148: 1 | AW148: True | AX148: 0 | AY148: ROZPOCET
D149: VV | F149: =617.13+520.6 -> 1137.73 | H149: =F149 -> 1137.73 | AT149: VV | AU149: 2 | AV149: 2 | AW149: True | AX149: 0 | AY149: ROZPOCET
D150: VV | F150: Součet | H150: =F149 -> 1137.73 | AT150: VV | AU150: 2 | AV150: 4 | AW150: True | AX150: 1 | AY150: ROZPOCET
C151: 11 | D151: M | E151: 58341341.R | F151: Mlatový povrch | G151: t | H151: =H152 -> 102.3957 | I151: 0 | J151: =ROUND(I151*H151,2) -> 0 | N151: základní | O151: 0 | P151: =O151*H151 -> 0 | Q151: 1.7 | R151: =Q151*H151 -> 174.07269 | S151: 0 | T151: =S151*H151 -> 0 | AR151: 8 | AT151: M | AU151: 2 | AY151: ROZPOCET | BE151: =IF(N151="základní",J151,0) -> 0 | BF151: =IF(N151="snížená",J151,0) -> 0 | BG151: =IF(N151="zákl. přenesená",J151,0) -> 0 | BH151: =IF(N151="sníž. přenesená",J151,0) -> 0 | BI151: =IF(N151="nulová",J151,0) -> 0 | BJ151: 1 | BK151: =ROUND(I151*H151,2) -> 0 | BL151: 4 | BM151: -1653776835
D152: VV | F152: 1137,730*0,09 'Přepočtené koeficientem množství | H152: =1137.73*0.09 -> 102.3957 | AT152: VV | AU152: 2 | AV152: 2 | AW152: False | AX152: 1 | AY152: ROZPOCET
C153: 12 | D153: K | E153: 561121102 | F153: Zřízení podkladu nebo ochranné vrstvy vozovky z mechanicky zpevněné zeminy MZ tl 80 mm | G153: m2 | H153: =H155 -> 1137.73 | I153: 0 | J153: =ROUND(I153*H153,2) -> 0 | N153: základní | O153: 0.015 | P153: =O153*H153 -> 17.06595 | Q153: 0 | R153: =Q153*H153 -> 0 | S153: 0 | T153: =S153*H153 -> 0 | AR153: 4 | AT153: K | AU153: 2 | AY153: ROZPOCET | BE153: =IF(N153="základní",J153,0) -> 0 | BF153: =IF(N153="snížená",J153,0) -> 0 | BG153: =IF(N153="zákl. přenesená",J153,0) -> 0 | BH153: =IF(N153="sníž. přenesená",J153,0) -> 0 | BI153: =IF(N153="nulová",J153,0) -> 0 | BJ153: 1 | BK153: =ROUND(I153*H153,2) -> 0 | BL153: 4 | BM153: -912950019
D154: VV | F154: Mlatová cesta | AT154: VV | AU154: 2 | AV154: 1 | AW154: True | AX154: 0 | AY154: ROZPOCET
D155: VV | F155: =617.13+520.6 -> 1137.73 | H155: =F155 -> 1137.73 | AT155: VV | AU155: 2 | AV155: 2 | AW155: True | AX155: 0 | AY155: ROZPOCET
D156: VV | F156: Součet | H156: =F155 -> 1137.73 | AT156: VV | AU156: 2 | AV156: 4 | AW156: True | AX156: 1 | AY156: ROZPOCET
C157: 13 | D157: M | E157: 58337302 | F157: štěrkopísek frakce 0/16 | G157: t | H157: =H158 -> 204.7914 | I157: 0 | J157: =ROUND(I157*H157,2) -> 0 | N157: základní | O157: 0 | P157: =O157*H157 -> 0 | Q157: 1 | R157: =Q157*H157 -> 204.7914 | S157: 0 | T157: =S157*H157 -> 0 | AR157: 8 | AT157: M | AU157: 2 | AY157: ROZPOCET | BE157: =IF(N157="základní",J157,0) -> 0 | BF157: =IF(N157="snížená",J157,0) -> 0 | BG157: =IF(N157="zákl. přenesená",J157,0) -> 0 | BH157: =IF(N157="sníž. přenesená",J157,0) -> 0 | BI157: =IF(N157="nulová",J157,0) -> 0 | BJ157: 1 | BK157: =ROUND(I157*H157,2) -> 0 | BL157: 4 | BM157: 398180446
D158: VV | F158: 1137,730*0,18 'Přepočtené koeficientem množství | H158: =1137.73*0.18 -> 204.7914 | AT158: VV | AU158: 2 | AV158: 2 | AW158: False | AX158: 1 | AY158: ROZPOCET
C159: 14 | D159: K | E159: 561121111 | F159: Zřízení podkladu nebo ochranné vrstvy vozovky z mechanicky zpevněné zeminy MZ tl 150 mm | G159: m2 | H159: =1137.13 -> 1137.13 | I159: 0 | J159: =ROUND(I159*H159,2) -> 0 | N159: základní | O159: 0.017 | P159: =O159*H159 -> 19.33121 | Q159: 0 | R159: =Q159*H159 -> 0 | S159: 0 | T159: =S159*H159 -> 0 | AR159: 4 | AT159: K | AU159: 2 | AY159: ROZPOCET | BE159: =IF(N159="základní",J159,0) -> 0 | BF159: =IF(N159="snížená",J159,0) -> 0 | BG159: =IF(N159="zákl. přenesená",J159,0) -> 0 | BH159: =IF(N159="sníž. přenesená",J159,0) -> 0 | BI159: =IF(N159="nulová",J159,0) -> 0 | BJ159: 1 | BK159: =ROUND(I159*H159,2) -> 0 | BL159: 4 | BM159: 1491606664
D160: VV | F160: Mlatová cesta | AT160: VV | AU160: 2 | AV160: 1 | AW160: True | AX160: 0 | AY160: ROZPOCET
D161: VV | F161: =617.13+520.6 -> 1137.73 | H161: =F161 -> 1137.73 | AT161: VV | AU161: 2 | AV161: 2 | AW161: True | AX161: 0 | AY161: ROZPOCET
D162: VV | F162: Součet | H162: =F161 -> 1137.73 | AT162: VV | AU162: 2 | AV162: 4 | AW162: True | AX162: 1 | AY162: ROZPOCET
C163: 15 | D163: M | E163: 58344171 | F163: štěrkodrť frakce 0/32 | G163: t | H163: =H164 -> 511.9785 | I163: 0 | J163: =ROUND(I163*H163,2) -> 0 | N163: základní | O163: 0 | P163: =O163*H163 -> 0 | Q163: 1 | R163: =Q163*H163 -> 511.9785 | S163: 0 | T163: =S163*H163 -> 0 | AR163: 8 | AT163: M | AU163: 2 | AY163: ROZPOCET | BE163: =IF(N163="základní",J163,0) -> 0 | BF163: =IF(N163="snížená",J163,0) -> 0 | BG163: =IF(N163="zákl. přenesená",J163,0) -> 0 | BH163: =IF(N163="sníž. přenesená",J163,0) -> 0 | BI163: =IF(N163="nulová",J163,0) -> 0 | BJ163: 1 | BK163: =ROUND(I163*H163,2) -> 0 | BL163: 4 | BM163: 1013696164
D164: VV | F164: 1137,730*0,45 'Přepočtené koeficientem množství | H164: =1137.73*0.45 -> 511.9785 | AT164: VV | AU164: 2 | AV164: 2 | AW164: False | AX164: 1 | AY164: ROZPOCET
D165: D | E165: 9 | F165: Ostatní konstrukce a práce, bourání | J165: =BK165 -> 0 | P165: =SUM(P166:P168) -> 69.28158 | R165: =SUM(R166:R168) -> 0.8441206 | T165: =SUM(T166:T168) -> 0 | AR165: 1 | AT165: D | AU165: 1 | AY165: ROZPOCET | BK165: =SUM(BK166:BK168) -> 0
C166: 16 | D166: K | E166: 916371212 | F166: Osazení skrytého zahradního obrubníku kovového jednostranným odkopáním zeminy | G166: m | H166: 796.34 | I166: 0 | J166: =ROUND(I166*H166,2) -> 0 | N166: základní | O166: 0.087 | P166: =O166*H166 -> 69.28158 | Q166: 4e-05 | R166: =Q166*H166 -> 0.0318536 | S166: 0 | T166: =S166*H166 -> 0 | AR166: 4 | AT166: K | AU166: 2 | AY166: ROZPOCET | BE166: =IF(N166="základní",J166,0) -> 0 | BF166: =IF(N166="snížená",J166,0) -> 0 | BG166: =IF(N166="zákl. přenesená",J166,0) -> 0 | BH166: =IF(N166="sníž. přenesená",J166,0) -> 0 | BI166: =IF(N166="nulová",J166,0) -> 0 | BJ166: 1 | BK166: =ROUND(I166*H166,2) -> 0 | BL166: 4 | BM166: 100596902
...

Sheet SO.02 - Sadové úpravy a k...
L2: >> skryté sloupce << | AT2: {939a7001-2f8c-4de1-a2ce-c9582be110aa}
AT3: 2
D4: KRYCÍ LIST SOUPISU PRACÍ | M4: v --- níže se nacházejí doplnkové a pomocné údaje k sestavám --- v | AT4: False
D6: Stavba:
E7: ='Rekapitulace stavby'!K6 -> Segment II v okružním parku Zelený pás Líbeznice
D8: Objekt:
E9: SO.02 - Sadové úpravy a krajina
D11: KSO: | I11: CC-CZ:
D12: Místo: | F12: Líbeznice | I12: Datum: | J12: ='Rekapitulace stavby'!AN8 -> 17. 4. 2025
D14: Zadavatel: | I14: IČ:
E15: Obec Líbeznice | I15: DIČ:
D17: Zhotovitel: | I17: IČ: | J17: ='Rekapitulace stavby'!AN13
E18: ='Rekapitulace stavby'!E14 | I18: DIČ: | J18: ='Rekapitulace stavby'!AN14
D20: Projektant: | I20: IČ:
E21: MENU Architekti s.r.o. | I21: DIČ:
D23: Zpracovatel: | I23: IČ:
E24: MENU Architekti s.r.o. | I24: DIČ:
D26: Poznámka:
D30: Cena bez DPH | J30: =ROUND(J132, 2) -> 0
F32: Základ daně | I32: Sazba daně | J32: Výše daně
D33: DPH | E33: základní | F33: =ROUND((SUM(BE132:BE230)), 2) -> 0 | I33: 0.21 | J33: =ROUND(((SUM(BE132:BE230))*I33), 2) -> 0
E34: snížená | F34: =ROUND((SUM(BF132:BF230)), 2) -> 0 | I34: 0.12 | J34: =ROUND(((SUM(BF132:BF230))*I34), 2) -> 0
E35: zákl. přenesená | F35: =ROUND((SUM(BG132:BG230)), 2) -> 0 | I35: 0.21 | J35: =0 -> 0
E36: sníž. přenesená | F36: =ROUND((SUM(BH132:BH230)), 2) -> 0 | I36: 0.12 | J36: =0 -> 0
E37: nulová | F37: =ROUND((SUM(BI132:BI230)), 2) -> 0 | I37: 0 | J37: =0 -> 0
D39: Cena s DPH | G39: v | H39: CZK | J39: =SUM(J30:J37) -> 0
D50: Projektant | G50: Zpracovatel
D61: Datum a podpis: | F61: Razítko | G61: Datum a podpis: | J61: Razítko
D65: Objednavatel | G65: Zhotovitel
D76: Datum a podpis: | F76: Razítko | G76: Datum a podpis: | J76: Razítko
C82: REKAPITULACE ČLENĚNÍ SOUPISU PRACÍ
C84: Stavba:
E85: =E7 -> Segment II v okružním parku Zelený pás Líbeznice
C86: Objekt:
E87: =E9 -> SO.02 - Sadové úpravy a krajina
C89: Místo: | F89: =F12 -> Líbeznice | I89: Datum: | J89: =IF(J12="","",J12) -> 17. 4. 2025
C91: Zadavatel: | F91: =E15 -> Obec Líbeznice | I91: Projektant: | J91: =E21 -> MENU Architekti s.r.o.
C92: Zhotovitel: | F92: =IF(E18="","",E18) | I92: Zpracovatel: | J92: =E24 -> MENU Architekti s.r.o.
C94: Kód dílu - Popis | J94: Cena celkem [CZK]
C96: Náklady ze soupisu prací | J96: =J132 -> 0 | AU96: -1
D97: D1 - BYLINY : | J97: =J133 -> 0
D98: D2 - MATERIÁL - BŘEHY | J98: =J147 -> 0
D99: D3 - MATERIÁL - TRÁVNÍK VÝSADBA | J99: =J156 -> 0
D100: D4 - Přehled navržených dřevin pro ÚSEK VI. - Na Zvonici | J100: =J158 -> 0
D101: D5 - HL.ALEJ + SOLITÉRY | J101: =J159 -> 0
D102: D6 - KEŘE – OKRAJOVÝ LEM | J102: =J163 -> 0
D103: D7 - Přehled navržených dřevin pro ÚSEK VII. - sad, psí cvičiště, solitéry u tůní a keřový lem: | J103: =J167 -> 0
D104: D8 - OVOCNÉ A UŽITKOVÉ STROMY V SADĚ | J104: =J168 -> 0
D105: D9 - SOLITÉRY U TŮNÍ | J105: =J180 -> 0
D106: D6 - KEŘE – OKRAJOVÝ LEM | J106: =J184 -> 0
D107: D10 - Přehled navržených dřevin pro ÚSEK VIII. - Mratínka | J107: =J189 -> 0
D108: D5 - HL.ALEJ + SOLITÉRY | J108: =J190 -> 0
D109: D6 - KEŘE – OKRAJOVÝ LEM | J109: =J198 -> 0
D110: D11 - PRÁCE, REŽIE, ÚDRŽBA… | J110: =J202 -> 0
D111: D12 - Přidružené pro výsadbu stromů | J111: =J207 -> 0
D112: D13 - Péče o výsadbu během roku | J112: =J228 -> 0
C119: SOUPIS PRACÍ
C121: Stavba:
E122: =E7 -> Segment II v okružním parku Zelený pás Líbeznice
C123: Objekt:
E124: =E9 -> SO.02 - Sadové úpravy a krajina
C126: Místo: | F126: =F12 -> Líbeznice | I126: Datum: | J126: =IF(J12="","",J12) -> 17. 4. 2025
C128: Zadavatel: | F128: =E15 -> Obec Líbeznice | I128: Projektant: | J128: =E21 -> MENU Architekti s.r.o.
C129: Zhotovitel: | F129: =IF(E18="","",E18) | I129: Zpracovatel: | J129: =E24 -> MENU Architekti s.r.o.
C131: PČ | D131: Typ | E131: Kód | F131: Popis | G131: MJ | H131: Množství | I131: J.cena [CZK] | J131: Cena celkem [CZK] | K131: Cenová soustava | N131: DPH | O131: J. Nh [h] | P131: Nh celkem [h] | Q131: J. hmotnost [t] | R131: Hmotnost celkem [t] | S131: J. suť [t] | T131: Suť Celkem [t]
C132: Náklady soupisu celkem | J132: =BK132 -> 0 | P132: =P133+P147+P158+P167+P189+P202 -> 0 | R132: =R133+R147+R158+R167+R189+R202 -> 0 | T132: =T133+T147+T158+T167+T189+T202 -> 0 | AT132: D | AU132: -1 | BK132: =BK133+BK147+BK158+BK167+BK189+BK202 -> 0
D133: D | E133: D1 | F133: BYLINY : | J133: =BK133 -> 0 | P133: =SUM(P134:P146) -> 0 | R133: =SUM(R134:R146) -> 0 | T133: =SUM(T134:T146) -> 0 | AR133: 1 | AT133: D | AU133: 0 | AY133: ROZPOCET | BK133: =SUM(BK134:BK146) -> 0
C134: 1 | D134: K | E134: Pol1 | F134: Kosatec žlutý - Iris pseudoacorus | G134: ks | H134: 10 | I134: 0 | J134: =ROUND(I134*H134,2) -> 0 | N134: základní | O134: 0 | P134: =O134*H134 -> 0 | Q134: 0 | R134: =Q134*H134 -> 0 | S134: 0 | T134: =S134*H134 -> 0 | AR134: 4 | AT134: K | AU134: 1 | AY134: ROZPOCET | BE134: =IF(N134="základní",J134,0) -> 0 | BF134: =IF(N134="snížená",J134,0) -> 0 | BG134: =IF(N134="zákl. přenesená",J134,0) -> 0 | BH134: =IF(N134="sníž. přenesená",J134,0) -> 0 | BI134: =IF(N134="nulová",J134,0) -> 0 | BJ134: 1 | BK134: =ROUND(I134*H134,2) -> 0 | BL134: 4 | BM134: 2
C135: 2 | D135: K | E135: Pol2 | F135: Kyprej vrbice - Lythrum salicaria | G135: ks | H135: 20 | I135: 0 | J135: =ROUND(I135*H135,2) -> 0 | N135: základní | O135: 0 | P135: =O135*H135 -> 0 | Q135: 0 | R135: =Q135*H135 -> 0 | S135: 0 | T135: =S135*H135 -> 0 | AR135: 4 | AT135: K | AU135: 1 | AY135: ROZPOCET | BE135: =IF(N135="základní",J135,0) -> 0 | BF135: =IF(N135="snížená",J135,0) -> 0 | BG135: =IF(N135="zákl. přenesená",J135,0) -> 0 | BH135: =IF(N135="sníž. přenesená",J135,0) -> 0 | BI135: =IF(N135="nulová",J135,0) -> 0 | BJ135: 1 | BK135: =ROUND(I135*H135,2) -> 0 | BL135: 4 | BM135: 4
C136: 3 | D136: K | E136: Pol3 | F136: Metlice trsnatá .- Deschampsia caespitosa. | G136: ks | H136: 100 | I136: 0 | J136: =ROUND(I136*H136,2) -> 0 | N136: základní | O136: 0 | P136: =O136*H136 -> 0 | Q136: 0 | R136: =Q136*H136 -> 0 | S136: 0 | T136: =S136*H136 -> 0 | AR136: 4 | AT136: K | AU136: 1 | AY136: ROZPOCET | BE136: =IF(N136="základní",J136,0) -> 0 | BF136: =IF(N136="snížená",J136,0) -> 0 | BG136: =IF(N136="zákl. přenesená",J136,0) -> 0 | BH136: =IF(N136="sníž. přenesená",J136,0) -> 0 | BI136: =IF(N136="nulová",J136,0) -> 0 | BJ136: 1 | BK136: =ROUND(I136*H136,2) -> 0 | BL136: 4 | BM136: 6
C137: 4 | D137: K | E137: Pol4 | F137: Ostřice latnatá - Carex panniculata | G137: ks | H137: 20 | I137: 0 | J137: =ROUND(I137*H137,2) -> 0 | N137: základní | O137: 0 | P137: =O137*H137 -> 0 | Q137: 0 | R137: =Q137*H137 -> 0 | S137: 0 | T137: =S137*H137 -> 0 | AR137: 4 | AT137: K | AU137: 1 | AY137: ROZPOCET | BE137: =IF(N137="základní",J137,0) -> 0 | BF137: =IF(N137="snížená",J137,0) -> 0 | BG137: =IF(N137="zákl. přenesená",J137,0) -> 0 | BH137: =IF(N137="sníž. přenesená",J137,0) -> 0 | BI137: =IF(N137="nulová",J137,0) -> 0 | BJ137: 1 | BK137: =ROUND(I137*H137,2) -> 0 | BL137: 4 | BM137: 8
C138: 5 | D138: K | E138: Pol5 | F138: Ostřice pašáchor - Carex pseudocyperus | G138: ks | H138: 50 | I138: 0 | J138: =ROUND(I138*H138,2) -> 0 | N138: základní | O138: 0 | P138: =O138*H138 -> 0 | Q138: 0 | R138: =Q138*H138 -> 0 | S138: 0 | T138: =S138*H138 -> 0 | AR138: 4 | AT138: K | AU138: 1 | AY138: ROZPOCET | BE138: =IF(N138="základní",J138,0) -> 0 | BF138: =IF(N138="snížená",J138,0) -> 0 | BG138: =IF(N138="zákl. přenesená",J138,0) -> 0 | BH138: =IF(N138="sníž. přenesená",J138,0) -> 0 | BI138: =IF(N138="nulová",J138,0) -> 0 | BJ138: 1 | BK138: =ROUND(I138*H138,2) -> 0 | BL138: 4 | BM138: 10
C139: 6 | D139: K | E139: Pol6 | F139: Ostřice pobřežní - Carex riparia | G139: ks | H139: 10 | I139: 0 | J139: =ROUND(I139*H139,2) -> 0 | N139: základní | O139: 0 | P139: =O139*H139 -> 0 | Q139: 0 | R139: =Q139*H139 -> 0 | S139: 0 | T139: =S139*H139 -> 0 | AR139: 4 | AT139: K | AU139: 1 | AY139: ROZPOCET | BE139: =IF(N139="základní",J139,0) -> 0 | BF139: =IF(N139="snížená",J139,0) -> 0 | BG139: =IF(N139="zákl. přenesená",J139,0) -> 0 | BH139: =IF(N139="sníž. přenesená",J139,0) -> 0 | BI139: =IF(N139="nulová",J139,0) -> 0 | BJ139: 1 | BK139: =ROUND(I139*H139,2) -> 0 | BL139: 4 | BM139: 12
C140: 7 | D140: K | E140: Pol7 | F140: Ostřice štíhlá - Carex gracilis , acuta | G140: ks | H140: 50 | I140: 0 | J140: =ROUND(I140*H140,2) -> 0 | N140: základní | O140: 0 | P140: =O140*H140 -> 0 | Q140: 0 | R140: =Q140*H140 -> 0 | S140: 0 | T140: =S140*H140 -> 0 | AR140: 4 | AT140: K | AU140: 1 | AY140: ROZPOCET | BE140: =IF(N140="základní",J140,0) -> 0 | BF140: =IF(N140="snížená",J140,0) -> 0 | BG140: =IF(N140="zákl. přenesená",J140,0) -> 0 | BH140: =IF(N140="sníž. přenesená",J140,0) -> 0 | BI140: =IF(N140="nulová",J140,0) -> 0 | BJ140: 1 | BK140: =ROUND(I140*H140,2) -> 0 | BL140: 4 | BM140: 14
C141: 8 | D141: K | E141: Pol8 | F141: Ostřice třeslicová - Carex brizoides | G141: ks | H141: 40 | I141: 0 | J141: =ROUND(I141*H141,2) -> 0 | N141: základní | O141: 0 | P141: =O141*H141 -> 0 | Q141: 0 | R141: =Q141*H141 -> 0 | S141: 0 | T141: =S141*H141 -> 0 | AR141: 4 | AT141: K | AU141: 1 | AY141: ROZPOCET | BE141: =IF(N141="základní",J141,0) -> 0 | BF141: =IF(N141="snížená",J141,0) -> 0 | BG141: =IF(N141="zákl. přenesená",J141,0) -> 0 | BH141: =IF(N141="sníž. přenesená",J141,0) -> 0 | BI141: =IF(N141="nulová",J141,0) -> 0 | BJ141: 1 | BK141: =ROUND(I141*H141,2) -> 0 | BL141: 4 | BM141: 16
C142: 9 | D142: K | E142: Pol9 | F142: Psineček výběžkatý - Agrostis stolonifera. | G142: ks | H142: 6 | I142: 0 | J142: =ROUND(I142*H142,2) -> 0 | N142: základní | O142: 0 | P142: =O142*H142 -> 0 | Q142: 0 | R142: =Q142*H142 -> 0 | S142: 0 | T142: =S142*H142 -> 0 | AR142: 4 | AT142: K | AU142: 1 | AY142: ROZPOCET | BE142: =IF(N142="základní",J142,0) -> 0 | BF142: =IF(N142="snížená",J142,0) -> 0 | BG142: =IF(N142="zákl. přenesená",J142,0) -> 0 | BH142: =IF(N142="sníž. přenesená",J142,0) -> 0 | BI142: =IF(N142="nulová",J142,0) -> 0 | BJ142: 1 | BK142: =ROUND(I142*H142,2) -> 0 | BL142: 4 | BM142: 18
C143: 10 | D143: K | E143: Pol10 | F143: Rozrazil potoční - Veronica beccabungea | G143: ks | H143: 3 | I143: 0 | J143: =ROUND(I143*H143,2) -> 0 | N143: základní | O143: 0 | P143: =O143*H143 -> 0 | Q143: 0 | R143: =Q143*H143 -> 0 | S143: 0 | T143: =S143*H143 -> 0 | AR143: 4 | AT143: K | AU143: 1 | AY143: ROZPOCET | BE143: =IF(N143="základní",J143,0) -> 0 | BF143: =IF(N143="snížená",J143,0) -> 0 | BG143: =IF(N143="zákl. přenesená",J143,0) -> 0 | BH143: =IF(N143="sníž. přenesená",J143,0) -> 0 | BI143: =IF(N143="nulová",J143,0) -> 0 | BJ143: 1 | BK143: =ROUND(I143*H143,2) -> 0 | BL143: 4 | BM143: 20
C144: 11 | D144: K | E144: Pol11 | F144: Sítina klubkatá - Juncus conglomeratus | G144: ks | H144: 15 | I144: 0 | J144: =ROUND(I144*H144,2) -> 0 | N144: základní | O144: 0 | P144: =O144*H144 -> 0 | Q144: 0 | R144: =Q144*H144 -> 0 | S144: 0 | T144: =S144*H144 -> 0 | AR144: 4 | AT144: K | AU144: 1 | AY144: ROZPOCET | BE144: =IF(N144="základní",J144,0) -> 0 | BF144: =IF(N144="snížená",J144,0) -> 0 | BG144: =IF(N144="zákl. přenesená",J144,0) -> 0 | BH144: =IF(N144="sníž. přenesená",J144,0) -> 0 | BI144: =IF(N144="nulová",J144,0) -> 0 | BJ144: 1 | BK144: =ROUND(I144*H144,2) -> 0 | BL144: 4 | BM144: 22
C145: 12 | D145: K | E145: Pol12 | F145: Sítina rozkladitá - Juncus effusus | G145: ks | H145: 50 | I145: 0 | J145: =ROUND(I145*H145,2) -> 0 | N145: základní | O145: 0 | P145: =O145*H145 -> 0 | Q145: 0 | R145: =Q145*H145 -> 0 | S145: 0 | T145: =S145*H145 -> 0 | AR145: 4 | AT145: K | AU145: 1 | AY145: ROZPOCET | BE145: =IF(N145="základní",J145,0) -> 0 | BF145: =IF(N145="snížená",J145,0) -> 0 | BG145: =IF(N145="zákl. přenesená",J145,0) -> 0 | BH145: =IF(N145="sníž. přenesená",J145,0) -> 0 | BI145: =IF(N145="nulová",J145,0) -> 0 | BJ145: 1 | BK145: =ROUND(I145*H145,2) -> 0 | BL145: 4 | BM145: 24
C146: 13 | D146: K | E146: Pol13 | F146: Tužebník jilmový - Filipendula ulmaria. | G146: ks | H146: 20 | I146: 0 | J146: =ROUND(I146*H146,2) -> 0 | N146: základní | O146: 0 | P146: =O146*H146 -> 0 | Q146: 0 | R146: =Q146*H146 -> 0 | S146: 0 | T146: =S146*H146 -> 0 | AR146: 4 | AT146: K | AU146: 1 | AY146: ROZPOCET | BE146: =IF(N146="základní",J146,0) -> 0 | BF146: =IF(N146="snížená",J146,0) -> 0 | BG146: =IF(N146="zákl. přenesená",J146,0) -> 0 | BH146: =IF(N146="sníž. přenesená",J146,0) -> 0 | BI146: =IF(N146="nulová",J146,0) -> 0 | BJ146: 1 | BK146: =ROUND(I146*H146,2) -> 0 | BL146: 4 | BM146: 26
D147: D | E147: D2 | F147: MATERIÁL - BŘEHY | J147: =BK147 -> 0 | P147: =P148+SUM(P149:P156) -> 0 | R147: =R148+SUM(R149:R156) -> 0 | T147: =T148+SUM(T149:T156) -> 0 | AR147: 1 | AT147: D | AU147: 0 | AY147: ROZPOCET | BK147: =BK148+SUM(BK149:BK156) -> 0
C148: 14 | D148: K | E148: Pol14 | F148: Kámen lomový - lom Klecany | G148: ks | H148: 100 | I148: 0 | J148: =ROUND(I148*H148,2) -> 0 | N148: základní | O148: 0 | P148: =O148*H148 -> 0 | Q148: 0 | R148: =Q148*H148 -> 0 | S148: 0 | T148: =S148*H148 -> 0 | AR148: 4 | AT148: K | AU148: 1 | AY148: ROZPOCET | BE148: =IF(N148="základní",J148,0) -> 0 | BF148: =IF(N148="snížená",J148,0) -> 0 | BG148: =IF(N148="zákl. přenesená",J148,0) -> 0 | BH148: =IF(N148="sníž. přenesená",J148,0) -> 0 | BI148: =IF(N148="nulová",J148,0) -> 0 | BJ148: 1 | BK148: =ROUND(I148*H148,2) -> 0 | BL148: 4 | BM148: 28
C149: 15 | D149: K | E149: Pol15 | F149: Kačírek říční netříděný | G149: t | H149: 20 | I149: 0 | J149: =ROUND(I149*H149,2) -> 0 | N149: základní | O149: 0 | P149: =O149*H149 -> 0 | Q149: 0 | R149: =Q149*H149 -> 0 | S149: 0 | T149: =S149*H149 -> 0 | AR149: 4 | AT149: K | AU149: 1 | AY149: ROZPOCET | BE149: =IF(N149="základní",J149,0) -> 0 | BF149: =IF(N149="snížená",J149,0) -> 0 | BG149: =IF(N149="zákl. přenesená",J149,0) -> 0 | BH149: =IF(N149="sníž. přenesená",J149,0) -> 0 | BI149: =IF(N149="nulová",J149,0) -> 0 | BJ149: 1 | BK149: =ROUND(I149*H149,2) -> 0 | BL149: 4 | BM149: 30
C150: 16 | D150: K | E150: Pol16 | F150: Mlat výplňový | G150: ks | H150: 20 | I150: 0 | J150: =ROUND(I150*H150,2) -> 0 | N150: základní | O150: 0 | P150: =O150*H150 -> 0 | Q150: 0 | R150: =Q150*H150 -> 0 | S150: 0 | T150: =S150*H150 -> 0 | AR150: 4 | AT150: K | AU150: 1 | AY150: ROZPOCET | BE150: =IF(N150="základní",J150,0) -> 0 | BF150: =IF(N150="snížená",J150,0) -> 0 | BG150: =IF(N150="zákl. přenesená",J150,0) -> 0 | BH150: =IF(N150="sníž. přenesená",J150,0) -> 0 | BI150: =IF(N150="nulová",J150,0) -> 0 | BJ150: 1 | BK150: =ROUND(I150*H150,2) -> 0 | BL150: 4 | BM150: 32
C151: 17 | D151: K | E151: Pol17 | F151: Kůly štípané - dub, akát | G151: ks | H151: 500 | I151: 0 | J151: =ROUND(I151*H151,2) -> 0 | N151: základní | O151: 0 | P151: =O151*H151 -> 0 | Q151: 0 | R151: =Q151*H151 -> 0 | S151: 0 | T151: =S151*H151 -> 0 | AR151: 4 | AT151: K | AU151: 1 | AY151: ROZPOCET | BE151: =IF(N151="základní",J151,0) -> 0 | BF151: =IF(N151="snížená",J151,0) -> 0 | BG151: =IF(N151="zákl. přenesená",J151,0) -> 0 | BH151: =IF(N151="sníž. přenesená",J151,0) -> 0 | BI151: =IF(N151="nulová",J151,0) -> 0 | BJ151: 1 | BK151: =ROUND(I151*H151,2) -> 0 | BL151: 4 | BM151: 34
C152: 18 | D152: K | E152: Pol18 | F152: klády akátové, dubové, odklestěné větve smrků, borovic, jedlí. na hať | G152: ks | H152: 100 | I152: 0 | J152: =ROUND(I152*H152,2) -> 0 | N152: základní | O152: 0 | P152: =O152*H152 -> 0 | Q152: 0 | R152: =Q152*H152 -> 0 | S152: 0 | T152: =S152*H152 -> 0 | AR152: 4 | AT152: K | AU152: 1 | AY152: ROZPOCET | BE152: =IF(N152="základní",J152,0) -> 0 | BF152: =IF(N152="snížená",J152,0) -> 0 | BG152: =IF(N152="zákl. přenesená",J152,0) -> 0 | BH152: =IF(N152="sníž. přenesená",J152,0) -> 0 | BI152: =IF(N152="nulová",J152,0) -> 0 | BJ152: 1 | BK152: =ROUND(I152*H152,2) -> 0 | BL152: 4 | BM152: 36
C153: 19 | D153: K | E153: Pol19 | F153: Kokosová zpevňovací svahová rohož | G153: ks | H153: 200 | I153: 0 | J153: =ROUND(I153*H153,2) -> 0 | N153: základní | O153: 0 | P153: =O153*H153 -> 0 | Q153: 0 | R153: =Q153*H153 -> 0 | S153: 0 | T153: =S153*H153 -> 0 | AR153: 4 | AT153: K | AU153: 1 | AY153: ROZPOCET | BE153: =IF(N153="základní",J153,0) -> 0 | BF153: =IF(N153="snížená",J153,0) -> 0 | BG153: =IF(N153="zákl. přenesená",J153,0) -> 0 | BH153: =IF(N153="sníž. přenesená",J153,0) -> 0 | BI153: =IF(N153="nulová",J153,0) -> 0 | BJ153: 1 | BK153: =ROUND(I153*H153,2) -> 0 | BL153: 4 | BM153: 38
C154: 20 | D154: K | E154: Pol20 | F154: Hydroosev – směs | G154: m2 | H154: 200 | I154: 0 | J154: =ROUND(I154*H154,2) -> 0 | N154: základní | O154: 0 | P154: =O154*H154 -> 0 | Q154: 0 | R154: =Q154*H154 -> 0 | S154: 0 | T154: =S154*H154 -> 0 | AR154: 4 | AT154: K | AU154: 1 | AY154: ROZPOCET | BE154: =IF(N154="základní",J154,0) -> 0 | BF154: =IF(N154="snížená",J154,0) -> 0 | BG154: =IF(N154="zákl. přenesená",J154,0) -> 0 | BH154: =IF(N154="sníž. přenesená",J154,0) -> 0 | BI154: =IF(N154="nulová",J154,0) -> 0 | BJ154: 1 | BK154: =ROUND(I154*H154,2) -> 0 | BL154: 4 | BM154: 40
C155: 21 | D155: K | E155: Pol21 | F155: Substrát kolem břehů tůní (rašelina, jíl, písek) | G155: m3 | H155: 20 | I155: 0 | J155: =ROUND(I155*H155,2) -> 0 | N155: základní | O155: 0 | P155: =O155*H155 -> 0 | Q155: 0 | R155: =Q155*H155 -> 0 | S155: 0 | T155: =S155*H155 -> 0 | AR155: 4 | AT155: K | AU155: 1 | AY155: ROZPOCET | BE155: =IF(N155="základní",J155,0) -> 0 | BF155: =IF(N155="snížená",J155,0) -> 0 | BG155: =IF(N155="zákl. přenesená",J155,0) -> 0 | BH155: =IF(N155="sníž. přenesená",J155,0) -> 0 | BI155: =IF(N155="nulová",J155,0) -> 0 | BJ155: 1 | BK155: =ROUND(I155*H155,2) -> 0 | BL155: 4 | BM155: 42
D156: D | E156: D3 | F156: MATERIÁL - TRÁVNÍK VÝSADBA | J156: =BK156 -> 0 | P156: =P157 -> 0 | R156: =R157 -> 0 | T156: =T157 -> 0 | AR156: 1 | AT156: D | AU156: 1 | AY156: ROZPOCET | BK156: =BK157 -> 0
C157: 22 | D157: K | E157: Pol22 | F157: Travní směs | G157: m2 | H157: 12600 | I157: 0 | J157: =ROUND(I157*H157,2) -> 0 | N157: základní | O157: 0 | P157: =O157*H157 -> 0 | Q157: 0 | R157: =Q157*H157 -> 0 | S157: 0 | T157: =S157*H157 -> 0 | AR157: 4 | AT157: K | AU157: 2 | AY157: ROZPOCET | BE157: =IF(N157="základní",J157,0) -> 0 | BF157: =IF(N157="snížená",J157,0) -> 0 | BG157: =IF(N157="zákl. přenesená",J157,0) -> 0 | BH157: =IF(N157="sníž. přenesená",J157,0) -> 0 | BI157: =IF(N157="nulová",J157,0) -> 0 | BJ157: 1 | BK157: =ROUND(I157*H157,2) -> 0 | BL157: 4 | BM157: 44
D158: D | E158: D4 | F158: Přehled navržených dřevin pro ÚSEK VI. - Na Zvonici | J158: =BK158 -> 0 | P158: =P159+P163 -> 0 | R158: =R159+R163 -> 0 | T158: =T159+T163 -> 0 | AR158: 1 | AT158: D | AU158: 0 | AY158: ROZPOCET | BK158: =BK159+BK163 -> 0
D159: D | E159: D5 | F159: HL.ALEJ + SOLITÉRY | J159: =BK159 -> 0 | P159: =SUM(P160:P162) -> 0 | R159: =SUM(R160:R162) -> 0 | T159: =SUM(T160:T162) -> 0 | AR159: 1 | AT159: D | AU159: 1 | AY159: ROZPOCET | BK159: =SUM(BK160:BK162) -> 0
C160: 23 | D160: K | E160: Pol23 | F160: Muchovník - amelancier | G160: ks | H160: 7 | I160: 0 | J160: =ROUND(I160*H160,2) -> 0 | N160: základní | O160: 0 | P160: =O160*H160 -> 0 | Q160: 0 | R160: =Q160*H160 -> 0 | S160: 0 | T160: =S160*H160 -> 0 | AR160: 4 | AT160: K | AU160: 2 | AY160: ROZPOCET | BE160: =IF(N160="základní",J160,0) -> 0 | BF160: =IF(N160="snížená",J160,0) -> 0 | BG160: =IF(N160="zákl. přenesená",J160,0) -> 0 | BH160: =IF(N160="sníž. přenesená",J160,0) -> 0 | BI160: =IF(N160="nulová",J160,0) -> 0 | BJ160: 1 | BK160: =ROUND(I160*H160,2) -> 0 | BL160: 4 | BM160: 46
C161: 24 | D161: K | E161: Pol24 | F161: Hrušeň - pyrifolia | G161: ks | H161: 1 | I161: 0 | J161: =ROUND(I161*H161,2) -> 0 | N161: základní | O161: 0 | P161: =O161*H161 -> 0 | Q161: 0 | R161: =Q161*H161 -> 0 | S161: 0 | T161: =S161*H161 -> 0 | AR161: 4 | AT161: K | AU161: 2 | AY161: ROZPOCET | BE161: =IF(N161="základní",J161,0) -> 0 | BF161: =IF(N161="snížená",J161,0) -> 0 | BG161: =IF(N161="zákl. přenesená",J161,0) -> 0 | BH161: =IF(N161="sníž. přenesená",J161,0) -> 0 | BI161: =IF(N161="nulová",J161,0) -> 0 | BJ161: 1 | BK161: =ROUND(I161*H161,2) -> 0 | BL161: 4 | BM161: 48
C162: 25 | D162: K | E162: Pol25 | F162: Javor babyka - Acer campestre | G162: ks | H162: 1 | I162: 0 | J162: =ROUND(I162*H162,2) -> 0 | N162: základní | O162: 0 | P162: =O162*H162 -> 0 | Q162: 0 | R162: =Q162*H162 -> 0 | S162: 0 | T162: =S162*H162 -> 0 | AR162: 4 | AT162: K | AU162: 2 | AY162: ROZPOCET | BE162: =IF(N162="základní",J162,0) -> 0 | BF162: =IF(N162="snížená",J162,0) -> 0 | BG162: =IF(N162="zákl. přenesená",J162,0) -> 0 | BH162: =IF(N162="sníž. přenesená",J162,0) -> 0 | BI162: =IF(N162="nulová",J162,0) -> 0 | BJ162: 1 | BK162: =ROUND(I162*H162,2) -> 0 | BL162: 4 | BM162: 50
D163: D | E163: D6 | F163: KEŘE – OKRAJOVÝ LEM | J163: =BK163 -> 0 | P163: =SUM(P164:P166) -> 0 | R163: =SUM(R164:R166) -> 0 | T163: =SUM(T164:T166) -> 0 | AR163: 1 | AT163: D | AU163: 1 | AY163: ROZPOCET | BK163: =SUM(BK164:BK166) -> 0
C164: 26 | D164: K | E164: Pol26 | F164: Ptačí zob - Ligustrum vulgare | G164: ks | H164: 80 | I164: 0 | J164: =ROUND(I164*H164,2) -> 0 | N164: základní | O164: 0 | P164: =O164*H164 -> 0 | Q164: 0 | R164: =Q164*H164 -> 0 | S164: 0 | T164: =S164*H164 -> 0 | AR164: 4 | AT164: K | AU164: 2 | AY164: ROZPOCET | BE164: =IF(N164="základní",J164,0) -> 0 | BF164: =IF(N164="snížená",J164,0) -> 0 | BG164: =IF(N164="zákl. přenesená",J164,0) -> 0 | BH164: =IF(N164="sníž. přenesená",J164,0) -> 0 | BI164: =IF(N164="nulová",J164,0) -> 0 | BJ164: 1 | BK164: =ROUND(I164*H164,2) -> 0 | BL164: 4 | BM164: 52
C165: 27 | D165: K | E165: Pol27 | F165: Meruzalka alpská – Ribes alpinum | G165: ks | H165: 50 | I165: 0 | J165: =ROUND(I165*H165,2) -> 0 | N165: základní | O165: 0 | P165: =O165*H165 -> 0 | Q165: 0 | R165: =Q165*H165 -> 0 | S165: 0 | T165: =S165*H165 -> 0 | AR165: 4 | AT165: K | AU165: 2 | AY165: ROZPOCET | BE165: =IF(N165="základní",J165,0) -> 0 | BF165: =IF(N165="snížená",J165,0) -> 0 | BG165: =IF(N165="zákl. přenesená",J165,0) -> 0 | BH165: =IF(N165="sníž. přenesená",J165,0) -> 0 | BI165: =IF(N165="nulová",J165,0) -> 0 | BJ165: 1 | BK165: =ROUND(I165*H165,2) -> 0 | BL165: 4 | BM165: 54
C166: 28 | D166: K | E166: Pol28 | F166: Zimolez tatarský - lohicera tatarica | G166: ks | H166: 25 | I166: 0 | J166: =ROUND(I166*H166,2) -> 0 | N166: základní | O166: 0 | P166: =O166*H166 -> 0 | Q166: 0 | R166: =Q166*H166 -> 0 | S166: 0 | T166: =S166*H166 -> 0 | AR166: 4 | AT166: K | AU166: 2 | AY166: ROZPOCET | BE166: =IF(N166="základní",J166,0) -> 0 | BF166: =IF(N166="snížená",J166,0) -> 0 | BG166: =IF(N166="zákl. přenesená",J166,0) -> 0 | BH166: =IF(N166="sníž. přenesená",J166,0) -> 0 | BI166: =IF(N166="nulová",J166,0) -> 0 | BJ166: 1 | BK166: =ROUND(I166*H166,2) -> 0 | BL166: 4 | BM166: 56
...

Sheet SO.03 - Lávka
L2: >> skryté sloupce << | AT2: {88580bfe-aca6-4922-ac63-2820908a011c}
AT3: 2
D4: KRYCÍ LIST SOUPISU PRACÍ | M4: v --- níže se nacházejí doplnkové a pomocné údaje k sestavám --- v | AT4: False
D6: Stavba:
E7: ='Rekapitulace stavby'!K6 -> Segment II v okružním parku Zelený pás Líbeznice
D8: Objekt:
E9: SO.03 - Lávka
D11: KSO: | I11: CC-CZ:
D12: Místo: | F12: Líbeznice | I12: Datum: | J12: ='Rekapitulace stavby'!AN8 -> 17. 4. 2025
D14: Zadavatel: | I14: IČ:
E15: Obec Líbeznice | I15: DIČ:
D17: Zhotovitel: | I17: IČ: | J17: ='Rekapitulace stavby'!AN13
E18: ='Rekapitulace stavby'!E14 | I18: DIČ: | J18: ='Rekapitulace stavby'!AN14
D20: Projektant: | I20: IČ:
E21: MENU Architekti s.r.o. | I21: DIČ:
D23: Zpracovatel: | I23: IČ:
E24: MENU Architekti s.r.o. | I24: DIČ:
D26: Poznámka:
D30: Cena bez DPH | J30: =ROUND(J123, 2) -> 0
F32: Základ daně | I32: Sazba daně | J32: Výše daně
D33: DPH | E33: základní | F33: =ROUND((SUM(BE123:BE218)), 2) -> 0 | I33: 0.21 | J33: =ROUND(((SUM(BE123:BE218))*I33), 2) -> 0
E34: snížená | F34: =ROUND((SUM(BF123:BF218)), 2) -> 0 | I34: 0.12 | J34: =ROUND(((SUM(BF123:BF218))*I34), 2) -> 0
E35: zákl. přenesená | F35: =ROUND((SUM(BG123:BG218)), 2) -> 0 | I35: 0.21 | J35: =0 -> 0
E36: sníž. přenesená | F36: =ROUND((SUM(BH123:BH218)), 2) -> 0 | I36: 0.12 | J36: =0 -> 0
E37: nulová | F37: =ROUND((SUM(BI123:BI218)), 2) -> 0 | I37: 0 | J37: =0 -> 0
D39: Cena s DPH | G39: v | H39: CZK | J39: =SUM(J30:J37) -> 0
D50: Projektant | G50: Zpracovatel
D61: Datum a podpis: | F61: Razítko | G61: Datum a podpis: | J61: Razítko
D65: Objednavatel | G65: Zhotovitel
D76: Datum a podpis: | F76: Razítko | G76: Datum a podpis: | J76: Razítko
C82: REKAPITULACE ČLENĚNÍ SOUPISU PRACÍ
C84: Stavba:
E85: =E7 -> Segment II v okružním parku Zelený pás Líbeznice
C86: Objekt:
E87: =E9 -> SO.03 - Lávka
C89: Místo: | F89: =F12 -> Líbeznice | I89: Datum: | J89: =IF(J12="","",J12) -> 17. 4. 2025
C91: Zadavatel: | F91: =E15 -> Obec Líbeznice | I91: Projektant: | J91: =E21 -> MENU Architekti s.r.o.
C92: Zhotovitel: | F92: =IF(E18="","",E18) | I92: Zpracovatel: | J92: =E24 -> MENU Architekti s.r.o.
C94: Kód dílu - Popis | J94: Cena celkem [CZK]
C96: Náklady ze soupisu prací | J96: =J123 -> 0 | AU96: -1
D97: HSV - Práce a dodávky HSV | J97: =J124 -> 0
D98: 1 - Zemní práce | J98: =J125 -> 0
D99: 2 - Zakládání | J99: =J132 -> 0
D100: 998 - Přesun hmot | J100: =J150 -> 0
D101: PSV - Práce a dodávky PSV | J101: =J152 -> 0
D102: 762 - Konstrukce tesařské | J102: =J153 -> 0
D103: 783 - Dokončovací práce - nátěry | J103: =J199 -> 0
C110: SOUPIS PRACÍ
C112: Stavba:
E113: =E7 -> Segment II v okružním parku Zelený pás Líbeznice
C114: Objekt:
E115: =E9 -> SO.03 - Lávka
C117: Místo: | F117: =F12 -> Líbeznice | I117: Datum: | J117: =IF(J12="","",J12) -> 17. 4. 2025
C119: Zadavatel: | F119: =E15 -> Obec Líbeznice | I119: Projektant: | J119: =E21 -> MENU Architekti s.r.o.
C120: Zhotovitel: | F120: =IF(E18="","",E18) | I120: Zpracovatel: | J120: =E24 -> MENU Architekti s.r.o.
C122: PČ | D122: Typ | E122: Kód | F122: Popis | G122: MJ | H122: Množství | I122: J.cena [CZK] | J122: Cena celkem [CZK] | K122: Cenová soustava | N122: DPH | O122: J. Nh [h] | P122: Nh celkem [h] | Q122: J. hmotnost [t] | R122: Hmotnost celkem [t] | S122: J. suť [t] | T122: Suť Celkem [t]
C123: Náklady soupisu celkem | J123: =BK123 -> 0 | P123: =P124+P152 -> 212.62818 | R123: =R124+R152 -> 19.999103 | T123: =T124+T152 -> 0 | AT123: D | AU123: -1 | BK123: =BK124+BK152 -> 0
D124: D | E124: HSV | F124: Práce a dodávky HSV | J124: =BK124 -> 0 | P124: =P125+P132+P150 -> 24.231021 | R124: =R125+R132+R150 -> 17.123082 | T124: =T125+T132+T150 -> 0 | AR124: 1 | AT124: D | AU124: 0 | AY124: ROZPOCET | BK124: =BK125+BK132+BK150 -> 0
D125: D | E125: 1 | F125: Zemní práce | J125: =BK125 -> 0 | P125: =SUM(P126:P131) -> 1.796428 | R125: =SUM(R126:R131) -> 0 | T125: =SUM(T126:T131) -> 0 | AR125: 1 | AT125: D | AU125: 1 | AY125: ROZPOCET | BK125: =SUM(BK126:BK131) -> 0
C126: 1 | D126: K | E126: 131251105 | F126: Hloubení jam nezapažených v hornině třídy těžitelnosti I skupiny 3 objemu do 1000 m3 strojně | G126: m3 | H126: 3.679 | I126: 0 | J126: =ROUND(I126*H126,2) -> 0 | N126: základní | O126: 0.214 | P126: =O126*H126 -> 0.787306 | Q126: 0 | R126: =Q126*H126 -> 0 | S126: 0 | T126: =S126*H126 -> 0 | AR126: 4 | AT126: K | AU126: 2 | AY126: ROZPOCET | BE126: =IF(N126="základní",J126,0) -> 0 | BF126: =IF(N126="snížená",J126,0) -> 0 | BG126: =IF(N126="zákl. přenesená",J126,0) -> 0 | BH126: =IF(N126="sníž. přenesená",J126,0) -> 0 | BI126: =IF(N126="nulová",J126,0) -> 0 | BJ126: 1 | BK126: =ROUND(I126*H126,2) -> 0 | BL126: 4 | BM126: 559778566
C127: 2 | D127: K | E127: 162351104 | F127: Vodorovné přemístění přes 500 do 1000 m výkopku/sypaniny z horniny třídy těžitelnosti I skupiny 1 až 3 | G127: m3 | H127: 3.679 | I127: 0 | J127: =ROUND(I127*H127,2) -> 0 | N127: základní | O127: 0.046 | P127: =O127*H127 -> 0.169234 | Q127: 0 | R127: =Q127*H127 -> 0 | S127: 0 | T127: =S127*H127 -> 0 | AR127: 4 | AT127: K | AU127: 2 | AY127: ROZPOCET | BE127: =IF(N127="základní",J127,0) -> 0 | BF127: =IF(N127="snížená",J127,0) -> 0 | BG127: =IF(N127="zákl. přenesená",J127,0) -> 0 | BH127: =IF(N127="sníž. přenesená",J127,0) -> 0 | BI127: =IF(N127="nulová",J127,0) -> 0 | BJ127: 1 | BK127: =ROUND(I127*H127,2) -> 0 | BL127: 4 | BM127: 1881359495
D128: VV | F128: 3,679 | H128: 3.679 | AT128: VV | AU128: 2 | AV128: 2 | AW128: True | AX128: 0 | AY128: ROZPOCET
D129: VV | F129: Součet | H129: 3.679 | AT129: VV | AU129: 2 | AV129: 4 | AW129: True | AX129: 1 | AY129: ROZPOCET
C130: 3 | D130: K | E130: 167151111 | F130: Nakládání výkopku z hornin třídy těžitelnosti I skupiny 1 až 3 přes 100 m3 | G130: m3 | H130: 3.679 | I130: 0 | J130: =ROUND(I130*H130,2) -> 0 | N130: základní | O130: 0.072 | P130: =O130*H130 -> 0.264888 | Q130: 0 | R130: =Q130*H130 -> 0 | S130: 0 | T130: =S130*H130 -> 0 | AR130: 4 | AT130: K | AU130: 2 | AY130: ROZPOCET | BE130: =IF(N130="základní",J130,0) -> 0 | BF130: =IF(N130="snížená",J130,0) -> 0 | BG130: =IF(N130="zákl. přenesená",J130,0) -> 0 | BH130: =IF(N130="sníž. přenesená",J130,0) -> 0 | BI130: =IF(N130="nulová",J130,0) -> 0 | BJ130: 1 | BK130: =ROUND(I130*H130,2) -> 0 | BL130: 4 | BM130: 2099898877
C131: 4 | D131: K | E131: 171151101 | F131: Hutnění boků násypů pro jakýkoliv sklon a míru zhutnění svahu | G131: m2 | H131: 25 | I131: 0 | J131: =ROUND(I131*H131,2) -> 0 | N131: základní | O131: 0.023 | P131: =O131*H131 -> 0.575 | Q131: 0 | R131: =Q131*H131 -> 0 | S131: 0 | T131: =S131*H131 -> 0 | AR131: 4 | AT131: K | AU131: 2 | AY131: ROZPOCET | BE131: =IF(N131="základní",J131,0) -> 0 | BF131: =IF(N131="snížená",J131,0) -> 0 | BG131: =IF(N131="zákl. přenesená",J131,0) -> 0 | BH131: =IF(N131="sníž. přenesená",J131,0) -> 0 | BI131: =IF(N131="nulová",J131,0) -> 0 | BJ131: 1 | BK131: =ROUND(I131*H131,2) -> 0 | BL131: 4 | BM131: -2032751396
D132: D | E132: 2 | F132: Zakládání | J132: =BK132 -> 0 | P132: =SUM(P133:P149) -> 20.174357 | R132: =SUM(R133:R149) -> 17.123082 | T132: =SUM(T133:T149) -> 0 | AR132: 1 | AT132: D | AU132: 1 | AY132: ROZPOCET | BK132: =SUM(BK133:BK149) -> 0
C133: 5 | D133: K | E133: 231212111 | F133: Zřízení pilot svislých zapažených D přes 245 do 450 mm hl od 0 do 10 m s vytažením pažnic z betonu železového | G133: m | H133: 24 | I133: 0 | J133: =ROUND(I133*H133,2) -> 0 | N133: základní | O133: 0.245 | P133: =O133*H133 -> 5.88 | Q133: 0 | R133: =Q133*H133 -> 0 | S133: 0 | T133: =S133*H133 -> 0 | AR133: 4 | AT133: K | AU133: 2 | AY133: ROZPOCET | BE133: =IF(N133="základní",J133,0) -> 0 | BF133: =IF(N133="snížená",J133,0) -> 0 | BG133: =IF(N133="zákl. přenesená",J133,0) -> 0 | BH133: =IF(N133="sníž. přenesená",J133,0) -> 0 | BI133: =IF(N133="nulová",J133,0) -> 0 | BJ133: 1 | BK133: =ROUND(I133*H133,2) -> 0 | BL133: 4 | BM133: -1340434185
C134: 6 | D134: M | E134: 58933329 | F134: beton C 30/37 X0,XC1-4,XD1-2,XA1-2,XF1 kamenivo frakce 0/16 | G134: m3 | H134: 3.322 | I134: 0 | J134: =ROUND(I134*H134,2) -> 0 | N134: základní | O134: 0 | P134: =O134*H134 -> 0 | Q134: 2.429 | R134: =Q134*H134 -> 8.069138 | S134: 0 | T134: =S134*H134 -> 0 | AR134: 8 | AT134: M | AU134: 2 | AY134: ROZPOCET | BE134: =IF(N134="základní",J134,0) -> 0 | BF134: =IF(N134="snížená",J134,0) -> 0 | BG134: =IF(N134="zákl. přenesená",J134,0) -> 0 | BH134: =IF(N134="sníž. přenesená",J134,0) -> 0 | BI134: =IF(N134="nulová",J134,0) -> 0 | BJ134: 1 | BK134: =ROUND(I134*H134,2) -> 0 | BL134: 4 | BM134: -1335751633
D135: VV | F135: 3,02*1,1 'Přepočtené koeficientem množství | H135: 3.322 | AT135: VV | AU135: 2 | AV135: 2 | AW135: False | AX135: 1 | AY135: ROZPOCET
C136: 7 | D136: K | E136: 231611114 | F136: Výztuž pilot betonovaných do země ocel z betonářské oceli 10 505 | G136: t | H136: 0.131 | I136: 0 | J136: =ROUND(I136*H136,2) -> 0 | N136: základní | O136: 17.539 | P136: =O136*H136 -> 2.297609 | Q136: 1.11381 | R136: =Q136*H136 -> 0.14590911 | S136: 0 | T136: =S136*H136 -> 0 | AR136: 4 | AT136: K | AU136: 2 | AY136: ROZPOCET | BE136: =IF(N136="základní",J136,0) -> 0 | BF136: =IF(N136="snížená",J136,0) -> 0 | BG136: =IF(N136="zákl. přenesená",J136,0) -> 0 | BH136: =IF(N136="sníž. přenesená",J136,0) -> 0 | BI136: =IF(N136="nulová",J136,0) -> 0 | BJ136: 1 | BK136: =ROUND(I136*H136,2) -> 0 | BL136: 4 | BM136: 2761926
D137: VV | F137: (278,28-147,45)/1000 | H137: 0.131 | AT137: VV | AU137: 2 | AV137: 2 | AW137: True | AX137: 0 | AY137: ROZPOCET
D138: VV | F138: Součet | H138: 0.131 | AT138: VV | AU138: 2 | AV138: 4 | AW138: True | AX138: 1 | AY138: ROZPOCET
C139: 8 | D139: K | E139: 271572211 | F139: Podsyp pod základové konstrukce se zhutněním z netříděného štěrkopísku | G139: m3 | H139: 0.81 | I139: 0 | J139: =ROUND(I139*H139,2) -> 0 | N139: základní | O139: 0.985 | P139: =O139*H139 -> 0.79785 | Q139: 1.98 | R139: =Q139*H139 -> 1.6038 | S139: 0 | T139: =S139*H139 -> 0 | AR139: 4 | AT139: K | AU139: 2 | AY139: ROZPOCET | BE139: =IF(N139="základní",J139,0) -> 0 | BF139: =IF(N139="snížená",J139,0) -> 0 | BG139: =IF(N139="zákl. přenesená",J139,0) -> 0 | BH139: =IF(N139="sníž. přenesená",J139,0) -> 0 | BI139: =IF(N139="nulová",J139,0) -> 0 | BJ139: 1 | BK139: =ROUND(I139*H139,2) -> 0 | BL139: 4 | BM139: -990998708
D140: VV | F140: 0,6*0,15*4,2*2,0+0,3*0,3*4,0*0,15 | H140: 0.81 | AT140: VV | AU140: 2 | AV140: 2 | AW140: True | AX140: 0 | AY140: ROZPOCET
D141: VV | F141: Součet | H141: 0.81 | AT141: VV | AU141: 2 | AV141: 4 | AW141: True | AX141: 1 | AY141: ROZPOCET
C142: 9 | D142: K | E142: 274322611 | F142: Základové pasy ze ŽB se zvýšenými nároky na prostředí tř. C 30/37 | G142: m3 | H142: 2.838 | I142: 0 | J142: =ROUND(I142*H142,2) -> 0 | N142: základní | O142: 0.629 | P142: =O142*H142 -> 1.785102 | Q142: 2.50187 | R142: =Q142*H142 -> 7.1003071 | S142: 0 | T142: =S142*H142 -> 0 | AR142: 4 | AT142: K | AU142: 2 | AY142: ROZPOCET | BE142: =IF(N142="základní",J142,0) -> 0 | BF142: =IF(N142="snížená",J142,0) -> 0 | BG142: =IF(N142="zákl. přenesená",J142,0) -> 0 | BH142: =IF(N142="sníž. přenesená",J142,0) -> 0 | BI142: =IF(N142="nulová",J142,0) -> 0 | BJ142: 1 | BK142: =ROUND(I142*H142,2) -> 0 | BL142: 4 | BM142: -1165053844
D143: VV | F143: ŽB převázka | AT143: VV | AU143: 2 | AV143: 1 | AW143: True | AX143: 0 | AY143: ROZPOCET
D144: VV | F144: 2,58*1,1 | H144: 2.838 | AT144: VV | AU144: 2 | AV144: 2 | AW144: True | AX144: 0 | AY144: ROZPOCET
D145: VV | F145: Součet | H145: 2.838 | AT145: VV | AU145: 2 | AV145: 4 | AW145: True | AX145: 1 | AY145: ROZPOCET
C146: 10 | D146: K | E146: 274351121 | F146: Zřízení bednění základových pasů rovného | G146: m2 | H146: 17.85 | I146: 0 | J146: =ROUND(I146*H146,2) -> 0 | N146: základní | O146: 0.247 | P146: =O146*H146 -> 4.40895 | Q146: 0.00269 | R146: =Q146*H146 -> 0.0480165 | S146: 0 | T146: =S146*H146 -> 0 | AR146: 4 | AT146: K | AU146: 2 | AY146: ROZPOCET | BE146: =IF(N146="základní",J146,0) -> 0 | BF146: =IF(N146="snížená",J146,0) -> 0 | BG146: =IF(N146="zákl. přenesená",J146,0) -> 0 | BH146: =IF(N146="sníž. přenesená",J146,0) -> 0 | BI146: =IF(N146="nulová",J146,0) -> 0 | BJ146: 1 | BK146: =ROUND(I146*H146,2) -> 0 | BL146: 4 | BM146: 1332372045
C147: 11 | D147: K | E147: 274351122 | F147: Odstranění bednění základových pasů rovného | G147: m2 | H147: 17.85 | I147: 0 | J147: =ROUND(I147*H147,2) -> 0 | N147: základní | O147: 0.083 | P147: =O147*H147 -> 1.48155 | Q147: 0 | R147: =Q147*H147 -> 0 | S147: 0 | T147: =S147*H147 -> 0 | AR147: 4 | AT147: K | AU147: 2 | AY147: ROZPOCET | BE147: =IF(N147="základní",J147,0) -> 0 | BF147: =IF(N147="snížená",J147,0) -> 0 | BG147: =IF(N147="zákl. přenesená",J147,0) -> 0 | BH147: =IF(N147="sníž. přenesená",J147,0) -> 0 | BI147: =IF(N147="nulová",J147,0) -> 0 | BJ147: 1 | BK147: =ROUND(I147*H147,2) -> 0 | BL147: 4 | BM147: 839130785
C148: 12 | D148: K | E148: 274361821 | F148: Výztuž základových pasů betonářskou ocelí 10 505 (R) | G148: t | H148: 0.147 | I148: 0 | J148: =ROUND(I148*H148,2) -> 0 | N148: základní | O148: 23.968 | P148: =O148*H148 -> 3.523296 | Q148: 1.06062 | R148: =Q148*H148 -> 0.15591114 | S148: 0 | T148: =S148*H148 -> 0 | AR148: 4 | AT148: K | AU148: 2 | AY148: ROZPOCET | BE148: =IF(N148="základní",J148,0) -> 0 | BF148: =IF(N148="snížená",J148,0) -> 0 | BG148: =IF(N148="zákl. přenesená",J148,0) -> 0 | BH148: =IF(N148="sníž. přenesená",J148,0) -> 0 | BI148: =IF(N148="nulová",J148,0) -> 0 | BJ148: 1 | BK148: =ROUND(I148*H148,2) -> 0 | BL148: 4 | BM148: -622321481
D149: VV | F149: 147,45/1000 | H149: 0.147 | AT149: VV | AU149: 2 | AV149: 2 | AW149: True | AX149: 1 | AY149: ROZPOCET
D150: D | E150: 998 | F150: Přesun hmot | J150: =BK150 -> 0 | P150: =P151 -> 2.260236 | R150: =R151 -> 0 | T150: =T151 -> 0 | AR150: 1 | AT150: D | AU150: 1 | AY150: ROZPOCET | BK150: =BK151 -> 0
C151: 13 | D151: K | E151: 998222012 | F151: Přesun hmot pro tělovýchovné plochy | G151: t | H151: 17.123 | I151: 0 | J151: =ROUND(I151*H151,2) -> 0 | N151: základní | O151: 0.132 | P151: =O151*H151 -> 2.260236 | Q151: 0 | R151: =Q151*H151 -> 0 | S151: 0 | T151: =S151*H151 -> 0 | AR151: 4 | AT151: K | AU151: 2 | AY151: ROZPOCET | BE151: =IF(N151="základní",J151,0) -> 0 | BF151: =IF(N151="snížená",J151,0) -> 0 | BG151: =IF(N151="zákl. přenesená",J151,0) -> 0 | BH151: =IF(N151="sníž. přenesená",J151,0) -> 0 | BI151: =IF(N151="nulová",J151,0) -> 0 | BJ151: 1 | BK151: =ROUND(I151*H151,2) -> 0 | BL151: 4 | BM151: -225239003
D152: D | E152: PSV | F152: Práce a dodávky PSV | J152: =BK152 -> 0 | P152: =P153+P199 -> 188.39716 | R152: =R153+R199 -> 2.8760213 | T152: =T153+T199 -> 0 | AR152: 2 | AT152: D | AU152: 0 | AY152: ROZPOCET | BK152: =BK153+BK199 -> 0
D153: D | E153: 762 | F153: Konstrukce tesařské | J153: =BK153 -> 0 | P153: =SUM(P154:P198) -> 117.09942 | R153: =SUM(R154:R198) -> 2.8334747 | T153: =SUM(T154:T198) -> 0 | AR153: 2 | AT153: D | AU153: 1 | AY153: ROZPOCET | BK153: =SUM(BK154:BK198) -> 0
C154: 14 | D154: K | E154: 762523108 | F154: Položení podlahy z hoblovaných fošen na sraz | G154: m2 | H154: 21.3 | I154: 0 | J154: =ROUND(I154*H154,2) -> 0 | N154: základní | O154: 0.341 | P154: =O154*H154 -> 7.2633 | Q154: 0 | R154: =Q154*H154 -> 0 | S154: 0 | T154: =S154*H154 -> 0 | AR154: 16 | AT154: K | AU154: 2 | AY154: ROZPOCET | BE154: =IF(N154="základní",J154,0) -> 0 | BF154: =IF(N154="snížená",J154,0) -> 0 | BG154: =IF(N154="zákl. přenesená",J154,0) -> 0 | BH154: =IF(N154="sníž. přenesená",J154,0) -> 0 | BI154: =IF(N154="nulová",J154,0) -> 0 | BJ154: 1 | BK154: =ROUND(I154*H154,2) -> 0 | BL154: 16 | BM154: -520502510
D155: VV | F155: 7,1*3,0 | H155: 21.3 | AT155: VV | AU155: 2 | AV155: 2 | AW155: True | AX155: 0 | AY155: ROZPOCET
D156: VV | F156: Součet | H156: 21.3 | AT156: VV | AU156: 2 | AV156: 4 | AW156: True | AX156: 1 | AY156: ROZPOCET
C157: 15 | D157: M | E157: 60516111 | F157: řezivo modřínové sušené tl 50mm | G157: m3 | H157: 1.278 | I157: 0 | J157: =ROUND(I157*H157,2) -> 0 | N157: základní | O157: 0 | P157: =O157*H157 -> 0 | Q157: 0.5 | R157: =Q157*H157 -> 0.639 | S157: 0 | T157: =S157*H157 -> 0 | AR157: 32 | AT157: M | AU157: 2 | AY157: ROZPOCET | BE157: =IF(N157="základní",J157,0) -> 0 | BF157: =IF(N157="snížená",J157,0) -> 0 | BG157: =IF(N157="zákl. přenesená",J157,0) -> 0 | BH157: =IF(N157="sníž. přenesená",J157,0) -> 0 | BI157: =IF(N157="nulová",J157,0) -> 0 | BJ157: 1 | BK157: =ROUND(I157*H157,2) -> 0 | BL157: 16 | BM157: 1769571198
D158: VV | F158: 21,3*0,06 'Přepočtené koeficientem množství | H158: 1.278 | AT158: VV | AU158: 2 | AV158: 2 | AW158: False | AX158: 1 | AY158: ROZPOCET
C159: 16 | D159: K | E159: 762713221 | F159: Montáž prostorové vázané kce pomocí tesařských spojů a ocelových spojek z hoblovaného řeziva průřezové pl přes 120 do 224 cm2 | G159: m | H159: 34.08 | I159: 0 | J159: =ROUND(I159*H159,2) -> 0 | N159: základní | O159: 0.622 | P159: =O159*H159 -> 21.19776 | Q159: 0 | R159: =Q159*H159 -> 0 | S159: 0 | T159: =S159*H159 -> 0 | AR159: 16 | AT159: K | AU159: 2 | AY159: ROZPOCET | BE159: =IF(N159="základní",J159,0) -> 0 | BF159: =IF(N159="snížená",J159,0) -> 0 | BG159: =IF(N159="zákl. přenesená",J159,0) -> 0 | BH159: =IF(N159="sníž. přenesená",J159,0) -> 0 | BI159: =IF(N159="nulová",J159,0) -> 0 | BJ159: 1 | BK159: =ROUND(I159*H159,2) -> 0 | BL159: 16 | BM159: 1498452185
D160: VV | F160: Sloupy | AT160: VV | AU160: 2 | AV160: 1 | AW160: True | AX160: 0 | AY160: ROZPOCET
D161: VV | F161: 1,51*12,0 | H161: 18.12 | AT161: VV | AU161: 2 | AV161: 2 | AW161: True | AX161: 0 | AY161: ROZPOCET
D162: VV | F162: Diagonály | AT162: VV | AU162: 2 | AV162: 1 | AW162: True | AX162: 0 | AY162: ROZPOCET
D163: VV | F163: 1,58*2,0 | H163: 3.16 | AT163: VV | AU163: 2 | AV163: 2 | AW163: True | AX163: 0 | AY163: ROZPOCET
D164: VV | F164: Madlo | AT164: VV | AU164: 2 | AV164: 1 | AW164: True | AX164: 0 | AY164: ROZPOCET
D165: VV | F165: 6,4*2,0 | H165: 12.8 | AT165: VV | AU165: 2 | AV165: 2 | AW165: True | AX165: 0 | AY165: ROZPOCET
D166: VV | F166: Součet | H166: 34.08 | AT166: VV | AU166: 2 | AV166: 4 | AW166: True | AX166: 1 | AY166: ROZPOCET
...

Sheet SO.04 - Psí hřiště
L2: >> skryté sloupce << | AT2: {d133f2a1-8a89-4a8f-9611-b1c14addb89b}
AT3: 2
D4: KRYCÍ LIST SOUPISU PRACÍ | M4: v --- níže se nacházejí doplnkové a pomocné údaje k sestavám --- v | AT4: False
D6: Stavba:
E7: ='Rekapitulace stavby'!K6 -> Segment II v okružním parku Zelený pás Líbeznice
D8: Objekt:
E9: SO.04 - Psí hřiště
D11: KSO: | I11: CC-CZ:
D12: Místo: | F12: Líbeznice | I12: Datum: | J12: ='Rekapitulace stavby'!AN8 -> 17. 4. 2025
D14: Zadavatel: | I14: IČ:
E15: Obec Líbeznice | I15: DIČ:
D17: Zhotovitel: | I17: IČ: | J17: ='Rekapitulace stavby'!AN13
E18: ='Rekapitulace stavby'!E14 | I18: DIČ: | J18: ='Rekapitulace stavby'!AN14
D20: Projektant: | I20: IČ:
E21: MENU Architekti s.r.o. | I21: DIČ:
D23: Zpracovatel: | I23: IČ:
E24: MENU Architekti s.r.o. | I24: DIČ:
D26: Poznámka:
D30: Cena bez DPH | J30: =ROUND(J119, 2) -> 0
F32: Základ daně | I32: Sazba daně | J32: Výše daně
D33: DPH | E33: základní | F33: =ROUND((SUM(BE119:BE134)), 2) -> 0 | I33: 0.21 | J33: =ROUND(((SUM(BE119:BE134))*I33), 2) -> 0
E34: snížená | F34: =ROUND((SUM(BF119:BF134)), 2) -> 0 | I34: 0.12 | J34: =ROUND(((SUM(BF119:BF134))*I34), 2) -> 0
E35: zákl. přenesená | F35: =ROUND((SUM(BG119:BG134)), 2) -> 0 | I35: 0.21 | J35: =0 -> 0
E36: sníž. přenesená | F36: =ROUND((SUM(BH119:BH134)), 2) -> 0 | I36: 0.12 | J36: =0 -> 0
E37: nulová | F37: =ROUND((SUM(BI119:BI134)), 2) -> 0 | I37: 0 | J37: =0 -> 0
D39: Cena s DPH | G39: v | H39: CZK | J39: =SUM(J30:J37) -> 0
D50: Projektant | G50: Zpracovatel
D61: Datum a podpis: | F61: Razítko | G61: Datum a podpis: | J61: Razítko
D65: Objednavatel | G65: Zhotovitel
D76: Datum a podpis: | F76: Razítko | G76: Datum a podpis: | J76: Razítko
C82: REKAPITULACE ČLENĚNÍ SOUPISU PRACÍ
C84: Stavba:
E85: =E7 -> Segment II v okružním parku Zelený pás Líbeznice
C86: Objekt:
E87: =E9 -> SO.04 - Psí hřiště
C89: Místo: | F89: =F12 -> Líbeznice | I89: Datum: | J89: =IF(J12="","",J12) -> 17. 4. 2025
C91: Zadavatel: | F91: =E15 -> Obec Líbeznice | I91: Projektant: | J91: =E21 -> MENU Architekti s.r.o.
C92: Zhotovitel: | F92: =IF(E18="","",E18) | I92: Zpracovatel: | J92: =E24 -> MENU Architekti s.r.o.
C94: Kód dílu - Popis | J94: Cena celkem [CZK]
C96: Náklady ze soupisu prací | J96: =J119 -> 0 | AU96: -1
D97: HSV - HSV | J97: =J120 -> 0
D98: D01 - Prvky psí hřiště | J98: =J121 -> 0
D99: D02 - Mobiliář | J99: =J130 -> 0
C106: SOUPIS PRACÍ
C108: Stavba:
E109: =E7 -> Segment II v okružním parku Zelený pás Líbeznice
C110: Objekt:
E111: =E9 -> SO.04 - Psí hřiště
C113: Místo: | F113: =F12 -> Líbeznice | I113: Datum: | J113: =IF(J12="","",J12) -> 17. 4. 2025
C115: Zadavatel: | F115: =E15 -> Obec Líbeznice | I115: Projektant: | J115: =E21 -> MENU Architekti s.r.o.
C116: Zhotovitel: | F116: =IF(E18="","",E18) | I116: Zpracovatel: | J116: =E24 -> MENU Architekti s.r.o.
C118: PČ | D118: Typ | E118: Kód | F118: Popis | G118: MJ | H118: Množství | I118: J.cena [CZK] | J118: Cena celkem [CZK] | K118: Cenová soustava | N118: DPH | O118: J. Nh [h] | P118: Nh celkem [h] | Q118: J. hmotnost [t] | R118: Hmotnost celkem [t] | S118: J. suť [t] | T118: Suť Celkem [t]
C119: Náklady soupisu celkem | J119: =BK119 -> 0 | P119: =P120 -> 0 | R119: =R120 -> 0 | T119: =T120 -> 0 | AT119: D | AU119: -1 | BK119: =BK120 -> 0
D120: D | E120: HSV | F120: HSV | J120: =BK120 -> 0 | P120: =P121+P130 -> 0 | R120: =R121+R130 -> 0 | T120: =T121+T130 -> 0 | AR120: 1 | AT120: D | AU120: 0 | AY120: ROZPOCET | BK120: =BK121+BK130 -> 0
D121: D | E121: D01 | F121: Prvky psí hřiště | J121: =BK121 -> 0 | P121: =SUM(P122:P129) -> 0 | R121: =SUM(R122:R129) -> 0 | T121: =SUM(T122:T129) -> 0 | AR121: 1 | AT121: D | AU121: 1 | AY121: ROZPOCET | BK121: =SUM(BK122:BK129) -> 0
C122: 1 | D122: K | E122: 01 | F122: Dodávka a montáž prvku - C1 - Houpačka | G122: ks | H122: 1 | I122: 0 | J122: =ROUND(I122*H122,2) -> 0 | N122: základní | O122: 0 | P122: =O122*H122 -> 0 | Q122: 0 | R122: =Q122*H122 -> 0 | S122: 0 | T122: =S122*H122 -> 0 | AR122: 4 | AT122: K | AU122: 2 | AY122: ROZPOCET | BE122: =IF(N122="základní",J122,0) -> 0 | BF122: =IF(N122="snížená",J122,0) -> 0 | BG122: =IF(N122="zákl. přenesená",J122,0) -> 0 | BH122: =IF(N122="sníž. přenesená",J122,0) -> 0 | BI122: =IF(N122="nulová",J122,0) -> 0 | BJ122: 1 | BK122: =ROUND(I122*H122,2) -> 0 | BL122: 4 | BM122: -1756519882
C123: 2 | D123: K | E123: 02 | F123: Dodávka a montáž prvku - C2 - Áčko | G123: ks | H123: 1 | I123: 0 | J123: =ROUND(I123*H123,2) -> 0 | N123: základní | O123: 0 | P123: =O123*H123 -> 0 | Q123: 0 | R123: =Q123*H123 -> 0 | S123: 0 | T123: =S123*H123 -> 0 | AR123: 4 | AT123: K | AU123: 2 | AY123: ROZPOCET | BE123: =IF(N123="základní",J123,0) -> 0 | BF123: =IF(N123="snížená",J123,0) -> 0 | BG123: =IF(N123="zákl. přenesená",J123,0) -> 0 | BH123: =IF(N123="sníž. přenesená",J123,0) -> 0 | BI123: =IF(N123="nulová",J123,0) -> 0 | BJ123: 1 | BK123: =ROUND(I123*H123,2) -> 0 | BL123: 4 | BM123: 1380265991
C124: 3 | D124: K | E124: 03 | F124: Dodávka a montáž prvku - C3 - Slalom | G124: ks | H124: 1 | I124: 0 | J124: =ROUND(I124*H124,2) -> 0 | N124: základní | O124: 0 | P124: =O124*H124 -> 0 | Q124: 0 | R124: =Q124*H124 -> 0 | S124: 0 | T124: =S124*H124 -> 0 | AR124: 4 | AT124: K | AU124: 2 | AY124: ROZPOCET | BE124: =IF(N124="základní",J124,0) -> 0 | BF124: =IF(N124="snížená",J124,0) -> 0 | BG124: =IF(N124="zákl. přenesená",J124,0) -> 0 | BH124: =IF(N124="sníž. přenesená",J124,0) -> 0 | BI124: =IF(N124="nulová",J124,0) -> 0 | BJ124: 1 | BK124: =ROUND(I124*H124,2) -> 0 | BL124: 4 | BM124: 377568832
C125: 4 | D125: K | E125: 04 | F125: Dodávka a montáž prvku - C4 - Nízká překážka | G125: ks | H125: 1 | I125: 0 | J125: =ROUND(I125*H125,2) -> 0 | N125: základní | O125: 0 | P125: =O125*H125 -> 0 | Q125: 0 | R125: =Q125*H125 -> 0 | S125: 0 | T125: =S125*H125 -> 0 | AR125: 4 | AT125: K | AU125: 2 | AY125: ROZPOCET | BE125: =IF(N125="základní",J125,0) -> 0 | BF125: =IF(N125="snížená",J125,0) -> 0 | BG125: =IF(N125="zákl. přenesená",J125,0) -> 0 | BH125: =IF(N125="sníž. přenesená",J125,0) -> 0 | BI125: =IF(N125="nulová",J125,0) -> 0 | BJ125: 1 | BK125: =ROUND(I125*H125,2) -> 0 | BL125: 4 | BM125: 1730882752
C126: 5 | D126: K | E126: 05 | F126: Dodávka a montáž prvku - C5 - Kladina | G126: ks | H126: 1 | I126: 0 | J126: =ROUND(I126*H126,2) -> 0 | N126: základní | O126: 0 | P126: =O126*H126 -> 0 | Q126: 0 | R126: =Q126*H126 -> 0 | S126: 0 | T126: =S126*H126 -> 0 | AR126: 4 | AT126: K | AU126: 2 | AY126: ROZPOCET | BE126: =IF(N126="základní",J126,0) -> 0 | BF126: =IF(N126="snížená",J126,0) -> 0 | BG126: =IF(N126="zákl. přenesená",J126,0) -> 0 | BH126: =IF(N126="sníž. přenesená",J126,0) -> 0 | BI126: =IF(N126="nulová",J126,0) -> 0 | BJ126: 1 | BK126: =ROUND(I126*H126,2) -> 0 | BL126: 4 | BM126: -1538163878
C127: 6 | D127: K | E127: 06 | F127: Dodávka a montáž prvku - C6 - Skok daleký | G127: ks | H127: 1 | I127: 0 | J127: =ROUND(I127*H127,2) -> 0 | N127: základní | O127: 0 | P127: =O127*H127 -> 0 | Q127: 0 | R127: =Q127*H127 -> 0 | S127: 0 | T127: =S127*H127 -> 0 | AR127: 4 | AT127: K | AU127: 2 | AY127: ROZPOCET | BE127: =IF(N127="základní",J127,0) -> 0 | BF127: =IF(N127="snížená",J127,0) -> 0 | BG127: =IF(N127="zákl. přenesená",J127,0) -> 0 | BH127: =IF(N127="sníž. přenesená",J127,0) -> 0 | BI127: =IF(N127="nulová",J127,0) -> 0 | BJ127: 1 | BK127: =ROUND(I127*H127,2) -> 0 | BL127: 4 | BM127: 188713830
C128: 7 | D128: K | E128: 07 | F128: Dodávka a montáž prvku - C7 - Přírodní tunel | G128: ks | H128: 1 | I128: 0 | J128: =ROUND(I128*H128,2) -> 0 | N128: základní | O128: 0 | P128: =O128*H128 -> 0 | Q128: 0 | R128: =Q128*H128 -> 0 | S128: 0 | T128: =S128*H128 -> 0 | AR128: 4 | AT128: K | AU128: 2 | AY128: ROZPOCET | BE128: =IF(N128="základní",J128,0) -> 0 | BF128: =IF(N128="snížená",J128,0) -> 0 | BG128: =IF(N128="zákl. přenesená",J128,0) -> 0 | BH128: =IF(N128="sníž. přenesená",J128,0) -> 0 | BI128: =IF(N128="nulová",J128,0) -> 0 | BJ128: 1 | BK128: =ROUND(I128*H128,2) -> 0 | BL128: 4 | BM128: 1193501632
C129: 8 | D129: K | E129: 08 | F129: Dodávka a montáž prvku - C8 - Proskakovací kruh | G129: ks | H129: 1 | I129: 0 | J129: =ROUND(I129*H129,2) -> 0 | N129: základní | O129: 0 | P129: =O129*H129 -> 0 | Q129: 0 | R129: =Q129*H129 -> 0 | S129: 0 | T129: =S129*H129 -> 0 | AR129: 4 | AT129: K | AU129: 2 | AY129: ROZPOCET | BE129: =IF(N129="základní",J129,0) -> 0 | BF129: =IF(N129="snížená",J129,0) -> 0 | BG129: =IF(N129="zákl. přenesená",J129,0) -> 0 | BH129: =IF(N129="sníž. přenesená",J129,0) -> 0 | BI129: =IF(N129="nulová",J129,0) -> 0 | BJ129: 1 | BK129: =ROUND(I129*H129,2) -> 0 | BL129: 4 | BM129: 1164791644
D130: D | E130: D02 | F130: Mobiliář | J130: =BK130 -> 0 | P130: =SUM(P131:P134) -> 0 | R130: =SUM(R131:R134) -> 0 | T130: =SUM(T131:T134) -> 0 | AR130: 1 | AT130: D | AU130: 1 | AY130: ROZPOCET | BK130: =SUM(BK131:BK134) -> 0
C131: 9 | D131: K | E131: 09 | F131: Dodávka a montáž prvku - Odpadový koš | G131: ks | H131: 10 | I131: 0 | J131: =ROUND(I131*H131,2) -> 0 | N131: základní | O131: 0 | P131: =O131*H131 -> 0 | Q131: 0 | R131: =Q131*H131 -> 0 | S131: 0 | T131: =S131*H131 -> 0 | AR131: 4 | AT131: K | AU131: 2 | AY131: ROZPOCET | BE131: =IF(N131="základní",J131,0) -> 0 | BF131: =IF(N131="snížená",J131,0) -> 0 | BG131: =IF(N131="zákl. přenesená",J131,0) -> 0 | BH131: =IF(N131="sníž. přenesená",J131,0) -> 0 | BI131: =IF(N131="nulová",J131,0) -> 0 | BJ131: 1 | BK131: =ROUND(I131*H131,2) -> 0 | BL131: 4 | BM131: 515962585
C132: 10 | D132: K | E132: 10 | F132: Dodávka a montáž prvku - Lavice L01 | G132: ks | H132: 9 | I132: 0 | J132: =ROUND(I132*H132,2) -> 0 | N132: základní | O132: 0 | P132: =O132*H132 -> 0 | Q132: 0 | R132: =Q132*H132 -> 0 | S132: 0 | T132: =S132*H132 -> 0 | AR132: 4 | AT132: K | AU132: 2 | AY132: ROZPOCET | BE132: =IF(N132="základní",J132,0) -> 0 | BF132: =IF(N132="snížená",J132,0) -> 0 | BG132: =IF(N132="zákl. přenesená",J132,0) -> 0 | BH132: =IF(N132="sníž. přenesená",J132,0) -> 0 | BI132: =IF(N132="nulová",J132,0) -> 0 | BJ132: 1 | BK132: =ROUND(I132*H132,2) -> 0 | BL132: 4 | BM132: 894584755
C133: 11 | D133: K | E133: 11 | F133: Dodávka a montáž prvku - Lavice kruhová L02 | G133: ks | H133: 1 | I133: 0 | J133: =ROUND(I133*H133,2) -> 0 | N133: základní | O133: 0 | P133: =O133*H133 -> 0 | Q133: 0 | R133: =Q133*H133 -> 0 | S133: 0 | T133: =S133*H133 -> 0 | AR133: 4 | AT133: K | AU133: 2 | AY133: ROZPOCET | BE133: =IF(N133="základní",J133,0) -> 0 | BF133: =IF(N133="snížená",J133,0) -> 0 | BG133: =IF(N133="zákl. přenesená",J133,0) -> 0 | BH133: =IF(N133="sníž. přenesená",J133,0) -> 0 | BI133: =IF(N133="nulová",J133,0) -> 0 | BJ133: 1 | BK133: =ROUND(I133*H133,2) -> 0 | BL133: 4 | BM133: 374502332
C134: 12 | D134: K | E134: 12 | F134: Dodávka a montáž prvku - Oplocení hřiště | G134: m | H134: 85.31 | I134: 0 | J134: =ROUND(I134*H134,2) -> 0 | N134: základní | O134: 0 | P134: =O134*H134 -> 0 | Q134: 0 | R134: =Q134*H134 -> 0 | S134: 0 | T134: =S134*H134 -> 0 | AR134: 4 | AT134: K | AU134: 2 | AY134: ROZPOCET | BE134: =IF(N134="základní",J134,0) -> 0 | BF134: =IF(N134="snížená",J134,0) -> 0 | BG134: =IF(N134="zákl. přenesená",J134,0) -> 0 | BH134: =IF(N134="sníž. přenesená",J134,0) -> 0 | BI134: =IF(N134="nulová",J134,0) -> 0 | BJ134: 1 | BK134: =ROUND(I134*H134,2) -> 0 | BL134: 4 | BM134: -1233889598

Sheet SO.05 - VRN
L2: >> skryté sloupce << | AT2: {a4b0ace9-8e82-41f6-8d02-63757de827b5}
AT3: 2
D4: KRYCÍ LIST SOUPISU PRACÍ | M4: v --- níže se nacházejí doplnkové a pomocné údaje k sestavám --- v | AT4: False
D6: Stavba:
E7: ='Rekapitulace stavby'!K6 -> Segment II v okružním parku Zelený pás Líbeznice
D8: Objekt:
E9: SO.05 - VRN
D11: KSO: | I11: CC-CZ:
D12: Místo: | F12: Líbeznice | I12: Datum: | J12: ='Rekapitulace stavby'!AN8 -> 17. 4. 2025
D14: Zadavatel: | I14: IČ:
E15: Obec Líbeznice | I15: DIČ:
D17: Zhotovitel: | I17: IČ: | J17: ='Rekapitulace stavby'!AN13
E18: ='Rekapitulace stavby'!E14 | I18: DIČ: | J18: ='Rekapitulace stavby'!AN14
D20: Projektant: | I20: IČ:
E21: MENU Architekti s.r.o. | I21: DIČ:
D23: Zpracovatel: | I23: IČ:
E24: MENU Architekti s.r.o. | I24: DIČ:
D26: Poznámka:
D30: Cena bez DPH | J30: =ROUND(J121, 2) -> 0
F32: Základ daně | I32: Sazba daně | J32: Výše daně
D33: DPH | E33: základní | F33: =ROUND((SUM(BE121:BE130)), 2) -> 0 | I33: 0.21 | J33: =ROUND(((SUM(BE121:BE130))*I33), 2) -> 0
E34: snížená | F34: =ROUND((SUM(BF121:BF130)), 2) -> 0 | I34: 0.12 | J34: =ROUND(((SUM(BF121:BF130))*I34), 2) -> 0
E35: zákl. přenesená | F35: =ROUND((SUM(BG121:BG130)), 2) -> 0 | I35: 0.21 | J35: =0 -> 0
E36: sníž. přenesená | F36: =ROUND((SUM(BH121:BH130)), 2) -> 0 | I36: 0.12 | J36: =0 -> 0
E37: nulová | F37: =ROUND((SUM(BI121:BI130)), 2) -> 0 | I37: 0 | J37: =0 -> 0
D39: Cena s DPH | G39: v | H39: CZK | J39: =SUM(J30:J37) -> 0
D50: Projektant | G50: Zpracovatel
D61: Datum a podpis: | F61: Razítko | G61: Datum a podpis: | J61: Razítko
D65: Objednavatel | G65: Zhotovitel
D76: Datum a podpis: | F76: Razítko | G76: Datum a podpis: | J76: Razítko
C82: REKAPITULACE ČLENĚNÍ SOUPISU PRACÍ
C84: Stavba:
E85: =E7 -> Segment II v okružním parku Zelený pás Líbeznice
C86: Objekt:
E87: =E9 -> SO.05 - VRN
C89: Místo: | F89: =F12 -> Líbeznice | I89: Datum: | J89: =IF(J12="","",J12) -> 17. 4. 2025
C91: Zadavatel: | F91: =E15 -> Obec Líbeznice | I91: Projektant: | J91: =E21 -> MENU Architekti s.r.o.
C92: Zhotovitel: | F92: =IF(E18="","",E18) | I92: Zpracovatel: | J92: =E24 -> MENU Architekti s.r.o.
C94: Kód dílu - Popis | J94: Cena celkem [CZK]
C96: Náklady ze soupisu prací | J96: =J121 -> 0 | AU96: -1
D97: VRN - Vedlejší rozpočtové náklady | J97: =J122 -> 0
D98: VRN2 - Příprava staveniště | J98: =J123 -> 0
D99: VRN3 - Zařízení staveniště | J99: =J125 -> 0
D100: VRN4 - Inženýrská činnost | J100: =J127 -> 0
D101: VRN7 - Provozní vlivy | J101: =J129 -> 0
C108: SOUPIS PRACÍ
C110: Stavba:
E111: =E7 -> Segment II v okružním parku Zelený pás Líbeznice
C112: Objekt:
E113: =E9 -> SO.05 - VRN
C115: Místo: | F115: =F12 -> Líbeznice | I115: Datum: | J115: =IF(J12="","",J12) -> 17. 4. 2025
C117: Zadavatel: | F117: =E15 -> Obec Líbeznice | I117: Projektant: | J117: =E21 -> MENU Architekti s.r.o.
C118: Zhotovitel: | F118: =IF(E18="","",E18) | I118: Zpracovatel: | J118: =E24 -> MENU Architekti s.r.o.
C120: PČ | D120: Typ | E120: Kód | F120: Popis | G120: MJ | H120: Množství | I120: J.cena [CZK] | J120: Cena celkem [CZK] | K120: Cenová soustava | N120: DPH | O120: J. Nh [h] | P120: Nh celkem [h] | Q120: J. hmotnost [t] | R120: Hmotnost celkem [t] | S120: J. suť [t] | T120: Suť Celkem [t]
C121: Náklady soupisu celkem | J121: =BK121 -> 0 | P121: =P122 -> 0 | R121: =R122 -> 0 | T121: =T122 -> 0 | AT121: D | AU121: -1 | BK121: =BK122 -> 0
D122: D | E122: VRN | F122: Vedlejší rozpočtové náklady | J122: =BK122 -> 0 | P122: =P123+P125+P127+P129 -> 0 | R122: =R123+R125+R127+R129 -> 0 | T122: =T123+T125+T127+T129 -> 0 | AR122: 5 | AT122: D | AU122: 0 | AY122: ROZPOCET | BK122: =BK123+BK125+BK127+BK129 -> 0
D123: D | E123: VRN2 | F123: Příprava staveniště | J123: =BK123 -> 0 | P123: =P124 -> 0 | R123: =R124 -> 0 | T123: =T124 -> 0 | AR123: 5 | AT123: D | AU123: 1 | AY123: ROZPOCET | BK123: =BK124 -> 0
C124: 1 | D124: K | E124: 020001000 | F124: Příprava staveniště | G124: kpl | H124: 1 | I124: 0 | J124: =ROUND(I124*H124,2) -> 0 | N124: základní | O124: 0 | P124: =O124*H124 -> 0 | Q124: 0 | R124: =Q124*H124 -> 0 | S124: 0 | T124: =S124*H124 -> 0 | AR124: 1024 | AT124: K | AU124: 2 | AY124: ROZPOCET | BE124: =IF(N124="základní",J124,0) -> 0 | BF124: =IF(N124="snížená",J124,0) -> 0 | BG124: =IF(N124="zákl. přenesená",J124,0) -> 0 | BH124: =IF(N124="sníž. přenesená",J124,0) -> 0 | BI124: =IF(N124="nulová",J124,0) -> 0 | BJ124: 1 | BK124: =ROUND(I124*H124,2) -> 0 | BL124: 1024 | BM124: -591067798
D125: D | E125: VRN3 | F125: Zařízení staveniště | J125: =BK125 -> 0 | P125: =P126 -> 0 | R125: =R126 -> 0 | T125: =T126 -> 0 | AR125: 5 | AT125: D | AU125: 1 | AY125: ROZPOCET | BK125: =BK126 -> 0
C126: 2 | D126: K | E126: 030001000 | F126: Zařízení staveniště | G126: kpl | H126: 1 | I126: 0 | J126: =ROUND(I126*H126,2) -> 0 | N126: základní | O126: 0 | P126: =O126*H126 -> 0 | Q126: 0 | R126: =Q126*H126 -> 0 | S126: 0 | T126: =S126*H126 -> 0 | AR126: 1024 | AT126: K | AU126: 2 | AY126: ROZPOCET | BE126: =IF(N126="základní",J126,0) -> 0 | BF126: =IF(N126="snížená",J126,0) -> 0 | BG126: =IF(N126="zákl. přenesená",J126,0) -> 0 | BH126: =IF(N126="sníž. přenesená",J126,0) -> 0 | BI126: =IF(N126="nulová",J126,0) -> 0 | BJ126: 1 | BK126: =ROUND(I126*H126,2) -> 0 | BL126: 1024 | BM126: -170143037
D127: D | E127: VRN4 | F127: Inženýrská činnost | J127: =BK127 -> 0 | P127: =P128 -> 0 | R127: =R128 -> 0 | T127: =T128 -> 0 | AR127: 5 | AT127: D | AU127: 1 | AY127: ROZPOCET | BK127: =BK128 -> 0
C128: 3 | D128: K | E128: 045002000 | F128: Kompletační a koordinační činnost | G128: kpl | H128: 1 | I128: 0 | J128: =ROUND(I128*H128,2) -> 0 | N128: základní | O128: 0 | P128: =O128*H128 -> 0 | Q128: 0 | R128: =Q128*H128 -> 0 | S128: 0 | T128: =S128*H128 -> 0 | AR128: 1024 | AT128: K | AU128: 2 | AY128: ROZPOCET | BE128: =IF(N128="základní",J128,0) -> 0 | BF128: =IF(N128="snížená",J128,0) -> 0 | BG128: =IF(N128="zákl. přenesená",J128,0) -> 0 | BH128: =IF(N128="sníž. přenesená",J128,0) -> 0 | BI128: =IF(N128="nulová",J128,0) -> 0 | BJ128: 1 | BK128: =ROUND(I128*H128,2) -> 0 | BL128: 1024 | BM128: 1876130015
D129: D | E129: VRN7 | F129: Provozní vlivy | J129: =BK129 -> 0 | P129: =P130 -> 0 | R129: =R130 -> 0 | T129: =T130 -> 0 | AR129: 5 | AT129: D | AU129: 1 | AY129: ROZPOCET | BK129: =BK130 -> 0
C130: 4 | D130: K | E130: 070001000 | F130: Provozní vlivy | G130: kpl | H130: 1 | I130: 0 | J130: =ROUND(I130*H130,2) -> 0 | N130: základní | O130: 0 | P130: =O130*H130 -> 0 | Q130: 0 | R130: =Q130*H130 -> 0 | S130: 0 | T130: =S130*H130 -> 0 | AR130: 1024 | AT130: K | AU130: 2 | AY130: ROZPOCET | BE130: =IF(N130="základní",J130,0) -> 0 | BF130: =IF(N130="snížená",J130,0) -> 0 | BG130: =IF(N130="zákl. přenesená",J130,0) -> 0 | BH130: =IF(N130="sníž. přenesená",J130,0) -> 0 | BI130: =IF(N130="nulová",J130,0) -> 0 | BJ130: 1 | BK130: =ROUND(I130*H130,2) -> 0 | BL130: 1024 | BM130: -489113578
