Workbook

Sheet Rekapitulace stavby
A1: Export Komplet | BA1: 2.0 | BT1: False | BU1: False | BV1: {d1934d9a-7de5-48f1-a2c5-90aaac941e50}
AR2: >> skryté sloupce << | BS2: 0,01 | BT2: 21
BS3: 0,01 | BT3: 12
D4: REKAPITULACE STAVBY | AS4: v --- níže se nacházejí doplnkové a pomocné údaje k sestavám --- v | BS4: 0,001
D5: Kód: | K5: 2025/04 | BS5: 0,01
D6: Stavba: | K6: Segment II v okružním parku Zelený pás Líbeznice | BS6: 0,01
D7: KSO: | AK7: CC-CZ: | BS7: 0,01
D8: Místo: | K8: Líbeznice | AK8: Datum: | AN8: 17. 4. 2025 | BS8: 0,01
BS9: 0,01
D10: Zadavatel: | AK10: IČ: | BS10: 0,01
E11: Obec Líbeznice | AK11: DIČ: | BS11: 0,01
BS12: 0,01
D13: Zhotovitel: | AK13: IČ: | BS13: 0,01
AK14: DIČ: | BS14: 0,01
BS15: False
D16: Projektant: | AK16: IČ: | BS16: False
E17: MENU Architekti s.r.o. | AK17: DIČ: | BS17: True
BS18: 0,01
D19: Zpracovatel: | AK19: IČ: | BS19: 0,01
E20: MENU Architekti s.r.o. | AK20: DIČ: | BS20: True
D22: Poznámka:
D26: Cena bez DPH | AK26: =ROUND(AG94,2) -> 0
L28: Sazba daně | W28: Základ daně | AK28: Výše daně
D29: DPH | F29: základní | L29: 0.21 | W29: =ROUND(AZ94, 2) -> 0 | AK29: =ROUND(AV94, 2) -> 0
F30: snížená | L30: 0.12 | W30: =ROUND(BA94, 2) -> 0 | AK30: =ROUND(AW94, 2) -> 0
F31: zákl. přenesená | L31: 0.21 | W31: =ROUND(BB94, 2) -> 0 | AK31: 0
F32: sníž. přenesená | L32: 0.12 | W32: =ROUND(BC94, 2) -> 0 | AK32: 0
F33: nulová | L33: 0 | W33: =ROUND(BD94, 2) -> 0 | AK33: 0
D35: Cena s DPH | T35: v | X35: CZK | AK35: =SUM(AK26:AK33) -> 0
D49: Projektant | AH49: Zpracovatel
D60: Datum a podpis: | V60: Razítko | AH60: Datum a podpis: | AM60: Razítko
D64: Objednavatel | AH64: Zhotovitel
D75: Datum a podpis: | V75: Razítko | AH75: Datum a podpis: | AM75: Razítko
C82: REKAPITULACE OBJEKTŮ STAVBY A SOUPISŮ PRACÍ
C84: Kód: | L84: =K5 -> 2025/04
C85: Stavba: | L85: =K6 -> Segment II v okružním parku Zelený pás Líbeznice
C87: Místo: | L87: =IF(K8="","",K8) -> Líbeznice | AI87: Datum: | AM87: =IF(AN8= "","",AN8) -> 17. 4. 2025
C89: Zadavatel: | L89: =IF(E11= "","",E11) -> Obec Líbeznice | AI89: Projektant: | AM89: =IF(E17="","",E17) -> MENU Architekti s.r.o. | AS89: Informatívní údaje z listů zakázek
C90: Zhotovitel: | L90: =IF(E14="","",E14) | AI90: Zpracovatel: | AM90: =IF(E20="","",E20) -> MENU Architekti s.r.o.
C92: Kód | I92: Popis | AG92: Cena bez DPH [CZK] | AN92: Cena s DPH [CZK] | AQ92: Typ | AS92: z toho Ostat._x000D_ náklady [CZK] | AT92: DPH [CZK] | AU92: Normohodiny [h] | AV92: DPH základní [CZK] | AW92: DPH snížená [CZK] | AX92: DPH základní přenesená_x000D_ [CZK] | AY92: DPH snížená přenesená_x000D_ [CZK] | AZ92: Základna_x000D_ DPH základní | BA92: Základna_x000D_ DPH snížená | BB92: Základna_x000D_ DPH zákl. přenesená | BC92: Základna_x000D_ DPH sníž. přenesená | BD92: Základna_x000D_ DPH nulová
...

Sheet SO.01 - Terénní úpravy
L2: >> skryté sloupce << | AT2: {c6f6580b-0501-4064-9c1f-30b78706df29}
AT3: 2
D4: KRYCÍ LIST SOUPISU PRACÍ | M4: v --- níže se nacházejí doplnkové a pomocné údaje k sestavám --- v | AT4: False
D6: Stavba:
E7: ='Rekapitulace stavby'!K6 -> Segment II v okružním parku Zelený pás Líbeznice
D8: Objekt:
E9: SO.01 - Terénní úpravy
D11: KSO: | I11: CC-CZ:
D12: Místo: | F12: Líbeznice | I12: Datum: | J12: ='Rekapitulace stavby'!AN8 -> 17. 4. 2025
D14: Zadavatel: | I14: IČ:
E15: Obec Líbeznice | I15: DIČ:
D17: Zhotovitel: | I17: IČ: | J17: ='Rekapitulace stavby'!AN13
E18: ='Rekapitulace stavby'!E14 | I18: DIČ: | J18: ='Rekapitulace stavby'!AN14
D20: Projektant: | I20: IČ:
E21: MENU Architekti s.r.o. | I21: DIČ:
D23: Zpracovatel: | I23: IČ:
E24: MENU Architekti s.r.o. | I24: DIČ:
D26: Poznámka:
D30: Cena bez DPH | J30: =ROUND(J121, 2) -> 0
F32: Základ daně | I32: Sazba daně | J32: Výše daně
D33: DPH | E33: základní | F33: =ROUND((SUM(BE121:BE170)), 2) -> 0 | I33: 0.21 | J33: =ROUND(((SUM(BE121:BE170))*I33), 2) -> 0
E34: snížená | F34: =ROUND((SUM(BF121:BF170)), 2) -> 0 | I34: 0.12 | J34: =ROUND(((SUM(BF121:BF170))*I34), 2) -> 0
E35: zákl. přenesená | F35: =ROUND((SUM(BG121:BG170)), 2) -> 0 | I35: 0.21 | J35: =0 -> 0
E36: sníž. přenesená | F36: =ROUND((SUM(BH121:BH170)), 2) -> 0 | I36: 0.12 | J36: =0 -> 0
E37: nulová | F37: =ROUND((SUM(BI121:BI170)), 2) -> 0 | I37: 0 | J37: =0 -> 0
D39: Cena s DPH | G39: v | H39: CZK | J39: =SUM(J30:J37) -> 0
D50: Projektant | G50: Zpracovatel
D61: Datum a podpis: | F61: Razítko | G61: Datum a podpis: | J61: Razítko
D65: Objednavatel | G65: Zhotovitel
D76: Datum a podpis: | F76: Razítko | G76: Datum a podpis: | J76: Razítko
C82: REKAPITULACE ČLENĚNÍ SOUPISU PRACÍ
C84: Stavba:
E85: =E7 -> Segment II v okružním parku Zelený pás Líbeznice
C86: Objekt:
E87: =E9 -> SO.01 - Terénní úpravy
C89: Místo: | F89: =F12 -> Líbeznice | I89: Datum: | J89: =IF(J12="","",J12) -> 17. 4. 2025
C91: Zadavatel: | F91: =E15 -> Obec Líbeznice | I91: Projektant: | J91: =E21 -> MENU Architekti s.r.o.
C92: Zhotovitel: | F92: =IF(E18="","",E18) | I92: Zpracovatel: | J92: =E24 -> MENU Architekti s.r.o.
C94: Kód dílu - Popis | J94: Cena celkem [CZK]
C96: Náklady ze soupisu prací | J96: =J121 -> 0 | AU96: -1
...

Sheet SO.02 - Sadové úpravy a k...
L2: >> skryté sloupce << | AT2: {939a7001-2f8c-4de1-a2ce-c9582be110aa}
AT3: 2
D4: KRYCÍ LIST SOUPISU PRACÍ | M4: v --- níže se nacházejí doplnkové a pomocné údaje k sestavám --- v | AT4: False
D6: Stavba:
E7: ='Rekapitulace stavby'!K6 -> Segment II v okružním parku Zelený pás Líbeznice
D8: Objekt:
E9: SO.02 - Sadové úpravy a krajina
D11: KSO: | I11: CC-CZ:
D12: Místo: | F12: Líbeznice | I12: Datum: | J12: ='Rekapitulace stavby'!AN8 -> 17. 4. 2025
D14: Zadavatel: | I14: IČ:
E15: Obec Líbeznice | I15: DIČ:
D17: Zhotovitel: | I17: IČ: | J17: ='Rekapitulace stavby'!AN13
E18: ='Rekapitulace stavby'!E14 | I18: DIČ: | J18: ='Rekapitulace stavby'!AN14
D20: Projektant: | I20: IČ:
E21: MENU Architekti s.r.o. | I21: DIČ:
D23: Zpracovatel: | I23: IČ:
E24: MENU Architekti s.r.o. | I24: DIČ:
D26: Poznámka:
D30: Cena bez DPH | J30: =ROUND(J132, 2) -> 0
F32: Základ daně | I32: Sazba daně | J32: Výše daně
D33: DPH | E33: základní | F33: =ROUND((SUM(BE132:BE230)), 2) -> 0 | I33: 0.21 | J33: =ROUND(((SUM(BE132:BE230))*I33), 2) -> 0
E34: snížená | F34: =ROUND((SUM(BF132:BF230)), 2) -> 0 | I34: 0.12 | J34: =ROUND(((SUM(BF132:BF230))*I34), 2) -> 0
E35: zákl. přenesená | F35: =ROUND((SUM(BG132:BG230)), 2) -> 0 | I35: 0.21 | J35: =0 -> 0
E36: sníž. přenesená | F36: =ROUND((SUM(BH132:BH230)), 2) -> 0 | I36: 0.12 | J36: =0 -> 0
E37: nulová | F37: =ROUND((SUM(BI132:BI230)), 2) -> 0 | I37: 0 | J37: =0 -> 0
D39: Cena s DPH | G39: v | H39: CZK | J39: =SUM(J30:J37) -> 0
D50: Projektant | G50: Zpracovatel
D61: Datum a podpis: | F61: Razítko | G61: Datum a podpis: | J61: Razítko
D65: Objednavatel | G65: Zhotovitel
D76: Datum a podpis: | F76: Razítko | G76: Datum a podpis: | J76: Razítko
C82: REKAPITULACE ČLENĚNÍ SOUPISU PRACÍ
C84: Stavba:
E85: =E7 -> Segment II v okružním parku Zelený pás Líbeznice
C86: Objekt:
E87: =E9 -> SO.02 - Sadové úpravy a krajina
C89: Místo: | F89: =F12 -> Líbeznice | I89: Datum: | J89: =IF(J12="","",J12) -> 17. 4. 2025
C91: Zadavatel: | F91: =E15 -> Obec Líbeznice | I91: Projektant: | J91: =E21 -> MENU Architekti s.r.o.
C92: Zhotovitel: | F92: =IF(E18="","",E18) | I92: Zpracovatel: | J92: =E24 -> MENU Architekti s.r.o.
C94: Kód dílu - Popis | J94: Cena celkem [CZK]
C96: Náklady ze soupisu prací | J96: =J132 -> 0 | AU96: -1
...

Sheet SO.03 - Lávka
L2: >> skryté sloupce << | AT2: {88580bfe-aca6-4922-ac63-2820908a011c}
AT3: 2
D4: KRYCÍ LIST SOUPISU PRACÍ | M4: v --- níže se nacházejí doplnkové a pomocné údaje k sestavám --- v | AT4: False
D6: Stavba:
E7: ='Rekapitulace stavby'!K6 -> Segment II v okružním parku Zelený pás Líbeznice
D8: Objekt:
E9: SO.03 - Lávka
D11: KSO: | I11: CC-CZ:
D12: Místo: | F12: Líbeznice | I12: Datum: | J12: ='Rekapitulace stavby'!AN8 -> 17. 4. 2025
D14: Zadavatel: | I14: IČ:
E15: Obec Líbeznice | I15: DIČ:
D17: Zhotovitel: | I17: IČ: | J17: ='Rekapitulace stavby'!AN13
E18: ='Rekapitulace stavby'!E14 | I18: DIČ: | J18: ='Rekapitulace stavby'!AN14
D20: Projektant: | I20: IČ:
E21: MENU Architekti s.r.o. | I21: DIČ:
D23: Zpracovatel: | I23: IČ:
E24: MENU Architekti s.r.o. | I24: DIČ:
D26: Poznámka:
D30: Cena bez DPH | J30: =ROUND(J123, 2) -> 0
F32: Základ daně | I32: Sazba daně | J32: Výše daně
D33: DPH | E33: základní | F33: =ROUND((SUM(BE123:BE218)), 2) -> 0 | I33: 0.21 | J33: =ROUND(((SUM(BE123:BE218))*I33), 2) -> 0
E34: snížená | F34: =ROUND((SUM(BF123:BF218)), 2) -> 0 | I34: 0.12 | J34: =ROUND(((SUM(BF123:BF218))*I34), 2) -> 0
E35: zákl. přenesená | F35: =ROUND((SUM(BG123:BG218)), 2) -> 0 | I35: 0.21 | J35: =0 -> 0
E36: sníž. přenesená | F36: =ROUND((SUM(BH123:BH218)), 2) -> 0 | I36: 0.12 | J36: =0 -> 0
E37: nulová | F37: =ROUND((SUM(BI123:BI218)), 2) -> 0 | I37: 0 | J37: =0 -> 0
D39: Cena s DPH | G39: v | H39: CZK | J39: =SUM(J30:J37) -> 0
D50: Projektant | G50: Zpracovatel
D61: Datum a podpis: | F61: Razítko | G61: Datum a podpis: | J61: Razítko
D65: Objednavatel | G65: Zhotovitel
D76: Datum a podpis: | F76: Razítko | G76: Datum a podpis: | J76: Razítko
C82: REKAPITULACE ČLENĚNÍ SOUPISU PRACÍ
C84: Stavba:
E85: =E7 -> Segment II v okružním parku Zelený pás Líbeznice
C86: Objekt:
E87: =E9 -> SO.03 - Lávka
C89: Místo: | F89: =F12 -> Líbeznice | I89: Datum: | J89: =IF(J12="","",J12) -> 17. 4. 2025
C91: Zadavatel: | F91: =E15 -> Obec Líbeznice | I91: Projektant: | J91: =E21 -> MENU Architekti s.r.o.
C92: Zhotovitel: | F92: =IF(E18="","",E18) | I92: Zpracovatel: | J92: =E24 -> MENU Architekti s.r.o.
C94: Kód dílu - Popis | J94: Cena celkem [CZK]
C96: Náklady ze soupisu prací | J96: =J123 -> 0 | AU96: -1
...

Sheet SO.04 - Psí hřiště
L2: >> skryté sloupce << | AT2: {d133f2a1-8a89-4a8f-9611-b1c14addb89b}
AT3: 2
D4: KRYCÍ LIST SOUPISU PRACÍ | M4: v --- níže se nacházejí doplnkové a pomocné údaje k sestavám --- v | AT4: False
D6: Stavba:
E7: ='Rekapitulace stavby'!K6 -> Segment II v okružním parku Zelený pás Líbeznice
D8: Objekt:
E9: SO.04 - Psí hřiště
D11: KSO: | I11: CC-CZ:
D12: Místo: | F12: Líbeznice | I12: Datum: | J12: ='Rekapitulace stavby'!AN8 -> 17. 4. 2025
D14: Zadavatel: | I14: IČ:
E15: Obec Líbeznice | I15: DIČ:
D17: Zhotovitel: | I17: IČ: | J17: ='Rekapitulace stavby'!AN13
E18: ='Rekapitulace stavby'!E14 | I18: DIČ: | J18: ='Rekapitulace stavby'!AN14
D20: Projektant: | I20: IČ:
E21: MENU Architekti s.r.o. | I21: DIČ:
D23: Zpracovatel: | I23: IČ:
E24: MENU Architekti s.r.o. | I24: DIČ:
D26: Poznámka:
D30: Cena bez DPH | J30: =ROUND(J119, 2) -> 0
F32: Základ daně | I32: Sazba daně | J32: Výše daně
D33: DPH | E33: základní | F33: =ROUND((SUM(BE119:BE134)), 2) -> 0 | I33: 0.21 | J33: =ROUND(((SUM(BE119:BE134))*I33), 2) -> 0
E34: snížená | F34: =ROUND((SUM(BF119:BF134)), 2) -> 0 | I34: 0.12 | J34: =ROUND(((SUM(BF119:BF134))*I34), 2) -> 0
E35: zákl. přenesená | F35: =ROUND((SUM(BG119:BG134)), 2) -> 0 | I35: 0.21 | J35: =0 -> 0
E36: sníž. přenesená | F36: =ROUND((SUM(BH119:BH134)), 2) -> 0 | I36: 0.12 | J36: =0 -> 0
E37: nulová | F37: =ROUND((SUM(BI119:BI134)), 2) -> 0 | I37: 0 | J37: =0 -> 0
D39: Cena s DPH | G39: v | H39: CZK | J39: =SUM(J30:J37) -> 0
D50: Projektant | G50: Zpracovatel
D61: Datum a podpis: | F61: Razítko | G61: Datum a podpis: | J61: Razítko
D65: Objednavatel | G65: Zhotovitel
D76: Datum a podpis: | F76: Razítko | G76: Datum a podpis: | J76: Razítko
C82: REKAPITULACE ČLENĚNÍ SOUPISU PRACÍ
C84: Stavba:
E85: =E7 -> Segment II v okružním parku Zelený pás Líbeznice
C86: Objekt:
E87: =E9 -> SO.04 - Psí hřiště
C89: Místo: | F89: =F12 -> Líbeznice | I89: Datum: | J89: =IF(J12="","",J12) -> 17. 4. 2025
C91: Zadavatel: | F91: =E15 -> Obec Líbeznice | I91: Projektant: | J91: =E21 -> MENU Architekti s.r.o.
C92: Zhotovitel: | F92: =IF(E18="","",E18) | I92: Zpracovatel: | J92: =E24 -> MENU Architekti s.r.o.
C94: Kód dílu - Popis | J94: Cena celkem [CZK]
C96: Náklady ze soupisu prací | J96: =J119 -> 0 | AU96: -1
...

Sheet SO.05 - VRN
L2: >> skryté sloupce << | AT2: {a4b0ace9-8e82-41f6-8d02-63757de827b5}
AT3: 2
D4: KRYCÍ LIST SOUPISU PRACÍ | M4: v --- níže se nacházejí doplnkové a pomocné údaje k sestavám --- v | AT4: False
D6: Stavba:
E7: ='Rekapitulace stavby'!K6 -> Segment II v okružním parku Zelený pás Líbeznice
D8: Objekt:
E9: SO.05 - VRN
D11: KSO: | I11: CC-CZ:
D12: Místo: | F12: Líbeznice | I12: Datum: | J12: ='Rekapitulace stavby'!AN8 -> 17. 4. 2025
D14: Zadavatel: | I14: IČ:
E15: Obec Líbeznice | I15: DIČ:
D17: Zhotovitel: | I17: IČ: | J17: ='Rekapitulace stavby'!AN13
E18: ='Rekapitulace stavby'!E14 | I18: DIČ: | J18: ='Rekapitulace stavby'!AN14
D20: Projektant: | I20: IČ:
E21: MENU Architekti s.r.o. | I21: DIČ:
D23: Zpracovatel: | I23: IČ:
E24: MENU Architekti s.r.o. | I24: DIČ:
D26: Poznámka:
D30: Cena bez DPH | J30: =ROUND(J121, 2) -> 0
F32: Základ daně | I32: Sazba daně | J32: Výše daně
D33: DPH | E33: základní | F33: =ROUND((SUM(BE121:BE130)), 2) -> 0 | I33: 0.21 | J33: =ROUND(((SUM(BE121:BE130))*I33), 2) -> 0
E34: snížená | F34: =ROUND((SUM(BF121:BF130)), 2) -> 0 | I34: 0.12 | J34: =ROUND(((SUM(BF121:BF130))*I34), 2) -> 0
E35: zákl. přenesená | F35: =ROUND((SUM(BG121:BG130)), 2) -> 0 | I35: 0.21 | J35: =0 -> 0
E36: sníž. přenesená | F36: =ROUND((SUM(BH121:BH130)), 2) -> 0 | I36: 0.12 | J36: =0 -> 0
E37: nulová | F37: =ROUND((SUM(BI121:BI130)), 2) -> 0 | I37: 0 | J37: =0 -> 0
D39: Cena s DPH | G39: v | H39: CZK | J39: =SUM(J30:J37) -> 0
D50: Projektant | G50: Zpracovatel
D61: Datum a podpis: | F61: Razítko | G61: Datum a podpis: | J61: Razítko
D65: Objednavatel | G65: Zhotovitel
D76: Datum a podpis: | F76: Razítko | G76: Datum a podpis: | J76: Razítko
C82: REKAPITULACE ČLENĚNÍ SOUPISU PRACÍ
C84: Stavba:
E85: =E7 -> Segment II v okružním parku Zelený pás Líbeznice
C86: Objekt:
E87: =E9 -> SO.05 - VRN
C89: Místo: | F89: =F12 -> Líbeznice | I89: Datum: | J89: =IF(J12="","",J12) -> 17. 4. 2025
C91: Zadavatel: | F91: =E15 -> Obec Líbeznice | I91: Projektant: | J91: =E21 -> MENU Architekti s.r.o.
C92: Zhotovitel: | F92: =IF(E18="","",E18) | I92: Zpracovatel: | J92: =E24 -> MENU Architekti s.r.o.
C94: Kód dílu - Popis | J94: Cena celkem [CZK]
C96: Náklady ze soupisu prací | J96: =J121 -> 0 | AU96: -1
...
