Workbook

Sheet Rekapitulace stavby
A1: Export Komplet | BA1: 2.0 | BB1: ZAMOK | BT1: False | BU1: False | BV1: {4fc29be2-c6ee-4291-ae04-46a490c56c39}
BS2: 0,01 | BT2: 21
BS3: 0,01 | BT3: 12
D4: REKAPITULACE STAVBY | AS4: v --- níže se nacházejí doplnkové a pomocné údaje k sestavám --- v | BE4: Návod na vyplnění | BS4: 0,001
D5: Kód: | K5: VL-0125 | BE5: Měnit lze pouze buňky se žlutým podbarvením!_x000D_ _x000D_ 1) na prvním listu Rekapitulace stavby vyplňte v sestavě_x000D_ _x000D_ a) Souhrnný list_x000D_ - údaje o Uchazeči_x000D_ (přenesou se do ostatních sestav i v jiných listech)_x000D_ _x000D_ b) Rekapitulace objektů_x000D_ - potřebné Ostatní náklady_x000D_ _x000D_ 2) na vybraných listech vyplňte v sestavě_x000D_ _x000D_ a) Krycí list_x000D_ - údaje o Uchazeči, pokud se liší od údajů o Uchazeči na Souhrnném listu_x000D_ (údaje se přenesou do ostatních sestav v daném listu)_x000D_ _x000D_ b) Rekapitulace rozpočtu_x000D_ - potřebné Ostatní náklady_x000D_ _x000D_ c) Celkové náklady za stavbu_x000D_ - ceny u položek_x000D_ - množství, pokud má žluté podbarvení_x000D_ - a v případě potřeby poznámku (ta je ve skrytém sloupci) | BS5: 0,01
D6: Stavba: | K6: REKONSTRUKCE DEŠŤOVÉ KANALIZACE NA PARC.Č.731/1, 765/1 A 796/8 V K.Ú. VLASTISLAV | BS6: 0,01
D7: KSO: | K7: 827 21 42 | AK7: CC-CZ: | AN7: 22231 | BS7: 0,01
D8: Místo: | K8: Vlastislav | AK8: Datum: | AN8: 30. 1. 2025 | BS8: 0,01
BS9: 0,01
D10: Zadavatel: | AK10: IČ: | AN10: 00481661 | BS10: 0,01
E11: Obec Vlastislav | AK11: DIČ: | BS11: 0,01
BS12: 0,01
D13: Uchazeč: | AK13: IČ: | AN13: Vyplň údaj | BS13: 0,01
E14: Vyplň údaj | AK14: DIČ: | AN14: Vyplň údaj | BS14: 0,01
BS15: False
D16: Projektant: | AK16: IČ: | AN16: 03547418 | BS16: False
E17: Ing. Daniel Picka, Ph.D. | AK17: DIČ: | BS17: True
BS18: 0,01
D19: Zpracovatel: | AK19: IČ: | AN19: 87710251 | BS19: 0,01
E20: Ing. Petr Jarkovský | AK20: DIČ: | BS20: True
D22: Poznámka:
E23: Soupis prací je sestaven s využitím položek Cenové soustavy ÚRS.Cenové a technické podmínky položek Cenové soustavy ÚRS, které nejsou uvedeny v soupisu prací (informace z tzv.úvodních katalogů) jsou neomezeně dálkově k dispozici na www.cs-urs.cz. Položky soupisu prací, které nemají ve sloupci ,,Cenová soustava" uveden žádný údaj, nepochází z Cenové soustavy ÚRS._x000D_ Výkaz výměr nemusí být úplný, ani vyčerpávající. Pokud Zhotovilel shledá nezbytně nutným doplnit další položky do výkazu výměr, pak lze tak učinit pouze se souhlasem zástupce Objednatele - na tuto skutečnost pak Zhotovitel přehledně upozorní v průvodním dopise k nabídce. Upozorňujeme, že nabídku lze odpovědně zpracovat pouze na základě kompletní dokumentace, tzn. průvodní a souhrnné části dokumentace, příslušné textové a výkresové části, výkazů výměr. Tento dokument byl vytvořen z výkresové a textové dokumentace projektu.
D26: Cena bez DPH | AK26: =ROUND(AG94,2) -> 0
L28: Sazba daně | W28: Základ daně | AK28: Výše daně
D29: DPH | F29: základní | L29: 0.21 | W29: =ROUND(AZ94, 2) -> 0 | AK29: =ROUND(AV94, 2) -> 0
F30: snížená | L30: 0.12 | W30: =ROUND(BA94, 2) -> 0 | AK30: =ROUND(AW94, 2) -> 0
F31: zákl. přenesená | L31: 0.21 | W31: =ROUND(BB94, 2) -> 0 | AK31: 0
F32: sníž. přenesená | L32: 0.12 | W32: =ROUND(BC94, 2) -> 0 | AK32: 0
F33: nulová | L33: 0 | W33: =ROUND(BD94, 2) -> 0 | AK33: 0
D35: Cena s DPH | T35: v | X35: CZK | AK35: =SUM(AK26:AK33) -> 0
D49: Projektant | AH49: Zpracovatel
D60: Datum a podpis: | V60: Razítko | AH60: Datum a podpis: | AM60: Razítko
D64: Objednavatel | AH64: Uchazeč
D75: Datum a podpis: | V75: Razítko | AH75: Datum a podpis: | AM75: Razítko
C82: REKAPITULACE OBJEKTŮ STAVBY A SOUPISŮ PRACÍ
C84: Kód: | L84: =K5 -> VL-0125
C85: Stavba: | L85: =K6 -> REKONSTRUKCE DEŠŤOVÉ KANALIZACE NA PARC.Č.731/1, 765/1 A 796/8 V K.Ú. VLASTISLAV
C87: Místo: | L87: =IF(K8="","",K8) -> Vlastislav | AI87: Datum: | AM87: =IF(AN8= "","",AN8) -> 30. 1. 2025
C89: Zadavatel: | L89: =IF(E11= "","",E11) -> Obec Vlastislav | AI89: Projektant: | AM89: =IF(E17="","",E17) -> Ing. Daniel Picka, Ph.D. | AS89: Informatívní údaje z listů zakázek
C90: Uchazeč: | L90: =IF(E14= "Vyplň údaj","",E14) | AI90: Zpracovatel: | AM90: =IF(E20="","",E20) -> Ing. Petr Jarkovský
...

Sheet SO 01 - Rekonstrukce dešť...
AT2: {93b8d692-d9ef-4a8c-9b6d-fbad7f91f498}
AT3: 2
D4: KRYCÍ LIST SOUPISU PRACÍ | M4: v --- níže se nacházejí doplnkové a pomocné údaje k sestavám --- v | AT4: False
D6: Stavba:
E7: ='Rekapitulace stavby'!K6 -> REKONSTRUKCE DEŠŤOVÉ KANALIZACE NA PARC.Č.731/1, 765/1 A 796/8 V K.Ú. VLASTISLAV
D8: Objekt:
E9: SO 01 - Rekonstrukce dešťové kanalizace
D11: KSO: | F11: 827 21 42 | I11: CC-CZ:
D12: Místo: | F12: Vlastislav | I12: Datum: | J12: ='Rekapitulace stavby'!AN8 -> 30. 1. 2025
D14: Zadavatel: | I14: IČ: | J14: 00481661
E15: Obec Vlastislav | I15: DIČ:
D17: Uchazeč: | I17: IČ: | J17: ='Rekapitulace stavby'!AN13 -> Vyplň údaj
E18: ='Rekapitulace stavby'!E14 -> Vyplň údaj | I18: DIČ: | J18: ='Rekapitulace stavby'!AN14 -> Vyplň údaj
D20: Projektant: | I20: IČ: | J20: 03547418
E21: Ing. Daniel Picka, Ph.D. | I21: DIČ:
D23: Zpracovatel: | I23: IČ: | J23: 87710251
E24: Ing. Petr Jarkovský | I24: DIČ:
D26: Poznámka:
E27: Soupis prací je sestaven s využitím položek Cenové soustavy ÚRS.Cenové a technické podmínky položek Cenové soustavy ÚRS, které nejsou uvedeny v soupisu prací (informace z tzv.úvodních katalogů) jsou neomezeně dálkově k dispozici na www.cs-urs.cz. Položky soupisu prací, které nemají ve sloupci ,,Cenová soustava" uveden žádný údaj, nepochází z Cenové soustavy ÚRS. Výkaz výměr nemusí být úplný, ani vyčerpávající. Pokud Zhotovilel shledá nezbytně nutným doplnit další položky do výkazu výměr, pak lze tak učinit pouze se souhlasem zástupce Objednatele - na tuto skutečnost pak Zhotovitel přehledně upozorní v průvodním dopise k nabídce. Upozorňujeme, že nabídku lze odpovědně zpracovat pouze na základě kompletní dokumentace, tzn. průvodní a souhrnné části dokumentace, příslušné textové a výkresové části, výkazů výměr. Tento dokument byl vytvořen z výkresové a textové dokumentace projektu.
D30: Cena bez DPH | J30: =ROUND(J124, 2) -> 0
F32: Základ daně | I32: Sazba daně | J32: Výše daně
D33: DPH | E33: základní | F33: =ROUND((SUM(BE124:BE691)), 2) -> 0 | I33: 0.21 | J33: =ROUND(((SUM(BE124:BE691))*I33), 2) -> 0
E34: snížená | F34: =ROUND((SUM(BF124:BF691)), 2) -> 0 | I34: 0.12 | J34: =ROUND(((SUM(BF124:BF691))*I34), 2) -> 0
E35: zákl. přenesená | F35: =ROUND((SUM(BG124:BG691)), 2) -> 0 | I35: 0.21 | J35: =0 -> 0
E36: sníž. přenesená | F36: =ROUND((SUM(BH124:BH691)), 2) -> 0 | I36: 0.12 | J36: =0 -> 0
E37: nulová | F37: =ROUND((SUM(BI124:BI691)), 2) -> 0 | I37: 0 | J37: =0 -> 0
D39: Cena s DPH | G39: v | H39: CZK | J39: =SUM(J30:J37) -> 0
D50: Projektant | G50: Zpracovatel
D61: Datum a podpis: | F61: Razítko | G61: Datum a podpis: | J61: Razítko
D65: Objednavatel | G65: Uchazeč
D76: Datum a podpis: | F76: Razítko | G76: Datum a podpis: | J76: Razítko
C82: REKAPITULACE ČLENĚNÍ SOUPISU PRACÍ
C84: Stavba:
E85: =E7 -> REKONSTRUKCE DEŠŤOVÉ KANALIZACE NA PARC.Č.731/1, 765/1 A 796/8 V K.Ú. VLASTISLAV
C86: Objekt:
E87: =E9 -> SO 01 - Rekonstrukce dešťové kanalizace
C89: Místo: | F89: =F12 -> Vlastislav | I89: Datum: | J89: =IF(J12="","",J12) -> 30. 1. 2025
C91: Zadavatel: | F91: =E15 -> Obec Vlastislav | I91: Projektant: | J91: =E21 -> Ing. Daniel Picka, Ph.D.
C92: Uchazeč: | F92: =IF(E18="","",E18) -> Vyplň údaj | I92: Zpracovatel: | J92: =E24 -> Ing. Petr Jarkovský
C94: Kód dílu - Popis | J94: Cena celkem [CZK]
...

Sheet VON - Vedlejší a ostatní ...
AT2: {8f143d20-8e82-485f-82c2-25c9d96edf08}
AT3: 2
D4: KRYCÍ LIST SOUPISU PRACÍ | M4: v --- níže se nacházejí doplnkové a pomocné údaje k sestavám --- v | AT4: False
D6: Stavba:
E7: ='Rekapitulace stavby'!K6 -> REKONSTRUKCE DEŠŤOVÉ KANALIZACE NA PARC.Č.731/1, 765/1 A 796/8 V K.Ú. VLASTISLAV
D8: Objekt:
E9: VON - Vedlejší a ostatní náklady
D11: KSO: | F11: 827 21 42 | I11: CC-CZ:
D12: Místo: | F12: Vlastislav | I12: Datum: | J12: ='Rekapitulace stavby'!AN8 -> 30. 1. 2025
D14: Zadavatel: | I14: IČ: | J14: 00481661
E15: Obec Vlastislav | I15: DIČ:
D17: Uchazeč: | I17: IČ: | J17: ='Rekapitulace stavby'!AN13 -> Vyplň údaj
E18: ='Rekapitulace stavby'!E14 -> Vyplň údaj | I18: DIČ: | J18: ='Rekapitulace stavby'!AN14 -> Vyplň údaj
D20: Projektant: | I20: IČ: | J20: 03547418
E21: Ing. Daniel Picka, Ph.D. | I21: DIČ:
D23: Zpracovatel: | I23: IČ: | J23: 87710251
E24: Ing. Petr Jarkovský | I24: DIČ:
D26: Poznámka:
E27: Soupis prací je sestaven s využitím položek Cenové soustavy ÚRS.Cenové a technické podmínky položek Cenové soustavy ÚRS, které nejsou uvedeny v soupisu prací (informace z tzv.úvodních katalogů) jsou neomezeně dálkově k dispozici na www.cs-urs.cz. Položky soupisu prací, které nemají ve sloupci ,,Cenová soustava" uveden žádný údaj, nepochází z Cenové soustavy ÚRS. Výkaz výměr nemusí být úplný, ani vyčerpávající. Pokud Zhotovilel shledá nezbytně nutným doplnit další položky do výkazu výměr, pak lze tak učinit pouze se souhlasem zástupce Objednatele - na tuto skutečnost pak Zhotovitel přehledně upozorní v průvodním dopise k nabídce. Upozorňujeme, že nabídku lze odpovědně zpracovat pouze na základě kompletní dokumentace, tzn. průvodní a souhrnné části dokumentace, příslušné textové a výkresové části, výkazů výměr. Tento dokument byl vytvořen z výkresové a textové dokumentace projektu.
D30: Cena bez DPH | J30: =ROUND(J122, 2) -> 0
F32: Základ daně | I32: Sazba daně | J32: Výše daně
D33: DPH | E33: základní | F33: =ROUND((SUM(BE122:BE166)), 2) -> 0 | I33: 0.21 | J33: =ROUND(((SUM(BE122:BE166))*I33), 2) -> 0
E34: snížená | F34: =ROUND((SUM(BF122:BF166)), 2) -> 0 | I34: 0.12 | J34: =ROUND(((SUM(BF122:BF166))*I34), 2) -> 0
E35: zákl. přenesená | F35: =ROUND((SUM(BG122:BG166)), 2) -> 0 | I35: 0.21 | J35: =0 -> 0
E36: sníž. přenesená | F36: =ROUND((SUM(BH122:BH166)), 2) -> 0 | I36: 0.12 | J36: =0 -> 0
E37: nulová | F37: =ROUND((SUM(BI122:BI166)), 2) -> 0 | I37: 0 | J37: =0 -> 0
D39: Cena s DPH | G39: v | H39: CZK | J39: =SUM(J30:J37) -> 0
D50: Projektant | G50: Zpracovatel
D61: Datum a podpis: | F61: Razítko | G61: Datum a podpis: | J61: Razítko
D65: Objednavatel | G65: Uchazeč
D76: Datum a podpis: | F76: Razítko | G76: Datum a podpis: | J76: Razítko
C82: REKAPITULACE ČLENĚNÍ SOUPISU PRACÍ
C84: Stavba:
E85: =E7 -> REKONSTRUKCE DEŠŤOVÉ KANALIZACE NA PARC.Č.731/1, 765/1 A 796/8 V K.Ú. VLASTISLAV
C86: Objekt:
E87: =E9 -> VON - Vedlejší a ostatní náklady
C89: Místo: | F89: =F12 -> Vlastislav | I89: Datum: | J89: =IF(J12="","",J12) -> 30. 1. 2025
C91: Zadavatel: | F91: =E15 -> Obec Vlastislav | I91: Projektant: | J91: =E21 -> Ing. Daniel Picka, Ph.D.
C92: Uchazeč: | F92: =IF(E18="","",E18) -> Vyplň údaj | I92: Zpracovatel: | J92: =E24 -> Ing. Petr Jarkovský
C94: Kód dílu - Popis | J94: Cena celkem [CZK]
...
