Workbook

Sheet Rekapitulace stavby
A1: Export Komplet | BA1: 2.0 | BB1: ZAMOK | BT1: False | BU1: False | BV1: {4fc29be2-c6ee-4291-ae04-46a490c56c39}
BS2: 0,01 | BT2: 21
BS3: 0,01 | BT3: 12
D4: REKAPITULACE STAVBY | AS4: v --- níže se nacházejí doplnkové a pomocné údaje k sestavám --- v | BE4: Návod na vyplnění | BS4: 0,001
D5: Kód: | K5: VL-0125 | BE5: Měnit lze pouze buňky se žlutým podbarvením!_x000D_ _x000D_ 1) na prvním listu Rekapitulace stavby vyplňte v sestavě_x000D_ _x000D_ a) Souhrnný list_x000D_ - údaje o Uchazeči_x000D_ (přenesou se do ostatních sestav i v jiných listech)_x000D_ _x000D_ b) Rekapitulace objektů_x000D_ - potřebné Ostatní náklady_x000D_ _x000D_ 2) na vybraných listech vyplňte v sestavě_x000D_ _x000D_ a) Krycí list_x000D_ - údaje o Uchazeči, pokud se liší od údajů o Uchazeči na Souhrnném listu_x000D_ (údaje se přenesou do ostatních sestav v daném listu)_x000D_ _x000D_ b) Rekapitulace rozpočtu_x000D_ - potřebné Ostatní náklady_x000D_ _x000D_ c) Celkové náklady za stavbu_x000D_ - ceny u položek_x000D_ - množství, pokud má žluté podbarvení_x000D_ - a v případě potřeby poznámku (ta je ve skrytém sloupci) | BS5: 0,01
D6: Stavba: | K6: REKONSTRUKCE DEŠŤOVÉ KANALIZACE NA PARC.Č.731/1, 765/1 A 796/8 V K.Ú. VLASTISLAV | BS6: 0,01
D7: KSO: | K7: 827 21 42 | AK7: CC-CZ: | AN7: 22231 | BS7: 0,01
D8: Místo: | K8: Vlastislav | AK8: Datum: | AN8: 30. 1. 2025 | BS8: 0,01
BS9: 0,01
D10: Zadavatel: | AK10: IČ: | AN10: 00481661 | BS10: 0,01
E11: Obec Vlastislav | AK11: DIČ: | BS11: 0,01
BS12: 0,01
D13: Uchazeč: | AK13: IČ: | AN13: Vyplň údaj | BS13: 0,01
E14: Vyplň údaj | AK14: DIČ: | AN14: Vyplň údaj | BS14: 0,01
BS15: False
D16: Projektant: | AK16: IČ: | AN16: 03547418 | BS16: False
E17: Ing. Daniel Picka, Ph.D. | AK17: DIČ: | BS17: True
BS18: 0,01
D19: Zpracovatel: | AK19: IČ: | AN19: 87710251 | BS19: 0,01
E20: Ing. Petr Jarkovský | AK20: DIČ: | BS20: True
D22: Poznámka:
E23: Soupis prací je sestaven s využitím položek Cenové soustavy ÚRS.Cenové a technické podmínky položek Cenové soustavy ÚRS, které nejsou uvedeny v soupisu prací (informace z tzv.úvodních katalogů) jsou neomezeně dálkově k dispozici na www.cs-urs.cz. Položky soupisu prací, které nemají ve sloupci ,,Cenová soustava" uveden žádný údaj, nepochází z Cenové soustavy ÚRS._x000D_ Výkaz výměr nemusí být úplný, ani vyčerpávající. Pokud Zhotovilel shledá nezbytně nutným doplnit další položky do výkazu výměr, pak lze tak učinit pouze se souhlasem zástupce Objednatele - na tuto skutečnost pak Zhotovitel přehledně upozorní v průvodním dopise k nabídce. Upozorňujeme, že nabídku lze odpovědně zpracovat pouze na základě kompletní dokumentace, tzn. průvodní a souhrnné části dokumentace, příslušné textové a výkresové části, výkazů výměr. Tento dokument byl vytvořen z výkresové a textové dokumentace projektu.
D26: Cena bez DPH | AK26: =ROUND(AG94,2) -> 0
L28: Sazba daně | W28: Základ daně | AK28: Výše daně
D29: DPH | F29: základní | L29: 0.21 | W29: =ROUND(AZ94, 2) -> 0 | AK29: =ROUND(AV94, 2) -> 0
F30: snížená | L30: 0.12 | W30: =ROUND(BA94, 2) -> 0 | AK30: =ROUND(AW94, 2) -> 0
F31: zákl. přenesená | L31: 0.21 | W31: =ROUND(BB94, 2) -> 0 | AK31: 0
F32: sníž. přenesená | L32: 0.12 | W32: =ROUND(BC94, 2) -> 0 | AK32: 0
F33: nulová | L33: 0 | W33: =ROUND(BD94, 2) -> 0 | AK33: 0
D35: Cena s DPH | T35: v | X35: CZK | AK35: =SUM(AK26:AK33) -> 0
D49: Projektant | AH49: Zpracovatel
D60: Datum a podpis: | V60: Razítko | AH60: Datum a podpis: | AM60: Razítko
D64: Objednavatel | AH64: Uchazeč
D75: Datum a podpis: | V75: Razítko | AH75: Datum a podpis: | AM75: Razítko
C82: REKAPITULACE OBJEKTŮ STAVBY A SOUPISŮ PRACÍ
C84: Kód: | L84: =K5 -> VL-0125
C85: Stavba: | L85: =K6 -> REKONSTRUKCE DEŠŤOVÉ KANALIZACE NA PARC.Č.731/1, 765/1 A 796/8 V K.Ú. VLASTISLAV
C87: Místo: | L87: =IF(K8="","",K8) -> Vlastislav | AI87: Datum: | AM87: =IF(AN8= "","",AN8) -> 30. 1. 2025
C89: Zadavatel: | L89: =IF(E11= "","",E11) -> Obec Vlastislav | AI89: Projektant: | AM89: =IF(E17="","",E17) -> Ing. Daniel Picka, Ph.D. | AS89: Informatívní údaje z listů zakázek
C90: Uchazeč: | L90: =IF(E14= "Vyplň údaj","",E14) | AI90: Zpracovatel: | AM90: =IF(E20="","",E20) -> Ing. Petr Jarkovský
C92: Kód | I92: Popis | AG92: Cena bez DPH [CZK] | AN92: Cena s DPH [CZK] | AQ92: Typ | AS92: z toho Ostat._x000D_ náklady [CZK] | AT92: DPH [CZK] | AU92: Normohodiny [h] | AV92: DPH základní [CZK] | AW92: DPH snížená [CZK] | AX92: DPH základní přenesená_x000D_ [CZK] | AY92: DPH snížená přenesená_x000D_ [CZK] | AZ92: Základna_x000D_ DPH základní | BA92: Základna_x000D_ DPH snížená | BB92: Základna_x000D_ DPH zákl. přenesená | BC92: Základna_x000D_ DPH sníž. přenesená | BD92: Základna_x000D_ DPH nulová
C94: Náklady z rozpočtů | AG94: =ROUND(SUM(AG95:AG96),2) -> 0 | AN94: =SUM(AG94,AT94) -> 0 | AS94: =ROUND(SUM(AS95:AS96),2) -> 0 | AT94: =ROUND(SUM(AV94:AW94),2) -> 0 | AU94: =ROUND(SUM(AU95:AU96),5) -> 0 | AV94: =ROUND(AZ94*L29,2) -> 0 | AW94: =ROUND(BA94*L30,2) -> 0 | AX94: =ROUND(BB94*L29,2) -> 0 | AY94: =ROUND(BC94*L30,2) -> 0 | AZ94: =ROUND(SUM(AZ95:AZ96),2) -> 0 | BA94: =ROUND(SUM(BA95:BA96),2) -> 0 | BB94: =ROUND(SUM(BB95:BB96),2) -> 0 | BC94: =ROUND(SUM(BC95:BC96),2) -> 0 | BD94: =ROUND(SUM(BD95:BD96),2) -> 0 | BS94: D | BT94: 0 | BU94: ###NOIMPORT### | BV94: IMPORT | BW94: {4fc29be2-c6ee-4291-ae04-46a490c56c39} | BX94: {00000000-0000-0000-0000-000000000000} | CL94: 827 21 42
A95: / | D95: SO 01 | J95: Rekonstrukce dešťové kanalizace | AG95: ='SO 01 - Rekonstrukce dešť...'!J30 -> 0 | AN95: =SUM(AG95,AT95) -> 0 | AQ95: STA | AS95: 0 | AT95: =ROUND(SUM(AV95:AW95),2) -> 0 | AU95: ='SO 01 - Rekonstrukce dešť...'!P124 -> 0 | AV95: ='SO 01 - Rekonstrukce dešť...'!J33 -> 0 | AW95: ='SO 01 - Rekonstrukce dešť...'!J34 -> 0 | AX95: ='SO 01 - Rekonstrukce dešť...'!J35 -> 0 | AY95: ='SO 01 - Rekonstrukce dešť...'!J36 -> 0 | AZ95: ='SO 01 - Rekonstrukce dešť...'!F33 -> 0 | BA95: ='SO 01 - Rekonstrukce dešť...'!F34 -> 0 | BB95: ='SO 01 - Rekonstrukce dešť...'!F35 -> 0 | BC95: ='SO 01 - Rekonstrukce dešť...'!F36 -> 0 | BD95: ='SO 01 - Rekonstrukce dešť...'!F37 -> 0 | BT95: 1 | BV95: IMPORT | BW95: {93b8d692-d9ef-4a8c-9b6d-fbad7f91f498} | BX95: {4fc29be2-c6ee-4291-ae04-46a490c56c39} | CL95: 827 21 42 | CM95: 2
A96: / | D96: VON | J96: Vedlejší a ostatní náklady | AG96: ='VON - Vedlejší a ostatní ...'!J30 -> 0 | AN96: =SUM(AG96,AT96) -> 0 | AQ96: STA | AS96: 0 | AT96: =ROUND(SUM(AV96:AW96),2) -> 0 | AU96: ='VON - Vedlejší a ostatní ...'!P122 -> 0 | AV96: ='VON - Vedlejší a ostatní ...'!J33 -> 0 | AW96: ='VON - Vedlejší a ostatní ...'!J34 -> 0 | AX96: ='VON - Vedlejší a ostatní ...'!J35 -> 0 | AY96: ='VON - Vedlejší a ostatní ...'!J36 -> 0 | AZ96: ='VON - Vedlejší a ostatní ...'!F33 -> 0 | BA96: ='VON - Vedlejší a ostatní ...'!F34 -> 0 | BB96: ='VON - Vedlejší a ostatní ...'!F35 -> 0 | BC96: ='VON - Vedlejší a ostatní ...'!F36 -> 0 | BD96: ='VON - Vedlejší a ostatní ...'!F37 -> 0 | BT96: 1 | BV96: IMPORT | BW96: {8f143d20-8e82-485f-82c2-25c9d96edf08} | BX96: {4fc29be2-c6ee-4291-ae04-46a490c56c39} | CL96: 827 21 42 | CM96: 2

Sheet SO 01 - Rekonstrukce dešť...
AT2: {93b8d692-d9ef-4a8c-9b6d-fbad7f91f498}
AT3: 2
D4: KRYCÍ LIST SOUPISU PRACÍ | M4: v --- níže se nacházejí doplnkové a pomocné údaje k sestavám --- v | AT4: False
D6: Stavba:
E7: ='Rekapitulace stavby'!K6 -> REKONSTRUKCE DEŠŤOVÉ KANALIZACE NA PARC.Č.731/1, 765/1 A 796/8 V K.Ú. VLASTISLAV
D8: Objekt:
E9: SO 01 - Rekonstrukce dešťové kanalizace
D11: KSO: | F11: 827 21 42 | I11: CC-CZ:
D12: Místo: | F12: Vlastislav | I12: Datum: | J12: ='Rekapitulace stavby'!AN8 -> 30. 1. 2025
D14: Zadavatel: | I14: IČ: | J14: 00481661
E15: Obec Vlastislav | I15: DIČ:
D17: Uchazeč: | I17: IČ: | J17: ='Rekapitulace stavby'!AN13 -> Vyplň údaj
E18: ='Rekapitulace stavby'!E14 -> Vyplň údaj | I18: DIČ: | J18: ='Rekapitulace stavby'!AN14 -> Vyplň údaj
D20: Projektant: | I20: IČ: | J20: 03547418
E21: Ing. Daniel Picka, Ph.D. | I21: DIČ:
D23: Zpracovatel: | I23: IČ: | J23: 87710251
E24: Ing. Petr Jarkovský | I24: DIČ:
D26: Poznámka:
E27: Soupis prací je sestaven s využitím položek Cenové soustavy ÚRS.Cenové a technické podmínky položek Cenové soustavy ÚRS, které nejsou uvedeny v soupisu prací (informace z tzv.úvodních katalogů) jsou neomezeně dálkově k dispozici na www.cs-urs.cz. Položky soupisu prací, které nemají ve sloupci ,,Cenová soustava" uveden žádný údaj, nepochází z Cenové soustavy ÚRS. Výkaz výměr nemusí být úplný, ani vyčerpávající. Pokud Zhotovilel shledá nezbytně nutným doplnit další položky do výkazu výměr, pak lze tak učinit pouze se souhlasem zástupce Objednatele - na tuto skutečnost pak Zhotovitel přehledně upozorní v průvodním dopise k nabídce. Upozorňujeme, že nabídku lze odpovědně zpracovat pouze na základě kompletní dokumentace, tzn. průvodní a souhrnné části dokumentace, příslušné textové a výkresové části, výkazů výměr. Tento dokument byl vytvořen z výkresové a textové dokumentace projektu.
D30: Cena bez DPH | J30: =ROUND(J124, 2) -> 0
F32: Základ daně | I32: Sazba daně | J32: Výše daně
D33: DPH | E33: základní | F33: =ROUND((SUM(BE124:BE691)), 2) -> 0 | I33: 0.21 | J33: =ROUND(((SUM(BE124:BE691))*I33), 2) -> 0
E34: snížená | F34: =ROUND((SUM(BF124:BF691)), 2) -> 0 | I34: 0.12 | J34: =ROUND(((SUM(BF124:BF691))*I34), 2) -> 0
E35: zákl. přenesená | F35: =ROUND((SUM(BG124:BG691)), 2) -> 0 | I35: 0.21 | J35: =0 -> 0
E36: sníž. přenesená | F36: =ROUND((SUM(BH124:BH691)), 2) -> 0 | I36: 0.12 | J36: =0 -> 0
E37: nulová | F37: =ROUND((SUM(BI124:BI691)), 2) -> 0 | I37: 0 | J37: =0 -> 0
D39: Cena s DPH | G39: v | H39: CZK | J39: =SUM(J30:J37) -> 0
D50: Projektant | G50: Zpracovatel
D61: Datum a podpis: | F61: Razítko | G61: Datum a podpis: | J61: Razítko
D65: Objednavatel | G65: Uchazeč
D76: Datum a podpis: | F76: Razítko | G76: Datum a podpis: | J76: Razítko
C82: REKAPITULACE ČLENĚNÍ SOUPISU PRACÍ
C84: Stavba:
E85: =E7 -> REKONSTRUKCE DEŠŤOVÉ KANALIZACE NA PARC.Č.731/1, 765/1 A 796/8 V K.Ú. VLASTISLAV
C86: Objekt:
E87: =E9 -> SO 01 - Rekonstrukce dešťové kanalizace
C89: Místo: | F89: =F12 -> Vlastislav | I89: Datum: | J89: =IF(J12="","",J12) -> 30. 1. 2025
C91: Zadavatel: | F91: =E15 -> Obec Vlastislav | I91: Projektant: | J91: =E21 -> Ing. Daniel Picka, Ph.D.
C92: Uchazeč: | F92: =IF(E18="","",E18) -> Vyplň údaj | I92: Zpracovatel: | J92: =E24 -> Ing. Petr Jarkovský
C94: Kód dílu - Popis | J94: Cena celkem [CZK]
C96: Náklady ze soupisu prací | J96: =J124 -> 0 | AU96: -1
D97: HSV - Práce a dodávky HSV | J97: =J125 -> 0
D98: 1 - Zemní práce | J98: =J126 -> 0
D99: 4 - Vodorovné konstrukce | J99: =J383 -> 0
D100: 5 - Komunikace pozemní | J100: =J413 -> 0
D101: 8 - Vedení trubní dálková a přípojná | J101: =J438 -> 0
D102: 9 - Ostatní konstrukce a práce, bourání | J102: =J612 -> 0
D103: 997 - Přesun sutě | J103: =J661 -> 0
D104: 998 - Přesun hmot | J104: =J687 -> 0
C111: SOUPIS PRACÍ
C113: Stavba:
E114: =E7 -> REKONSTRUKCE DEŠŤOVÉ KANALIZACE NA PARC.Č.731/1, 765/1 A 796/8 V K.Ú. VLASTISLAV
C115: Objekt:
E116: =E9 -> SO 01 - Rekonstrukce dešťové kanalizace
C118: Místo: | F118: =F12 -> Vlastislav | I118: Datum: | J118: =IF(J12="","",J12) -> 30. 1. 2025
C120: Zadavatel: | F120: =E15 -> Obec Vlastislav | I120: Projektant: | J120: =E21 -> Ing. Daniel Picka, Ph.D.
C121: Uchazeč: | F121: =IF(E18="","",E18) -> Vyplň údaj | I121: Zpracovatel: | J121: =E24 -> Ing. Petr Jarkovský
C123: PČ | D123: Typ | E123: Kód | F123: Popis | G123: MJ | H123: Množství | I123: J.cena [CZK] | J123: Cena celkem [CZK] | K123: Cenová soustava | N123: DPH | O123: J. Nh [h] | P123: Nh celkem [h] | Q123: J. hmotnost [t] | R123: Hmotnost celkem [t] | S123: J. suť [t] | T123: Suť Celkem [t]
C124: Náklady soupisu celkem | J124: =BK124 -> 0 | P124: =P125 -> 0 | R124: =R125 -> 317.12224 | T124: =T125 -> 143.2278 | AT124: D | AU124: -1 | BK124: =BK125 -> 0
D125: D | E125: HSV | F125: Práce a dodávky HSV | J125: =BK125 -> 0 | P125: =P126+P383+P413+P438+P612+P661+P687 -> 0 | R125: =R126+R383+R413+R438+R612+R661+R687 -> 317.12224 | T125: =T126+T383+T413+T438+T612+T661+T687 -> 143.2278 | AR125: 1 | AT125: D | AU125: 0 | AY125: ROZPOCET | BK125: =BK126+BK383+BK413+BK438+BK612+BK661+BK687 -> 0
D126: D | E126: 1 | F126: Zemní práce | J126: =BK126 -> 0 | P126: =SUM(P127:P382) -> 0 | R126: =SUM(R127:R382) -> 244.88733 | T126: =SUM(T127:T382) -> 98.082 | AR126: 1 | AT126: D | AU126: 1 | AY126: ROZPOCET | BK126: =SUM(BK127:BK382) -> 0
C127: 1 | D127: K | E127: 113106171 | F127: Rozebrání dlažeb vozovek ze zámkové dlažby s ložem z kameniva ručně | G127: m2 | H127: 15.5 | J127: =ROUND(I127*H127,2) -> 0 | K127: CS ÚRS 2025 01 | N127: základní | P127: =O127*H127 -> 0 | Q127: 0 | R127: =Q127*H127 -> 0 | S127: 0 | T127: =S127*H127 -> 0 | AR127: 4 | AT127: K | AU127: 2 | AY127: ROZPOCET | BE127: =IF(N127="základní",J127,0) -> 0 | BF127: =IF(N127="snížená",J127,0) -> 0 | BG127: =IF(N127="zákl. přenesená",J127,0) -> 0 | BH127: =IF(N127="sníž. přenesená",J127,0) -> 0 | BI127: =IF(N127="nulová",J127,0) -> 0 | BJ127: 1 | BK127: =ROUND(I127*H127,2) -> 0 | BL127: 4 | BM127: -320907964
D128: Online PSC | F128: https://podminky.urs.cz/item/CS_URS_2025_01/113106171 | AT128: Online PSC | AU128: 2
D129: P | F129: Poznámka k položce:_x000D_ Zpětné použití dlažby | AT129: P | AU129: 2
D130: VV | F130: Vjezdy do objektů | AT130: VV | AU130: 2 | AV130: 1 | AW130: True | AX130: 0 | AY130: ROZPOCET
D131: VV | F131: 9,500 | H131: 9.5 | AT131: VV | AU131: 2 | AV131: 2 | AW131: True | AX131: 0 | AY131: ROZPOCET
D132: VV | F132: 6,000 | H132: 6 | AT132: VV | AU132: 2 | AV132: 2 | AW132: True | AX132: 0 | AY132: ROZPOCET
D133: VV | F133: Součet | H133: 15.5 | AT133: VV | AU133: 2 | AV133: 4 | AW133: True | AX133: 1 | AY133: ROZPOCET
C134: 2 | D134: K | E134: 113107530 | F134: Odstranění podkladu z betonu prostého tl do 100 mm při překopech strojně pl přes 15 m2 | G134: m2 | H134: 224.7 | J134: =ROUND(I134*H134,2) -> 0 | K134: CS ÚRS 2025 01 | N134: základní | P134: =O134*H134 -> 0 | Q134: 0 | R134: =Q134*H134 -> 0 | S134: 0.24 | T134: =S134*H134 -> 53.928 | AR134: 4 | AT134: K | AU134: 2 | AY134: ROZPOCET | BE134: =IF(N134="základní",J134,0) -> 0 | BF134: =IF(N134="snížená",J134,0) -> 0 | BG134: =IF(N134="zákl. přenesená",J134,0) -> 0 | BH134: =IF(N134="sníž. přenesená",J134,0) -> 0 | BI134: =IF(N134="nulová",J134,0) -> 0 | BJ134: 1 | BK134: =ROUND(I134*H134,2) -> 0 | BL134: 4 | BM134: 48819716
D135: Online PSC | F135: https://podminky.urs.cz/item/CS_URS_2025_01/113107530 | AT135: Online PSC | AU135: 2
D136: VV | F136: 110,000*1,500 | H136: 165 | AT136: VV | AU136: 2 | AV136: 2 | AW136: True | AX136: 0 | AY136: ROZPOCET
D137: VV | F137: 17,000*2,100 | H137: 35.7 | AT137: VV | AU137: 2 | AV137: 2 | AW137: True | AX137: 0 | AY137: ROZPOCET
D138: VV | F138: 1,500*16,000 | H138: 24 | AT138: VV | AU138: 2 | AV138: 2 | AW138: True | AX138: 0 | AY138: ROZPOCET
D139: VV | F139: Součet | H139: 224.7 | AT139: VV | AU139: 2 | AV139: 4 | AW139: True | AX139: 1 | AY139: ROZPOCET
C140: 3 | D140: K | E140: 113107542 | F140: Odstranění podkladu živičných tl přes 50 do 100 mm při překopech strojně pl přes 15 m2 | G140: m2 | H140: 200.7 | J140: =ROUND(I140*H140,2) -> 0 | K140: CS ÚRS 2025 01 | N140: základní | P140: =O140*H140 -> 0 | Q140: 0 | R140: =Q140*H140 -> 0 | S140: 0.22 | T140: =S140*H140 -> 44.154 | AR140: 4 | AT140: K | AU140: 2 | AY140: ROZPOCET | BE140: =IF(N140="základní",J140,0) -> 0 | BF140: =IF(N140="snížená",J140,0) -> 0 | BG140: =IF(N140="zákl. přenesená",J140,0) -> 0 | BH140: =IF(N140="sníž. přenesená",J140,0) -> 0 | BI140: =IF(N140="nulová",J140,0) -> 0 | BJ140: 1 | BK140: =ROUND(I140*H140,2) -> 0 | BL140: 4 | BM140: 1823999214
D141: Online PSC | F141: https://podminky.urs.cz/item/CS_URS_2025_01/113107542 | AT141: Online PSC | AU141: 2
C142: 4 | D142: K | E142: 132212331 | F142: Hloubení nezapažených rýh šířky do 2000 mm v soudržných horninách třídy těžitelnosti I skupiny 3 ručně | G142: m3 | H142: 52.912 | J142: =ROUND(I142*H142,2) -> 0 | K142: CS ÚRS 2025 01 | N142: základní | P142: =O142*H142 -> 0 | Q142: 0 | R142: =Q142*H142 -> 0 | S142: 0 | T142: =S142*H142 -> 0 | AR142: 4 | AT142: K | AU142: 2 | AY142: ROZPOCET | BE142: =IF(N142="základní",J142,0) -> 0 | BF142: =IF(N142="snížená",J142,0) -> 0 | BG142: =IF(N142="zákl. přenesená",J142,0) -> 0 | BH142: =IF(N142="sníž. přenesená",J142,0) -> 0 | BI142: =IF(N142="nulová",J142,0) -> 0 | BJ142: 1 | BK142: =ROUND(I142*H142,2) -> 0 | BL142: 4 | BM142: 1878390333
D143: Online PSC | F143: https://podminky.urs.cz/item/CS_URS_2025_01/132212331 | AT143: Online PSC | AU143: 2
D144: P | F144: Poznámka k položce:_x000D_ Na základě doporučení projektanta rozdělení výkopů:_x000D_ - tř. 3 - 60%_x000D_ - tř. 4 - 30%_x000D_ - tř. 5 - 10% | AT144: P | AU144: 2
D145: VV | F145: "st. 0,00 - 3,16" ((0,98+1,35)/2*3,16)*1,500 | H145: 5.522 | AT145: VV | AU145: 2 | AV145: 2 | AW145: True | AX145: 0 | AY145: ROZPOCET
D146: VV | F146: "st. 3,16 - 8,28" ((1,35+1,21)/2*5,12)*1,500 | H146: 9.83 | AT146: VV | AU146: 2 | AV146: 2 | AW146: True | AX146: 0 | AY146: ROZPOCET
D147: VV | F147: "st. 8,28 - 10,59" ((1,21+1,49)/2*2,31)*1,500 | H147: 4.678 | AT147: VV | AU147: 2 | AV147: 2 | AW147: True | AX147: 0 | AY147: ROZPOCET
D148: VV | F148: "st. 10,59 - 13,77" ((1,49+1,65)/2*3,18)*1,500 | H148: 7.489 | AT148: VV | AU148: 2 | AV148: 2 | AW148: True | AX148: 0 | AY148: ROZPOCET
D149: VV | F149: "st. 13,77 - 16,87" ((1,65+1,03)/2*3,10)*1,500 | H149: 6.231 | AT149: VV | AU149: 2 | AV149: 2 | AW149: True | AX149: 0 | AY149: ROZPOCET
D150: VV | F150: "st. 16,87 - 17,26" 1,03*0,39*1,500 | H150: 0.603 | AT150: VV | AU150: 2 | AV150: 2 | AW150: True | AX150: 0 | AY150: ROZPOCET
D151: VV | F151: "st. 37,69 - 40,69" 1,11*3,00*1,500 | H151: 4.995 | AT151: VV | AU151: 2 | AV151: 2 | AW151: True | AX151: 0 | AY151: ROZPOCET
D152: VV | F152: "st. 56,46 - 59,46" ((0,98+1,04)/2*3,00)*1,500 | H152: 4.545 | AT152: VV | AU152: 2 | AV152: 2 | AW152: True | AX152: 0 | AY152: ROZPOCET
D153: VV | F153: "st. 75,50 - 82,56" ((1,01+1,04)/2*7,06)*1,500 | H153: 10.855 | AT153: VV | AU153: 2 | AV153: 2 | AW153: True | AX153: 0 | AY153: ROZPOCET
D154: VV | F154: "st. 87,80 - 106,87" ((1,03*1,99)+((1,03+0,92)/2*1,33)+((0,92+0,88)/2*1,31)+((0,88+0,91)/2*5,02)+((0,91+0,97)/2*2,29)+((0,97+0,98)/2*0,81))*1,500 | H154: 17.941 | AT154: VV | AU154: 2 | AV154: 2 | AW154: True | AX154: 0 | AY154: ROZPOCET
D155: VV | F155: (((0,98+1,03)/2*4,82)+((1,03+1,04)/2*1,50))*1,500 | H155: 9.595 | AT155: VV | AU155: 2 | AV155: 2 | AW155: True | AX155: 0 | AY155: ROZPOCET
D156: VV | F156: "st. 122,13 - 125,76" (((1,15+1,09)/2*2,09)+((1,09+0,98)/2*1,54))*1,500 | H156: 5.902 | AT156: VV | AU156: 2 | AV156: 2 | AW156: True | AX156: 0 | AY156: ROZPOCET
... D158: VV | F158: 88,186*0,6 'Přepočtené koeficientem množství | H158: 52.912 | AT158: VV | AU158: 2 | AV158: 2 | AW158: False | AX158: 1 | AY158: ROZPOCET
C159: 5 | D159: K | E159: 132251101 | F159: Hloubení rýh nezapažených š do 800 mm v hornině třídy těžitelnosti I skupiny 3 objem do 20 m3 strojně | G159: m3 | H159: 2.4 | J159: =ROUND(I159*H159,2) -> 0 | K159: CS ÚRS 2025 01 | N159: základní | P159: =O159*H159 -> 0 | Q159: 0 | R159: =Q159*H159 -> 0 | S159: 0 | T159: =S159*H159 -> 0 | AR159: 4 | AT159: K | AU159: 2 | AY159: ROZPOCET | BE159: =IF(N159="základní",J159,0) -> 0 | BF159: =IF(N159="snížená",J159,0) -> 0 | BG159: =IF(N159="zákl. přenesená",J159,0) -> 0 | BH159: =IF(N159="sníž. přenesená",J159,0) -> 0 | BI159: =IF(N159="nulová",J159,0) -> 0 | BJ159: 1 | BK159: =ROUND(I159*H159,2) -> 0 | BL159: 4 | BM159: 598477624
D160: Online PSC | F160: https://podminky.urs.cz/item/CS_URS_2025_01/132251101 | AT160: Online PSC | AU160: 2
D161: VV | F161: Štěrbinový žlab | AT161: VV | AU161: 2 | AV161: 1 | AW161: True | AX161: 0 | AY161: ROZPOCET
D162: VV | F162: 0,800*0,400*7,500 | H162: 2.4 | AT162: VV | AU162: 2 | AV162: 2 | AW162: True | AX162: 0 | AY162: ROZPOCET
D163: VV | F163: Součet | H163: 2.4 | AT163: VV | AU163: 2 | AV163: 4 | AW163: True | AX163: 1 | AY163: ROZPOCET
C164: 6 | D164: K | E164: 132251253 | F164: Hloubení rýh nezapažených š do 2000 mm v hornině třídy těžitelnosti I skupiny 3 objem do 100 m3 strojně | G164: m3 | H164: 69.64 | J164: =ROUND(I164*H164,2) -> 0 | K164: CS ÚRS 2025 01 | N164: základní | P164: =O164*H164 -> 0 | Q164: 0 | R164: =Q164*H164 -> 0 | S164: 0 | T164: =S164*H164 -> 0 | AR164: 4 | AT164: K | AU164: 2 | AY164: ROZPOCET | BE164: =IF(N164="základní",J164,0) -> 0 | BF164: =IF(N164="snížená",J164,0) -> 0 | BG164: =IF(N164="zákl. přenesená",J164,0) -> 0 | BH164: =IF(N164="sníž. přenesená",J164,0) -> 0 | BI164: =IF(N164="nulová",J164,0) -> 0 | BJ164: 1 | BK164: =ROUND(I164*H164,2) -> 0 | BL164: 4 | BM164: -1981593611
D165: Online PSC | F165: https://podminky.urs.cz/item/CS_URS_2025_01/132251253 | AT165: Online PSC | AU165: 2
D166: P | F166: Poznámka k položce:_x000D_ Na základě doporučení projektanta rozdělení výkopů:_x000D_ - tř. 3 - 60%_x000D_ - tř. 4 - 30%_x000D_ - tř. 5 - 10% | AT166: P | AU166: 2
...

Sheet VON - Vedlejší a ostatní ...
AT2: {8f143d20-8e82-485f-82c2-25c9d96edf08}
AT3: 2
D4: KRYCÍ LIST SOUPISU PRACÍ | M4: v --- níže se nacházejí doplnkové a pomocné údaje k sestavám --- v | AT4: False
D6: Stavba:
E7: ='Rekapitulace stavby'!K6 -> REKONSTRUKCE DEŠŤOVÉ KANALIZACE NA PARC.Č.731/1, 765/1 A 796/8 V K.Ú. VLASTISLAV
D8: Objekt:
E9: VON - Vedlejší a ostatní náklady
D11: KSO: | F11: 827 21 42 | I11: CC-CZ:
D12: Místo: | F12: Vlastislav | I12: Datum: | J12: ='Rekapitulace stavby'!AN8 -> 30. 1. 2025
D14: Zadavatel: | I14: IČ: | J14: 00481661
E15: Obec Vlastislav | I15: DIČ:
D17: Uchazeč: | I17: IČ: | J17: ='Rekapitulace stavby'!AN13 -> Vyplň údaj
E18: ='Rekapitulace stavby'!E14 -> Vyplň údaj | I18: DIČ: | J18: ='Rekapitulace stavby'!AN14 -> Vyplň údaj
D20: Projektant: | I20: IČ: | J20: 03547418
E21: Ing. Daniel Picka, Ph.D. | I21: DIČ:
D23: Zpracovatel: | I23: IČ: | J23: 87710251
E24: Ing. Petr Jarkovský | I24: DIČ:
D26: Poznámka:
E27: Soupis prací je sestaven s využitím položek Cenové soustavy ÚRS.Cenové a technické podmínky položek Cenové soustavy ÚRS, které nejsou uvedeny v soupisu prací (informace z tzv.úvodních katalogů) jsou neomezeně dálkově k dispozici na www.cs-urs.cz. Položky soupisu prací, které nemají ve sloupci ,,Cenová soustava" uveden žádný údaj, nepochází z Cenové soustavy ÚRS. Výkaz výměr nemusí být úplný, ani vyčerpávající. Pokud Zhotovilel shledá nezbytně nutným doplnit další položky do výkazu výměr, pak lze tak učinit pouze se souhlasem zástupce Objednatele - na tuto skutečnost pak Zhotovitel přehledně upozorní v průvodním dopise k nabídce. Upozorňujeme, že nabídku lze odpovědně zpracovat pouze na základě kompletní dokumentace, tzn. průvodní a souhrnné části dokumentace, příslušné textové a výkresové části, výkazů výměr. Tento dokument byl vytvořen z výkresové a textové dokumentace projektu.
D30: Cena bez DPH | J30: =ROUND(J122, 2) -> 0
F32: Základ daně | I32: Sazba daně | J32: Výše daně
D33: DPH | E33: základní | F33: =ROUND((SUM(BE122:BE166)), 2) -> 0 | I33: 0.21 | J33: =ROUND(((SUM(BE122:BE166))*I33), 2) -> 0
E34: snížená | F34: =ROUND((SUM(BF122:BF166)), 2) -> 0 | I34: 0.12 | J34: =ROUND(((SUM(BF122:BF166))*I34), 2) -> 0
E35: zákl. přenesená | F35: =ROUND((SUM(BG122:BG166)), 2) -> 0 | I35: 0.21 | J35: =0 -> 0
E36: sníž. přenesená | F36: =ROUND((SUM(BH122:BH166)), 2) -> 0 | I36: 0.12 | J36: =0 -> 0
E37: nulová | F37: =ROUND((SUM(BI122:BI166)), 2) -> 0 | I37: 0 | J37: =0 -> 0
D39: Cena s DPH | G39: v | H39: CZK | J39: =SUM(J30:J37) -> 0
D50: Projektant | G50: Zpracovatel
D61: Datum a podpis: | F61: Razítko | G61: Datum a podpis: | J61: Razítko
D65: Objednavatel | G65: Uchazeč
D76: Datum a podpis: | F76: Razítko | G76: Datum a podpis: | J76: Razítko
C82: REKAPITULACE ČLENĚNÍ SOUPISU PRACÍ
C84: Stavba:
E85: =E7 -> REKONSTRUKCE DEŠŤOVÉ KANALIZACE NA PARC.Č.731/1, 765/1 A 796/8 V K.Ú. VLASTISLAV
C86: Objekt:
E87: =E9 -> VON - Vedlejší a ostatní náklady
C89: Místo: | F89: =F12 -> Vlastislav | I89: Datum: | J89: =IF(J12="","",J12) -> 30. 1. 2025
C91: Zadavatel: | F91: =E15 -> Obec Vlastislav | I91: Projektant: | J91: =E21 -> Ing. Daniel Picka, Ph.D.
C92: Uchazeč: | F92: =IF(E18="","",E18) -> Vyplň údaj | I92: Zpracovatel: | J92: =E24 -> Ing. Petr Jarkovský
C94: Kód dílu - Popis | J94: Cena celkem [CZK]
C96: Náklady ze soupisu prací | J96: =J122 -> 0 | AU96: -1
D97: VRN - Vedlejší rozpočtové náklady | J97: =J123 -> 0
D98: VRN1 - Průzkumné, zeměměřičské a projektové práce | J98: =J124 -> 0
D99: VRN3 - Zařízení staveniště | J99: =J129 -> 0
D100: VRN4 - Inženýrská činnost | J100: =J154 -> 0
D101: VRN7 - Provozní vlivy | J101: =J160 -> 0
D102: VRN9 - Ostatní náklady | J102: =J163 -> 0
C109: SOUPIS PRACÍ
C111: Stavba:
E112: =E7 -> REKONSTRUKCE DEŠŤOVÉ KANALIZACE NA PARC.Č.731/1, 765/1 A 796/8 V K.Ú. VLASTISLAV
C113: Objekt:
E114: =E9 -> VON - Vedlejší a ostatní náklady
C116: Místo: | F116: =F12 -> Vlastislav | I116: Datum: | J116: =IF(J12="","",J12) -> 30. 1. 2025
C118: Zadavatel: | F118: =E15 -> Obec Vlastislav | I118: Projektant: | J118: =E21 -> Ing. Daniel Picka, Ph.D.
C119: Uchazeč: | F119: =IF(E18="","",E18) -> Vyplň údaj | I119: Zpracovatel: | J119: =E24 -> Ing. Petr Jarkovský
C121: PČ | D121: Typ | E121: Kód | F121: Popis | G121: MJ | H121: Množství | I121: J.cena [CZK] | J121: Cena celkem [CZK] | K121: Cenová soustava | N121: DPH | O121: J. Nh [h] | P121: Nh celkem [h] | Q121: J. hmotnost [t] | R121: Hmotnost celkem [t] | S121: J. suť [t] | T121: Suť Celkem [t]
C122: Náklady soupisu celkem | J122: =BK122 -> 0 | P122: =P123 -> 0 | R122: =R123 -> 0 | T122: =T123 -> 0 | AT122: D | AU122: -1 | BK122: =BK123 -> 0
D123: D | E123: VRN | F123: Vedlejší rozpočtové náklady | J123: =BK123 -> 0 | P123: =P124+P129+P154+P160+P163 -> 0 | R123: =R124+R129+R154+R160+R163 -> 0 | T123: =T124+T129+T154+T160+T163 -> 0 | AR123: 5 | AT123: D | AU123: 0 | AY123: ROZPOCET | BK123: =BK124+BK129+BK154+BK160+BK163 -> 0
D124: D | E124: VRN1 | F124: Průzkumné, zeměměřičské a projektové práce | J124: =BK124 -> 0 | P124: =SUM(P125:P128) -> 0 | R124: =SUM(R125:R128) -> 0 | T124: =SUM(T125:T128) -> 0 | AR124: 5 | AT124: D | AU124: 1 | AY124: ROZPOCET | BK124: =SUM(BK125:BK128) -> 0
C125: 1 | D125: K | E125: 012344000 | F125: Vytyčovací práce | G125: soubor | H125: 1 | J125: =ROUND(I125*H125,2) -> 0 | N125: základní | P125: =O125*H125 -> 0 | Q125: 0 | R125: =Q125*H125 -> 0 | S125: 0 | T125: =S125*H125 -> 0 | AR125: 1024 | AT125: K | AU125: 2 | AY125: ROZPOCET | BE125: =IF(N125="základní",J125,0) -> 0 | BF125: =IF(N125="snížená",J125,0) -> 0 | BG125: =IF(N125="zákl. přenesená",J125,0) -> 0 | BH125: =IF(N125="sníž. přenesená",J125,0) -> 0 | BI125: =IF(N125="nulová",J125,0) -> 0 | BJ125: 1 | BK125: =ROUND(I125*H125,2) -> 0 | BL125: 1024 | BM125: 1894916914
C126: 2 | D126: K | E126: 012384000 | F126: Ověřovací geodetická měření a měření fyzikálních veličin | G126: soubor | H126: 1 | J126: =ROUND(I126*H126,2) -> 0 | N126: základní | P126: =O126*H126 -> 0 | Q126: 0 | R126: =Q126*H126 -> 0 | S126: 0 | T126: =S126*H126 -> 0 | AR126: 1024 | AT126: K | AU126: 2 | AY126: ROZPOCET | BE126: =IF(N126="základní",J126,0) -> 0 | BF126: =IF(N126="snížená",J126,0) -> 0 | BG126: =IF(N126="zákl. přenesená",J126,0) -> 0 | BH126: =IF(N126="sníž. přenesená",J126,0) -> 0 | BI126: =IF(N126="nulová",J126,0) -> 0 | BJ126: 1 | BK126: =ROUND(I126*H126,2) -> 0 | BL126: 1024 | BM126: -244947364
C127: 3 | D127: K | E127: 012444000 | F127: Geodetické měření skutečného provedení stavby | G127: soubor | H127: 1 | J127: =ROUND(I127*H127,2) -> 0 | N127: základní | P127: =O127*H127 -> 0 | Q127: 0 | R127: =Q127*H127 -> 0 | S127: 0 | T127: =S127*H127 -> 0 | AR127: 1024 | AT127: K | AU127: 2 | AY127: ROZPOCET | BE127: =IF(N127="základní",J127,0) -> 0 | BF127: =IF(N127="snížená",J127,0) -> 0 | BG127: =IF(N127="zákl. přenesená",J127,0) -> 0 | BH127: =IF(N127="sníž. přenesená",J127,0) -> 0 | BI127: =IF(N127="nulová",J127,0) -> 0 | BJ127: 1 | BK127: =ROUND(I127*H127,2) -> 0 | BL127: 1024 | BM127: 2045163332
C128: 4 | D128: K | E128: 013254000 | F128: Dokumentace skutečného provedení stavby | G128: soubor | H128: 1 | J128: =ROUND(I128*H128,2) -> 0 | N128: základní | P128: =O128*H128 -> 0 | Q128: 0 | R128: =Q128*H128 -> 0 | S128: 0 | T128: =S128*H128 -> 0 | AR128: 1024 | AT128: K | AU128: 2 | AY128: ROZPOCET | BE128: =IF(N128="základní",J128,0) -> 0 | BF128: =IF(N128="snížená",J128,0) -> 0 | BG128: =IF(N128="zákl. přenesená",J128,0) -> 0 | BH128: =IF(N128="sníž. přenesená",J128,0) -> 0 | BI128: =IF(N128="nulová",J128,0) -> 0 | BJ128: 1 | BK128: =ROUND(I128*H128,2) -> 0 | BL128: 1024 | BM128: -2045789140
D129: D | E129: VRN3 | F129: Zařízení staveniště | J129: =BK129 -> 0 | P129: =SUM(P130:P153) -> 0 | R129: =SUM(R130:R153) -> 0 | T129: =SUM(T130:T153) -> 0 | AR129: 5 | AT129: D | AU129: 1 | AY129: ROZPOCET | BK129: =SUM(BK130:BK153) -> 0
C130: 5 | D130: K | E130: 032103000 | F130: Náklady na stavební buňky, úpravu stávajících objektů | G130: soubor | H130: 1 | J130: =ROUND(I130*H130,2) -> 0 | N130: základní | P130: =O130*H130 -> 0 | Q130: 0 | R130: =Q130*H130 -> 0 | S130: 0 | T130: =S130*H130 -> 0 | AR130: 1024 | AT130: K | AU130: 2 | AY130: ROZPOCET | BE130: =IF(N130="základní",J130,0) -> 0 | BF130: =IF(N130="snížená",J130,0) -> 0 | BG130: =IF(N130="zákl. přenesená",J130,0) -> 0 | BH130: =IF(N130="sníž. přenesená",J130,0) -> 0 | BI130: =IF(N130="nulová",J130,0) -> 0 | BJ130: 1 | BK130: =ROUND(I130*H130,2) -> 0 | BL130: 1024 | BM130: 800945981
D131: P | F131: Poznámka k položce:_x000D_ - mobilní WC_x000D_ - stavební buňka | AT131: P | AU131: 2
C132: 6 | D132: K | E132: 032603000 | F132: Mycí centrum | G132: soubor | H132: 1 | J132: =ROUND(I132*H132,2) -> 0 | K132: CS ÚRS 2025 01 | N132: základní | P132: =O132*H132 -> 0 | Q132: 0 | R132: =Q132*H132 -> 0 | S132: 0 | T132: =S132*H132 -> 0 | AR132: 1024 | AT132: K | AU132: 2 | AY132: ROZPOCET | BE132: =IF(N132="základní",J132,0) -> 0 | BF132: =IF(N132="snížená",J132,0) -> 0 | BG132: =IF(N132="zákl. přenesená",J132,0) -> 0 | BH132: =IF(N132="sníž. přenesená",J132,0) -> 0 | BI132: =IF(N132="nulová",J132,0) -> 0 | BJ132: 1 | BK132: =ROUND(I132*H132,2) -> 0 | BL132: 1024 | BM132: 957345598
D133: Online PSC | F133: https://podminky.urs.cz/item/CS_URS_2025_01/032603000 | AT133: Online PSC | AU133: 2
D134: P | F134: Poznámka k položce:_x000D_ - čištění vozidel před výjezdem na komunikace | AT134: P | AU134: 2
C135: 7 | D135: K | E135: 032903000 | F135: Náklady na provoz a údržbu vybavení staveniště | G135: soubor | H135: 1 | J135: =ROUND(I135*H135,2) -> 0 | K135: CS ÚRS 2025 01 | N135: základní | P135: =O135*H135 -> 0 | Q135: 0 | R135: =Q135*H135 -> 0 | S135: 0 | T135: =S135*H135 -> 0 | AR135: 1024 | AT135: K | AU135: 2 | AY135: ROZPOCET | BE135: =IF(N135="základní",J135,0) -> 0 | BF135: =IF(N135="snížená",J135,0) -> 0 | BG135: =IF(N135="zákl. přenesená",J135,0) -> 0 | BH135: =IF(N135="sníž. přenesená",J135,0) -> 0 | BI135: =IF(N135="nulová",J135,0) -> 0 | BJ135: 1 | BK135: =ROUND(I135*H135,2) -> 0 | BL135: 1024 | BM135: -222108814
D136: Online PSC | F136: https://podminky.urs.cz/item/CS_URS_2025_01/032903000 | AT136: Online PSC | AU136: 2
D137: P | F137: Poznámka k položce:_x000D_ - čištění komunikací znečištěných při výstavbě | AT137: P | AU137: 2
C138: 8 | D138: K | E138: 033103000 | F138: Připojení energií pro zařízení staveniště | G138: soubor | H138: 1 | J138: =ROUND(I138*H138,2) -> 0 | N138: základní | P138: =O138*H138 -> 0 | Q138: 0 | R138: =Q138*H138 -> 0 | S138: 0 | T138: =S138*H138 -> 0 | AR138: 1024 | AT138: K | AU138: 2 | AY138: ROZPOCET | BE138: =IF(N138="základní",J138,0) -> 0 | BF138: =IF(N138="snížená",J138,0) -> 0 | BG138: =IF(N138="zákl. přenesená",J138,0) -> 0 | BH138: =IF(N138="sníž. přenesená",J138,0) -> 0 | BI138: =IF(N138="nulová",J138,0) -> 0 | BJ138: 1 | BK138: =ROUND(I138*H138,2) -> 0 | BL138: 1024 | BM138: -1751603801
D139: P | F139: Poznámka k položce:_x000D_ - stavební rozvaděč elektrické energie s podružným měřením spotřeby_x000D_ - napojení na rozvod vody s podružným měřením spotřeby | AT139: P | AU139: 2
C140: 9 | D140: K | E140: 034103000 | F140: Oplocení staveniště | G140: m | H140: 158 | J140: =ROUND(I140*H140,2) -> 0 | N140: základní | P140: =O140*H140 -> 0 | Q140: 0 | R140: =Q140*H140 -> 0 | S140: 0 | T140: =S140*H140 -> 0 | AR140: 1024 | AT140: K | AU140: 2 | AY140: ROZPOCET | BE140: =IF(N140="základní",J140,0) -> 0 | BF140: =IF(N140="snížená",J140,0) -> 0 | BG140: =IF(N140="zákl. přenesená",J140,0) -> 0 | BH140: =IF(N140="sníž. přenesená",J140,0) -> 0 | BI140: =IF(N140="nulová",J140,0) -> 0 | BJ140: 1 | BK140: =ROUND(I140*H140,2) -> 0 | BL140: 1024 | BM140: 2098977735
D141: VV | F141: 126,000+22,000+10,000 | H141: 158 | AT141: VV | AU141: 2 | AV141: 2 | AW141: True | AX141: 0 | AY141: ROZPOCET
D142: VV | F142: Součet | H142: 158 | AT142: VV | AU142: 2 | AV142: 4 | AW142: True | AX142: 1 | AY142: ROZPOCET
C143: 10 | D143: K | E143: 034303000 | F143: Dopravní značení na staveništi | G143: soubor | H143: 1 | J143: =ROUND(I143*H143,2) -> 0 | K143: CS ÚRS 2025 01 | N143: základní | P143: =O143*H143 -> 0 | Q143: 0 | R143: =Q143*H143 -> 0 | S143: 0 | T143: =S143*H143 -> 0 | AR143: 1024 | AT143: K | AU143: 2 | AY143: ROZPOCET | BE143: =IF(N143="základní",J143,0) -> 0 | BF143: =IF(N143="snížená",J143,0) -> 0 | BG143: =IF(N143="zákl. přenesená",J143,0) -> 0 | BH143: =IF(N143="sníž. přenesená",J143,0) -> 0 | BI143: =IF(N143="nulová",J143,0) -> 0 | BJ143: 1 | BK143: =ROUND(I143*H143,2) -> 0 | BL143: 1024 | BM143: -1597111448
D144: Online PSC | F144: https://podminky.urs.cz/item/CS_URS_2025_01/034303000 | AT144: Online PSC | AU144: 2
C145: 11 | D145: K | E145: 034403000 | F145: Osvětlení staveniště | G145: soubor | H145: 1 | J145: =ROUND(I145*H145,2) -> 0 | K145: CS ÚRS 2025 01 | N145: základní | P145: =O145*H145 -> 0 | Q145: 0 | R145: =Q145*H145 -> 0 | S145: 0 | T145: =S145*H145 -> 0 | AR145: 1024 | AT145: K | AU145: 2 | AY145: ROZPOCET | BE145: =IF(N145="základní",J145,0) -> 0 | BF145: =IF(N145="snížená",J145,0) -> 0 | BG145: =IF(N145="zákl. přenesená",J145,0) -> 0 | BH145: =IF(N145="sníž. přenesená",J145,0) -> 0 | BI145: =IF(N145="nulová",J145,0) -> 0 | BJ145: 1 | BK145: =ROUND(I145*H145,2) -> 0 | BL145: 1024 | BM145: 1057542552
D146: Online PSC | F146: https://podminky.urs.cz/item/CS_URS_2025_01/034403000 | AT146: Online PSC | AU146: 2
C147: 12 | D147: K | E147: 034503000 | F147: Informační tabule na staveništi | G147: soubor | H147: 1 | J147: =ROUND(I147*H147,2) -> 0 | K147: CS ÚRS 2025 01 | N147: základní | P147: =O147*H147 -> 0 | Q147: 0 | R147: =Q147*H147 -> 0 | S147: 0 | T147: =S147*H147 -> 0 | AR147: 1024 | AT147: K | AU147: 2 | AY147: ROZPOCET | BE147: =IF(N147="základní",J147,0) -> 0 | BF147: =IF(N147="snížená",J147,0) -> 0 | BG147: =IF(N147="zákl. přenesená",J147,0) -> 0 | BH147: =IF(N147="sníž. přenesená",J147,0) -> 0 | BI147: =IF(N147="nulová",J147,0) -> 0 | BJ147: 1 | BK147: =ROUND(I147*H147,2) -> 0 | BL147: 1024 | BM147: -1483838090
D148: Online PSC | F148: https://podminky.urs.cz/item/CS_URS_2025_01/034503000 | AT148: Online PSC | AU148: 2
C149: 13 | D149: K | E149: 034703000 | F149: Ochranné konstrukce | G149: soubor | H149: 1 | J149: =ROUND(I149*H149,2) -> 0 | K149: CS ÚRS 2025 01 | N149: základní | P149: =O149*H149 -> 0 | Q149: 0 | R149: =Q149*H149 -> 0 | S149: 0 | T149: =S149*H149 -> 0 | AR149: 1024 | AT149: K | AU149: 2 | AY149: ROZPOCET | BE149: =IF(N149="základní",J149,0) -> 0 | BF149: =IF(N149="snížená",J149,0) -> 0 | BG149: =IF(N149="zákl. přenesená",J149,0) -> 0 | BH149: =IF(N149="sníž. přenesená",J149,0) -> 0 | BI149: =IF(N149="nulová",J149,0) -> 0 | BJ149: 1 | BK149: =ROUND(I149*H149,2) -> 0 | BL149: 1024 | BM149: 1728641910
D150: Online PSC | F150: https://podminky.urs.cz/item/CS_URS_2025_01/034703000 | AT150: Online PSC | AU150: 2
D151: P | F151: Poznámka k položce:_x000D_ - konstrukce pro zabezpečení přístupu vlastníků k nemovitostem_x000D_ - zabezpečení sítí proti poškození | AT151: P | AU151: 2
C152: 14 | D152: K | E152: 039103000 | F152: Rozebrání, bourání a odvoz zařízení staveniště | G152: soubor | H152: 1 | J152: =ROUND(I152*H152,2) -> 0 | K152: CS ÚRS 2025 01 | N152: základní | P152: =O152*H152 -> 0 | Q152: 0 | R152: =Q152*H152 -> 0 | S152: 0 | T152: =S152*H152 -> 0 | AR152: 1024 | AT152: K | AU152: 2 | AY152: ROZPOCET | BE152: =IF(N152="základní",J152,0) -> 0 | BF152: =IF(N152="snížená",J152,0) -> 0 | BG152: =IF(N152="zákl. přenesená",J152,0) -> 0 | BH152: =IF(N152="sníž. přenesená",J152,0) -> 0 | BI152: =IF(N152="nulová",J152,0) -> 0 | BJ152: 1 | BK152: =ROUND(I152*H152,2) -> 0 | BL152: 1024 | BM152: -667987179
D153: Online PSC | F153: https://podminky.urs.cz/item/CS_URS_2025_01/039103000 | AT153: Online PSC | AU153: 2
D154: D | E154: VRN4 | F154: Inženýrská činnost | J154: =BK154 -> 0 | P154: =SUM(P155:P159) -> 0 | R154: =SUM(R155:R159) -> 0 | T154: =SUM(T155:T159) -> 0 | AR154: 5 | AT154: D | AU154: 1 | AY154: ROZPOCET | BK154: =SUM(BK155:BK159) -> 0
C155: 15 | D155: K | E155: 041903000 | F155: Dozor jiné osoby | G155: soubor | H155: 1 | J155: =ROUND(I155*H155,2) -> 0 | K155: CS ÚRS 2025 01 | N155: základní | P155: =O155*H155 -> 0 | Q155: 0 | R155: =Q155*H155 -> 0 | S155: 0 | T155: =S155*H155 -> 0 | AR155: 1024 | AT155: K | AU155: 2 | AY155: ROZPOCET | BE155: =IF(N155="základní",J155,0) -> 0 | BF155: =IF(N155="snížená",J155,0) -> 0 | BG155: =IF(N155="zákl. přenesená",J155,0) -> 0 | BH155: =IF(N155="sníž. přenesená",J155,0) -> 0 | BI155: =IF(N155="nulová",J155,0) -> 0 | BJ155: 1 | BK155: =ROUND(I155*H155,2) -> 0 | BL155: 1024 | BM155: -2145111486
D156: Online PSC | F156: https://podminky.urs.cz/item/CS_URS_2025_01/041903000 | AT156: Online PSC | AU156: 2
D157: P | F157: Poznámka k položce:_x000D_ - vlastnící sítí - spolupráce - vytyčení, předání a převzetí sítí | AT157: P | AU157: 2
C158: 16 | D158: K | E158: 044002000 | F158: Revize revize dočasných objektů nebo zařízení staveniště | G158: soubor | H158: 1 | J158: =ROUND(I158*H158,2) -> 0 | K158: CS ÚRS 2025 01 | N158: základní | P158: =O158*H158 -> 0 | Q158: 0 | R158: =Q158*H158 -> 0 | S158: 0 | T158: =S158*H158 -> 0 | AR158: 1024 | AT158: K | AU158: 2 | AY158: ROZPOCET | BE158: =IF(N158="základní",J158,0) -> 0 | BF158: =IF(N158="snížená",J158,0) -> 0 | BG158: =IF(N158="zákl. přenesená",J158,0) -> 0 | BH158: =IF(N158="sníž. přenesená",J158,0) -> 0 | BI158: =IF(N158="nulová",J158,0) -> 0 | BJ158: 1 | BK158: =ROUND(I158*H158,2) -> 0 | BL158: 1024 | BM158: -1214241536
D159: Online PSC | F159: https://podminky.urs.cz/item/CS_URS_2025_01/044002000 | AT159: Online PSC | AU159: 2
D160: D | E160: VRN7 | F160: Provozní vlivy | J160: =BK160 -> 0 | P160: =SUM(P161:P162) -> 0 | R160: =SUM(R161:R162) -> 0 | T160: =SUM(T161:T162) -> 0 | AR160: 5 | AT160: D | AU160: 1 | AY160: ROZPOCET | BK160: =SUM(BK161:BK162) -> 0
C161: 17 | D161: K | E161: 071203000 | F161: Provoz dalšího subjektu | G161: soubor | H161: 1 | J161: =ROUND(I161*H161,2) -> 0 | K161: CS ÚRS 2025 01 | N161: základní | P161: =O161*H161 -> 0 | Q161: 0 | R161: =Q161*H161 -> 0 | S161: 0 | T161: =S161*H161 -> 0 | AR161: 1024 | AT161: K | AU161: 2 | AY161: ROZPOCET | BE161: =IF(N161="základní",J161,0) -> 0 | BF161: =IF(N161="snížená",J161,0) -> 0 | BG161: =IF(N161="zákl. přenesená",J161,0) -> 0 | BH161: =IF(N161="sníž. přenesená",J161,0) -> 0 | BI161: =IF(N161="nulová",J161,0) -> 0 | BJ161: 1 | BK161: =ROUND(I161*H161,2) -> 0 | BL161: 1024 | BM161: 1883730004
D162: Online PSC | F162: https://podminky.urs.cz/item/CS_URS_2025_01/071203000 | AT162: Online PSC | AU162: 2
D163: D | E163: VRN9 | F163: Ostatní náklady | J163: =BK163 -> 0 | P163: =SUM(P164:P166) -> 0 | R163: =SUM(R164:R166) -> 0 | T163: =SUM(T164:T166) -> 0 | AR163: 5 | AT163: D | AU163: 1 | AY163: ROZPOCET | BK163: =SUM(BK164:BK166) -> 0
C164: 18 | D164: K | E164: 091103000 | F164: Stroje a zařízení nevyžadující montáž | G164: soubor | H164: 1 | J164: =ROUND(I164*H164,2) -> 0 | K164: CS ÚRS 2025 01 | N164: základní | P164: =O164*H164 -> 0 | Q164: 0 | R164: =Q164*H164 -> 0 | S164: 0 | T164: =S164*H164 -> 0 | AR164: 1024 | AT164: K | AU164: 2 | AY164: ROZPOCET | BE164: =IF(N164="základní",J164,0) -> 0 | BF164: =IF(N164="snížená",J164,0) -> 0 | BG164: =IF(N164="zákl. přenesená",J164,0) -> 0 | BH164: =IF(N164="sníž. přenesená",J164,0) -> 0 | BI164: =IF(N164="nulová",J164,0) -> 0 | BJ164: 1 | BK164: =ROUND(I164*H164,2) -> 0 | BL164: 1024 | BM164: 1760020693
D165: Online PSC | F165: https://podminky.urs.cz/item/CS_URS_2025_01/091103000 | AT165: Online PSC | AU165: 2
...
