Workbook

Sheet Rekapitulace stavby
A1: Export Komplet | BA1: 2.0 | BT1: False | BU1: False | BV1: {3018e601-159b-4607-9bfc-0024994f27fb}
AR2: >> skryté sloupce << | BS2: 0,01 | BT2: 21
BS3: 0,01 | BT3: 12
D4: REKAPITULACE STAVBY | AS4: v --- níže se nacházejí doplnkové a pomocné údaje k sestavám --- v | BS4: 0,001
D5: Kód: | K5: 23-52 | BS5: 0,01
D6: Stavba: | K6: Rekonstrukce místní komunikace Zadražany | BS6: 0,01
D7: KSO: | AK7: CC-CZ: | BS7: 0,01
D8: Místo: | K8: Zadražany | AK8: Datum: | AN8: 19. 2. 2026 | BS8: 0,01
BS9: 0,01
D10: Zadavatel: | AK10: IČ: | BS10: 0,01
E11: Obec Nepolisy | AK11: DIČ: | BS11: 0,01
BS12: 0,01
D13: Zhotovitel: | AK13: IČ: | BS13: 0,01
AK14: DIČ: | BS14: 0,01
BS15: False
D16: Projektant: | AK16: IČ: | BS16: False
E17: VDI Projekt s.r.o. | AK17: DIČ: | BS17: True
BS18: 0,01
D19: Zpracovatel: | AK19: IČ: | BS19: 0,01
E20: Ing. Jan Duben | AK20: DIČ: | BS20: True
D22: Poznámka:
D26: Cena bez DPH | AK26: =ROUND(AG94,2) -> 0
L28: Sazba daně | W28: Základ daně | AK28: Výše daně
D29: DPH | F29: základní | L29: 0.21 | W29: =ROUND(AZ94, 2) -> 0 | AK29: =ROUND(AV94, 2) -> 0
F30: snížená | L30: 0.12 | W30: =ROUND(BA94, 2) -> 0 | AK30: =ROUND(AW94, 2) -> 0
F31: zákl. přenesená | L31: 0.21 | W31: =ROUND(BB94, 2) -> 0 | AK31: 0
F32: sníž. přenesená | L32: 0.12 | W32: =ROUND(BC94, 2) -> 0 | AK32: 0
F33: nulová | L33: 0 | W33: =ROUND(BD94, 2) -> 0 | AK33: 0
D35: Cena s DPH | T35: v | X35: CZK | AK35: =SUM(AK26:AK33) -> 0
D49: Projektant | AH49: Zpracovatel
D60: Datum a podpis: | V60: Razítko | AH60: Datum a podpis: | AM60: Razítko
D64: Objednavatel | AH64: Zhotovitel
D75: Datum a podpis: | V75: Razítko | AH75: Datum a podpis: | AM75: Razítko
C82: REKAPITULACE OBJEKTŮ STAVBY A SOUPISŮ PRACÍ
C84: Kód: | L84: =K5 -> 23-52
C85: Stavba: | L85: =K6 -> Rekonstrukce místní komunikace Zadražany
C87: Místo: | L87: =IF(K8="","",K8) -> Zadražany | AI87: Datum: | AM87: =IF(AN8= "","",AN8) -> 19. 2. 2026
C89: Zadavatel: | L89: =IF(E11= "","",E11) -> Obec Nepolisy | AI89: Projektant: | AM89: =IF(E17="","",E17) -> VDI Projekt s.r.o. | AS89: Informatívní údaje z listů zakázek
C90: Zhotovitel: | L90: =IF(E14="","",E14) | AI90: Zpracovatel: | AM90: =IF(E20="","",E20) -> Ing. Jan Duben
C92: Kód | I92: Popis | AG92: Cena bez DPH [CZK] | AN92: Cena s DPH [CZK] | AQ92: Typ | AS92: z toho Ostat._x000D_ náklady [CZK] | AT92: DPH [CZK] | AU92: Normohodiny [h] | AV92: DPH základní [CZK] | AW92: DPH snížená [CZK] | AX92: DPH základní přenesená_x000D_ [CZK] | AY92: DPH snížená přenesená_x000D_ [CZK] | AZ92: Základna_x000D_ DPH základní | BA92: Základna_x000D_ DPH snížená | BB92: Základna_x000D_ DPH zákl. přenesená | BC92: Základna_x000D_ DPH sníž. přenesená | BD92: Základna_x000D_ DPH nulová
...

Sheet SO 101 - Komunikace
L2: >> skryté sloupce << | AT2: {ce214e99-1612-414c-a11e-266fc032d425} | AZ2: napojení | BC2: 19,8 | BD2: 2
AT3: 2 | AZ3: odkop | BC3: 1131,97 | BD3: 2
D4: KRYCÍ LIST SOUPISU PRACÍ | M4: v --- níže se nacházejí doplnkové a pomocné údaje k sestavám --- v | AT4: False | AZ4: odvoz | BC4: 1462,08 | BD4: 2
AZ5: komasf | BC5: 377,3 | BD5: 2
D6: Stavba: | AZ6: chodasf | BC6: 9,5 | BD6: 2
E7: ='Rekapitulace stavby'!K6 -> Rekonstrukce místní komunikace Zadražany | AZ7: chodzamk | BC7: 47,1 | BD7: 2
D8: Objekt: | AZ8: vjezdy | BC8: 313 | BD8: 2
E9: SO 101 - Komunikace | AZ9: komzamk | BC9: 1091,2 | BD9: 2
AZ10: parkzamk | BC10: 213 | BD10: 2
D11: KSO: | I11: CC-CZ: | AZ11: prah | BC11: 60,7 | BD11: 2
D12: Místo: | F12: Zadražany | I12: Datum: | J12: ='Rekapitulace stavby'!AN8 -> 19. 2. 2026 | AZ12: varpasvoz | BC12: 6,4 | BD12: 2
AZ13: varpaschod | BC13: 5,25 | BD13: 2
D14: Zadavatel: | I14: IČ: | AZ14: zeleň | BC14: 449 | BD14: 2
E15: Obec Nepolisy | I15: DIČ: | AZ15: vodlin | BC15: 29,4 | BD15: 2
AZ16: L150 | BC16: 163,5 | BD16: 2
D17: Zhotovitel: | I17: IČ: | J17: ='Rekapitulace stavby'!AN13 | AZ17: L300 | BC17: 36,5 | BD17: 2
E18: ='Rekapitulace stavby'!E14 | I18: DIČ: | J18: ='Rekapitulace stavby'!AN14 | AZ18: š150 | BC18: 1,1 | BD18: 2
AZ19: š300 | BC19: 1,2 | BD19: 2
D20: Projektant: | I20: IČ: | AZ20: hl | BC20: 2,1 | BD20: 2
E21: VDI Projekt s.r.o. | I21: DIČ: | AZ21: rýhy | BC21: 330,11 | BD21: 2
D23: Zpracovatel: | I23: IČ:
E24: Ing. Jan Duben | I24: DIČ:
D26: Poznámka:
D30: Cena bez DPH | J30: =ROUND(J126, 2) -> 0
F32: Základ daně | I32: Sazba daně | J32: Výše daně
D33: DPH | E33: základní | F33: =ROUND((SUM(BE126:BE619)), 2) -> 0 | I33: 0.21 | J33: =ROUND(((SUM(BE126:BE619))*I33), 2) -> 0
E34: snížená | F34: =ROUND((SUM(BF126:BF619)), 2) -> 0 | I34: 0.12 | J34: =ROUND(((SUM(BF126:BF619))*I34), 2) -> 0
E35: zákl. přenesená | F35: =ROUND((SUM(BG126:BG619)), 2) -> 0 | I35: 0.21 | J35: =0 -> 0
E36: sníž. přenesená | F36: =ROUND((SUM(BH126:BH619)), 2) -> 0 | I36: 0.12 | J36: =0 -> 0
E37: nulová | F37: =ROUND((SUM(BI126:BI619)), 2) -> 0 | I37: 0 | J37: =0 -> 0
D39: Cena s DPH | G39: v | H39: CZK | J39: =SUM(J30:J37) -> 0
D50: Projektant | G50: Zpracovatel
D61: Datum a podpis: | F61: Razítko | G61: Datum a podpis: | J61: Razítko
D65: Objednavatel | G65: Zhotovitel
D76: Datum a podpis: | F76: Razítko | G76: Datum a podpis: | J76: Razítko
C82: REKAPITULACE ČLENĚNÍ SOUPISU PRACÍ
C84: Stavba:
E85: =E7 -> Rekonstrukce místní komunikace Zadražany
C86: Objekt:
E87: =E9 -> SO 101 - Komunikace
...

Sheet VON - Vedlejší a ostatní ...
L2: >> skryté sloupce << | AT2: {1ddfd7af-285a-4230-a27b-0b527546262a}
AT3: 2
D4: KRYCÍ LIST SOUPISU PRACÍ | M4: v --- níže se nacházejí doplnkové a pomocné údaje k sestavám --- v | AT4: False
D6: Stavba:
E7: ='Rekapitulace stavby'!K6 -> Rekonstrukce místní komunikace Zadražany
D8: Objekt:
E9: VON - Vedlejší a ostatní náklady
D11: KSO: | I11: CC-CZ:
D12: Místo: | F12: Zadražany | I12: Datum: | J12: ='Rekapitulace stavby'!AN8 -> 19. 2. 2026
D14: Zadavatel: | I14: IČ:
E15: Obec Nepolisy | I15: DIČ:
D17: Zhotovitel: | I17: IČ: | J17: ='Rekapitulace stavby'!AN13
E18: ='Rekapitulace stavby'!E14 | I18: DIČ: | J18: ='Rekapitulace stavby'!AN14
D20: Projektant: | I20: IČ:
E21: VDI Projekt s.r.o. | I21: DIČ:
D23: Zpracovatel: | I23: IČ:
E24: Ing. Jan Duben | I24: DIČ:
D26: Poznámka:
D30: Cena bez DPH | J30: =ROUND(J120, 2) -> 0
F32: Základ daně | I32: Sazba daně | J32: Výše daně
D33: DPH | E33: základní | F33: =ROUND((SUM(BE120:BE150)), 2) -> 0 | I33: 0.21 | J33: =ROUND(((SUM(BE120:BE150))*I33), 2) -> 0
E34: snížená | F34: =ROUND((SUM(BF120:BF150)), 2) -> 0 | I34: 0.12 | J34: =ROUND(((SUM(BF120:BF150))*I34), 2) -> 0
E35: zákl. přenesená | F35: =ROUND((SUM(BG120:BG150)), 2) -> 0 | I35: 0.21 | J35: =0 -> 0
E36: sníž. přenesená | F36: =ROUND((SUM(BH120:BH150)), 2) -> 0 | I36: 0.12 | J36: =0 -> 0
E37: nulová | F37: =ROUND((SUM(BI120:BI150)), 2) -> 0 | I37: 0 | J37: =0 -> 0
D39: Cena s DPH | G39: v | H39: CZK | J39: =SUM(J30:J37) -> 0
D50: Projektant | G50: Zpracovatel
D61: Datum a podpis: | F61: Razítko | G61: Datum a podpis: | J61: Razítko
D65: Objednavatel | G65: Zhotovitel
D76: Datum a podpis: | F76: Razítko | G76: Datum a podpis: | J76: Razítko
C82: REKAPITULACE ČLENĚNÍ SOUPISU PRACÍ
C84: Stavba:
E85: =E7 -> Rekonstrukce místní komunikace Zadražany
C86: Objekt:
E87: =E9 -> VON - Vedlejší a ostatní náklady
C89: Místo: | F89: =F12 -> Zadražany | I89: Datum: | J89: =IF(J12="","",J12) -> 19. 2. 2026
C91: Zadavatel: | F91: =E15 -> Obec Nepolisy | I91: Projektant: | J91: =E21 -> VDI Projekt s.r.o.
C92: Zhotovitel: | F92: =IF(E18="","",E18) | I92: Zpracovatel: | J92: =E24 -> Ing. Jan Duben
C94: Kód dílu - Popis | J94: Cena celkem [CZK]
C96: Náklady ze soupisu prací | J96: =J120 -> 0 | AU96: -1
...

Sheet Seznam figur
C4: SEZNAM FIGUR
C5: Kód: | D5: 23-52
C6: Stavba: | D6: Rekonstrukce místní komunikace Zadražany
C7: Datum: | D7: ='Rekapitulace stavby'!AN8 -> 19. 2. 2026
C9: Kód | D9: Popis | E9: MJ | F9: Výměra
C10: SO 101 | D10: Komunikace
C11: hl | F11: 2.1
C12: hl | D12: "průměrná hloubka výkopu" 2,1 | F12: 2.1
C13: Použití figury:
C14: 132254204 | D14: Hloubení zapažených rýh š do 2000 mm v hornině třídy těžitelnosti I skupiny 3 objem do 500 m3 | E14: m3 | F14: 330.11
C15: 151101101 | D15: Zřízení příložného pažení a rozepření stěn rýh hl do 2 m | E15: m2 | F15: 840
C16: 174151101 | D16: Zásyp jam, šachet rýh nebo kolem objektů sypaninou se zhutněním | E16: m3 | F16: 163.865
C17: chodasf | F17: 9.5
C18: chodasf | D18: "Chodník - asfaltový kryt - dle tabulky kubatur" 9,5 | F18: 9.5
C19: Použití figury:
C20: 181951112 | D20: Úprava pláně v hornině třídy těžitelnosti I skupiny 1 až 3 se zhutněním strojně | E20: m2 | F20: 2152.85
C21: 564851011 | D21: Podklad ze štěrkodrtě ŠD plochy do 100 m2 tl 150 mm | E21: m2 | F21: 71.35
C22: 565135011 | D22: Asfaltový beton vrstva podkladní ACP 16 + tl 50 mm š do 3 m z nemodifikovaného asfaltu | E22: m2 | F22: 9.5
C23: 573211107 | D23: Postřik živičný spojovací z asfaltu v množství 0,30 kg/m2 | E23: m2 | F23: 386.8
C24: 577134111 | D24: Asfaltový beton vrstva obrusná ACO 11+ tř. I tl 40 mm š do 3 m z nemodifikovaného asfaltu | E24: m2 | F24: 9.5
C25: chodzamk | F25: 47.1
C26: chodzamk | D26: "Chodník - zámkovka - dle tabulky kubatur" 47,1 | F26: 47.1
C27: Použití figury:
C28: 181951112 | D28: Úprava pláně v hornině třídy těžitelnosti I skupiny 1 až 3 se zhutněním strojně | E28: m2 | F28: 2152.85
C29: 564851011 | D29: Podklad ze štěrkodrtě ŠD plochy do 100 m2 tl 150 mm | E29: m2 | F29: 71.35
C30: 596211110 | D30: Kladení zámkové dlažby komunikací pro pěší ručně tl 60 mm skupiny A pl do 50 m2 | E30: m2 | F30: 52.35
C31: 59245018 | D31: dlažba skladebná betonová 200x100mm tl 60mm přírodní | E31: m2 | F31: 48.513
C32: komasf | F32: 377.3
C33: komasf | D33: "Komunikace - asfalt - dle tabulky kubatur" 343*1,1 | F33: 377.3
C34: Použití figury:
C35: 181951112 | D35: Úprava pláně v hornině třídy těžitelnosti I skupiny 1 až 3 se zhutněním strojně | E35: m2 | F35: 2152.85
C36: 564851111 | D36: Podklad ze štěrkodrtě ŠD plochy přes 100 m2 tl 150 mm | E36: m2 | F36: 1558.6
C37: 564861111 | D37: Podklad ze štěrkodrtě ŠD plochy přes 100 m2 tl 200 mm | E37: m2 | F37: 1558.6
C38: 565165021 | D38: Asfaltový beton vrstva podkladní ACP 16 + tl 80 mm š přes 3 m z nemodifikovaného asfaltu | E38: m2 | F38: 377.3
C39: 573211107 | D39: Postřik živičný spojovací z asfaltu v množství 0,30 kg/m2 | E39: m2 | F39: 386.8
C40: 577134121 | D40: Asfaltový beton vrstva obrusná ACO 11+ tř. I tl 40 mm š přes 3 m z nemodifikovaného asfaltu | E40: m2 | F40: 377.3
C41: komzamk | F41: 1091.2
C42: komzamk | D42: "Komunikace - zámková dlažba - dle tabulky kubatur" 992*1,1 | F42: 1091.2
C43: Použití figury:
C44: 181951112 | D44: Úprava pláně v hornině třídy těžitelnosti I skupiny 1 až 3 se zhutněním strojně | E44: m2 | F44: 2152.85
...
