Workbook

Sheet Rekapitulace stavby
A1: Export Komplet | BA1: 2.0 | BT1: False | BU1: False | BV1: {3018e601-159b-4607-9bfc-0024994f27fb}
AR2: >> skryté sloupce << | BS2: 0,01 | BT2: 21
BS3: 0,01 | BT3: 12
D4: REKAPITULACE STAVBY | AS4: v --- níže se nacházejí doplnkové a pomocné údaje k sestavám --- v | BS4: 0,001
D5: Kód: | K5: 23-52 | BS5: 0,01
D6: Stavba: | K6: Rekonstrukce místní komunikace Zadražany | BS6: 0,01
D7: KSO: | AK7: CC-CZ: | BS7: 0,01
D8: Místo: | K8: Zadražany | AK8: Datum: | AN8: 19. 2. 2026 | BS8: 0,01
BS9: 0,01
D10: Zadavatel: | AK10: IČ: | BS10: 0,01
E11: Obec Nepolisy | AK11: DIČ: | BS11: 0,01
BS12: 0,01
D13: Zhotovitel: | AK13: IČ: | BS13: 0,01
AK14: DIČ: | BS14: 0,01
BS15: False
D16: Projektant: | AK16: IČ: | BS16: False
E17: VDI Projekt s.r.o. | AK17: DIČ: | BS17: True
BS18: 0,01
D19: Zpracovatel: | AK19: IČ: | BS19: 0,01
E20: Ing. Jan Duben | AK20: DIČ: | BS20: True
D22: Poznámka:
D26: Cena bez DPH | AK26: =ROUND(AG94,2) -> 0
L28: Sazba daně | W28: Základ daně | AK28: Výše daně
D29: DPH | F29: základní | L29: 0.21 | W29: =ROUND(AZ94, 2) -> 0 | AK29: =ROUND(AV94, 2) -> 0
F30: snížená | L30: 0.12 | W30: =ROUND(BA94, 2) -> 0 | AK30: =ROUND(AW94, 2) -> 0
F31: zákl. přenesená | L31: 0.21 | W31: =ROUND(BB94, 2) -> 0 | AK31: 0
F32: sníž. přenesená | L32: 0.12 | W32: =ROUND(BC94, 2) -> 0 | AK32: 0
F33: nulová | L33: 0 | W33: =ROUND(BD94, 2) -> 0 | AK33: 0
D35: Cena s DPH | T35: v | X35: CZK | AK35: =SUM(AK26:AK33) -> 0
D49: Projektant | AH49: Zpracovatel
D60: Datum a podpis: | V60: Razítko | AH60: Datum a podpis: | AM60: Razítko
D64: Objednavatel | AH64: Zhotovitel
D75: Datum a podpis: | V75: Razítko | AH75: Datum a podpis: | AM75: Razítko
C82: REKAPITULACE OBJEKTŮ STAVBY A SOUPISŮ PRACÍ
C84: Kód: | L84: =K5 -> 23-52
C85: Stavba: | L85: =K6 -> Rekonstrukce místní komunikace Zadražany
C87: Místo: | L87: =IF(K8="","",K8) -> Zadražany | AI87: Datum: | AM87: =IF(AN8= "","",AN8) -> 19. 2. 2026
C89: Zadavatel: | L89: =IF(E11= "","",E11) -> Obec Nepolisy | AI89: Projektant: | AM89: =IF(E17="","",E17) -> VDI Projekt s.r.o. | AS89: Informatívní údaje z listů zakázek
C90: Zhotovitel: | L90: =IF(E14="","",E14) | AI90: Zpracovatel: | AM90: =IF(E20="","",E20) -> Ing. Jan Duben
C92: Kód | I92: Popis | AG92: Cena bez DPH [CZK] | AN92: Cena s DPH [CZK] | AQ92: Typ | AS92: z toho Ostat._x000D_ náklady [CZK] | AT92: DPH [CZK] | AU92: Normohodiny [h] | AV92: DPH základní [CZK] | AW92: DPH snížená [CZK] | AX92: DPH základní přenesená_x000D_ [CZK] | AY92: DPH snížená přenesená_x000D_ [CZK] | AZ92: Základna_x000D_ DPH základní | BA92: Základna_x000D_ DPH snížená | BB92: Základna_x000D_ DPH zákl. přenesená | BC92: Základna_x000D_ DPH sníž. přenesená | BD92: Základna_x000D_ DPH nulová
C94: Náklady z rozpočtů | AG94: =ROUND(SUM(AG95:AG96),2) -> 0 | AN94: =SUM(AG94,AT94) -> 0 | AS94: =ROUND(SUM(AS95:AS96),2) -> 0 | AT94: =ROUND(SUM(AV94:AW94),2) -> 0 | AU94: =ROUND(SUM(AU95:AU96),5) -> 4217.4324 | AV94: =ROUND(AZ94*L29,2) -> 0 | AW94: =ROUND(BA94*L30,2) -> 0 | AX94: =ROUND(BB94*L29,2) -> 0 | AY94: =ROUND(BC94*L30,2) -> 0 | AZ94: =ROUND(SUM(AZ95:AZ96),2) -> 0 | BA94: =ROUND(SUM(BA95:BA96),2) -> 0 | BB94: =ROUND(SUM(BB95:BB96),2) -> 0 | BC94: =ROUND(SUM(BC95:BC96),2) -> 0 | BD94: =ROUND(SUM(BD95:BD96),2) -> 0 | BS94: D | BT94: 0 | BU94: ###NOIMPORT### | BV94: IMPORT | BW94: {3018e601-159b-4607-9bfc-0024994f27fb} | BX94: {00000000-0000-0000-0000-000000000000}
A95: / | D95: SO 101 | J95: Komunikace | AG95: ='SO 101 - Komunikace'!J30 -> 0 | AN95: =SUM(AG95,AT95) -> 0 | AQ95: STA | AS95: 0 | AT95: =ROUND(SUM(AV95:AW95),2) -> 0 | AU95: ='SO 101 - Komunikace'!P126 -> 4217.4324 | AV95: ='SO 101 - Komunikace'!J33 -> 0 | AW95: ='SO 101 - Komunikace'!J34 -> 0 | AX95: ='SO 101 - Komunikace'!J35 -> 0 | AY95: ='SO 101 - Komunikace'!J36 -> 0 | AZ95: ='SO 101 - Komunikace'!F33 -> 0 | BA95: ='SO 101 - Komunikace'!F34 -> 0 | BB95: ='SO 101 - Komunikace'!F35 -> 0 | BC95: ='SO 101 - Komunikace'!F36 -> 0 | BD95: ='SO 101 - Komunikace'!F37 -> 0 | BT95: 1 | BV95: IMPORT | BW95: {ce214e99-1612-414c-a11e-266fc032d425} | BX95: {3018e601-159b-4607-9bfc-0024994f27fb} | CM95: 2
A96: / | D96: VON | J96: Vedlejší a ostatní náklady | AG96: ='VON - Vedlejší a ostatní ...'!J30 -> 0 | AN96: =SUM(AG96,AT96) -> 0 | AQ96: STA | AS96: 0 | AT96: =ROUND(SUM(AV96:AW96),2) -> 0 | AU96: ='VON - Vedlejší a ostatní ...'!P120 -> 0 | AV96: ='VON - Vedlejší a ostatní ...'!J33 -> 0 | AW96: ='VON - Vedlejší a ostatní ...'!J34 -> 0 | AX96: ='VON - Vedlejší a ostatní ...'!J35 -> 0 | AY96: ='VON - Vedlejší a ostatní ...'!J36 -> 0 | AZ96: ='VON - Vedlejší a ostatní ...'!F33 -> 0 | BA96: ='VON - Vedlejší a ostatní ...'!F34 -> 0 | BB96: ='VON - Vedlejší a ostatní ...'!F35 -> 0 | BC96: ='VON - Vedlejší a ostatní ...'!F36 -> 0 | BD96: ='VON - Vedlejší a ostatní ...'!F37 -> 0 | BT96: 1 | BV96: IMPORT | BW96: {1ddfd7af-285a-4230-a27b-0b527546262a} | BX96: {3018e601-159b-4607-9bfc-0024994f27fb} | CM96: 2

Sheet SO 101 - Komunikace
L2: >> skryté sloupce << | AT2: {ce214e99-1612-414c-a11e-266fc032d425} | AZ2: napojení | BC2: 19,8 | BD2: 2
AT3: 2 | AZ3: odkop | BC3: 1131,97 | BD3: 2
D4: KRYCÍ LIST SOUPISU PRACÍ | M4: v --- níže se nacházejí doplnkové a pomocné údaje k sestavám --- v | AT4: False | AZ4: odvoz | BC4: 1462,08 | BD4: 2
AZ5: komasf | BC5: 377,3 | BD5: 2
D6: Stavba: | AZ6: chodasf | BC6: 9,5 | BD6: 2
E7: ='Rekapitulace stavby'!K6 -> Rekonstrukce místní komunikace Zadražany | AZ7: chodzamk | BC7: 47,1 | BD7: 2
D8: Objekt: | AZ8: vjezdy | BC8: 313 | BD8: 2
E9: SO 101 - Komunikace | AZ9: komzamk | BC9: 1091,2 | BD9: 2
AZ10: parkzamk | BC10: 213 | BD10: 2
D11: KSO: | I11: CC-CZ: | AZ11: prah | BC11: 60,7 | BD11: 2
D12: Místo: | F12: Zadražany | I12: Datum: | J12: ='Rekapitulace stavby'!AN8 -> 19. 2. 2026 | AZ12: varpasvoz | BC12: 6,4 | BD12: 2
AZ13: varpaschod | BC13: 5,25 | BD13: 2
D14: Zadavatel: | I14: IČ: | AZ14: zeleň | BC14: 449 | BD14: 2
E15: Obec Nepolisy | I15: DIČ: | AZ15: vodlin | BC15: 29,4 | BD15: 2
AZ16: L150 | BC16: 163,5 | BD16: 2
D17: Zhotovitel: | I17: IČ: | J17: ='Rekapitulace stavby'!AN13 | AZ17: L300 | BC17: 36,5 | BD17: 2
E18: ='Rekapitulace stavby'!E14 | I18: DIČ: | J18: ='Rekapitulace stavby'!AN14 | AZ18: š150 | BC18: 1,1 | BD18: 2
AZ19: š300 | BC19: 1,2 | BD19: 2
D20: Projektant: | I20: IČ: | AZ20: hl | BC20: 2,1 | BD20: 2
E21: VDI Projekt s.r.o. | I21: DIČ: | AZ21: rýhy | BC21: 330,11 | BD21: 2
D23: Zpracovatel: | I23: IČ:
E24: Ing. Jan Duben | I24: DIČ:
D26: Poznámka:
D30: Cena bez DPH | J30: =ROUND(J126, 2) -> 0
F32: Základ daně | I32: Sazba daně | J32: Výše daně
D33: DPH | E33: základní | F33: =ROUND((SUM(BE126:BE619)), 2) -> 0 | I33: 0.21 | J33: =ROUND(((SUM(BE126:BE619))*I33), 2) -> 0
E34: snížená | F34: =ROUND((SUM(BF126:BF619)), 2) -> 0 | I34: 0.12 | J34: =ROUND(((SUM(BF126:BF619))*I34), 2) -> 0
E35: zákl. přenesená | F35: =ROUND((SUM(BG126:BG619)), 2) -> 0 | I35: 0.21 | J35: =0 -> 0
E36: sníž. přenesená | F36: =ROUND((SUM(BH126:BH619)), 2) -> 0 | I36: 0.12 | J36: =0 -> 0
E37: nulová | F37: =ROUND((SUM(BI126:BI619)), 2) -> 0 | I37: 0 | J37: =0 -> 0
D39: Cena s DPH | G39: v | H39: CZK | J39: =SUM(J30:J37) -> 0
D50: Projektant | G50: Zpracovatel
D61: Datum a podpis: | F61: Razítko | G61: Datum a podpis: | J61: Razítko
D65: Objednavatel | G65: Zhotovitel
D76: Datum a podpis: | F76: Razítko | G76: Datum a podpis: | J76: Razítko
C82: REKAPITULACE ČLENĚNÍ SOUPISU PRACÍ
C84: Stavba:
E85: =E7 -> Rekonstrukce místní komunikace Zadražany
C86: Objekt:
E87: =E9 -> SO 101 - Komunikace
C89: Místo: | F89: =F12 -> Zadražany | I89: Datum: | J89: =IF(J12="","",J12) -> 19. 2. 2026
C91: Zadavatel: | F91: =E15 -> Obec Nepolisy | I91: Projektant: | J91: =E21 -> VDI Projekt s.r.o.
C92: Zhotovitel: | F92: =IF(E18="","",E18) | I92: Zpracovatel: | J92: =E24 -> Ing. Jan Duben
C94: Kód dílu - Popis | J94: Cena celkem [CZK]
C96: Náklady ze soupisu prací | J96: =J126 -> 0 | AU96: -1
D97: HSV - Práce a dodávky HSV | J97: =J127 -> 0
D98: 1 - Zemní práce | J98: =J128 -> 0
D99: 2 - Zakládání | J99: =J254 -> 0
D100: 3 - Svislé a kompletní konstrukce | J100: =J258 -> 0
D101: 4 - Vodorovné konstrukce | J101: =J265 -> 0
D102: 5 - Komunikace pozemní | J102: =J282 -> 0
D103: 8 - Vedení trubní dálková a přípojná | J103: =J405 -> 0
D104: 9 - Ostatní konstrukce a práce, bourání | J104: =J514 -> 0
D105: 997 - Doprava suti a vybouraných hmot | J105: =J584 -> 0
D106: 998 - Přesun hmot | J106: =J617 -> 0
C113: SOUPIS PRACÍ
C115: Stavba:
E116: =E7 -> Rekonstrukce místní komunikace Zadražany
C117: Objekt:
E118: =E9 -> SO 101 - Komunikace
C120: Místo: | F120: =F12 -> Zadražany | I120: Datum: | J120: =IF(J12="","",J12) -> 19. 2. 2026
C122: Zadavatel: | F122: =E15 -> Obec Nepolisy | I122: Projektant: | J122: =E21 -> VDI Projekt s.r.o.
C123: Zhotovitel: | F123: =IF(E18="","",E18) | I123: Zpracovatel: | J123: =E24 -> Ing. Jan Duben
C125: PČ | D125: Typ | E125: Kód | F125: Popis | G125: MJ | H125: Množství | I125: J.cena [CZK] | J125: Cena celkem [CZK] | K125: Cenová soustava | N125: DPH | O125: J. Nh [h] | P125: Nh celkem [h] | Q125: J. hmotnost [t] | R125: Hmotnost celkem [t] | S125: J. suť [t] | T125: Suť Celkem [t]
C126: Náklady soupisu celkem | J126: =BK126 -> 0 | P126: =P127 -> 4217.4324 | R126: =R127 -> 1562.2367 | T126: =T127 -> 944.6238 | AT126: D | AU126: -1 | BK126: =BK127 -> 0
D127: D | E127: HSV | F127: Práce a dodávky HSV | J127: =BK127 -> 0 | P127: =P128+P254+P258+P265+P282+P405+P514+P584+P617 -> 4217.4324 | R127: =R128+R254+R258+R265+R282+R405+R514+R584+R617 -> 1562.2367 | T127: =T128+T254+T258+T265+T282+T405+T514+T584+T617 -> 944.6238 | AR127: 1 | AT127: D | AU127: 0 | AY127: ROZPOCET | BK127: =BK128+BK254+BK258+BK265+BK282+BK405+BK514+BK584+BK617 -> 0
D128: D | E128: 1 | F128: Zemní práce | J128: =BK128 -> 0 | P128: =SUM(P129:P253) -> 1402.6777 | R128: =SUM(R129:R253) -> 656.53947 | T128: =SUM(T129:T253) -> 944.4242 | AR128: 1 | AT128: D | AU128: 1 | AY128: ROZPOCET | BK128: =SUM(BK129:BK253) -> 0
C129: 1 | D129: K | E129: 113106195 | F129: Rozebrání dlažeb vozovek z vegetační dlažby betonové s ložem z kameniva strojně pl do 50 m2 | G129: m2 | H129: 20 | J129: =ROUND(I129*H129,2) -> 0 | N129: základní | O129: 0.038 | P129: =O129*H129 -> 0.76 | Q129: 0 | R129: =Q129*H129 -> 0 | S129: 0.26 | T129: =S129*H129 -> 5.2 | AR129: 4 | AT129: K | AU129: 2 | AY129: ROZPOCET | BE129: =IF(N129="základní",J129,0) -> 0 | BF129: =IF(N129="snížená",J129,0) -> 0 | BG129: =IF(N129="zákl. přenesená",J129,0) -> 0 | BH129: =IF(N129="sníž. přenesená",J129,0) -> 0 | BI129: =IF(N129="nulová",J129,0) -> 0 | BJ129: 1 | BK129: =ROUND(I129*H129,2) -> 0 | BL129: 4 | BM129: -1980203045
D130: PP | F130: Rozebrání dlažeb vozovek a ploch s přemístěním hmot na skládku na vzdálenost do 3 m nebo s naložením na dopravní prostředek, s jakoukoliv výplní spár strojně plochy jednotlivě do 50 m2 z vegetační dlažby s ložem z kameniva betonové | AT130: PP | AU130: 2
D131: VV | F131: "odstranění stávajícího vjezdu z vegetační dlažby - dle tabulky kubatur" 20 | H131: 20 | AT131: VV | AU131: 2 | AV131: 2 | AW131: True | AX131: 1 | AY131: ROZPOCET
C132: 2 | D132: K | E132: 113106571 | F132: Rozebrání dlažeb vozovek ze zámkové dlažby s ložem z kameniva strojně pl přes 200 m2 | G132: m2 | H132: 125.5 | J132: =ROUND(I132*H132,2) -> 0 | N132: základní | O132: 0.027 | P132: =O132*H132 -> 3.3885 | Q132: 0 | R132: =Q132*H132 -> 0 | S132: 0.295 | T132: =S132*H132 -> 37.0225 | AR132: 4 | AT132: K | AU132: 2 | AY132: ROZPOCET | BE132: =IF(N132="základní",J132,0) -> 0 | BF132: =IF(N132="snížená",J132,0) -> 0 | BG132: =IF(N132="zákl. přenesená",J132,0) -> 0 | BH132: =IF(N132="sníž. přenesená",J132,0) -> 0 | BI132: =IF(N132="nulová",J132,0) -> 0 | BJ132: 1 | BK132: =ROUND(I132*H132,2) -> 0 | BL132: 4 | BM132: -1730272811
D133: PP | F133: Rozebrání dlažeb vozovek a ploch s přemístěním hmot na skládku na vzdálenost do 3 m nebo s naložením na dopravní prostředek, s jakoukoliv výplní spár strojně plochy jednotlivě přes 200 m2 ze zámkové dlažby s ložem z kameniva | AT133: PP | AU133: 2
D134: VV | F134: "odstranění stávajícího vjezdu ze zámkové dlažby - dle tabulky kubatur" 125,5 | H134: 125.5 | AT134: VV | AU134: 2 | AV134: 2 | AW134: True | AX134: 1 | AY134: ROZPOCET
C135: 3 | D135: K | E135: 113107162 | F135: Odstranění podkladu z kameniva drceného tl přes 100 do 200 mm strojně pl přes 50 do 200 m2 | G135: m2 | H135: 125.5 | J135: =ROUND(I135*H135,2) -> 0 | N135: základní | O135: 0.102 | P135: =O135*H135 -> 12.801 | Q135: 0 | R135: =Q135*H135 -> 0 | S135: 0.29 | T135: =S135*H135 -> 36.395 | AR135: 4 | AT135: K | AU135: 2 | AY135: ROZPOCET | BE135: =IF(N135="základní",J135,0) -> 0 | BF135: =IF(N135="snížená",J135,0) -> 0 | BG135: =IF(N135="zákl. přenesená",J135,0) -> 0 | BH135: =IF(N135="sníž. přenesená",J135,0) -> 0 | BI135: =IF(N135="nulová",J135,0) -> 0 | BJ135: 1 | BK135: =ROUND(I135*H135,2) -> 0 | BL135: 4 | BM135: -313963771
D136: PP | F136: Odstranění podkladů nebo krytů strojně plochy jednotlivě přes 50 m2 do 200 m2 s přemístěním hmot na skládku na vzdálenost do 20 m nebo s naložením na dopravní prostředek z kameniva hrubého drceného, o tl. vrstvy přes 100 do 200 mm | AT136: PP | AU136: 2
D137: VV | F137: "odstranění stávajícího vjezdu ze zámkové dlažby - dle tabulky kubatur" 125,5 | H137: 125.5 | AT137: VV | AU137: 2 | AV137: 2 | AW137: True | AX137: 1 | AY137: ROZPOCET
C138: 4 | D138: K | E138: 113107223 | F138: Odstranění podkladu z kameniva drceného tl přes 200 do 300 mm strojně pl přes 200 m2 | G138: m2 | H138: 261 | J138: =ROUND(I138*H138,2) -> 0 | N138: základní | O138: 0.119 | P138: =O138*H138 -> 31.059 | Q138: 0 | R138: =Q138*H138 -> 0 | S138: 0.44 | T138: =S138*H138 -> 114.84 | AR138: 4 | AT138: K | AU138: 2 | AY138: ROZPOCET | BE138: =IF(N138="základní",J138,0) -> 0 | BF138: =IF(N138="snížená",J138,0) -> 0 | BG138: =IF(N138="zákl. přenesená",J138,0) -> 0 | BH138: =IF(N138="sníž. přenesená",J138,0) -> 0 | BI138: =IF(N138="nulová",J138,0) -> 0 | BJ138: 1 | BK138: =ROUND(I138*H138,2) -> 0 | BL138: 4 | BM138: -1770730998
D139: PP | F139: Odstranění podkladů nebo krytů strojně plochy jednotlivě přes 200 m2 s přemístěním hmot na skládku na vzdálenost do 20 m nebo s naložením na dopravní prostředek z kameniva hrubého drceného, o tl. vrstvy přes 200 do 300 mm | AT139: PP | AU139: 2
D140: VV | F140: "odstranění stávající asfaltové komunikace - dle tabulky kubatur" 261 | H140: 261 | AT140: VV | AU140: 2 | AV140: 2 | AW140: True | AX140: 1 | AY140: ROZPOCET
C141: 5 | D141: K | E141: 113107224 | F141: Odstranění podkladu z kameniva drceného tl přes 300 do 400 mm strojně pl přes 200 m2 | G141: m2 | H141: 1086 | J141: =ROUND(I141*H141,2) -> 0 | N141: základní | O141: 0.144 | P141: =O141*H141 -> 156.384 | Q141: 0 | R141: =Q141*H141 -> 0 | S141: 0.58 | T141: =S141*H141 -> 629.88 | AR141: 4 | AT141: K | AU141: 2 | AY141: ROZPOCET | BE141: =IF(N141="základní",J141,0) -> 0 | BF141: =IF(N141="snížená",J141,0) -> 0 | BG141: =IF(N141="zákl. přenesená",J141,0) -> 0 | BH141: =IF(N141="sníž. přenesená",J141,0) -> 0 | BI141: =IF(N141="nulová",J141,0) -> 0 | BJ141: 1 | BK141: =ROUND(I141*H141,2) -> 0 | BL141: 4 | BM141: -1194726758
D142: PP | F142: Odstranění podkladů nebo krytů strojně plochy jednotlivě přes 200 m2 s přemístěním hmot na skládku na vzdálenost do 20 m nebo s naložením na dopravní prostředek z kameniva hrubého drceného, o tl. vrstvy přes 300 do 400 mm | AT142: PP | AU142: 2
D143: VV | F143: "odstranění stávající štěrkové komunikace - dle tabulky kubatur" 1086 | H143: 1086 | AT143: VV | AU143: 2 | AV143: 2 | AW143: True | AX143: 1 | AY143: ROZPOCET
C144: 6 | D144: K | E144: 113107243 | F144: Odstranění podkladu živičného tl přes 100 do 150 mm strojně pl přes 200 m2 | G144: m2 | H144: 261 | J144: =ROUND(I144*H144,2) -> 0 | N144: základní | O144: 0.132 | P144: =O144*H144 -> 34.452 | Q144: 0 | R144: =Q144*H144 -> 0 | S144: 0.316 | T144: =S144*H144 -> 82.476 | AR144: 4 | AT144: K | AU144: 2 | AY144: ROZPOCET | BE144: =IF(N144="základní",J144,0) -> 0 | BF144: =IF(N144="snížená",J144,0) -> 0 | BG144: =IF(N144="zákl. přenesená",J144,0) -> 0 | BH144: =IF(N144="sníž. přenesená",J144,0) -> 0 | BI144: =IF(N144="nulová",J144,0) -> 0 | BJ144: 1 | BK144: =ROUND(I144*H144,2) -> 0 | BL144: 4 | BM144: -1694366964
D145: PP | F145: Odstranění podkladů nebo krytů strojně plochy jednotlivě přes 200 m2 s přemístěním hmot na skládku na vzdálenost do 20 m nebo s naložením na dopravní prostředek živičných, o tl. vrstvy přes 100 do 150 mm | AT145: PP | AU145: 2
D146: VV | F146: "odstranění stávající asfaltové komunikace - dle tabulky kubatur" 261 | H146: 261 | AT146: VV | AU146: 2 | AV146: 2 | AW146: True | AX146: 1 | AY146: ROZPOCET
C147: 7 | D147: K | E147: 113107322 | F147: Odstranění podkladu z kameniva drceného tl přes 100 do 200 mm strojně pl do 50 m2 | G147: m2 | H147: 45.5 | J147: =ROUND(I147*H147,2) -> 0 | N147: základní | O147: 0.116 | P147: =O147*H147 -> 5.278 | Q147: 0 | R147: =Q147*H147 -> 0 | S147: 0.29 | T147: =S147*H147 -> 13.195 | AR147: 4 | AT147: K | AU147: 2 | AY147: ROZPOCET | BE147: =IF(N147="základní",J147,0) -> 0 | BF147: =IF(N147="snížená",J147,0) -> 0 | BG147: =IF(N147="zákl. přenesená",J147,0) -> 0 | BH147: =IF(N147="sníž. přenesená",J147,0) -> 0 | BI147: =IF(N147="nulová",J147,0) -> 0 | BJ147: 1 | BK147: =ROUND(I147*H147,2) -> 0 | BL147: 4 | BM147: 137328595
D148: PP | F148: Odstranění podkladů nebo krytů strojně plochy jednotlivě do 50 m2 s přemístěním hmot na skládku na vzdálenost do 3 m nebo s naložením na dopravní prostředek z kameniva hrubého drceného, o tl. vrstvy přes 100 do 200 mm | AT148: PP | AU148: 2
D149: VV | F149: "odstranění stávajícího asfaltového chodníku - dle tabulky kubatur" 20 | H149: 20 | AT149: VV | AU149: 2 | AV149: 2 | AW149: True | AX149: 0 | AY149: ROZPOCET
D150: VV | F150: "odstranění stávajícího betonového vjezdu - dle tabulky kubatur" 5,5 | H150: 5.5 | AT150: VV | AU150: 2 | AV150: 2 | AW150: True | AX150: 0 | AY150: ROZPOCET
D151: VV | F151: "odstranění stávajícího vjezdu z vegetační dlažby - dle tabulky kubatur" 20 | H151: 20 | AT151: VV | AU151: 2 | AV151: 2 | AW151: True | AX151: 0 | AY151: ROZPOCET
D152: VV | F152: Součet | H152: 45.5 | AT152: VV | AU152: 2 | AV152: 4 | AW152: True | AX152: 1 | AY152: ROZPOCET
C153: 8 | D153: K | E153: 113107331 | F153: Odstranění podkladu z betonu prostého tl přes 100 do 150 mm strojně pl do 50 m2 | G153: m2 | H153: 5.5 | J153: =ROUND(I153*H153,2) -> 0 | N153: základní | O153: 0.305 | P153: =O153*H153 -> 1.6775 | Q153: 0 | R153: =Q153*H153 -> 0 | S153: 0.325 | T153: =S153*H153 -> 1.7875 | AR153: 4 | AT153: K | AU153: 2 | AY153: ROZPOCET | BE153: =IF(N153="základní",J153,0) -> 0 | BF153: =IF(N153="snížená",J153,0) -> 0 | BG153: =IF(N153="zákl. přenesená",J153,0) -> 0 | BH153: =IF(N153="sníž. přenesená",J153,0) -> 0 | BI153: =IF(N153="nulová",J153,0) -> 0 | BJ153: 1 | BK153: =ROUND(I153*H153,2) -> 0 | BL153: 4 | BM153: -1711396078
D154: PP | F154: Odstranění podkladů nebo krytů strojně plochy jednotlivě do 50 m2 s přemístěním hmot na skládku na vzdálenost do 3 m nebo s naložením na dopravní prostředek z betonu prostého, o tl. vrstvy přes 100 do 150 mm | AT154: PP | AU154: 2
D155: VV | F155: "odstranění stávajícího betonového vjezdu - dle tabulky kubatur" 5,5 | H155: 5.5 | AT155: VV | AU155: 2 | AV155: 2 | AW155: True | AX155: 1 | AY155: ROZPOCET
C156: 9 | D156: K | E156: 113107342 | F156: Odstranění podkladu živičného tl přes 50 do 100 mm strojně pl do 50 m2 | G156: m2 | H156: 20 | J156: =ROUND(I156*H156,2) -> 0 | N156: základní | O156: 0.13 | P156: =O156*H156 -> 2.6 | Q156: 0 | R156: =Q156*H156 -> 0 | S156: 0.22 | T156: =S156*H156 -> 4.4 | AR156: 4 | AT156: K | AU156: 2 | AY156: ROZPOCET | BE156: =IF(N156="základní",J156,0) -> 0 | BF156: =IF(N156="snížená",J156,0) -> 0 | BG156: =IF(N156="zákl. přenesená",J156,0) -> 0 | BH156: =IF(N156="sníž. přenesená",J156,0) -> 0 | BI156: =IF(N156="nulová",J156,0) -> 0 | BJ156: 1 | BK156: =ROUND(I156*H156,2) -> 0 | BL156: 4 | BM156: -2009517077
D157: PP | F157: Odstranění podkladů nebo krytů strojně plochy jednotlivě do 50 m2 s přemístěním hmot na skládku na vzdálenost do 3 m nebo s naložením na dopravní prostředek živičných, o tl. vrstvy přes 50 do 100 mm | AT157: PP | AU157: 2
D158: VV | F158: "odstranění stávajícího asfaltového chodníku - dle tabulky kubatur" 20 | H158: 20 | AT158: VV | AU158: 2 | AV158: 2 | AW158: True | AX158: 1 | AY158: ROZPOCET
C159: 10 | D159: K | E159: 113154512 | F159: Frézování živičného krytu tl 40 mm pruh š do 0,5 m pl do 500 m2 | G159: m2 | H159: 19.8 | J159: =ROUND(I159*H159,2) -> 0 | N159: základní | O159: 0.096 | P159: =O159*H159 -> 1.9008 | Q159: 1e-05 | R159: =Q159*H159 -> 0.000198 | S159: 0.092 | T159: =S159*H159 -> 1.8216 | AR159: 4 | AT159: K | AU159: 2 | AY159: ROZPOCET | BE159: =IF(N159="základní",J159,0) -> 0 | BF159: =IF(N159="snížená",J159,0) -> 0 | BG159: =IF(N159="zákl. přenesená",J159,0) -> 0 | BH159: =IF(N159="sníž. přenesená",J159,0) -> 0 | BI159: =IF(N159="nulová",J159,0) -> 0 | BJ159: 1 | BK159: =ROUND(I159*H159,2) -> 0 | BL159: 4 | BM159: 248661463
D160: PP | F160: Frézování živičného podkladu nebo krytu s naložením hmot na dopravní prostředek plochy do 500 m2 pruhu šířky do 0,5 m, tloušťky vrstvy 40 mm | AT160: PP | AU160: 2
D161: VV | E161: napojení | F161: "napojení na stávající stav - dle tabulky kubatur" 19,8 | H161: 19.8 | AT161: VV | AU161: 2 | AV161: 2 | AW161: True | AX161: 1 | AY161: ROZPOCET
...

Sheet VON - Vedlejší a ostatní ...
L2: >> skryté sloupce << | AT2: {1ddfd7af-285a-4230-a27b-0b527546262a}
AT3: 2
D4: KRYCÍ LIST SOUPISU PRACÍ | M4: v --- níže se nacházejí doplnkové a pomocné údaje k sestavám --- v | AT4: False
D6: Stavba:
E7: ='Rekapitulace stavby'!K6 -> Rekonstrukce místní komunikace Zadražany
D8: Objekt:
E9: VON - Vedlejší a ostatní náklady
D11: KSO: | I11: CC-CZ:
D12: Místo: | F12: Zadražany | I12: Datum: | J12: ='Rekapitulace stavby'!AN8 -> 19. 2. 2026
D14: Zadavatel: | I14: IČ:
E15: Obec Nepolisy | I15: DIČ:
D17: Zhotovitel: | I17: IČ: | J17: ='Rekapitulace stavby'!AN13
E18: ='Rekapitulace stavby'!E14 | I18: DIČ: | J18: ='Rekapitulace stavby'!AN14
D20: Projektant: | I20: IČ:
E21: VDI Projekt s.r.o. | I21: DIČ:
D23: Zpracovatel: | I23: IČ:
E24: Ing. Jan Duben | I24: DIČ:
D26: Poznámka:
D30: Cena bez DPH | J30: =ROUND(J120, 2) -> 0
F32: Základ daně | I32: Sazba daně | J32: Výše daně
D33: DPH | E33: základní | F33: =ROUND((SUM(BE120:BE150)), 2) -> 0 | I33: 0.21 | J33: =ROUND(((SUM(BE120:BE150))*I33), 2) -> 0
E34: snížená | F34: =ROUND((SUM(BF120:BF150)), 2) -> 0 | I34: 0.12 | J34: =ROUND(((SUM(BF120:BF150))*I34), 2) -> 0
E35: zákl. přenesená | F35: =ROUND((SUM(BG120:BG150)), 2) -> 0 | I35: 0.21 | J35: =0 -> 0
E36: sníž. přenesená | F36: =ROUND((SUM(BH120:BH150)), 2) -> 0 | I36: 0.12 | J36: =0 -> 0
E37: nulová | F37: =ROUND((SUM(BI120:BI150)), 2) -> 0 | I37: 0 | J37: =0 -> 0
D39: Cena s DPH | G39: v | H39: CZK | J39: =SUM(J30:J37) -> 0
D50: Projektant | G50: Zpracovatel
D61: Datum a podpis: | F61: Razítko | G61: Datum a podpis: | J61: Razítko
D65: Objednavatel | G65: Zhotovitel
D76: Datum a podpis: | F76: Razítko | G76: Datum a podpis: | J76: Razítko
C82: REKAPITULACE ČLENĚNÍ SOUPISU PRACÍ
C84: Stavba:
E85: =E7 -> Rekonstrukce místní komunikace Zadražany
C86: Objekt:
E87: =E9 -> VON - Vedlejší a ostatní náklady
C89: Místo: | F89: =F12 -> Zadražany | I89: Datum: | J89: =IF(J12="","",J12) -> 19. 2. 2026
C91: Zadavatel: | F91: =E15 -> Obec Nepolisy | I91: Projektant: | J91: =E21 -> VDI Projekt s.r.o.
C92: Zhotovitel: | F92: =IF(E18="","",E18) | I92: Zpracovatel: | J92: =E24 -> Ing. Jan Duben
C94: Kód dílu - Popis | J94: Cena celkem [CZK]
C96: Náklady ze soupisu prací | J96: =J120 -> 0 | AU96: -1
D97: VRN - Vedlejší rozpočtové náklady | J97: =J121 -> 0
D98: VRN1 - Průzkumné, geodetické a projektové práce | J98: =J122 -> 0
D99: VRN3 - Zařízení staveniště | J99: =J133 -> 0
D100: VRN4 - Inženýrská činnost | J100: =J146 -> 0
C107: SOUPIS PRACÍ
C109: Stavba:
E110: =E7 -> Rekonstrukce místní komunikace Zadražany
C111: Objekt:
E112: =E9 -> VON - Vedlejší a ostatní náklady
C114: Místo: | F114: =F12 -> Zadražany | I114: Datum: | J114: =IF(J12="","",J12) -> 19. 2. 2026
C116: Zadavatel: | F116: =E15 -> Obec Nepolisy | I116: Projektant: | J116: =E21 -> VDI Projekt s.r.o.
C117: Zhotovitel: | F117: =IF(E18="","",E18) | I117: Zpracovatel: | J117: =E24 -> Ing. Jan Duben
C119: PČ | D119: Typ | E119: Kód | F119: Popis | G119: MJ | H119: Množství | I119: J.cena [CZK] | J119: Cena celkem [CZK] | K119: Cenová soustava | N119: DPH | O119: J. Nh [h] | P119: Nh celkem [h] | Q119: J. hmotnost [t] | R119: Hmotnost celkem [t] | S119: J. suť [t] | T119: Suť Celkem [t]
C120: Náklady soupisu celkem | J120: =BK120 -> 0 | P120: =P121 -> 0 | R120: =R121 -> 0 | T120: =T121 -> 0 | AT120: D | AU120: -1 | BK120: =BK121 -> 0
D121: D | E121: VRN | F121: Vedlejší rozpočtové náklady | J121: =BK121 -> 0 | P121: =P122+P133+P146 -> 0 | R121: =R122+R133+R146 -> 0 | T121: =T122+T133+T146 -> 0 | AR121: 5 | AT121: D | AU121: 0 | AY121: ROZPOCET | BK121: =BK122+BK133+BK146 -> 0
D122: D | E122: VRN1 | F122: Průzkumné, geodetické a projektové práce | J122: =BK122 -> 0 | P122: =SUM(P123:P132) -> 0 | R122: =SUM(R123:R132) -> 0 | T122: =SUM(T123:T132) -> 0 | AR122: 5 | AT122: D | AU122: 1 | AY122: ROZPOCET | BK122: =SUM(BK123:BK132) -> 0
C123: 1 | D123: K | E123: 012103001 | F123: Geodetické práce před výstavbou - vytýčení stavby | G123: Kč | H123: 1 | J123: =ROUND(I123*H123,2) -> 0 | N123: základní | O123: 0 | P123: =O123*H123 -> 0 | Q123: 0 | R123: =Q123*H123 -> 0 | S123: 0 | T123: =S123*H123 -> 0 | AR123: 1024 | AT123: K | AU123: 2 | AY123: ROZPOCET | BE123: =IF(N123="základní",J123,0) -> 0 | BF123: =IF(N123="snížená",J123,0) -> 0 | BG123: =IF(N123="zákl. přenesená",J123,0) -> 0 | BH123: =IF(N123="sníž. přenesená",J123,0) -> 0 | BI123: =IF(N123="nulová",J123,0) -> 0 | BJ123: 1 | BK123: =ROUND(I123*H123,2) -> 0 | BL123: 1024 | BM123: 333156997
D124: PP | F124: Geodetické práce před výstavbou - vytýčení stavby | AT124: PP | AU124: 2
C125: 2 | D125: K | E125: 012103002 | F125: Geodetické práce před výstavbou - vytýčení sítí | G125: Kč | H125: 1 | J125: =ROUND(I125*H125,2) -> 0 | N125: základní | O125: 0 | P125: =O125*H125 -> 0 | Q125: 0 | R125: =Q125*H125 -> 0 | S125: 0 | T125: =S125*H125 -> 0 | AR125: 1024 | AT125: K | AU125: 2 | AY125: ROZPOCET | BE125: =IF(N125="základní",J125,0) -> 0 | BF125: =IF(N125="snížená",J125,0) -> 0 | BG125: =IF(N125="zákl. přenesená",J125,0) -> 0 | BH125: =IF(N125="sníž. přenesená",J125,0) -> 0 | BI125: =IF(N125="nulová",J125,0) -> 0 | BJ125: 1 | BK125: =ROUND(I125*H125,2) -> 0 | BL125: 1024 | BM125: 1879482614
D126: PP | F126: Geodetické práce před výstavbou - vytýčení sítí | AT126: PP | AU126: 2
C127: 3 | D127: K | E127: 012203000 | F127: Geodetické vytýčení stavby v průběhu výstavby a zaměření skutečného stavu | G127: Kč | H127: 1 | J127: =ROUND(I127*H127,2) -> 0 | N127: základní | O127: 0 | P127: =O127*H127 -> 0 | Q127: 0 | R127: =Q127*H127 -> 0 | S127: 0 | T127: =S127*H127 -> 0 | AR127: 1024 | AT127: K | AU127: 2 | AY127: ROZPOCET | BE127: =IF(N127="základní",J127,0) -> 0 | BF127: =IF(N127="snížená",J127,0) -> 0 | BG127: =IF(N127="zákl. přenesená",J127,0) -> 0 | BH127: =IF(N127="sníž. přenesená",J127,0) -> 0 | BI127: =IF(N127="nulová",J127,0) -> 0 | BJ127: 1 | BK127: =ROUND(I127*H127,2) -> 0 | BL127: 1024 | BM127: 474446863
D128: PP | F128: Geodetické práce při provádění stavby | AT128: PP | AU128: 2
C129: 4 | D129: K | E129: 013254000 | F129: Dokumentace skutečného provedení stavby - 4x tištěná, 1x na CD | G129: Kč | H129: 1 | J129: =ROUND(I129*H129,2) -> 0 | N129: základní | O129: 0 | P129: =O129*H129 -> 0 | Q129: 0 | R129: =Q129*H129 -> 0 | S129: 0 | T129: =S129*H129 -> 0 | AR129: 1024 | AT129: K | AU129: 2 | AY129: ROZPOCET | BE129: =IF(N129="základní",J129,0) -> 0 | BF129: =IF(N129="snížená",J129,0) -> 0 | BG129: =IF(N129="zákl. přenesená",J129,0) -> 0 | BH129: =IF(N129="sníž. přenesená",J129,0) -> 0 | BI129: =IF(N129="nulová",J129,0) -> 0 | BJ129: 1 | BK129: =ROUND(I129*H129,2) -> 0 | BL129: 1024 | BM129: 380122023
D130: PP | F130: Dokumentace skutečného provedení stavby | AT130: PP | AU130: 2
C131: 5 | D131: K | E131: 013294000 | F131: Ostatní dokumentace stavby - RDS (realizační dokumentace stavby 3x tištěně 1x digitálně) | G131: soubor | H131: 1 | J131: =ROUND(I131*H131,2) -> 0 | N131: základní | O131: 0 | P131: =O131*H131 -> 0 | Q131: 0 | R131: =Q131*H131 -> 0 | S131: 0 | T131: =S131*H131 -> 0 | AR131: 1024 | AT131: K | AU131: 2 | AY131: ROZPOCET | BE131: =IF(N131="základní",J131,0) -> 0 | BF131: =IF(N131="snížená",J131,0) -> 0 | BG131: =IF(N131="zákl. přenesená",J131,0) -> 0 | BH131: =IF(N131="sníž. přenesená",J131,0) -> 0 | BI131: =IF(N131="nulová",J131,0) -> 0 | BJ131: 1 | BK131: =ROUND(I131*H131,2) -> 0 | BL131: 1024 | BM131: -1992676110
D132: PP | F132: Ostatní dokumentace stavby | AT132: PP | AU132: 2
D133: D | E133: VRN3 | F133: Zařízení staveniště | J133: =BK133 -> 0 | P133: =SUM(P134:P145) -> 0 | R133: =SUM(R134:R145) -> 0 | T133: =SUM(T134:T145) -> 0 | AR133: 5 | AT133: D | AU133: 1 | AY133: ROZPOCET | BK133: =SUM(BK134:BK145) -> 0
C134: 6 | D134: K | E134: 030001000 | F134: Zařízení staveniště | G134: Kč | H134: 1 | J134: =ROUND(I134*H134,2) -> 0 | N134: základní | O134: 0 | P134: =O134*H134 -> 0 | Q134: 0 | R134: =Q134*H134 -> 0 | S134: 0 | T134: =S134*H134 -> 0 | AR134: 1024 | AT134: K | AU134: 2 | AY134: ROZPOCET | BE134: =IF(N134="základní",J134,0) -> 0 | BF134: =IF(N134="snížená",J134,0) -> 0 | BG134: =IF(N134="zákl. přenesená",J134,0) -> 0 | BH134: =IF(N134="sníž. přenesená",J134,0) -> 0 | BI134: =IF(N134="nulová",J134,0) -> 0 | BJ134: 1 | BK134: =ROUND(I134*H134,2) -> 0 | BL134: 1024 | BM134: 889373520
D135: PP | F135: Zařízení staveniště | AT135: PP | AU135: 2
C136: 7 | D136: K | E136: 032903000 | F136: Náklady na provoz a údržbu vybavení staveniště | G136: Kč | H136: 1 | J136: =ROUND(I136*H136,2) -> 0 | N136: základní | O136: 0 | P136: =O136*H136 -> 0 | Q136: 0 | R136: =Q136*H136 -> 0 | S136: 0 | T136: =S136*H136 -> 0 | AR136: 1024 | AT136: K | AU136: 2 | AY136: ROZPOCET | BE136: =IF(N136="základní",J136,0) -> 0 | BF136: =IF(N136="snížená",J136,0) -> 0 | BG136: =IF(N136="zákl. přenesená",J136,0) -> 0 | BH136: =IF(N136="sníž. přenesená",J136,0) -> 0 | BI136: =IF(N136="nulová",J136,0) -> 0 | BJ136: 1 | BK136: =ROUND(I136*H136,2) -> 0 | BL136: 1024 | BM136: 457628991
D137: PP | F137: Náklady na provoz a údržbu vybavení staveniště | AT137: PP | AU137: 2
C138: 8 | D138: K | E138: 034303000 | F138: Dopravní značení na staveništi - Dopravně inženýrské opatření v průběhu výstavby dle TP66 - osazení dočasného dopr.značení vč.opatření pro zajištění dopravy-zřízení a odstranění, manipulace, pronájmu vč.projektu a zajištění dopr. inženýrského rozhodnutí | G138: Kč | H138: 1 | J138: =ROUND(I138*H138,2) -> 0 | N138: základní | O138: 0 | P138: =O138*H138 -> 0 | Q138: 0 | R138: =Q138*H138 -> 0 | S138: 0 | T138: =S138*H138 -> 0 | AR138: 1024 | AT138: K | AU138: 2 | AY138: ROZPOCET | BE138: =IF(N138="základní",J138,0) -> 0 | BF138: =IF(N138="snížená",J138,0) -> 0 | BG138: =IF(N138="zákl. přenesená",J138,0) -> 0 | BH138: =IF(N138="sníž. přenesená",J138,0) -> 0 | BI138: =IF(N138="nulová",J138,0) -> 0 | BJ138: 1 | BK138: =ROUND(I138*H138,2) -> 0 | BL138: 1024 | BM138: -1442255694
D139: PP | F139: Dopravní značení na staveništi | AT139: PP | AU139: 2
C140: 9 | D140: K | E140: 034403001 | F140: Pomocné práce zajištění nebo řízení regulaci a ochranu dopravy - úhrnná částka musí obsahovat veškeré nákl. na dočasné úpravy a regulaci dopr.(i pěší) na staveništi a oplocení a ochranu výkopů | G140: Kč | H140: 1 | J140: =ROUND(I140*H140,2) -> 0 | N140: základní | O140: 0 | P140: =O140*H140 -> 0 | Q140: 0 | R140: =Q140*H140 -> 0 | S140: 0 | T140: =S140*H140 -> 0 | AR140: 1024 | AT140: K | AU140: 2 | AY140: ROZPOCET | BE140: =IF(N140="základní",J140,0) -> 0 | BF140: =IF(N140="snížená",J140,0) -> 0 | BG140: =IF(N140="zákl. přenesená",J140,0) -> 0 | BH140: =IF(N140="sníž. přenesená",J140,0) -> 0 | BI140: =IF(N140="nulová",J140,0) -> 0 | BJ140: 1 | BK140: =ROUND(I140*H140,2) -> 0 | BL140: 1024 | BM140: -949369690
D141: PP | F141: "pro zajištění dopravy a přístupu k nemovitostem (např.lávky, nájezdy) a zajištění staveniště dle BOZP (ochranná oplocení, zajištění výkopů a pod..)" | AT141: PP | AU141: 2
C142: 10 | D142: K | E142: 034503000 | F142: Informační tabule na staveništi - označení stavby dle vzoru dodavatele | G142: kus | H142: 1 | J142: =ROUND(I142*H142,2) -> 0 | N142: základní | O142: 0 | P142: =O142*H142 -> 0 | Q142: 0 | R142: =Q142*H142 -> 0 | S142: 0 | T142: =S142*H142 -> 0 | AR142: 1024 | AT142: K | AU142: 2 | AY142: ROZPOCET | BE142: =IF(N142="základní",J142,0) -> 0 | BF142: =IF(N142="snížená",J142,0) -> 0 | BG142: =IF(N142="zákl. přenesená",J142,0) -> 0 | BH142: =IF(N142="sníž. přenesená",J142,0) -> 0 | BI142: =IF(N142="nulová",J142,0) -> 0 | BJ142: 1 | BK142: =ROUND(I142*H142,2) -> 0 | BL142: 1024 | BM142: -57925172
D143: PP | F143: Informační tabule na staveništi | AT143: PP | AU143: 2
C144: 11 | D144: K | E144: 039103000 | F144: Rozebrání, bourání a odvoz zařízení staveniště | G144: Kč | H144: 1 | J144: =ROUND(I144*H144,2) -> 0 | N144: základní | O144: 0 | P144: =O144*H144 -> 0 | Q144: 0 | R144: =Q144*H144 -> 0 | S144: 0 | T144: =S144*H144 -> 0 | AR144: 1024 | AT144: K | AU144: 2 | AY144: ROZPOCET | BE144: =IF(N144="základní",J144,0) -> 0 | BF144: =IF(N144="snížená",J144,0) -> 0 | BG144: =IF(N144="zákl. přenesená",J144,0) -> 0 | BH144: =IF(N144="sníž. přenesená",J144,0) -> 0 | BI144: =IF(N144="nulová",J144,0) -> 0 | BJ144: 1 | BK144: =ROUND(I144*H144,2) -> 0 | BL144: 1024 | BM144: 2123309605
D145: PP | F145: Rozebrání, bourání a odvoz zařízení staveniště | AT145: PP | AU145: 2
D146: D | E146: VRN4 | F146: Inženýrská činnost | J146: =BK146 -> 0 | P146: =SUM(P147:P150) -> 0 | R146: =SUM(R147:R150) -> 0 | T146: =SUM(T147:T150) -> 0 | AR146: 5 | AT146: D | AU146: 1 | AY146: ROZPOCET | BK146: =SUM(BK147:BK150) -> 0
C147: 12 | D147: K | E147: 041903000 | F147: Dozor jiné osoby - geotechnické posouzení (2 návštěva stavby) | G147: kus | H147: 2 | J147: =ROUND(I147*H147,2) -> 0 | N147: základní | O147: 0 | P147: =O147*H147 -> 0 | Q147: 0 | R147: =Q147*H147 -> 0 | S147: 0 | T147: =S147*H147 -> 0 | AR147: 1024 | AT147: K | AU147: 2 | AY147: ROZPOCET | BE147: =IF(N147="základní",J147,0) -> 0 | BF147: =IF(N147="snížená",J147,0) -> 0 | BG147: =IF(N147="zákl. přenesená",J147,0) -> 0 | BH147: =IF(N147="sníž. přenesená",J147,0) -> 0 | BI147: =IF(N147="nulová",J147,0) -> 0 | BJ147: 1 | BK147: =ROUND(I147*H147,2) -> 0 | BL147: 1024 | BM147: 937509192
D148: PP | F148: Dozor jiné osoby | AT148: PP | AU148: 2
C149: 13 | D149: K | E149: 043134000 | F149: Zkoušky zatěžovací - provedení zatěžovacích statických zkoušek pro ověření únosnosti pláně | G149: kus | H149: 6 | J149: =ROUND(I149*H149,2) -> 0 | N149: základní | O149: 0 | P149: =O149*H149 -> 0 | Q149: 0 | R149: =Q149*H149 -> 0 | S149: 0 | T149: =S149*H149 -> 0 | AR149: 1024 | AT149: K | AU149: 2 | AY149: ROZPOCET | BE149: =IF(N149="základní",J149,0) -> 0 | BF149: =IF(N149="snížená",J149,0) -> 0 | BG149: =IF(N149="zákl. přenesená",J149,0) -> 0 | BH149: =IF(N149="sníž. přenesená",J149,0) -> 0 | BI149: =IF(N149="nulová",J149,0) -> 0 | BJ149: 1 | BK149: =ROUND(I149*H149,2) -> 0 | BL149: 1024 | BM149: -1046019230
D150: PP | F150: Zkoušky zatěžovací | AT150: PP | AU150: 2

Sheet Seznam figur
C4: SEZNAM FIGUR
C5: Kód: | D5: 23-52
C6: Stavba: | D6: Rekonstrukce místní komunikace Zadražany
C7: Datum: | D7: ='Rekapitulace stavby'!AN8 -> 19. 2. 2026
C9: Kód | D9: Popis | E9: MJ | F9: Výměra
C10: SO 101 | D10: Komunikace
C11: hl | F11: 2.1
C12: hl | D12: "průměrná hloubka výkopu" 2,1 | F12: 2.1
C13: Použití figury:
C14: 132254204 | D14: Hloubení zapažených rýh š do 2000 mm v hornině třídy těžitelnosti I skupiny 3 objem do 500 m3 | E14: m3 | F14: 330.11
C15: 151101101 | D15: Zřízení příložného pažení a rozepření stěn rýh hl do 2 m | E15: m2 | F15: 840
C16: 174151101 | D16: Zásyp jam, šachet rýh nebo kolem objektů sypaninou se zhutněním | E16: m3 | F16: 163.865
C17: chodasf | F17: 9.5
C18: chodasf | D18: "Chodník - asfaltový kryt - dle tabulky kubatur" 9,5 | F18: 9.5
C19: Použití figury:
C20: 181951112 | D20: Úprava pláně v hornině třídy těžitelnosti I skupiny 1 až 3 se zhutněním strojně | E20: m2 | F20: 2152.85
C21: 564851011 | D21: Podklad ze štěrkodrtě ŠD plochy do 100 m2 tl 150 mm | E21: m2 | F21: 71.35
C22: 565135011 | D22: Asfaltový beton vrstva podkladní ACP 16 + tl 50 mm š do 3 m z nemodifikovaného asfaltu | E22: m2 | F22: 9.5
C23: 573211107 | D23: Postřik živičný spojovací z asfaltu v množství 0,30 kg/m2 | E23: m2 | F23: 386.8
C24: 577134111 | D24: Asfaltový beton vrstva obrusná ACO 11+ tř. I tl 40 mm š do 3 m z nemodifikovaného asfaltu | E24: m2 | F24: 9.5
C25: chodzamk | F25: 47.1
C26: chodzamk | D26: "Chodník - zámkovka - dle tabulky kubatur" 47,1 | F26: 47.1
C27: Použití figury:
C28: 181951112 | D28: Úprava pláně v hornině třídy těžitelnosti I skupiny 1 až 3 se zhutněním strojně | E28: m2 | F28: 2152.85
C29: 564851011 | D29: Podklad ze štěrkodrtě ŠD plochy do 100 m2 tl 150 mm | E29: m2 | F29: 71.35
C30: 596211110 | D30: Kladení zámkové dlažby komunikací pro pěší ručně tl 60 mm skupiny A pl do 50 m2 | E30: m2 | F30: 52.35
C31: 59245018 | D31: dlažba skladebná betonová 200x100mm tl 60mm přírodní | E31: m2 | F31: 48.513
C32: komasf | F32: 377.3
C33: komasf | D33: "Komunikace - asfalt - dle tabulky kubatur" 343*1,1 | F33: 377.3
C34: Použití figury:
C35: 181951112 | D35: Úprava pláně v hornině třídy těžitelnosti I skupiny 1 až 3 se zhutněním strojně | E35: m2 | F35: 2152.85
C36: 564851111 | D36: Podklad ze štěrkodrtě ŠD plochy přes 100 m2 tl 150 mm | E36: m2 | F36: 1558.6
C37: 564861111 | D37: Podklad ze štěrkodrtě ŠD plochy přes 100 m2 tl 200 mm | E37: m2 | F37: 1558.6
C38: 565165021 | D38: Asfaltový beton vrstva podkladní ACP 16 + tl 80 mm š přes 3 m z nemodifikovaného asfaltu | E38: m2 | F38: 377.3
C39: 573211107 | D39: Postřik živičný spojovací z asfaltu v množství 0,30 kg/m2 | E39: m2 | F39: 386.8
C40: 577134121 | D40: Asfaltový beton vrstva obrusná ACO 11+ tř. I tl 40 mm š přes 3 m z nemodifikovaného asfaltu | E40: m2 | F40: 377.3
C41: komzamk | F41: 1091.2
C42: komzamk | D42: "Komunikace - zámková dlažba - dle tabulky kubatur" 992*1,1 | F42: 1091.2
C43: Použití figury:
C44: 181951112 | D44: Úprava pláně v hornině třídy těžitelnosti I skupiny 1 až 3 se zhutněním strojně | E44: m2 | F44: 2152.85
C45: 564851111 | D45: Podklad ze štěrkodrtě ŠD plochy přes 100 m2 tl 150 mm | E45: m2 | F45: 1558.6
C46: 564861111 | D46: Podklad ze štěrkodrtě ŠD plochy přes 100 m2 tl 200 mm | E46: m2 | F46: 1558.6
C47: 596212313 | D47: Kladení zámkové dlažby pozemních komunikací ručně tl do 100 mm skupiny A pl přes 300 m2 | E47: m2 | F47: 1181.3
C48: 59245296 | D48: dlažba zámková betonová tvaru I 200x165mm tl 100mm přírodní | E48: m2 | F48: 1102.112
C49: L150 | F49: 163.5
D50: "napojení UV - dle tabulky kubatur" 34 | F50: 34
D51: "napojení žlabů - dle tabulky kubatur" 129,5 | F51: 129.5
C52: L150 | D52: Součet | F52: 163.5
C53: Použití figury:
C54: 871313123 | D54: Montáž kanalizačního potrubí hladkého plnostěnného SN 12 z PVC-U DN 160 | E54: m | F54: 163.5
C55: 132254204 | D55: Hloubení zapažených rýh š do 2000 mm v hornině třídy těžitelnosti I skupiny 3 objem do 500 m3 | E55: m3 | F55: 330.11
C56: 151101101 | D56: Zřízení příložného pažení a rozepření stěn rýh hl do 2 m | E56: m2 | F56: 840
C57: 174151101 | D57: Zásyp jam, šachet rýh nebo kolem objektů sypaninou se zhutněním | E57: m3 | F57: 163.865
C58: 175151101 | D58: Obsypání potrubí strojně sypaninou bez prohození, uloženou do 3 m | E58: m3 | F58: 101.746
C59: 212751104 | D59: Trativod z drenážních trubek flexibilních PVC-U SN 4 perforace 360° včetně lože otevřený výkop DN 100 pro meliorace | E59: m | F59: 200
C60: 451573111 | D60: Lože pod potrubí otevřený výkop ze štěrkopísku | E60: m3 | F60: 27.052
C61: 892351111 | D61: Tlaková zkouška vodou potrubí DN 150 nebo 200 | E61: m | F61: 163.5
C62: L300 | F62: 36.5
C63: L300 | D63: "prodloužení dešťové kanalizace - dle tabulky kubatur" 36,5 | F63: 36.5
C64: Použití figury:
C65: 871373123 | D65: Montáž kanalizačního potrubí hladkého plnostěnného SN 12 z PVC-U DN 315 | E65: m | F65: 36.5
C66: 132254204 | D66: Hloubení zapažených rýh š do 2000 mm v hornině třídy těžitelnosti I skupiny 3 objem do 500 m3 | E66: m3 | F66: 330.11
C67: 151101101 | D67: Zřízení příložného pažení a rozepření stěn rýh hl do 2 m | E67: m2 | F67: 840
C68: 174151101 | D68: Zásyp jam, šachet rýh nebo kolem objektů sypaninou se zhutněním | E68: m3 | F68: 163.865
C69: 175151101 | D69: Obsypání potrubí strojně sypaninou bez prohození, uloženou do 3 m | E69: m3 | F69: 101.746
C70: 212751104 | D70: Trativod z drenážních trubek flexibilních PVC-U SN 4 perforace 360° včetně lože otevřený výkop DN 100 pro meliorace | E70: m | F70: 200
C71: 451573111 | D71: Lože pod potrubí otevřený výkop ze štěrkopísku | E71: m3 | F71: 27.052
C72: 892381111 | D72: Tlaková zkouška vodou potrubí DN 250, DN 300 nebo 350 | E72: m | F72: 36.5
C73: napojení | F73: 19.8
C74: napojení | D74: "napojení na stávající stav - dle tabulky kubatur" 19,8 | F74: 19.8
C75: Použití figury:
C76: 113154512 | D76: Frézování živičného krytu tl 40 mm pruh š do 0,5 m pl do 500 m2 | E76: m2 | F76: 19.8
C77: 113154516 | D77: Frézování živičného krytu tl 80 mm pruh š do 0,5 m pl do 500 m2 | E77: m2 | F77: 9.9
C78: 566901261 | D78: Vyspravení podkladu po překopech inženýrských sítí plochy přes 15 m2 obalovaným kamenivem ACP tl. do 100 mm | E78: m2 | F78: 9.9
C79: 572341111 | D79: Vyspravení krytu komunikací po překopech pl přes 15 m2 asfalt betonem ACO tl přes 30 do 50 mm | E79: m2 | F79: 19.8
C80: 573231106 | D80: Postřik živičný spojovací ze silniční emulze v množství 0,30 kg/m2 | E80: m2 | F80: 19.8
C81: 573231108 | D81: Postřik živičný spojovací ze silniční emulze v množství 0,50 kg/m2 | E81: m2 | F81: 9.9
C82: odkop | F82: 1131.97
D83: "dle tabulky kubatur" 969 | F83: 969
D84: "odpočet vybouraných konstrukcí - dle tabulky kubatur" -555 | F84: -555
D85: "odkop pro sanaci aktivní zóny - dle tabulky kubatur" 1604*0,3*1,1+343*0,5*1,1 | F85: 717.97
C86: odkop | D86: Součet | F86: 1131.97
C87: Použití figury:
C88: 122251106 | D88: Odkopávky a prokopávky nezapažené v hornině třídy těžitelnosti I skupiny 3 objem do 5000 m3 strojně | E88: m3 | F88: 1131.97
C89: 162751117 | D89: Vodorovné přemístění přes 9 000 do 10000 m výkopku/sypaniny z horniny třídy těžitelnosti I skupiny 1 až 3 | E89: m3 | F89: 1462.08
C90: odvoz | F90: 1462.08
C91: odvoz | D91: odkop+rýhy | F91: 1462.08
C92: Použití figury:
C93: 162751117 | D93: Vodorovné přemístění přes 9 000 do 10000 m výkopku/sypaniny z horniny třídy těžitelnosti I skupiny 1 až 3 | E93: m3 | F93: 1462.08
C94: 162751119 | D94: Příplatek k vodorovnému přemístění výkopku/sypaniny z horniny třídy těžitelnosti I skupiny 1 až 3 ZKD 1000 m přes 10000 m | E94: m3 | F94: 16082.88
C95: 171201231 | D95: Poplatek za předání recyklačnímu zařízení zeminy a kamení kód odpadu 17 05 04 | E95: t | F95: 2924.16
C96: 171251201 | D96: Uložení sypaniny na skládky nebo meziskládky | E96: m3 | F96: 1462.08
C97: parkzamk | F97: 213
C98: parkzamk | D98: "Parkovací stání - zámková dlažba - dle tabulky kubatur" 213 | F98: 213
C99: Použití figury:
C100: 181951112 | D100: Úprava pláně v hornině třídy těžitelnosti I skupiny 1 až 3 se zhutněním strojně | E100: m2 | F100: 2152.85
C101: 564871111 | D101: Podklad ze štěrkodrtě ŠD plochy přes 100 m2 tl 250 mm | E101: m2 | F101: 1287
C102: 596212212 | D102: Kladení zámkové dlažby pozemních komunikací ručně tl 80 mm skupiny A pl přes 100 do 300 m2 | E102: m2 | F102: 532.4
C103: 59245005 | D103: dlažba skladebná betonová 200x100mm tl 80mm barevná | E103: m2 | F103: 217.26
C104: prah | F104: 60.7
...
