Workbook

Sheet Rekapitulace stavby
A1: Export Komplet | BA1: 2.0 | BB1: ZAMOK | BT1: False | BU1: False | BV1: {7cc34919-81a3-4be4-90f8-a7188a8c3cfc}
BS2: 0,01 | BT2: 21
BS3: 0,01 | BT3: 12
D4: REKAPITULACE STAVBY | AS4: v --- níže se nacházejí doplnkové a pomocné údaje k sestavám --- v | BE4: Návod na vyplnění | BS4: 0,001
D5: Kód: | K5: 03_2026_AKTUALIZACE | BE5: Měnit lze pouze buňky se žlutým podbarvením!_x000D_ _x000D_ 1) na prvním listu Rekapitulace stavby vyplňte v sestavě_x000D_ _x000D_ a) Souhrnný list_x000D_ - údaje o Uchazeči_x000D_ (přenesou se do ostatních sestav i v jiných listech)_x000D_ _x000D_ b) Rekapitulace objektů_x000D_ - potřebné Ostatní náklady_x000D_ _x000D_ 2) na vybraných listech vyplňte v sestavě_x000D_ _x000D_ a) Krycí list_x000D_ - údaje o Uchazeči, pokud se liší od údajů o Uchazeči na Souhrnném listu_x000D_ (údaje se přenesou do ostatních sestav v daném listu)_x000D_ _x000D_ b) Rekapitulace rozpočtu_x000D_ - potřebné Ostatní náklady_x000D_ _x000D_ c) Celkové náklady za stavbu_x000D_ - ceny u položek_x000D_ - množství, pokud má žluté podbarvení_x000D_ - a v případě potřeby poznámku (ta je ve skrytém sloupci) | BS5: 0,01
D6: Stavba: | K6: MŠ KOVÁŘSKÁ II - REKONSTRUKCE OBJEKTU | BS6: 0,01
D7: KSO: | AK7: CC-CZ: | BS7: 0,01
D8: Místo: | K8: U Školičky 2176/1, 2177/3, Praha 9 | AK8: Datum: | AN8: 19. 12. 2025 | BS8: 0,01
BS9: 0,01
D10: Zadavatel: | AK10: IČ: | BS10: 0,01
E11: MČ Praha 9 | AK11: DIČ: | BS11: 0,01
BS12: 0,01
D13: Uchazeč: | AK13: IČ: | AN13: Vyplň údaj | BS13: 0,01
E14: Vyplň údaj | AK14: DIČ: | AN14: Vyplň údaj | BS14: 0,01
BS15: False
D16: Projektant: | AK16: IČ: | BS16: False
E17: ArtStat s.r.o. | AK17: DIČ: | BS17: True
BS18: 0,01
D19: Zpracovatel: | AK19: IČ: | BS19: 0,01
E20: Vladimír Mrázek | AK20: DIČ: | BS20: True
D22: Poznámka:
E23: Soupis prací je sestaven s využitím položek Cenové soustavy ÚRS (cenová úroveň 2026/I). Veškeré další informace vymezující popis a podmínky použití těchto položek z Cenové soustavy, které nejsou uvedeny přímo v soupisu prací, jsou neomezeně dálkově k dispozici na webu www.podminky.urs.cz. Položky soupisu prací, které nemají ve sloupci „Cenová soustava“ veden žádný údaj, nepochází z Cenové soustavy ÚRS. Soupis prací je zpracován v rozsahu a podrobnosti projektu pro provádění stavby. Součástí položek uvedených ve výkazu výměr jsou i veškeré s nimi spojené práce, které jsou zapotřebí pro provedení kompletní dodávky díla tak, aby cena byla konečná a zahrnovala celou dodávku a to i když nejsou tyto práce zvlášť uvedeny ve výkazu výměr. To znamená, že veškeré položky patrné z výkazů, tabulek, detailů, výkresů a technických zpráv je třeba v nabídkové ceně ocenit jako kompletně vykonané práce vč. materiálu, nářadí a strojů nutných k práci, i když tyto nejsou ve výkazu výměr vypsány zvlášť. V případě, že má zhotovitel pochyby ohledně plánovaných položek ve výkazech, výkresech a technických zprávách, má za povinnost toto sdělit před odevzdáním nabídkové ceny. Po odevzdání nebude brán na zhotovitelem požadované položky navíc zřetel. Výkaz výměr neslouží jako podklad pro objednávky materiálu v rámci dodávky stavby.
D26: Cena bez DPH | AK26: =ROUND(AG94,2) -> 0
L28: Sazba daně | W28: Základ daně | AK28: Výše daně
D29: DPH | F29: základní | L29: 0.21 | W29: =ROUND(AZ94, 2) -> 0 | AK29: =ROUND(AV94, 2) -> 0
F30: snížená | L30: 0.12 | W30: =ROUND(BA94, 2) -> 0 | AK30: =ROUND(AW94, 2) -> 0
F31: zákl. přenesená | L31: 0.21 | W31: =ROUND(BB94, 2) -> 0 | AK31: 0
F32: sníž. přenesená | L32: 0.12 | W32: =ROUND(BC94, 2) -> 0 | AK32: 0
F33: nulová | L33: 0 | W33: =ROUND(BD94, 2) -> 0 | AK33: 0
D35: Cena s DPH | T35: v | X35: CZK | AK35: =SUM(AK26:AK33) -> 0 | BE35: Legenda k revizím dokumentu
BE37: Revize 1 - 8.9.2026
BE38: Revize 2 - 9.9.2026
BE39: Revize 3 - 10.9.2026
BE40: Revize 4 - 18.9.2026
BE41: Revize 5 - 26.9.2026
BE42: Revize 6 - 15.10.2026
BE43: odstraněná položka
D49: Projektant | AH49: Zpracovatel
D60: Datum a podpis: | V60: Razítko | AH60: Datum a podpis: | AM60: Razítko
D64: Objednavatel | AH64: Uchazeč
D75: Datum a podpis: | V75: Razítko | AH75: Datum a podpis: | AM75: Razítko
C82: REKAPITULACE OBJEKTŮ STAVBY A SOUPISŮ PRACÍ
C84: Kód: | L84: =K5 -> 03_2026_AKTUALIZACE
C85: Stavba: | L85: =K6 -> MŠ KOVÁŘSKÁ II - REKONSTRUKCE OBJEKTU
C87: Místo: | L87: =IF(K8="","",K8) -> U Školičky 2176/1, 2177/3, Praha 9 | AI87: Datum: | AM87: =IF(AN8= "","",AN8) -> 19. 12. 2025
C89: Zadavatel: | L89: =IF(E11= "","",E11) -> MČ Praha 9 | AI89: Projektant: | AM89: =IF(E17="","",E17) -> ArtStat s.r.o. | AS89: Informatívní údaje z listů zakázek
C90: Uchazeč: | L90: =IF(E14= "Vyplň údaj","",E14) | AI90: Zpracovatel: | AM90: =IF(E20="","",E20) -> Vladimír Mrázek
C92: Kód | I92: Popis | AG92: Cena bez DPH [CZK] | AN92: Cena s DPH [CZK] | AQ92: Typ | AS92: z toho Ostat._x000D_ náklady [CZK] | AT92: DPH [CZK] | AU92: Normohodiny [h] | AV92: DPH základní [CZK] | AW92: DPH snížená [CZK] | AX92: DPH základní přenesená_x000D_ [CZK] | AY92: DPH snížená přenesená_x000D_ [CZK] | AZ92: Základna_x000D_ DPH základní | BA92: Základna_x000D_ DPH snížená | BB92: Základna_x000D_ DPH zákl. přenesená | BC92: Základna_x000D_ DPH sníž. přenesená | BD92: Základna_x000D_ DPH nulová
C94: Náklady z rozpočtů | AG94: =ROUND(SUM(AG95:AG115),2) -> 0 | AN94: =SUM(AG94,AT94) -> 0 | AS94: =ROUND(SUM(AS95:AS115),2) -> 0 | AT94: =ROUND(SUM(AV94:AW94),2) -> 0 | AU94: =ROUND(SUM(AU95:AU115),5) -> 0 | AV94: =ROUND(AZ94*L29,2) -> 0 | AW94: =ROUND(BA94*L30,2) -> 0 | AX94: =ROUND(BB94*L29,2) -> 0 | AY94: =ROUND(BC94*L30,2) -> 0 | AZ94: =ROUND(SUM(AZ95:AZ115),2) -> 0 | BA94: =ROUND(SUM(BA95:BA115),2) -> 0 | BB94: =ROUND(SUM(BB95:BB115),2) -> 0 | BC94: =ROUND(SUM(BC95:BC115),2) -> 0 | BD94: =ROUND(SUM(BD95:BD115),2) -> 0 | BS94: D | BT94: 0 | BU94: ###NOIMPORT### | BV94: IMPORT | BW94: {7cc34919-81a3-4be4-90f8-a7188a8c3cfc} | BX94: {00000000-0000-0000-0000-000000000000}
A95: / | D95: 01 | J95: VEDLEJŠÍ A OSTATNÍ NÁKLADY | AG95: ='01 - VEDLEJŠÍ A OSTATNÍ N...'!J30 -> 0 | AN95: =SUM(AG95,AT95) -> 0 | AQ95: STA | AS95: 0 | AT95: =ROUND(SUM(AV95:AW95),2) -> 0 | AU95: ='01 - VEDLEJŠÍ A OSTATNÍ N...'!P121 -> 0 | AV95: ='01 - VEDLEJŠÍ A OSTATNÍ N...'!J33 -> 0 | AW95: ='01 - VEDLEJŠÍ A OSTATNÍ N...'!J34 -> 0 | AX95: ='01 - VEDLEJŠÍ A OSTATNÍ N...'!J35 -> 0 | AY95: ='01 - VEDLEJŠÍ A OSTATNÍ N...'!J36 -> 0 | AZ95: ='01 - VEDLEJŠÍ A OSTATNÍ N...'!F33 -> 0 | BA95: ='01 - VEDLEJŠÍ A OSTATNÍ N...'!F34 -> 0 | BB95: ='01 - VEDLEJŠÍ A OSTATNÍ N...'!F35 -> 0 | BC95: ='01 - VEDLEJŠÍ A OSTATNÍ N...'!F36 -> 0 | BD95: ='01 - VEDLEJŠÍ A OSTATNÍ N...'!F37 -> 0 | BT95: 1 | BV95: IMPORT | BW95: {c9581ed6-97e6-419d-8ee4-aebe8d031f6b} | BX95: {7cc34919-81a3-4be4-90f8-a7188a8c3cfc} | CM95: 2
A96: / | D96: 02 | J96: KÁCENÍ, OCHRANA ZELENĚ | AG96: ='02 - KÁCENÍ, OCHRANA ZELENĚ'!J30 -> 0 | AN96: =SUM(AG96,AT96) -> 0 | AQ96: STA | AS96: 0 | AT96: =ROUND(SUM(AV96:AW96),2) -> 0 | AU96: ='02 - KÁCENÍ, OCHRANA ZELENĚ'!P119 -> 0 | AV96: ='02 - KÁCENÍ, OCHRANA ZELENĚ'!J33 -> 0 | AW96: ='02 - KÁCENÍ, OCHRANA ZELENĚ'!J34 -> 0 | AX96: ='02 - KÁCENÍ, OCHRANA ZELENĚ'!J35 -> 0 | AY96: ='02 - KÁCENÍ, OCHRANA ZELENĚ'!J36 -> 0 | AZ96: ='02 - KÁCENÍ, OCHRANA ZELENĚ'!F33 -> 0 | BA96: ='02 - KÁCENÍ, OCHRANA ZELENĚ'!F34 -> 0 | BB96: ='02 - KÁCENÍ, OCHRANA ZELENĚ'!F35 -> 0 | BC96: ='02 - KÁCENÍ, OCHRANA ZELENĚ'!F36 -> 0 | BD96: ='02 - KÁCENÍ, OCHRANA ZELENĚ'!F37 -> 0 | BT96: 1 | BV96: IMPORT | BW96: {45e6b28a-913f-44bc-a50b-1a7d134649f0} | BX96: {7cc34919-81a3-4be4-90f8-a7188a8c3cfc} | CM96: 2
A97: / | D97: 03 | J97: BOURACÍ PRÁCE, DEMOLICE | AG97: ='03 - BOURACÍ PRÁCE, DEMOLICE'!J30 -> 0 | AN97: =SUM(AG97,AT97) -> 0 | AQ97: STA | AS97: 0 | AT97: =ROUND(SUM(AV97:AW97),2) -> 0 | AU97: ='03 - BOURACÍ PRÁCE, DEMOLICE'!P122 -> 0 | AV97: ='03 - BOURACÍ PRÁCE, DEMOLICE'!J33 -> 0 | AW97: ='03 - BOURACÍ PRÁCE, DEMOLICE'!J34 -> 0 | AX97: ='03 - BOURACÍ PRÁCE, DEMOLICE'!J35 -> 0 | AY97: ='03 - BOURACÍ PRÁCE, DEMOLICE'!J36 -> 0 | AZ97: ='03 - BOURACÍ PRÁCE, DEMOLICE'!F33 -> 0 | BA97: ='03 - BOURACÍ PRÁCE, DEMOLICE'!F34 -> 0 | BB97: ='03 - BOURACÍ PRÁCE, DEMOLICE'!F35 -> 0 | BC97: ='03 - BOURACÍ PRÁCE, DEMOLICE'!F36 -> 0 | BD97: ='03 - BOURACÍ PRÁCE, DEMOLICE'!F37 -> 0 | BT97: 1 | BV97: IMPORT | BW97: {80d1a09e-164f-458c-a35f-e2bfab1fe93d} | BX97: {7cc34919-81a3-4be4-90f8-a7188a8c3cfc} | CM97: 2
A98: / | D98: 04 | J98: STAVEBNÍ PRÁCE | AG98: ='04 - STAVEBNÍ PRÁCE'!J30 -> 0 | AN98: =SUM(AG98,AT98) -> 0 | AQ98: STA | AS98: 0 | AT98: =ROUND(SUM(AV98:AW98),2) -> 0 | AU98: ='04 - STAVEBNÍ PRÁCE'!P141 -> 0 | AV98: ='04 - STAVEBNÍ PRÁCE'!J33 -> 0 | AW98: ='04 - STAVEBNÍ PRÁCE'!J34 -> 0 | AX98: ='04 - STAVEBNÍ PRÁCE'!J35 -> 0 | AY98: ='04 - STAVEBNÍ PRÁCE'!J36 -> 0 | AZ98: ='04 - STAVEBNÍ PRÁCE'!F33 -> 0 | BA98: ='04 - STAVEBNÍ PRÁCE'!F34 -> 0 | BB98: ='04 - STAVEBNÍ PRÁCE'!F35 -> 0 | BC98: ='04 - STAVEBNÍ PRÁCE'!F36 -> 0 | BD98: ='04 - STAVEBNÍ PRÁCE'!F37 -> 0 | BT98: 1 | BV98: IMPORT | BW98: {7fdbab56-7042-41b0-add9-5c160252b741} | BX98: {7cc34919-81a3-4be4-90f8-a7188a8c3cfc} | CM98: 2
A99: / | D99: 05 | J99: ZDRAVOTECHNIKA | AG99: ='05 - ZDRAVOTECHNIKA'!J30 -> 0 | AN99: =SUM(AG99,AT99) -> 0 | AQ99: STA | AS99: 0 | AT99: =ROUND(SUM(AV99:AW99),2) -> 0 | AU99: ='05 - ZDRAVOTECHNIKA'!P130 -> 0 | AV99: ='05 - ZDRAVOTECHNIKA'!J33 -> 0 | AW99: ='05 - ZDRAVOTECHNIKA'!J34 -> 0 | AX99: ='05 - ZDRAVOTECHNIKA'!J35 -> 0 | AY99: ='05 - ZDRAVOTECHNIKA'!J36 -> 0 | AZ99: ='05 - ZDRAVOTECHNIKA'!F33 -> 0 | BA99: ='05 - ZDRAVOTECHNIKA'!F34 -> 0 | BB99: ='05 - ZDRAVOTECHNIKA'!F35 -> 0 | BC99: ='05 - ZDRAVOTECHNIKA'!F36 -> 0 | BD99: ='05 - ZDRAVOTECHNIKA'!F37 -> 0 | BT99: 1 | BV99: IMPORT | BW99: {ac3a8fc6-4d25-4005-8141-87e1ffc0ef30} | BX99: {7cc34919-81a3-4be4-90f8-a7188a8c3cfc} | CM99: 2
A100: / | D100: 06 | J100: VYTÁPĚNÍ + CHLAZENÍ | AG100: ='06 - VYTÁPĚNÍ + CHLAZENÍ'!J30 -> 0 | AN100: =SUM(AG100,AT100) -> 0 | AQ100: STA | AS100: 0 | AT100: =ROUND(SUM(AV100:AW100),2) -> 0 | AU100: ='06 - VYTÁPĚNÍ + CHLAZENÍ'!P123 -> 0 | AV100: ='06 - VYTÁPĚNÍ + CHLAZENÍ'!J33 -> 0 | AW100: ='06 - VYTÁPĚNÍ + CHLAZENÍ'!J34 -> 0 | AX100: ='06 - VYTÁPĚNÍ + CHLAZENÍ'!J35 -> 0 | AY100: ='06 - VYTÁPĚNÍ + CHLAZENÍ'!J36 -> 0 | AZ100: ='06 - VYTÁPĚNÍ + CHLAZENÍ'!F33 -> 0 | BA100: ='06 - VYTÁPĚNÍ + CHLAZENÍ'!F34 -> 0 | BB100: ='06 - VYTÁPĚNÍ + CHLAZENÍ'!F35 -> 0 | BC100: ='06 - VYTÁPĚNÍ + CHLAZENÍ'!F36 -> 0 | BD100: ='06 - VYTÁPĚNÍ + CHLAZENÍ'!F37 -> 0 | BT100: 1 | BV100: IMPORT | BW100: {839cfe0e-b8b1-4b2b-9617-dd96c39e6097} | BX100: {7cc34919-81a3-4be4-90f8-a7188a8c3cfc} | CM100: 2
A101: / | D101: 07 | J101: VZDUCHOTECHNIKA | AG101: ='07 - VZDUCHOTECHNIKA'!J30 -> 0 | AN101: =SUM(AG101,AT101) -> 0 | AQ101: STA | AS101: 0 | AT101: =ROUND(SUM(AV101:AW101),2) -> 0 | AU101: ='07 - VZDUCHOTECHNIKA'!P122 -> 0 | AV101: ='07 - VZDUCHOTECHNIKA'!J33 -> 0 | AW101: ='07 - VZDUCHOTECHNIKA'!J34 -> 0 | AX101: ='07 - VZDUCHOTECHNIKA'!J35 -> 0 | AY101: ='07 - VZDUCHOTECHNIKA'!J36 -> 0 | AZ101: ='07 - VZDUCHOTECHNIKA'!F33 -> 0 | BA101: ='07 - VZDUCHOTECHNIKA'!F34 -> 0 | BB101: ='07 - VZDUCHOTECHNIKA'!F35 -> 0 | BC101: ='07 - VZDUCHOTECHNIKA'!F36 -> 0 | BD101: ='07 - VZDUCHOTECHNIKA'!F37 -> 0 | BT101: 1 | BV101: IMPORT | BW101: {93ef1c06-a1c2-4c9c-a982-cd031a04f85f} | BX101: {7cc34919-81a3-4be4-90f8-a7188a8c3cfc} | CM101: 2
A102: / | D102: 08 | J102: ELEKTROINSTALACE - SILNOPROUD | AG102: ='08 - ELEKTROINSTALACE - S...'!J30 -> 0 | AN102: =SUM(AG102,AT102) -> 0 | AQ102: STA | AS102: 0 | AT102: =ROUND(SUM(AV102:AW102),2) -> 0 | AU102: ='08 - ELEKTROINSTALACE - S...'!P130 -> 0 | AV102: ='08 - ELEKTROINSTALACE - S...'!J33 -> 0 | AW102: ='08 - ELEKTROINSTALACE - S...'!J34 -> 0 | AX102: ='08 - ELEKTROINSTALACE - S...'!J35 -> 0 | AY102: ='08 - ELEKTROINSTALACE - S...'!J36 -> 0 | AZ102: ='08 - ELEKTROINSTALACE - S...'!F33 -> 0 | BA102: ='08 - ELEKTROINSTALACE - S...'!F34 -> 0 | BB102: ='08 - ELEKTROINSTALACE - S...'!F35 -> 0 | BC102: ='08 - ELEKTROINSTALACE - S...'!F36 -> 0 | BD102: ='08 - ELEKTROINSTALACE - S...'!F37 -> 0 | BT102: 1 | BV102: IMPORT | BW102: {9e8f0bd3-8cdb-48c5-a996-e4c008fbfe9d} | BX102: {7cc34919-81a3-4be4-90f8-a7188a8c3cfc} | CM102: 2
A103: / | D103: 09 | J103: HROMOSVOD A UZEMNĚNÍ | AG103: ='09 - HROMOSVOD A UZEMNĚNÍ'!J30 -> 0 | AN103: =SUM(AG103,AT103) -> 0 | AQ103: STA | AS103: 0 | AT103: =ROUND(SUM(AV103:AW103),2) -> 0 | AU103: ='09 - HROMOSVOD A UZEMNĚNÍ'!P120 -> 0 | AV103: ='09 - HROMOSVOD A UZEMNĚNÍ'!J33 -> 0 | AW103: ='09 - HROMOSVOD A UZEMNĚNÍ'!J34 -> 0 | AX103: ='09 - HROMOSVOD A UZEMNĚNÍ'!J35 -> 0 | AY103: ='09 - HROMOSVOD A UZEMNĚNÍ'!J36 -> 0 | AZ103: ='09 - HROMOSVOD A UZEMNĚNÍ'!F33 -> 0 | BA103: ='09 - HROMOSVOD A UZEMNĚNÍ'!F34 -> 0 | BB103: ='09 - HROMOSVOD A UZEMNĚNÍ'!F35 -> 0 | BC103: ='09 - HROMOSVOD A UZEMNĚNÍ'!F36 -> 0 | BD103: ='09 - HROMOSVOD A UZEMNĚNÍ'!F37 -> 0 | BT103: 1 | BV103: IMPORT | BW103: {feddf7dc-5e38-4770-9f77-7a061e5fed50} | BX103: {7cc34919-81a3-4be4-90f8-a7188a8c3cfc} | CM103: 2
A104: / | D104: 10 | J104: DATA | AG104: ='10 - DATA'!J30 -> 0 | AN104: =SUM(AG104,AT104) -> 0 | AQ104: STA | AS104: 0 | AT104: =ROUND(SUM(AV104:AW104),2) -> 0 | AU104: ='10 - DATA'!P119 -> 0 | AV104: ='10 - DATA'!J33 -> 0 | AW104: ='10 - DATA'!J34 -> 0 | AX104: ='10 - DATA'!J35 -> 0 | AY104: ='10 - DATA'!J36 -> 0 | AZ104: ='10 - DATA'!F33 -> 0 | BA104: ='10 - DATA'!F34 -> 0 | BB104: ='10 - DATA'!F35 -> 0 | BC104: ='10 - DATA'!F36 -> 0 | BD104: ='10 - DATA'!F37 -> 0 | BT104: 1 | BV104: IMPORT | BW104: {866284a7-4dfa-463d-97ee-11af1e89565d} | BX104: {7cc34919-81a3-4be4-90f8-a7188a8c3cfc} | CM104: 2
A105: / | D105: 11 | J105: EZS | AG105: ='11 - EZS'!J30 -> 0 | AN105: =SUM(AG105,AT105) -> 0 | AQ105: STA | AS105: 0 | AT105: =ROUND(SUM(AV105:AW105),2) -> 0 | AU105: ='11 - EZS'!P120 -> 0 | AV105: ='11 - EZS'!J33 -> 0 | AW105: ='11 - EZS'!J34 -> 0 | AX105: ='11 - EZS'!J35 -> 0 | AY105: ='11 - EZS'!J36 -> 0 | AZ105: ='11 - EZS'!F33 -> 0 | BA105: ='11 - EZS'!F34 -> 0 | BB105: ='11 - EZS'!F35 -> 0 | BC105: ='11 - EZS'!F36 -> 0 | BD105: ='11 - EZS'!F37 -> 0 | BT105: 1 | BV105: IMPORT | BW105: {77e0baab-3517-40c1-a03d-38f67b21c238} | BX105: {7cc34919-81a3-4be4-90f8-a7188a8c3cfc} | CM105: 2
A106: / | D106: 12 | J106: FVE | AG106: ='12 - FVE'!J30 -> 0 | AN106: =SUM(AG106,AT106) -> 0 | AQ106: STA | AS106: 0 | AT106: =ROUND(SUM(AV106:AW106),2) -> 0 | AU106: ='12 - FVE'!P119 -> 0 | AV106: ='12 - FVE'!J33 -> 0 | AW106: ='12 - FVE'!J34 -> 0 | AX106: ='12 - FVE'!J35 -> 0 | AY106: ='12 - FVE'!J36 -> 0 | AZ106: ='12 - FVE'!F33 -> 0 | BA106: ='12 - FVE'!F34 -> 0 | BB106: ='12 - FVE'!F35 -> 0 | BC106: ='12 - FVE'!F36 -> 0 | BD106: ='12 - FVE'!F37 -> 0 | BT106: 1 | BV106: IMPORT | BW106: {04893f20-b0bc-4d77-a4e8-ba848e0a60f9} | BX106: {7cc34919-81a3-4be4-90f8-a7188a8c3cfc} | CM106: 2
A107: / | D107: 13 | J107: GASTRO | AG107: ='13 - GASTRO'!J30 -> 0 | AN107: =SUM(AG107,AT107) -> 0 | AQ107: STA | AS107: 0 | AT107: =ROUND(SUM(AV107:AW107),2) -> 0 | AU107: ='13 - GASTRO'!P118 -> 0 | AV107: ='13 - GASTRO'!J33 -> 0 | AW107: ='13 - GASTRO'!J34 -> 0 | AX107: ='13 - GASTRO'!J35 -> 0 | AY107: ='13 - GASTRO'!J36 -> 0 | AZ107: ='13 - GASTRO'!F33 -> 0 | BA107: ='13 - GASTRO'!F34 -> 0 | BB107: ='13 - GASTRO'!F35 -> 0 | BC107: ='13 - GASTRO'!F36 -> 0 | BD107: ='13 - GASTRO'!F37 -> 0 | BT107: 1 | BV107: IMPORT | BW107: {5ea9f628-c4c9-45c3-b248-3b0c610f4bb4} | BX107: {7cc34919-81a3-4be4-90f8-a7188a8c3cfc} | CM107: 2
A108: / | D108: 14 | J108: DEŠŤOVÁ KANALIZACE | AG108: ='14 - DEŠŤOVÁ KANALIZACE'!J30 -> 0 | AN108: =SUM(AG108,AT108) -> 0 | AQ108: STA | AS108: 0 | AT108: =ROUND(SUM(AV108:AW108),2) -> 0 | AU108: ='14 - DEŠŤOVÁ KANALIZACE'!P124 -> 0 | AV108: ='14 - DEŠŤOVÁ KANALIZACE'!J33 -> 0 | AW108: ='14 - DEŠŤOVÁ KANALIZACE'!J34 -> 0 | AX108: ='14 - DEŠŤOVÁ KANALIZACE'!J35 -> 0 | AY108: ='14 - DEŠŤOVÁ KANALIZACE'!J36 -> 0 | AZ108: ='14 - DEŠŤOVÁ KANALIZACE'!F33 -> 0 | BA108: ='14 - DEŠŤOVÁ KANALIZACE'!F34 -> 0 | BB108: ='14 - DEŠŤOVÁ KANALIZACE'!F35 -> 0 | BC108: ='14 - DEŠŤOVÁ KANALIZACE'!F36 -> 0 | BD108: ='14 - DEŠŤOVÁ KANALIZACE'!F37 -> 0 | BT108: 1 | BV108: IMPORT | BW108: {8e920fae-51de-4ef0-a16c-1759b4085f2b} | BX108: {7cc34919-81a3-4be4-90f8-a7188a8c3cfc} | CM108: 2
A109: / | D109: 15 | J109: VODOVODNÍ PŘÍPOJKA | AG109: ='15 - VODOVODNÍ PŘÍPOJKA'!J30 -> 0 | AN109: =SUM(AG109,AT109) -> 0 | AQ109: STA | AS109: 0 | AT109: =ROUND(SUM(AV109:AW109),2) -> 0 | AU109: ='15 - VODOVODNÍ PŘÍPOJKA'!P123 -> 0 | AV109: ='15 - VODOVODNÍ PŘÍPOJKA'!J33 -> 0 | AW109: ='15 - VODOVODNÍ PŘÍPOJKA'!J34 -> 0 | AX109: ='15 - VODOVODNÍ PŘÍPOJKA'!J35 -> 0 | AY109: ='15 - VODOVODNÍ PŘÍPOJKA'!J36 -> 0 | AZ109: ='15 - VODOVODNÍ PŘÍPOJKA'!F33 -> 0 | BA109: ='15 - VODOVODNÍ PŘÍPOJKA'!F34 -> 0 | BB109: ='15 - VODOVODNÍ PŘÍPOJKA'!F35 -> 0 | BC109: ='15 - VODOVODNÍ PŘÍPOJKA'!F36 -> 0 | BD109: ='15 - VODOVODNÍ PŘÍPOJKA'!F37 -> 0 | BT109: 1 | BV109: IMPORT | BW109: {1160e3d1-2085-4e7d-bad4-e5cd8742f67d} | BX109: {7cc34919-81a3-4be4-90f8-a7188a8c3cfc} | CM109: 2
A110: / | D110: 16 | J110: KOMUNIKACE A ZPEVNĚNÉ PLOCHY | AG110: ='16 - KOMUNIKACE A ZPEVNĚN...'!J30 -> 0 | AN110: =SUM(AG110,AT110) -> 0 | AQ110: STA | AS110: 0 | AT110: =ROUND(SUM(AV110:AW110),2) -> 0 | AU110: ='16 - KOMUNIKACE A ZPEVNĚN...'!P125 -> 0 | AV110: ='16 - KOMUNIKACE A ZPEVNĚN...'!J33 -> 0 | AW110: ='16 - KOMUNIKACE A ZPEVNĚN...'!J34 -> 0 | AX110: ='16 - KOMUNIKACE A ZPEVNĚN...'!J35 -> 0 | AY110: ='16 - KOMUNIKACE A ZPEVNĚN...'!J36 -> 0 | AZ110: ='16 - KOMUNIKACE A ZPEVNĚN...'!F33 -> 0 | BA110: ='16 - KOMUNIKACE A ZPEVNĚN...'!F34 -> 0 | BB110: ='16 - KOMUNIKACE A ZPEVNĚN...'!F35 -> 0 | BC110: ='16 - KOMUNIKACE A ZPEVNĚN...'!F36 -> 0 | BD110: ='16 - KOMUNIKACE A ZPEVNĚN...'!F37 -> 0 | BT110: 1 | BV110: IMPORT | BW110: {d94749b0-89d3-44e0-9fc7-3eb93a4ca8e1} | BX110: {7cc34919-81a3-4be4-90f8-a7188a8c3cfc} | CM110: 2
A111: / | D111: 17 | J111: ZAHRADA MŠ - HŘIŠTĚ A SADOVÉ ÚPRAVY | AG111: ='17 - ZAHRADA MŠ - HŘIŠTĚ ...'!J30 -> 0 | AN111: =SUM(AG111,AT111) -> 0 | AQ111: STA | AS111: 0 | AT111: =ROUND(SUM(AV111:AW111),2) -> 0 | AU111: ='17 - ZAHRADA MŠ - HŘIŠTĚ ...'!P136 -> 0 | AV111: ='17 - ZAHRADA MŠ - HŘIŠTĚ ...'!J33 -> 0 | AW111: ='17 - ZAHRADA MŠ - HŘIŠTĚ ...'!J34 -> 0 | AX111: ='17 - ZAHRADA MŠ - HŘIŠTĚ ...'!J35 -> 0 | AY111: ='17 - ZAHRADA MŠ - HŘIŠTĚ ...'!J36 -> 0 | AZ111: ='17 - ZAHRADA MŠ - HŘIŠTĚ ...'!F33 -> 0 | BA111: ='17 - ZAHRADA MŠ - HŘIŠTĚ ...'!F34 -> 0 | BB111: ='17 - ZAHRADA MŠ - HŘIŠTĚ ...'!F35 -> 0 | BC111: ='17 - ZAHRADA MŠ - HŘIŠTĚ ...'!F36 -> 0 | BD111: ='17 - ZAHRADA MŠ - HŘIŠTĚ ...'!F37 -> 0 | BT111: 1 | BV111: IMPORT | BW111: {b6f8f605-de8c-40da-881b-5f5ecf347f3a} | BX111: {7cc34919-81a3-4be4-90f8-a7188a8c3cfc} | CM111: 2
A112: / | D112: 18 | J112: ZAHRADA MŠ - OPLOCENÍ | AG112: ='18 - ZAHRADA MŠ - OPLOCENÍ'!J30 -> 0 | AN112: =SUM(AG112,AT112) -> 0 | AQ112: STA | AS112: 0 | AT112: =ROUND(SUM(AV112:AW112),2) -> 0 | AU112: ='18 - ZAHRADA MŠ - OPLOCENÍ'!P128 -> 0 | AV112: ='18 - ZAHRADA MŠ - OPLOCENÍ'!J33 -> 0 | AW112: ='18 - ZAHRADA MŠ - OPLOCENÍ'!J34 -> 0 | AX112: ='18 - ZAHRADA MŠ - OPLOCENÍ'!J35 -> 0 | AY112: ='18 - ZAHRADA MŠ - OPLOCENÍ'!J36 -> 0 | AZ112: ='18 - ZAHRADA MŠ - OPLOCENÍ'!F33 -> 0 | BA112: ='18 - ZAHRADA MŠ - OPLOCENÍ'!F34 -> 0 | BB112: ='18 - ZAHRADA MŠ - OPLOCENÍ'!F35 -> 0 | BC112: ='18 - ZAHRADA MŠ - OPLOCENÍ'!F36 -> 0 | BD112: ='18 - ZAHRADA MŠ - OPLOCENÍ'!F37 -> 0 | BT112: 1 | BV112: IMPORT | BW112: {e7ae2f12-4f14-4b88-a478-08439bf42371} | BX112: {7cc34919-81a3-4be4-90f8-a7188a8c3cfc} | CM112: 2
A113: / | D113: 19 | J113: VEŘEJNÉ HŘIŠTĚ A SADOVÉ ÚPRAVY | AG113: ='19 - VEŘEJNÉ HŘIŠTĚ A SAD...'!J30 -> 0 | AN113: =SUM(AG113,AT113) -> 0 | AQ113: STA | AS113: 0 | AT113: =ROUND(SUM(AV113:AW113),2) -> 0 | AU113: ='19 - VEŘEJNÉ HŘIŠTĚ A SAD...'!P129 -> 0 | AV113: ='19 - VEŘEJNÉ HŘIŠTĚ A SAD...'!J33 -> 0 | AW113: ='19 - VEŘEJNÉ HŘIŠTĚ A SAD...'!J34 -> 0 | AX113: ='19 - VEŘEJNÉ HŘIŠTĚ A SAD...'!J35 -> 0 | AY113: ='19 - VEŘEJNÉ HŘIŠTĚ A SAD...'!J36 -> 0 | AZ113: ='19 - VEŘEJNÉ HŘIŠTĚ A SAD...'!F33 -> 0 | BA113: ='19 - VEŘEJNÉ HŘIŠTĚ A SAD...'!F34 -> 0 | BB113: ='19 - VEŘEJNÉ HŘIŠTĚ A SAD...'!F35 -> 0 | BC113: ='19 - VEŘEJNÉ HŘIŠTĚ A SAD...'!F36 -> 0 | BD113: ='19 - VEŘEJNÉ HŘIŠTĚ A SAD...'!F37 -> 0 | BT113: 1 | BV113: IMPORT | BW113: {06626229-482c-490d-a970-730cf6861765} | BX113: {7cc34919-81a3-4be4-90f8-a7188a8c3cfc} | CM113: 2
A114: / | D114: 20 | J114: VEŘEJNÉ HŘIŠTĚ - OPLOCENÍ | AG114: ='20 - VEŘEJNÉ HŘIŠTĚ - OPL...'!J30 -> 0 | AN114: =SUM(AG114,AT114) -> 0 | AQ114: STA | AS114: 0 | AT114: =ROUND(SUM(AV114:AW114),2) -> 0 | AU114: ='20 - VEŘEJNÉ HŘIŠTĚ - OPL...'!P122 -> 0 | AV114: ='20 - VEŘEJNÉ HŘIŠTĚ - OPL...'!J33 -> 0 | AW114: ='20 - VEŘEJNÉ HŘIŠTĚ - OPL...'!J34 -> 0 | AX114: ='20 - VEŘEJNÉ HŘIŠTĚ - OPL...'!J35 -> 0 | AY114: ='20 - VEŘEJNÉ HŘIŠTĚ - OPL...'!J36 -> 0 | AZ114: ='20 - VEŘEJNÉ HŘIŠTĚ - OPL...'!F33 -> 0 | BA114: ='20 - VEŘEJNÉ HŘIŠTĚ - OPL...'!F34 -> 0 | BB114: ='20 - VEŘEJNÉ HŘIŠTĚ - OPL...'!F35 -> 0 | BC114: ='20 - VEŘEJNÉ HŘIŠTĚ - OPL...'!F36 -> 0 | BD114: ='20 - VEŘEJNÉ HŘIŠTĚ - OPL...'!F37 -> 0 | BT114: 1 | BV114: IMPORT | BW114: {0dd842c8-56ca-4e46-9885-f3fc78aabe8e} | BX114: {7cc34919-81a3-4be4-90f8-a7188a8c3cfc} | CM114: 2
A115: / | D115: 21 | J115: MaR | AG115: ='21 - MaR'!J30 -> 0 | AN115: =SUM(AG115,AT115) -> 0 | AQ115: STA | AS115: 0 | AT115: =ROUND(SUM(AV115:AW115),2) -> 0 | AU115: ='21 - MaR'!P120 -> 0 | AV115: ='21 - MaR'!J33 -> 0 | AW115: ='21 - MaR'!J34 -> 0 | AX115: ='21 - MaR'!J35 -> 0 | AY115: ='21 - MaR'!J36 -> 0 | AZ115: ='21 - MaR'!F33 -> 0 | BA115: ='21 - MaR'!F34 -> 0 | BB115: ='21 - MaR'!F35 -> 0 | BC115: ='21 - MaR'!F36 -> 0 | BD115: ='21 - MaR'!F37 -> 0 | BT115: 1 | BV115: IMPORT | BW115: {2ae5b185-a9d5-438a-a027-5803168d4679} | BX115: {7cc34919-81a3-4be4-90f8-a7188a8c3cfc} | CM115: 2

Sheet 01 - VEDLEJŠÍ A OSTATNÍ N...
AT2: {c9581ed6-97e6-419d-8ee4-aebe8d031f6b}
AT3: 2
D4: KRYCÍ LIST SOUPISU PRACÍ | M4: v --- níže se nacházejí doplnkové a pomocné údaje k sestavám --- v | AT4: False
D6: Stavba:
E7: ='Rekapitulace stavby'!K6 -> MŠ KOVÁŘSKÁ II - REKONSTRUKCE OBJEKTU
D8: Objekt:
E9: 01 - VEDLEJŠÍ A OSTATNÍ NÁKLADY
D11: KSO: | I11: CC-CZ:
D12: Místo: | F12: U Školičky 2176/1, 2177/3, Praha 9 | I12: Datum: | J12: ='Rekapitulace stavby'!AN8 -> 19. 12. 2025
D14: Zadavatel: | I14: IČ:
E15: MČ Praha 9 | I15: DIČ:
D17: Uchazeč: | I17: IČ: | J17: ='Rekapitulace stavby'!AN13 -> Vyplň údaj
E18: ='Rekapitulace stavby'!E14 -> Vyplň údaj | I18: DIČ: | J18: ='Rekapitulace stavby'!AN14 -> Vyplň údaj
D20: Projektant: | I20: IČ:
E21: ArtStat s.r.o. | I21: DIČ:
D23: Zpracovatel: | I23: IČ:
E24: Vladimír Mrázek | I24: DIČ:
D26: Poznámka:
D30: Cena bez DPH | J30: =ROUND(J121, 2) -> 0
F32: Základ daně | I32: Sazba daně | J32: Výše daně
D33: DPH | E33: základní | F33: =ROUND((SUM(BE121:BE144)), 2) -> 0 | I33: 0.21 | J33: =ROUND(((SUM(BE121:BE144))*I33), 2) -> 0
E34: snížená | F34: =ROUND((SUM(BF121:BF144)), 2) -> 0 | I34: 0.12 | J34: =ROUND(((SUM(BF121:BF144))*I34), 2) -> 0
E35: zákl. přenesená | F35: =ROUND((SUM(BG121:BG144)), 2) -> 0 | I35: 0.21 | J35: =0 -> 0
E36: sníž. přenesená | F36: =ROUND((SUM(BH121:BH144)), 2) -> 0 | I36: 0.12 | J36: =0 -> 0
E37: nulová | F37: =ROUND((SUM(BI121:BI144)), 2) -> 0 | I37: 0 | J37: =0 -> 0
D39: Cena s DPH | G39: v | H39: CZK | J39: =SUM(J30:J37) -> 0
D50: Projektant | G50: Zpracovatel
D61: Datum a podpis: | F61: Razítko | G61: Datum a podpis: | J61: Razítko
D65: Objednavatel | G65: Uchazeč
D76: Datum a podpis: | F76: Razítko | G76: Datum a podpis: | J76: Razítko
C82: REKAPITULACE ČLENĚNÍ SOUPISU PRACÍ
C84: Stavba:
E85: =E7 -> MŠ KOVÁŘSKÁ II - REKONSTRUKCE OBJEKTU
C86: Objekt:
E87: =E9 -> 01 - VEDLEJŠÍ A OSTATNÍ NÁKLADY
C89: Místo: | F89: =F12 -> U Školičky 2176/1, 2177/3, Praha 9 | I89: Datum: | J89: =IF(J12="","",J12) -> 19. 12. 2025
C91: Zadavatel: | F91: =E15 -> MČ Praha 9 | I91: Projektant: | J91: =E21 -> ArtStat s.r.o.
C92: Uchazeč: | F92: =IF(E18="","",E18) -> Vyplň údaj | I92: Zpracovatel: | J92: =E24 -> Vladimír Mrázek
C94: Kód dílu - Popis | J94: Cena celkem [CZK]
C96: Náklady ze soupisu prací | J96: =J121 -> 0 | AU96: -1
D97: VRN - Vedlejší rozpočtové náklady | J97: =J122 -> 0
D98: VRN1 - Průzkumné, zeměměřičské a projektové práce | J98: =J123 -> 0
D99: VRN3 - Zařízení staveniště | J99: =J127 -> 0
D100: VRN4 - Inženýrská činnost | J100: =J132 -> 0
D101: VRN9 - Ostatní náklady | J101: =J142 -> 0
C108: SOUPIS PRACÍ
C110: Stavba:
E111: =E7 -> MŠ KOVÁŘSKÁ II - REKONSTRUKCE OBJEKTU
C112: Objekt:
E113: =E9 -> 01 - VEDLEJŠÍ A OSTATNÍ NÁKLADY
C115: Místo: | F115: =F12 -> U Školičky 2176/1, 2177/3, Praha 9 | I115: Datum: | J115: =IF(J12="","",J12) -> 19. 12. 2025
C117: Zadavatel: | F117: =E15 -> MČ Praha 9 | I117: Projektant: | J117: =E21 -> ArtStat s.r.o.
C118: Uchazeč: | F118: =IF(E18="","",E18) -> Vyplň údaj | I118: Zpracovatel: | J118: =E24 -> Vladimír Mrázek
C120: PČ | D120: Typ | E120: Kód | F120: Popis | G120: MJ | H120: Množství | I120: J.cena [CZK] | J120: Cena celkem [CZK] | K120: Cenová soustava | N120: DPH | O120: J. Nh [h] | P120: Nh celkem [h] | Q120: J. hmotnost [t] | R120: Hmotnost celkem [t] | S120: J. suť [t] | T120: Suť Celkem [t]
C121: Náklady soupisu celkem | J121: =BK121 -> 0 | P121: =P122 -> 0 | R121: =R122 -> 0 | T121: =T122 -> 0 | AT121: D | AU121: -1 | BK121: =BK122 -> 0
D122: D | E122: VRN | F122: Vedlejší rozpočtové náklady | J122: =BK122 -> 0 | P122: =P123+P127+P132+P142 -> 0 | R122: =R123+R127+R132+R142 -> 0 | T122: =T123+T127+T132+T142 -> 0 | AR122: 5 | AT122: D | AU122: 0 | AY122: ROZPOCET | BK122: =BK123+BK127+BK132+BK142 -> 0
D123: D | E123: VRN1 | F123: Průzkumné, zeměměřičské a projektové práce | J123: =BK123 -> 0 | P123: =SUM(P124:P126) -> 0 | R123: =SUM(R124:R126) -> 0 | T123: =SUM(T124:T126) -> 0 | AR123: 5 | AT123: D | AU123: 1 | AY123: ROZPOCET | BK123: =SUM(BK124:BK126) -> 0
C124: 1 | D124: K | E124: 013254000 | F124: Dokumentace skutečného provedení stavby | G124: kpl | H124: 1 | J124: =ROUND(I124*H124,2) -> 0 | N124: základní | P124: =O124*H124 -> 0 | Q124: 0 | R124: =Q124*H124 -> 0 | S124: 0 | T124: =S124*H124 -> 0 | AR124: 1024 | AT124: K | AU124: 2 | AY124: ROZPOCET | BE124: =IF(N124="základní",J124,0) -> 0 | BF124: =IF(N124="snížená",J124,0) -> 0 | BG124: =IF(N124="zákl. přenesená",J124,0) -> 0 | BH124: =IF(N124="sníž. přenesená",J124,0) -> 0 | BI124: =IF(N124="nulová",J124,0) -> 0 | BJ124: 1 | BK124: =ROUND(I124*H124,2) -> 0 | BL124: 1024 | BM124: -1079363135
C125: 2 | D125: K | E125: 0132541 | F125: Dokumentace dílenská | G125: kpl | H125: 1 | J125: =ROUND(I125*H125,2) -> 0 | N125: základní | P125: =O125*H125 -> 0 | Q125: 0 | R125: =Q125*H125 -> 0 | S125: 0 | T125: =S125*H125 -> 0 | AR125: 1024 | AT125: K | AU125: 2 | AY125: ROZPOCET | BE125: =IF(N125="základní",J125,0) -> 0 | BF125: =IF(N125="snížená",J125,0) -> 0 | BG125: =IF(N125="zákl. přenesená",J125,0) -> 0 | BH125: =IF(N125="sníž. přenesená",J125,0) -> 0 | BI125: =IF(N125="nulová",J125,0) -> 0 | BJ125: 1 | BK125: =ROUND(I125*H125,2) -> 0 | BL125: 1024 | BM125: 1345009840
C126: 3 | D126: K | E126: 0132542 | F126: Dokumentace zdolávání požáru (pro FVE elektrárnu) | G126: kpl | H126: 1 | J126: =ROUND(I126*H126,2) -> 0 | N126: základní | P126: =O126*H126 -> 0 | Q126: 0 | R126: =Q126*H126 -> 0 | S126: 0 | T126: =S126*H126 -> 0 | AR126: 1024 | AT126: K | AU126: 2 | AY126: ROZPOCET | BE126: =IF(N126="základní",J126,0) -> 0 | BF126: =IF(N126="snížená",J126,0) -> 0 | BG126: =IF(N126="zákl. přenesená",J126,0) -> 0 | BH126: =IF(N126="sníž. přenesená",J126,0) -> 0 | BI126: =IF(N126="nulová",J126,0) -> 0 | BJ126: 1 | BK126: =ROUND(I126*H126,2) -> 0 | BL126: 1024 | BM126: 1471553510
D127: D | E127: VRN3 | F127: Zařízení staveniště | J127: =BK127 -> 0 | P127: =SUM(P128:P131) -> 0 | R127: =SUM(R128:R131) -> 0 | T127: =SUM(T128:T131) -> 0 | AR127: 5 | AT127: D | AU127: 1 | AY127: ROZPOCET | BK127: =SUM(BK128:BK131) -> 0
C128: 4 | D128: K | E128: 030001000 | F128: Zařízení staveniště | G128: kpl | H128: 1 | J128: =ROUND(I128*H128,2) -> 0 | N128: základní | P128: =O128*H128 -> 0 | Q128: 0 | R128: =Q128*H128 -> 0 | S128: 0 | T128: =S128*H128 -> 0 | AR128: 1024 | AT128: K | AU128: 2 | AY128: ROZPOCET | BE128: =IF(N128="základní",J128,0) -> 0 | BF128: =IF(N128="snížená",J128,0) -> 0 | BG128: =IF(N128="zákl. přenesená",J128,0) -> 0 | BH128: =IF(N128="sníž. přenesená",J128,0) -> 0 | BI128: =IF(N128="nulová",J128,0) -> 0 | BJ128: 1 | BK128: =ROUND(I128*H128,2) -> 0 | BL128: 1024 | BM128: -657492281
D129: P | F129: Poznámka k položce:_x000D_ Poznámka k položce:_x000D__x000D_ V rámci ZS jsou obsaženy veškeré činnosti a opatření nezbytné pro zajištění stavby_x000D__x000D__x000D_ - Oplocení staveniště_x000D__x000D_ - Náklady na stavební buňky_x000D__x000D__x000D__x000D_ - Skládky na staveništi_x000D__x000D__x000D_ - Provizorní staveništní komunikace_x000D__x000D__x000D_ - Náklady na provoz a údržbu vybavení staveniště_x000D__x000D__x000D__x000D_ - Připojení staveniště na inženýrské sítě_x000D__x000D__x000D__x000D_ - Zabezpečení staveniště_x000D__x000D__x000D__x000D_ - Energie pro zařízení staveniště_x000D__x000D__x000D__x000D_ - Opatření na ochranu pozemků sousedních se staveništěm_x000D__x000D__x000D__x000D_ - Informační tabule na staveništi_x000D__x000D__x000D__x000D_ - Zrušení zařízení staveniště_x000D__x000D__x000D__x000D_ - Rozebrání, bourání a odvoz zařízení staveniště | AT129: P | AU129: 2
C130: 5 | D130: K | E130: 0300010 | F130: Provizorní zpevněná plocha ze silničních panelů | G130: m2 | H130: 50 | J130: =ROUND(I130*H130,2) -> 0 | N130: základní | P130: =O130*H130 -> 0 | Q130: 0 | R130: =Q130*H130 -> 0 | S130: 0 | T130: =S130*H130 -> 0 | AR130: 1024 | AT130: K | AU130: 2 | AY130: ROZPOCET | BE130: =IF(N130="základní",J130,0) -> 0 | BF130: =IF(N130="snížená",J130,0) -> 0 | BG130: =IF(N130="zákl. přenesená",J130,0) -> 0 | BH130: =IF(N130="sníž. přenesená",J130,0) -> 0 | BI130: =IF(N130="nulová",J130,0) -> 0 | BJ130: 1 | BK130: =ROUND(I130*H130,2) -> 0 | BL130: 1024 | BM130: 1716045209
C131: 6 | D131: K | E131: 0300011 | F131: Stacionární jeřáb | G131: kpl | H131: 1 | J131: =ROUND(I131*H131,2) -> 0 | N131: základní | P131: =O131*H131 -> 0 | Q131: 0 | R131: =Q131*H131 -> 0 | S131: 0 | T131: =S131*H131 -> 0 | AR131: 1024 | AT131: K | AU131: 2 | AY131: ROZPOCET | BE131: =IF(N131="základní",J131,0) -> 0 | BF131: =IF(N131="snížená",J131,0) -> 0 | BG131: =IF(N131="zákl. přenesená",J131,0) -> 0 | BH131: =IF(N131="sníž. přenesená",J131,0) -> 0 | BI131: =IF(N131="nulová",J131,0) -> 0 | BJ131: 1 | BK131: =ROUND(I131*H131,2) -> 0 | BL131: 1024 | BM131: 1006209290
D132: D | E132: VRN4 | F132: Inženýrská činnost | J132: =BK132 -> 0 | P132: =SUM(P133:P141) -> 0 | R132: =SUM(R133:R141) -> 0 | T132: =SUM(T133:T141) -> 0 | AR132: 5 | AT132: D | AU132: 1 | AY132: ROZPOCET | BK132: =SUM(BK133:BK141) -> 0
C133: 7 | D133: K | E133: 041414000 | F133: Plán BOZP na staveništi | G133: kpl | H133: 1 | J133: =ROUND(I133*H133,2) -> 0 | N133: základní | P133: =O133*H133 -> 0 | Q133: 0 | R133: =Q133*H133 -> 0 | S133: 0 | T133: =S133*H133 -> 0 | AR133: 1024 | AT133: K | AU133: 2 | AY133: ROZPOCET | BE133: =IF(N133="základní",J133,0) -> 0 | BF133: =IF(N133="snížená",J133,0) -> 0 | BG133: =IF(N133="zákl. přenesená",J133,0) -> 0 | BH133: =IF(N133="sníž. přenesená",J133,0) -> 0 | BI133: =IF(N133="nulová",J133,0) -> 0 | BJ133: 1 | BK133: =ROUND(I133*H133,2) -> 0 | BL133: 1024 | BM133: -1162769917
C134: 8 | D134: K | E134: 041434000 | F134: Technik BOZP na staveništi | G134: kpl | H134: 1 | J134: =ROUND(I134*H134,2) -> 0 | N134: základní | P134: =O134*H134 -> 0 | Q134: 0 | R134: =Q134*H134 -> 0 | S134: 0 | T134: =S134*H134 -> 0 | AR134: 1024 | AT134: K | AU134: 2 | AY134: ROZPOCET | BE134: =IF(N134="základní",J134,0) -> 0 | BF134: =IF(N134="snížená",J134,0) -> 0 | BG134: =IF(N134="zákl. přenesená",J134,0) -> 0 | BH134: =IF(N134="sníž. přenesená",J134,0) -> 0 | BI134: =IF(N134="nulová",J134,0) -> 0 | BJ134: 1 | BK134: =ROUND(I134*H134,2) -> 0 | BL134: 1024 | BM134: 118805216
C135: 9 | D135: K | E135: 0432031 | F135: Měření činitele zvukové pohltivosti v učebně (akustika v objektu) | G135: kus | H135: 5 | J135: =ROUND(I135*H135,2) -> 0 | N135: základní | P135: =O135*H135 -> 0 | Q135: 0 | R135: =Q135*H135 -> 0 | S135: 0 | T135: =S135*H135 -> 0 | AR135: 1024 | AT135: K | AU135: 2 | AY135: ROZPOCET | BE135: =IF(N135="základní",J135,0) -> 0 | BF135: =IF(N135="snížená",J135,0) -> 0 | BG135: =IF(N135="zákl. přenesená",J135,0) -> 0 | BH135: =IF(N135="sníž. přenesená",J135,0) -> 0 | BI135: =IF(N135="nulová",J135,0) -> 0 | BJ135: 1 | BK135: =ROUND(I135*H135,2) -> 0 | BL135: 1024 | BM135: 278764134
D136: P | F136: Poznámka k položce:_x000D_ jedná se o měření činitele zvukové pohltivosti v dozvukové místnosti dle normy ČSN EN ISO 354; měřeny budou vzorky NFR, LAO a ZLAO; součástí měření je také vyhodnocení a protokolární zpracování výsledků s příslušnými závěry v komplexní vazbě na akustiku; součástí položky není zhotovení vzorků a jejich doprava do zkušební laboratoře | AT136: P | AU136: 2
C137: 10 | D137: K | E137: 0432032 | F137: Měření doby dozvuku v učebně - etapové (akustika v objektu) | G137: kus | H137: 5 | J137: =ROUND(I137*H137,2) -> 0 | N137: základní | P137: =O137*H137 -> 0 | Q137: 0 | R137: =Q137*H137 -> 0 | S137: 0 | T137: =S137*H137 -> 0 | AR137: 1024 | AT137: K | AU137: 2 | AY137: ROZPOCET | BE137: =IF(N137="základní",J137,0) -> 0 | BF137: =IF(N137="snížená",J137,0) -> 0 | BG137: =IF(N137="zákl. přenesená",J137,0) -> 0 | BH137: =IF(N137="sníž. přenesená",J137,0) -> 0 | BI137: =IF(N137="nulová",J137,0) -> 0 | BJ137: 1 | BK137: =ROUND(I137*H137,2) -> 0 | BL137: 1024 | BM137: -325044470
D138: P | F138: Poznámka k položce:_x000D_ jedná se o etapové měření doby dozvuku sálu dle normy ČSN EN ISO 3382-1; součástí měření je také vyhodnocení a protokolární zpracování výsledků s příslušnými závěry v komplexní vazbě na akustiku prostoru jako celku | AT138: P | AU138: 2
C139: 11 | D139: K | E139: 0432033 | F139: Měření doby dozvukuv učebně - závěrečné (akustika v objektu) | G139: kus | H139: 5 | J139: =ROUND(I139*H139,2) -> 0 | N139: základní | P139: =O139*H139 -> 0 | Q139: 0 | R139: =Q139*H139 -> 0 | S139: 0 | T139: =S139*H139 -> 0 | AR139: 1024 | AT139: K | AU139: 2 | AY139: ROZPOCET | BE139: =IF(N139="základní",J139,0) -> 0 | BF139: =IF(N139="snížená",J139,0) -> 0 | BG139: =IF(N139="zákl. přenesená",J139,0) -> 0 | BH139: =IF(N139="sníž. přenesená",J139,0) -> 0 | BI139: =IF(N139="nulová",J139,0) -> 0 | BJ139: 1 | BK139: =ROUND(I139*H139,2) -> 0 | BL139: 1024 | BM139: -1038112056
D140: P | F140: Poznámka k položce:_x000D_ jedná se o závěrečné měření doby dozvuku sálu dle normy ČSN EN ISO 3382-1; součástí měření je také vyhodnocení a protokolární zpracování výsledků | AT140: P | AU140: 2
C141: 12 | D141: K | E141: 0432041 | F141: Měření hluku ze stacionárních zdrojů (exterier) - viz požadavky závazného stanoviska HSHMP | G141: kpl | H141: 1 | J141: =ROUND(I141*H141,2) -> 0 | N141: základní | P141: =O141*H141 -> 0 | Q141: 0 | R141: =Q141*H141 -> 0 | S141: 0 | T141: =S141*H141 -> 0 | AR141: 1024 | AT141: K | AU141: 2 | AY141: ROZPOCET | BE141: =IF(N141="základní",J141,0) -> 0 | BF141: =IF(N141="snížená",J141,0) -> 0 | BG141: =IF(N141="zákl. přenesená",J141,0) -> 0 | BH141: =IF(N141="sníž. přenesená",J141,0) -> 0 | BI141: =IF(N141="nulová",J141,0) -> 0 | BJ141: 1 | BK141: =ROUND(I141*H141,2) -> 0 | BL141: 1024 | BM141: 993023582
D142: D | E142: VRN9 | F142: Ostatní náklady | J142: =BK142 -> 0 | P142: =SUM(P143:P144) -> 0 | R142: =SUM(R143:R144) -> 0 | T142: =SUM(T143:T144) -> 0 | AR142: 5 | AT142: D | AU142: 1 | AY142: ROZPOCET | BK142: =SUM(BK143:BK144) -> 0
C143: 13 | D143: K | E143: 0910021 | F143: Náklady na vzorky | G143: kpl | H143: 1 | J143: =ROUND(I143*H143,2) -> 0 | N143: základní | P143: =O143*H143 -> 0 | Q143: 0 | R143: =Q143*H143 -> 0 | S143: 0 | T143: =S143*H143 -> 0 | AR143: 1024 | AT143: K | AU143: 2 | AY143: ROZPOCET | BE143: =IF(N143="základní",J143,0) -> 0 | BF143: =IF(N143="snížená",J143,0) -> 0 | BG143: =IF(N143="zákl. přenesená",J143,0) -> 0 | BH143: =IF(N143="sníž. přenesená",J143,0) -> 0 | BI143: =IF(N143="nulová",J143,0) -> 0 | BJ143: 1 | BK143: =ROUND(I143*H143,2) -> 0 | BL143: 1024 | BM143: 418261230
C144: 14 | D144: K | E144: 0910022 | F144: Zábory, DIO | G144: kpl | H144: 1 | J144: =ROUND(I144*H144,2) -> 0 | N144: základní | P144: =O144*H144 -> 0 | Q144: 0 | R144: =Q144*H144 -> 0 | S144: 0 | T144: =S144*H144 -> 0 | AR144: 1024 | AT144: K | AU144: 2 | AY144: ROZPOCET | BE144: =IF(N144="základní",J144,0) -> 0 | BF144: =IF(N144="snížená",J144,0) -> 0 | BG144: =IF(N144="zákl. přenesená",J144,0) -> 0 | BH144: =IF(N144="sníž. přenesená",J144,0) -> 0 | BI144: =IF(N144="nulová",J144,0) -> 0 | BJ144: 1 | BK144: =ROUND(I144*H144,2) -> 0 | BL144: 1024 | BM144: 315445146

Sheet 02 - KÁCENÍ, OCHRANA ZELENĚ
AT2: {45e6b28a-913f-44bc-a50b-1a7d134649f0}
AT3: 2
D4: KRYCÍ LIST SOUPISU PRACÍ | M4: v --- níže se nacházejí doplnkové a pomocné údaje k sestavám --- v | AT4: False
D6: Stavba:
E7: ='Rekapitulace stavby'!K6 -> MŠ KOVÁŘSKÁ II - REKONSTRUKCE OBJEKTU
D8: Objekt:
E9: 02 - KÁCENÍ, OCHRANA ZELENĚ
D11: KSO: | I11: CC-CZ:
D12: Místo: | F12: U Školičky 2176/1, 2177/3, Praha 9 | I12: Datum: | J12: ='Rekapitulace stavby'!AN8 -> 19. 12. 2025
D14: Zadavatel: | I14: IČ:
E15: MČ Praha 9 | I15: DIČ:
D17: Uchazeč: | I17: IČ: | J17: ='Rekapitulace stavby'!AN13 -> Vyplň údaj
E18: ='Rekapitulace stavby'!E14 -> Vyplň údaj | I18: DIČ: | J18: ='Rekapitulace stavby'!AN14 -> Vyplň údaj
D20: Projektant: | I20: IČ:
E21: ArtStat s.r.o. | I21: DIČ:
D23: Zpracovatel: | I23: IČ:
E24: Vladimír Mrázek | I24: DIČ:
D26: Poznámka:
D30: Cena bez DPH | J30: =ROUND(J119, 2) -> 0
F32: Základ daně | I32: Sazba daně | J32: Výše daně
D33: DPH | E33: základní | F33: =ROUND((SUM(BE119:BE135)), 2) -> 0 | I33: 0.21 | J33: =ROUND(((SUM(BE119:BE135))*I33), 2) -> 0
E34: snížená | F34: =ROUND((SUM(BF119:BF135)), 2) -> 0 | I34: 0.12 | J34: =ROUND(((SUM(BF119:BF135))*I34), 2) -> 0
E35: zákl. přenesená | F35: =ROUND((SUM(BG119:BG135)), 2) -> 0 | I35: 0.21 | J35: =0 -> 0
E36: sníž. přenesená | F36: =ROUND((SUM(BH119:BH135)), 2) -> 0 | I36: 0.12 | J36: =0 -> 0
E37: nulová | F37: =ROUND((SUM(BI119:BI135)), 2) -> 0 | I37: 0 | J37: =0 -> 0
D39: Cena s DPH | G39: v | H39: CZK | J39: =SUM(J30:J37) -> 0
D50: Projektant | G50: Zpracovatel
D61: Datum a podpis: | F61: Razítko | G61: Datum a podpis: | J61: Razítko
D65: Objednavatel | G65: Uchazeč
D76: Datum a podpis: | F76: Razítko | G76: Datum a podpis: | J76: Razítko
C82: REKAPITULACE ČLENĚNÍ SOUPISU PRACÍ
C84: Stavba:
E85: =E7 -> MŠ KOVÁŘSKÁ II - REKONSTRUKCE OBJEKTU
C86: Objekt:
E87: =E9 -> 02 - KÁCENÍ, OCHRANA ZELENĚ
C89: Místo: | F89: =F12 -> U Školičky 2176/1, 2177/3, Praha 9 | I89: Datum: | J89: =IF(J12="","",J12) -> 19. 12. 2025
C91: Zadavatel: | F91: =E15 -> MČ Praha 9 | I91: Projektant: | J91: =E21 -> ArtStat s.r.o.
C92: Uchazeč: | F92: =IF(E18="","",E18) -> Vyplň údaj | I92: Zpracovatel: | J92: =E24 -> Vladimír Mrázek
C94: Kód dílu - Popis | J94: Cena celkem [CZK]
C96: Náklady ze soupisu prací | J96: =J119 -> 0 | AU96: -1
D97: HSV - Práce a dodávky HSV | J97: =J120 -> 0
D98: 1 - Zemní práce | J98: =J121 -> 0
D99: 9.1 - Ochrana stávající zeleně | J99: =J129 -> 0
C106: SOUPIS PRACÍ
C108: Stavba:
E109: =E7 -> MŠ KOVÁŘSKÁ II - REKONSTRUKCE OBJEKTU
C110: Objekt:
E111: =E9 -> 02 - KÁCENÍ, OCHRANA ZELENĚ
C113: Místo: | F113: =F12 -> U Školičky 2176/1, 2177/3, Praha 9 | I113: Datum: | J113: =IF(J12="","",J12) -> 19. 12. 2025
C115: Zadavatel: | F115: =E15 -> MČ Praha 9 | I115: Projektant: | J115: =E21 -> ArtStat s.r.o.
C116: Uchazeč: | F116: =IF(E18="","",E18) -> Vyplň údaj | I116: Zpracovatel: | J116: =E24 -> Vladimír Mrázek
C118: PČ | D118: Typ | E118: Kód | F118: Popis | G118: MJ | H118: Množství | I118: J.cena [CZK] | J118: Cena celkem [CZK] | K118: Cenová soustava | N118: DPH | O118: J. Nh [h] | P118: Nh celkem [h] | Q118: J. hmotnost [t] | R118: Hmotnost celkem [t] | S118: J. suť [t] | T118: Suť Celkem [t]
C119: Náklady soupisu celkem | J119: =BK119 -> 0 | P119: =P120 -> 0 | R119: =R120 -> 0 | T119: =T120 -> 0 | AT119: D | AU119: -1 | BK119: =BK120 -> 0
D120: D | E120: HSV | F120: Práce a dodávky HSV | J120: =BK120 -> 0 | P120: =P121+P129 -> 0 | R120: =R121+R129 -> 0 | T120: =T121+T129 -> 0 | AR120: 1 | AT120: D | AU120: 0 | AY120: ROZPOCET | BK120: =BK121+BK129 -> 0
D121: D | E121: 1 | F121: Zemní práce | J121: =BK121 -> 0 | P121: =SUM(P122:P128) -> 0 | R121: =SUM(R122:R128) -> 0 | T121: =SUM(T122:T128) -> 0 | AR121: 1 | AT121: D | AU121: 1 | AY121: ROZPOCET | BK121: =SUM(BK122:BK128) -> 0
C122: 1 | D122: K | E122: 111251102 | F122: Odstranění křovin a stromů průměru kmene do 100 mm i s kořeny sklonu terénu do 1:5 z celkové plochy přes 100 do 500 m2 strojně | G122: m2 | H122: 295 | J122: =ROUND(I122*H122,2) -> 0 | K122: CS ÚRS 2026 01 | N122: základní | P122: =O122*H122 -> 0 | Q122: 0 | R122: =Q122*H122 -> 0 | S122: 0 | T122: =S122*H122 -> 0 | AR122: 4 | AT122: K | AU122: 2 | AY122: ROZPOCET | BE122: =IF(N122="základní",J122,0) -> 0 | BF122: =IF(N122="snížená",J122,0) -> 0 | BG122: =IF(N122="zákl. přenesená",J122,0) -> 0 | BH122: =IF(N122="sníž. přenesená",J122,0) -> 0 | BI122: =IF(N122="nulová",J122,0) -> 0 | BJ122: 1 | BK122: =ROUND(I122*H122,2) -> 0 | BL122: 4 | BM122: -650850524
D123: VV | F123: +6,0+2,0+35,0+7,0+6,0+181,0+20,0+15,0+23,0 | H123: 295 | AT123: VV | AU123: 2 | AV123: 2 | AW123: True | AX123: 1 | AY123: ROZPOCET
C124: 2 | D124: K | E124: 11210110 | F124: Odstranění stromů listnatých průměru kmene do 100 mm, vč kořenů | G124: kus | H124: 1 | J124: =ROUND(I124*H124,2) -> 0 | N124: základní | P124: =O124*H124 -> 0 | Q124: 0 | R124: =Q124*H124 -> 0 | S124: 0 | T124: =S124*H124 -> 0 | AR124: 4 | AT124: K | AU124: 2 | AY124: ROZPOCET | BE124: =IF(N124="základní",J124,0) -> 0 | BF124: =IF(N124="snížená",J124,0) -> 0 | BG124: =IF(N124="zákl. přenesená",J124,0) -> 0 | BH124: =IF(N124="sníž. přenesená",J124,0) -> 0 | BI124: =IF(N124="nulová",J124,0) -> 0 | BJ124: 1 | BK124: =ROUND(I124*H124,2) -> 0 | BL124: 4 | BM124: -814888497
C125: 3 | D125: K | E125: 112101101 | F125: Odstranění stromů listnatých průměru kmene přes 100 do 300 mm | G125: kus | H125: 1 | J125: =ROUND(I125*H125,2) -> 0 | K125: CS ÚRS 2026 01 | N125: základní | P125: =O125*H125 -> 0 | Q125: 0 | R125: =Q125*H125 -> 0 | S125: 0 | T125: =S125*H125 -> 0 | AR125: 4 | AT125: K | AU125: 2 | AY125: ROZPOCET | BE125: =IF(N125="základní",J125,0) -> 0 | BF125: =IF(N125="snížená",J125,0) -> 0 | BG125: =IF(N125="zákl. přenesená",J125,0) -> 0 | BH125: =IF(N125="sníž. přenesená",J125,0) -> 0 | BI125: =IF(N125="nulová",J125,0) -> 0 | BJ125: 1 | BK125: =ROUND(I125*H125,2) -> 0 | BL125: 4 | BM125: 1014114738
C126: 4 | D126: K | E126: 112101121 | F126: Odstranění stromů jehličnatých průměru kmene přes 100 do 300 mm | G126: kus | H126: 1 | J126: =ROUND(I126*H126,2) -> 0 | K126: CS ÚRS 2026 01 | N126: základní | P126: =O126*H126 -> 0 | Q126: 0 | R126: =Q126*H126 -> 0 | S126: 0 | T126: =S126*H126 -> 0 | AR126: 4 | AT126: K | AU126: 2 | AY126: ROZPOCET | BE126: =IF(N126="základní",J126,0) -> 0 | BF126: =IF(N126="snížená",J126,0) -> 0 | BG126: =IF(N126="zákl. přenesená",J126,0) -> 0 | BH126: =IF(N126="sníž. přenesená",J126,0) -> 0 | BI126: =IF(N126="nulová",J126,0) -> 0 | BJ126: 1 | BK126: =ROUND(I126*H126,2) -> 0 | BL126: 4 | BM126: -209228767
C127: 5 | D127: K | E127: 112251101 | F127: Odstranění pařezů průměru přes 100 do 300 mm | G127: kus | H127: 3 | J127: =ROUND(I127*H127,2) -> 0 | K127: CS ÚRS 2026 01 | N127: základní | P127: =O127*H127 -> 0 | Q127: 0 | R127: =Q127*H127 -> 0 | S127: 0 | T127: =S127*H127 -> 0 | AR127: 4 | AT127: K | AU127: 2 | AY127: ROZPOCET | BE127: =IF(N127="základní",J127,0) -> 0 | BF127: =IF(N127="snížená",J127,0) -> 0 | BG127: =IF(N127="zákl. přenesená",J127,0) -> 0 | BH127: =IF(N127="sníž. přenesená",J127,0) -> 0 | BI127: =IF(N127="nulová",J127,0) -> 0 | BJ127: 1 | BK127: =ROUND(I127*H127,2) -> 0 | BL127: 4 | BM127: 649671419
C128: 6 | D128: K | E128: 1122519 | F128: Odvoz a likvidace rostlinného materiálu | G128: kpl | H128: 1 | J128: =ROUND(I128*H128,2) -> 0 | N128: základní | P128: =O128*H128 -> 0 | Q128: 0 | R128: =Q128*H128 -> 0 | S128: 0 | T128: =S128*H128 -> 0 | AR128: 4 | AT128: K | AU128: 2 | AY128: ROZPOCET | BE128: =IF(N128="základní",J128,0) -> 0 | BF128: =IF(N128="snížená",J128,0) -> 0 | BG128: =IF(N128="zákl. přenesená",J128,0) -> 0 | BH128: =IF(N128="sníž. přenesená",J128,0) -> 0 | BI128: =IF(N128="nulová",J128,0) -> 0 | BJ128: 1 | BK128: =ROUND(I128*H128,2) -> 0 | BL128: 4 | BM128: -138190524
D129: D | E129: 9.1 | F129: Ochrana stávající zeleně | J129: =BK129 -> 0 | P129: =SUM(P130:P135) -> 0 | R129: =SUM(R130:R135) -> 0 | T129: =SUM(T130:T135) -> 0 | AR129: 1 | AT129: D | AU129: 1 | AY129: ROZPOCET | BK129: =SUM(BK130:BK135) -> 0
C130: 7 | D130: K | E130: 91-01 | F130: Montáž a demontáž (včetně komplet materiálů) ochrany kmene a kořenového prostoru stávajících vzrostlých stromů - č.16, 19, 20, 29, 33 a 35-41 (viz. TZ) v blízkosti provádění stavebních prací | G130: kus | H130: 11 | J130: =ROUND(I130*H130,2) -> 0 | N130: základní | P130: =O130*H130 -> 0 | Q130: 0 | R130: =Q130*H130 -> 0 | S130: 0 | T130: =S130*H130 -> 0 | AR130: 4 | AT130: K | AU130: 2 | AY130: ROZPOCET | BE130: =IF(N130="základní",J130,0) -> 0 | BF130: =IF(N130="snížená",J130,0) -> 0 | BG130: =IF(N130="zákl. přenesená",J130,0) -> 0 | BH130: =IF(N130="sníž. přenesená",J130,0) -> 0 | BI130: =IF(N130="nulová",J130,0) -> 0 | BJ130: 1 | BK130: =ROUND(I130*H130,2) -> 0 | BL130: 4 | BM130: -663447561
D131: P | F131: Poznámka k položce:_x000D_ přesný rozsah bude řešen v rámci AD | AT131: P | AU131: 2
C132: 8 | D132: K | E132: 91-02 | F132: Montáž a demontáž (včetně komplet materiálů) ochrany kmene stávajících mladých stromů - č.25, 42 a 43 (viz. TZ) | G132: kus | H132: 3 | J132: =ROUND(I132*H132,2) -> 0 | N132: základní | P132: =O132*H132 -> 0 | Q132: 0 | R132: =Q132*H132 -> 0 | S132: 0 | T132: =S132*H132 -> 0 | AR132: 4 | AT132: K | AU132: 2 | AY132: ROZPOCET | BE132: =IF(N132="základní",J132,0) -> 0 | BF132: =IF(N132="snížená",J132,0) -> 0 | BG132: =IF(N132="zákl. přenesená",J132,0) -> 0 | BH132: =IF(N132="sníž. přenesená",J132,0) -> 0 | BI132: =IF(N132="nulová",J132,0) -> 0 | BJ132: 1 | BK132: =ROUND(I132*H132,2) -> 0 | BL132: 4 | BM132: 725389957
D133: P | F133: Poznámka k položce:_x000D_ přesný rozsah bude řešen v rámci AD | AT133: P | AU133: 2
C134: 9 | D134: K | E134: 91-03 | F134: Montáž a demontáž (včetně komplet materiálů) ochrany kořenového prostoru stávajících ponechaných porostů keřů - č.18, 22, 23 a 28 | G134: m2 | H134: 129 | J134: =ROUND(I134*H134,2) -> 0 | N134: základní | P134: =O134*H134 -> 0 | Q134: 0 | R134: =Q134*H134 -> 0 | S134: 0 | T134: =S134*H134 -> 0 | AR134: 4 | AT134: K | AU134: 2 | AY134: ROZPOCET | BE134: =IF(N134="základní",J134,0) -> 0 | BF134: =IF(N134="snížená",J134,0) -> 0 | BG134: =IF(N134="zákl. přenesená",J134,0) -> 0 | BH134: =IF(N134="sníž. přenesená",J134,0) -> 0 | BI134: =IF(N134="nulová",J134,0) -> 0 | BJ134: 1 | BK134: =ROUND(I134*H134,2) -> 0 | BL134: 4 | BM134: -1095076207
D135: P | F135: Poznámka k položce:_x000D_ přesný rozsah bude řešen v rámci AD | AT135: P | AU135: 2

Sheet 03 - BOURACÍ PRÁCE, DEMOLICE
AT2: {80d1a09e-164f-458c-a35f-e2bfab1fe93d}
AT3: 2
D4: KRYCÍ LIST SOUPISU PRACÍ | M4: v --- níže se nacházejí doplnkové a pomocné údaje k sestavám --- v | AT4: False
D6: Stavba:
E7: ='Rekapitulace stavby'!K6 -> MŠ KOVÁŘSKÁ II - REKONSTRUKCE OBJEKTU
D8: Objekt:
E9: 03 - BOURACÍ PRÁCE, DEMOLICE
D11: KSO: | I11: CC-CZ:
D12: Místo: | F12: U Školičky 2176/1, 2177/3, Praha 9 | I12: Datum: | J12: ='Rekapitulace stavby'!AN8 -> 19. 12. 2025
D14: Zadavatel: | I14: IČ:
E15: MČ Praha 9 | I15: DIČ:
D17: Uchazeč: | I17: IČ: | J17: ='Rekapitulace stavby'!AN13 -> Vyplň údaj
E18: ='Rekapitulace stavby'!E14 -> Vyplň údaj | I18: DIČ: | J18: ='Rekapitulace stavby'!AN14 -> Vyplň údaj
D20: Projektant: | I20: IČ:
E21: ArtStat s.r.o. | I21: DIČ:
D23: Zpracovatel: | I23: IČ:
E24: Vladimír Mrázek | I24: DIČ:
D26: Poznámka:
D30: Cena bez DPH | J30: =ROUND(J122, 2) -> 0
F32: Základ daně | I32: Sazba daně | J32: Výše daně
D33: DPH | E33: základní | F33: =ROUND((SUM(BE122:BE184)), 2) -> 0 | I33: 0.21 | J33: =ROUND(((SUM(BE122:BE184))*I33), 2) -> 0
E34: snížená | F34: =ROUND((SUM(BF122:BF184)), 2) -> 0 | I34: 0.12 | J34: =ROUND(((SUM(BF122:BF184))*I34), 2) -> 0
E35: zákl. přenesená | F35: =ROUND((SUM(BG122:BG184)), 2) -> 0 | I35: 0.21 | J35: =0 -> 0
E36: sníž. přenesená | F36: =ROUND((SUM(BH122:BH184)), 2) -> 0 | I36: 0.12 | J36: =0 -> 0
E37: nulová | F37: =ROUND((SUM(BI122:BI184)), 2) -> 0 | I37: 0 | J37: =0 -> 0
D39: Cena s DPH | G39: v | H39: CZK | J39: =SUM(J30:J37) -> 0
D50: Projektant | G50: Zpracovatel
D61: Datum a podpis: | F61: Razítko | G61: Datum a podpis: | J61: Razítko
D65: Objednavatel | G65: Uchazeč
D76: Datum a podpis: | F76: Razítko | G76: Datum a podpis: | J76: Razítko
C82: REKAPITULACE ČLENĚNÍ SOUPISU PRACÍ
C84: Stavba:
E85: =E7 -> MŠ KOVÁŘSKÁ II - REKONSTRUKCE OBJEKTU
C86: Objekt:
E87: =E9 -> 03 - BOURACÍ PRÁCE, DEMOLICE
C89: Místo: | F89: =F12 -> U Školičky 2176/1, 2177/3, Praha 9 | I89: Datum: | J89: =IF(J12="","",J12) -> 19. 12. 2025
C91: Zadavatel: | F91: =E15 -> MČ Praha 9 | I91: Projektant: | J91: =E21 -> ArtStat s.r.o.
C92: Uchazeč: | F92: =IF(E18="","",E18) -> Vyplň údaj | I92: Zpracovatel: | J92: =E24 -> Vladimír Mrázek
C94: Kód dílu - Popis | J94: Cena celkem [CZK]
C96: Náklady ze soupisu prací | J96: =J122 -> 0 | AU96: -1
D97: HSV - Práce a dodávky HSV | J97: =J123 -> 0
D98: 1 - Zemní práce | J98: =J124 -> 0
D99: 9 - Ostatní konstrukce a práce, bourání | J99: =J144 -> 0
D100: 997 - Doprava suti a vybouraných hmot | J100: =J168 -> 0
D101: PSV - Práce a dodávky PSV | J101: =J182 -> 0
D102: 712 - Povlakové krytiny | J102: =J183 -> 0
C109: SOUPIS PRACÍ
C111: Stavba:
E112: =E7 -> MŠ KOVÁŘSKÁ II - REKONSTRUKCE OBJEKTU
C113: Objekt:
E114: =E9 -> 03 - BOURACÍ PRÁCE, DEMOLICE
C116: Místo: | F116: =F12 -> U Školičky 2176/1, 2177/3, Praha 9 | I116: Datum: | J116: =IF(J12="","",J12) -> 19. 12. 2025
C118: Zadavatel: | F118: =E15 -> MČ Praha 9 | I118: Projektant: | J118: =E21 -> ArtStat s.r.o.
C119: Uchazeč: | F119: =IF(E18="","",E18) -> Vyplň údaj | I119: Zpracovatel: | J119: =E24 -> Vladimír Mrázek
C121: PČ | D121: Typ | E121: Kód | F121: Popis | G121: MJ | H121: Množství | I121: J.cena [CZK] | J121: Cena celkem [CZK] | K121: Cenová soustava | N121: DPH | O121: J. Nh [h] | P121: Nh celkem [h] | Q121: J. hmotnost [t] | R121: Hmotnost celkem [t] | S121: J. suť [t] | T121: Suť Celkem [t]
C122: Náklady soupisu celkem | J122: =BK122 -> 0 | P122: =P123+P182 -> 0 | R122: =R123+R182 -> 0 | T122: =T123+T182 -> 1497.8765 | AT122: D | AU122: -1 | BK122: =BK123+BK182 -> 0
D123: D | E123: HSV | F123: Práce a dodávky HSV | J123: =BK123 -> 0 | P123: =P124+P144+P168 -> 0 | R123: =R124+R144+R168 -> 0 | T123: =T124+T144+T168 -> 1497.4565 | AR123: 1 | AT123: D | AU123: 0 | AY123: ROZPOCET | BK123: =BK124+BK144+BK168 -> 0
D124: D | E124: 1 | F124: Zemní práce | J124: =BK124 -> 0 | P124: =SUM(P125:P143) -> 0 | R124: =SUM(R125:R143) -> 0 | T124: =SUM(T125:T143) -> 355.8575 | AR124: 1 | AT124: D | AU124: 1 | AY124: ROZPOCET | BK124: =SUM(BK125:BK143) -> 0
C125: 1 | D125: K | E125: 111301111 | F125: Sejmutí drnu tl do 100 mm s přemístěním do 50 m nebo naložením na dopravní prostředek | G125: m2 | H125: 500 | J125: =ROUND(I125*H125,2) -> 0 | K125: CS ÚRS 2026 01 | N125: základní | P125: =O125*H125 -> 0 | Q125: 0 | R125: =Q125*H125 -> 0 | S125: 0 | T125: =S125*H125 -> 0 | AR125: 4 | AT125: K | AU125: 2 | AY125: ROZPOCET | BE125: =IF(N125="základní",J125,0) -> 0 | BF125: =IF(N125="snížená",J125,0) -> 0 | BG125: =IF(N125="zákl. přenesená",J125,0) -> 0 | BH125: =IF(N125="sníž. přenesená",J125,0) -> 0 | BI125: =IF(N125="nulová",J125,0) -> 0 | BJ125: 1 | BK125: =ROUND(I125*H125,2) -> 0 | BL125: 4 | BM125: 588039257
C126: 2 | D126: K | E126: 113106187 | F126: Rozebrání dlažeb vozovek ze zámkové dlažby s ložem z kameniva strojně pl do 50 m2 | G126: m2 | H126: 59 | J126: =ROUND(I126*H126,2) -> 0 | K126: CS ÚRS 2026 01 | N126: základní | P126: =O126*H126 -> 0 | Q126: 0 | R126: =Q126*H126 -> 0 | S126: 0.295 | T126: =S126*H126 -> 17.405 | AR126: 4 | AT126: K | AU126: 2 | AY126: ROZPOCET | BE126: =IF(N126="základní",J126,0) -> 0 | BF126: =IF(N126="snížená",J126,0) -> 0 | BG126: =IF(N126="zákl. přenesená",J126,0) -> 0 | BH126: =IF(N126="sníž. přenesená",J126,0) -> 0 | BI126: =IF(N126="nulová",J126,0) -> 0 | BJ126: 1 | BK126: =ROUND(I126*H126,2) -> 0 | BL126: 4 | BM126: 1256092133
D127: VV | F127: +19,5*2,0 | H127: 39 | AT127: VV | AU127: 2 | AV127: 2 | AW127: True | AX127: 0 | AY127: ROZPOCET
D128: VV | F128: +4,0*5,0 | H128: 20 | AT128: VV | AU128: 2 | AV128: 2 | AW128: True | AX128: 0 | AY128: ROZPOCET
D129: VV | F129: Součet | H129: 59 | AT129: VV | AU129: 2 | AV129: 4 | AW129: True | AX129: 1 | AY129: ROZPOCET
C130: 3 | D130: K | E130: 113107170 | F130: Odstranění krytu z betonu prostého tl do 100 mm strojně pl přes 50 do 200 m2 | G130: m2 | H130: 74 | J130: =ROUND(I130*H130,2) -> 0 | K130: CS ÚRS 2026 01 | N130: základní | P130: =O130*H130 -> 0 | Q130: 0 | R130: =Q130*H130 -> 0 | S130: 0.24 | T130: =S130*H130 -> 17.76 | AR130: 4 | AT130: K | AU130: 2 | AY130: ROZPOCET | BE130: =IF(N130="základní",J130,0) -> 0 | BF130: =IF(N130="snížená",J130,0) -> 0 | BG130: =IF(N130="zákl. přenesená",J130,0) -> 0 | BH130: =IF(N130="sníž. přenesená",J130,0) -> 0 | BI130: =IF(N130="nulová",J130,0) -> 0 | BJ130: 1 | BK130: =ROUND(I130*H130,2) -> 0 | BL130: 4 | BM130: -957085331
D131: VV | F131: +4,0*18,5 | H131: 74 | AT131: VV | AU131: 2 | AV131: 2 | AW131: True | AX131: 1 | AY131: ROZPOCET
C132: 4 | D132: K | E132: 113107242 | F132: Odstranění krytu živičného tl přes 50 do 100 mm strojně pl přes 200 m2 | G132: m2 | H132: 526.25 | J132: =ROUND(I132*H132,2) -> 0 | K132: CS ÚRS 2026 01 | N132: základní | P132: =O132*H132 -> 0 | Q132: 0 | R132: =Q132*H132 -> 0 | S132: 0.22 | T132: =S132*H132 -> 115.775 | AR132: 4 | AT132: K | AU132: 2 | AY132: ROZPOCET | BE132: =IF(N132="základní",J132,0) -> 0 | BF132: =IF(N132="snížená",J132,0) -> 0 | BG132: =IF(N132="zákl. přenesená",J132,0) -> 0 | BH132: =IF(N132="sníž. přenesená",J132,0) -> 0 | BI132: =IF(N132="nulová",J132,0) -> 0 | BJ132: 1 | BK132: =ROUND(I132*H132,2) -> 0 | BL132: 4 | BM132: 535181781
D133: VV | F133: +5,0*3,5+2,5*4,5+4,0*9,0 | H133: 64.75 | AT133: VV | AU133: 2 | AV133: 2 | AW133: True | AX133: 0 | AY133: ROZPOCET
D134: VV | F134: +1,5*10,5+5,0*7,0+4,0*5,0+12,0*9,0+12,5*4,5+2,0*6,5+5,0*6,5+5,0*21,0+3,0*5,0+4,0*6,5+5,0*7,0 | H134: 461.5 | AT134: VV | AU134: 2 | AV134: 2 | AW134: True | AX134: 0 | AY134: ROZPOCET
D135: VV | F135: Součet | H135: 526.25 | AT135: VV | AU135: 2 | AV135: 4 | AW135: True | AX135: 1 | AY135: ROZPOCET
C136: 5 | D136: K | E136: 113107322 | F136: Odstranění podkladu z kameniva drceného tl přes 100 do 200 mm strojně pl do 50 m2 | G136: m2 | H136: 59 | J136: =ROUND(I136*H136,2) -> 0 | K136: CS ÚRS 2026 01 | N136: základní | P136: =O136*H136 -> 0 | Q136: 0 | R136: =Q136*H136 -> 0 | S136: 0.29 | T136: =S136*H136 -> 17.11 | AR136: 4 | AT136: K | AU136: 2 | AY136: ROZPOCET | BE136: =IF(N136="základní",J136,0) -> 0 | BF136: =IF(N136="snížená",J136,0) -> 0 | BG136: =IF(N136="zákl. přenesená",J136,0) -> 0 | BH136: =IF(N136="sníž. přenesená",J136,0) -> 0 | BI136: =IF(N136="nulová",J136,0) -> 0 | BJ136: 1 | BK136: =ROUND(I136*H136,2) -> 0 | BL136: 4 | BM136: 1329019353
D137: VV | F137: "dlažba"+59,0 | H137: 59 | AT137: VV | AU137: 2 | AV137: 2 | AW137: True | AX137: 1 | AY137: ROZPOCET
C138: 6 | D138: K | E138: 113107162 | F138: Odstranění podkladu z kameniva drceného tl přes 100 do 200 mm strojně pl přes 50 do 200 m2 | G138: m2 | H138: 74 | J138: =ROUND(I138*H138,2) -> 0 | K138: CS ÚRS 2026 01 | N138: základní | P138: =O138*H138 -> 0 | Q138: 0 | R138: =Q138*H138 -> 0 | S138: 0.29 | T138: =S138*H138 -> 21.46 | AR138: 4 | AT138: K | AU138: 2 | AY138: ROZPOCET | BE138: =IF(N138="základní",J138,0) -> 0 | BF138: =IF(N138="snížená",J138,0) -> 0 | BG138: =IF(N138="zákl. přenesená",J138,0) -> 0 | BH138: =IF(N138="sníž. přenesená",J138,0) -> 0 | BI138: =IF(N138="nulová",J138,0) -> 0 | BJ138: 1 | BK138: =ROUND(I138*H138,2) -> 0 | BL138: 4 | BM138: -354479300
D139: VV | F139: "beton"+74,0 | H139: 74 | AT139: VV | AU139: 2 | AV139: 2 | AW139: True | AX139: 1 | AY139: ROZPOCET
C140: 7 | D140: K | E140: 113107222 | F140: Odstranění podkladu z kameniva drceného tl přes 100 do 200 mm strojně pl přes 200 m2 | G140: m2 | H140: 526.25 | J140: =ROUND(I140*H140,2) -> 0 | K140: CS ÚRS 2026 01 | N140: základní | P140: =O140*H140 -> 0 | Q140: 0 | R140: =Q140*H140 -> 0 | S140: 0.29 | T140: =S140*H140 -> 152.6125 | AR140: 4 | AT140: K | AU140: 2 | AY140: ROZPOCET | BE140: =IF(N140="základní",J140,0) -> 0 | BF140: =IF(N140="snížená",J140,0) -> 0 | BG140: =IF(N140="zákl. přenesená",J140,0) -> 0 | BH140: =IF(N140="sníž. přenesená",J140,0) -> 0 | BI140: =IF(N140="nulová",J140,0) -> 0 | BJ140: 1 | BK140: =ROUND(I140*H140,2) -> 0 | BL140: 4 | BM140: -1806465547
D141: VV | F141: "asfalt"+526,25 | H141: 526.25 | AT141: VV | AU141: 2 | AV141: 2 | AW141: True | AX141: 1 | AY141: ROZPOCET
C142: 8 | D142: K | E142: 113202111 | F142: Vytrhání obrub krajníků obrubníků stojatých | G142: m | H142: 67 | J142: =ROUND(I142*H142,2) -> 0 | K142: CS ÚRS 2026 01 | N142: základní | P142: =O142*H142 -> 0 | Q142: 0 | R142: =Q142*H142 -> 0 | S142: 0.205 | T142: =S142*H142 -> 13.735 | AR142: 4 | AT142: K | AU142: 2 | AY142: ROZPOCET | BE142: =IF(N142="základní",J142,0) -> 0 | BF142: =IF(N142="snížená",J142,0) -> 0 | BG142: =IF(N142="zákl. přenesená",J142,0) -> 0 | BH142: =IF(N142="sníž. přenesená",J142,0) -> 0 | BI142: =IF(N142="nulová",J142,0) -> 0 | BJ142: 1 | BK142: =ROUND(I142*H142,2) -> 0 | BL142: 4 | BM142: 1671592051
D143: VV | F143: +25,0+19,0+23,0 | H143: 67 | AT143: VV | AU143: 2 | AV143: 2 | AW143: True | AX143: 1 | AY143: ROZPOCET
D144: D | E144: 9 | F144: Ostatní konstrukce a práce, bourání | J144: =BK144 -> 0 | P144: =SUM(P145:P167) -> 0 | R144: =SUM(R145:R167) -> 0 | T144: =SUM(T145:T167) -> 1141.599 | AR144: 1 | AT144: D | AU144: 1 | AY144: ROZPOCET | BK144: =SUM(BK145:BK167) -> 0
C145: 9 | D145: K | E145: 981011313 | F145: Demolice budov zděných na MVC podíl konstrukcí přes 15 do 20 % postupným rozebíráním | G145: m3 | H145: 2621.54 | J145: =ROUND(I145*H145,2) -> 0 | K145: CS ÚRS 2026 01 | N145: základní | P145: =O145*H145 -> 0 | Q145: 0 | R145: =Q145*H145 -> 0 | S145: 0.35 | T145: =S145*H145 -> 917.539 | AR145: 4 | AT145: K | AU145: 2 | AY145: ROZPOCET | BE145: =IF(N145="základní",J145,0) -> 0 | BF145: =IF(N145="snížená",J145,0) -> 0 | BG145: =IF(N145="zákl. přenesená",J145,0) -> 0 | BH145: =IF(N145="sníž. přenesená",J145,0) -> 0 | BI145: =IF(N145="nulová",J145,0) -> 0 | BJ145: 1 | BK145: =ROUND(I145*H145,2) -> 0 | BL145: 4 | BM145: 605113251
D146: VV | F146: +10,5*38,1*5,3 | H146: 2120.265 | AT146: VV | AU146: 2 | AV146: 2 | AW146: True | AX146: 0 | AY146: ROZPOCET
D147: VV | F147: +3,3*3,0*5,0 | H147: 49.5 | AT147: VV | AU147: 2 | AV147: 2 | AW147: True | AX147: 0 | AY147: ROZPOCET
D148: VV | F148: +12,5*7,1*4,5 | H148: 399.375 | AT148: VV | AU148: 2 | AV148: 2 | AW148: True | AX148: 0 | AY148: ROZPOCET
D149: VV | F149: +3,0*2,8*5,0 | H149: 42 | AT149: VV | AU149: 2 | AV149: 2 | AW149: True | AX149: 0 | AY149: ROZPOCET
D150: VV | F150: +1,0*1,3*8,0 | H150: 10.4 | AT150: VV | AU150: 2 | AV150: 2 | AW150: True | AX150: 0 | AY150: ROZPOCET
D151: VV | F151: Součet | H151: 2621.54 | AT151: VV | AU151: 2 | AV151: 4 | AW151: True | AX151: 1 | AY151: ROZPOCET
C152: 10 | D152: K | E152: 961044111 | F152: Bourání základů z betonu prostého | G152: m3 | H152: 109.57 | J152: =ROUND(I152*H152,2) -> 0 | K152: CS ÚRS 2026 01 | N152: základní | P152: =O152*H152 -> 0 | Q152: 0 | R152: =Q152*H152 -> 0 | S152: 2 | T152: =S152*H152 -> 219.14 | AR152: 4 | AT152: K | AU152: 2 | AY152: ROZPOCET | BE152: =IF(N152="základní",J152,0) -> 0 | BF152: =IF(N152="snížená",J152,0) -> 0 | BG152: =IF(N152="zákl. přenesená",J152,0) -> 0 | BH152: =IF(N152="sníž. přenesená",J152,0) -> 0 | BI152: =IF(N152="nulová",J152,0) -> 0 | BJ152: 1 | BK152: =ROUND(I152*H152,2) -> 0 | BL152: 4 | BM152: 242578235
D153: VV | F153: "objekt" | AT153: VV | AU153: 2 | AV153: 1 | AW153: True | AX153: 0 | AY153: ROZPOCET
D154: VV | F154: +0,7*0,9*(2*38,0+3*10,5+2*7,0+12,5) | H154: 84.42 | AT154: VV | AU154: 2 | AV154: 2 | AW154: True | AX154: 0 | AY154: ROZPOCET
D155: VV | F155: +0,5*0,9*(3*3,0+2*3,5) | H155: 7.2 | AT155: VV | AU155: 2 | AV155: 2 | AW155: True | AX155: 0 | AY155: ROZPOCET
D156: VV | F156: +0,5*0,6*(2*9,5) | H156: 5.7 | AT156: VV | AU156: 2 | AV156: 2 | AW156: True | AX156: 0 | AY156: ROZPOCET
D157: VV | F157: +1,0*1,5*1,5 | H157: 2.25 | AT157: VV | AU157: 2 | AV157: 2 | AW157: True | AX157: 0 | AY157: ROZPOCET
D158: VV | F158: Mezisoučet | H158: 99.57 | AT158: VV | AU158: 2 | AV158: 3 | AW158: True | AX158: 0 | AY158: ROZPOCET
D159: VV | F159: "oplocení, drobné objekty"+10,0 | H159: 10 | AT159: VV | AU159: 2 | AV159: 2 | AW159: True | AX159: 0 | AY159: ROZPOCET
D160: VV | F160: Součet | H160: 109.57 | AT160: VV | AU160: 2 | AV160: 4 | AW160: True | AX160: 1 | AY160: ROZPOCET
C161: 11 | D161: K | E161: 981001 | F161: Vybourání oplocení - pletivo na sloupky | G161: m | H161: 186 | J161: =ROUND(I161*H161,2) -> 0 | N161: základní | P161: =O161*H161 -> 0 | Q161: 0 | R161: =Q161*H161 -> 0 | S161: 0.02 | T161: =S161*H161 -> 3.72 | AR161: 4 | AT161: K | AU161: 2 | AY161: ROZPOCET | BE161: =IF(N161="základní",J161,0) -> 0 | BF161: =IF(N161="snížená",J161,0) -> 0 | BG161: =IF(N161="zákl. přenesená",J161,0) -> 0 | BH161: =IF(N161="sníž. přenesená",J161,0) -> 0 | BI161: =IF(N161="nulová",J161,0) -> 0 | BJ161: 1 | BK161: =ROUND(I161*H161,2) -> 0 | BL161: 4 | BM161: 191363259
D162: VV | F162: +50,0+23,0+40,0+40,0+14,0+19,0 | H162: 186 | AT162: VV | AU162: 2 | AV162: 2 | AW162: True | AX162: 1 | AY162: ROZPOCET
C163: 12 | D163: K | E163: 9810011 | F163: Vybourání 2kř brány v oplocení | G163: kus | H163: 1 | J163: =ROUND(I163*H163,2) -> 0 | N163: základní | P163: =O163*H163 -> 0 | Q163: 0 | R163: =Q163*H163 -> 0 | S163: 0.1 | T163: =S163*H163 -> 0.1 | AR163: 4 | AT163: K | AU163: 2 | AY163: ROZPOCET | BE163: =IF(N163="základní",J163,0) -> 0 | BF163: =IF(N163="snížená",J163,0) -> 0 | BG163: =IF(N163="zákl. přenesená",J163,0) -> 0 | BH163: =IF(N163="sníž. přenesená",J163,0) -> 0 | BI163: =IF(N163="nulová",J163,0) -> 0 | BJ163: 1 | BK163: =ROUND(I163*H163,2) -> 0 | BL163: 4 | BM163: -394738396
C164: 13 | D164: K | E164: 981003 | F164: Vybourání pískovišť | G164: kus | H164: 4 | J164: =ROUND(I164*H164,2) -> 0 | N164: základní | P164: =O164*H164 -> 0 | Q164: 0 | R164: =Q164*H164 -> 0 | S164: 0.1 | T164: =S164*H164 -> 0.4 | AR164: 4 | AT164: K | AU164: 2 | AY164: ROZPOCET | BE164: =IF(N164="základní",J164,0) -> 0 | BF164: =IF(N164="snížená",J164,0) -> 0 | BG164: =IF(N164="zákl. přenesená",J164,0) -> 0 | BH164: =IF(N164="sníž. přenesená",J164,0) -> 0 | BI164: =IF(N164="nulová",J164,0) -> 0 | BJ164: 1 | BK164: =ROUND(I164*H164,2) -> 0 | BL164: 4 | BM164: 126691844
C165: 14 | D165: K | E165: 981004 | F165: Vybourání dřevěného skladu | G165: kus | H165: 1 | J165: =ROUND(I165*H165,2) -> 0 | N165: základní | P165: =O165*H165 -> 0 | Q165: 0 | R165: =Q165*H165 -> 0 | S165: 0.5 | T165: =S165*H165 -> 0.5 | AR165: 4 | AT165: K | AU165: 2 | AY165: ROZPOCET | BE165: =IF(N165="základní",J165,0) -> 0 | BF165: =IF(N165="snížená",J165,0) -> 0 | BG165: =IF(N165="zákl. přenesená",J165,0) -> 0 | BH165: =IF(N165="sníž. přenesená",J165,0) -> 0 | BI165: =IF(N165="nulová",J165,0) -> 0 | BJ165: 1 | BK165: =ROUND(I165*H165,2) -> 0 | BL165: 4 | BM165: -1811745879
C166: 15 | D166: K | E166: 981005 | F166: Vybourání drobného vybavení (lavičky, apod) | G166: kpl | H166: 1 | J166: =ROUND(I166*H166,2) -> 0 | N166: základní | P166: =O166*H166 -> 0 | Q166: 0 | R166: =Q166*H166 -> 0 | S166: 0.2 | T166: =S166*H166 -> 0.2 | AR166: 4 | AT166: K | AU166: 2 | AY166: ROZPOCET | BE166: =IF(N166="základní",J166,0) -> 0 | BF166: =IF(N166="snížená",J166,0) -> 0 | BG166: =IF(N166="zákl. přenesená",J166,0) -> 0 | BH166: =IF(N166="sníž. přenesená",J166,0) -> 0 | BI166: =IF(N166="nulová",J166,0) -> 0 | BJ166: 1 | BK166: =ROUND(I166*H166,2) -> 0 | BL166: 4 | BM166: 312382713
...

Sheet 04 - STAVEBNÍ PRÁCE
AT2: {7fdbab56-7042-41b0-add9-5c160252b741} | AZ2: P01a_vinyl | BC2: 330,79 | BD2: 2
AT3: 2 | AZ3: P01b_KD_30_30 | BC3: 58,08 | BD3: 2
D4: KRYCÍ LIST SOUPISU PRACÍ | M4: v --- níže se nacházejí doplnkové a pomocné údaje k sestavám --- v | AT4: False | AZ4: P01b_kerdl | BC4: 92,18 | BD4: 2
AZ5: P01c_zona | BC5: 31,47 | BD5: 2
D6: Stavba: | AZ6: P01d_KD_30_30 | BC6: 21,05 | BD6: 2
E7: ='Rekapitulace stavby'!K6 -> MŠ KOVÁŘSKÁ II - REKONSTRUKCE OBJEKTU | AZ7: P02a_vinyl | BC7: 376,28 | BD7: 2
D8: Objekt: | AZ8: P02b_KD_30_30 | BC8: 55,96 | BD8: 2
E9: 04 - STAVEBNÍ PRÁCE | AZ9: P02b_kerdl | BC9: 86,46 | BD9: 2
AZ10: P03b_KD_30_30 | BC10: 2,7 | BD10: 2
D11: KSO: | I11: CC-CZ:
D12: Místo: | F12: U Školičky 2176/1, 2177/3, Praha 9 | I12: Datum: | J12: ='Rekapitulace stavby'!AN8 -> 19. 12. 2025
D14: Zadavatel: | I14: IČ:
E15: MČ Praha 9 | I15: DIČ:
D17: Uchazeč: | I17: IČ: | J17: ='Rekapitulace stavby'!AN13 -> Vyplň údaj
E18: ='Rekapitulace stavby'!E14 -> Vyplň údaj | I18: DIČ: | J18: ='Rekapitulace stavby'!AN14 -> Vyplň údaj
D20: Projektant: | I20: IČ:
E21: ArtStat s.r.o. | I21: DIČ:
D23: Zpracovatel: | I23: IČ:
E24: Vladimír Mrázek | I24: DIČ:
D26: Poznámka:
D30: Cena bez DPH | J30: =ROUND(J141, 2) -> 0
F32: Základ daně | I32: Sazba daně | J32: Výše daně
D33: DPH | E33: základní | F33: =ROUND((SUM(BE141:BE1702)), 2) -> 0 | I33: 0.21 | J33: =ROUND(((SUM(BE141:BE1702))*I33), 2) -> 0
E34: snížená | F34: =ROUND((SUM(BF141:BF1702)), 2) -> 0 | I34: 0.12 | J34: =ROUND(((SUM(BF141:BF1702))*I34), 2) -> 0
E35: zákl. přenesená | F35: =ROUND((SUM(BG141:BG1702)), 2) -> 0 | I35: 0.21 | J35: =0 -> 0
E36: sníž. přenesená | F36: =ROUND((SUM(BH141:BH1702)), 2) -> 0 | I36: 0.12 | J36: =0 -> 0
E37: nulová | F37: =ROUND((SUM(BI141:BI1702)), 2) -> 0 | I37: 0 | J37: =0 -> 0
D39: Cena s DPH | G39: v | H39: CZK | J39: =SUM(J30:J37) -> 0
D50: Projektant | G50: Zpracovatel
D61: Datum a podpis: | F61: Razítko | G61: Datum a podpis: | J61: Razítko
D65: Objednavatel | G65: Uchazeč
D76: Datum a podpis: | F76: Razítko | G76: Datum a podpis: | J76: Razítko
C82: REKAPITULACE ČLENĚNÍ SOUPISU PRACÍ
C84: Stavba:
E85: =E7 -> MŠ KOVÁŘSKÁ II - REKONSTRUKCE OBJEKTU
C86: Objekt:
E87: =E9 -> 04 - STAVEBNÍ PRÁCE
C89: Místo: | F89: =F12 -> U Školičky 2176/1, 2177/3, Praha 9 | I89: Datum: | J89: =IF(J12="","",J12) -> 19. 12. 2025
C91: Zadavatel: | F91: =E15 -> MČ Praha 9 | I91: Projektant: | J91: =E21 -> ArtStat s.r.o.
C92: Uchazeč: | F92: =IF(E18="","",E18) -> Vyplň údaj | I92: Zpracovatel: | J92: =E24 -> Vladimír Mrázek
C94: Kód dílu - Popis | J94: Cena celkem [CZK]
C96: Náklady ze soupisu prací | J96: =J141 -> 0 | AU96: -1
D97: HSV - Práce a dodávky HSV | J97: =J142 -> 0
D98: 1 - Zemní práce | J98: =J143 -> 0
D99: 2 - Zakládání | J99: =J164 -> 0
D100: 3 - Svislé a kompletní konstrukce | J100: =J207 -> 0
D101: 4 - Vodorovné konstrukce | J101: =J391 -> 0
D102: 6 - Úpravy povrchů, podlahy a osazování výplní | J102: =J489 -> 0
D103: 9 - Ostatní konstrukce a práce, bourání | J103: =J790 -> 0
D104: 998 - Přesun hmot | J104: =J804 -> 0
D105: PSV - Práce a dodávky PSV | J105: =J806 -> 0
D106: 711 - Izolace proti vodě, vlhkosti a plynům | J106: =J807 -> 0
D107: 712 - Povlakové krytiny | J107: =J846 -> 0
D108: 713 - Izolace tepelné | J108: =J965 -> 0
D109: 714 - Akustická a protiotřesová opatření | J109: =J1122 -> 0
D110: 762 - Konstrukce tesařské | J110: =J1136 -> 0
D111: 763 - Konstrukce suché výstavby | J111: =J1142 -> 0
D112: 764 - Konstrukce klempířské | J112: =J1190 -> 0
D113: 766 - Konstrukce truhlářské | J113: =J1201 -> 0
D114: 767 - Konstrukce zámečnické | J114: =J1223 -> 0
D115: 771 - Podlahy z dlaždic | J115: =J1264 -> 0
D116: 776 - Podlahy povlakové | J116: =J1328 -> 0
D117: 777 - Podlahy lité | J117: =J1380 -> 0
D118: 781 - Dokončovací práce - obklady | J118: =J1386 -> 0
D119: 783 - Dokončovací práce - nátěry | J119: =J1452 -> 0
D120: 784 - Dokončovací práce - malby a tapety | J120: =J1569 -> 0
D121: 790 - Ostatní výrobky | J121: =J1654 -> 0
C128: SOUPIS PRACÍ
C130: Stavba:
E131: =E7 -> MŠ KOVÁŘSKÁ II - REKONSTRUKCE OBJEKTU
C132: Objekt:
E133: =E9 -> 04 - STAVEBNÍ PRÁCE
C135: Místo: | F135: =F12 -> U Školičky 2176/1, 2177/3, Praha 9 | I135: Datum: | J135: =IF(J12="","",J12) -> 19. 12. 2025
C137: Zadavatel: | F137: =E15 -> MČ Praha 9 | I137: Projektant: | J137: =E21 -> ArtStat s.r.o.
C138: Uchazeč: | F138: =IF(E18="","",E18) -> Vyplň údaj | I138: Zpracovatel: | J138: =E24 -> Vladimír Mrázek
C140: PČ | D140: Typ | E140: Kód | F140: Popis | G140: MJ | H140: Množství | I140: J.cena [CZK] | J140: Cena celkem [CZK] | K140: Cenová soustava | N140: DPH | O140: J. Nh [h] | P140: Nh celkem [h] | Q140: J. hmotnost [t] | R140: Hmotnost celkem [t] | S140: J. suť [t] | T140: Suť Celkem [t]
C141: Náklady soupisu celkem | J141: =BK141 -> 0 | P141: =P142+P806 -> 0 | R141: =R142+R806 -> 2612.5465 | T141: =T142+T806 -> 0.06936 | AT141: D | AU141: -1 | BK141: =BK142+BK806 -> 0
D142: D | E142: HSV | F142: Práce a dodávky HSV | J142: =BK142 -> 0 | P142: =P143+P164+P207+P391+P489+P790+P804 -> 0 | R142: =R143+R164+R207+R391+R489+R790+R804 -> 2535.7361 | T142: =T143+T164+T207+T391+T489+T790+T804 -> 0.0048 | AR142: 1 | AT142: D | AU142: 0 | AY142: ROZPOCET | BK142: =BK143+BK164+BK207+BK391+BK489+BK790+BK804 -> 0
D143: D | E143: 1 | F143: Zemní práce | J143: =BK143 -> 0 | P143: =SUM(P144:P163) -> 0 | R143: =SUM(R144:R163) -> 0 | T143: =SUM(T144:T163) -> 0 | AR143: 1 | AT143: D | AU143: 1 | AY143: ROZPOCET | BK143: =SUM(BK144:BK163) -> 0
C144: 1 | D144: K | E144: 131251105 | F144: Hloubení jam nezapažených v hornině třídy těžitelnosti I skupiny 3 objemu do 1000 m3 strojně | G144: m3 | H144: 524.725 | J144: =ROUND(I144*H144,2) -> 0 | K144: CS ÚRS 2026 01 | N144: základní | P144: =O144*H144 -> 0 | Q144: 0 | R144: =Q144*H144 -> 0 | S144: 0 | T144: =S144*H144 -> 0 | AR144: 4 | AT144: K | AU144: 2 | AY144: ROZPOCET | BE144: =IF(N144="základní",J144,0) -> 0 | BF144: =IF(N144="snížená",J144,0) -> 0 | BG144: =IF(N144="zákl. přenesená",J144,0) -> 0 | BH144: =IF(N144="sníž. přenesená",J144,0) -> 0 | BI144: =IF(N144="nulová",J144,0) -> 0 | BJ144: 1 | BK144: =ROUND(I144*H144,2) -> 0 | BL144: 4 | BM144: 1965786095
D145: VV | F145: +0,6*(9,5*15,4+27,2*19,0+3,8*12,5) | H145: 426.36 | AT145: VV | AU145: 2 | AV145: 2 | AW145: True | AX145: 0 | AY145: ROZPOCET
D146: VV | F146: +0,67*2,65*2,5 | H146: 4.439 | AT146: VV | AU146: 2 | AV146: 2 | AW146: True | AX146: 0 | AY146: ROZPOCET
D147: VV | F147: +0,42*1,8*(15,2+7,5+5,5+23,4+8,0+4,2+9,5+15,5+15,5) | H147: 78.851 | AT147: VV | AU147: 2 | AV147: 2 | AW147: True | AX147: 0 | AY147: ROZPOCET
D148: VV | F148: +0,42*3,3*5,2 | H148: 7.207 | AT148: VV | AU148: 2 | AV148: 2 | AW148: True | AX148: 0 | AY148: ROZPOCET
D149: VV | F149: +0,1*0,7*(14,0+8,7+4,3+24,5+6,8+1,5+3,5+8,9+16,7+16,7+4,0+2*1,4) | H149: 7.868 | AT149: VV | AU149: 2 | AV149: 2 | AW149: True | AX149: 0 | AY149: ROZPOCET
D150: VV | F150: Součet | H150: 524.725 | AT150: VV | AU150: 2 | AV150: 4 | AW150: True | AX150: 1 | AY150: ROZPOCET
C151: 2 | D151: K | E151: 162251102 | F151: Vodorovné přemístění přes 20 do 50 m výkopku/sypaniny z horniny třídy těžitelnosti I skupiny 1 až 3 | G151: m3 | H151: 101.77 | J151: =ROUND(I151*H151,2) -> 0 | K151: CS ÚRS 2026 01 | N151: základní | P151: =O151*H151 -> 0 | Q151: 0 | R151: =Q151*H151 -> 0 | S151: 0 | T151: =S151*H151 -> 0 | AR151: 4 | AT151: K | AU151: 2 | AY151: ROZPOCET | BE151: =IF(N151="základní",J151,0) -> 0 | BF151: =IF(N151="snížená",J151,0) -> 0 | BG151: =IF(N151="zákl. přenesená",J151,0) -> 0 | BH151: =IF(N151="sníž. přenesená",J151,0) -> 0 | BI151: =IF(N151="nulová",J151,0) -> 0 | BJ151: 1 | BK151: =ROUND(I151*H151,2) -> 0 | BL151: 4 | BM151: 1397394191
C152: 3 | D152: K | E152: 162751117 | F152: Vodorovné přemístění přes 9 000 do 10000 m výkopku/sypaniny z horniny třídy těžitelnosti I skupiny 1 až 3 | G152: m3 | H152: 422.955 | J152: =ROUND(I152*H152,2) -> 0 | K152: CS ÚRS 2026 01 | N152: základní | P152: =O152*H152 -> 0 | Q152: 0 | R152: =Q152*H152 -> 0 | S152: 0 | T152: =S152*H152 -> 0 | AR152: 4 | AT152: K | AU152: 2 | AY152: ROZPOCET | BE152: =IF(N152="základní",J152,0) -> 0 | BF152: =IF(N152="snížená",J152,0) -> 0 | BG152: =IF(N152="zákl. přenesená",J152,0) -> 0 | BH152: =IF(N152="sníž. přenesená",J152,0) -> 0 | BI152: =IF(N152="nulová",J152,0) -> 0 | BJ152: 1 | BK152: =ROUND(I152*H152,2) -> 0 | BL152: 4 | BM152: 679985616
D153: VV | F153: +524,725-101,77 | H153: 422.955 | AT153: VV | AU153: 2 | AV153: 2 | AW153: True | AX153: 1 | AY153: ROZPOCET
C154: 4 | D154: K | E154: 162751119 | F154: Příplatek k vodorovnému přemístění výkopku/sypaniny z horniny třídy těžitelnosti I skupiny 1 až 3 ZKD 1000 m přes 10000 m | G154: m3 | H154: 422.955 | J154: =ROUND(I154*H154,2) -> 0 | K154: CS ÚRS 2026 01 | N154: základní | P154: =O154*H154 -> 0 | Q154: 0 | R154: =Q154*H154 -> 0 | S154: 0 | T154: =S154*H154 -> 0 | AR154: 4 | AT154: K | AU154: 2 | AY154: ROZPOCET | BE154: =IF(N154="základní",J154,0) -> 0 | BF154: =IF(N154="snížená",J154,0) -> 0 | BG154: =IF(N154="zákl. přenesená",J154,0) -> 0 | BH154: =IF(N154="sníž. přenesená",J154,0) -> 0 | BI154: =IF(N154="nulová",J154,0) -> 0 | BJ154: 1 | BK154: =ROUND(I154*H154,2) -> 0 | BL154: 4 | BM154: 1800704661
D155: P | F155: Poznámka k položce:_x000D_ +20 km - indexováno v jednotkové ceně | AT155: P | AU155: 2
C156: 5 | D156: K | E156: 167151111 | F156: Nakládání výkopku z hornin třídy těžitelnosti I skupiny 1 až 3 přes 100 m3 | G156: m3 | H156: 101.77 | J156: =ROUND(I156*H156,2) -> 0 | K156: CS ÚRS 2026 01 | N156: základní | P156: =O156*H156 -> 0 | Q156: 0 | R156: =Q156*H156 -> 0 | S156: 0 | T156: =S156*H156 -> 0 | AR156: 4 | AT156: K | AU156: 2 | AY156: ROZPOCET | BE156: =IF(N156="základní",J156,0) -> 0 | BF156: =IF(N156="snížená",J156,0) -> 0 | BG156: =IF(N156="zákl. přenesená",J156,0) -> 0 | BH156: =IF(N156="sníž. přenesená",J156,0) -> 0 | BI156: =IF(N156="nulová",J156,0) -> 0 | BJ156: 1 | BK156: =ROUND(I156*H156,2) -> 0 | BL156: 4 | BM156: -813585674
C157: 6 | D157: K | E157: 171251201 | F157: Uložení sypaniny na skládky nebo meziskládky | G157: m3 | H157: 422.955 | J157: =ROUND(I157*H157,2) -> 0 | K157: CS ÚRS 2026 01 | N157: základní | P157: =O157*H157 -> 0 | Q157: 0 | R157: =Q157*H157 -> 0 | S157: 0 | T157: =S157*H157 -> 0 | AR157: 4 | AT157: K | AU157: 2 | AY157: ROZPOCET | BE157: =IF(N157="základní",J157,0) -> 0 | BF157: =IF(N157="snížená",J157,0) -> 0 | BG157: =IF(N157="zákl. přenesená",J157,0) -> 0 | BH157: =IF(N157="sníž. přenesená",J157,0) -> 0 | BI157: =IF(N157="nulová",J157,0) -> 0 | BJ157: 1 | BK157: =ROUND(I157*H157,2) -> 0 | BL157: 4 | BM157: 53988406
C158: 7 | D158: K | E158: 171201231 | F158: Poplatek za předání recyklačnímu zařízení zeminy a kamení kód odpadu 17 05 04 | G158: t | H158: 761.319 | J158: =ROUND(I158*H158,2) -> 0 | K158: CS ÚRS 2026 01 | N158: základní | P158: =O158*H158 -> 0 | Q158: 0 | R158: =Q158*H158 -> 0 | S158: 0 | T158: =S158*H158 -> 0 | AR158: 4 | AT158: K | AU158: 2 | AY158: ROZPOCET | BE158: =IF(N158="základní",J158,0) -> 0 | BF158: =IF(N158="snížená",J158,0) -> 0 | BG158: =IF(N158="zákl. přenesená",J158,0) -> 0 | BH158: =IF(N158="sníž. přenesená",J158,0) -> 0 | BI158: =IF(N158="nulová",J158,0) -> 0 | BJ158: 1 | BK158: =ROUND(I158*H158,2) -> 0 | BL158: 4 | BM158: 1438668249
D159: VV | F159: +422,955*1,8 | H159: 761.319 | AT159: VV | AU159: 2 | AV159: 2 | AW159: True | AX159: 1 | AY159: ROZPOCET
C160: 8 | D160: K | E160: 174151101 | F160: Zásyp jam, šachet rýh nebo kolem objektů sypaninou se zhutněním | G160: m3 | H160: 101.77 | J160: =ROUND(I160*H160,2) -> 0 | K160: CS ÚRS 2026 01 | N160: základní | P160: =O160*H160 -> 0 | Q160: 0 | R160: =Q160*H160 -> 0 | S160: 0 | T160: =S160*H160 -> 0 | AR160: 4 | AT160: K | AU160: 2 | AY160: ROZPOCET | BE160: =IF(N160="základní",J160,0) -> 0 | BF160: =IF(N160="snížená",J160,0) -> 0 | BG160: =IF(N160="zákl. přenesená",J160,0) -> 0 | BH160: =IF(N160="sníž. přenesená",J160,0) -> 0 | BI160: =IF(N160="nulová",J160,0) -> 0 | BJ160: 1 | BK160: =ROUND(I160*H160,2) -> 0 | BL160: 4 | BM160: 1998812528
D161: VV | F161: +0,42*0,7*(12,5+33,5+3,6+6,1+2,0+2,5+8,3+37,3+2*1,3) | H161: 31.87 | AT161: VV | AU161: 2 | AV161: 2 | AW161: True | AX161: 0 | AY161: ROZPOCET
D162: VV | F162: +1,0*0,6*(39,2+2*1,4+14,0+9,3+3,5+26,2+6,1+1,5+4,5+9,4) | H162: 69.9 | AT162: VV | AU162: 2 | AV162: 2 | AW162: True | AX162: 0 | AY162: ROZPOCET
D163: VV | F163: Součet | H163: 101.77 | AT163: VV | AU163: 2 | AV163: 4 | AW163: True | AX163: 1 | AY163: ROZPOCET
D164: D | E164: 2 | F164: Zakládání | J164: =BK164 -> 0 | P164: =SUM(P165:P206) -> 0 | R164: =SUM(R165:R206) -> 630.61741 | T164: =SUM(T165:T206) -> 0 | AR164: 1 | AT164: D | AU164: 1 | AY164: ROZPOCET | BK164: =SUM(BK165:BK206) -> 0
...

Sheet 05 - ZDRAVOTECHNIKA
AT2: {ac3a8fc6-4d25-4005-8141-87e1ffc0ef30}
AT3: 2
D4: KRYCÍ LIST SOUPISU PRACÍ | M4: v --- níže se nacházejí doplnkové a pomocné údaje k sestavám --- v | AT4: False
D6: Stavba:
E7: ='Rekapitulace stavby'!K6 -> MŠ KOVÁŘSKÁ II - REKONSTRUKCE OBJEKTU
D8: Objekt:
E9: 05 - ZDRAVOTECHNIKA
D11: KSO: | I11: CC-CZ:
D12: Místo: | F12: U Školičky 2176/1, 2177/3, Praha 9 | I12: Datum: | J12: ='Rekapitulace stavby'!AN8 -> 19. 12. 2025
D14: Zadavatel: | I14: IČ:
E15: MČ Praha 9 | I15: DIČ:
D17: Uchazeč: | I17: IČ: | J17: ='Rekapitulace stavby'!AN13 -> Vyplň údaj
E18: ='Rekapitulace stavby'!E14 -> Vyplň údaj | I18: DIČ: | J18: ='Rekapitulace stavby'!AN14 -> Vyplň údaj
D20: Projektant: | I20: IČ:
E21: ArtStat s.r.o. | I21: DIČ:
D23: Zpracovatel: | I23: IČ:
E24: Vladimír Mrázek | I24: DIČ:
D26: Poznámka:
D30: Cena bez DPH | J30: =ROUND(J130, 2) -> 0
F32: Základ daně | I32: Sazba daně | J32: Výše daně
D33: DPH | E33: základní | F33: =ROUND((SUM(BE130:BE327)), 2) -> 0 | I33: 0.21 | J33: =ROUND(((SUM(BE130:BE327))*I33), 2) -> 0
E34: snížená | F34: =ROUND((SUM(BF130:BF327)), 2) -> 0 | I34: 0.12 | J34: =ROUND(((SUM(BF130:BF327))*I34), 2) -> 0
E35: zákl. přenesená | F35: =ROUND((SUM(BG130:BG327)), 2) -> 0 | I35: 0.21 | J35: =0 -> 0
E36: sníž. přenesená | F36: =ROUND((SUM(BH130:BH327)), 2) -> 0 | I36: 0.12 | J36: =0 -> 0
E37: nulová | F37: =ROUND((SUM(BI130:BI327)), 2) -> 0 | I37: 0 | J37: =0 -> 0
D39: Cena s DPH | G39: v | H39: CZK | J39: =SUM(J30:J37) -> 0
D50: Projektant | G50: Zpracovatel
D61: Datum a podpis: | F61: Razítko | G61: Datum a podpis: | J61: Razítko
D65: Objednavatel | G65: Uchazeč
D76: Datum a podpis: | F76: Razítko | G76: Datum a podpis: | J76: Razítko
C82: REKAPITULACE ČLENĚNÍ SOUPISU PRACÍ
C84: Stavba:
E85: =E7 -> MŠ KOVÁŘSKÁ II - REKONSTRUKCE OBJEKTU
C86: Objekt:
E87: =E9 -> 05 - ZDRAVOTECHNIKA
C89: Místo: | F89: =F12 -> U Školičky 2176/1, 2177/3, Praha 9 | I89: Datum: | J89: =IF(J12="","",J12) -> 19. 12. 2025
C91: Zadavatel: | F91: =E15 -> MČ Praha 9 | I91: Projektant: | J91: =E21 -> ArtStat s.r.o.
C92: Uchazeč: | F92: =IF(E18="","",E18) -> Vyplň údaj | I92: Zpracovatel: | J92: =E24 -> Vladimír Mrázek
C94: Kód dílu - Popis | J94: Cena celkem [CZK]
C96: Náklady ze soupisu prací | J96: =J130 -> 0 | AU96: -1
D97: HSV.01 - Práce a dodávky HSV - Splašková kanalizace | J97: =J131 -> 0
D98: 1.01 - Zemní práce | J98: =J132 -> 0
D99: 4.01 - Vodorovné konstrukce | J99: =J160 -> 0
D100: 8.01 - Vedení trubní dálková a přípojná | J100: =J166 -> 0
D101: HSV.02 - Práce a dodávky HSV - Areálový vodovod | J101: =J186 -> 0
D102: 1.02 - Zemní práce | J102: =J187 -> 0
D103: 4.02 - Vodorovné konstrukce | J103: =J200 -> 0
D104: 8.02 - Vedení trubní dálková a přípojná | J104: =J205 -> 0
D105: 998 - Přesun hmot | J105: =J217 -> 0
D106: PSV - Práce a dodávky PSV | J106: =J219 -> 0
D107: 713 - Izolace tepelné | J107: =J220 -> 0
D108: 721 - Zdravotechnika - vnitřní kanalizace | J108: =J241 -> 0
D109: 722 - Zdravotechnika - vnitřní vodovod | J109: =J267 -> 0
D110: 725 - Zdravotechnika - zařizovací předměty | J110: =J305 -> 0
C117: SOUPIS PRACÍ
C119: Stavba:
E120: =E7 -> MŠ KOVÁŘSKÁ II - REKONSTRUKCE OBJEKTU
C121: Objekt:
E122: =E9 -> 05 - ZDRAVOTECHNIKA
C124: Místo: | F124: =F12 -> U Školičky 2176/1, 2177/3, Praha 9 | I124: Datum: | J124: =IF(J12="","",J12) -> 19. 12. 2025
C126: Zadavatel: | F126: =E15 -> MČ Praha 9 | I126: Projektant: | J126: =E21 -> ArtStat s.r.o.
C127: Uchazeč: | F127: =IF(E18="","",E18) -> Vyplň údaj | I127: Zpracovatel: | J127: =E24 -> Vladimír Mrázek
C129: PČ | D129: Typ | E129: Kód | F129: Popis | G129: MJ | H129: Množství | I129: J.cena [CZK] | J129: Cena celkem [CZK] | K129: Cenová soustava | N129: DPH | O129: J. Nh [h] | P129: Nh celkem [h] | Q129: J. hmotnost [t] | R129: Hmotnost celkem [t] | S129: J. suť [t] | T129: Suť Celkem [t]
C130: Náklady soupisu celkem | J130: =BK130 -> 0 | P130: =P131+P186+P219 -> 0 | R130: =R131+R186+R219 -> 11.33352 | T130: =T131+T186+T219 -> 0 | AT130: D | AU130: -1 | BK130: =BK131+BK186+BK219 -> 0
D131: D | E131: HSV.01 | F131: Práce a dodávky HSV - Splašková kanalizace | J131: =BK131 -> 0 | P131: =P132+P160+P166 -> 0 | R131: =R132+R160+R166 -> 9.2943421 | T131: =T132+T160+T166 -> 0 | AR131: 1 | AT131: D | AU131: 0 | AY131: ROZPOCET | BK131: =BK132+BK160+BK166 -> 0
D132: D | E132: 1.01 | F132: Zemní práce | J132: =BK132 -> 0 | P132: =SUM(P133:P159) -> 0 | R132: =SUM(R133:R159) -> 0.52395 | T132: =SUM(T133:T159) -> 0 | AR132: 1 | AT132: D | AU132: 1 | AY132: ROZPOCET | BK132: =SUM(BK133:BK159) -> 0
C133: 1 | D133: K | E133: 131251203 | F133: Hloubení jam zapažených v hornině třídy těžitelnosti I skupiny 3 objem do 100 m3 strojně | G133: m3 | H133: 72 | J133: =ROUND(I133*H133,2) -> 0 | K133: CS ÚRS 2026 01 | N133: základní | P133: =O133*H133 -> 0 | Q133: 0 | R133: =Q133*H133 -> 0 | S133: 0 | T133: =S133*H133 -> 0 | AR133: 4 | AT133: K | AU133: 2 | AY133: ROZPOCET | BE133: =IF(N133="základní",J133,0) -> 0 | BF133: =IF(N133="snížená",J133,0) -> 0 | BG133: =IF(N133="zákl. přenesená",J133,0) -> 0 | BH133: =IF(N133="sníž. přenesená",J133,0) -> 0 | BI133: =IF(N133="nulová",J133,0) -> 0 | BJ133: 1 | BK133: =ROUND(I133*H133,2) -> 0 | BL133: 4 | BM133: -2101150580
D134: VV | F134: +6,0*4,0*3,0 | H134: 72 | AT134: VV | AU134: 2 | AV134: 2 | AW134: True | AX134: 1 | AY134: ROZPOCET
C135: 2 | D135: K | E135: 132251253 | F135: Hloubení rýh nezapažených š do 2000 mm v hornině třídy těžitelnosti I skupiny 3 objem do 100 m3 strojně | G135: m3 | H135: 96.75 | J135: =ROUND(I135*H135,2) -> 0 | K135: CS ÚRS 2026 01 | N135: základní | P135: =O135*H135 -> 0 | Q135: 0 | R135: =Q135*H135 -> 0 | S135: 0 | T135: =S135*H135 -> 0 | AR135: 4 | AT135: K | AU135: 2 | AY135: ROZPOCET | BE135: =IF(N135="základní",J135,0) -> 0 | BF135: =IF(N135="snížená",J135,0) -> 0 | BG135: =IF(N135="zákl. přenesená",J135,0) -> 0 | BH135: =IF(N135="sníž. přenesená",J135,0) -> 0 | BI135: =IF(N135="nulová",J135,0) -> 0 | BJ135: 1 | BK135: =ROUND(I135*H135,2) -> 0 | BL135: 4 | BM135: 439806475
D136: VV | F136: +1,0*1,5*(1,5+1,0+7,0+2,0+10,0+15,0+3*2,0+6,0+16,0) | H136: 96.75 | AT136: VV | AU136: 2 | AV136: 2 | AW136: True | AX136: 1 | AY136: ROZPOCET
C137: 3 | D137: K | E137: 132254204 | F137: Hloubení zapažených rýh š do 2000 mm v hornině třídy těžitelnosti I skupiny 3 objem do 500 m3 | G137: m3 | H137: 378.45 | J137: =ROUND(I137*H137,2) -> 0 | K137: CS ÚRS 2026 01 | N137: základní | P137: =O137*H137 -> 0 | Q137: 0 | R137: =Q137*H137 -> 0 | S137: 0 | T137: =S137*H137 -> 0 | AR137: 4 | AT137: K | AU137: 2 | AY137: ROZPOCET | BE137: =IF(N137="základní",J137,0) -> 0 | BF137: =IF(N137="snížená",J137,0) -> 0 | BG137: =IF(N137="zákl. přenesená",J137,0) -> 0 | BH137: =IF(N137="sníž. přenesená",J137,0) -> 0 | BI137: =IF(N137="nulová",J137,0) -> 0 | BJ137: 1 | BK137: =ROUND(I137*H137,2) -> 0 | BL137: 4 | BM137: -526209977
D138: VV | F138: "RŠš1-RŠš5"+2,9*1,5*87,0 | H138: 378.45 | AT138: VV | AU138: 2 | AV138: 2 | AW138: True | AX138: 1 | AY138: ROZPOCET
C139: 4 | D139: K | E139: 151101102 | F139: Zřízení příložného pažení a rozepření stěn rýh hl přes 2 do 4 m | G139: m2 | H139: 504.6 | J139: =ROUND(I139*H139,2) -> 0 | K139: CS ÚRS 2026 01 | N139: základní | P139: =O139*H139 -> 0 | Q139: 0.00085 | R139: =Q139*H139 -> 0.42891 | S139: 0 | T139: =S139*H139 -> 0 | AR139: 4 | AT139: K | AU139: 2 | AY139: ROZPOCET | BE139: =IF(N139="základní",J139,0) -> 0 | BF139: =IF(N139="snížená",J139,0) -> 0 | BG139: =IF(N139="zákl. přenesená",J139,0) -> 0 | BH139: =IF(N139="sníž. přenesená",J139,0) -> 0 | BI139: =IF(N139="nulová",J139,0) -> 0 | BJ139: 1 | BK139: =ROUND(I139*H139,2) -> 0 | BL139: 4 | BM139: -1265608327
D140: VV | F140: "RŠš1-RŠš5"+2,9*2*87,0 | H140: 504.6 | AT140: VV | AU140: 2 | AV140: 2 | AW140: True | AX140: 1 | AY140: ROZPOCET
C141: 5 | D141: K | E141: 151101112 | F141: Odstranění příložného pažení a rozepření stěn rýh hl přes 2 do 4 m | G141: m2 | H141: 504.6 | J141: =ROUND(I141*H141,2) -> 0 | K141: CS ÚRS 2026 01 | N141: základní | P141: =O141*H141 -> 0 | Q141: 0 | R141: =Q141*H141 -> 0 | S141: 0 | T141: =S141*H141 -> 0 | AR141: 4 | AT141: K | AU141: 2 | AY141: ROZPOCET | BE141: =IF(N141="základní",J141,0) -> 0 | BF141: =IF(N141="snížená",J141,0) -> 0 | BG141: =IF(N141="zákl. přenesená",J141,0) -> 0 | BH141: =IF(N141="sníž. přenesená",J141,0) -> 0 | BI141: =IF(N141="nulová",J141,0) -> 0 | BJ141: 1 | BK141: =ROUND(I141*H141,2) -> 0 | BL141: 4 | BM141: -1594731558
C142: 6 | D142: K | E142: 151101202 | F142: Zřízení příložného pažení stěn výkopu hl přes 4 do 8 m | G142: m2 | H142: 84 | J142: =ROUND(I142*H142,2) -> 0 | K142: CS ÚRS 2026 01 | N142: základní | P142: =O142*H142 -> 0 | Q142: 0.00072 | R142: =Q142*H142 -> 0.06048 | S142: 0 | T142: =S142*H142 -> 0 | AR142: 4 | AT142: K | AU142: 2 | AY142: ROZPOCET | BE142: =IF(N142="základní",J142,0) -> 0 | BF142: =IF(N142="snížená",J142,0) -> 0 | BG142: =IF(N142="zákl. přenesená",J142,0) -> 0 | BH142: =IF(N142="sníž. přenesená",J142,0) -> 0 | BI142: =IF(N142="nulová",J142,0) -> 0 | BJ142: 1 | BK142: =ROUND(I142*H142,2) -> 0 | BL142: 4 | BM142: -722360420
D143: VV | F143: +6,0*(2*4,0+2*3,0) | H143: 84 | AT143: VV | AU143: 2 | AV143: 2 | AW143: True | AX143: 1 | AY143: ROZPOCET
C144: 7 | D144: K | E144: 151101212 | F144: Odstranění příložného pažení stěn hl přes 4 do 8 m | G144: m2 | H144: 84 | J144: =ROUND(I144*H144,2) -> 0 | K144: CS ÚRS 2026 01 | N144: základní | P144: =O144*H144 -> 0 | Q144: 0 | R144: =Q144*H144 -> 0 | S144: 0 | T144: =S144*H144 -> 0 | AR144: 4 | AT144: K | AU144: 2 | AY144: ROZPOCET | BE144: =IF(N144="základní",J144,0) -> 0 | BF144: =IF(N144="snížená",J144,0) -> 0 | BG144: =IF(N144="zákl. přenesená",J144,0) -> 0 | BH144: =IF(N144="sníž. přenesená",J144,0) -> 0 | BI144: =IF(N144="nulová",J144,0) -> 0 | BJ144: 1 | BK144: =ROUND(I144*H144,2) -> 0 | BL144: 4 | BM144: -606921289
C145: 8 | D145: K | E145: 151101302 | F145: Zřízení rozepření stěn při pažení příložném hl přes 4 do 8 m | G145: m3 | H145: 72 | J145: =ROUND(I145*H145,2) -> 0 | K145: CS ÚRS 2026 01 | N145: základní | P145: =O145*H145 -> 0 | Q145: 0.00048 | R145: =Q145*H145 -> 0.03456 | S145: 0 | T145: =S145*H145 -> 0 | AR145: 4 | AT145: K | AU145: 2 | AY145: ROZPOCET | BE145: =IF(N145="základní",J145,0) -> 0 | BF145: =IF(N145="snížená",J145,0) -> 0 | BG145: =IF(N145="zákl. přenesená",J145,0) -> 0 | BH145: =IF(N145="sníž. přenesená",J145,0) -> 0 | BI145: =IF(N145="nulová",J145,0) -> 0 | BJ145: 1 | BK145: =ROUND(I145*H145,2) -> 0 | BL145: 4 | BM145: 139537308
C146: 9 | D146: K | E146: 151101312 | F146: Odstranění rozepření stěn při pažení příložném hl přes 4 do 8 m | G146: m3 | H146: 72 | J146: =ROUND(I146*H146,2) -> 0 | K146: CS ÚRS 2026 01 | N146: základní | P146: =O146*H146 -> 0 | Q146: 0 | R146: =Q146*H146 -> 0 | S146: 0 | T146: =S146*H146 -> 0 | AR146: 4 | AT146: K | AU146: 2 | AY146: ROZPOCET | BE146: =IF(N146="základní",J146,0) -> 0 | BF146: =IF(N146="snížená",J146,0) -> 0 | BG146: =IF(N146="zákl. přenesená",J146,0) -> 0 | BH146: =IF(N146="sníž. přenesená",J146,0) -> 0 | BI146: =IF(N146="nulová",J146,0) -> 0 | BJ146: 1 | BK146: =ROUND(I146*H146,2) -> 0 | BL146: 4 | BM146: 1582242007
C147: 10 | D147: K | E147: 167151111 | F147: Nakládání výkopku z hornin třídy těžitelnosti I skupiny 1 až 3 přes 100 m3 | G147: m3 | H147: 449.3 | J147: =ROUND(I147*H147,2) -> 0 | K147: CS ÚRS 2026 01 | N147: základní | P147: =O147*H147 -> 0 | Q147: 0 | R147: =Q147*H147 -> 0 | S147: 0 | T147: =S147*H147 -> 0 | AR147: 4 | AT147: K | AU147: 2 | AY147: ROZPOCET | BE147: =IF(N147="základní",J147,0) -> 0 | BF147: =IF(N147="snížená",J147,0) -> 0 | BG147: =IF(N147="zákl. přenesená",J147,0) -> 0 | BH147: =IF(N147="sníž. přenesená",J147,0) -> 0 | BI147: =IF(N147="nulová",J147,0) -> 0 | BJ147: 1 | BK147: =ROUND(I147*H147,2) -> 0 | BL147: 4 | BM147: 499084669
C148: 11 | D148: K | E148: 162251101 | F148: Vodorovné přemístění do 20 m výkopku/sypaniny z horniny třídy těžitelnosti I skupiny 1 až 3 | G148: m3 | H148: 449.3 | J148: =ROUND(I148*H148,2) -> 0 | K148: CS ÚRS 2026 01 | N148: základní | P148: =O148*H148 -> 0 | Q148: 0 | R148: =Q148*H148 -> 0 | S148: 0 | T148: =S148*H148 -> 0 | AR148: 4 | AT148: K | AU148: 2 | AY148: ROZPOCET | BE148: =IF(N148="základní",J148,0) -> 0 | BF148: =IF(N148="snížená",J148,0) -> 0 | BG148: =IF(N148="zákl. přenesená",J148,0) -> 0 | BH148: =IF(N148="sníž. přenesená",J148,0) -> 0 | BI148: =IF(N148="nulová",J148,0) -> 0 | BJ148: 1 | BK148: =ROUND(I148*H148,2) -> 0 | BL148: 4 | BM148: -1347115500
C149: 12 | D149: K | E149: 162751117 | F149: Vodorovné přemístění přes 9 000 do 10000 m výkopku/sypaniny z horniny třídy těžitelnosti I skupiny 1 až 3 | G149: m3 | H149: 97.9 | J149: =ROUND(I149*H149,2) -> 0 | K149: CS ÚRS 2026 01 | N149: základní | P149: =O149*H149 -> 0 | Q149: 0 | R149: =Q149*H149 -> 0 | S149: 0 | T149: =S149*H149 -> 0 | AR149: 4 | AT149: K | AU149: 2 | AY149: ROZPOCET | BE149: =IF(N149="základní",J149,0) -> 0 | BF149: =IF(N149="snížená",J149,0) -> 0 | BG149: =IF(N149="zákl. přenesená",J149,0) -> 0 | BH149: =IF(N149="sníž. přenesená",J149,0) -> 0 | BI149: =IF(N149="nulová",J149,0) -> 0 | BJ149: 1 | BK149: =ROUND(I149*H149,2) -> 0 | BL149: 4 | BM149: 252546444
D150: VV | F150: 90,9+7,0 | H150: 97.9 | AT150: VV | AU150: 2 | AV150: 2 | AW150: True | AX150: 1 | AY150: ROZPOCET
C151: 13 | D151: K | E151: 162751119 | F151: Příplatek k vodorovnému přemístění výkopku/sypaniny z horniny třídy těžitelnosti I skupiny 1 až 3 ZKD 1000 m přes 10000 m | G151: m3 | H151: 97.9 | J151: =ROUND(I151*H151,2) -> 0 | K151: CS ÚRS 2026 01 | N151: základní | P151: =O151*H151 -> 0 | Q151: 0 | R151: =Q151*H151 -> 0 | S151: 0 | T151: =S151*H151 -> 0 | AR151: 4 | AT151: K | AU151: 2 | AY151: ROZPOCET | BE151: =IF(N151="základní",J151,0) -> 0 | BF151: =IF(N151="snížená",J151,0) -> 0 | BG151: =IF(N151="zákl. přenesená",J151,0) -> 0 | BH151: =IF(N151="sníž. přenesená",J151,0) -> 0 | BI151: =IF(N151="nulová",J151,0) -> 0 | BJ151: 1 | BK151: =ROUND(I151*H151,2) -> 0 | BL151: 4 | BM151: 1971438092
D152: P | F152: Poznámka k položce:_x000D_ +20 km - indexováno v jednotkové ceně | AT152: P | AU152: 2
C153: 14 | D153: K | E153: 171251201 | F153: Uložení sypaniny na skládky nebo meziskládky | G153: m3 | H153: 97.9 | J153: =ROUND(I153*H153,2) -> 0 | K153: CS ÚRS 2026 01 | N153: základní | P153: =O153*H153 -> 0 | Q153: 0 | R153: =Q153*H153 -> 0 | S153: 0 | T153: =S153*H153 -> 0 | AR153: 4 | AT153: K | AU153: 2 | AY153: ROZPOCET | BE153: =IF(N153="základní",J153,0) -> 0 | BF153: =IF(N153="snížená",J153,0) -> 0 | BG153: =IF(N153="zákl. přenesená",J153,0) -> 0 | BH153: =IF(N153="sníž. přenesená",J153,0) -> 0 | BI153: =IF(N153="nulová",J153,0) -> 0 | BJ153: 1 | BK153: =ROUND(I153*H153,2) -> 0 | BL153: 4 | BM153: 166094511
C154: 15 | D154: K | E154: 171201231 | F154: Poplatek za předání recyklačnímu zařízení zeminy a kamení kód odpadu 17 05 04 | G154: t | H154: 176.22 | J154: =ROUND(I154*H154,2) -> 0 | K154: CS ÚRS 2026 01 | N154: základní | P154: =O154*H154 -> 0 | Q154: 0 | R154: =Q154*H154 -> 0 | S154: 0 | T154: =S154*H154 -> 0 | AR154: 4 | AT154: K | AU154: 2 | AY154: ROZPOCET | BE154: =IF(N154="základní",J154,0) -> 0 | BF154: =IF(N154="snížená",J154,0) -> 0 | BG154: =IF(N154="zákl. přenesená",J154,0) -> 0 | BH154: =IF(N154="sníž. přenesená",J154,0) -> 0 | BI154: =IF(N154="nulová",J154,0) -> 0 | BJ154: 1 | BK154: =ROUND(I154*H154,2) -> 0 | BL154: 4 | BM154: 1869276336
D155: VV | F155: +97,9*1,8 | H155: 176.22 | AT155: VV | AU155: 2 | AV155: 2 | AW155: True | AX155: 1 | AY155: ROZPOCET
C156: 16 | D156: K | E156: 174151101 | F156: Zásyp jam, šachet rýh nebo kolem objektů sypaninou se zhutněním | G156: m3 | H156: 449.3 | J156: =ROUND(I156*H156,2) -> 0 | K156: CS ÚRS 2026 01 | N156: základní | P156: =O156*H156 -> 0 | Q156: 0 | R156: =Q156*H156 -> 0 | S156: 0 | T156: =S156*H156 -> 0 | AR156: 4 | AT156: K | AU156: 2 | AY156: ROZPOCET | BE156: =IF(N156="základní",J156,0) -> 0 | BF156: =IF(N156="snížená",J156,0) -> 0 | BG156: =IF(N156="zákl. přenesená",J156,0) -> 0 | BH156: =IF(N156="sníž. přenesená",J156,0) -> 0 | BI156: =IF(N156="nulová",J156,0) -> 0 | BJ156: 1 | BK156: =ROUND(I156*H156,2) -> 0 | BL156: 4 | BM156: -195241919
D157: VV | F157: +72,0+96,75+378,45 | H157: 547.2 | AT157: VV | AU157: 2 | AV157: 2 | AW157: True | AX157: 0 | AY157: ROZPOCET
D158: VV | F158: -97,9 | H158: -97.9 | AT158: VV | AU158: 2 | AV158: 2 | AW158: True | AX158: 0 | AY158: ROZPOCET
D159: VV | F159: Součet | H159: 449.3 | AT159: VV | AU159: 2 | AV159: 4 | AW159: True | AX159: 1 | AY159: ROZPOCET
D160: D | E160: 4.01 | F160: Vodorovné konstrukce | J160: =BK160 -> 0 | P160: =SUM(P161:P165) -> 0 | R160: =SUM(R161:R165) -> 0.0024 | T160: =SUM(T161:T165) -> 0 | AR160: 1 | AT160: D | AU160: 1 | AY160: ROZPOCET | BK160: =SUM(BK161:BK165) -> 0
C161: 17 | D161: K | E161: 45157311 | F161: Lože a obsyp potrubí otevřený výkop z písku | G161: m3 | H161: 90.9 | J161: =ROUND(I161*H161,2) -> 0 | N161: základní | P161: =O161*H161 -> 0 | Q161: 0 | R161: =Q161*H161 -> 0 | S161: 0 | T161: =S161*H161 -> 0 | AR161: 4 | AT161: K | AU161: 2 | AY161: ROZPOCET | BE161: =IF(N161="základní",J161,0) -> 0 | BF161: =IF(N161="snížená",J161,0) -> 0 | BG161: =IF(N161="zákl. přenesená",J161,0) -> 0 | BH161: =IF(N161="sníž. přenesená",J161,0) -> 0 | BI161: =IF(N161="nulová",J161,0) -> 0 | BJ161: 1 | BK161: =ROUND(I161*H161,2) -> 0 | BL161: 4 | BM161: 717678656
D162: VV | F162: +0,4*1,5*(1,5+1,0+7,0+2,0+10,0+15,0+3*2,0+6,0+16,0) | H162: 38.7 | AT162: VV | AU162: 2 | AV162: 2 | AW162: True | AX162: 0 | AY162: ROZPOCET
D163: VV | F163: "RŠš1-RŠš5"+0,4*1,5*87,0 | H163: 52.2 | AT163: VV | AU163: 2 | AV163: 2 | AW163: True | AX163: 0 | AY163: ROZPOCET
D164: VV | F164: Součet | H164: 90.9 | AT164: VV | AU164: 2 | AV164: 4 | AW164: True | AX164: 1 | AY164: ROZPOCET
C165: 18 | D165: M | E165: 69311310 | F165: pás varovný plný do výkopu š 330mm | G165: m | H165: 120 | J165: =ROUND(I165*H165,2) -> 0 | K165: CS ÚRS 2026 01 | N165: základní | P165: =O165*H165 -> 0 | Q165: 2e-05 | R165: =Q165*H165 -> 0.0024 | S165: 0 | T165: =S165*H165 -> 0 | AR165: 8 | AT165: M | AU165: 2 | AY165: ROZPOCET | BE165: =IF(N165="základní",J165,0) -> 0 | BF165: =IF(N165="snížená",J165,0) -> 0 | BG165: =IF(N165="zákl. přenesená",J165,0) -> 0 | BH165: =IF(N165="sníž. přenesená",J165,0) -> 0 | BI165: =IF(N165="nulová",J165,0) -> 0 | BJ165: 1 | BK165: =ROUND(I165*H165,2) -> 0 | BL165: 4 | BM165: 25666787
D166: D | E166: 8.01 | F166: Vedení trubní dálková a přípojná | J166: =BK166 -> 0 | P166: =SUM(P167:P185) -> 0 | R166: =SUM(R167:R185) -> 8.7679921 | T166: =SUM(T167:T185) -> 0 | AR166: 1 | AT166: D | AU166: 1 | AY166: ROZPOCET | BK166: =SUM(BK167:BK185) -> 0
...

Sheet 06 - VYTÁPĚNÍ + CHLAZENÍ
AT2: {839cfe0e-b8b1-4b2b-9617-dd96c39e6097}
AT3: 2
D4: KRYCÍ LIST SOUPISU PRACÍ | M4: v --- níže se nacházejí doplnkové a pomocné údaje k sestavám --- v | AT4: False
D6: Stavba:
E7: ='Rekapitulace stavby'!K6 -> MŠ KOVÁŘSKÁ II - REKONSTRUKCE OBJEKTU
D8: Objekt:
E9: 06 - VYTÁPĚNÍ + CHLAZENÍ
D11: KSO: | I11: CC-CZ:
D12: Místo: | F12: U Školičky 2176/1, 2177/3, Praha 9 | I12: Datum: | J12: ='Rekapitulace stavby'!AN8 -> 19. 12. 2025
D14: Zadavatel: | I14: IČ:
E15: MČ Praha 9 | I15: DIČ:
D17: Uchazeč: | I17: IČ: | J17: ='Rekapitulace stavby'!AN13 -> Vyplň údaj
E18: ='Rekapitulace stavby'!E14 -> Vyplň údaj | I18: DIČ: | J18: ='Rekapitulace stavby'!AN14 -> Vyplň údaj
D20: Projektant: | I20: IČ:
E21: ArtStat s.r.o. | I21: DIČ:
D23: Zpracovatel: | I23: IČ:
E24: Vladimír Mrázek | I24: DIČ:
D26: Poznámka:
D30: Cena bez DPH | J30: =ROUND(J123, 2) -> 0
F32: Základ daně | I32: Sazba daně | J32: Výše daně
D33: DPH | E33: základní | F33: =ROUND((SUM(BE123:BE186)), 2) -> 0 | I33: 0.21 | J33: =ROUND(((SUM(BE123:BE186))*I33), 2) -> 0
E34: snížená | F34: =ROUND((SUM(BF123:BF186)), 2) -> 0 | I34: 0.12 | J34: =ROUND(((SUM(BF123:BF186))*I34), 2) -> 0
E35: zákl. přenesená | F35: =ROUND((SUM(BG123:BG186)), 2) -> 0 | I35: 0.21 | J35: =0 -> 0
E36: sníž. přenesená | F36: =ROUND((SUM(BH123:BH186)), 2) -> 0 | I36: 0.12 | J36: =0 -> 0
E37: nulová | F37: =ROUND((SUM(BI123:BI186)), 2) -> 0 | I37: 0 | J37: =0 -> 0
D39: Cena s DPH | G39: v | H39: CZK | J39: =SUM(J30:J37) -> 0
D50: Projektant | G50: Zpracovatel
D61: Datum a podpis: | F61: Razítko | G61: Datum a podpis: | J61: Razítko
D65: Objednavatel | G65: Uchazeč
D76: Datum a podpis: | F76: Razítko | G76: Datum a podpis: | J76: Razítko
C82: REKAPITULACE ČLENĚNÍ SOUPISU PRACÍ
C84: Stavba:
E85: =E7 -> MŠ KOVÁŘSKÁ II - REKONSTRUKCE OBJEKTU
C86: Objekt:
E87: =E9 -> 06 - VYTÁPĚNÍ + CHLAZENÍ
C89: Místo: | F89: =F12 -> U Školičky 2176/1, 2177/3, Praha 9 | I89: Datum: | J89: =IF(J12="","",J12) -> 19. 12. 2025
C91: Zadavatel: | F91: =E15 -> MČ Praha 9 | I91: Projektant: | J91: =E21 -> ArtStat s.r.o.
C92: Uchazeč: | F92: =IF(E18="","",E18) -> Vyplň údaj | I92: Zpracovatel: | J92: =E24 -> Vladimír Mrázek
C94: Kód dílu - Popis | J94: Cena celkem [CZK]
C96: Náklady ze soupisu prací | J96: =J123 -> 0 | AU96: -1
D97: PSV - Práce a dodávky PSV - Vzduchotechnika | J97: =J124 -> 0
D98: 731-01 - Zařízení | J98: =J125 -> 0
D99: 731-02 - Napojení topného zdroje kotelny | J99: =J134 -> 0
D100: 731-03 - Potrubí | J100: =J146 -> 0
D101: 731-04 - Izolace | J101: =J154 -> 0
D102: 731-05 - Podlahové vytápění | J102: =J161 -> 0
D103: 731-06 - Ostatní | J103: =J175 -> 0
C110: SOUPIS PRACÍ
C112: Stavba:
E113: =E7 -> MŠ KOVÁŘSKÁ II - REKONSTRUKCE OBJEKTU
C114: Objekt:
E115: =E9 -> 06 - VYTÁPĚNÍ + CHLAZENÍ
C117: Místo: | F117: =F12 -> U Školičky 2176/1, 2177/3, Praha 9 | I117: Datum: | J117: =IF(J12="","",J12) -> 19. 12. 2025
C119: Zadavatel: | F119: =E15 -> MČ Praha 9 | I119: Projektant: | J119: =E21 -> ArtStat s.r.o.
C120: Uchazeč: | F120: =IF(E18="","",E18) -> Vyplň údaj | I120: Zpracovatel: | J120: =E24 -> Vladimír Mrázek
C122: PČ | D122: Typ | E122: Kód | F122: Popis | G122: MJ | H122: Množství | I122: J.cena [CZK] | J122: Cena celkem [CZK] | K122: Cenová soustava | N122: DPH | O122: J. Nh [h] | P122: Nh celkem [h] | Q122: J. hmotnost [t] | R122: Hmotnost celkem [t] | S122: J. suť [t] | T122: Suť Celkem [t]
C123: Náklady soupisu celkem | J123: =BK123 -> 0 | P123: =P124 -> 0 | R123: =R124 -> 0 | T123: =T124 -> 0 | AT123: D | AU123: -1 | BK123: =BK124 -> 0
D124: D | E124: PSV | F124: Práce a dodávky PSV - Vzduchotechnika | J124: =BK124 -> 0 | P124: =P125+P134+P146+P154+P161+P175 -> 0 | R124: =R125+R134+R146+R154+R161+R175 -> 0 | T124: =T125+T134+T146+T154+T161+T175 -> 0 | AR124: 1 | AT124: D | AU124: 0 | AY124: ROZPOCET | BK124: =BK125+BK134+BK146+BK154+BK161+BK175 -> 0
D125: D | E125: 731-01 | F125: Zařízení | J125: =BK125 -> 0 | P125: =SUM(P126:P133) -> 0 | R125: =SUM(R126:R133) -> 0 | T125: =SUM(T126:T133) -> 0 | AR125: 2 | AT125: D | AU125: 1 | AY125: ROZPOCET | BK125: =SUM(BK126:BK133) -> 0
C126: 1 | D126: K | E126: 73101-01 | F126: Montáž zařízení | G126: kpl | H126: 1 | J126: =ROUND(I126*H126,2) -> 0 | N126: základní | P126: =O126*H126 -> 0 | Q126: 0 | R126: =Q126*H126 -> 0 | S126: 0 | T126: =S126*H126 -> 0 | AR126: 16 | AT126: K | AU126: 2 | AY126: ROZPOCET | BE126: =IF(N126="základní",J126,0) -> 0 | BF126: =IF(N126="snížená",J126,0) -> 0 | BG126: =IF(N126="zákl. přenesená",J126,0) -> 0 | BH126: =IF(N126="sníž. přenesená",J126,0) -> 0 | BI126: =IF(N126="nulová",J126,0) -> 0 | BJ126: 1 | BK126: =ROUND(I126*H126,2) -> 0 | BL126: 16 | BM126: -1284196792
C127: 2 | D127: M | E127: 731101 | F127: Monoblokové tepelné čerpadlo vzduch/voda chladivo R32 jmen. výkon (A7/W35) - 21,2 kW / COP 4,38 jmen. výkon (A-10/W35) - 13,01 kW / COP 2,96 příkon - 4,84 kW 3x400V/50Hz/6,5A hmotnost 270 kg | G127: ks | H127: 1 | J127: =ROUND(I127*H127,2) -> 0 | N127: základní | P127: =O127*H127 -> 0 | Q127: 0 | R127: =Q127*H127 -> 0 | S127: 0 | T127: =S127*H127 -> 0 | AR127: 32 | AT127: M | AU127: 2 | AY127: ROZPOCET | BE127: =IF(N127="základní",J127,0) -> 0 | BF127: =IF(N127="snížená",J127,0) -> 0 | BG127: =IF(N127="zákl. přenesená",J127,0) -> 0 | BH127: =IF(N127="sníž. přenesená",J127,0) -> 0 | BI127: =IF(N127="nulová",J127,0) -> 0 | BJ127: 1 | BK127: =ROUND(I127*H127,2) -> 0 | BL127: 16 | BM127: -200434710
C128: 3 | D128: M | E128: 731102 | F128: Elektronicky řízené oběhové čerpadlo s možností nastavení indivudálního pracovního bodu DN 32 průtok: 1,7 m3/h, pracovní výtlak 2 m, maximální výtlak 6 metrů 230V/50Hz/0,5A | G128: ks | H128: 1 | J128: =ROUND(I128*H128,2) -> 0 | N128: základní | P128: =O128*H128 -> 0 | Q128: 0 | R128: =Q128*H128 -> 0 | S128: 0 | T128: =S128*H128 -> 0 | AR128: 32 | AT128: M | AU128: 2 | AY128: ROZPOCET | BE128: =IF(N128="základní",J128,0) -> 0 | BF128: =IF(N128="snížená",J128,0) -> 0 | BG128: =IF(N128="zákl. přenesená",J128,0) -> 0 | BH128: =IF(N128="sníž. přenesená",J128,0) -> 0 | BI128: =IF(N128="nulová",J128,0) -> 0 | BJ128: 1 | BK128: =ROUND(I128*H128,2) -> 0 | BL128: 16 | BM128: 1580992000
C129: 4 | D129: M | E129: 731103 | F129: Vnější kondenzační klimatizační jednotka - nom. topný výkon: 3,2 kW (20/6 °C) - nom. chlad. výkon: 2,5 kW (27/35 °C) - napájení: 230V/50Hz/5,3A | G129: ks | H129: 1 | J129: =ROUND(I129*H129,2) -> 0 | N129: základní | P129: =O129*H129 -> 0 | Q129: 0 | R129: =Q129*H129 -> 0 | S129: 0 | T129: =S129*H129 -> 0 | AR129: 32 | AT129: M | AU129: 2 | AY129: ROZPOCET | BE129: =IF(N129="základní",J129,0) -> 0 | BF129: =IF(N129="snížená",J129,0) -> 0 | BG129: =IF(N129="zákl. přenesená",J129,0) -> 0 | BH129: =IF(N129="sníž. přenesená",J129,0) -> 0 | BI129: =IF(N129="nulová",J129,0) -> 0 | BJ129: 1 | BK129: =ROUND(I129*H129,2) -> 0 | BL129: 16 | BM129: 1587530851
C130: 5 | D130: M | E130: 731104 | F130: Vnitřní jednotka klimatizace - nom. top. výkon 3,2 kW - nom. chl. Výkon: 2,5 kW - napájena z vnější jednotky | G130: ks | H130: 1 | J130: =ROUND(I130*H130,2) -> 0 | N130: základní | P130: =O130*H130 -> 0 | Q130: 0 | R130: =Q130*H130 -> 0 | S130: 0 | T130: =S130*H130 -> 0 | AR130: 32 | AT130: M | AU130: 2 | AY130: ROZPOCET | BE130: =IF(N130="základní",J130,0) -> 0 | BF130: =IF(N130="snížená",J130,0) -> 0 | BG130: =IF(N130="zákl. přenesená",J130,0) -> 0 | BH130: =IF(N130="sníž. přenesená",J130,0) -> 0 | BI130: =IF(N130="nulová",J130,0) -> 0 | BJ130: 1 | BK130: =ROUND(I130*H130,2) -> 0 | BL130: 16 | BM130: 1347496153
C131: 6 | D131: M | E131: 731105 | F131: Tlaková expanzní nádoba 80 l + připojovací příslušenství 6/4" | G131: kpl | H131: 1 | J131: =ROUND(I131*H131,2) -> 0 | N131: základní | P131: =O131*H131 -> 0 | Q131: 0 | R131: =Q131*H131 -> 0 | S131: 0 | T131: =S131*H131 -> 0 | AR131: 32 | AT131: M | AU131: 2 | AY131: ROZPOCET | BE131: =IF(N131="základní",J131,0) -> 0 | BF131: =IF(N131="snížená",J131,0) -> 0 | BG131: =IF(N131="zákl. přenesená",J131,0) -> 0 | BH131: =IF(N131="sníž. přenesená",J131,0) -> 0 | BI131: =IF(N131="nulová",J131,0) -> 0 | BJ131: 1 | BK131: =ROUND(I131*H131,2) -> 0 | BL131: 16 | BM131: 866093468
C132: 7 | D132: M | E132: 731106 | F132: Akumulační nádrž na topnou vodu včetně příslušenství, V = 300 litrů | G132: kus | H132: 1 | J132: =ROUND(I132*H132,2) -> 0 | N132: základní | P132: =O132*H132 -> 0 | Q132: 0 | R132: =Q132*H132 -> 0 | S132: 0 | T132: =S132*H132 -> 0 | AR132: 32 | AT132: M | AU132: 2 | AY132: ROZPOCET | BE132: =IF(N132="základní",J132,0) -> 0 | BF132: =IF(N132="snížená",J132,0) -> 0 | BG132: =IF(N132="zákl. přenesená",J132,0) -> 0 | BH132: =IF(N132="sníž. přenesená",J132,0) -> 0 | BI132: =IF(N132="nulová",J132,0) -> 0 | BJ132: 1 | BK132: =ROUND(I132*H132,2) -> 0 | BL132: 16 | BM132: 1081349888
C133: 8 | D133: M | E133: 731107 | F133: El. topná patrona pro osazení do akumulační nádrže, výkon 9 kW | G133: kus | H133: 2 | J133: =ROUND(I133*H133,2) -> 0 | N133: základní | P133: =O133*H133 -> 0 | Q133: 0 | R133: =Q133*H133 -> 0 | S133: 0 | T133: =S133*H133 -> 0 | AR133: 32 | AT133: M | AU133: 2 | AY133: ROZPOCET | BE133: =IF(N133="základní",J133,0) -> 0 | BF133: =IF(N133="snížená",J133,0) -> 0 | BG133: =IF(N133="zákl. přenesená",J133,0) -> 0 | BH133: =IF(N133="sníž. přenesená",J133,0) -> 0 | BI133: =IF(N133="nulová",J133,0) -> 0 | BJ133: 1 | BK133: =ROUND(I133*H133,2) -> 0 | BL133: 16 | BM133: -2099901189
D134: D | E134: 731-02 | F134: Napojení topného zdroje kotelny | J134: =BK134 -> 0 | P134: =SUM(P135:P145) -> 0 | R134: =SUM(R135:R145) -> 0 | T134: =SUM(T135:T145) -> 0 | AR134: 2 | AT134: D | AU134: 1 | AY134: ROZPOCET | BK134: =SUM(BK135:BK145) -> 0
C135: 9 | D135: K | E135: 73102-01 | F135: Montáž napojení | G135: kpl | H135: 1 | J135: =ROUND(I135*H135,2) -> 0 | N135: základní | P135: =O135*H135 -> 0 | Q135: 0 | R135: =Q135*H135 -> 0 | S135: 0 | T135: =S135*H135 -> 0 | AR135: 16 | AT135: K | AU135: 2 | AY135: ROZPOCET | BE135: =IF(N135="základní",J135,0) -> 0 | BF135: =IF(N135="snížená",J135,0) -> 0 | BG135: =IF(N135="zákl. přenesená",J135,0) -> 0 | BH135: =IF(N135="sníž. přenesená",J135,0) -> 0 | BI135: =IF(N135="nulová",J135,0) -> 0 | BJ135: 1 | BK135: =ROUND(I135*H135,2) -> 0 | BL135: 16 | BM135: -731662781
C136: 10 | D136: M | E136: 731201 | F136: Kulový uzávěr DN40 | G136: ks | H136: 10 | J136: =ROUND(I136*H136,2) -> 0 | N136: základní | P136: =O136*H136 -> 0 | Q136: 0 | R136: =Q136*H136 -> 0 | S136: 0 | T136: =S136*H136 -> 0 | AR136: 32 | AT136: M | AU136: 2 | AY136: ROZPOCET | BE136: =IF(N136="základní",J136,0) -> 0 | BF136: =IF(N136="snížená",J136,0) -> 0 | BG136: =IF(N136="zákl. přenesená",J136,0) -> 0 | BH136: =IF(N136="sníž. přenesená",J136,0) -> 0 | BI136: =IF(N136="nulová",J136,0) -> 0 | BJ136: 1 | BK136: =ROUND(I136*H136,2) -> 0 | BL136: 16 | BM136: 1349665292
C137: 11 | D137: M | E137: 731202 | F137: Kulový uzávěr DN15 | G137: ks | H137: 2 | J137: =ROUND(I137*H137,2) -> 0 | N137: základní | P137: =O137*H137 -> 0 | Q137: 0 | R137: =Q137*H137 -> 0 | S137: 0 | T137: =S137*H137 -> 0 | AR137: 32 | AT137: M | AU137: 2 | AY137: ROZPOCET | BE137: =IF(N137="základní",J137,0) -> 0 | BF137: =IF(N137="snížená",J137,0) -> 0 | BG137: =IF(N137="zákl. přenesená",J137,0) -> 0 | BH137: =IF(N137="sníž. přenesená",J137,0) -> 0 | BI137: =IF(N137="nulová",J137,0) -> 0 | BJ137: 1 | BK137: =ROUND(I137*H137,2) -> 0 | BL137: 16 | BM137: -1223431802
C138: 12 | D138: M | E138: 731203 | F138: Filtr DN40 | G138: ks | H138: 2 | J138: =ROUND(I138*H138,2) -> 0 | N138: základní | P138: =O138*H138 -> 0 | Q138: 0 | R138: =Q138*H138 -> 0 | S138: 0 | T138: =S138*H138 -> 0 | AR138: 32 | AT138: M | AU138: 2 | AY138: ROZPOCET | BE138: =IF(N138="základní",J138,0) -> 0 | BF138: =IF(N138="snížená",J138,0) -> 0 | BG138: =IF(N138="zákl. přenesená",J138,0) -> 0 | BH138: =IF(N138="sníž. přenesená",J138,0) -> 0 | BI138: =IF(N138="nulová",J138,0) -> 0 | BJ138: 1 | BK138: =ROUND(I138*H138,2) -> 0 | BL138: 16 | BM138: -938967316
C139: 13 | D139: M | E139: 731204 | F139: Teploměr 0-110 °C | G139: ks | H139: 2 | J139: =ROUND(I139*H139,2) -> 0 | N139: základní | P139: =O139*H139 -> 0 | Q139: 0 | R139: =Q139*H139 -> 0 | S139: 0 | T139: =S139*H139 -> 0 | AR139: 32 | AT139: M | AU139: 2 | AY139: ROZPOCET | BE139: =IF(N139="základní",J139,0) -> 0 | BF139: =IF(N139="snížená",J139,0) -> 0 | BG139: =IF(N139="zákl. přenesená",J139,0) -> 0 | BH139: =IF(N139="sníž. přenesená",J139,0) -> 0 | BI139: =IF(N139="nulová",J139,0) -> 0 | BJ139: 1 | BK139: =ROUND(I139*H139,2) -> 0 | BL139: 16 | BM139: 293618806
C140: 14 | D140: M | E140: 731205 | F140: Teploměr 0-60 °C | G140: ks | H140: 2 | J140: =ROUND(I140*H140,2) -> 0 | N140: základní | P140: =O140*H140 -> 0 | Q140: 0 | R140: =Q140*H140 -> 0 | S140: 0 | T140: =S140*H140 -> 0 | AR140: 32 | AT140: M | AU140: 2 | AY140: ROZPOCET | BE140: =IF(N140="základní",J140,0) -> 0 | BF140: =IF(N140="snížená",J140,0) -> 0 | BG140: =IF(N140="zákl. přenesená",J140,0) -> 0 | BH140: =IF(N140="sníž. přenesená",J140,0) -> 0 | BI140: =IF(N140="nulová",J140,0) -> 0 | BJ140: 1 | BK140: =ROUND(I140*H140,2) -> 0 | BL140: 16 | BM140: -787969980
C141: 15 | D141: M | E141: 731206 | F141: Vypouštěcí ventil DN15 | G141: ks | H141: 7 | J141: =ROUND(I141*H141,2) -> 0 | N141: základní | P141: =O141*H141 -> 0 | Q141: 0 | R141: =Q141*H141 -> 0 | S141: 0 | T141: =S141*H141 -> 0 | AR141: 32 | AT141: M | AU141: 2 | AY141: ROZPOCET | BE141: =IF(N141="základní",J141,0) -> 0 | BF141: =IF(N141="snížená",J141,0) -> 0 | BG141: =IF(N141="zákl. přenesená",J141,0) -> 0 | BH141: =IF(N141="sníž. přenesená",J141,0) -> 0 | BI141: =IF(N141="nulová",J141,0) -> 0 | BJ141: 1 | BK141: =ROUND(I141*H141,2) -> 0 | BL141: 16 | BM141: -1882121230
C142: 16 | D142: M | E142: 731207 | F142: Odvzdušňovací ventil DN15 | G142: ks | H142: 2 | J142: =ROUND(I142*H142,2) -> 0 | N142: základní | P142: =O142*H142 -> 0 | Q142: 0 | R142: =Q142*H142 -> 0 | S142: 0 | T142: =S142*H142 -> 0 | AR142: 32 | AT142: M | AU142: 2 | AY142: ROZPOCET | BE142: =IF(N142="základní",J142,0) -> 0 | BF142: =IF(N142="snížená",J142,0) -> 0 | BG142: =IF(N142="zákl. přenesená",J142,0) -> 0 | BH142: =IF(N142="sníž. přenesená",J142,0) -> 0 | BI142: =IF(N142="nulová",J142,0) -> 0 | BJ142: 1 | BK142: =ROUND(I142*H142,2) -> 0 | BL142: 16 | BM142: 746799383
C143: 17 | D143: M | E143: 731208 | F143: 3-cestný přepínací ventil DN40 + servop. 2-bodový, 230V | G143: ks | H143: 1 | J143: =ROUND(I143*H143,2) -> 0 | N143: základní | P143: =O143*H143 -> 0 | Q143: 0 | R143: =Q143*H143 -> 0 | S143: 0 | T143: =S143*H143 -> 0 | AR143: 32 | AT143: M | AU143: 2 | AY143: ROZPOCET | BE143: =IF(N143="základní",J143,0) -> 0 | BF143: =IF(N143="snížená",J143,0) -> 0 | BG143: =IF(N143="zákl. přenesená",J143,0) -> 0 | BH143: =IF(N143="sníž. přenesená",J143,0) -> 0 | BI143: =IF(N143="nulová",J143,0) -> 0 | BJ143: 1 | BK143: =ROUND(I143*H143,2) -> 0 | BL143: 16 | BM143: 1509757156
C144: 18 | D144: M | E144: 731209 | F144: Pojišťovací ventil 1/2" x 3/4 " (300 kPa) | G144: ks | H144: 1 | J144: =ROUND(I144*H144,2) -> 0 | N144: základní | P144: =O144*H144 -> 0 | Q144: 0 | R144: =Q144*H144 -> 0 | S144: 0 | T144: =S144*H144 -> 0 | AR144: 32 | AT144: M | AU144: 2 | AY144: ROZPOCET | BE144: =IF(N144="základní",J144,0) -> 0 | BF144: =IF(N144="snížená",J144,0) -> 0 | BG144: =IF(N144="zákl. přenesená",J144,0) -> 0 | BH144: =IF(N144="sníž. přenesená",J144,0) -> 0 | BI144: =IF(N144="nulová",J144,0) -> 0 | BJ144: 1 | BK144: =ROUND(I144*H144,2) -> 0 | BL144: 16 | BM144: -2034551605
C145: 19 | D145: M | E145: 731210 | F145: Automatický odvzdušňovací ventil DN15 | G145: ks | H145: 1 | J145: =ROUND(I145*H145,2) -> 0 | N145: základní | P145: =O145*H145 -> 0 | Q145: 0 | R145: =Q145*H145 -> 0 | S145: 0 | T145: =S145*H145 -> 0 | AR145: 32 | AT145: M | AU145: 2 | AY145: ROZPOCET | BE145: =IF(N145="základní",J145,0) -> 0 | BF145: =IF(N145="snížená",J145,0) -> 0 | BG145: =IF(N145="zákl. přenesená",J145,0) -> 0 | BH145: =IF(N145="sníž. přenesená",J145,0) -> 0 | BI145: =IF(N145="nulová",J145,0) -> 0 | BJ145: 1 | BK145: =ROUND(I145*H145,2) -> 0 | BL145: 16 | BM145: 1941156163
D146: D | E146: 731-03 | F146: Potrubí | J146: =BK146 -> 0 | P146: =SUM(P147:P153) -> 0 | R146: =SUM(R147:R153) -> 0 | T146: =SUM(T147:T153) -> 0 | AR146: 2 | AT146: D | AU146: 1 | AY146: ROZPOCET | BK146: =SUM(BK147:BK153) -> 0
C147: 20 | D147: K | E147: 73103-01 | F147: Montáž potrubí | G147: kpl | H147: 1 | J147: =ROUND(I147*H147,2) -> 0 | N147: základní | P147: =O147*H147 -> 0 | Q147: 0 | R147: =Q147*H147 -> 0 | S147: 0 | T147: =S147*H147 -> 0 | AR147: 16 | AT147: K | AU147: 2 | AY147: ROZPOCET | BE147: =IF(N147="základní",J147,0) -> 0 | BF147: =IF(N147="snížená",J147,0) -> 0 | BG147: =IF(N147="zákl. přenesená",J147,0) -> 0 | BH147: =IF(N147="sníž. přenesená",J147,0) -> 0 | BI147: =IF(N147="nulová",J147,0) -> 0 | BJ147: 1 | BK147: =ROUND(I147*H147,2) -> 0 | BL147: 16 | BM147: -1740941456
C148: 21 | D148: M | E148: 731301 | F148: Měděné potrubí, lisované, včetně tvarovek; 18x1 mm | G148: m | H148: 15 | J148: =ROUND(I148*H148,2) -> 0 | N148: základní | P148: =O148*H148 -> 0 | Q148: 0 | R148: =Q148*H148 -> 0 | S148: 0 | T148: =S148*H148 -> 0 | AR148: 32 | AT148: M | AU148: 2 | AY148: ROZPOCET | BE148: =IF(N148="základní",J148,0) -> 0 | BF148: =IF(N148="snížená",J148,0) -> 0 | BG148: =IF(N148="zákl. přenesená",J148,0) -> 0 | BH148: =IF(N148="sníž. přenesená",J148,0) -> 0 | BI148: =IF(N148="nulová",J148,0) -> 0 | BJ148: 1 | BK148: =ROUND(I148*H148,2) -> 0 | BL148: 16 | BM148: -86261317
C149: 22 | D149: M | E149: 731302 | F149: Měděné potrubí, lisované, včetně tvarovek; 22x1 mm | G149: m | H149: 25 | J149: =ROUND(I149*H149,2) -> 0 | N149: základní | P149: =O149*H149 -> 0 | Q149: 0 | R149: =Q149*H149 -> 0 | S149: 0 | T149: =S149*H149 -> 0 | AR149: 32 | AT149: M | AU149: 2 | AY149: ROZPOCET | BE149: =IF(N149="základní",J149,0) -> 0 | BF149: =IF(N149="snížená",J149,0) -> 0 | BG149: =IF(N149="zákl. přenesená",J149,0) -> 0 | BH149: =IF(N149="sníž. přenesená",J149,0) -> 0 | BI149: =IF(N149="nulová",J149,0) -> 0 | BJ149: 1 | BK149: =ROUND(I149*H149,2) -> 0 | BL149: 16 | BM149: 1079865833
C150: 23 | D150: M | E150: 731303 | F150: Měděné potrubí, lisované, včetně tvarovek; 28x1 mm | G150: m | H150: 75 | J150: =ROUND(I150*H150,2) -> 0 | N150: základní | P150: =O150*H150 -> 0 | Q150: 0 | R150: =Q150*H150 -> 0 | S150: 0 | T150: =S150*H150 -> 0 | AR150: 32 | AT150: M | AU150: 2 | AY150: ROZPOCET | BE150: =IF(N150="základní",J150,0) -> 0 | BF150: =IF(N150="snížená",J150,0) -> 0 | BG150: =IF(N150="zákl. přenesená",J150,0) -> 0 | BH150: =IF(N150="sníž. přenesená",J150,0) -> 0 | BI150: =IF(N150="nulová",J150,0) -> 0 | BJ150: 1 | BK150: =ROUND(I150*H150,2) -> 0 | BL150: 16 | BM150: 2073545594
C151: 24 | D151: M | E151: 731304 | F151: Měděné potrubí, lisované, včetně tvarovek; 35x1,5 mm | G151: m | H151: 5 | J151: =ROUND(I151*H151,2) -> 0 | N151: základní | P151: =O151*H151 -> 0 | Q151: 0 | R151: =Q151*H151 -> 0 | S151: 0 | T151: =S151*H151 -> 0 | AR151: 32 | AT151: M | AU151: 2 | AY151: ROZPOCET | BE151: =IF(N151="základní",J151,0) -> 0 | BF151: =IF(N151="snížená",J151,0) -> 0 | BG151: =IF(N151="zákl. přenesená",J151,0) -> 0 | BH151: =IF(N151="sníž. přenesená",J151,0) -> 0 | BI151: =IF(N151="nulová",J151,0) -> 0 | BJ151: 1 | BK151: =ROUND(I151*H151,2) -> 0 | BL151: 16 | BM151: 10239886
C152: 25 | D152: M | E152: 731305 | F152: Měděné potrubí, lisované, včetně tvarovek; 42x1,5 mm | G152: m | H152: 10 | J152: =ROUND(I152*H152,2) -> 0 | N152: základní | P152: =O152*H152 -> 0 | Q152: 0 | R152: =Q152*H152 -> 0 | S152: 0 | T152: =S152*H152 -> 0 | AR152: 32 | AT152: M | AU152: 2 | AY152: ROZPOCET | BE152: =IF(N152="základní",J152,0) -> 0 | BF152: =IF(N152="snížená",J152,0) -> 0 | BG152: =IF(N152="zákl. přenesená",J152,0) -> 0 | BH152: =IF(N152="sníž. přenesená",J152,0) -> 0 | BI152: =IF(N152="nulová",J152,0) -> 0 | BJ152: 1 | BK152: =ROUND(I152*H152,2) -> 0 | BL152: 16 | BM152: 25717456
C153: 26 | D153: M | E153: 731306 | F153: Chladírenské potrubí měděné 1/4" - 3/8" x 1 mm | G153: m | H153: 34 | J153: =ROUND(I153*H153,2) -> 0 | N153: základní | P153: =O153*H153 -> 0 | Q153: 0 | R153: =Q153*H153 -> 0 | S153: 0 | T153: =S153*H153 -> 0 | AR153: 32 | AT153: M | AU153: 2 | AY153: ROZPOCET | BE153: =IF(N153="základní",J153,0) -> 0 | BF153: =IF(N153="snížená",J153,0) -> 0 | BG153: =IF(N153="zákl. přenesená",J153,0) -> 0 | BH153: =IF(N153="sníž. přenesená",J153,0) -> 0 | BI153: =IF(N153="nulová",J153,0) -> 0 | BJ153: 1 | BK153: =ROUND(I153*H153,2) -> 0 | BL153: 16 | BM153: 1354350429
D154: D | E154: 731-04 | F154: Izolace | J154: =BK154 -> 0 | P154: =SUM(P155:P160) -> 0 | R154: =SUM(R155:R160) -> 0 | T154: =SUM(T155:T160) -> 0 | AR154: 2 | AT154: D | AU154: 1 | AY154: ROZPOCET | BK154: =SUM(BK155:BK160) -> 0
C155: 27 | D155: K | E155: 73104-01 | F155: Montáž izolace | G155: kpl | H155: 1 | J155: =ROUND(I155*H155,2) -> 0 | N155: základní | P155: =O155*H155 -> 0 | Q155: 0 | R155: =Q155*H155 -> 0 | S155: 0 | T155: =S155*H155 -> 0 | AR155: 16 | AT155: K | AU155: 2 | AY155: ROZPOCET | BE155: =IF(N155="základní",J155,0) -> 0 | BF155: =IF(N155="snížená",J155,0) -> 0 | BG155: =IF(N155="zákl. přenesená",J155,0) -> 0 | BH155: =IF(N155="sníž. přenesená",J155,0) -> 0 | BI155: =IF(N155="nulová",J155,0) -> 0 | BJ155: 1 | BK155: =ROUND(I155*H155,2) -> 0 | BL155: 16 | BM155: -522568233
C156: 28 | D156: M | E156: 731401 | F156: Tepelná izolace z minerální vaty s Al fólií; pouzdro s podélným nářezem 18/20mm | G156: m | H156: 15 | J156: =ROUND(I156*H156,2) -> 0 | N156: základní | P156: =O156*H156 -> 0 | Q156: 0 | R156: =Q156*H156 -> 0 | S156: 0 | T156: =S156*H156 -> 0 | AR156: 32 | AT156: M | AU156: 2 | AY156: ROZPOCET | BE156: =IF(N156="základní",J156,0) -> 0 | BF156: =IF(N156="snížená",J156,0) -> 0 | BG156: =IF(N156="zákl. přenesená",J156,0) -> 0 | BH156: =IF(N156="sníž. přenesená",J156,0) -> 0 | BI156: =IF(N156="nulová",J156,0) -> 0 | BJ156: 1 | BK156: =ROUND(I156*H156,2) -> 0 | BL156: 16 | BM156: -1743866795
C157: 29 | D157: M | E157: 731402 | F157: Tepelná izolace z minerální vaty s Al fólií; pouzdro s podélným nářezem 22/25mm | G157: m | H157: 25 | J157: =ROUND(I157*H157,2) -> 0 | N157: základní | P157: =O157*H157 -> 0 | Q157: 0 | R157: =Q157*H157 -> 0 | S157: 0 | T157: =S157*H157 -> 0 | AR157: 32 | AT157: M | AU157: 2 | AY157: ROZPOCET | BE157: =IF(N157="základní",J157,0) -> 0 | BF157: =IF(N157="snížená",J157,0) -> 0 | BG157: =IF(N157="zákl. přenesená",J157,0) -> 0 | BH157: =IF(N157="sníž. přenesená",J157,0) -> 0 | BI157: =IF(N157="nulová",J157,0) -> 0 | BJ157: 1 | BK157: =ROUND(I157*H157,2) -> 0 | BL157: 16 | BM157: 945236985
C158: 30 | D158: M | E158: 731403 | F158: Tepelná izolace z minerální vaty s Al fólií; pouzdro s podélným nářezem 28/25mm | G158: m | H158: 75 | J158: =ROUND(I158*H158,2) -> 0 | N158: základní | P158: =O158*H158 -> 0 | Q158: 0 | R158: =Q158*H158 -> 0 | S158: 0 | T158: =S158*H158 -> 0 | AR158: 32 | AT158: M | AU158: 2 | AY158: ROZPOCET | BE158: =IF(N158="základní",J158,0) -> 0 | BF158: =IF(N158="snížená",J158,0) -> 0 | BG158: =IF(N158="zákl. přenesená",J158,0) -> 0 | BH158: =IF(N158="sníž. přenesená",J158,0) -> 0 | BI158: =IF(N158="nulová",J158,0) -> 0 | BJ158: 1 | BK158: =ROUND(I158*H158,2) -> 0 | BL158: 16 | BM158: 1513194442
C159: 31 | D159: M | E159: 731404 | F159: Tepelná izolace z minerální vaty s Al fólií; pouzdro s podélným nářezem 35/25mm | G159: m | H159: 5 | J159: =ROUND(I159*H159,2) -> 0 | N159: základní | P159: =O159*H159 -> 0 | Q159: 0 | R159: =Q159*H159 -> 0 | S159: 0 | T159: =S159*H159 -> 0 | AR159: 32 | AT159: M | AU159: 2 | AY159: ROZPOCET | BE159: =IF(N159="základní",J159,0) -> 0 | BF159: =IF(N159="snížená",J159,0) -> 0 | BG159: =IF(N159="zákl. přenesená",J159,0) -> 0 | BH159: =IF(N159="sníž. přenesená",J159,0) -> 0 | BI159: =IF(N159="nulová",J159,0) -> 0 | BJ159: 1 | BK159: =ROUND(I159*H159,2) -> 0 | BL159: 16 | BM159: -1396898965
C160: 32 | D160: M | E160: 731405 | F160: Tepelná izolace z minerální vaty s Al fólií; pouzdro s podélným nářezem 45/25mm | G160: m | H160: 10 | J160: =ROUND(I160*H160,2) -> 0 | N160: základní | P160: =O160*H160 -> 0 | Q160: 0 | R160: =Q160*H160 -> 0 | S160: 0 | T160: =S160*H160 -> 0 | AR160: 32 | AT160: M | AU160: 2 | AY160: ROZPOCET | BE160: =IF(N160="základní",J160,0) -> 0 | BF160: =IF(N160="snížená",J160,0) -> 0 | BG160: =IF(N160="zákl. přenesená",J160,0) -> 0 | BH160: =IF(N160="sníž. přenesená",J160,0) -> 0 | BI160: =IF(N160="nulová",J160,0) -> 0 | BJ160: 1 | BK160: =ROUND(I160*H160,2) -> 0 | BL160: 16 | BM160: 918397207
D161: D | E161: 731-05 | F161: Podlahové vytápění | J161: =BK161 -> 0 | P161: =SUM(P162:P174) -> 0 | R161: =SUM(R162:R174) -> 0 | T161: =SUM(T162:T174) -> 0 | AR161: 2 | AT161: D | AU161: 1 | AY161: ROZPOCET | BK161: =SUM(BK162:BK174) -> 0
C162: 33 | D162: K | E162: 73105-01 | F162: Montáž podlahového vytápění | G162: kpl | H162: 1 | J162: =ROUND(I162*H162,2) -> 0 | N162: základní | P162: =O162*H162 -> 0 | Q162: 0 | R162: =Q162*H162 -> 0 | S162: 0 | T162: =S162*H162 -> 0 | AR162: 16 | AT162: K | AU162: 2 | AY162: ROZPOCET | BE162: =IF(N162="základní",J162,0) -> 0 | BF162: =IF(N162="snížená",J162,0) -> 0 | BG162: =IF(N162="zákl. přenesená",J162,0) -> 0 | BH162: =IF(N162="sníž. přenesená",J162,0) -> 0 | BI162: =IF(N162="nulová",J162,0) -> 0 | BJ162: 1 | BK162: =ROUND(I162*H162,2) -> 0 | BL162: 16 | BM162: 288812198
C163: 34 | D163: M | E163: 731501 | F163: Systémová deska s výstupky, tloušťka 30 mm (1. NP) | G163: m2 | H163: 600 | J163: =ROUND(I163*H163,2) -> 0 | N163: základní | P163: =O163*H163 -> 0 | Q163: 0 | R163: =Q163*H163 -> 0 | S163: 0 | T163: =S163*H163 -> 0 | AR163: 32 | AT163: M | AU163: 2 | AY163: ROZPOCET | BE163: =IF(N163="základní",J163,0) -> 0 | BF163: =IF(N163="snížená",J163,0) -> 0 | BG163: =IF(N163="zákl. přenesená",J163,0) -> 0 | BH163: =IF(N163="sníž. přenesená",J163,0) -> 0 | BI163: =IF(N163="nulová",J163,0) -> 0 | BJ163: 1 | BK163: =ROUND(I163*H163,2) -> 0 | BL163: 16 | BM163: -1560883058
C164: 35 | D164: M | E164: 731502 | F164: Systémová deska s výstupky a integrovanou kročejovou izolací, tloušťka 50 mm (2. NP) | G164: m2 | H164: 600 | J164: =ROUND(I164*H164,2) -> 0 | N164: základní | P164: =O164*H164 -> 0 | Q164: 0 | R164: =Q164*H164 -> 0 | S164: 0 | T164: =S164*H164 -> 0 | AR164: 32 | AT164: M | AU164: 2 | AY164: ROZPOCET | BE164: =IF(N164="základní",J164,0) -> 0 | BF164: =IF(N164="snížená",J164,0) -> 0 | BG164: =IF(N164="zákl. přenesená",J164,0) -> 0 | BH164: =IF(N164="sníž. přenesená",J164,0) -> 0 | BI164: =IF(N164="nulová",J164,0) -> 0 | BJ164: 1 | BK164: =ROUND(I164*H164,2) -> 0 | BL164: 16 | BM164: 1847361295
C165: 36 | D165: M | E165: 731503 | F165: Kompletní rozdělovač s kulovými kohouty s teploměry, vypouštění, odvzdušnění, skříň pro zazdění 1" x18/12 | G165: ks | H165: 1 | J165: =ROUND(I165*H165,2) -> 0 | N165: základní | P165: =O165*H165 -> 0 | Q165: 0 | R165: =Q165*H165 -> 0 | S165: 0 | T165: =S165*H165 -> 0 | AR165: 32 | AT165: M | AU165: 2 | AY165: ROZPOCET | BE165: =IF(N165="základní",J165,0) -> 0 | BF165: =IF(N165="snížená",J165,0) -> 0 | BG165: =IF(N165="zákl. přenesená",J165,0) -> 0 | BH165: =IF(N165="sníž. přenesená",J165,0) -> 0 | BI165: =IF(N165="nulová",J165,0) -> 0 | BJ165: 1 | BK165: =ROUND(I165*H165,2) -> 0 | BL165: 16 | BM165: -1373682777
C166: 37 | D166: M | E166: 731504 | F166: Kompletní rozdělovač s kulovými kohouty s teploměry, vypouštění, odvzdušnění, skříň na zeď 1" x18/9 | G166: ks | H166: 1 | J166: =ROUND(I166*H166,2) -> 0 | N166: základní | P166: =O166*H166 -> 0 | Q166: 0 | R166: =Q166*H166 -> 0 | S166: 0 | T166: =S166*H166 -> 0 | AR166: 32 | AT166: M | AU166: 2 | AY166: ROZPOCET | BE166: =IF(N166="základní",J166,0) -> 0 | BF166: =IF(N166="snížená",J166,0) -> 0 | BG166: =IF(N166="zákl. přenesená",J166,0) -> 0 | BH166: =IF(N166="sníž. přenesená",J166,0) -> 0 | BI166: =IF(N166="nulová",J166,0) -> 0 | BJ166: 1 | BK166: =ROUND(I166*H166,2) -> 0 | BL166: 16 | BM166: -1125559858
...

Sheet 07 - VZDUCHOTECHNIKA
AT2: {93ef1c06-a1c2-4c9c-a982-cd031a04f85f}
AT3: 2
D4: KRYCÍ LIST SOUPISU PRACÍ | M4: v --- níže se nacházejí doplnkové a pomocné údaje k sestavám --- v | AT4: False
D6: Stavba:
E7: ='Rekapitulace stavby'!K6 -> MŠ KOVÁŘSKÁ II - REKONSTRUKCE OBJEKTU
D8: Objekt:
E9: 07 - VZDUCHOTECHNIKA
D11: KSO: | I11: CC-CZ:
D12: Místo: | F12: U Školičky 2176/1, 2177/3, Praha 9 | I12: Datum: | J12: ='Rekapitulace stavby'!AN8 -> 19. 12. 2025
D14: Zadavatel: | I14: IČ:
E15: MČ Praha 9 | I15: DIČ:
D17: Uchazeč: | I17: IČ: | J17: ='Rekapitulace stavby'!AN13 -> Vyplň údaj
E18: ='Rekapitulace stavby'!E14 -> Vyplň údaj | I18: DIČ: | J18: ='Rekapitulace stavby'!AN14 -> Vyplň údaj
D20: Projektant: | I20: IČ:
E21: ArtStat s.r.o. | I21: DIČ:
D23: Zpracovatel: | I23: IČ:
E24: Vladimír Mrázek | I24: DIČ:
D26: Poznámka:
D30: Cena bez DPH | J30: =ROUND(J122, 2) -> 0
F32: Základ daně | I32: Sazba daně | J32: Výše daně
D33: DPH | E33: základní | F33: =ROUND((SUM(BE122:BE179)), 2) -> 0 | I33: 0.21 | J33: =ROUND(((SUM(BE122:BE179))*I33), 2) -> 0
E34: snížená | F34: =ROUND((SUM(BF122:BF179)), 2) -> 0 | I34: 0.12 | J34: =ROUND(((SUM(BF122:BF179))*I34), 2) -> 0
E35: zákl. přenesená | F35: =ROUND((SUM(BG122:BG179)), 2) -> 0 | I35: 0.21 | J35: =0 -> 0
E36: sníž. přenesená | F36: =ROUND((SUM(BH122:BH179)), 2) -> 0 | I36: 0.12 | J36: =0 -> 0
E37: nulová | F37: =ROUND((SUM(BI122:BI179)), 2) -> 0 | I37: 0 | J37: =0 -> 0
D39: Cena s DPH | G39: v | H39: CZK | J39: =SUM(J30:J37) -> 0
D50: Projektant | G50: Zpracovatel
D61: Datum a podpis: | F61: Razítko | G61: Datum a podpis: | J61: Razítko
D65: Objednavatel | G65: Uchazeč
D76: Datum a podpis: | F76: Razítko | G76: Datum a podpis: | J76: Razítko
C82: REKAPITULACE ČLENĚNÍ SOUPISU PRACÍ
C84: Stavba:
E85: =E7 -> MŠ KOVÁŘSKÁ II - REKONSTRUKCE OBJEKTU
C86: Objekt:
E87: =E9 -> 07 - VZDUCHOTECHNIKA
C89: Místo: | F89: =F12 -> U Školičky 2176/1, 2177/3, Praha 9 | I89: Datum: | J89: =IF(J12="","",J12) -> 19. 12. 2025
C91: Zadavatel: | F91: =E15 -> MČ Praha 9 | I91: Projektant: | J91: =E21 -> ArtStat s.r.o.
C92: Uchazeč: | F92: =IF(E18="","",E18) -> Vyplň údaj | I92: Zpracovatel: | J92: =E24 -> Vladimír Mrázek
C94: Kód dílu - Popis | J94: Cena celkem [CZK]
C96: Náklady ze soupisu prací | J96: =J122 -> 0 | AU96: -1
D97: PSV - Práce a dodávky PSV - Vzduchotechnika | J97: =J123 -> 0
D98: 751-01 - VZT jednotky, ventilátory | J98: =J124 -> 0
D99: 751-02 - Potrubí | J99: =J135 -> 0
D100: 751-03 - Izolace | J100: =J145 -> 0
D101: 751-04 - Komponenty | J101: =J148 -> 0
D102: 751-05 - Ostatní | J102: =J171 -> 0
C109: SOUPIS PRACÍ
C111: Stavba:
E112: =E7 -> MŠ KOVÁŘSKÁ II - REKONSTRUKCE OBJEKTU
C113: Objekt:
E114: =E9 -> 07 - VZDUCHOTECHNIKA
C116: Místo: | F116: =F12 -> U Školičky 2176/1, 2177/3, Praha 9 | I116: Datum: | J116: =IF(J12="","",J12) -> 19. 12. 2025
C118: Zadavatel: | F118: =E15 -> MČ Praha 9 | I118: Projektant: | J118: =E21 -> ArtStat s.r.o.
C119: Uchazeč: | F119: =IF(E18="","",E18) -> Vyplň údaj | I119: Zpracovatel: | J119: =E24 -> Vladimír Mrázek
C121: PČ | D121: Typ | E121: Kód | F121: Popis | G121: MJ | H121: Množství | I121: J.cena [CZK] | J121: Cena celkem [CZK] | K121: Cenová soustava | N121: DPH | O121: J. Nh [h] | P121: Nh celkem [h] | Q121: J. hmotnost [t] | R121: Hmotnost celkem [t] | S121: J. suť [t] | T121: Suť Celkem [t]
C122: Náklady soupisu celkem | J122: =BK122 -> 0 | P122: =P123 -> 0 | R122: =R123 -> 0 | T122: =T123 -> 0 | AT122: D | AU122: -1 | BK122: =BK123 -> 0
D123: D | E123: PSV | F123: Práce a dodávky PSV - Vzduchotechnika | J123: =BK123 -> 0 | P123: =P124+P135+P145+P148+P171 -> 0 | R123: =R124+R135+R145+R148+R171 -> 0 | T123: =T124+T135+T145+T148+T171 -> 0 | AR123: 1 | AT123: D | AU123: 0 | AY123: ROZPOCET | BK123: =BK124+BK135+BK145+BK148+BK171 -> 0
D124: D | E124: 751-01 | F124: VZT jednotky, ventilátory | J124: =BK124 -> 0 | P124: =SUM(P125:P134) -> 0 | R124: =SUM(R125:R134) -> 0 | T124: =SUM(T125:T134) -> 0 | AR124: 1 | AT124: D | AU124: 1 | AY124: ROZPOCET | BK124: =SUM(BK125:BK134) -> 0
C125: 1 | D125: K | E125: 75101-01 | F125: Montáž zařízení | G125: kpl | H125: 1 | J125: =ROUND(I125*H125,2) -> 0 | N125: základní | P125: =O125*H125 -> 0 | Q125: 0 | R125: =Q125*H125 -> 0 | S125: 0 | T125: =S125*H125 -> 0 | AR125: 16 | AT125: K | AU125: 2 | AY125: ROZPOCET | BE125: =IF(N125="základní",J125,0) -> 0 | BF125: =IF(N125="snížená",J125,0) -> 0 | BG125: =IF(N125="zákl. přenesená",J125,0) -> 0 | BH125: =IF(N125="sníž. přenesená",J125,0) -> 0 | BI125: =IF(N125="nulová",J125,0) -> 0 | BJ125: 1 | BK125: =ROUND(I125*H125,2) -> 0 | BL125: 16 | BM125: -125132009
C126: 2 | D126: M | E126: 751101 | F126: Rekuperační jednotka č. 1 s rotačním výměníkem s přenosem vlhkosti | G126: ks | H126: 1 | J126: =ROUND(I126*H126,2) -> 0 | N126: základní | P126: =O126*H126 -> 0 | Q126: 0 | R126: =Q126*H126 -> 0 | S126: 0 | T126: =S126*H126 -> 0 | AR126: 32 | AT126: M | AU126: 2 | AY126: ROZPOCET | BE126: =IF(N126="základní",J126,0) -> 0 | BF126: =IF(N126="snížená",J126,0) -> 0 | BG126: =IF(N126="zákl. přenesená",J126,0) -> 0 | BH126: =IF(N126="sníž. přenesená",J126,0) -> 0 | BI126: =IF(N126="nulová",J126,0) -> 0 | BJ126: 1 | BK126: =ROUND(I126*H126,2) -> 0 | BL126: 16 | BM126: -1677540146
D127: P | F127: Poznámka k položce:_x000D_ průtok vzduchu - 6700 m3/h_x000D_ externí tlak 400 Pa_x000D_ účinnost rekuperace 79,9%_x000D_ ErP 2016, ErP 2018_x000D_ Nástřešní provedení_x000D_ osazena výměníke přímého výparu_x000D_ včetně regulace a ovládacího panelu | AT127: P | AU127: 2
C128: 3 | D128: M | E128: 751102 | F128: Rekuperační jednotka č. 2 s protiproudým výměníkem | G128: ks | H128: 1 | J128: =ROUND(I128*H128,2) -> 0 | N128: základní | P128: =O128*H128 -> 0 | Q128: 0 | R128: =Q128*H128 -> 0 | S128: 0 | T128: =S128*H128 -> 0 | AR128: 32 | AT128: M | AU128: 2 | AY128: ROZPOCET | BE128: =IF(N128="základní",J128,0) -> 0 | BF128: =IF(N128="snížená",J128,0) -> 0 | BG128: =IF(N128="zákl. přenesená",J128,0) -> 0 | BH128: =IF(N128="sníž. přenesená",J128,0) -> 0 | BI128: =IF(N128="nulová",J128,0) -> 0 | BJ128: 1 | BK128: =ROUND(I128*H128,2) -> 0 | BL128: 16 | BM128: 1919953181
D129: P | F129: Poznámka k položce:_x000D_ přívod vzduchu: 1780 m3/h; odvod vzduchu: 1960 m3/h_x000D_ externí tlak 300 Pa_x000D_ účinnost rekuperace 91,7%_x000D_ ErP 2016, ErP 2018_x000D_ Nástřešní provedení_x000D_ osazena výměníkem přímého výparu_x000D_ včetně regulace a ovládacího panelu | AT129: P | AU129: 2
C130: 4 | D130: M | E130: 751103 | F130: Kondenzační jednotka pro úpravu vzduchu | G130: ks | H130: 1 | J130: =ROUND(I130*H130,2) -> 0 | N130: základní | P130: =O130*H130 -> 0 | Q130: 0 | R130: =Q130*H130 -> 0 | S130: 0 | T130: =S130*H130 -> 0 | AR130: 32 | AT130: M | AU130: 2 | AY130: ROZPOCET | BE130: =IF(N130="základní",J130,0) -> 0 | BF130: =IF(N130="snížená",J130,0) -> 0 | BG130: =IF(N130="zákl. přenesená",J130,0) -> 0 | BH130: =IF(N130="sníž. přenesená",J130,0) -> 0 | BI130: =IF(N130="nulová",J130,0) -> 0 | BJ130: 1 | BK130: =ROUND(I130*H130,2) -> 0 | BL130: 16 | BM130: 420402522
D131: P | F131: Poznámka k položce:_x000D_ - topný výkon 27 kW (20/6 °C)_x000D_ - chladicí výkon 23 kW (27/35 °C)_x000D_ - hmotnost - 144 kg_x000D_ - COP - 3,25 | AT131: P | AU131: 2
C132: 5 | D132: M | E132: 751104 | F132: Kondenzační jednotka pro úpravu vzduchu | G132: ks | H132: 1 | J132: =ROUND(I132*H132,2) -> 0 | N132: základní | P132: =O132*H132 -> 0 | Q132: 0 | R132: =Q132*H132 -> 0 | S132: 0 | T132: =S132*H132 -> 0 | AR132: 32 | AT132: M | AU132: 2 | AY132: ROZPOCET | BE132: =IF(N132="základní",J132,0) -> 0 | BF132: =IF(N132="snížená",J132,0) -> 0 | BG132: =IF(N132="zákl. přenesená",J132,0) -> 0 | BH132: =IF(N132="sníž. přenesená",J132,0) -> 0 | BI132: =IF(N132="nulová",J132,0) -> 0 | BJ132: 1 | BK132: =ROUND(I132*H132,2) -> 0 | BL132: 16 | BM132: -463963500
D133: P | F133: Poznámka k položce:_x000D_ - topný výkon 5,8 kW (20/6 °C)_x000D_ - chladicí výkon 5,0 kW (27/35 °C)_x000D_ - hmotnost - 44,5 kg_x000D_ - COP - 3,39 | AT133: P | AU133: 2
C134: 6 | D134: M | E134: 751105 | F134: Radiální ventilátor s vestavěnou zpětnou klapkou, napojení d100 mm - spínán se světlem/termostatem - Qo = 15 m3/h | G134: ks | H134: 2 | J134: =ROUND(I134*H134,2) -> 0 | N134: základní | P134: =O134*H134 -> 0 | Q134: 0 | R134: =Q134*H134 -> 0 | S134: 0 | T134: =S134*H134 -> 0 | AR134: 32 | AT134: M | AU134: 2 | AY134: ROZPOCET | BE134: =IF(N134="základní",J134,0) -> 0 | BF134: =IF(N134="snížená",J134,0) -> 0 | BG134: =IF(N134="zákl. přenesená",J134,0) -> 0 | BH134: =IF(N134="sníž. přenesená",J134,0) -> 0 | BI134: =IF(N134="nulová",J134,0) -> 0 | BJ134: 1 | BK134: =ROUND(I134*H134,2) -> 0 | BL134: 16 | BM134: 1114392835
D135: D | E135: 751-02 | F135: Potrubí | J135: =BK135 -> 0 | P135: =SUM(P136:P144) -> 0 | R135: =SUM(R136:R144) -> 0 | T135: =SUM(T136:T144) -> 0 | AR135: 1 | AT135: D | AU135: 1 | AY135: ROZPOCET | BK135: =SUM(BK136:BK144) -> 0
C136: 7 | D136: K | E136: 75102-01 | F136: Montáž potrubí | G136: kpl | H136: 1 | J136: =ROUND(I136*H136,2) -> 0 | N136: základní | P136: =O136*H136 -> 0 | Q136: 0 | R136: =Q136*H136 -> 0 | S136: 0 | T136: =S136*H136 -> 0 | AR136: 16 | AT136: K | AU136: 2 | AY136: ROZPOCET | BE136: =IF(N136="základní",J136,0) -> 0 | BF136: =IF(N136="snížená",J136,0) -> 0 | BG136: =IF(N136="zákl. přenesená",J136,0) -> 0 | BH136: =IF(N136="sníž. přenesená",J136,0) -> 0 | BI136: =IF(N136="nulová",J136,0) -> 0 | BJ136: 1 | BK136: =ROUND(I136*H136,2) -> 0 | BL136: 16 | BM136: -1202493639
C137: 8 | D137: M | E137: 751201 | F137: SPIRO potrubí d100 mm, vč. 7 % tvarovek | G137: m | H137: 86 | J137: =ROUND(I137*H137,2) -> 0 | N137: základní | P137: =O137*H137 -> 0 | Q137: 0 | R137: =Q137*H137 -> 0 | S137: 0 | T137: =S137*H137 -> 0 | AR137: 32 | AT137: M | AU137: 2 | AY137: ROZPOCET | BE137: =IF(N137="základní",J137,0) -> 0 | BF137: =IF(N137="snížená",J137,0) -> 0 | BG137: =IF(N137="zákl. přenesená",J137,0) -> 0 | BH137: =IF(N137="sníž. přenesená",J137,0) -> 0 | BI137: =IF(N137="nulová",J137,0) -> 0 | BJ137: 1 | BK137: =ROUND(I137*H137,2) -> 0 | BL137: 16 | BM137: -269612676
C138: 9 | D138: M | E138: 751202 | F138: SPIRO potrubí d125 mm, vč. 12 % tvarovek | G138: m | H138: 24 | J138: =ROUND(I138*H138,2) -> 0 | N138: základní | P138: =O138*H138 -> 0 | Q138: 0 | R138: =Q138*H138 -> 0 | S138: 0 | T138: =S138*H138 -> 0 | AR138: 32 | AT138: M | AU138: 2 | AY138: ROZPOCET | BE138: =IF(N138="základní",J138,0) -> 0 | BF138: =IF(N138="snížená",J138,0) -> 0 | BG138: =IF(N138="zákl. přenesená",J138,0) -> 0 | BH138: =IF(N138="sníž. přenesená",J138,0) -> 0 | BI138: =IF(N138="nulová",J138,0) -> 0 | BJ138: 1 | BK138: =ROUND(I138*H138,2) -> 0 | BL138: 16 | BM138: -1924810809
C139: 10 | D139: M | E139: 751203 | F139: SPIRO potrubí d160 mm, vč. 15 % tvarovek | G139: m | H139: 10 | J139: =ROUND(I139*H139,2) -> 0 | N139: základní | P139: =O139*H139 -> 0 | Q139: 0 | R139: =Q139*H139 -> 0 | S139: 0 | T139: =S139*H139 -> 0 | AR139: 32 | AT139: M | AU139: 2 | AY139: ROZPOCET | BE139: =IF(N139="základní",J139,0) -> 0 | BF139: =IF(N139="snížená",J139,0) -> 0 | BG139: =IF(N139="zákl. přenesená",J139,0) -> 0 | BH139: =IF(N139="sníž. přenesená",J139,0) -> 0 | BI139: =IF(N139="nulová",J139,0) -> 0 | BJ139: 1 | BK139: =ROUND(I139*H139,2) -> 0 | BL139: 16 | BM139: -1207140846
C140: 11 | D140: M | E140: 751204 | F140: SPIRO potrubí d200 mm, vč. 19 % tvarovek | G140: m | H140: 108 | J140: =ROUND(I140*H140,2) -> 0 | N140: základní | P140: =O140*H140 -> 0 | Q140: 0 | R140: =Q140*H140 -> 0 | S140: 0 | T140: =S140*H140 -> 0 | AR140: 32 | AT140: M | AU140: 2 | AY140: ROZPOCET | BE140: =IF(N140="základní",J140,0) -> 0 | BF140: =IF(N140="snížená",J140,0) -> 0 | BG140: =IF(N140="zákl. přenesená",J140,0) -> 0 | BH140: =IF(N140="sníž. přenesená",J140,0) -> 0 | BI140: =IF(N140="nulová",J140,0) -> 0 | BJ140: 1 | BK140: =ROUND(I140*H140,2) -> 0 | BL140: 16 | BM140: 257012105
C141: 12 | D141: M | E141: 751205 | F141: SPIRO potrubí d225 mm, vč. 16 % tvarovek | G141: m | H141: 30 | J141: =ROUND(I141*H141,2) -> 0 | N141: základní | P141: =O141*H141 -> 0 | Q141: 0 | R141: =Q141*H141 -> 0 | S141: 0 | T141: =S141*H141 -> 0 | AR141: 32 | AT141: M | AU141: 2 | AY141: ROZPOCET | BE141: =IF(N141="základní",J141,0) -> 0 | BF141: =IF(N141="snížená",J141,0) -> 0 | BG141: =IF(N141="zákl. přenesená",J141,0) -> 0 | BH141: =IF(N141="sníž. přenesená",J141,0) -> 0 | BI141: =IF(N141="nulová",J141,0) -> 0 | BJ141: 1 | BK141: =ROUND(I141*H141,2) -> 0 | BL141: 16 | BM141: 1153716422
C142: 13 | D142: M | E142: 751206 | F142: potrubí do obvodu 1050 mm vč. 21 % tvarovek | G142: m2 | H142: 110 | J142: =ROUND(I142*H142,2) -> 0 | N142: základní | P142: =O142*H142 -> 0 | Q142: 0 | R142: =Q142*H142 -> 0 | S142: 0 | T142: =S142*H142 -> 0 | AR142: 32 | AT142: M | AU142: 2 | AY142: ROZPOCET | BE142: =IF(N142="základní",J142,0) -> 0 | BF142: =IF(N142="snížená",J142,0) -> 0 | BG142: =IF(N142="zákl. přenesená",J142,0) -> 0 | BH142: =IF(N142="sníž. přenesená",J142,0) -> 0 | BI142: =IF(N142="nulová",J142,0) -> 0 | BJ142: 1 | BK142: =ROUND(I142*H142,2) -> 0 | BL142: 16 | BM142: 1454840530
C143: 14 | D143: M | E143: 751207 | F143: potrubí do obvodu 1500 mm vč. 18 % tvarovek | G143: m2 | H143: 140 | J143: =ROUND(I143*H143,2) -> 0 | N143: základní | P143: =O143*H143 -> 0 | Q143: 0 | R143: =Q143*H143 -> 0 | S143: 0 | T143: =S143*H143 -> 0 | AR143: 32 | AT143: M | AU143: 2 | AY143: ROZPOCET | BE143: =IF(N143="základní",J143,0) -> 0 | BF143: =IF(N143="snížená",J143,0) -> 0 | BG143: =IF(N143="zákl. přenesená",J143,0) -> 0 | BH143: =IF(N143="sníž. přenesená",J143,0) -> 0 | BI143: =IF(N143="nulová",J143,0) -> 0 | BJ143: 1 | BK143: =ROUND(I143*H143,2) -> 0 | BL143: 16 | BM143: 1434277398
C144: 15 | D144: M | E144: 751208 | F144: potrubí do obvodu 2630 mm vč. 11 % tvarovek | G144: m2 | H144: 3 | J144: =ROUND(I144*H144,2) -> 0 | N144: základní | P144: =O144*H144 -> 0 | Q144: 0 | R144: =Q144*H144 -> 0 | S144: 0 | T144: =S144*H144 -> 0 | AR144: 32 | AT144: M | AU144: 2 | AY144: ROZPOCET | BE144: =IF(N144="základní",J144,0) -> 0 | BF144: =IF(N144="snížená",J144,0) -> 0 | BG144: =IF(N144="zákl. přenesená",J144,0) -> 0 | BH144: =IF(N144="sníž. přenesená",J144,0) -> 0 | BI144: =IF(N144="nulová",J144,0) -> 0 | BJ144: 1 | BK144: =ROUND(I144*H144,2) -> 0 | BL144: 16 | BM144: 1795851460
D145: D | E145: 751-03 | F145: Izolace | J145: =BK145 -> 0 | P145: =SUM(P146:P147) -> 0 | R145: =SUM(R146:R147) -> 0 | T145: =SUM(T146:T147) -> 0 | AR145: 1 | AT145: D | AU145: 1 | AY145: ROZPOCET | BK145: =SUM(BK146:BK147) -> 0
C146: 16 | D146: K | E146: 75103-01 | F146: Montáž izolace | G146: kpl | H146: 1 | J146: =ROUND(I146*H146,2) -> 0 | N146: základní | P146: =O146*H146 -> 0 | Q146: 0 | R146: =Q146*H146 -> 0 | S146: 0 | T146: =S146*H146 -> 0 | AR146: 16 | AT146: K | AU146: 2 | AY146: ROZPOCET | BE146: =IF(N146="základní",J146,0) -> 0 | BF146: =IF(N146="snížená",J146,0) -> 0 | BG146: =IF(N146="zákl. přenesená",J146,0) -> 0 | BH146: =IF(N146="sníž. přenesená",J146,0) -> 0 | BI146: =IF(N146="nulová",J146,0) -> 0 | BJ146: 1 | BK146: =ROUND(I146*H146,2) -> 0 | BL146: 16 | BM146: -2118200433
C147: 17 | D147: M | E147: 751301 | F147: Protipožární izolace tl. 30 mm (požární odolnost dle PBŘ) | G147: m2 | H147: 25 | J147: =ROUND(I147*H147,2) -> 0 | N147: základní | P147: =O147*H147 -> 0 | Q147: 0 | R147: =Q147*H147 -> 0 | S147: 0 | T147: =S147*H147 -> 0 | AR147: 32 | AT147: M | AU147: 2 | AY147: ROZPOCET | BE147: =IF(N147="základní",J147,0) -> 0 | BF147: =IF(N147="snížená",J147,0) -> 0 | BG147: =IF(N147="zákl. přenesená",J147,0) -> 0 | BH147: =IF(N147="sníž. přenesená",J147,0) -> 0 | BI147: =IF(N147="nulová",J147,0) -> 0 | BJ147: 1 | BK147: =ROUND(I147*H147,2) -> 0 | BL147: 16 | BM147: 2053353005
D148: D | E148: 751-04 | F148: Komponenty | J148: =BK148 -> 0 | P148: =SUM(P149:P170) -> 0 | R148: =SUM(R149:R170) -> 0 | T148: =SUM(T149:T170) -> 0 | AR148: 1 | AT148: D | AU148: 1 | AY148: ROZPOCET | BK148: =SUM(BK149:BK170) -> 0
C149: 18 | D149: K | E149: 75104-01 | F149: Montáž komponentů | G149: kpl | H149: 1 | J149: =ROUND(I149*H149,2) -> 0 | N149: základní | P149: =O149*H149 -> 0 | Q149: 0 | R149: =Q149*H149 -> 0 | S149: 0 | T149: =S149*H149 -> 0 | AR149: 16 | AT149: K | AU149: 2 | AY149: ROZPOCET | BE149: =IF(N149="základní",J149,0) -> 0 | BF149: =IF(N149="snížená",J149,0) -> 0 | BG149: =IF(N149="zákl. přenesená",J149,0) -> 0 | BH149: =IF(N149="sníž. přenesená",J149,0) -> 0 | BI149: =IF(N149="nulová",J149,0) -> 0 | BJ149: 1 | BK149: =ROUND(I149*H149,2) -> 0 | BL149: 16 | BM149: 585966979
C150: 19 | D150: M | E150: 751401 | F150: Regulační klapka čtyřhranná protiběžná s ručním ovládáním 200x250 | G150: ks | H150: 1 | J150: =ROUND(I150*H150,2) -> 0 | N150: základní | P150: =O150*H150 -> 0 | Q150: 0 | R150: =Q150*H150 -> 0 | S150: 0 | T150: =S150*H150 -> 0 | AR150: 32 | AT150: M | AU150: 2 | AY150: ROZPOCET | BE150: =IF(N150="základní",J150,0) -> 0 | BF150: =IF(N150="snížená",J150,0) -> 0 | BG150: =IF(N150="zákl. přenesená",J150,0) -> 0 | BH150: =IF(N150="sníž. přenesená",J150,0) -> 0 | BI150: =IF(N150="nulová",J150,0) -> 0 | BJ150: 1 | BK150: =ROUND(I150*H150,2) -> 0 | BL150: 16 | BM150: -2007471810
C151: 20 | D151: M | E151: 751402 | F151: Regulační klapka s ručním ovládáním d100 mm | G151: ks | H151: 11 | J151: =ROUND(I151*H151,2) -> 0 | N151: základní | P151: =O151*H151 -> 0 | Q151: 0 | R151: =Q151*H151 -> 0 | S151: 0 | T151: =S151*H151 -> 0 | AR151: 32 | AT151: M | AU151: 2 | AY151: ROZPOCET | BE151: =IF(N151="základní",J151,0) -> 0 | BF151: =IF(N151="snížená",J151,0) -> 0 | BG151: =IF(N151="zákl. přenesená",J151,0) -> 0 | BH151: =IF(N151="sníž. přenesená",J151,0) -> 0 | BI151: =IF(N151="nulová",J151,0) -> 0 | BJ151: 1 | BK151: =ROUND(I151*H151,2) -> 0 | BL151: 16 | BM151: 1251436770
C152: 21 | D152: M | E152: 751403 | F152: Regulační klapka s ručním ovládáním d125 mm | G152: ks | H152: 2 | J152: =ROUND(I152*H152,2) -> 0 | N152: základní | P152: =O152*H152 -> 0 | Q152: 0 | R152: =Q152*H152 -> 0 | S152: 0 | T152: =S152*H152 -> 0 | AR152: 32 | AT152: M | AU152: 2 | AY152: ROZPOCET | BE152: =IF(N152="základní",J152,0) -> 0 | BF152: =IF(N152="snížená",J152,0) -> 0 | BG152: =IF(N152="zákl. přenesená",J152,0) -> 0 | BH152: =IF(N152="sníž. přenesená",J152,0) -> 0 | BI152: =IF(N152="nulová",J152,0) -> 0 | BJ152: 1 | BK152: =ROUND(I152*H152,2) -> 0 | BL152: 16 | BM152: -111546235
C153: 22 | D153: M | E153: 751404 | F153: Regulační klapka s ručním ovládáním d160 mm | G153: ks | H153: 2 | J153: =ROUND(I153*H153,2) -> 0 | N153: základní | P153: =O153*H153 -> 0 | Q153: 0 | R153: =Q153*H153 -> 0 | S153: 0 | T153: =S153*H153 -> 0 | AR153: 32 | AT153: M | AU153: 2 | AY153: ROZPOCET | BE153: =IF(N153="základní",J153,0) -> 0 | BF153: =IF(N153="snížená",J153,0) -> 0 | BG153: =IF(N153="zákl. přenesená",J153,0) -> 0 | BH153: =IF(N153="sníž. přenesená",J153,0) -> 0 | BI153: =IF(N153="nulová",J153,0) -> 0 | BJ153: 1 | BK153: =ROUND(I153*H153,2) -> 0 | BL153: 16 | BM153: -1238772601
C154: 23 | D154: M | E154: 751405 | F154: Regulační klapka s ručním ovládáním d200 mm | G154: ks | H154: 3 | J154: =ROUND(I154*H154,2) -> 0 | N154: základní | P154: =O154*H154 -> 0 | Q154: 0 | R154: =Q154*H154 -> 0 | S154: 0 | T154: =S154*H154 -> 0 | AR154: 32 | AT154: M | AU154: 2 | AY154: ROZPOCET | BE154: =IF(N154="základní",J154,0) -> 0 | BF154: =IF(N154="snížená",J154,0) -> 0 | BG154: =IF(N154="zákl. přenesená",J154,0) -> 0 | BH154: =IF(N154="sníž. přenesená",J154,0) -> 0 | BI154: =IF(N154="nulová",J154,0) -> 0 | BJ154: 1 | BK154: =ROUND(I154*H154,2) -> 0 | BL154: 16 | BM154: -428081787
C155: 24 | D155: M | E155: 751406 | F155: Regulační klapka s ručním ovládáním d225 mm | G155: ks | H155: 1 | J155: =ROUND(I155*H155,2) -> 0 | N155: základní | P155: =O155*H155 -> 0 | Q155: 0 | R155: =Q155*H155 -> 0 | S155: 0 | T155: =S155*H155 -> 0 | AR155: 32 | AT155: M | AU155: 2 | AY155: ROZPOCET | BE155: =IF(N155="základní",J155,0) -> 0 | BF155: =IF(N155="snížená",J155,0) -> 0 | BG155: =IF(N155="zákl. přenesená",J155,0) -> 0 | BH155: =IF(N155="sníž. přenesená",J155,0) -> 0 | BI155: =IF(N155="nulová",J155,0) -> 0 | BJ155: 1 | BK155: =ROUND(I155*H155,2) -> 0 | BL155: 16 | BM155: 1916622304
C156: 25 | D156: M | E156: 751407 | F156: Tlumič hluku čtyřhranný, 315x315/1000 mm | G156: ks | H156: 2 | J156: =ROUND(I156*H156,2) -> 0 | N156: základní | P156: =O156*H156 -> 0 | Q156: 0 | R156: =Q156*H156 -> 0 | S156: 0 | T156: =S156*H156 -> 0 | AR156: 32 | AT156: M | AU156: 2 | AY156: ROZPOCET | BE156: =IF(N156="základní",J156,0) -> 0 | BF156: =IF(N156="snížená",J156,0) -> 0 | BG156: =IF(N156="zákl. přenesená",J156,0) -> 0 | BH156: =IF(N156="sníž. přenesená",J156,0) -> 0 | BI156: =IF(N156="nulová",J156,0) -> 0 | BJ156: 1 | BK156: =ROUND(I156*H156,2) -> 0 | BL156: 16 | BM156: -1717920955
C157: 26 | D157: M | E157: 751408 | F157: Tlumič hluku čtyřhranný, 500x630/1000 mm | G157: ks | H157: 1 | J157: =ROUND(I157*H157,2) -> 0 | N157: základní | P157: =O157*H157 -> 0 | Q157: 0 | R157: =Q157*H157 -> 0 | S157: 0 | T157: =S157*H157 -> 0 | AR157: 32 | AT157: M | AU157: 2 | AY157: ROZPOCET | BE157: =IF(N157="základní",J157,0) -> 0 | BF157: =IF(N157="snížená",J157,0) -> 0 | BG157: =IF(N157="zákl. přenesená",J157,0) -> 0 | BH157: =IF(N157="sníž. přenesená",J157,0) -> 0 | BI157: =IF(N157="nulová",J157,0) -> 0 | BJ157: 1 | BK157: =ROUND(I157*H157,2) -> 0 | BL157: 16 | BM157: 1966635157
C158: 27 | D158: M | E158: 751409 | F158: Tlumič hluku čtyřhranný, 630x500/1000 mm | G158: ks | H158: 1 | J158: =ROUND(I158*H158,2) -> 0 | N158: základní | P158: =O158*H158 -> 0 | Q158: 0 | R158: =Q158*H158 -> 0 | S158: 0 | T158: =S158*H158 -> 0 | AR158: 32 | AT158: M | AU158: 2 | AY158: ROZPOCET | BE158: =IF(N158="základní",J158,0) -> 0 | BF158: =IF(N158="snížená",J158,0) -> 0 | BG158: =IF(N158="zákl. přenesená",J158,0) -> 0 | BH158: =IF(N158="sníž. přenesená",J158,0) -> 0 | BI158: =IF(N158="nulová",J158,0) -> 0 | BJ158: 1 | BK158: =ROUND(I158*H158,2) -> 0 | BL158: 16 | BM158: -1423207757
C159: 28 | D159: M | E159: 751410 | F159: Talířový ventil d100mm + montážní kroužek s těsněním | G159: ks | H159: 31 | J159: =ROUND(I159*H159,2) -> 0 | N159: základní | P159: =O159*H159 -> 0 | Q159: 0 | R159: =Q159*H159 -> 0 | S159: 0 | T159: =S159*H159 -> 0 | AR159: 32 | AT159: M | AU159: 2 | AY159: ROZPOCET | BE159: =IF(N159="základní",J159,0) -> 0 | BF159: =IF(N159="snížená",J159,0) -> 0 | BG159: =IF(N159="zákl. přenesená",J159,0) -> 0 | BH159: =IF(N159="sníž. přenesená",J159,0) -> 0 | BI159: =IF(N159="nulová",J159,0) -> 0 | BJ159: 1 | BK159: =ROUND(I159*H159,2) -> 0 | BL159: 16 | BM159: -1498631
C160: 29 | D160: M | E160: 751411 | F160: Talířový ventil d125mm + montážní kroužek s těsněním | G160: ks | H160: 7 | J160: =ROUND(I160*H160,2) -> 0 | N160: základní | P160: =O160*H160 -> 0 | Q160: 0 | R160: =Q160*H160 -> 0 | S160: 0 | T160: =S160*H160 -> 0 | AR160: 32 | AT160: M | AU160: 2 | AY160: ROZPOCET | BE160: =IF(N160="základní",J160,0) -> 0 | BF160: =IF(N160="snížená",J160,0) -> 0 | BG160: =IF(N160="zákl. přenesená",J160,0) -> 0 | BH160: =IF(N160="sníž. přenesená",J160,0) -> 0 | BI160: =IF(N160="nulová",J160,0) -> 0 | BJ160: 1 | BK160: =ROUND(I160*H160,2) -> 0 | BL160: 16 | BM160: 274831133
... C170: 39 | D170: M | E170: 751421 | F170: Regulátor variabilního průtoku čtyřhranný, ovl. servopoh. - 500x200 | G170: ks | H170: 7 | J170: =ROUND(I170*H170,2) -> 0 | N170: základní | P170: =O170*H170 -> 0 | Q170: 0 | R170: =Q170*H170 -> 0 | S170: 0 | T170: =S170*H170 -> 0 | AR170: 32 | AT170: M | AU170: 2 | AY170: ROZPOCET | BE170: =IF(N170="základní",J170,0) -> 0 | BF170: =IF(N170="snížená",J170,0) -> 0 | BG170: =IF(N170="zákl. přenesená",J170,0) -> 0 | BH170: =IF(N170="sníž. přenesená",J170,0) -> 0 | BI170: =IF(N170="nulová",J170,0) -> 0 | BJ170: 1 | BK170: =ROUND(I170*H170,2) -> 0 | BL170: 16 | BM170: -709454249
D171: D | E171: 751-05 | F171: Ostatní | J171: =BK171 -> 0 | P171: =SUM(P172:P179) -> 0 | R171: =SUM(R172:R179) -> 0 | T171: =SUM(T172:T179) -> 0 | AR171: 1 | AT171: D | AU171: 1 | AY171: ROZPOCET | BK171: =SUM(BK172:BK179) -> 0
C172: 40 | D172: K | E172: 75105-01 | F172: Montážní a těsnící materiál | G172: kpl | H172: 1 | J172: =ROUND(I172*H172,2) -> 0 | N172: základní | P172: =O172*H172 -> 0 | Q172: 0 | R172: =Q172*H172 -> 0 | S172: 0 | T172: =S172*H172 -> 0 | AR172: 16 | AT172: K | AU172: 2 | AY172: ROZPOCET | BE172: =IF(N172="základní",J172,0) -> 0 | BF172: =IF(N172="snížená",J172,0) -> 0 | BG172: =IF(N172="zákl. přenesená",J172,0) -> 0 | BH172: =IF(N172="sníž. přenesená",J172,0) -> 0 | BI172: =IF(N172="nulová",J172,0) -> 0 | BJ172: 1 | BK172: =ROUND(I172*H172,2) -> 0 | BL172: 16 | BM172: -1164909623
C173: 41 | D173: K | E173: 75105-02 | F173: Pomocné ocelové konstrukce pro vedení VZT | G173: kpl | H173: 1 | J173: =ROUND(I173*H173,2) -> 0 | N173: základní | P173: =O173*H173 -> 0 | Q173: 0 | R173: =Q173*H173 -> 0 | S173: 0 | T173: =S173*H173 -> 0 | AR173: 16 | AT173: K | AU173: 2 | AY173: ROZPOCET | BE173: =IF(N173="základní",J173,0) -> 0 | BF173: =IF(N173="snížená",J173,0) -> 0 | BG173: =IF(N173="zákl. přenesená",J173,0) -> 0 | BH173: =IF(N173="sníž. přenesená",J173,0) -> 0 | BI173: =IF(N173="nulová",J173,0) -> 0 | BJ173: 1 | BK173: =ROUND(I173*H173,2) -> 0 | BL173: 16 | BM173: -1837102944
C174: 42 | D174: K | E174: 75105-03 | F174: Izolace potrubí požární - miner.vlna tl.40mm s Al fólií, kotvení navař.na trny s kloboučky (44ks/bm), spoje přelepeny Al páskou, na kruhové potrubí do vzdálenosti min 500mm na obě strany prostupu | G174: m2 | H174: 5.28 | J174: =ROUND(I174*H174,2) -> 0 | N174: základní | P174: =O174*H174 -> 0 | Q174: 0 | R174: =Q174*H174 -> 0 | S174: 0 | T174: =S174*H174 -> 0 | AR174: 16 | AT174: K | AU174: 2 | AY174: ROZPOCET | BE174: =IF(N174="základní",J174,0) -> 0 | BF174: =IF(N174="snížená",J174,0) -> 0 | BG174: =IF(N174="zákl. přenesená",J174,0) -> 0 | BH174: =IF(N174="sníž. přenesená",J174,0) -> 0 | BI174: =IF(N174="nulová",J174,0) -> 0 | BJ174: 1 | BK174: =ROUND(I174*H174,2) -> 0 | BL174: 16 | BM174: 808494966
C175: 43 | D175: K | E175: 75105-04 | F175: Uvedení do provozu autorizovaným technikem | G175: kpl | H175: 1 | J175: =ROUND(I175*H175,2) -> 0 | N175: základní | P175: =O175*H175 -> 0 | Q175: 0 | R175: =Q175*H175 -> 0 | S175: 0 | T175: =S175*H175 -> 0 | AR175: 16 | AT175: K | AU175: 2 | AY175: ROZPOCET | BE175: =IF(N175="základní",J175,0) -> 0 | BF175: =IF(N175="snížená",J175,0) -> 0 | BG175: =IF(N175="zákl. přenesená",J175,0) -> 0 | BH175: =IF(N175="sníž. přenesená",J175,0) -> 0 | BI175: =IF(N175="nulová",J175,0) -> 0 | BJ175: 1 | BK175: =ROUND(I175*H175,2) -> 0 | BL175: 16 | BM175: -697485048
...

Sheet 08 - ELEKTROINSTALACE - S...
AT2: {9e8f0bd3-8cdb-48c5-a996-e4c008fbfe9d}
AT3: 2
D4: KRYCÍ LIST SOUPISU PRACÍ | M4: v --- níže se nacházejí doplnkové a pomocné údaje k sestavám --- v | AT4: False
D6: Stavba:
E7: ='Rekapitulace stavby'!K6 -> MŠ KOVÁŘSKÁ II - REKONSTRUKCE OBJEKTU
D8: Objekt:
E9: 08 - ELEKTROINSTALACE - SILNOPROUD
D11: KSO: | I11: CC-CZ:
D12: Místo: | F12: U Školičky 2176/1, 2177/3, Praha 9 | I12: Datum: | J12: ='Rekapitulace stavby'!AN8 -> 19. 12. 2025
D14: Zadavatel: | I14: IČ:
E15: MČ Praha 9 | I15: DIČ:
D17: Uchazeč: | I17: IČ: | J17: ='Rekapitulace stavby'!AN13 -> Vyplň údaj
E18: ='Rekapitulace stavby'!E14 -> Vyplň údaj | I18: DIČ: | J18: ='Rekapitulace stavby'!AN14 -> Vyplň údaj
D20: Projektant: | I20: IČ:
E21: ArtStat s.r.o. | I21: DIČ:
D23: Zpracovatel: | I23: IČ:
E24: Vladimír Mrázek | I24: DIČ:
D26: Poznámka:
D30: Cena bez DPH | J30: =ROUND(J130, 2) -> 0
F32: Základ daně | I32: Sazba daně | J32: Výše daně
D33: DPH | E33: základní | F33: =ROUND((SUM(BE130:BE376)), 2) -> 0 | I33: 0.21 | J33: =ROUND(((SUM(BE130:BE376))*I33), 2) -> 0
E34: snížená | F34: =ROUND((SUM(BF130:BF376)), 2) -> 0 | I34: 0.12 | J34: =ROUND(((SUM(BF130:BF376))*I34), 2) -> 0
E35: zákl. přenesená | F35: =ROUND((SUM(BG130:BG376)), 2) -> 0 | I35: 0.21 | J35: =0 -> 0
E36: sníž. přenesená | F36: =ROUND((SUM(BH130:BH376)), 2) -> 0 | I36: 0.12 | J36: =0 -> 0
E37: nulová | F37: =ROUND((SUM(BI130:BI376)), 2) -> 0 | I37: 0 | J37: =0 -> 0
D39: Cena s DPH | G39: v | H39: CZK | J39: =SUM(J30:J37) -> 0
D50: Projektant | G50: Zpracovatel
D61: Datum a podpis: | F61: Razítko | G61: Datum a podpis: | J61: Razítko
D65: Objednavatel | G65: Uchazeč
D76: Datum a podpis: | F76: Razítko | G76: Datum a podpis: | J76: Razítko
C82: REKAPITULACE ČLENĚNÍ SOUPISU PRACÍ
C84: Stavba:
E85: =E7 -> MŠ KOVÁŘSKÁ II - REKONSTRUKCE OBJEKTU
C86: Objekt:
E87: =E9 -> 08 - ELEKTROINSTALACE - SILNOPROUD
C89: Místo: | F89: =F12 -> U Školičky 2176/1, 2177/3, Praha 9 | I89: Datum: | J89: =IF(J12="","",J12) -> 19. 12. 2025
C91: Zadavatel: | F91: =E15 -> MČ Praha 9 | I91: Projektant: | J91: =E21 -> ArtStat s.r.o.
C92: Uchazeč: | F92: =IF(E18="","",E18) -> Vyplň údaj | I92: Zpracovatel: | J92: =E24 -> Vladimír Mrázek
C94: Kód dílu - Popis | J94: Cena celkem [CZK]
C96: Náklady ze soupisu prací | J96: =J130 -> 0 | AU96: -1
D97: PSV - Práce a dodávky PSV - Elektroinstalace | J97: =J131 -> 0
D98: 741.01 - Rozvaděč RH | J98: =J132 -> 0
D99: 741.02 - Rozvaděč RP | J99: =J175 -> 0
D100: 741.03 - Rozvaděč RTM1+RTM2 | J100: =J214 -> 0
D101: 741.04 - Elektroměrový rozvaděč | J101: =J233 -> 0
D102: 741.05 - Kabely, vodiče | J102: =J235 -> 0
D103: 741.06 - Elektroinstalační materiál | J103: =J271 -> 0
D104: 741.07 - Přístroje | J104: =J289 -> 0
D105: 741.08 - Svítidla | J105: =J316 -> 0
D106: 741.09 - CHÚC | J106: =J334 -> 0
D107: 741.10 - Trubkování | J107: =J340 -> 0
D108: 741.11 - Ostatní práce | J108: =J345 -> 0
D109: 741.12 - Ostatní výkony | J109: =J366 -> 0
D110: 741.13 - Ostatní výkony - přípojka NN | J110: =J373 -> 0
C117: SOUPIS PRACÍ
C119: Stavba:
E120: =E7 -> MŠ KOVÁŘSKÁ II - REKONSTRUKCE OBJEKTU
C121: Objekt:
E122: =E9 -> 08 - ELEKTROINSTALACE - SILNOPROUD
C124: Místo: | F124: =F12 -> U Školičky 2176/1, 2177/3, Praha 9 | I124: Datum: | J124: =IF(J12="","",J12) -> 19. 12. 2025
C126: Zadavatel: | F126: =E15 -> MČ Praha 9 | I126: Projektant: | J126: =E21 -> ArtStat s.r.o.
C127: Uchazeč: | F127: =IF(E18="","",E18) -> Vyplň údaj | I127: Zpracovatel: | J127: =E24 -> Vladimír Mrázek
C129: PČ | D129: Typ | E129: Kód | F129: Popis | G129: MJ | H129: Množství | I129: J.cena [CZK] | J129: Cena celkem [CZK] | K129: Cenová soustava | N129: DPH | O129: J. Nh [h] | P129: Nh celkem [h] | Q129: J. hmotnost [t] | R129: Hmotnost celkem [t] | S129: J. suť [t] | T129: Suť Celkem [t]
C130: Náklady soupisu celkem | J130: =BK130 -> 0 | P130: =P131 -> 0 | R130: =R131 -> 0 | T130: =T131 -> 0 | AT130: D | AU130: -1 | BK130: =BK131 -> 0
D131: D | E131: PSV | F131: Práce a dodávky PSV - Elektroinstalace | J131: =BK131 -> 0 | P131: =P132+P175+P233+P235+P271+P289+P316+P334+P340+P345+P366+P373 -> 0 | R131: =R132+R175+R233+R235+R271+R289+R316+R334+R340+R345+R366+R373 -> 0 | T131: =T132+T175+T233+T235+T271+T289+T316+T334+T340+T345+T366+T373 -> 0 | AR131: 2 | AT131: D | AU131: 0 | AY131: ROZPOCET | BK131: =BK132+BK175+BK233+BK235+BK271+BK289+BK316+BK334+BK340+BK345+BK366+BK373 -> 0
D132: D | E132: 741.01 | F132: Rozvaděč RH | J132: =BK132 -> 0 | P132: =SUM(P133:P174) -> 0 | R132: =SUM(R133:R174) -> 0 | T132: =SUM(T133:T174) -> 0 | AR132: 2 | AT132: D | AU132: 1 | AY132: ROZPOCET | BK132: =SUM(BK133:BK174) -> 0
C133: 1 | D133: M | E133: 01-001 | F133: Skříň s dveřmi, výklopná klika, IP30, šedá, na podlahu, ŠxVxH=1000x2060x300 | G133: ks | H133: 1 | J133: =ROUND(I133*H133,2) -> 0 | N133: základní | P133: =O133*H133 -> 0 | Q133: 0 | R133: =Q133*H133 -> 0 | S133: 0 | T133: =S133*H133 -> 0 | AR133: 32 | AT133: M | AU133: 2 | AY133: ROZPOCET | BE133: =IF(N133="základní",J133,0) -> 0 | BF133: =IF(N133="snížená",J133,0) -> 0 | BG133: =IF(N133="zákl. přenesená",J133,0) -> 0 | BH133: =IF(N133="sníž. přenesená",J133,0) -> 0 | BI133: =IF(N133="nulová",J133,0) -> 0 | BJ133: 1 | BK133: =ROUND(I133*H133,2) -> 0 | BL133: 16 | BM133: 256272353
C134: 2 | D134: M | E134: 01-002 | F134: Držák krycích desek ProfiSNAP, výška 1950, sada 1 pár | G134: ks | H134: 1 | J134: =ROUND(I134*H134,2) -> 0 | N134: základní | P134: =O134*H134 -> 0 | Q134: 0 | R134: =Q134*H134 -> 0 | S134: 0 | T134: =S134*H134 -> 0 | AR134: 32 | AT134: M | AU134: 2 | AY134: ROZPOCET | BE134: =IF(N134="základní",J134,0) -> 0 | BF134: =IF(N134="snížená",J134,0) -> 0 | BG134: =IF(N134="zákl. přenesená",J134,0) -> 0 | BH134: =IF(N134="sníž. přenesená",J134,0) -> 0 | BI134: =IF(N134="nulová",J134,0) -> 0 | BJ134: 1 | BK134: =ROUND(I134*H134,2) -> 0 | BL134: 16 | BM134: -1333561123
C135: 3 | D135: M | E135: 01-003 | F135: Podstavec bok, max. 250kg, šedá V=100, pár bez výřezů, pro skříň IP30, na podlahu, Hl=300 | G135: ks | H135: 1 | J135: =ROUND(I135*H135,2) -> 0 | N135: základní | P135: =O135*H135 -> 0 | Q135: 0 | R135: =Q135*H135 -> 0 | S135: 0 | T135: =S135*H135 -> 0 | AR135: 32 | AT135: M | AU135: 2 | AY135: ROZPOCET | BE135: =IF(N135="základní",J135,0) -> 0 | BF135: =IF(N135="snížená",J135,0) -> 0 | BG135: =IF(N135="zákl. přenesená",J135,0) -> 0 | BH135: =IF(N135="sníž. přenesená",J135,0) -> 0 | BI135: =IF(N135="nulová",J135,0) -> 0 | BJ135: 1 | BK135: =ROUND(I135*H135,2) -> 0 | BL135: 16 | BM135: 116146666
C136: 4 | D136: M | E136: 01-004 | F136: Čelní kryt pro podstavec, šedý, V=100, Š=1000 | G136: ks | H136: 2 | J136: =ROUND(I136*H136,2) -> 0 | N136: základní | P136: =O136*H136 -> 0 | Q136: 0 | R136: =Q136*H136 -> 0 | S136: 0 | T136: =S136*H136 -> 0 | AR136: 32 | AT136: M | AU136: 2 | AY136: ROZPOCET | BE136: =IF(N136="základní",J136,0) -> 0 | BF136: =IF(N136="snížená",J136,0) -> 0 | BG136: =IF(N136="zákl. přenesená",J136,0) -> 0 | BH136: =IF(N136="sníž. přenesená",J136,0) -> 0 | BI136: =IF(N136="nulová",J136,0) -> 0 | BJ136: 1 | BK136: =ROUND(I136*H136,2) -> 0 | BL136: 16 | BM136: -326048576
C137: 5 | D137: M | E137: 01-005 | F137: Schránka na dokumentaci A4 | G137: ks | H137: 1 | J137: =ROUND(I137*H137,2) -> 0 | N137: základní | P137: =O137*H137 -> 0 | Q137: 0 | R137: =Q137*H137 -> 0 | S137: 0 | T137: =S137*H137 -> 0 | AR137: 32 | AT137: M | AU137: 2 | AY137: ROZPOCET | BE137: =IF(N137="základní",J137,0) -> 0 | BF137: =IF(N137="snížená",J137,0) -> 0 | BG137: =IF(N137="zákl. přenesená",J137,0) -> 0 | BH137: =IF(N137="sníž. přenesená",J137,0) -> 0 | BI137: =IF(N137="nulová",J137,0) -> 0 | BJ137: 1 | BK137: =ROUND(I137*H137,2) -> 0 | BL137: 16 | BM137: 843904251
C138: 6 | D138: M | E138: 01-006 | F138: Zámková vložka, Doppelbart (motýlek) 3mm | G138: ks | H138: 1 | J138: =ROUND(I138*H138,2) -> 0 | N138: základní | P138: =O138*H138 -> 0 | Q138: 0 | R138: =Q138*H138 -> 0 | S138: 0 | T138: =S138*H138 -> 0 | AR138: 32 | AT138: M | AU138: 2 | AY138: ROZPOCET | BE138: =IF(N138="základní",J138,0) -> 0 | BF138: =IF(N138="snížená",J138,0) -> 0 | BG138: =IF(N138="zákl. přenesená",J138,0) -> 0 | BH138: =IF(N138="sníž. přenesená",J138,0) -> 0 | BI138: =IF(N138="nulová",J138,0) -> 0 | BJ138: 1 | BK138: =ROUND(I138*H138,2) -> 0 | BL138: 16 | BM138: -1986583316
C139: 7 | D139: M | E139: 01-008 | F139: DIN lišta přístrojová hliníková, šířka skříně = 1000, šířka lišty = 888 (46 modulů) | G139: ks | H139: 10 | J139: =ROUND(I139*H139,2) -> 0 | N139: základní | P139: =O139*H139 -> 0 | Q139: 0 | R139: =Q139*H139 -> 0 | S139: 0 | T139: =S139*H139 -> 0 | AR139: 32 | AT139: M | AU139: 2 | AY139: ROZPOCET | BE139: =IF(N139="základní",J139,0) -> 0 | BF139: =IF(N139="snížená",J139,0) -> 0 | BG139: =IF(N139="zákl. přenesená",J139,0) -> 0 | BH139: =IF(N139="sníž. přenesená",J139,0) -> 0 | BI139: =IF(N139="nulová",J139,0) -> 0 | BJ139: 1 | BK139: =ROUND(I139*H139,2) -> 0 | BL139: 16 | BM139: -1309575888
C140: 8 | D140: M | E140: 01-009 | F140: Uzemňovací sada pro vytvoření hlavní uzemňovací sběrnice, 20x5mm včetně svorek, Š=1000, V=80 | G140: ks | H140: 1 | J140: =ROUND(I140*H140,2) -> 0 | N140: základní | P140: =O140*H140 -> 0 | Q140: 0 | R140: =Q140*H140 -> 0 | S140: 0 | T140: =S140*H140 -> 0 | AR140: 32 | AT140: M | AU140: 2 | AY140: ROZPOCET | BE140: =IF(N140="základní",J140,0) -> 0 | BF140: =IF(N140="snížená",J140,0) -> 0 | BG140: =IF(N140="zákl. přenesená",J140,0) -> 0 | BH140: =IF(N140="sníž. přenesená",J140,0) -> 0 | BI140: =IF(N140="nulová",J140,0) -> 0 | BJ140: 1 | BK140: =ROUND(I140*H140,2) -> 0 | BL140: 16 | BM140: -1937877332
C141: 9 | D141: M | E141: 01-010 | F141: Montážní panel pro 9xNZM1, vertikální montáž, Š=1000 | G141: ks | H141: 1 | J141: =ROUND(I141*H141,2) -> 0 | N141: základní | P141: =O141*H141 -> 0 | Q141: 0 | R141: =Q141*H141 -> 0 | S141: 0 | T141: =S141*H141 -> 0 | AR141: 32 | AT141: M | AU141: 2 | AY141: ROZPOCET | BE141: =IF(N141="základní",J141,0) -> 0 | BF141: =IF(N141="snížená",J141,0) -> 0 | BG141: =IF(N141="zákl. přenesená",J141,0) -> 0 | BH141: =IF(N141="sníž. přenesená",J141,0) -> 0 | BI141: =IF(N141="nulová",J141,0) -> 0 | BJ141: 1 | BK141: =ROUND(I141*H141,2) -> 0 | BL141: 16 | BM141: -2112530026
C142: 10 | D142: M | E142: 01-011 | F142: Držák lišty/mont desky, nastav.hloubka (sada 1pár) | G142: ks | H142: 1 | J142: =ROUND(I142*H142,2) -> 0 | N142: základní | P142: =O142*H142 -> 0 | Q142: 0 | R142: =Q142*H142 -> 0 | S142: 0 | T142: =S142*H142 -> 0 | AR142: 32 | AT142: M | AU142: 2 | AY142: ROZPOCET | BE142: =IF(N142="základní",J142,0) -> 0 | BF142: =IF(N142="snížená",J142,0) -> 0 | BG142: =IF(N142="zákl. přenesená",J142,0) -> 0 | BH142: =IF(N142="sníž. přenesená",J142,0) -> 0 | BI142: =IF(N142="nulová",J142,0) -> 0 | BJ142: 1 | BK142: =ROUND(I142*H142,2) -> 0 | BL142: 16 | BM142: 866866822
C143: 11 | D143: M | E143: 01-012 | F143: Upevňovací úchytka s vodivým propojení (zelená) | G143: ks | H143: 1 | J143: =ROUND(I143*H143,2) -> 0 | N143: základní | P143: =O143*H143 -> 0 | Q143: 0 | R143: =Q143*H143 -> 0 | S143: 0 | T143: =S143*H143 -> 0 | AR143: 32 | AT143: M | AU143: 2 | AY143: ROZPOCET | BE143: =IF(N143="základní",J143,0) -> 0 | BF143: =IF(N143="snížená",J143,0) -> 0 | BG143: =IF(N143="zákl. přenesená",J143,0) -> 0 | BH143: =IF(N143="sníž. přenesená",J143,0) -> 0 | BI143: =IF(N143="nulová",J143,0) -> 0 | BJ143: 1 | BK143: =ROUND(I143*H143,2) -> 0 | BL143: 16 | BM143: -276793305
C144: 12 | D144: M | E144: 01-013 | F144: Upevňovací úchytka celoplastová (bílá) | G144: ks | H144: 1 | J144: =ROUND(I144*H144,2) -> 0 | N144: základní | P144: =O144*H144 -> 0 | Q144: 0 | R144: =Q144*H144 -> 0 | S144: 0 | T144: =S144*H144 -> 0 | AR144: 32 | AT144: M | AU144: 2 | AY144: ROZPOCET | BE144: =IF(N144="základní",J144,0) -> 0 | BF144: =IF(N144="snížená",J144,0) -> 0 | BG144: =IF(N144="zákl. přenesená",J144,0) -> 0 | BH144: =IF(N144="sníž. přenesená",J144,0) -> 0 | BI144: =IF(N144="nulová",J144,0) -> 0 | BJ144: 1 | BK144: =ROUND(I144*H144,2) -> 0 | BL144: 16 | BM144: 207517636
... C174: 42 | D174: K | E174: 01-043 | F174: Sestavení rozvaděče včetně kusového ověření, štítku a certifikace | G174: kpl | H174: 1 | J174: =ROUND(I174*H174,2) -> 0 | N174: základní | P174: =O174*H174 -> 0 | Q174: 0 | R174: =Q174*H174 -> 0 | S174: 0 | T174: =S174*H174 -> 0 | AR174: 16 | AT174: K | AU174: 2 | AY174: ROZPOCET | BE174: =IF(N174="základní",J174,0) -> 0 | BF174: =IF(N174="snížená",J174,0) -> 0 | BG174: =IF(N174="zákl. přenesená",J174,0) -> 0 | BH174: =IF(N174="sníž. přenesená",J174,0) -> 0 | BI174: =IF(N174="nulová",J174,0) -> 0 | BJ174: 1 | BK174: =ROUND(I174*H174,2) -> 0 | BL174: 16 | BM174: -359803199
D175: D | E175: 741.02 | F175: Rozvaděč RP | J175: =BK175 -> 0 | P175: =SUM(P176:P214) -> 0 | R175: =SUM(R176:R214) -> 0 | T175: =SUM(T176:T214) -> 0 | AR175: 2 | AT175: D | AU175: 1 | AY175: ROZPOCET | BK175: =SUM(BK176:BK214) -> 0
C176: 43 | D176: M | E176: 02-001 | F176: Skříň s dveřmi, výklopná klika, IP30, šedá, na podlahu, ŠxVxH=800x2060x300 | G176: ks | H176: 1 | J176: =ROUND(I176*H176,2) -> 0 | N176: základní | P176: =O176*H176 -> 0 | Q176: 0 | R176: =Q176*H176 -> 0 | S176: 0 | T176: =S176*H176 -> 0 | AR176: 32 | AT176: M | AU176: 2 | AY176: ROZPOCET | BE176: =IF(N176="základní",J176,0) -> 0 | BF176: =IF(N176="snížená",J176,0) -> 0 | BG176: =IF(N176="zákl. přenesená",J176,0) -> 0 | BH176: =IF(N176="sníž. přenesená",J176,0) -> 0 | BI176: =IF(N176="nulová",J176,0) -> 0 | BJ176: 1 | BK176: =ROUND(I176*H176,2) -> 0 | BL176: 16 | BM176: 382854971
C177: 44 | D177: M | E177: 02-002 | F177: Držák krycích desek ProfiSNAP, výška 1950, sada 1 pár | G177: ks | H177: 1 | J177: =ROUND(I177*H177,2) -> 0 | N177: základní | P177: =O177*H177 -> 0 | Q177: 0 | R177: =Q177*H177 -> 0 | S177: 0 | T177: =S177*H177 -> 0 | AR177: 32 | AT177: M | AU177: 2 | AY177: ROZPOCET | BE177: =IF(N177="základní",J177,0) -> 0 | BF177: =IF(N177="snížená",J177,0) -> 0 | BG177: =IF(N177="zákl. přenesená",J177,0) -> 0 | BH177: =IF(N177="sníž. přenesená",J177,0) -> 0 | BI177: =IF(N177="nulová",J177,0) -> 0 | BJ177: 1 | BK177: =ROUND(I177*H177,2) -> 0 | BL177: 16 | BM177: -1277165055
C178: 45 | D178: M | E178: 02-003 | F178: Podstavec bok, max. 250kg, šedá V=100, pár bez výřezů, pro skříň IP30, na podlahu, Hl=300 | G178: ks | H178: 1 | J178: =ROUND(I178*H178,2) -> 0 | N178: základní | P178: =O178*H178 -> 0 | Q178: 0 | R178: =Q178*H178 -> 0 | S178: 0 | T178: =S178*H178 -> 0 | AR178: 32 | AT178: M | AU178: 2 | AY178: ROZPOCET | BE178: =IF(N178="základní",J178,0) -> 0 | BF178: =IF(N178="snížená",J178,0) -> 0 | BG178: =IF(N178="zákl. přenesená",J178,0) -> 0 | BH178: =IF(N178="sníž. přenesená",J178,0) -> 0 | BI178: =IF(N178="nulová",J178,0) -> 0 | BJ178: 1 | BK178: =ROUND(I178*H178,2) -> 0 | BL178: 16 | BM178: 1524489440
C179: 46 | D179: M | E179: 02-004 | F179: Čelní kryt pro podstavec, šedý, V=100, Š=800 | G179: ks | H179: 2 | J179: =ROUND(I179*H179,2) -> 0 | N179: základní | P179: =O179*H179 -> 0 | Q179: 0 | R179: =Q179*H179 -> 0 | S179: 0 | T179: =S179*H179 -> 0 | AR179: 32 | AT179: M | AU179: 2 | AY179: ROZPOCET | BE179: =IF(N179="základní",J179,0) -> 0 | BF179: =IF(N179="snížená",J179,0) -> 0 | BG179: =IF(N179="zákl. přenesená",J179,0) -> 0 | BH179: =IF(N179="sníž. přenesená",J179,0) -> 0 | BI179: =IF(N179="nulová",J179,0) -> 0 | BJ179: 1 | BK179: =ROUND(I179*H179,2) -> 0 | BL179: 16 | BM179: -53829374
C180: 47 | D180: M | E180: 02-005 | F180: Schránka na dokumentaci A4 | G180: ks | H180: 1 | J180: =ROUND(I180*H180,2) -> 0 | N180: základní | P180: =O180*H180 -> 0 | Q180: 0 | R180: =Q180*H180 -> 0 | S180: 0 | T180: =S180*H180 -> 0 | AR180: 32 | AT180: M | AU180: 2 | AY180: ROZPOCET | BE180: =IF(N180="základní",J180,0) -> 0 | BF180: =IF(N180="snížená",J180,0) -> 0 | BG180: =IF(N180="zákl. přenesená",J180,0) -> 0 | BH180: =IF(N180="sníž. přenesená",J180,0) -> 0 | BI180: =IF(N180="nulová",J180,0) -> 0 | BJ180: 1 | BK180: =ROUND(I180*H180,2) -> 0 | BL180: 16 | BM180: -1746165982
C181: 48 | D181: M | E181: 02-006 | F181: Zámková vložka, Doppelbart (motýlek) 3mm | G181: ks | H181: 1 | J181: =ROUND(I181*H181,2) -> 0 | N181: základní | P181: =O181*H181 -> 0 | Q181: 0 | R181: =Q181*H181 -> 0 | S181: 0 | T181: =S181*H181 -> 0 | AR181: 32 | AT181: M | AU181: 2 | AY181: ROZPOCET | BE181: =IF(N181="základní",J181,0) -> 0 | BF181: =IF(N181="snížená",J181,0) -> 0 | BG181: =IF(N181="zákl. přenesená",J181,0) -> 0 | BH181: =IF(N181="sníž. přenesená",J181,0) -> 0 | BI181: =IF(N181="nulová",J181,0) -> 0 | BJ181: 1 | BK181: =ROUND(I181*H181,2) -> 0 | BL181: 16 | BM181: -689377071
C182: 49 | D182: M | E182: 02-007 | F182: DIN lišta přístrojová hliníková, šířka skříně = 800, šířka lišty = 688 (35 modulů) | G182: ks | H182: 10 | J182: =ROUND(I182*H182,2) -> 0 | N182: základní | P182: =O182*H182 -> 0 | Q182: 0 | R182: =Q182*H182 -> 0 | S182: 0 | T182: =S182*H182 -> 0 | AR182: 32 | AT182: M | AU182: 2 | AY182: ROZPOCET | BE182: =IF(N182="základní",J182,0) -> 0 | BF182: =IF(N182="snížená",J182,0) -> 0 | BG182: =IF(N182="zákl. přenesená",J182,0) -> 0 | BH182: =IF(N182="sníž. přenesená",J182,0) -> 0 | BI182: =IF(N182="nulová",J182,0) -> 0 | BJ182: 1 | BK182: =ROUND(I182*H182,2) -> 0 | BL182: 16 | BM182: 1055856148
C183: 50 | D183: M | E183: 02-008 | F183: Uzemňovací sada pro vytvoření hlavní uzemňovací sběrnice, 20x5mm včetně svorek, Š=800, V=80 | G183: ks | H183: 1 | J183: =ROUND(I183*H183,2) -> 0 | N183: základní | P183: =O183*H183 -> 0 | Q183: 0 | R183: =Q183*H183 -> 0 | S183: 0 | T183: =S183*H183 -> 0 | AR183: 32 | AT183: M | AU183: 2 | AY183: ROZPOCET | BE183: =IF(N183="základní",J183,0) -> 0 | BF183: =IF(N183="snížená",J183,0) -> 0 | BG183: =IF(N183="zákl. přenesená",J183,0) -> 0 | BH183: =IF(N183="sníž. přenesená",J183,0) -> 0 | BI183: =IF(N183="nulová",J183,0) -> 0 | BJ183: 1 | BK183: =ROUND(I183*H183,2) -> 0 | BL183: 16 | BM183: 135335868
C184: 51 | D184: M | E184: 02-009 | F184: Montážní sada ProfiSNAP pro 1x NZM1 3pól/4pól vertikálně, šedá, V=200, skříň Š=800 | G184: ks | H184: 1 | J184: =ROUND(I184*H184,2) -> 0 | N184: základní | P184: =O184*H184 -> 0 | Q184: 0 | R184: =Q184*H184 -> 0 | S184: 0 | T184: =S184*H184 -> 0 | AR184: 32 | AT184: M | AU184: 2 | AY184: ROZPOCET | BE184: =IF(N184="základní",J184,0) -> 0 | BF184: =IF(N184="snížená",J184,0) -> 0 | BG184: =IF(N184="zákl. přenesená",J184,0) -> 0 | BH184: =IF(N184="sníž. přenesená",J184,0) -> 0 | BI184: =IF(N184="nulová",J184,0) -> 0 | BJ184: 1 | BK184: =ROUND(I184*H184,2) -> 0 | BL184: 16 | BM184: 1817656451
C185: 52 | D185: M | E185: 02-010 | F185: Držák lišty/mont desky, nastav.hloubka (sada 1pár) | G185: ks | H185: 1 | J185: =ROUND(I185*H185,2) -> 0 | N185: základní | P185: =O185*H185 -> 0 | Q185: 0 | R185: =Q185*H185 -> 0 | S185: 0 | T185: =S185*H185 -> 0 | AR185: 32 | AT185: M | AU185: 2 | AY185: ROZPOCET | BE185: =IF(N185="základní",J185,0) -> 0 | BF185: =IF(N185="snížená",J185,0) -> 0 | BG185: =IF(N185="zákl. přenesená",J185,0) -> 0 | BH185: =IF(N185="sníž. přenesená",J185,0) -> 0 | BI185: =IF(N185="nulová",J185,0) -> 0 | BJ185: 1 | BK185: =ROUND(I185*H185,2) -> 0 | BL185: 16 | BM185: -1170830641
C186: 53 | D186: M | E186: 02-011 | F186: Upevňovací úchytka s vodivým propojení (zelená) | G186: ks | H186: 1 | J186: =ROUND(I186*H186,2) -> 0 | N186: základní | P186: =O186*H186 -> 0 | Q186: 0 | R186: =Q186*H186 -> 0 | S186: 0 | T186: =S186*H186 -> 0 | AR186: 32 | AT186: M | AU186: 2 | AY186: ROZPOCET | BE186: =IF(N186="základní",J186,0) -> 0 | BF186: =IF(N186="snížená",J186,0) -> 0 | BG186: =IF(N186="zákl. přenesená",J186,0) -> 0 | BH186: =IF(N186="sníž. přenesená",J186,0) -> 0 | BI186: =IF(N186="nulová",J186,0) -> 0 | BJ186: 1 | BK186: =ROUND(I186*H186,2) -> 0 | BL186: 16 | BM186: 723936811
C187: 54 | D187: M | E187: 02-012 | F187: Upevňovací úchytka celoplastová (bílá) | G187: ks | H187: 1 | J187: =ROUND(I187*H187,2) -> 0 | N187: základní | P187: =O187*H187 -> 0 | Q187: 0 | R187: =Q187*H187 -> 0 | S187: 0 | T187: =S187*H187 -> 0 | AR187: 32 | AT187: M | AU187: 2 | AY187: ROZPOCET | BE187: =IF(N187="základní",J187,0) -> 0 | BF187: =IF(N187="snížená",J187,0) -> 0 | BG187: =IF(N187="zákl. přenesená",J187,0) -> 0 | BH187: =IF(N187="sníž. přenesená",J187,0) -> 0 | BI187: =IF(N187="nulová",J187,0) -> 0 | BJ187: 1 | BK187: =ROUND(I187*H187,2) -> 0 | BL187: 16 | BM187: 1494518538
... C214: 81 | D214: K | E214: 02-039 | F214: Sestavení rozvaděče včetně kusového ověření, štítku a certifikace | G214: kpl | H214: 1 | J214: =ROUND(I214*H214,2) -> 0 | N214: základní | P214: =O214*H214 -> 0 | Q214: 0 | R214: =Q214*H214 -> 0 | S214: 0 | T214: =S214*H214 -> 0 | AR214: 16 | AT214: K | AU214: 2 | AY214: ROZPOCET | BE214: =IF(N214="základní",J214,0) -> 0 | BF214: =IF(N214="snížená",J214,0) -> 0 | BG214: =IF(N214="zákl. přenesená",J214,0) -> 0 | BH214: =IF(N214="sníž. přenesená",J214,0) -> 0 | BI214: =IF(N214="nulová",J214,0) -> 0 | BJ214: 1 | BK214: =ROUND(I214*H214,2) -> 0 | BL214: 16 | BM214: -1442745541
D215: D | E215: 741.03 | F215: Rozvaděč RTM1+RTM2 | J215: =BK215 -> 0 | P215: =SUM(P216:P232) -> 0 | R215: =SUM(R216:R232) -> 0 | T215: =SUM(T216:T232) -> 0 | AR215: 2 | AT215: D | AU215: 1 | AY215: ROZPOCET | BK215: =SUM(BK216:BK232) -> 0
C216: 82 | D216: M | E216: 03-001 | F216: Rozvaděč RTM1+RTM2 - skříň (1260x800x262,5) VxŠxH celoplechový, montáž pod omítku (včetně krycích desek a montážních lišt) | G216: ks | H216: 1 | J216: =ROUND(I216*H216,2) -> 0 | N216: základní | P216: =O216*H216 -> 0 | Q216: 0 | R216: =Q216*H216 -> 0 | S216: 0 | T216: =S216*H216 -> 0 | AR216: 32 | AT216: M | AU216: 2 | AY216: ROZPOCET | BE216: =IF(N216="základní",J216,0) -> 0 | BF216: =IF(N216="snížená",J216,0) -> 0 | BG216: =IF(N216="zákl. přenesená",J216,0) -> 0 | BH216: =IF(N216="sníž. přenesená",J216,0) -> 0 | BI216: =IF(N216="nulová",J216,0) -> 0 | BJ216: 1 | BK216: =ROUND(I216*H216,2) -> 0 | BL216: 16 | BM216: -1084444850
C217: 83 | D217: M | E217: 03-002 | F217: Hlavní vypínač, 3pól, In=63A | G217: ks | H217: 1 | J217: =ROUND(I217*H217,2) -> 0 | N217: základní | P217: =O217*H217 -> 0 | Q217: 0 | R217: =Q217*H217 -> 0 | S217: 0 | T217: =S217*H217 -> 0 | AR217: 32 | AT217: M | AU217: 2 | AY217: ROZPOCET | BE217: =IF(N217="základní",J217,0) -> 0 | BF217: =IF(N217="snížená",J217,0) -> 0 | BG217: =IF(N217="zákl. přenesená",J217,0) -> 0 | BH217: =IF(N217="sníž. přenesená",J217,0) -> 0 | BI217: =IF(N217="nulová",J217,0) -> 0 | BJ217: 1 | BK217: =ROUND(I217*H217,2) -> 0 | BL217: 16 | BM217: -904757840
C218: 84 | D218: M | E218: 03-003 | F218: Jistič PL7, char C, 3-pólový, Icn=10kA, In=32A | G218: ks | H218: 1 | J218: =ROUND(I218*H218,2) -> 0 | N218: základní | P218: =O218*H218 -> 0 | Q218: 0 | R218: =Q218*H218 -> 0 | S218: 0 | T218: =S218*H218 -> 0 | AR218: 32 | AT218: M | AU218: 2 | AY218: ROZPOCET | BE218: =IF(N218="základní",J218,0) -> 0 | BF218: =IF(N218="snížená",J218,0) -> 0 | BG218: =IF(N218="zákl. přenesená",J218,0) -> 0 | BH218: =IF(N218="sníž. přenesená",J218,0) -> 0 | BI218: =IF(N218="nulová",J218,0) -> 0 | BJ218: 1 | BK218: =ROUND(I218*H218,2) -> 0 | BL218: 16 | BM218: -926127408
C219: 85 | D219: M | E219: 03-004 | F219: Hlavní vypínač, 3pól, In=40A | G219: ks | H219: 1 | J219: =ROUND(I219*H219,2) -> 0 | N219: základní | P219: =O219*H219 -> 0 | Q219: 0 | R219: =Q219*H219 -> 0 | S219: 0 | T219: =S219*H219 -> 0 | AR219: 32 | AT219: M | AU219: 2 | AY219: ROZPOCET | BE219: =IF(N219="základní",J219,0) -> 0 | BF219: =IF(N219="snížená",J219,0) -> 0 | BG219: =IF(N219="zákl. přenesená",J219,0) -> 0 | BH219: =IF(N219="sníž. přenesená",J219,0) -> 0 | BI219: =IF(N219="nulová",J219,0) -> 0 | BJ219: 1 | BK219: =ROUND(I219*H219,2) -> 0 | BL219: 16 | BM219: 1048222019
C220: 86 | D220: M | E220: 03-005 | F220: Chránič s nadproudovou ochranou, Ir=250A+puls.SS, A, 1+N, 10kA, char.B, Idn=0.03A, In=16A | G220: ks | H220: 4 | J220: =ROUND(I220*H220,2) -> 0 | N220: základní | P220: =O220*H220 -> 0 | Q220: 0 | R220: =Q220*H220 -> 0 | S220: 0 | T220: =S220*H220 -> 0 | AR220: 32 | AT220: M | AU220: 2 | AY220: ROZPOCET | BE220: =IF(N220="základní",J220,0) -> 0 | BF220: =IF(N220="snížená",J220,0) -> 0 | BG220: =IF(N220="zákl. přenesená",J220,0) -> 0 | BH220: =IF(N220="sníž. přenesená",J220,0) -> 0 | BI220: =IF(N220="nulová",J220,0) -> 0 | BJ220: 1 | BK220: =ROUND(I220*H220,2) -> 0 | BL220: 16 | BM220: 1237568040
C221: 87 | D221: M | E221: 03-006 | F221: Chránič s nadproudovou ochranou, Ir=250A+puls.SS, A, 1+N, 10kA, char.B, Idn=0.03A, In=6A | G221: ks | H221: 1 | J221: =ROUND(I221*H221,2) -> 0 | N221: základní | P221: =O221*H221 -> 0 | Q221: 0 | R221: =Q221*H221 -> 0 | S221: 0 | T221: =S221*H221 -> 0 | AR221: 32 | AT221: M | AU221: 2 | AY221: ROZPOCET | BE221: =IF(N221="základní",J221,0) -> 0 | BF221: =IF(N221="snížená",J221,0) -> 0 | BG221: =IF(N221="zákl. přenesená",J221,0) -> 0 | BH221: =IF(N221="sníž. přenesená",J221,0) -> 0 | BI221: =IF(N221="nulová",J221,0) -> 0 | BJ221: 1 | BK221: =ROUND(I221*H221,2) -> 0 | BL221: 16 | BM221: 1423648805
...

Sheet 09 - HROMOSVOD A UZEMNĚNÍ
AT2: {feddf7dc-5e38-4770-9f77-7a061e5fed50}
AT3: 2
D4: KRYCÍ LIST SOUPISU PRACÍ | M4: v --- níže se nacházejí doplnkové a pomocné údaje k sestavám --- v | AT4: False
D6: Stavba:
E7: ='Rekapitulace stavby'!K6 -> MŠ KOVÁŘSKÁ II - REKONSTRUKCE OBJEKTU
D8: Objekt:
E9: 09 - HROMOSVOD A UZEMNĚNÍ
D11: KSO: | I11: CC-CZ:
D12: Místo: | F12: U Školičky 2176/1, 2177/3, Praha 9 | I12: Datum: | J12: ='Rekapitulace stavby'!AN8 -> 19. 12. 2025
D14: Zadavatel: | I14: IČ:
E15: MČ Praha 9 | I15: DIČ:
D17: Uchazeč: | I17: IČ: | J17: ='Rekapitulace stavby'!AN13 -> Vyplň údaj
E18: ='Rekapitulace stavby'!E14 -> Vyplň údaj | I18: DIČ: | J18: ='Rekapitulace stavby'!AN14 -> Vyplň údaj
D20: Projektant: | I20: IČ:
E21: ArtStat s.r.o. | I21: DIČ:
D23: Zpracovatel: | I23: IČ:
E24: Vladimír Mrázek | I24: DIČ:
D26: Poznámka:
D30: Cena bez DPH | J30: =ROUND(J120, 2) -> 0
F32: Základ daně | I32: Sazba daně | J32: Výše daně
D33: DPH | E33: základní | F33: =ROUND((SUM(BE120:BE159)), 2) -> 0 | I33: 0.21 | J33: =ROUND(((SUM(BE120:BE159))*I33), 2) -> 0
E34: snížená | F34: =ROUND((SUM(BF120:BF159)), 2) -> 0 | I34: 0.12 | J34: =ROUND(((SUM(BF120:BF159))*I34), 2) -> 0
E35: zákl. přenesená | F35: =ROUND((SUM(BG120:BG159)), 2) -> 0 | I35: 0.21 | J35: =0 -> 0
E36: sníž. přenesená | F36: =ROUND((SUM(BH120:BH159)), 2) -> 0 | I36: 0.12 | J36: =0 -> 0
E37: nulová | F37: =ROUND((SUM(BI120:BI159)), 2) -> 0 | I37: 0 | J37: =0 -> 0
D39: Cena s DPH | G39: v | H39: CZK | J39: =SUM(J30:J37) -> 0
D50: Projektant | G50: Zpracovatel
D61: Datum a podpis: | F61: Razítko | G61: Datum a podpis: | J61: Razítko
D65: Objednavatel | G65: Uchazeč
D76: Datum a podpis: | F76: Razítko | G76: Datum a podpis: | J76: Razítko
C82: REKAPITULACE ČLENĚNÍ SOUPISU PRACÍ
C84: Stavba:
E85: =E7 -> MŠ KOVÁŘSKÁ II - REKONSTRUKCE OBJEKTU
C86: Objekt:
E87: =E9 -> 09 - HROMOSVOD A UZEMNĚNÍ
C89: Místo: | F89: =F12 -> U Školičky 2176/1, 2177/3, Praha 9 | I89: Datum: | J89: =IF(J12="","",J12) -> 19. 12. 2025
C91: Zadavatel: | F91: =E15 -> MČ Praha 9 | I91: Projektant: | J91: =E21 -> ArtStat s.r.o.
C92: Uchazeč: | F92: =IF(E18="","",E18) -> Vyplň údaj | I92: Zpracovatel: | J92: =E24 -> Vladimír Mrázek
C94: Kód dílu - Popis | J94: Cena celkem [CZK]
C96: Náklady ze soupisu prací | J96: =J120 -> 0 | AU96: -1
D97: PSV - Práce a dodávky PSV - EL - Hromosvod a uzemnění | J97: =J121 -> 0
D98: 741.21 - Uzemnění | J98: =J122 -> 0
D99: 741.22 - Hromosvod | J99: =J135 -> 0
D100: 741.23 - Ostatní | J100: =J156 -> 0
C107: SOUPIS PRACÍ
C109: Stavba:
E110: =E7 -> MŠ KOVÁŘSKÁ II - REKONSTRUKCE OBJEKTU
C111: Objekt:
E112: =E9 -> 09 - HROMOSVOD A UZEMNĚNÍ
C114: Místo: | F114: =F12 -> U Školičky 2176/1, 2177/3, Praha 9 | I114: Datum: | J114: =IF(J12="","",J12) -> 19. 12. 2025
C116: Zadavatel: | F116: =E15 -> MČ Praha 9 | I116: Projektant: | J116: =E21 -> ArtStat s.r.o.
C117: Uchazeč: | F117: =IF(E18="","",E18) -> Vyplň údaj | I117: Zpracovatel: | J117: =E24 -> Vladimír Mrázek
C119: PČ | D119: Typ | E119: Kód | F119: Popis | G119: MJ | H119: Množství | I119: J.cena [CZK] | J119: Cena celkem [CZK] | K119: Cenová soustava | N119: DPH | O119: J. Nh [h] | P119: Nh celkem [h] | Q119: J. hmotnost [t] | R119: Hmotnost celkem [t] | S119: J. suť [t] | T119: Suť Celkem [t]
C120: Náklady soupisu celkem | J120: =BK120 -> 0 | P120: =P121 -> 0 | R120: =R121 -> 0 | T120: =T121 -> 0 | AT120: D | AU120: -1 | BK120: =BK121 -> 0
D121: D | E121: PSV | F121: Práce a dodávky PSV - EL - Hromosvod a uzemnění | J121: =BK121 -> 0 | P121: =P122+P135+P156 -> 0 | R121: =R122+R135+R156 -> 0 | T121: =T122+T135+T156 -> 0 | AR121: 2 | AT121: D | AU121: 0 | AY121: ROZPOCET | BK121: =BK122+BK135+BK156 -> 0
D122: D | E122: 741.21 | F122: Uzemnění | J122: =BK122 -> 0 | P122: =SUM(P123:P134) -> 0 | R122: =SUM(R123:R134) -> 0 | T122: =SUM(T123:T134) -> 0 | AR122: 2 | AT122: D | AU122: 1 | AY122: ROZPOCET | BK122: =SUM(BK123:BK134) -> 0
C123: 1 | D123: K | E123: 08-001 | F123: Montáž uzemnění | G123: kpl | H123: 1 | J123: =ROUND(I123*H123,2) -> 0 | N123: základní | P123: =O123*H123 -> 0 | Q123: 0 | R123: =Q123*H123 -> 0 | S123: 0 | T123: =S123*H123 -> 0 | AR123: 16 | AT123: K | AU123: 2 | AY123: ROZPOCET | BE123: =IF(N123="základní",J123,0) -> 0 | BF123: =IF(N123="snížená",J123,0) -> 0 | BG123: =IF(N123="zákl. přenesená",J123,0) -> 0 | BH123: =IF(N123="sníž. přenesená",J123,0) -> 0 | BI123: =IF(N123="nulová",J123,0) -> 0 | BJ123: 1 | BK123: =ROUND(I123*H123,2) -> 0 | BL123: 16 | BM123: 408142860
C124: 2 | D124: M | E124: 08-101 | F124: Pásek zemnící FeZn 30x4 | G124: m | H124: 300 | J124: =ROUND(I124*H124,2) -> 0 | N124: základní | P124: =O124*H124 -> 0 | Q124: 0 | R124: =Q124*H124 -> 0 | S124: 0 | T124: =S124*H124 -> 0 | AR124: 32 | AT124: M | AU124: 2 | AY124: ROZPOCET | BE124: =IF(N124="základní",J124,0) -> 0 | BF124: =IF(N124="snížená",J124,0) -> 0 | BG124: =IF(N124="zákl. přenesená",J124,0) -> 0 | BH124: =IF(N124="sníž. přenesená",J124,0) -> 0 | BI124: =IF(N124="nulová",J124,0) -> 0 | BJ124: 1 | BK124: =ROUND(I124*H124,2) -> 0 | BL124: 16 | BM124: -1478942337
C125: 3 | D125: M | E125: 08-102 | F125: Drát zemnící FeZn 10 mm s umělohmotnou izolací | G125: m | H125: 15 | J125: =ROUND(I125*H125,2) -> 0 | N125: základní | P125: =O125*H125 -> 0 | Q125: 0 | R125: =Q125*H125 -> 0 | S125: 0 | T125: =S125*H125 -> 0 | AR125: 32 | AT125: M | AU125: 2 | AY125: ROZPOCET | BE125: =IF(N125="základní",J125,0) -> 0 | BF125: =IF(N125="snížená",J125,0) -> 0 | BG125: =IF(N125="zákl. přenesená",J125,0) -> 0 | BH125: =IF(N125="sníž. přenesená",J125,0) -> 0 | BI125: =IF(N125="nulová",J125,0) -> 0 | BJ125: 1 | BK125: =ROUND(I125*H125,2) -> 0 | BL125: 16 | BM125: -1019607520
C126: 4 | D126: M | E126: 08-103 | F126: Spojovací svorka pro zemnící pásek/drát FeZn | G126: ks | H126: 8 | J126: =ROUND(I126*H126,2) -> 0 | N126: základní | P126: =O126*H126 -> 0 | Q126: 0 | R126: =Q126*H126 -> 0 | S126: 0 | T126: =S126*H126 -> 0 | AR126: 32 | AT126: M | AU126: 2 | AY126: ROZPOCET | BE126: =IF(N126="základní",J126,0) -> 0 | BF126: =IF(N126="snížená",J126,0) -> 0 | BG126: =IF(N126="zákl. přenesená",J126,0) -> 0 | BH126: =IF(N126="sníž. přenesená",J126,0) -> 0 | BI126: =IF(N126="nulová",J126,0) -> 0 | BJ126: 1 | BK126: =ROUND(I126*H126,2) -> 0 | BL126: 16 | BM126: -124781629
C127: 5 | D127: M | E127: 08-104 | F127: Spojovací svorka pro zemnící pásek/pásek FeZn | G127: ks | H127: 27 | J127: =ROUND(I127*H127,2) -> 0 | N127: základní | P127: =O127*H127 -> 0 | Q127: 0 | R127: =Q127*H127 -> 0 | S127: 0 | T127: =S127*H127 -> 0 | AR127: 32 | AT127: M | AU127: 2 | AY127: ROZPOCET | BE127: =IF(N127="základní",J127,0) -> 0 | BF127: =IF(N127="snížená",J127,0) -> 0 | BG127: =IF(N127="zákl. přenesená",J127,0) -> 0 | BH127: =IF(N127="sníž. přenesená",J127,0) -> 0 | BI127: =IF(N127="nulová",J127,0) -> 0 | BJ127: 1 | BK127: =ROUND(I127*H127,2) -> 0 | BL127: 16 | BM127: 1031636534
C128: 6 | D128: M | E128: 08-105 | F128: Antikorozní ochrana uzemnění | G128: kpl | H128: 1 | J128: =ROUND(I128*H128,2) -> 0 | N128: základní | P128: =O128*H128 -> 0 | Q128: 0 | R128: =Q128*H128 -> 0 | S128: 0 | T128: =S128*H128 -> 0 | AR128: 32 | AT128: M | AU128: 2 | AY128: ROZPOCET | BE128: =IF(N128="základní",J128,0) -> 0 | BF128: =IF(N128="snížená",J128,0) -> 0 | BG128: =IF(N128="zákl. přenesená",J128,0) -> 0 | BH128: =IF(N128="sníž. přenesená",J128,0) -> 0 | BI128: =IF(N128="nulová",J128,0) -> 0 | BJ128: 1 | BK128: =ROUND(I128*H128,2) -> 0 | BL128: 16 | BM128: -1393849653
C129: 7 | D129: M | E129: 08-106 | F129: Zaváděcí tyč FeZn 2,0 m | G129: ks | H129: 6 | J129: =ROUND(I129*H129,2) -> 0 | N129: základní | P129: =O129*H129 -> 0 | Q129: 0 | R129: =Q129*H129 -> 0 | S129: 0 | T129: =S129*H129 -> 0 | AR129: 32 | AT129: M | AU129: 2 | AY129: ROZPOCET | BE129: =IF(N129="základní",J129,0) -> 0 | BF129: =IF(N129="snížená",J129,0) -> 0 | BG129: =IF(N129="zákl. přenesená",J129,0) -> 0 | BH129: =IF(N129="sníž. přenesená",J129,0) -> 0 | BI129: =IF(N129="nulová",J129,0) -> 0 | BJ129: 1 | BK129: =ROUND(I129*H129,2) -> 0 | BL129: 16 | BM129: 913439061
C130: 8 | D130: M | E130: 08-107 | F130: Svorka zkušební nerez | G130: ks | H130: 6 | J130: =ROUND(I130*H130,2) -> 0 | N130: základní | P130: =O130*H130 -> 0 | Q130: 0 | R130: =Q130*H130 -> 0 | S130: 0 | T130: =S130*H130 -> 0 | AR130: 32 | AT130: M | AU130: 2 | AY130: ROZPOCET | BE130: =IF(N130="základní",J130,0) -> 0 | BF130: =IF(N130="snížená",J130,0) -> 0 | BG130: =IF(N130="zákl. přenesená",J130,0) -> 0 | BH130: =IF(N130="sníž. přenesená",J130,0) -> 0 | BI130: =IF(N130="nulová",J130,0) -> 0 | BJ130: 1 | BK130: =ROUND(I130*H130,2) -> 0 | BL130: 16 | BM130: -1324557957
C131: 9 | D131: M | E131: 08-108 | F131: Štítek ke zkušební svorce | G131: ks | H131: 6 | J131: =ROUND(I131*H131,2) -> 0 | N131: základní | P131: =O131*H131 -> 0 | Q131: 0 | R131: =Q131*H131 -> 0 | S131: 0 | T131: =S131*H131 -> 0 | AR131: 32 | AT131: M | AU131: 2 | AY131: ROZPOCET | BE131: =IF(N131="základní",J131,0) -> 0 | BF131: =IF(N131="snížená",J131,0) -> 0 | BG131: =IF(N131="zákl. přenesená",J131,0) -> 0 | BH131: =IF(N131="sníž. přenesená",J131,0) -> 0 | BI131: =IF(N131="nulová",J131,0) -> 0 | BJ131: 1 | BK131: =ROUND(I131*H131,2) -> 0 | BL131: 16 | BM131: 1532693229
C132: 10 | D132: M | E132: 08-109 | F132: Držák zaváděcí tyče do zdiva | G132: ks | H132: 12 | J132: =ROUND(I132*H132,2) -> 0 | N132: základní | P132: =O132*H132 -> 0 | Q132: 0 | R132: =Q132*H132 -> 0 | S132: 0 | T132: =S132*H132 -> 0 | AR132: 32 | AT132: M | AU132: 2 | AY132: ROZPOCET | BE132: =IF(N132="základní",J132,0) -> 0 | BF132: =IF(N132="snížená",J132,0) -> 0 | BG132: =IF(N132="zákl. přenesená",J132,0) -> 0 | BH132: =IF(N132="sníž. přenesená",J132,0) -> 0 | BI132: =IF(N132="nulová",J132,0) -> 0 | BJ132: 1 | BK132: =ROUND(I132*H132,2) -> 0 | BL132: 16 | BM132: -718558595
C133: 11 | D133: M | E133: 08-110 | F133: Svorka k zaváděcí tyči FeZn | G133: ks | H133: 6 | J133: =ROUND(I133*H133,2) -> 0 | N133: základní | P133: =O133*H133 -> 0 | Q133: 0 | R133: =Q133*H133 -> 0 | S133: 0 | T133: =S133*H133 -> 0 | AR133: 32 | AT133: M | AU133: 2 | AY133: ROZPOCET | BE133: =IF(N133="základní",J133,0) -> 0 | BF133: =IF(N133="snížená",J133,0) -> 0 | BG133: =IF(N133="zákl. přenesená",J133,0) -> 0 | BH133: =IF(N133="sníž. přenesená",J133,0) -> 0 | BI133: =IF(N133="nulová",J133,0) -> 0 | BJ133: 1 | BK133: =ROUND(I133*H133,2) -> 0 | BL133: 16 | BM133: 1437882181
C134: 12 | D134: M | E134: 08-111 | F134: Voděodolná těsnicí manžeta pro kruhové vodiče (Ø 8–10 mm) a ploché vodiče (30 x 3,5 mm) pro prostup vodotěsných základových desek/stěn | G134: ks | H134: 1 | J134: =ROUND(I134*H134,2) -> 0 | N134: základní | P134: =O134*H134 -> 0 | Q134: 0 | R134: =Q134*H134 -> 0 | S134: 0 | T134: =S134*H134 -> 0 | AR134: 32 | AT134: M | AU134: 2 | AY134: ROZPOCET | BE134: =IF(N134="základní",J134,0) -> 0 | BF134: =IF(N134="snížená",J134,0) -> 0 | BG134: =IF(N134="zákl. přenesená",J134,0) -> 0 | BH134: =IF(N134="sníž. přenesená",J134,0) -> 0 | BI134: =IF(N134="nulová",J134,0) -> 0 | BJ134: 1 | BK134: =ROUND(I134*H134,2) -> 0 | BL134: 16 | BM134: 1350038505
D135: D | E135: 741.22 | F135: Hromosvod | J135: =BK135 -> 0 | P135: =SUM(P136:P155) -> 0 | R135: =SUM(R136:R155) -> 0 | T135: =SUM(T136:T155) -> 0 | AR135: 2 | AT135: D | AU135: 1 | AY135: ROZPOCET | BK135: =SUM(BK136:BK155) -> 0
C136: 13 | D136: K | E136: 08-002 | F136: Montáž hromosvodu | G136: kpl | H136: 1 | J136: =ROUND(I136*H136,2) -> 0 | N136: základní | P136: =O136*H136 -> 0 | Q136: 0 | R136: =Q136*H136 -> 0 | S136: 0 | T136: =S136*H136 -> 0 | AR136: 16 | AT136: K | AU136: 2 | AY136: ROZPOCET | BE136: =IF(N136="základní",J136,0) -> 0 | BF136: =IF(N136="snížená",J136,0) -> 0 | BG136: =IF(N136="zákl. přenesená",J136,0) -> 0 | BH136: =IF(N136="sníž. přenesená",J136,0) -> 0 | BI136: =IF(N136="nulová",J136,0) -> 0 | BJ136: 1 | BK136: =ROUND(I136*H136,2) -> 0 | BL136: 16 | BM136: -1788786365
C137: 14 | D137: M | E137: 08-112 | F137: Vodič s vysokonapěťovou izolací pro dodržení dostatečné vzdálenosti vůči elektrickým a vodivým částem podle ČSN EN 62305-3; Použití pro nejvyšší dostatečnou vzdálenost s ≤ 75 cm (pro vzduch) nebo s ≤ 150 cm (pro pevný nevodivý materiál). | G137: m | H137: 110 | J137: =ROUND(I137*H137,2) -> 0 | N137: základní | P137: =O137*H137 -> 0 | Q137: 0 | R137: =Q137*H137 -> 0 | S137: 0 | T137: =S137*H137 -> 0 | AR137: 32 | AT137: M | AU137: 2 | AY137: ROZPOCET | BE137: =IF(N137="základní",J137,0) -> 0 | BF137: =IF(N137="snížená",J137,0) -> 0 | BG137: =IF(N137="zákl. přenesená",J137,0) -> 0 | BH137: =IF(N137="sníž. přenesená",J137,0) -> 0 | BI137: =IF(N137="nulová",J137,0) -> 0 | BJ137: 1 | BK137: =ROUND(I137*H137,2) -> 0 | BL137: 16 | BM137: 1062272418
C138: 15 | D138: M | E138: 08-113 | F138: Podpůrná trubka s krátkou jímací tyčí, jímací tyč Ø 10 mm, délka 1000 mm, délka podpůrné trubky 3200 mm, vnější průměr 50 mm; izolační délka 1535 mm | G138: ks | H138: 6 | J138: =ROUND(I138*H138,2) -> 0 | N138: základní | P138: =O138*H138 -> 0 | Q138: 0 | R138: =Q138*H138 -> 0 | S138: 0 | T138: =S138*H138 -> 0 | AR138: 32 | AT138: M | AU138: 2 | AY138: ROZPOCET | BE138: =IF(N138="základní",J138,0) -> 0 | BF138: =IF(N138="snížená",J138,0) -> 0 | BG138: =IF(N138="zákl. přenesená",J138,0) -> 0 | BH138: =IF(N138="sníž. přenesená",J138,0) -> 0 | BI138: =IF(N138="nulová",J138,0) -> 0 | BJ138: 1 | BK138: =ROUND(I138*H138,2) -> 0 | BL138: 16 | BM138: 687257343
C139: 16 | D139: M | E139: 08-114 | F139: Tříramenný stojan pro podpůrné trubky; nerez, poloměr 680 mm; pro Ø 40 a 50 mm; s příložkou pro připojení dvou drátu 8-10 mm; pro sestavení s betonovými podstavci | G139: ks | H139: 6 | J139: =ROUND(I139*H139,2) -> 0 | N139: základní | P139: =O139*H139 -> 0 | Q139: 0 | R139: =Q139*H139 -> 0 | S139: 0 | T139: =S139*H139 -> 0 | AR139: 32 | AT139: M | AU139: 2 | AY139: ROZPOCET | BE139: =IF(N139="základní",J139,0) -> 0 | BF139: =IF(N139="snížená",J139,0) -> 0 | BG139: =IF(N139="zákl. přenesená",J139,0) -> 0 | BH139: =IF(N139="sníž. přenesená",J139,0) -> 0 | BI139: =IF(N139="nulová",J139,0) -> 0 | BJ139: 1 | BK139: =ROUND(I139*H139,2) -> 0 | BL139: 16 | BM139: 1791098281
C140: 17 | D140: M | E140: 08-115 | F140: Upevňovací držák pro podpůrnou trubku na kovovou konstrukci; pro Ø 50 mm; nerez | G140: ks | H140: 6 | J140: =ROUND(I140*H140,2) -> 0 | N140: základní | P140: =O140*H140 -> 0 | Q140: 0 | R140: =Q140*H140 -> 0 | S140: 0 | T140: =S140*H140 -> 0 | AR140: 32 | AT140: M | AU140: 2 | AY140: ROZPOCET | BE140: =IF(N140="základní",J140,0) -> 0 | BF140: =IF(N140="snížená",J140,0) -> 0 | BG140: =IF(N140="zákl. přenesená",J140,0) -> 0 | BH140: =IF(N140="sníž. přenesená",J140,0) -> 0 | BI140: =IF(N140="nulová",J140,0) -> 0 | BJ140: 1 | BK140: =ROUND(I140*H140,2) -> 0 | BL140: 16 | BM140: 465799161
C141: 18 | D141: M | E141: 08-116 | F141: Betonový podstavec 17 kg | G141: ks | H141: 54 | J141: =ROUND(I141*H141,2) -> 0 | N141: základní | P141: =O141*H141 -> 0 | Q141: 0 | R141: =Q141*H141 -> 0 | S141: 0 | T141: =S141*H141 -> 0 | AR141: 32 | AT141: M | AU141: 2 | AY141: ROZPOCET | BE141: =IF(N141="základní",J141,0) -> 0 | BF141: =IF(N141="snížená",J141,0) -> 0 | BG141: =IF(N141="zákl. přenesená",J141,0) -> 0 | BH141: =IF(N141="sníž. přenesená",J141,0) -> 0 | BI141: =IF(N141="nulová",J141,0) -> 0 | BJ141: 1 | BK141: =ROUND(I141*H141,2) -> 0 | BL141: 16 | BM141: 871778947
C142: 19 | D142: M | E142: 08-117 | F142: Plastová podložka pod betonový podstavec | G142: ks | H142: 18 | J142: =ROUND(I142*H142,2) -> 0 | N142: základní | P142: =O142*H142 -> 0 | Q142: 0 | R142: =Q142*H142 -> 0 | S142: 0 | T142: =S142*H142 -> 0 | AR142: 32 | AT142: M | AU142: 2 | AY142: ROZPOCET | BE142: =IF(N142="základní",J142,0) -> 0 | BF142: =IF(N142="snížená",J142,0) -> 0 | BG142: =IF(N142="zákl. přenesená",J142,0) -> 0 | BH142: =IF(N142="sníž. přenesená",J142,0) -> 0 | BI142: =IF(N142="nulová",J142,0) -> 0 | BJ142: 1 | BK142: =ROUND(I142*H142,2) -> 0 | BL142: 16 | BM142: -1433623920
C143: 20 | D143: M | E143: 08-118 | F143: Sada připojovacích prvků pro vodič s vysokonapěťovou izolací; pro uložení vně trubky; pro nejvyšší dostatečnou vzdálenost s ≤ 75 cm (pro vzduch) nebo s ≤ 150 cm (pro pevný nevodivý materiál) | G143: ks | H143: 6 | J143: =ROUND(I143*H143,2) -> 0 | N143: základní | P143: =O143*H143 -> 0 | Q143: 0 | R143: =Q143*H143 -> 0 | S143: 0 | T143: =S143*H143 -> 0 | AR143: 32 | AT143: M | AU143: 2 | AY143: ROZPOCET | BE143: =IF(N143="základní",J143,0) -> 0 | BF143: =IF(N143="snížená",J143,0) -> 0 | BG143: =IF(N143="zákl. přenesená",J143,0) -> 0 | BH143: =IF(N143="sníž. přenesená",J143,0) -> 0 | BI143: =IF(N143="nulová",J143,0) -> 0 | BJ143: 1 | BK143: =ROUND(I143*H143,2) -> 0 | BL143: 16 | BM143: -585658940
C144: 21 | D144: M | E144: 08-119 | F144: Připojovací prvek pro vodič s vysokonapěťovou izolací, pro uložení vně podpůrné trubky; pro nejvyšší dostatečnou vzdálenost s ≤ 75 cm (pro vzduch) nebo s ≤ 150 cm (pro pevný nevodivý materiál) | G144: ks | H144: 2 | J144: =ROUND(I144*H144,2) -> 0 | N144: základní | P144: =O144*H144 -> 0 | Q144: 0 | R144: =Q144*H144 -> 0 | S144: 0 | T144: =S144*H144 -> 0 | AR144: 32 | AT144: M | AU144: 2 | AY144: ROZPOCET | BE144: =IF(N144="základní",J144,0) -> 0 | BF144: =IF(N144="snížená",J144,0) -> 0 | BG144: =IF(N144="zákl. přenesená",J144,0) -> 0 | BH144: =IF(N144="sníž. přenesená",J144,0) -> 0 | BI144: =IF(N144="nulová",J144,0) -> 0 | BJ144: 1 | BK144: =ROUND(I144*H144,2) -> 0 | BL144: 16 | BM144: 137944292
C145: 22 | D145: M | E145: 08-120 | F145: Střešní držák vodiče s vysokonapěťovou izolací pro uložení na plochou střechu, s betonovou zátěží a podložkou, cca 4,57 kg; průměr vodiče 27 mm | G145: ks | H145: 60 | J145: =ROUND(I145*H145,2) -> 0 | N145: základní | P145: =O145*H145 -> 0 | Q145: 0 | R145: =Q145*H145 -> 0 | S145: 0 | T145: =S145*H145 -> 0 | AR145: 32 | AT145: M | AU145: 2 | AY145: ROZPOCET | BE145: =IF(N145="základní",J145,0) -> 0 | BF145: =IF(N145="snížená",J145,0) -> 0 | BG145: =IF(N145="zákl. přenesená",J145,0) -> 0 | BH145: =IF(N145="sníž. přenesená",J145,0) -> 0 | BI145: =IF(N145="nulová",J145,0) -> 0 | BJ145: 1 | BK145: =ROUND(I145*H145,2) -> 0 | BL145: 16 | BM145: 771525152
C146: 23 | D146: M | E146: 08-121 | F146: Držák vodiče s vysokonapěťovou izolací pro připevnění na oplechování, nerez; průměr vodiče 20-23 mm | G146: ks | H146: 6 | J146: =ROUND(I146*H146,2) -> 0 | N146: základní | P146: =O146*H146 -> 0 | Q146: 0 | R146: =Q146*H146 -> 0 | S146: 0 | T146: =S146*H146 -> 0 | AR146: 32 | AT146: M | AU146: 2 | AY146: ROZPOCET | BE146: =IF(N146="základní",J146,0) -> 0 | BF146: =IF(N146="snížená",J146,0) -> 0 | BG146: =IF(N146="zákl. přenesená",J146,0) -> 0 | BH146: =IF(N146="sníž. přenesená",J146,0) -> 0 | BI146: =IF(N146="nulová",J146,0) -> 0 | BJ146: 1 | BK146: =ROUND(I146*H146,2) -> 0 | BL146: 16 | BM146: 1823080678
C147: 24 | D147: M | E147: 08-122 | F147: Držák vodiče s vysokonapěťovou izolací pro připevnění na stěnu, nerez; průměr vodiče 20-23 mm | G147: ks | H147: 48 | J147: =ROUND(I147*H147,2) -> 0 | N147: základní | P147: =O147*H147 -> 0 | Q147: 0 | R147: =Q147*H147 -> 0 | S147: 0 | T147: =S147*H147 -> 0 | AR147: 32 | AT147: M | AU147: 2 | AY147: ROZPOCET | BE147: =IF(N147="základní",J147,0) -> 0 | BF147: =IF(N147="snížená",J147,0) -> 0 | BG147: =IF(N147="zákl. přenesená",J147,0) -> 0 | BH147: =IF(N147="sníž. přenesená",J147,0) -> 0 | BI147: =IF(N147="nulová",J147,0) -> 0 | BJ147: 1 | BK147: =ROUND(I147*H147,2) -> 0 | BL147: 16 | BM147: -54454748
... C155: 32 | D155: M | E155: 08-130 | F155: Podpěra vedení na ploché střechy pro vodič 8 mm | G155: ks | H155: 150 | J155: =ROUND(I155*H155,2) -> 0 | N155: základní | P155: =O155*H155 -> 0 | Q155: 0 | R155: =Q155*H155 -> 0 | S155: 0 | T155: =S155*H155 -> 0 | AR155: 32 | AT155: M | AU155: 2 | AY155: ROZPOCET | BE155: =IF(N155="základní",J155,0) -> 0 | BF155: =IF(N155="snížená",J155,0) -> 0 | BG155: =IF(N155="zákl. přenesená",J155,0) -> 0 | BH155: =IF(N155="sníž. přenesená",J155,0) -> 0 | BI155: =IF(N155="nulová",J155,0) -> 0 | BJ155: 1 | BK155: =ROUND(I155*H155,2) -> 0 | BL155: 16 | BM155: -98913311
D156: D | E156: 741.23 | F156: Ostatní | J156: =BK156 -> 0 | P156: =SUM(P157:P159) -> 0 | R156: =SUM(R157:R159) -> 0 | T156: =SUM(T157:T159) -> 0 | AR156: 2 | AT156: D | AU156: 1 | AY156: ROZPOCET | BK156: =SUM(BK157:BK159) -> 0
C157: 33 | D157: K | E157: 08-230 | F157: Revize hromosvodu a uzemnění | G157: kpl | H157: 1 | J157: =ROUND(I157*H157,2) -> 0 | N157: základní | P157: =O157*H157 -> 0 | Q157: 0 | R157: =Q157*H157 -> 0 | S157: 0 | T157: =S157*H157 -> 0 | AR157: 16 | AT157: K | AU157: 2 | AY157: ROZPOCET | BE157: =IF(N157="základní",J157,0) -> 0 | BF157: =IF(N157="snížená",J157,0) -> 0 | BG157: =IF(N157="zákl. přenesená",J157,0) -> 0 | BH157: =IF(N157="sníž. přenesená",J157,0) -> 0 | BI157: =IF(N157="nulová",J157,0) -> 0 | BJ157: 1 | BK157: =ROUND(I157*H157,2) -> 0 | BL157: 16 | BM157: -800884851
C158: 34 | D158: K | E158: 08-231 | F158: Stavební přípomoce | G158: kpl | H158: 1 | J158: =ROUND(I158*H158,2) -> 0 | N158: základní | P158: =O158*H158 -> 0 | Q158: 0 | R158: =Q158*H158 -> 0 | S158: 0 | T158: =S158*H158 -> 0 | AR158: 16 | AT158: K | AU158: 2 | AY158: ROZPOCET | BE158: =IF(N158="základní",J158,0) -> 0 | BF158: =IF(N158="snížená",J158,0) -> 0 | BG158: =IF(N158="zákl. přenesená",J158,0) -> 0 | BH158: =IF(N158="sníž. přenesená",J158,0) -> 0 | BI158: =IF(N158="nulová",J158,0) -> 0 | BJ158: 1 | BK158: =ROUND(I158*H158,2) -> 0 | BL158: 16 | BM158: -153722902
C159: 35 | D159: K | E159: 08-232 | F159: Přesun hmot | G159: kpl | H159: 1 | J159: =ROUND(I159*H159,2) -> 0 | N159: základní | P159: =O159*H159 -> 0 | Q159: 0 | R159: =Q159*H159 -> 0 | S159: 0 | T159: =S159*H159 -> 0 | AR159: 16 | AT159: K | AU159: 2 | AY159: ROZPOCET | BE159: =IF(N159="základní",J159,0) -> 0 | BF159: =IF(N159="snížená",J159,0) -> 0 | BG159: =IF(N159="zákl. přenesená",J159,0) -> 0 | BH159: =IF(N159="sníž. přenesená",J159,0) -> 0 | BI159: =IF(N159="nulová",J159,0) -> 0 | BJ159: 1 | BK159: =ROUND(I159*H159,2) -> 0 | BL159: 16 | BM159: 1725088995

Sheet 10 - DATA
AT2: {866284a7-4dfa-463d-97ee-11af1e89565d}
AT3: 2
D4: KRYCÍ LIST SOUPISU PRACÍ | M4: v --- níže se nacházejí doplnkové a pomocné údaje k sestavám --- v | AT4: False
D6: Stavba:
E7: ='Rekapitulace stavby'!K6 -> MŠ KOVÁŘSKÁ II - REKONSTRUKCE OBJEKTU
D8: Objekt:
E9: 10 - DATA
D11: KSO: | I11: CC-CZ:
D12: Místo: | F12: U Školičky 2176/1, 2177/3, Praha 9 | I12: Datum: | J12: ='Rekapitulace stavby'!AN8 -> 19. 12. 2025
D14: Zadavatel: | I14: IČ:
E15: MČ Praha 9 | I15: DIČ:
D17: Uchazeč: | I17: IČ: | J17: ='Rekapitulace stavby'!AN13 -> Vyplň údaj
E18: ='Rekapitulace stavby'!E14 -> Vyplň údaj | I18: DIČ: | J18: ='Rekapitulace stavby'!AN14 -> Vyplň údaj
D20: Projektant: | I20: IČ:
E21: ArtStat s.r.o. | I21: DIČ:
D23: Zpracovatel: | I23: IČ:
E24: Vladimír Mrázek | I24: DIČ:
D26: Poznámka:
D30: Cena bez DPH | J30: =ROUND(J119, 2) -> 0
F32: Základ daně | I32: Sazba daně | J32: Výše daně
D33: DPH | E33: základní | F33: =ROUND((SUM(BE119:BE155)), 2) -> 0 | I33: 0.21 | J33: =ROUND(((SUM(BE119:BE155))*I33), 2) -> 0
E34: snížená | F34: =ROUND((SUM(BF119:BF155)), 2) -> 0 | I34: 0.12 | J34: =ROUND(((SUM(BF119:BF155))*I34), 2) -> 0
E35: zákl. přenesená | F35: =ROUND((SUM(BG119:BG155)), 2) -> 0 | I35: 0.21 | J35: =0 -> 0
E36: sníž. přenesená | F36: =ROUND((SUM(BH119:BH155)), 2) -> 0 | I36: 0.12 | J36: =0 -> 0
E37: nulová | F37: =ROUND((SUM(BI119:BI155)), 2) -> 0 | I37: 0 | J37: =0 -> 0
D39: Cena s DPH | G39: v | H39: CZK | J39: =SUM(J30:J37) -> 0
D50: Projektant | G50: Zpracovatel
D61: Datum a podpis: | F61: Razítko | G61: Datum a podpis: | J61: Razítko
D65: Objednavatel | G65: Uchazeč
D76: Datum a podpis: | F76: Razítko | G76: Datum a podpis: | J76: Razítko
C82: REKAPITULACE ČLENĚNÍ SOUPISU PRACÍ
C84: Stavba:
E85: =E7 -> MŠ KOVÁŘSKÁ II - REKONSTRUKCE OBJEKTU
C86: Objekt:
E87: =E9 -> 10 - DATA
C89: Místo: | F89: =F12 -> U Školičky 2176/1, 2177/3, Praha 9 | I89: Datum: | J89: =IF(J12="","",J12) -> 19. 12. 2025
C91: Zadavatel: | F91: =E15 -> MČ Praha 9 | I91: Projektant: | J91: =E21 -> ArtStat s.r.o.
C92: Uchazeč: | F92: =IF(E18="","",E18) -> Vyplň údaj | I92: Zpracovatel: | J92: =E24 -> Vladimír Mrázek
C94: Kód dílu - Popis | J94: Cena celkem [CZK]
C96: Náklady ze soupisu prací | J96: =J119 -> 0 | AU96: -1
D97: PSV - Práce a dodávky PSV - DATA | J97: =J120 -> 0
D98: 742.11 - Datové prvky a zařízení | J98: =J121 -> 0
D99: 742.12 - Ostatní | J99: =J149 -> 0
C106: SOUPIS PRACÍ
C108: Stavba:
E109: =E7 -> MŠ KOVÁŘSKÁ II - REKONSTRUKCE OBJEKTU
C110: Objekt:
E111: =E9 -> 10 - DATA
C113: Místo: | F113: =F12 -> U Školičky 2176/1, 2177/3, Praha 9 | I113: Datum: | J113: =IF(J12="","",J12) -> 19. 12. 2025
C115: Zadavatel: | F115: =E15 -> MČ Praha 9 | I115: Projektant: | J115: =E21 -> ArtStat s.r.o.
C116: Uchazeč: | F116: =IF(E18="","",E18) -> Vyplň údaj | I116: Zpracovatel: | J116: =E24 -> Vladimír Mrázek
C118: PČ | D118: Typ | E118: Kód | F118: Popis | G118: MJ | H118: Množství | I118: J.cena [CZK] | J118: Cena celkem [CZK] | K118: Cenová soustava | N118: DPH | O118: J. Nh [h] | P118: Nh celkem [h] | Q118: J. hmotnost [t] | R118: Hmotnost celkem [t] | S118: J. suť [t] | T118: Suť Celkem [t]
C119: Náklady soupisu celkem | J119: =BK119 -> 0 | P119: =P120 -> 0 | R119: =R120 -> 0 | T119: =T120 -> 0 | AT119: D | AU119: -1 | BK119: =BK120 -> 0
D120: D | E120: PSV | F120: Práce a dodávky PSV - DATA | J120: =BK120 -> 0 | P120: =P121+P149 -> 0 | R120: =R121+R149 -> 0 | T120: =T121+T149 -> 0 | AR120: 2 | AT120: D | AU120: 0 | AY120: ROZPOCET | BK120: =BK121+BK149 -> 0
