Workbook

Sheet Rekapitulace stavby
A1: Export Komplet | BA1: 2.0 | BB1: ZAMOK | BT1: False | BU1: False | BV1: {7cc34919-81a3-4be4-90f8-a7188a8c3cfc}
BS2: 0,01 | BT2: 21
BS3: 0,01 | BT3: 12
D4: REKAPITULACE STAVBY | AS4: v --- níže se nacházejí doplnkové a pomocné údaje k sestavám --- v | BE4: Návod na vyplnění | BS4: 0,001
D5: Kód: | K5: 03_2026_AKTUALIZACE | BE5: Měnit lze pouze buňky se žlutým podbarvením!_x000D_ _x000D_ 1) na prvním listu Rekapitulace stavby vyplňte v sestavě_x000D_ _x000D_ a) Souhrnný list_x000D_ - údaje o Uchazeči_x000D_ (přenesou se do ostatních sestav i v jiných listech)_x000D_ _x000D_ b) Rekapitulace objektů_x000D_ - potřebné Ostatní náklady_x000D_ _x000D_ 2) na vybraných listech vyplňte v sestavě_x000D_ _x000D_ a) Krycí list_x000D_ - údaje o Uchazeči, pokud se liší od údajů o Uchazeči na Souhrnném listu_x000D_ (údaje se přenesou do ostatních sestav v daném listu)_x000D_ _x000D_ b) Rekapitulace rozpočtu_x000D_ - potřebné Ostatní náklady_x000D_ _x000D_ c) Celkové náklady za stavbu_x000D_ - ceny u položek_x000D_ - množství, pokud má žluté podbarvení_x000D_ - a v případě potřeby poznámku (ta je ve skrytém sloupci) | BS5: 0,01
D6: Stavba: | K6: MŠ KOVÁŘSKÁ II - REKONSTRUKCE OBJEKTU | BS6: 0,01
D7: KSO: | AK7: CC-CZ: | BS7: 0,01
D8: Místo: | K8: U Školičky 2176/1, 2177/3, Praha 9 | AK8: Datum: | AN8: 19. 12. 2025 | BS8: 0,01
BS9: 0,01
D10: Zadavatel: | AK10: IČ: | BS10: 0,01
E11: MČ Praha 9 | AK11: DIČ: | BS11: 0,01
BS12: 0,01
D13: Uchazeč: | AK13: IČ: | AN13: Vyplň údaj | BS13: 0,01
E14: Vyplň údaj | AK14: DIČ: | AN14: Vyplň údaj | BS14: 0,01
BS15: False
D16: Projektant: | AK16: IČ: | BS16: False
E17: ArtStat s.r.o. | AK17: DIČ: | BS17: True
BS18: 0,01
D19: Zpracovatel: | AK19: IČ: | BS19: 0,01
E20: Vladimír Mrázek | AK20: DIČ: | BS20: True
D22: Poznámka:
E23: Soupis prací je sestaven s využitím položek Cenové soustavy ÚRS (cenová úroveň 2026/I). Veškeré další informace vymezující popis a podmínky použití těchto položek z Cenové soustavy, které nejsou uvedeny přímo v soupisu prací, jsou neomezeně dálkově k dispozici na webu www.podminky.urs.cz. Položky soupisu prací, které nemají ve sloupci „Cenová soustava“ veden žádný údaj, nepochází z Cenové soustavy ÚRS. Soupis prací je zpracován v rozsahu a podrobnosti projektu pro provádění stavby. Součástí položek uvedených ve výkazu výměr jsou i veškeré s nimi spojené práce, které jsou zapotřebí pro provedení kompletní dodávky díla tak, aby cena byla konečná a zahrnovala celou dodávku a to i když nejsou tyto práce zvlášť uvedeny ve výkazu výměr. To znamená, že veškeré položky patrné z výkazů, tabulek, detailů, výkresů a technických zpráv je třeba v nabídkové ceně ocenit jako kompletně vykonané práce vč. materiálu, nářadí a strojů nutných k práci, i když tyto nejsou ve výkazu výměr vypsány zvlášť. V případě, že má zhotovitel pochyby ohledně plánovaných položek ve výkazech, výkresech a technických zprávách, má za povinnost toto sdělit před odevzdáním nabídkové ceny. Po odevzdání nebude brán na zhotovitelem požadované položky navíc zřetel. Výkaz výměr neslouží jako podklad pro objednávky materiálu v rámci dodávky stavby.
D26: Cena bez DPH | AK26: =ROUND(AG94,2) -> 0
L28: Sazba daně | W28: Základ daně | AK28: Výše daně
D29: DPH | F29: základní | L29: 0.21 | W29: =ROUND(AZ94, 2) -> 0 | AK29: =ROUND(AV94, 2) -> 0
F30: snížená | L30: 0.12 | W30: =ROUND(BA94, 2) -> 0 | AK30: =ROUND(AW94, 2) -> 0
F31: zákl. přenesená | L31: 0.21 | W31: =ROUND(BB94, 2) -> 0 | AK31: 0
F32: sníž. přenesená | L32: 0.12 | W32: =ROUND(BC94, 2) -> 0 | AK32: 0
F33: nulová | L33: 0 | W33: =ROUND(BD94, 2) -> 0 | AK33: 0
D35: Cena s DPH | T35: v | X35: CZK | AK35: =SUM(AK26:AK33) -> 0 | BE35: Legenda k revizím dokumentu
BE37: Revize 1 - 8.9.2026
BE38: Revize 2 - 9.9.2026
BE39: Revize 3 - 10.9.2026
BE40: Revize 4 - 18.9.2026
BE41: Revize 5 - 26.9.2026
BE42: Revize 6 - 15.10.2026
BE43: odstraněná položka
D49: Projektant | AH49: Zpracovatel
D60: Datum a podpis: | V60: Razítko | AH60: Datum a podpis: | AM60: Razítko
D64: Objednavatel | AH64: Uchazeč
...

Sheet 01 - VEDLEJŠÍ A OSTATNÍ N...
AT2: {c9581ed6-97e6-419d-8ee4-aebe8d031f6b}
AT3: 2
D4: KRYCÍ LIST SOUPISU PRACÍ | M4: v --- níže se nacházejí doplnkové a pomocné údaje k sestavám --- v | AT4: False
D6: Stavba:
E7: ='Rekapitulace stavby'!K6 -> MŠ KOVÁŘSKÁ II - REKONSTRUKCE OBJEKTU
D8: Objekt:
E9: 01 - VEDLEJŠÍ A OSTATNÍ NÁKLADY
D11: KSO: | I11: CC-CZ:
D12: Místo: | F12: U Školičky 2176/1, 2177/3, Praha 9 | I12: Datum: | J12: ='Rekapitulace stavby'!AN8 -> 19. 12. 2025
D14: Zadavatel: | I14: IČ:
E15: MČ Praha 9 | I15: DIČ:
D17: Uchazeč: | I17: IČ: | J17: ='Rekapitulace stavby'!AN13 -> Vyplň údaj
E18: ='Rekapitulace stavby'!E14 -> Vyplň údaj | I18: DIČ: | J18: ='Rekapitulace stavby'!AN14 -> Vyplň údaj
D20: Projektant: | I20: IČ:
E21: ArtStat s.r.o. | I21: DIČ:
D23: Zpracovatel: | I23: IČ:
E24: Vladimír Mrázek | I24: DIČ:
D26: Poznámka:
D30: Cena bez DPH | J30: =ROUND(J121, 2) -> 0
F32: Základ daně | I32: Sazba daně | J32: Výše daně
D33: DPH | E33: základní | F33: =ROUND((SUM(BE121:BE144)), 2) -> 0 | I33: 0.21 | J33: =ROUND(((SUM(BE121:BE144))*I33), 2) -> 0
E34: snížená | F34: =ROUND((SUM(BF121:BF144)), 2) -> 0 | I34: 0.12 | J34: =ROUND(((SUM(BF121:BF144))*I34), 2) -> 0
E35: zákl. přenesená | F35: =ROUND((SUM(BG121:BG144)), 2) -> 0 | I35: 0.21 | J35: =0 -> 0
E36: sníž. přenesená | F36: =ROUND((SUM(BH121:BH144)), 2) -> 0 | I36: 0.12 | J36: =0 -> 0
E37: nulová | F37: =ROUND((SUM(BI121:BI144)), 2) -> 0 | I37: 0 | J37: =0 -> 0
D39: Cena s DPH | G39: v | H39: CZK | J39: =SUM(J30:J37) -> 0
D50: Projektant | G50: Zpracovatel
D61: Datum a podpis: | F61: Razítko | G61: Datum a podpis: | J61: Razítko
D65: Objednavatel | G65: Uchazeč
D76: Datum a podpis: | F76: Razítko | G76: Datum a podpis: | J76: Razítko
C82: REKAPITULACE ČLENĚNÍ SOUPISU PRACÍ
C84: Stavba:
E85: =E7 -> MŠ KOVÁŘSKÁ II - REKONSTRUKCE OBJEKTU
C86: Objekt:
E87: =E9 -> 01 - VEDLEJŠÍ A OSTATNÍ NÁKLADY
C89: Místo: | F89: =F12 -> U Školičky 2176/1, 2177/3, Praha 9 | I89: Datum: | J89: =IF(J12="","",J12) -> 19. 12. 2025
C91: Zadavatel: | F91: =E15 -> MČ Praha 9 | I91: Projektant: | J91: =E21 -> ArtStat s.r.o.
C92: Uchazeč: | F92: =IF(E18="","",E18) -> Vyplň údaj | I92: Zpracovatel: | J92: =E24 -> Vladimír Mrázek
C94: Kód dílu - Popis | J94: Cena celkem [CZK]
C96: Náklady ze soupisu prací | J96: =J121 -> 0 | AU96: -1
...

Sheet 02 - KÁCENÍ, OCHRANA ZELENĚ
AT2: {45e6b28a-913f-44bc-a50b-1a7d134649f0}
AT3: 2
D4: KRYCÍ LIST SOUPISU PRACÍ | M4: v --- níže se nacházejí doplnkové a pomocné údaje k sestavám --- v | AT4: False
D6: Stavba:
E7: ='Rekapitulace stavby'!K6 -> MŠ KOVÁŘSKÁ II - REKONSTRUKCE OBJEKTU
D8: Objekt:
E9: 02 - KÁCENÍ, OCHRANA ZELENĚ
D11: KSO: | I11: CC-CZ:
D12: Místo: | F12: U Školičky 2176/1, 2177/3, Praha 9 | I12: Datum: | J12: ='Rekapitulace stavby'!AN8 -> 19. 12. 2025
D14: Zadavatel: | I14: IČ:
E15: MČ Praha 9 | I15: DIČ:
D17: Uchazeč: | I17: IČ: | J17: ='Rekapitulace stavby'!AN13 -> Vyplň údaj
E18: ='Rekapitulace stavby'!E14 -> Vyplň údaj | I18: DIČ: | J18: ='Rekapitulace stavby'!AN14 -> Vyplň údaj
D20: Projektant: | I20: IČ:
E21: ArtStat s.r.o. | I21: DIČ:
D23: Zpracovatel: | I23: IČ:
E24: Vladimír Mrázek | I24: DIČ:
D26: Poznámka:
D30: Cena bez DPH | J30: =ROUND(J119, 2) -> 0
F32: Základ daně | I32: Sazba daně | J32: Výše daně
D33: DPH | E33: základní | F33: =ROUND((SUM(BE119:BE135)), 2) -> 0 | I33: 0.21 | J33: =ROUND(((SUM(BE119:BE135))*I33), 2) -> 0
E34: snížená | F34: =ROUND((SUM(BF119:BF135)), 2) -> 0 | I34: 0.12 | J34: =ROUND(((SUM(BF119:BF135))*I34), 2) -> 0
E35: zákl. přenesená | F35: =ROUND((SUM(BG119:BG135)), 2) -> 0 | I35: 0.21 | J35: =0 -> 0
E36: sníž. přenesená | F36: =ROUND((SUM(BH119:BH135)), 2) -> 0 | I36: 0.12 | J36: =0 -> 0
E37: nulová | F37: =ROUND((SUM(BI119:BI135)), 2) -> 0 | I37: 0 | J37: =0 -> 0
D39: Cena s DPH | G39: v | H39: CZK | J39: =SUM(J30:J37) -> 0
D50: Projektant | G50: Zpracovatel
D61: Datum a podpis: | F61: Razítko | G61: Datum a podpis: | J61: Razítko
D65: Objednavatel | G65: Uchazeč
D76: Datum a podpis: | F76: Razítko | G76: Datum a podpis: | J76: Razítko
C82: REKAPITULACE ČLENĚNÍ SOUPISU PRACÍ
C84: Stavba:
E85: =E7 -> MŠ KOVÁŘSKÁ II - REKONSTRUKCE OBJEKTU
C86: Objekt:
E87: =E9 -> 02 - KÁCENÍ, OCHRANA ZELENĚ
C89: Místo: | F89: =F12 -> U Školičky 2176/1, 2177/3, Praha 9 | I89: Datum: | J89: =IF(J12="","",J12) -> 19. 12. 2025
C91: Zadavatel: | F91: =E15 -> MČ Praha 9 | I91: Projektant: | J91: =E21 -> ArtStat s.r.o.
C92: Uchazeč: | F92: =IF(E18="","",E18) -> Vyplň údaj | I92: Zpracovatel: | J92: =E24 -> Vladimír Mrázek
C94: Kód dílu - Popis | J94: Cena celkem [CZK]
C96: Náklady ze soupisu prací | J96: =J119 -> 0 | AU96: -1
...

Sheet 03 - BOURACÍ PRÁCE, DEMOLICE
AT2: {80d1a09e-164f-458c-a35f-e2bfab1fe93d}
AT3: 2
D4: KRYCÍ LIST SOUPISU PRACÍ | M4: v --- níže se nacházejí doplnkové a pomocné údaje k sestavám --- v | AT4: False
D6: Stavba:
E7: ='Rekapitulace stavby'!K6 -> MŠ KOVÁŘSKÁ II - REKONSTRUKCE OBJEKTU
D8: Objekt:
E9: 03 - BOURACÍ PRÁCE, DEMOLICE
D11: KSO: | I11: CC-CZ:
D12: Místo: | F12: U Školičky 2176/1, 2177/3, Praha 9 | I12: Datum: | J12: ='Rekapitulace stavby'!AN8 -> 19. 12. 2025
D14: Zadavatel: | I14: IČ:
E15: MČ Praha 9 | I15: DIČ:
D17: Uchazeč: | I17: IČ: | J17: ='Rekapitulace stavby'!AN13 -> Vyplň údaj
E18: ='Rekapitulace stavby'!E14 -> Vyplň údaj | I18: DIČ: | J18: ='Rekapitulace stavby'!AN14 -> Vyplň údaj
D20: Projektant: | I20: IČ:
E21: ArtStat s.r.o. | I21: DIČ:
D23: Zpracovatel: | I23: IČ:
E24: Vladimír Mrázek | I24: DIČ:
D26: Poznámka:
D30: Cena bez DPH | J30: =ROUND(J122, 2) -> 0
F32: Základ daně | I32: Sazba daně | J32: Výše daně
D33: DPH | E33: základní | F33: =ROUND((SUM(BE122:BE184)), 2) -> 0 | I33: 0.21 | J33: =ROUND(((SUM(BE122:BE184))*I33), 2) -> 0
E34: snížená | F34: =ROUND((SUM(BF122:BF184)), 2) -> 0 | I34: 0.12 | J34: =ROUND(((SUM(BF122:BF184))*I34), 2) -> 0
E35: zákl. přenesená | F35: =ROUND((SUM(BG122:BG184)), 2) -> 0 | I35: 0.21 | J35: =0 -> 0
E36: sníž. přenesená | F36: =ROUND((SUM(BH122:BH184)), 2) -> 0 | I36: 0.12 | J36: =0 -> 0
E37: nulová | F37: =ROUND((SUM(BI122:BI184)), 2) -> 0 | I37: 0 | J37: =0 -> 0
D39: Cena s DPH | G39: v | H39: CZK | J39: =SUM(J30:J37) -> 0
D50: Projektant | G50: Zpracovatel
D61: Datum a podpis: | F61: Razítko | G61: Datum a podpis: | J61: Razítko
D65: Objednavatel | G65: Uchazeč
D76: Datum a podpis: | F76: Razítko | G76: Datum a podpis: | J76: Razítko
C82: REKAPITULACE ČLENĚNÍ SOUPISU PRACÍ
C84: Stavba:
E85: =E7 -> MŠ KOVÁŘSKÁ II - REKONSTRUKCE OBJEKTU
C86: Objekt:
E87: =E9 -> 03 - BOURACÍ PRÁCE, DEMOLICE
C89: Místo: | F89: =F12 -> U Školičky 2176/1, 2177/3, Praha 9 | I89: Datum: | J89: =IF(J12="","",J12) -> 19. 12. 2025
C91: Zadavatel: | F91: =E15 -> MČ Praha 9 | I91: Projektant: | J91: =E21 -> ArtStat s.r.o.
C92: Uchazeč: | F92: =IF(E18="","",E18) -> Vyplň údaj | I92: Zpracovatel: | J92: =E24 -> Vladimír Mrázek
C94: Kód dílu - Popis | J94: Cena celkem [CZK]
C96: Náklady ze soupisu prací | J96: =J122 -> 0 | AU96: -1
...

Sheet 04 - STAVEBNÍ PRÁCE
AT2: {7fdbab56-7042-41b0-add9-5c160252b741} | AZ2: P01a_vinyl | BC2: 330,79 | BD2: 2
AT3: 2 | AZ3: P01b_KD_30_30 | BC3: 58,08 | BD3: 2
D4: KRYCÍ LIST SOUPISU PRACÍ | M4: v --- níže se nacházejí doplnkové a pomocné údaje k sestavám --- v | AT4: False | AZ4: P01b_kerdl | BC4: 92,18 | BD4: 2
AZ5: P01c_zona | BC5: 31,47 | BD5: 2
D6: Stavba: | AZ6: P01d_KD_30_30 | BC6: 21,05 | BD6: 2
E7: ='Rekapitulace stavby'!K6 -> MŠ KOVÁŘSKÁ II - REKONSTRUKCE OBJEKTU | AZ7: P02a_vinyl | BC7: 376,28 | BD7: 2
D8: Objekt: | AZ8: P02b_KD_30_30 | BC8: 55,96 | BD8: 2
E9: 04 - STAVEBNÍ PRÁCE | AZ9: P02b_kerdl | BC9: 86,46 | BD9: 2
AZ10: P03b_KD_30_30 | BC10: 2,7 | BD10: 2
D11: KSO: | I11: CC-CZ:
D12: Místo: | F12: U Školičky 2176/1, 2177/3, Praha 9 | I12: Datum: | J12: ='Rekapitulace stavby'!AN8 -> 19. 12. 2025
D14: Zadavatel: | I14: IČ:
E15: MČ Praha 9 | I15: DIČ:
D17: Uchazeč: | I17: IČ: | J17: ='Rekapitulace stavby'!AN13 -> Vyplň údaj
E18: ='Rekapitulace stavby'!E14 -> Vyplň údaj | I18: DIČ: | J18: ='Rekapitulace stavby'!AN14 -> Vyplň údaj
D20: Projektant: | I20: IČ:
E21: ArtStat s.r.o. | I21: DIČ:
D23: Zpracovatel: | I23: IČ:
E24: Vladimír Mrázek | I24: DIČ:
D26: Poznámka:
D30: Cena bez DPH | J30: =ROUND(J141, 2) -> 0
F32: Základ daně | I32: Sazba daně | J32: Výše daně
D33: DPH | E33: základní | F33: =ROUND((SUM(BE141:BE1702)), 2) -> 0 | I33: 0.21 | J33: =ROUND(((SUM(BE141:BE1702))*I33), 2) -> 0
E34: snížená | F34: =ROUND((SUM(BF141:BF1702)), 2) -> 0 | I34: 0.12 | J34: =ROUND(((SUM(BF141:BF1702))*I34), 2) -> 0
E35: zákl. přenesená | F35: =ROUND((SUM(BG141:BG1702)), 2) -> 0 | I35: 0.21 | J35: =0 -> 0
E36: sníž. přenesená | F36: =ROUND((SUM(BH141:BH1702)), 2) -> 0 | I36: 0.12 | J36: =0 -> 0
E37: nulová | F37: =ROUND((SUM(BI141:BI1702)), 2) -> 0 | I37: 0 | J37: =0 -> 0
D39: Cena s DPH | G39: v | H39: CZK | J39: =SUM(J30:J37) -> 0
D50: Projektant | G50: Zpracovatel
D61: Datum a podpis: | F61: Razítko | G61: Datum a podpis: | J61: Razítko
D65: Objednavatel | G65: Uchazeč
D76: Datum a podpis: | F76: Razítko | G76: Datum a podpis: | J76: Razítko
C82: REKAPITULACE ČLENĚNÍ SOUPISU PRACÍ
C84: Stavba:
E85: =E7 -> MŠ KOVÁŘSKÁ II - REKONSTRUKCE OBJEKTU
C86: Objekt:
E87: =E9 -> 04 - STAVEBNÍ PRÁCE
C89: Místo: | F89: =F12 -> U Školičky 2176/1, 2177/3, Praha 9 | I89: Datum: | J89: =IF(J12="","",J12) -> 19. 12. 2025
C91: Zadavatel: | F91: =E15 -> MČ Praha 9 | I91: Projektant: | J91: =E21 -> ArtStat s.r.o.
C92: Uchazeč: | F92: =IF(E18="","",E18) -> Vyplň údaj | I92: Zpracovatel: | J92: =E24 -> Vladimír Mrázek
...

Sheet 05 - ZDRAVOTECHNIKA
AT2: {ac3a8fc6-4d25-4005-8141-87e1ffc0ef30}
AT3: 2
D4: KRYCÍ LIST SOUPISU PRACÍ | M4: v --- níže se nacházejí doplnkové a pomocné údaje k sestavám --- v | AT4: False
D6: Stavba:
E7: ='Rekapitulace stavby'!K6 -> MŠ KOVÁŘSKÁ II - REKONSTRUKCE OBJEKTU
D8: Objekt:
E9: 05 - ZDRAVOTECHNIKA
D11: KSO: | I11: CC-CZ:
D12: Místo: | F12: U Školičky 2176/1, 2177/3, Praha 9 | I12: Datum: | J12: ='Rekapitulace stavby'!AN8 -> 19. 12. 2025
D14: Zadavatel: | I14: IČ:
E15: MČ Praha 9 | I15: DIČ:
D17: Uchazeč: | I17: IČ: | J17: ='Rekapitulace stavby'!AN13 -> Vyplň údaj
E18: ='Rekapitulace stavby'!E14 -> Vyplň údaj | I18: DIČ: | J18: ='Rekapitulace stavby'!AN14 -> Vyplň údaj
D20: Projektant: | I20: IČ:
E21: ArtStat s.r.o. | I21: DIČ:
D23: Zpracovatel: | I23: IČ:
E24: Vladimír Mrázek | I24: DIČ:
D26: Poznámka:
D30: Cena bez DPH | J30: =ROUND(J130, 2) -> 0
F32: Základ daně | I32: Sazba daně | J32: Výše daně
D33: DPH | E33: základní | F33: =ROUND((SUM(BE130:BE327)), 2) -> 0 | I33: 0.21 | J33: =ROUND(((SUM(BE130:BE327))*I33), 2) -> 0
E34: snížená | F34: =ROUND((SUM(BF130:BF327)), 2) -> 0 | I34: 0.12 | J34: =ROUND(((SUM(BF130:BF327))*I34), 2) -> 0
E35: zákl. přenesená | F35: =ROUND((SUM(BG130:BG327)), 2) -> 0 | I35: 0.21 | J35: =0 -> 0
E36: sníž. přenesená | F36: =ROUND((SUM(BH130:BH327)), 2) -> 0 | I36: 0.12 | J36: =0 -> 0
E37: nulová | F37: =ROUND((SUM(BI130:BI327)), 2) -> 0 | I37: 0 | J37: =0 -> 0
D39: Cena s DPH | G39: v | H39: CZK | J39: =SUM(J30:J37) -> 0
D50: Projektant | G50: Zpracovatel
D61: Datum a podpis: | F61: Razítko | G61: Datum a podpis: | J61: Razítko
D65: Objednavatel | G65: Uchazeč
D76: Datum a podpis: | F76: Razítko | G76: Datum a podpis: | J76: Razítko
C82: REKAPITULACE ČLENĚNÍ SOUPISU PRACÍ
C84: Stavba:
E85: =E7 -> MŠ KOVÁŘSKÁ II - REKONSTRUKCE OBJEKTU
C86: Objekt:
E87: =E9 -> 05 - ZDRAVOTECHNIKA
C89: Místo: | F89: =F12 -> U Školičky 2176/1, 2177/3, Praha 9 | I89: Datum: | J89: =IF(J12="","",J12) -> 19. 12. 2025
C91: Zadavatel: | F91: =E15 -> MČ Praha 9 | I91: Projektant: | J91: =E21 -> ArtStat s.r.o.
C92: Uchazeč: | F92: =IF(E18="","",E18) -> Vyplň údaj | I92: Zpracovatel: | J92: =E24 -> Vladimír Mrázek
C94: Kód dílu - Popis | J94: Cena celkem [CZK]
C96: Náklady ze soupisu prací | J96: =J130 -> 0 | AU96: -1
...

Sheet 06 - VYTÁPĚNÍ + CHLAZENÍ
AT2: {839cfe0e-b8b1-4b2b-9617-dd96c39e6097}
AT3: 2
D4: KRYCÍ LIST SOUPISU PRACÍ | M4: v --- níže se nacházejí doplnkové a pomocné údaje k sestavám --- v | AT4: False
D6: Stavba:
E7: ='Rekapitulace stavby'!K6 -> MŠ KOVÁŘSKÁ II - REKONSTRUKCE OBJEKTU
D8: Objekt:
E9: 06 - VYTÁPĚNÍ + CHLAZENÍ
D11: KSO: | I11: CC-CZ:
D12: Místo: | F12: U Školičky 2176/1, 2177/3, Praha 9 | I12: Datum: | J12: ='Rekapitulace stavby'!AN8 -> 19. 12. 2025
D14: Zadavatel: | I14: IČ:
E15: MČ Praha 9 | I15: DIČ:
D17: Uchazeč: | I17: IČ: | J17: ='Rekapitulace stavby'!AN13 -> Vyplň údaj
E18: ='Rekapitulace stavby'!E14 -> Vyplň údaj | I18: DIČ: | J18: ='Rekapitulace stavby'!AN14 -> Vyplň údaj
D20: Projektant: | I20: IČ:
E21: ArtStat s.r.o. | I21: DIČ:
D23: Zpracovatel: | I23: IČ:
E24: Vladimír Mrázek | I24: DIČ:
D26: Poznámka:
D30: Cena bez DPH | J30: =ROUND(J123, 2) -> 0
F32: Základ daně | I32: Sazba daně | J32: Výše daně
D33: DPH | E33: základní | F33: =ROUND((SUM(BE123:BE186)), 2) -> 0 | I33: 0.21 | J33: =ROUND(((SUM(BE123:BE186))*I33), 2) -> 0
E34: snížená | F34: =ROUND((SUM(BF123:BF186)), 2) -> 0 | I34: 0.12 | J34: =ROUND(((SUM(BF123:BF186))*I34), 2) -> 0
E35: zákl. přenesená | F35: =ROUND((SUM(BG123:BG186)), 2) -> 0 | I35: 0.21 | J35: =0 -> 0
E36: sníž. přenesená | F36: =ROUND((SUM(BH123:BH186)), 2) -> 0 | I36: 0.12 | J36: =0 -> 0
E37: nulová | F37: =ROUND((SUM(BI123:BI186)), 2) -> 0 | I37: 0 | J37: =0 -> 0
D39: Cena s DPH | G39: v | H39: CZK | J39: =SUM(J30:J37) -> 0
D50: Projektant | G50: Zpracovatel
D61: Datum a podpis: | F61: Razítko | G61: Datum a podpis: | J61: Razítko
D65: Objednavatel | G65: Uchazeč
D76: Datum a podpis: | F76: Razítko | G76: Datum a podpis: | J76: Razítko
C82: REKAPITULACE ČLENĚNÍ SOUPISU PRACÍ
C84: Stavba:
E85: =E7 -> MŠ KOVÁŘSKÁ II - REKONSTRUKCE OBJEKTU
C86: Objekt:
E87: =E9 -> 06 - VYTÁPĚNÍ + CHLAZENÍ
C89: Místo: | F89: =F12 -> U Školičky 2176/1, 2177/3, Praha 9 | I89: Datum: | J89: =IF(J12="","",J12) -> 19. 12. 2025
C91: Zadavatel: | F91: =E15 -> MČ Praha 9 | I91: Projektant: | J91: =E21 -> ArtStat s.r.o.
C92: Uchazeč: | F92: =IF(E18="","",E18) -> Vyplň údaj | I92: Zpracovatel: | J92: =E24 -> Vladimír Mrázek
C94: Kód dílu - Popis | J94: Cena celkem [CZK]
C96: Náklady ze soupisu prací | J96: =J123 -> 0 | AU96: -1
...

Sheet 07 - VZDUCHOTECHNIKA
AT2: {93ef1c06-a1c2-4c9c-a982-cd031a04f85f}
AT3: 2
D4: KRYCÍ LIST SOUPISU PRACÍ | M4: v --- níže se nacházejí doplnkové a pomocné údaje k sestavám --- v | AT4: False
D6: Stavba:
E7: ='Rekapitulace stavby'!K6 -> MŠ KOVÁŘSKÁ II - REKONSTRUKCE OBJEKTU
D8: Objekt:
E9: 07 - VZDUCHOTECHNIKA
D11: KSO: | I11: CC-CZ:
D12: Místo: | F12: U Školičky 2176/1, 2177/3, Praha 9 | I12: Datum: | J12: ='Rekapitulace stavby'!AN8 -> 19. 12. 2025
D14: Zadavatel: | I14: IČ:
E15: MČ Praha 9 | I15: DIČ:
D17: Uchazeč: | I17: IČ: | J17: ='Rekapitulace stavby'!AN13 -> Vyplň údaj
E18: ='Rekapitulace stavby'!E14 -> Vyplň údaj | I18: DIČ: | J18: ='Rekapitulace stavby'!AN14 -> Vyplň údaj
D20: Projektant: | I20: IČ:
E21: ArtStat s.r.o. | I21: DIČ:
D23: Zpracovatel: | I23: IČ:
E24: Vladimír Mrázek | I24: DIČ:
D26: Poznámka:
D30: Cena bez DPH | J30: =ROUND(J122, 2) -> 0
F32: Základ daně | I32: Sazba daně | J32: Výše daně
D33: DPH | E33: základní | F33: =ROUND((SUM(BE122:BE179)), 2) -> 0 | I33: 0.21 | J33: =ROUND(((SUM(BE122:BE179))*I33), 2) -> 0
E34: snížená | F34: =ROUND((SUM(BF122:BF179)), 2) -> 0 | I34: 0.12 | J34: =ROUND(((SUM(BF122:BF179))*I34), 2) -> 0
E35: zákl. přenesená | F35: =ROUND((SUM(BG122:BG179)), 2) -> 0 | I35: 0.21 | J35: =0 -> 0
E36: sníž. přenesená | F36: =ROUND((SUM(BH122:BH179)), 2) -> 0 | I36: 0.12 | J36: =0 -> 0
E37: nulová | F37: =ROUND((SUM(BI122:BI179)), 2) -> 0 | I37: 0 | J37: =0 -> 0
D39: Cena s DPH | G39: v | H39: CZK | J39: =SUM(J30:J37) -> 0
D50: Projektant | G50: Zpracovatel
D61: Datum a podpis: | F61: Razítko | G61: Datum a podpis: | J61: Razítko
D65: Objednavatel | G65: Uchazeč
D76: Datum a podpis: | F76: Razítko | G76: Datum a podpis: | J76: Razítko
C82: REKAPITULACE ČLENĚNÍ SOUPISU PRACÍ
C84: Stavba:
E85: =E7 -> MŠ KOVÁŘSKÁ II - REKONSTRUKCE OBJEKTU
C86: Objekt:
E87: =E9 -> 07 - VZDUCHOTECHNIKA
C89: Místo: | F89: =F12 -> U Školičky 2176/1, 2177/3, Praha 9 | I89: Datum: | J89: =IF(J12="","",J12) -> 19. 12. 2025
C91: Zadavatel: | F91: =E15 -> MČ Praha 9 | I91: Projektant: | J91: =E21 -> ArtStat s.r.o.
C92: Uchazeč: | F92: =IF(E18="","",E18) -> Vyplň údaj | I92: Zpracovatel: | J92: =E24 -> Vladimír Mrázek
C94: Kód dílu - Popis | J94: Cena celkem [CZK]
C96: Náklady ze soupisu prací | J96: =J122 -> 0 | AU96: -1
...

Sheet 08 - ELEKTROINSTALACE - S...
AT2: {9e8f0bd3-8cdb-48c5-a996-e4c008fbfe9d}
AT3: 2
D4: KRYCÍ LIST SOUPISU PRACÍ | M4: v --- níže se nacházejí doplnkové a pomocné údaje k sestavám --- v | AT4: False
D6: Stavba:
E7: ='Rekapitulace stavby'!K6 -> MŠ KOVÁŘSKÁ II - REKONSTRUKCE OBJEKTU
D8: Objekt:
E9: 08 - ELEKTROINSTALACE - SILNOPROUD
D11: KSO: | I11: CC-CZ:
D12: Místo: | F12: U Školičky 2176/1, 2177/3, Praha 9 | I12: Datum: | J12: ='Rekapitulace stavby'!AN8 -> 19. 12. 2025
D14: Zadavatel: | I14: IČ:
E15: MČ Praha 9 | I15: DIČ:
D17: Uchazeč: | I17: IČ: | J17: ='Rekapitulace stavby'!AN13 -> Vyplň údaj
E18: ='Rekapitulace stavby'!E14 -> Vyplň údaj | I18: DIČ: | J18: ='Rekapitulace stavby'!AN14 -> Vyplň údaj
D20: Projektant: | I20: IČ:
E21: ArtStat s.r.o. | I21: DIČ:
D23: Zpracovatel: | I23: IČ:
E24: Vladimír Mrázek | I24: DIČ:
D26: Poznámka:
D30: Cena bez DPH | J30: =ROUND(J130, 2) -> 0
F32: Základ daně | I32: Sazba daně | J32: Výše daně
D33: DPH | E33: základní | F33: =ROUND((SUM(BE130:BE376)), 2) -> 0 | I33: 0.21 | J33: =ROUND(((SUM(BE130:BE376))*I33), 2) -> 0
E34: snížená | F34: =ROUND((SUM(BF130:BF376)), 2) -> 0 | I34: 0.12 | J34: =ROUND(((SUM(BF130:BF376))*I34), 2) -> 0
E35: zákl. přenesená | F35: =ROUND((SUM(BG130:BG376)), 2) -> 0 | I35: 0.21 | J35: =0 -> 0
E36: sníž. přenesená | F36: =ROUND((SUM(BH130:BH376)), 2) -> 0 | I36: 0.12 | J36: =0 -> 0
E37: nulová | F37: =ROUND((SUM(BI130:BI376)), 2) -> 0 | I37: 0 | J37: =0 -> 0
D39: Cena s DPH | G39: v | H39: CZK | J39: =SUM(J30:J37) -> 0
D50: Projektant | G50: Zpracovatel
D61: Datum a podpis: | F61: Razítko | G61: Datum a podpis: | J61: Razítko
D65: Objednavatel | G65: Uchazeč
D76: Datum a podpis: | F76: Razítko | G76: Datum a podpis: | J76: Razítko
C82: REKAPITULACE ČLENĚNÍ SOUPISU PRACÍ
C84: Stavba:
E85: =E7 -> MŠ KOVÁŘSKÁ II - REKONSTRUKCE OBJEKTU
C86: Objekt:
E87: =E9 -> 08 - ELEKTROINSTALACE - SILNOPROUD
C89: Místo: | F89: =F12 -> U Školičky 2176/1, 2177/3, Praha 9 | I89: Datum: | J89: =IF(J12="","",J12) -> 19. 12. 2025
C91: Zadavatel: | F91: =E15 -> MČ Praha 9 | I91: Projektant: | J91: =E21 -> ArtStat s.r.o.
C92: Uchazeč: | F92: =IF(E18="","",E18) -> Vyplň údaj | I92: Zpracovatel: | J92: =E24 -> Vladimír Mrázek
C94: Kód dílu - Popis | J94: Cena celkem [CZK]
C96: Náklady ze soupisu prací | J96: =J130 -> 0 | AU96: -1
...

Sheet 09 - HROMOSVOD A UZEMNĚNÍ
AT2: {feddf7dc-5e38-4770-9f77-7a061e5fed50}
AT3: 2
D4: KRYCÍ LIST SOUPISU PRACÍ | M4: v --- níže se nacházejí doplnkové a pomocné údaje k sestavám --- v | AT4: False
D6: Stavba:
E7: ='Rekapitulace stavby'!K6 -> MŠ KOVÁŘSKÁ II - REKONSTRUKCE OBJEKTU
D8: Objekt:
E9: 09 - HROMOSVOD A UZEMNĚNÍ
D11: KSO: | I11: CC-CZ:
D12: Místo: | F12: U Školičky 2176/1, 2177/3, Praha 9 | I12: Datum: | J12: ='Rekapitulace stavby'!AN8 -> 19. 12. 2025
D14: Zadavatel: | I14: IČ:
E15: MČ Praha 9 | I15: DIČ:
D17: Uchazeč: | I17: IČ: | J17: ='Rekapitulace stavby'!AN13 -> Vyplň údaj
E18: ='Rekapitulace stavby'!E14 -> Vyplň údaj | I18: DIČ: | J18: ='Rekapitulace stavby'!AN14 -> Vyplň údaj
D20: Projektant: | I20: IČ:
E21: ArtStat s.r.o. | I21: DIČ:
D23: Zpracovatel: | I23: IČ:
E24: Vladimír Mrázek | I24: DIČ:
D26: Poznámka:
D30: Cena bez DPH | J30: =ROUND(J120, 2) -> 0
F32: Základ daně | I32: Sazba daně | J32: Výše daně
D33: DPH | E33: základní | F33: =ROUND((SUM(BE120:BE159)), 2) -> 0 | I33: 0.21 | J33: =ROUND(((SUM(BE120:BE159))*I33), 2) -> 0
E34: snížená | F34: =ROUND((SUM(BF120:BF159)), 2) -> 0 | I34: 0.12 | J34: =ROUND(((SUM(BF120:BF159))*I34), 2) -> 0
E35: zákl. přenesená | F35: =ROUND((SUM(BG120:BG159)), 2) -> 0 | I35: 0.21 | J35: =0 -> 0
E36: sníž. přenesená | F36: =ROUND((SUM(BH120:BH159)), 2) -> 0 | I36: 0.12 | J36: =0 -> 0
E37: nulová | F37: =ROUND((SUM(BI120:BI159)), 2) -> 0 | I37: 0 | J37: =0 -> 0
D39: Cena s DPH | G39: v | H39: CZK | J39: =SUM(J30:J37) -> 0
D50: Projektant | G50: Zpracovatel
D61: Datum a podpis: | F61: Razítko | G61: Datum a podpis: | J61: Razítko
D65: Objednavatel | G65: Uchazeč
D76: Datum a podpis: | F76: Razítko | G76: Datum a podpis: | J76: Razítko
C82: REKAPITULACE ČLENĚNÍ SOUPISU PRACÍ
C84: Stavba:
E85: =E7 -> MŠ KOVÁŘSKÁ II - REKONSTRUKCE OBJEKTU
C86: Objekt:
E87: =E9 -> 09 - HROMOSVOD A UZEMNĚNÍ
C89: Místo: | F89: =F12 -> U Školičky 2176/1, 2177/3, Praha 9 | I89: Datum: | J89: =IF(J12="","",J12) -> 19. 12. 2025
C91: Zadavatel: | F91: =E15 -> MČ Praha 9 | I91: Projektant: | J91: =E21 -> ArtStat s.r.o.
C92: Uchazeč: | F92: =IF(E18="","",E18) -> Vyplň údaj | I92: Zpracovatel: | J92: =E24 -> Vladimír Mrázek
C94: Kód dílu - Popis | J94: Cena celkem [CZK]
C96: Náklady ze soupisu prací | J96: =J120 -> 0 | AU96: -1
...

Sheet 10 - DATA
AT2: {866284a7-4dfa-463d-97ee-11af1e89565d}
AT3: 2
D4: KRYCÍ LIST SOUPISU PRACÍ | M4: v --- níže se nacházejí doplnkové a pomocné údaje k sestavám --- v | AT4: False
D6: Stavba:
E7: ='Rekapitulace stavby'!K6 -> MŠ KOVÁŘSKÁ II - REKONSTRUKCE OBJEKTU
D8: Objekt:
E9: 10 - DATA
D11: KSO: | I11: CC-CZ:
D12: Místo: | F12: U Školičky 2176/1, 2177/3, Praha 9 | I12: Datum: | J12: ='Rekapitulace stavby'!AN8 -> 19. 12. 2025
D14: Zadavatel: | I14: IČ:
E15: MČ Praha 9 | I15: DIČ:
D17: Uchazeč: | I17: IČ: | J17: ='Rekapitulace stavby'!AN13 -> Vyplň údaj
E18: ='Rekapitulace stavby'!E14 -> Vyplň údaj | I18: DIČ: | J18: ='Rekapitulace stavby'!AN14 -> Vyplň údaj
D20: Projektant: | I20: IČ:
E21: ArtStat s.r.o. | I21: DIČ:
D23: Zpracovatel: | I23: IČ:
E24: Vladimír Mrázek | I24: DIČ:
D26: Poznámka:
D30: Cena bez DPH | J30: =ROUND(J119, 2) -> 0
F32: Základ daně | I32: Sazba daně | J32: Výše daně
D33: DPH | E33: základní | F33: =ROUND((SUM(BE119:BE155)), 2) -> 0 | I33: 0.21 | J33: =ROUND(((SUM(BE119:BE155))*I33), 2) -> 0
E34: snížená | F34: =ROUND((SUM(BF119:BF155)), 2) -> 0 | I34: 0.12 | J34: =ROUND(((SUM(BF119:BF155))*I34), 2) -> 0
E35: zákl. přenesená | F35: =ROUND((SUM(BG119:BG155)), 2) -> 0 | I35: 0.21 | J35: =0 -> 0
E36: sníž. přenesená | F36: =ROUND((SUM(BH119:BH155)), 2) -> 0 | I36: 0.12 | J36: =0 -> 0
E37: nulová | F37: =ROUND((SUM(BI119:BI155)), 2) -> 0 | I37: 0 | J37: =0 -> 0
D39: Cena s DPH | G39: v | H39: CZK | J39: =SUM(J30:J37) -> 0
D50: Projektant | G50: Zpracovatel
D61: Datum a podpis: | F61: Razítko | G61: Datum a podpis: | J61: Razítko
D65: Objednavatel | G65: Uchazeč
D76: Datum a podpis: | F76: Razítko | G76: Datum a podpis: | J76: Razítko
C82: REKAPITULACE ČLENĚNÍ SOUPISU PRACÍ
C84: Stavba:
E85: =E7 -> MŠ KOVÁŘSKÁ II - REKONSTRUKCE OBJEKTU
C86: Objekt:
E87: =E9 -> 10 - DATA
C89: Místo: | F89: =F12 -> U Školičky 2176/1, 2177/3, Praha 9 | I89: Datum: | J89: =IF(J12="","",J12) -> 19. 12. 2025
C91: Zadavatel: | F91: =E15 -> MČ Praha 9 | I91: Projektant: | J91: =E21 -> ArtStat s.r.o.
C92: Uchazeč: | F92: =IF(E18="","",E18) -> Vyplň údaj | I92: Zpracovatel: | J92: =E24 -> Vladimír Mrázek
C94: Kód dílu - Popis | J94: Cena celkem [CZK]
C96: Náklady ze soupisu prací | J96: =J119 -> 0 | AU96: -1
...

Sheet 11 - EZS
AT2: {77e0baab-3517-40c1-a03d-38f67b21c238}
AT3: 2
D4: KRYCÍ LIST SOUPISU PRACÍ | M4: v --- níže se nacházejí doplnkové a pomocné údaje k sestavám --- v | AT4: False
D6: Stavba:
E7: ='Rekapitulace stavby'!K6 -> MŠ KOVÁŘSKÁ II - REKONSTRUKCE OBJEKTU
D8: Objekt:
E9: 11 - EZS
D11: KSO: | I11: CC-CZ:
D12: Místo: | F12: U Školičky 2176/1, 2177/3, Praha 9 | I12: Datum: | J12: ='Rekapitulace stavby'!AN8 -> 19. 12. 2025
D14: Zadavatel: | I14: IČ:
E15: MČ Praha 9 | I15: DIČ:
D17: Uchazeč: | I17: IČ: | J17: ='Rekapitulace stavby'!AN13 -> Vyplň údaj
E18: ='Rekapitulace stavby'!E14 -> Vyplň údaj | I18: DIČ: | J18: ='Rekapitulace stavby'!AN14 -> Vyplň údaj
D20: Projektant: | I20: IČ:
E21: ArtStat s.r.o. | I21: DIČ:
D23: Zpracovatel: | I23: IČ:
E24: Vladimír Mrázek | I24: DIČ:
D26: Poznámka:
D30: Cena bez DPH | J30: =ROUND(J120, 2) -> 0
F32: Základ daně | I32: Sazba daně | J32: Výše daně
D33: DPH | E33: základní | F33: =ROUND((SUM(BE120:BE146)), 2) -> 0 | I33: 0.21 | J33: =ROUND(((SUM(BE120:BE146))*I33), 2) -> 0
E34: snížená | F34: =ROUND((SUM(BF120:BF146)), 2) -> 0 | I34: 0.12 | J34: =ROUND(((SUM(BF120:BF146))*I34), 2) -> 0
E35: zákl. přenesená | F35: =ROUND((SUM(BG120:BG146)), 2) -> 0 | I35: 0.21 | J35: =0 -> 0
E36: sníž. přenesená | F36: =ROUND((SUM(BH120:BH146)), 2) -> 0 | I36: 0.12 | J36: =0 -> 0
E37: nulová | F37: =ROUND((SUM(BI120:BI146)), 2) -> 0 | I37: 0 | J37: =0 -> 0
D39: Cena s DPH | G39: v | H39: CZK | J39: =SUM(J30:J37) -> 0
D50: Projektant | G50: Zpracovatel
D61: Datum a podpis: | F61: Razítko | G61: Datum a podpis: | J61: Razítko
D65: Objednavatel | G65: Uchazeč
D76: Datum a podpis: | F76: Razítko | G76: Datum a podpis: | J76: Razítko
C82: REKAPITULACE ČLENĚNÍ SOUPISU PRACÍ
C84: Stavba:
E85: =E7 -> MŠ KOVÁŘSKÁ II - REKONSTRUKCE OBJEKTU
C86: Objekt:
E87: =E9 -> 11 - EZS
C89: Místo: | F89: =F12 -> U Školičky 2176/1, 2177/3, Praha 9 | I89: Datum: | J89: =IF(J12="","",J12) -> 19. 12. 2025
C91: Zadavatel: | F91: =E15 -> MČ Praha 9 | I91: Projektant: | J91: =E21 -> ArtStat s.r.o.
C92: Uchazeč: | F92: =IF(E18="","",E18) -> Vyplň údaj | I92: Zpracovatel: | J92: =E24 -> Vladimír Mrázek
C94: Kód dílu - Popis | J94: Cena celkem [CZK]
C96: Náklady ze soupisu prací | J96: =J120 -> 0 | AU96: -1
...

Sheet 12 - FVE
AT2: {04893f20-b0bc-4d77-a4e8-ba848e0a60f9}
AT3: 2
D4: KRYCÍ LIST SOUPISU PRACÍ | M4: v --- níže se nacházejí doplnkové a pomocné údaje k sestavám --- v | AT4: False
D6: Stavba:
E7: ='Rekapitulace stavby'!K6 -> MŠ KOVÁŘSKÁ II - REKONSTRUKCE OBJEKTU
D8: Objekt:
E9: 12 - FVE
D11: KSO: | I11: CC-CZ:
D12: Místo: | F12: U Školičky 2176/1, 2177/3, Praha 9 | I12: Datum: | J12: ='Rekapitulace stavby'!AN8 -> 19. 12. 2025
D14: Zadavatel: | I14: IČ:
E15: MČ Praha 9 | I15: DIČ:
D17: Uchazeč: | I17: IČ: | J17: ='Rekapitulace stavby'!AN13 -> Vyplň údaj
E18: ='Rekapitulace stavby'!E14 -> Vyplň údaj | I18: DIČ: | J18: ='Rekapitulace stavby'!AN14 -> Vyplň údaj
D20: Projektant: | I20: IČ:
E21: ArtStat s.r.o. | I21: DIČ:
D23: Zpracovatel: | I23: IČ:
E24: Vladimír Mrázek | I24: DIČ:
D26: Poznámka:
D30: Cena bez DPH | J30: =ROUND(J119, 2) -> 0
F32: Základ daně | I32: Sazba daně | J32: Výše daně
D33: DPH | E33: základní | F33: =ROUND((SUM(BE119:BE174)), 2) -> 0 | I33: 0.21 | J33: =ROUND(((SUM(BE119:BE174))*I33), 2) -> 0
E34: snížená | F34: =ROUND((SUM(BF119:BF174)), 2) -> 0 | I34: 0.12 | J34: =ROUND(((SUM(BF119:BF174))*I34), 2) -> 0
E35: zákl. přenesená | F35: =ROUND((SUM(BG119:BG174)), 2) -> 0 | I35: 0.21 | J35: =0 -> 0
E36: sníž. přenesená | F36: =ROUND((SUM(BH119:BH174)), 2) -> 0 | I36: 0.12 | J36: =0 -> 0
E37: nulová | F37: =ROUND((SUM(BI119:BI174)), 2) -> 0 | I37: 0 | J37: =0 -> 0
D39: Cena s DPH | G39: v | H39: CZK | J39: =SUM(J30:J37) -> 0
D50: Projektant | G50: Zpracovatel
D61: Datum a podpis: | F61: Razítko | G61: Datum a podpis: | J61: Razítko
D65: Objednavatel | G65: Uchazeč
D76: Datum a podpis: | F76: Razítko | G76: Datum a podpis: | J76: Razítko
C82: REKAPITULACE ČLENĚNÍ SOUPISU PRACÍ
C84: Stavba:
E85: =E7 -> MŠ KOVÁŘSKÁ II - REKONSTRUKCE OBJEKTU
C86: Objekt:
E87: =E9 -> 12 - FVE
C89: Místo: | F89: =F12 -> U Školičky 2176/1, 2177/3, Praha 9 | I89: Datum: | J89: =IF(J12="","",J12) -> 19. 12. 2025
C91: Zadavatel: | F91: =E15 -> MČ Praha 9 | I91: Projektant: | J91: =E21 -> ArtStat s.r.o.
C92: Uchazeč: | F92: =IF(E18="","",E18) -> Vyplň údaj | I92: Zpracovatel: | J92: =E24 -> Vladimír Mrázek
C94: Kód dílu - Popis | J94: Cena celkem [CZK]
C96: Náklady ze soupisu prací | J96: =J119 -> 0 | AU96: -1
...

Sheet 13 - GASTRO
L2: >> skryté sloupce << | AT2: {5ea9f628-c4c9-45c3-b248-3b0c610f4bb4}
AT3: 2
D4: KRYCÍ LIST SOUPISU PRACÍ | M4: v --- níže se nacházejí doplnkové a pomocné údaje k sestavám --- v | AT4: False
D6: Stavba:
E7: MŠ KOVÁŘSKÁ II - REKONSTRUKCE OBJEKTU
D8: Objekt:
E9: 13 - GASTRO
D11: KSO: | I11: CC-CZ:
D12: Místo: | F12: U Školičky 2176/1, 2177/3, Praha 9 | I12: Datum: | J12: 19. 12. 2025
D14: Zadavatel: | I14: IČ:
E15: MČ Praha 9 | I15: DIČ:
D17: Uchazeč: | I17: IČ: | J17: Vyplň údaj
E18: Vyplň údaj | I18: DIČ: | J18: Vyplň údaj
D20: Projektant: | I20: IČ:
E21: ArtStat s.r.o. | I21: DIČ:
D23: Zpracovatel: | I23: IČ:
E24: Vladimír Mrázek | I24: DIČ:
D26: Poznámka:
D30: Cena bez DPH | J30: =ROUND(J118, 2) -> 0
F32: Základ daně | I32: Sazba daně | J32: Výše daně
D33: DPH | E33: základní | F33: =ROUND((SUM(BE118:BE157)), 2) -> 0 | I33: 0.21 | J33: =ROUND(((SUM(BE118:BE157))*I33), 2) -> 0
E34: snížená | F34: =ROUND((SUM(BF118:BF157)), 2) -> 0 | I34: 0.12 | J34: =ROUND(((SUM(BF118:BF157))*I34), 2) -> 0
E35: zákl. přenesená | F35: =ROUND((SUM(BG118:BG157)), 2) -> 0 | I35: 0.21 | J35: =0 -> 0
E36: sníž. přenesená | F36: =ROUND((SUM(BH118:BH157)), 2) -> 0 | I36: 0.12 | J36: =0 -> 0
E37: nulová | F37: =ROUND((SUM(BI118:BI157)), 2) -> 0 | I37: 0 | J37: =0 -> 0
D39: Cena s DPH | G39: v | H39: CZK | J39: =SUM(J30:J37) -> 0
D50: Projektant | G50: Zpracovatel
D61: Datum a podpis: | F61: Razítko | G61: Datum a podpis: | J61: Razítko
D65: Objednavatel | G65: Uchazeč
D76: Datum a podpis: | F76: Razítko | G76: Datum a podpis: | J76: Razítko
C82: REKAPITULACE ČLENĚNÍ SOUPISU PRACÍ
C84: Stavba:
E85: =E7 -> MŠ KOVÁŘSKÁ II - REKONSTRUKCE OBJEKTU
C86: Objekt:
E87: =E9 -> 13 - GASTRO
C89: Místo: | F89: =F12 -> U Školičky 2176/1, 2177/3, Praha 9 | I89: Datum: | J89: =IF(J12="","",J12) -> 19. 12. 2025
C91: Zadavatel: | F91: =E15 -> MČ Praha 9 | I91: Projektant: | J91: =E21 -> ArtStat s.r.o.
C92: Uchazeč: | F92: =IF(E18="","",E18) -> Vyplň údaj | I92: Zpracovatel: | J92: =E24 -> Vladimír Mrázek
C94: Kód dílu - Popis | J94: Cena celkem [CZK]
C96: Náklady ze soupisu prací | J96: =J118 -> 0 | AU96: -1
...

Sheet 14 - DEŠŤOVÁ KANALIZACE
AT2: {8e920fae-51de-4ef0-a16c-1759b4085f2b}
AT3: 2
D4: KRYCÍ LIST SOUPISU PRACÍ | M4: v --- níže se nacházejí doplnkové a pomocné údaje k sestavám --- v | AT4: False
D6: Stavba:
E7: ='Rekapitulace stavby'!K6 -> MŠ KOVÁŘSKÁ II - REKONSTRUKCE OBJEKTU
D8: Objekt:
E9: 14 - DEŠŤOVÁ KANALIZACE
D11: KSO: | I11: CC-CZ:
D12: Místo: | F12: U Školičky 2176/1, 2177/3, Praha 9 | I12: Datum: | J12: ='Rekapitulace stavby'!AN8 -> 19. 12. 2025
D14: Zadavatel: | I14: IČ:
E15: MČ Praha 9 | I15: DIČ:
D17: Uchazeč: | I17: IČ: | J17: ='Rekapitulace stavby'!AN13 -> Vyplň údaj
E18: ='Rekapitulace stavby'!E14 -> Vyplň údaj | I18: DIČ: | J18: ='Rekapitulace stavby'!AN14 -> Vyplň údaj
D20: Projektant: | I20: IČ:
E21: ArtStat s.r.o. | I21: DIČ:
D23: Zpracovatel: | I23: IČ:
E24: Vladimír Mrázek | I24: DIČ:
D26: Poznámka:
D30: Cena bez DPH | J30: =ROUND(J124, 2) -> 0
F32: Základ daně | I32: Sazba daně | J32: Výše daně
D33: DPH | E33: základní | F33: =ROUND((SUM(BE124:BE222)), 2) -> 0 | I33: 0.21 | J33: =ROUND(((SUM(BE124:BE222))*I33), 2) -> 0
E34: snížená | F34: =ROUND((SUM(BF124:BF222)), 2) -> 0 | I34: 0.12 | J34: =ROUND(((SUM(BF124:BF222))*I34), 2) -> 0
E35: zákl. přenesená | F35: =ROUND((SUM(BG124:BG222)), 2) -> 0 | I35: 0.21 | J35: =0 -> 0
E36: sníž. přenesená | F36: =ROUND((SUM(BH124:BH222)), 2) -> 0 | I36: 0.12 | J36: =0 -> 0
E37: nulová | F37: =ROUND((SUM(BI124:BI222)), 2) -> 0 | I37: 0 | J37: =0 -> 0
D39: Cena s DPH | G39: v | H39: CZK | J39: =SUM(J30:J37) -> 0
D50: Projektant | G50: Zpracovatel
D61: Datum a podpis: | F61: Razítko | G61: Datum a podpis: | J61: Razítko
D65: Objednavatel | G65: Uchazeč
D76: Datum a podpis: | F76: Razítko | G76: Datum a podpis: | J76: Razítko
C82: REKAPITULACE ČLENĚNÍ SOUPISU PRACÍ
C84: Stavba:
E85: =E7 -> MŠ KOVÁŘSKÁ II - REKONSTRUKCE OBJEKTU
C86: Objekt:
E87: =E9 -> 14 - DEŠŤOVÁ KANALIZACE
C89: Místo: | F89: =F12 -> U Školičky 2176/1, 2177/3, Praha 9 | I89: Datum: | J89: =IF(J12="","",J12) -> 19. 12. 2025
C91: Zadavatel: | F91: =E15 -> MČ Praha 9 | I91: Projektant: | J91: =E21 -> ArtStat s.r.o.
C92: Uchazeč: | F92: =IF(E18="","",E18) -> Vyplň údaj | I92: Zpracovatel: | J92: =E24 -> Vladimír Mrázek
C94: Kód dílu - Popis | J94: Cena celkem [CZK]
C96: Náklady ze soupisu prací | J96: =J124 -> 0 | AU96: -1
...

Sheet 15 - VODOVODNÍ PŘÍPOJKA
AT2: {1160e3d1-2085-4e7d-bad4-e5cd8742f67d}
AT3: 2
D4: KRYCÍ LIST SOUPISU PRACÍ | M4: v --- níže se nacházejí doplnkové a pomocné údaje k sestavám --- v | AT4: False
D6: Stavba:
E7: ='Rekapitulace stavby'!K6 -> MŠ KOVÁŘSKÁ II - REKONSTRUKCE OBJEKTU
D8: Objekt:
E9: 15 - VODOVODNÍ PŘÍPOJKA
D11: KSO: | I11: CC-CZ:
D12: Místo: | F12: U Školičky 2176/1, 2177/3, Praha 9 | I12: Datum: | J12: ='Rekapitulace stavby'!AN8 -> 19. 12. 2025
D14: Zadavatel: | I14: IČ:
E15: MČ Praha 9 | I15: DIČ:
D17: Uchazeč: | I17: IČ: | J17: ='Rekapitulace stavby'!AN13 -> Vyplň údaj
E18: ='Rekapitulace stavby'!E14 -> Vyplň údaj | I18: DIČ: | J18: ='Rekapitulace stavby'!AN14 -> Vyplň údaj
D20: Projektant: | I20: IČ:
E21: ArtStat s.r.o. | I21: DIČ:
D23: Zpracovatel: | I23: IČ:
E24: Vladimír Mrázek | I24: DIČ:
D26: Poznámka:
D30: Cena bez DPH | J30: =ROUND(J123, 2) -> 0
F32: Základ daně | I32: Sazba daně | J32: Výše daně
D33: DPH | E33: základní | F33: =ROUND((SUM(BE123:BE169)), 2) -> 0 | I33: 0.21 | J33: =ROUND(((SUM(BE123:BE169))*I33), 2) -> 0
E34: snížená | F34: =ROUND((SUM(BF123:BF169)), 2) -> 0 | I34: 0.12 | J34: =ROUND(((SUM(BF123:BF169))*I34), 2) -> 0
E35: zákl. přenesená | F35: =ROUND((SUM(BG123:BG169)), 2) -> 0 | I35: 0.21 | J35: =0 -> 0
E36: sníž. přenesená | F36: =ROUND((SUM(BH123:BH169)), 2) -> 0 | I36: 0.12 | J36: =0 -> 0
E37: nulová | F37: =ROUND((SUM(BI123:BI169)), 2) -> 0 | I37: 0 | J37: =0 -> 0
D39: Cena s DPH | G39: v | H39: CZK | J39: =SUM(J30:J37) -> 0
D50: Projektant | G50: Zpracovatel
D61: Datum a podpis: | F61: Razítko | G61: Datum a podpis: | J61: Razítko
D65: Objednavatel | G65: Uchazeč
D76: Datum a podpis: | F76: Razítko | G76: Datum a podpis: | J76: Razítko
C82: REKAPITULACE ČLENĚNÍ SOUPISU PRACÍ
C84: Stavba:
E85: =E7 -> MŠ KOVÁŘSKÁ II - REKONSTRUKCE OBJEKTU
C86: Objekt:
E87: =E9 -> 15 - VODOVODNÍ PŘÍPOJKA
C89: Místo: | F89: =F12 -> U Školičky 2176/1, 2177/3, Praha 9 | I89: Datum: | J89: =IF(J12="","",J12) -> 19. 12. 2025
C91: Zadavatel: | F91: =E15 -> MČ Praha 9 | I91: Projektant: | J91: =E21 -> ArtStat s.r.o.
C92: Uchazeč: | F92: =IF(E18="","",E18) -> Vyplň údaj | I92: Zpracovatel: | J92: =E24 -> Vladimír Mrázek
C94: Kód dílu - Popis | J94: Cena celkem [CZK]
C96: Náklady ze soupisu prací | J96: =J123 -> 0 | AU96: -1
...

Sheet 16 - KOMUNIKACE A ZPEVNĚN...
AT2: {d94749b0-89d3-44e0-9fc7-3eb93a4ca8e1}
AT3: 2
D4: KRYCÍ LIST SOUPISU PRACÍ | M4: v --- níže se nacházejí doplnkové a pomocné údaje k sestavám --- v | AT4: False
D6: Stavba:
E7: ='Rekapitulace stavby'!K6 -> MŠ KOVÁŘSKÁ II - REKONSTRUKCE OBJEKTU
D8: Objekt:
E9: 16 - KOMUNIKACE A ZPEVNĚNÉ PLOCHY
D11: KSO: | I11: CC-CZ:
D12: Místo: | F12: U Školičky 2176/1, 2177/3, Praha 9 | I12: Datum: | J12: ='Rekapitulace stavby'!AN8 -> 19. 12. 2025
D14: Zadavatel: | I14: IČ:
E15: MČ Praha 9 | I15: DIČ:
D17: Uchazeč: | I17: IČ: | J17: ='Rekapitulace stavby'!AN13 -> Vyplň údaj
E18: ='Rekapitulace stavby'!E14 -> Vyplň údaj | I18: DIČ: | J18: ='Rekapitulace stavby'!AN14 -> Vyplň údaj
D20: Projektant: | I20: IČ:
E21: ArtStat s.r.o. | I21: DIČ:
D23: Zpracovatel: | I23: IČ:
E24: Vladimír Mrázek | I24: DIČ:
D26: Poznámka:
D30: Cena bez DPH | J30: =ROUND(J125, 2) -> 0
F32: Základ daně | I32: Sazba daně | J32: Výše daně
D33: DPH | E33: základní | F33: =ROUND((SUM(BE125:BE263)), 2) -> 0 | I33: 0.21 | J33: =ROUND(((SUM(BE125:BE263))*I33), 2) -> 0
E34: snížená | F34: =ROUND((SUM(BF125:BF263)), 2) -> 0 | I34: 0.12 | J34: =ROUND(((SUM(BF125:BF263))*I34), 2) -> 0
E35: zákl. přenesená | F35: =ROUND((SUM(BG125:BG263)), 2) -> 0 | I35: 0.21 | J35: =0 -> 0
E36: sníž. přenesená | F36: =ROUND((SUM(BH125:BH263)), 2) -> 0 | I36: 0.12 | J36: =0 -> 0
E37: nulová | F37: =ROUND((SUM(BI125:BI263)), 2) -> 0 | I37: 0 | J37: =0 -> 0
D39: Cena s DPH | G39: v | H39: CZK | J39: =SUM(J30:J37) -> 0
D50: Projektant | G50: Zpracovatel
D61: Datum a podpis: | F61: Razítko | G61: Datum a podpis: | J61: Razítko
D65: Objednavatel | G65: Uchazeč
D76: Datum a podpis: | F76: Razítko | G76: Datum a podpis: | J76: Razítko
C82: REKAPITULACE ČLENĚNÍ SOUPISU PRACÍ
C84: Stavba:
E85: =E7 -> MŠ KOVÁŘSKÁ II - REKONSTRUKCE OBJEKTU
C86: Objekt:
E87: =E9 -> 16 - KOMUNIKACE A ZPEVNĚNÉ PLOCHY
C89: Místo: | F89: =F12 -> U Školičky 2176/1, 2177/3, Praha 9 | I89: Datum: | J89: =IF(J12="","",J12) -> 19. 12. 2025
C91: Zadavatel: | F91: =E15 -> MČ Praha 9 | I91: Projektant: | J91: =E21 -> ArtStat s.r.o.
C92: Uchazeč: | F92: =IF(E18="","",E18) -> Vyplň údaj | I92: Zpracovatel: | J92: =E24 -> Vladimír Mrázek
C94: Kód dílu - Popis | J94: Cena celkem [CZK]
C96: Náklady ze soupisu prací | J96: =J125 -> 0 | AU96: -1
...

Sheet 17 - ZAHRADA MŠ - HŘIŠTĚ ...
AT2: {b6f8f605-de8c-40da-881b-5f5ecf347f3a}
AT3: 2
D4: KRYCÍ LIST SOUPISU PRACÍ | M4: v --- níže se nacházejí doplnkové a pomocné údaje k sestavám --- v | AT4: False
D6: Stavba:
E7: ='Rekapitulace stavby'!K6 -> MŠ KOVÁŘSKÁ II - REKONSTRUKCE OBJEKTU
D8: Objekt:
E9: 17 - ZAHRADA MŠ - HŘIŠTĚ A SADOVÉ ÚPRAVY
D11: KSO: | I11: CC-CZ:
D12: Místo: | F12: U Školičky 2176/1, 2177/3, Praha 9 | I12: Datum: | J12: ='Rekapitulace stavby'!AN8 -> 19. 12. 2025
D14: Zadavatel: | I14: IČ:
E15: MČ Praha 9 | I15: DIČ:
D17: Uchazeč: | I17: IČ: | J17: ='Rekapitulace stavby'!AN13 -> Vyplň údaj
E18: ='Rekapitulace stavby'!E14 -> Vyplň údaj | I18: DIČ: | J18: ='Rekapitulace stavby'!AN14 -> Vyplň údaj
D20: Projektant: | I20: IČ:
E21: ArtStat s.r.o. | I21: DIČ:
D23: Zpracovatel: | I23: IČ:
E24: Vladimír Mrázek | I24: DIČ:
D26: Poznámka:
D30: Cena bez DPH | J30: =ROUND(J136, 2) -> 0
F32: Základ daně | I32: Sazba daně | J32: Výše daně
D33: DPH | E33: základní | F33: =ROUND((SUM(BE136:BE362)), 2) -> 0 | I33: 0.21 | J33: =ROUND(((SUM(BE136:BE362))*I33), 2) -> 0
E34: snížená | F34: =ROUND((SUM(BF136:BF362)), 2) -> 0 | I34: 0.12 | J34: =ROUND(((SUM(BF136:BF362))*I34), 2) -> 0
E35: zákl. přenesená | F35: =ROUND((SUM(BG136:BG362)), 2) -> 0 | I35: 0.21 | J35: =0 -> 0
E36: sníž. přenesená | F36: =ROUND((SUM(BH136:BH362)), 2) -> 0 | I36: 0.12 | J36: =0 -> 0
E37: nulová | F37: =ROUND((SUM(BI136:BI362)), 2) -> 0 | I37: 0 | J37: =0 -> 0
D39: Cena s DPH | G39: v | H39: CZK | J39: =SUM(J30:J37) -> 0
D50: Projektant | G50: Zpracovatel
D61: Datum a podpis: | F61: Razítko | G61: Datum a podpis: | J61: Razítko
D65: Objednavatel | G65: Uchazeč
D76: Datum a podpis: | F76: Razítko | G76: Datum a podpis: | J76: Razítko
C82: REKAPITULACE ČLENĚNÍ SOUPISU PRACÍ
C84: Stavba:
E85: =E7 -> MŠ KOVÁŘSKÁ II - REKONSTRUKCE OBJEKTU
C86: Objekt:
E87: =E9 -> 17 - ZAHRADA MŠ - HŘIŠTĚ A SADOVÉ ÚPRAVY
C89: Místo: | F89: =F12 -> U Školičky 2176/1, 2177/3, Praha 9 | I89: Datum: | J89: =IF(J12="","",J12) -> 19. 12. 2025
C91: Zadavatel: | F91: =E15 -> MČ Praha 9 | I91: Projektant: | J91: =E21 -> ArtStat s.r.o.
C92: Uchazeč: | F92: =IF(E18="","",E18) -> Vyplň údaj | I92: Zpracovatel: | J92: =E24 -> Vladimír Mrázek
C94: Kód dílu - Popis | J94: Cena celkem [CZK]
C96: Náklady ze soupisu prací | J96: =J136 -> 0 | AU96: -1
...

Sheet 18 - ZAHRADA MŠ - OPLOCENÍ
AT2: {e7ae2f12-4f14-4b88-a478-08439bf42371}
AT3: 2
D4: KRYCÍ LIST SOUPISU PRACÍ | M4: v --- níže se nacházejí doplnkové a pomocné údaje k sestavám --- v | AT4: False
D6: Stavba:
E7: ='Rekapitulace stavby'!K6 -> MŠ KOVÁŘSKÁ II - REKONSTRUKCE OBJEKTU
D8: Objekt:
E9: 18 - ZAHRADA MŠ - OPLOCENÍ
D11: KSO: | I11: CC-CZ:
D12: Místo: | F12: U Školičky 2176/1, 2177/3, Praha 9 | I12: Datum: | J12: ='Rekapitulace stavby'!AN8 -> 19. 12. 2025
D14: Zadavatel: | I14: IČ:
E15: MČ Praha 9 | I15: DIČ:
D17: Uchazeč: | I17: IČ: | J17: ='Rekapitulace stavby'!AN13 -> Vyplň údaj
E18: ='Rekapitulace stavby'!E14 -> Vyplň údaj | I18: DIČ: | J18: ='Rekapitulace stavby'!AN14 -> Vyplň údaj
D20: Projektant: | I20: IČ:
E21: ArtStat s.r.o. | I21: DIČ:
D23: Zpracovatel: | I23: IČ:
E24: Vladimír Mrázek | I24: DIČ:
D26: Poznámka:
D30: Cena bez DPH | J30: =ROUND(J128, 2) -> 0
F32: Základ daně | I32: Sazba daně | J32: Výše daně
D33: DPH | E33: základní | F33: =ROUND((SUM(BE128:BE214)), 2) -> 0 | I33: 0.21 | J33: =ROUND(((SUM(BE128:BE214))*I33), 2) -> 0
E34: snížená | F34: =ROUND((SUM(BF128:BF214)), 2) -> 0 | I34: 0.12 | J34: =ROUND(((SUM(BF128:BF214))*I34), 2) -> 0
E35: zákl. přenesená | F35: =ROUND((SUM(BG128:BG214)), 2) -> 0 | I35: 0.21 | J35: =0 -> 0
E36: sníž. přenesená | F36: =ROUND((SUM(BH128:BH214)), 2) -> 0 | I36: 0.12 | J36: =0 -> 0
E37: nulová | F37: =ROUND((SUM(BI128:BI214)), 2) -> 0 | I37: 0 | J37: =0 -> 0
D39: Cena s DPH | G39: v | H39: CZK | J39: =SUM(J30:J37) -> 0
D50: Projektant | G50: Zpracovatel
D61: Datum a podpis: | F61: Razítko | G61: Datum a podpis: | J61: Razítko
D65: Objednavatel | G65: Uchazeč
D76: Datum a podpis: | F76: Razítko | G76: Datum a podpis: | J76: Razítko
C82: REKAPITULACE ČLENĚNÍ SOUPISU PRACÍ
C84: Stavba:
E85: =E7 -> MŠ KOVÁŘSKÁ II - REKONSTRUKCE OBJEKTU
C86: Objekt:
E87: =E9 -> 18 - ZAHRADA MŠ - OPLOCENÍ
C89: Místo: | F89: =F12 -> U Školičky 2176/1, 2177/3, Praha 9 | I89: Datum: | J89: =IF(J12="","",J12) -> 19. 12. 2025
C91: Zadavatel: | F91: =E15 -> MČ Praha 9 | I91: Projektant: | J91: =E21 -> ArtStat s.r.o.
C92: Uchazeč: | F92: =IF(E18="","",E18) -> Vyplň údaj | I92: Zpracovatel: | J92: =E24 -> Vladimír Mrázek
C94: Kód dílu - Popis | J94: Cena celkem [CZK]
C96: Náklady ze soupisu prací | J96: =J128 -> 0 | AU96: -1
...

Sheet 19 - VEŘEJNÉ HŘIŠTĚ A SAD...
AT2: {06626229-482c-490d-a970-730cf6861765}
AT3: 2
D4: KRYCÍ LIST SOUPISU PRACÍ | M4: v --- níže se nacházejí doplnkové a pomocné údaje k sestavám --- v | AT4: False
D6: Stavba:
E7: ='Rekapitulace stavby'!K6 -> MŠ KOVÁŘSKÁ II - REKONSTRUKCE OBJEKTU
D8: Objekt:
E9: 19 - VEŘEJNÉ HŘIŠTĚ A SADOVÉ ÚPRAVY
D11: KSO: | I11: CC-CZ:
D12: Místo: | F12: U Školičky 2176/1, 2177/3, Praha 9 | I12: Datum: | J12: ='Rekapitulace stavby'!AN8 -> 19. 12. 2025
D14: Zadavatel: | I14: IČ:
E15: MČ Praha 9 | I15: DIČ:
D17: Uchazeč: | I17: IČ: | J17: ='Rekapitulace stavby'!AN13 -> Vyplň údaj
E18: ='Rekapitulace stavby'!E14 -> Vyplň údaj | I18: DIČ: | J18: ='Rekapitulace stavby'!AN14 -> Vyplň údaj
D20: Projektant: | I20: IČ:
E21: ArtStat s.r.o. | I21: DIČ:
D23: Zpracovatel: | I23: IČ:
E24: Vladimír Mrázek | I24: DIČ:
D26: Poznámka:
D30: Cena bez DPH | J30: =ROUND(J129, 2) -> 0
F32: Základ daně | I32: Sazba daně | J32: Výše daně
D33: DPH | E33: základní | F33: =ROUND((SUM(BE129:BE275)), 2) -> 0 | I33: 0.21 | J33: =ROUND(((SUM(BE129:BE275))*I33), 2) -> 0
E34: snížená | F34: =ROUND((SUM(BF129:BF275)), 2) -> 0 | I34: 0.12 | J34: =ROUND(((SUM(BF129:BF275))*I34), 2) -> 0
E35: zákl. přenesená | F35: =ROUND((SUM(BG129:BG275)), 2) -> 0 | I35: 0.21 | J35: =0 -> 0
E36: sníž. přenesená | F36: =ROUND((SUM(BH129:BH275)), 2) -> 0 | I36: 0.12 | J36: =0 -> 0
E37: nulová | F37: =ROUND((SUM(BI129:BI275)), 2) -> 0 | I37: 0 | J37: =0 -> 0
D39: Cena s DPH | G39: v | H39: CZK | J39: =SUM(J30:J37) -> 0
D50: Projektant | G50: Zpracovatel
D61: Datum a podpis: | F61: Razítko | G61: Datum a podpis: | J61: Razítko
D65: Objednavatel | G65: Uchazeč
D76: Datum a podpis: | F76: Razítko | G76: Datum a podpis: | J76: Razítko
C82: REKAPITULACE ČLENĚNÍ SOUPISU PRACÍ
C84: Stavba:
E85: =E7 -> MŠ KOVÁŘSKÁ II - REKONSTRUKCE OBJEKTU
C86: Objekt:
E87: =E9 -> 19 - VEŘEJNÉ HŘIŠTĚ A SADOVÉ ÚPRAVY
C89: Místo: | F89: =F12 -> U Školičky 2176/1, 2177/3, Praha 9 | I89: Datum: | J89: =IF(J12="","",J12) -> 19. 12. 2025
C91: Zadavatel: | F91: =E15 -> MČ Praha 9 | I91: Projektant: | J91: =E21 -> ArtStat s.r.o.
C92: Uchazeč: | F92: =IF(E18="","",E18) -> Vyplň údaj | I92: Zpracovatel: | J92: =E24 -> Vladimír Mrázek
C94: Kód dílu - Popis | J94: Cena celkem [CZK]
C96: Náklady ze soupisu prací | J96: =J129 -> 0 | AU96: -1
...

Sheet 20 - VEŘEJNÉ HŘIŠTĚ - OPL...
AT2: {0dd842c8-56ca-4e46-9885-f3fc78aabe8e}
AT3: 2
D4: KRYCÍ LIST SOUPISU PRACÍ | M4: v --- níže se nacházejí doplnkové a pomocné údaje k sestavám --- v | AT4: False
D6: Stavba:
E7: ='Rekapitulace stavby'!K6 -> MŠ KOVÁŘSKÁ II - REKONSTRUKCE OBJEKTU
D8: Objekt:
E9: 20 - VEŘEJNÉ HŘIŠTĚ - OPLOCENÍ
D11: KSO: | I11: CC-CZ:
D12: Místo: | F12: U Školičky 2176/1, 2177/3, Praha 9 | I12: Datum: | J12: ='Rekapitulace stavby'!AN8 -> 19. 12. 2025
D14: Zadavatel: | I14: IČ:
E15: MČ Praha 9 | I15: DIČ:
D17: Uchazeč: | I17: IČ: | J17: ='Rekapitulace stavby'!AN13 -> Vyplň údaj
E18: ='Rekapitulace stavby'!E14 -> Vyplň údaj | I18: DIČ: | J18: ='Rekapitulace stavby'!AN14 -> Vyplň údaj
D20: Projektant: | I20: IČ:
E21: ArtStat s.r.o. | I21: DIČ:
D23: Zpracovatel: | I23: IČ:
E24: Vladimír Mrázek | I24: DIČ:
D26: Poznámka:
D30: Cena bez DPH | J30: =ROUND(J122, 2) -> 0
F32: Základ daně | I32: Sazba daně | J32: Výše daně
D33: DPH | E33: základní | F33: =ROUND((SUM(BE122:BE145)), 2) -> 0 | I33: 0.21 | J33: =ROUND(((SUM(BE122:BE145))*I33), 2) -> 0
E34: snížená | F34: =ROUND((SUM(BF122:BF145)), 2) -> 0 | I34: 0.12 | J34: =ROUND(((SUM(BF122:BF145))*I34), 2) -> 0
E35: zákl. přenesená | F35: =ROUND((SUM(BG122:BG145)), 2) -> 0 | I35: 0.21 | J35: =0 -> 0
E36: sníž. přenesená | F36: =ROUND((SUM(BH122:BH145)), 2) -> 0 | I36: 0.12 | J36: =0 -> 0
E37: nulová | F37: =ROUND((SUM(BI122:BI145)), 2) -> 0 | I37: 0 | J37: =0 -> 0
D39: Cena s DPH | G39: v | H39: CZK | J39: =SUM(J30:J37) -> 0
D50: Projektant | G50: Zpracovatel
D61: Datum a podpis: | F61: Razítko | G61: Datum a podpis: | J61: Razítko
D65: Objednavatel | G65: Uchazeč
D76: Datum a podpis: | F76: Razítko | G76: Datum a podpis: | J76: Razítko
C82: REKAPITULACE ČLENĚNÍ SOUPISU PRACÍ
C84: Stavba:
E85: =E7 -> MŠ KOVÁŘSKÁ II - REKONSTRUKCE OBJEKTU
C86: Objekt:
E87: =E9 -> 20 - VEŘEJNÉ HŘIŠTĚ - OPLOCENÍ
C89: Místo: | F89: =F12 -> U Školičky 2176/1, 2177/3, Praha 9 | I89: Datum: | J89: =IF(J12="","",J12) -> 19. 12. 2025
C91: Zadavatel: | F91: =E15 -> MČ Praha 9 | I91: Projektant: | J91: =E21 -> ArtStat s.r.o.
C92: Uchazeč: | F92: =IF(E18="","",E18) -> Vyplň údaj | I92: Zpracovatel: | J92: =E24 -> Vladimír Mrázek
C94: Kód dílu - Popis | J94: Cena celkem [CZK]
C96: Náklady ze soupisu prací | J96: =J122 -> 0 | AU96: -1
...

Sheet 21 - MaR
AT2: {2ae5b185-a9d5-438a-a027-5803168d4679}
AT3: 2
D4: KRYCÍ LIST SOUPISU PRACÍ | M4: v --- níže se nacházejí doplnkové a pomocné údaje k sestavám --- v | AT4: False
D6: Stavba:
E7: ='Rekapitulace stavby'!K6 -> MŠ KOVÁŘSKÁ II - REKONSTRUKCE OBJEKTU
D8: Objekt:
E9: 21 - MaR
D11: KSO: | I11: CC-CZ:
D12: Místo: | F12: U Školičky 2176/1, 2177/3, Praha 9 | I12: Datum: | J12: ='Rekapitulace stavby'!AN8 -> 19. 12. 2025
D14: Zadavatel: | I14: IČ:
E15: MČ Praha 9 | I15: DIČ:
D17: Uchazeč: | I17: IČ: | J17: ='Rekapitulace stavby'!AN13 -> Vyplň údaj
E18: ='Rekapitulace stavby'!E14 -> Vyplň údaj | I18: DIČ: | J18: ='Rekapitulace stavby'!AN14 -> Vyplň údaj
D20: Projektant: | I20: IČ:
E21: ArtStat s.r.o. | I21: DIČ:
D23: Zpracovatel: | I23: IČ:
E24: Vladimír Mrázek | I24: DIČ:
D26: Poznámka:
D30: Cena bez DPH | J30: =ROUND(J120, 2) -> 0
F32: Základ daně | I32: Sazba daně | J32: Výše daně
D33: DPH | E33: základní | F33: =ROUND((SUM(BE120:BE151)), 2) -> 0 | I33: 0.21 | J33: =ROUND(((SUM(BE120:BE151))*I33), 2) -> 0
E34: snížená | F34: =ROUND((SUM(BF120:BF151)), 2) -> 0 | I34: 0.12 | J34: =ROUND(((SUM(BF120:BF151))*I34), 2) -> 0
E35: zákl. přenesená | F35: =ROUND((SUM(BG120:BG151)), 2) -> 0 | I35: 0.21 | J35: =0 -> 0
E36: sníž. přenesená | F36: =ROUND((SUM(BH120:BH151)), 2) -> 0 | I36: 0.12 | J36: =0 -> 0
E37: nulová | F37: =ROUND((SUM(BI120:BI151)), 2) -> 0 | I37: 0 | J37: =0 -> 0
D39: Cena s DPH | G39: v | H39: CZK | J39: =SUM(J30:J37) -> 0
D50: Projektant | G50: Zpracovatel
D61: Datum a podpis: | F61: Razítko | G61: Datum a podpis: | J61: Razítko
D65: Objednavatel | G65: Uchazeč
D76: Datum a podpis: | F76: Razítko | G76: Datum a podpis: | J76: Razítko
C82: REKAPITULACE ČLENĚNÍ SOUPISU PRACÍ
C84: Stavba:
E85: =E7 -> MŠ KOVÁŘSKÁ II - REKONSTRUKCE OBJEKTU
C86: Objekt:
E87: =E9 -> 21 - MaR
C89: Místo: | F89: =F12 -> U Školičky 2176/1, 2177/3, Praha 9 | I89: Datum: | J89: =IF(J12="","",J12) -> 19. 12. 2025
C91: Zadavatel: | F91: =E15 -> MČ Praha 9 | I91: Projektant: | J91: =E21 -> ArtStat s.r.o.
C92: Uchazeč: | F92: =IF(E18="","",E18) -> Vyplň údaj | I92: Zpracovatel: | J92: =E24 -> Vladimír Mrázek
C94: Kód dílu - Popis | J94: Cena celkem [CZK]
C96: Náklady ze soupisu prací | J96: =J120 -> 0 | AU96: -1
...

Sheet Seznam figur
C4: SEZNAM FIGUR
C5: Kód: | D5: 03_2026_AKTUALIZACE
C6: Stavba: | D6: MŠ KOVÁŘSKÁ II - REKONSTRUKCE OBJEKTU
C7: Datum: | D7: ='Rekapitulace stavby'!AN8 -> 19. 12. 2025
C9: Kód | D9: Popis | E9: MJ | F9: Výměra
C10: 04 | D10: STAVEBNÍ PRÁCE
C11: P01a_vinyl | F11: 330.79
D12: "1NP" | F12: 0
C13: P01a_vinyl | D13: +12,54+3,68+10,39+19,55+128,98+3,59+18,53+128,23+5,30 | F13: 330.79
C14: Použití figury:
C15: 77624111 | D15: Lepení hladkých (bez vzoru) pásů z vinylu | E15: m2 | F15: 707.07
C16: 6324511 | D16: Potěr cementový samonivelační litý CT-C30-F6 - tl 63 mm | E16: m2 | F16: 707.07
C17: 713121121 | D17: Montáž izolace tepelné podlah volně kladenými rohožemi, pásy, dílci, deskami 2 vrstvy | E17: m2 | F17: 523.85
C18: 776141111 | D18: Stěrka podlahová nivelační pro vyrovnání podkladu povlakových podlah pevnosti 20 MPa tl do 3 mm | E18: m2 | F18: 707.07
C19: 783923 | D19: Penetrační nátěr betonových podlah | E19: m2 | F19: 1082.57
C20: P01b_KD_30_30 | F20: 58.08
D21: "1NP" | F21: 0
C22: P01b_KD_30_30 | D22: +1,97+1,08+10,24+3,97+22,13+1,51+6,72+1,55+1,19+5,21+2,51 | F22: 58.08
C23: Použití figury:
C24: 771574416 | D24: Montáž podlah keramických hladkých lepených cementovým flexibilním lepidlem přes 9 do 12 ks/m2 | E24: m2 | F24: 137.79
C25: 6324512 | D25: Potěr cementový samonivelační litý CT-C30-F6 - tl 54 mm | E25: m2 | F25: 313.73
C26: 713121121 | D26: Montáž izolace tepelné podlah volně kladenými rohožemi, pásy, dílci, deskami 2 vrstvy | E26: m2 | F26: 523.85
C27: 783923 | D27: Penetrační nátěr betonových podlah | E27: m2 | F27: 1082.57
C28: P01b_kerdl | F28: 92.18
D29: "1NP" | F29: 0
C30: P01b_kerdl | D30: +54,83+15,56+3,1+15,75+2,94 | F30: 92.18
C31: Použití figury:
C32: 771574412 | D32: Montáž podlah keramických hladkých lepených cementovým flexibilním lepidlem přes 0,5 do 2 ks/m2 | E32: m2 | F32: 172.74
C33: 6324512 | D33: Potěr cementový samonivelační litý CT-C30-F6 - tl 54 mm | E33: m2 | F33: 313.73
C34: 713121121 | D34: Montáž izolace tepelné podlah volně kladenými rohožemi, pásy, dílci, deskami 2 vrstvy | E34: m2 | F34: 523.85
C35: 783923 | D35: Penetrační nátěr betonových podlah | E35: m2 | F35: 1082.57
C36: P01c_zona | F36: 31.47
C37: P01c_zona | D37: +31,47 | F37: 31.47
C38: Použití figury:
C39: 77621111 | D39: Lepení textilní čistící zony | E39: m2 | F39: 31.47
C40: 6324513 | D40: Potěr cementový samonivelační litý CT-C30-F6 - tl 61 mm | E40: m2 | F40: 31.47
C41: 713121121 | D41: Montáž izolace tepelné podlah volně kladenými rohožemi, pásy, dílci, deskami 2 vrstvy | E41: m2 | F41: 523.85
C42: 783923 | D42: Penetrační nátěr betonových podlah | E42: m2 | F42: 1082.57
C43: P01d_KD_30_30 | F43: 21.05
C44: P01d_KD_30_30 | D44: +7,32+4,91+6,0+2,82 | F44: 21.05
...
