Workbook

Sheet Výkaz výměr
A2: Výkaz Výměr
A5: Výkaz výměr - separace
A7: Sběrné nádoby na separované odpady* | B7: Četnost vývozu ** | C7: Jednotková cena bez DPH (za jeden vývoz jedné nádoby)*
A8: Separační stání
A9: Papír – 1 100 l | B9: 1 x za týden
A10: Plasty - 1 100 l | B10: 2 x za týden
A11: Sklo směsné – 1 500 l | B11: 1x za měsíc
A12: Sklo bílé – 1 500 l | B12: 1x za měsíc
A13: Sklo půlený kontejner – 2 200 l | B13: 1x za měsíc
A14: Kov - min. 1 100 l spodní výsyp | B14: 1 x za měsíc
A16: Papír – podz. kontejner – 5 000 l | B16: 1x za týden
A17: Plasty – podz. kontejner – 5 000 l | B17: 1x za týden
A18: Sklo – půlený podz. kontejner – 3 000 l | B18: 1x za měsíc
A19: Nádoby u rodinných domů
A20: Papír – 120 l | B20: 1 x měsíčně
A21: Papír – 1 100 l | B21: 1 x měsíčně / 2 x měsíčně
A22: Plast – 120 l / 240 l | B22: 1 x měsíčně
A23: Plast - 1 100 l | B23: 1 x měsíčně / 2 x měsíčně
A25: * cena zahrnuje veškeré činnosti stanovené v zadávací dokumentace, s výjimkou části díla, které je oceněno samostatně ** zadavatel si vyhrazuje právo upravovat četnost svozu dle aktuálních potřeb a požadavků občanů města, případně realizovat vývoz na výzvu
A27: Pronájem nádob | B27: doba pronájmu | C27: Jednotková cena bez DPH za pronájem jedné nádoby za měsíc
A28: Papír (1 100 l) | B28: 1 měsíc
A29: Papír (120 l) | B29: 1 měsíc
A30: Plast (1 100 l) | B30: 1 měsíc
A31: Sklo směsné (1 500 l) | B31: 1 měsíc
A32: Sklo bílé (1 500 l) | B32: 1 měsíc
A33: Kov - min. 1 100 l spodní výsyp | B33: 1 měsíc
A36: Odvoz nebezpečného odpadu ze sběrného dvora | B36: Rozsah | C36: Jednotková cena bez DPH (za provedení 1 vývozu NO ze SD)*
A37: Vývoz nebezpečného odpadu | B37: 1 vývoz NO
A38: * cena zahrnuje veškeré náklady na manipulaci a dopravu, cena nezahrnuje nakládání s převzatými odpady, cena za nakládání s převzatými odpady se uvede do tabulky Odpad-nakládání.
A41: Přistavení a vývoz kontejneru | B41: Přistavení a vývoz kontejneru | C41: Jednotková cena bez DPH za přistavení a vývoz kontejneru*
A42: Kont. Abroll o objemu 11 m3 | B42: 1 vývoz
A43: Kont. Abroll o objemu 16 m3 | B43: 1 vývoz
A44: * cena zahrnuje veškeré náklady na manipulaci a dopravu, cena nezahrnuje nakládání s převzatými odpady, cena za nakládání s převzatými odpady se uvede do tabulky Odpad-nakládání.
A47: Výkaz výměr - Odpad - nakládání
A49: Odpad – nakládání | B49: Jednotkové množství | C49: Jednotková cena bez DPH (za 1 t)*
A50: Papír a lepenka (kat. č. 20 01 01) | B50: t
A51: Kompozitní a nápojové kartony (kat. č. 20 01 01 01) | B51: t
A52: Sklo (kat. č. 20 01 02) | B52: t
A53: Plasty (kat. č. 20 01 39) | B53: t
A54: Kovy (kat. č. 20 01 40) | B54: t
...

Sheet Nabídková cena
A4: Nabídková cena dle výkazu výměr - Stanovení nabídkové ceny
A7: Cena celkem za rok 2027 bez DPH (Kč) | C7: ='Stanovení nabídkové ceny'!C115 -> 680000
A8: Výše DPH za rok 2027 (Kč)
A9: Cena celkem za rok 2027 včetně DPH (Kč) | C9: =C7+C8 -> 680000
A11: Cena celkem za rok 2028 bez DPH (Kč) | C11: ='Stanovení nabídkové ceny'!D115 -> 864000
A12: Výše DPH za rok 2028 (Kč)
A13: Cena celkem za rok 2028 včetně DPH (Kč) | C13: =C11+C12 -> 864000
A15: Cena celkem za rok 2029 bez DPH (Kč) | C15: ='Stanovení nabídkové ceny'!E115 -> 888000
A16: Výše DPH za rok 2029 (Kč)
A17: Cena celkem za rok 2029 včetně DPH (Kč) | C17: =C15+C16 -> 888000
A21: Nabídková cena bez DPH v Kč za 34 měsíců | C21: =C7+C11+C15 -> 2432000
A23: Výše DPH v Kč za 34 měsíců
A25: Nabídková cena včetně DPH v Kč za 34 měsíců | C25: =C21+C23 -> 2432000
A27: * Za správnost stanovené sazby DPH nese odpovědnost účastník zadávacího řízení.
A29: Návod pro vyplnění: účastník vyplní pouze vyznačená, tzn. odemčená a podbarvená pole - žlutě, na všech záložkách
A36: Účastník:

Sheet Stanovení nabídkové ceny
A2: Výkaz výměr - stanovení nabídkové ceny
A6: Vývoz nádob - separace
A8: Typ nádoby | B8: Počet nádob | C8: Počet svozů / rok | D8: Jednotková cena bez DPH (za jeden vývoz jedné nádoby)* | E8: Cena za vývoz celkem bez DPH
A9: Papír – 1 100 l | B9: 22 | C9: 52 | D9: ='Výkaz výměr'!C9 -> 0 | E9: =B9*C9*D9 -> 0
A10: Plasty - 1 100 l | B10: 27 | C10: 104 | D10: ='Výkaz výměr'!C10 -> 0 | E10: =B10*C10*D10 -> 0
A11: Sklo směsné – 1 500 l | B11: 8 | C11: 12 | D11: ='Výkaz výměr'!C11 -> 0 | E11: =B11*C11*D11 -> 0
A12: Sklo bílé – 1 500 l | B12: 11 | C12: 12 | D12: ='Výkaz výměr'!C12 -> 0 | E12: =B12*C12*D12 -> 0
A13: Sklo půlený kontejner – 2 200 l | B13: 4 | C13: 12 | D13: ='Výkaz výměr'!C13 -> 0 | E13: =B13*C13*D13 -> 0
A14: Kov - min. 1 100 l spodní výsyp | B14: 6 | C14: 12 | D14: ='Výkaz výměr'!C14 -> 0 | E14: =B14*C14*D14 -> 0
A15: Podzemní kontejnery
A16: Papír – podz. kontejner – 5 000 l | B16: 5 | C16: 52 | D16: ='Výkaz výměr'!C16 -> 0 | E16: =B16*C16*D16 -> 0
A17: Plasty – podz. kontejner – 5 000 l | B17: 6 | C17: 52 | D17: ='Výkaz výměr'!C17 -> 0 | E17: =B17*C17*D17 -> 0
A18: Sklo – půlený podz. kontejner – 3 000 l | B18: 5 | C18: 12 | D18: ='Výkaz výměr'!C18 -> 0 | E18: =B18*C18*D18 -> 0
A19: Nádoby u rodinných a bytových domů
A20: Papír – 120 l | B20: 783 | C20: 12 | D20: ='Výkaz výměr'!C20 -> 0 | E20: =B20*C20*D20 -> 0
A21: Papír – 1 100 l | B21: 9 | C21: 12 | D21: ='Výkaz výměr'!C21 -> 0 | E21: =B21*C21*D21 -> 0
A22: Papír - 1 100 l | B22: 2 | C22: 24 | D22: ='Výkaz výměr'!C21 -> 0 | E22: =B22*C22*D22 -> 0
A23: Plast – 120 l / 240 l | B23: 1067 | C23: 12 | D23: ='Výkaz výměr'!C22 -> 0 | E23: =B23*C23*D23 -> 0
A24: Plast - 1 100 l | B24: 10 | C24: 12 | D24: ='Výkaz výměr'!C23 -> 0 | E24: =B24*C24*D24 -> 0
A25: Plast - 1 100 l | B25: 2 | C25: 24 | D25: ='Výkaz výměr'!C23 -> 0 | E25: =B25*C25*D25 -> 0
A26: Celkem vývoz nádob – separace | E26: =SUM(E9:E25) -> 0
A29: * cena zahrnuje veškeré činnosti stanovené v zadávací dokumentace, s výjimkou části díla, které je oceněno samostatně
A31: Pronájem nádob
A33: Objem sběrných nádob | B33: Počet nádob | C33: Délka pronájmu / měsíc | D33: Jednotková cena bez DPH (za pronájem jedné nádoby) | E33: Cena za pronájem nádob celkem bez DPH
A34: Papír (1 100 l) | B34: 29 | C34: 12 | D34: ='Výkaz výměr'!C28 -> 0 | E34: =B34*C34*D34 -> 0
A35: Papír (120 l) | B35: 783 | C35: 12 | D35: ='Výkaz výměr'!C29 -> 0 | E35: =B35*C35*D35 -> 0
A36: Plast (1 100 l) | B36: 32 | C36: 12 | D36: ='Výkaz výměr'!C30 -> 0 | E36: =B36*C36*D36 -> 0
A37: Sklo směsné (1 500 l) | B37: 2 | C37: 12 | D37: ='Výkaz výměr'!C31 -> 0 | E37: =B37*C37*D37 -> 0
A38: Sklo bílé (1 500 l) | B38: 5 | C38: 12 | D38: ='Výkaz výměr'!C32 -> 0 | E38: =B38*C38*D38 -> 0
A39: Kov min (1 100 l) | B39: 6 | C39: 12 | D39: ='Výkaz výměr'!C33 -> 0 | E39: =B39*C39*D39 -> 0
A40: Celkem pronájem nádob | E40: =SUM(E34:E39) -> 0
A43: Výkaz výměr - Vývoz NO ze sběrného dvora
A45: Vývoz NO | B45: počet / rok | C45: Jednotková cena bez DPH za 1 vývoz | D45: Cena za rok
A46: Vývoz nebezpečného odpadu | B46: 4 | C46: ='Výkaz výměr'!C37 -> 0 | D46: =B46*C46 -> 0
A47: Vývoz NO - celkem | D47: =SUM(D46) -> 0
A50: Výkaz výměr - Přistavení a vývoz kontejneru
A52: Vývoz kontejneru | B52: počet vývozů / rok | C52: Jednotková cena bez DPH za 1 vývoz | D52: Cena za rok
A53: Kont. Abroll o objemu 11 m3 | B53: 24 | C53: ='Výkaz výměr'!C42 -> 0 | D53: =B53*C53 -> 0
A54: Kont. Abroll o objemu 16 m3 | B54: 52 | C54: ='Výkaz výměr'!C43 -> 0 | D54: =B54*C54 -> 0
A55: Vývoz kontejnerů - celkem | D55: =SUM(D53:D54) -> 0
...
