Workbook

Sheet Výkaz výměr
A2: Výkaz Výměr
A5: Výkaz výměr - separace
A7: Sběrné nádoby na separované odpady* | B7: Četnost vývozu ** | C7: Jednotková cena bez DPH (za jeden vývoz jedné nádoby)*
A8: Separační stání
A9: Papír – 1 100 l | B9: 1 x za týden
A10: Plasty - 1 100 l | B10: 2 x za týden
A11: Sklo směsné – 1 500 l | B11: 1x za měsíc
A12: Sklo bílé – 1 500 l | B12: 1x za měsíc
A13: Sklo půlený kontejner – 2 200 l | B13: 1x za měsíc
A14: Kov - min. 1 100 l spodní výsyp | B14: 1 x za měsíc
A16: Papír – podz. kontejner – 5 000 l | B16: 1x za týden
A17: Plasty – podz. kontejner – 5 000 l | B17: 1x za týden
A18: Sklo – půlený podz. kontejner – 3 000 l | B18: 1x za měsíc
A19: Nádoby u rodinných domů
A20: Papír – 120 l | B20: 1 x měsíčně
A21: Papír – 1 100 l | B21: 1 x měsíčně / 2 x měsíčně
A22: Plast – 120 l / 240 l | B22: 1 x měsíčně
A23: Plast - 1 100 l | B23: 1 x měsíčně / 2 x měsíčně
A25: * cena zahrnuje veškeré činnosti stanovené v zadávací dokumentace, s výjimkou části díla, které je oceněno samostatně ** zadavatel si vyhrazuje právo upravovat četnost svozu dle aktuálních potřeb a požadavků občanů města, případně realizovat vývoz na výzvu
A27: Pronájem nádob | B27: doba pronájmu | C27: Jednotková cena bez DPH za pronájem jedné nádoby za měsíc
A28: Papír (1 100 l) | B28: 1 měsíc
A29: Papír (120 l) | B29: 1 měsíc
A30: Plast (1 100 l) | B30: 1 měsíc
A31: Sklo směsné (1 500 l) | B31: 1 měsíc
A32: Sklo bílé (1 500 l) | B32: 1 měsíc
A33: Kov - min. 1 100 l spodní výsyp | B33: 1 měsíc
A36: Odvoz nebezpečného odpadu ze sběrného dvora | B36: Rozsah | C36: Jednotková cena bez DPH (za provedení 1 vývozu NO ze SD)*
A37: Vývoz nebezpečného odpadu | B37: 1 vývoz NO
A38: * cena zahrnuje veškeré náklady na manipulaci a dopravu, cena nezahrnuje nakládání s převzatými odpady, cena za nakládání s převzatými odpady se uvede do tabulky Odpad-nakládání.
A41: Přistavení a vývoz kontejneru | B41: Přistavení a vývoz kontejneru | C41: Jednotková cena bez DPH za přistavení a vývoz kontejneru*
A42: Kont. Abroll o objemu 11 m3 | B42: 1 vývoz
A43: Kont. Abroll o objemu 16 m3 | B43: 1 vývoz
A44: * cena zahrnuje veškeré náklady na manipulaci a dopravu, cena nezahrnuje nakládání s převzatými odpady, cena za nakládání s převzatými odpady se uvede do tabulky Odpad-nakládání.
A47: Výkaz výměr - Odpad - nakládání
A49: Odpad – nakládání | B49: Jednotkové množství | C49: Jednotková cena bez DPH (za 1 t)*
A50: Papír a lepenka (kat. č. 20 01 01) | B50: t
A51: Kompozitní a nápojové kartony (kat. č. 20 01 01 01) | B51: t
A52: Sklo (kat. č. 20 01 02) | B52: t
A53: Plasty (kat. č. 20 01 39) | B53: t
A54: Kovy (kat. č. 20 01 40) | B54: t
A55: Izolační materiál s obsahem azbestu (kat. č. 17 06 01) | B55: t
A56: Stavební materiály obsahující azbest (kat. č. 17 06 05) | B56: t
A57: Rozpouštědla (kat. č. 20 01 13) | B57: t
A58: Kyseliny (kat. č. 20 01 14) | B58: t
A59: Zásady (kat. č. 20 01 15) | B59: t
A60: Pesticidy (kat. č. 20 01 19) | B60: t
A61: Olej a tuk neuvedený pod číslem 20 01 25 (kat. č. 20 01 26) | B61: t
... A66: Objemný odpad (kat. č. 20 03 07) - jiné nakládání než skládkování | B66: t
A67: Poplatek za uložení odpadu na skládku | B67: t | C67: v zákonné výši
A68: * účastník je oprávněn ocenit položku nulou, případně záporným číslem, záporně oceněná položka bude chápana jako platba zadavateli za převzaté odpady.
A69: ** ceny jsou uvedeny bez poplatku za uložení odpadu na skládku, poplatek bude k ceně připočten v aktuální výši dle zákona.
A71: Pozn. 1 : U ostatních odpadů (mimo výše uvedených Směsný komunální odpad a Objemný odpad), pokud budou uloženy na skládku se předpokládá, že budou uloženy jako zbytkový odpad (případně nebezpečný), a tudíž se nepředpokládá, že by v průběhu trvání smlouvy docházelo k výrzné změně výše poplatku (příloha č.9 k zákonu 541/2020 Sb., o odpadech). V případě, že takovéto odpady plánuje uchazeč ukládat na skládku, pak zákonný poplatek (za zbytkový odpad za rok 2027) bude již součástí nabídkové ceny za 1 tunu. V případě změny výše poplatku, nebo jiného důvodu znemožňujícího ukládat odpad na skládku jako zbytkový odpad, bude každý takový případ posouzen v průběhu smlouvy individuálně a poplatek upraven dle zákonné výše.
A73: Uchazeč uvede jakým jiným způsobem než skládkováním bude nakládat se Směsným komunálním odpadem a s Objemným odpadem:
A76: Návod k vyplnění: Účastník je oprávněn upravovat pouze žlutě podbravené buňky.

Sheet Nabídková cena
A4: Nabídková cena dle výkazu výměr - Stanovení nabídkové ceny
A7: Cena celkem za rok 2027 bez DPH (Kč) | C7: ='Stanovení nabídkové ceny'!C115 -> 680000
A8: Výše DPH za rok 2027 (Kč)
A9: Cena celkem za rok 2027 včetně DPH (Kč) | C9: =C7+C8 -> 680000
A11: Cena celkem za rok 2028 bez DPH (Kč) | C11: ='Stanovení nabídkové ceny'!D115 -> 864000
A12: Výše DPH za rok 2028 (Kč)
A13: Cena celkem za rok 2028 včetně DPH (Kč) | C13: =C11+C12 -> 864000
A15: Cena celkem za rok 2029 bez DPH (Kč) | C15: ='Stanovení nabídkové ceny'!E115 -> 888000
A16: Výše DPH za rok 2029 (Kč)
A17: Cena celkem za rok 2029 včetně DPH (Kč) | C17: =C15+C16 -> 888000
A21: Nabídková cena bez DPH v Kč za 34 měsíců | C21: =C7+C11+C15 -> 2432000
A23: Výše DPH v Kč za 34 měsíců
A25: Nabídková cena včetně DPH v Kč za 34 měsíců | C25: =C21+C23 -> 2432000
A27: * Za správnost stanovené sazby DPH nese odpovědnost účastník zadávacího řízení.
A29: Návod pro vyplnění: účastník vyplní pouze vyznačená, tzn. odemčená a podbarvená pole - žlutě, na všech záložkách
A36: Účastník:

Sheet Stanovení nabídkové ceny
A2: Výkaz výměr - stanovení nabídkové ceny
A6: Vývoz nádob - separace
A8: Typ nádoby | B8: Počet nádob | C8: Počet svozů / rok | D8: Jednotková cena bez DPH (za jeden vývoz jedné nádoby)* | E8: Cena za vývoz celkem bez DPH
A9: Papír – 1 100 l | B9: 22 | C9: 52 | D9: ='Výkaz výměr'!C9 -> 0 | E9: =B9*C9*D9 -> 0
A10: Plasty - 1 100 l | B10: 27 | C10: 104 | D10: ='Výkaz výměr'!C10 -> 0 | E10: =B10*C10*D10 -> 0
A11: Sklo směsné – 1 500 l | B11: 8 | C11: 12 | D11: ='Výkaz výměr'!C11 -> 0 | E11: =B11*C11*D11 -> 0
A12: Sklo bílé – 1 500 l | B12: 11 | C12: 12 | D12: ='Výkaz výměr'!C12 -> 0 | E12: =B12*C12*D12 -> 0
A13: Sklo půlený kontejner – 2 200 l | B13: 4 | C13: 12 | D13: ='Výkaz výměr'!C13 -> 0 | E13: =B13*C13*D13 -> 0
A14: Kov - min. 1 100 l spodní výsyp | B14: 6 | C14: 12 | D14: ='Výkaz výměr'!C14 -> 0 | E14: =B14*C14*D14 -> 0
A15: Podzemní kontejnery
A16: Papír – podz. kontejner – 5 000 l | B16: 5 | C16: 52 | D16: ='Výkaz výměr'!C16 -> 0 | E16: =B16*C16*D16 -> 0
A17: Plasty – podz. kontejner – 5 000 l | B17: 6 | C17: 52 | D17: ='Výkaz výměr'!C17 -> 0 | E17: =B17*C17*D17 -> 0
A18: Sklo – půlený podz. kontejner – 3 000 l | B18: 5 | C18: 12 | D18: ='Výkaz výměr'!C18 -> 0 | E18: =B18*C18*D18 -> 0
A19: Nádoby u rodinných a bytových domů
A20: Papír – 120 l | B20: 783 | C20: 12 | D20: ='Výkaz výměr'!C20 -> 0 | E20: =B20*C20*D20 -> 0
A21: Papír – 1 100 l | B21: 9 | C21: 12 | D21: ='Výkaz výměr'!C21 -> 0 | E21: =B21*C21*D21 -> 0
A22: Papír - 1 100 l | B22: 2 | C22: 24 | D22: ='Výkaz výměr'!C21 -> 0 | E22: =B22*C22*D22 -> 0
A23: Plast – 120 l / 240 l | B23: 1067 | C23: 12 | D23: ='Výkaz výměr'!C22 -> 0 | E23: =B23*C23*D23 -> 0
A24: Plast - 1 100 l | B24: 10 | C24: 12 | D24: ='Výkaz výměr'!C23 -> 0 | E24: =B24*C24*D24 -> 0
A25: Plast - 1 100 l | B25: 2 | C25: 24 | D25: ='Výkaz výměr'!C23 -> 0 | E25: =B25*C25*D25 -> 0
A26: Celkem vývoz nádob – separace | E26: =SUM(E9:E25) -> 0
A29: * cena zahrnuje veškeré činnosti stanovené v zadávací dokumentace, s výjimkou části díla, které je oceněno samostatně
A31: Pronájem nádob
A33: Objem sběrných nádob | B33: Počet nádob | C33: Délka pronájmu / měsíc | D33: Jednotková cena bez DPH (za pronájem jedné nádoby) | E33: Cena za pronájem nádob celkem bez DPH
A34: Papír (1 100 l) | B34: 29 | C34: 12 | D34: ='Výkaz výměr'!C28 -> 0 | E34: =B34*C34*D34 -> 0
A35: Papír (120 l) | B35: 783 | C35: 12 | D35: ='Výkaz výměr'!C29 -> 0 | E35: =B35*C35*D35 -> 0
A36: Plast (1 100 l) | B36: 32 | C36: 12 | D36: ='Výkaz výměr'!C30 -> 0 | E36: =B36*C36*D36 -> 0
A37: Sklo směsné (1 500 l) | B37: 2 | C37: 12 | D37: ='Výkaz výměr'!C31 -> 0 | E37: =B37*C37*D37 -> 0
A38: Sklo bílé (1 500 l) | B38: 5 | C38: 12 | D38: ='Výkaz výměr'!C32 -> 0 | E38: =B38*C38*D38 -> 0
A39: Kov min (1 100 l) | B39: 6 | C39: 12 | D39: ='Výkaz výměr'!C33 -> 0 | E39: =B39*C39*D39 -> 0
A40: Celkem pronájem nádob | E40: =SUM(E34:E39) -> 0
A43: Výkaz výměr - Vývoz NO ze sběrného dvora
A45: Vývoz NO | B45: počet / rok | C45: Jednotková cena bez DPH za 1 vývoz | D45: Cena za rok
A46: Vývoz nebezpečného odpadu | B46: 4 | C46: ='Výkaz výměr'!C37 -> 0 | D46: =B46*C46 -> 0
A47: Vývoz NO - celkem | D47: =SUM(D46) -> 0
A50: Výkaz výměr - Přistavení a vývoz kontejneru
A52: Vývoz kontejneru | B52: počet vývozů / rok | C52: Jednotková cena bez DPH za 1 vývoz | D52: Cena za rok
A53: Kont. Abroll o objemu 11 m3 | B53: 24 | C53: ='Výkaz výměr'!C42 -> 0 | D53: =B53*C53 -> 0
A54: Kont. Abroll o objemu 16 m3 | B54: 52 | C54: ='Výkaz výměr'!C43 -> 0 | D54: =B54*C54 -> 0
A55: Vývoz kontejnerů - celkem | D55: =SUM(D53:D54) -> 0
A59: Nakládání s odpady
A61: Kat. číslo odpadu | B61: Název druhu odpadu | C61: Kategorie odpadu | D61: Množství odpadu (t) | E61: Jednotková cena bez DPH (za 1 t) | F61: Cena celkem bez DPH
A62: 200101 | B62: Papír a lepenka | C62: O | D62: 150 | E62: ='Výkaz výměr'!C50 -> 0 | F62: =D62*E62 -> 0
A63: 20010101 | B63: Kompozitní a nápojové kartony | C63: O | D63: 3 | E63: ='Výkaz výměr'!C51 -> 0 | F63: =D63*E63 -> 0
A64: 200102 | B64: Sklo | C64: O | D64: 85 | E64: ='Výkaz výměr'!C52 -> 0 | F64: =D64*E64 -> 0
A65: 200139 | B65: Plasty | C65: O | D65: 140 | E65: ='Výkaz výměr'!C53 -> 0 | F65: =D65*E65 -> 0
A66: 200140 | B66: Kovy | C66: O | D66: 4 | E66: ='Výkaz výměr'!C54 -> 0 | F66: =D66*E66 -> 0
A67: 170601 | B67: Izolační materiál s obsahem azbestu (kat. č. 17 06 01) | C67: N | D67: 5 | E67: ='Výkaz výměr'!C55 -> 0 | F67: =D67*E67 -> 0
A68: 170605 | B68: Stavební materiály obsahující azbest (kat. č. 17 06 05) | C68: N | D68: 20 | E68: ='Výkaz výměr'!C56 -> 0 | F68: =D68*E68 -> 0
A69: 200113 | B69: Rozpouštědla | C69: N | D69: 0.1 | E69: ='Výkaz výměr'!C57 -> 0 | F69: =D69*E69 -> 0
A70: 200114 | B70: Kyseliny | C70: N | D70: 0.1 | E70: ='Výkaz výměr'!C58 -> 0 | F70: =D70*E70 -> 0
A71: 200115 | B71: Zásady | C71: N | D71: 0.1 | E71: ='Výkaz výměr'!C59 -> 0 | F71: =D71*E71 -> 0
A72: 200119 | B72: Pesticidy | C72: N | D72: 0.1 | E72: ='Výkaz výměr'!C60 -> 0 | F72: =D72*E72 -> 0
A73: 200126 | B73: Olej a tuk neuvedený pod číslem 200125 | C73: N | D73: 2 | E73: ='Výkaz výměr'!C61 -> 0 | F73: =D73*E73 -> 0
A74: 200127 | B74: Barvy, tiskařské barvy, lepidla, pryskyřice obsahující nebezpečné látky | C74: N | D74: 5 | E74: ='Výkaz výměr'!C62 -> 0 | F74: =D74*E74 -> 0
A75: Celkem nakládání s odpady (bez odpadu 200301 a 200307) | F75: =SUM(F62:F74) -> 0
A78: Nakládání s SKO a objemnými odpady
A80: Množství potenciálně skládkovaného SKO* | B80: 60
A81: Množství potenciálně skládkovaného Objemného odpadu* | B81: 420
A83: *jedná se o předpokládané (pro stanovení nabídkové ceny závazné) množství odpadu 480 t (kódy 200301 a 200307), jehož produkce se předpokládá a které by mohlo být uloženo na skládce. V případě, že uchazeč bude s převzatým odpadem nakládat jiným konečným způsobem než skládkováním, (např. energetické využití), pak je oprávněn o toto množství výše uvednou hodnotu ponížit, (doplní ho do podžluceného pole) což se promítne do řádku Poplatek za skládkování. Uchazeč současně do nabídky uvede jakým jiným způsobem bude s odpadem (kódy 200301 a 200307) nakládat a toto sdělení (zejména množství odpadů, které nebude skládkováno) bude pro uchazeče závazné a bude zapracováno do smlouvy o dílo před jejím podpisem. Předpokládá se, že na veškerý SKO a Objemný odpad uložený na skládku nebude uplatněna sleva na poplatek za skládkování a poplatek bude bude hrazen v plné výši.
A87: ROK: | C87: rok 2027 | D87: rok 2028 | E87: rok 2029
A88: Poplatek za skládkování | B88: Množství skládkovného odpadu | C88: =C89+C92 -> 400 | D88: =D89+D92 -> 480 | E88: =E89+E92 -> 480
B89: Směsný komunální odpad (kat. č. 20 03 01) - skládkování | C89: =(B80/12*10-C95) -> 50 | D89: =(B80-D95) -> 60 | E89: =(B80-E95) -> 60
B90: Jednotková cena za 1 t | C90: =('Výkaz výměr'!C63) -> 0 | D90: =('Výkaz výměr'!C63) -> 0 | E90: =('Výkaz výměr'!C63) -> 0
B91: Cena za nakládání | C91: =C90*C89 -> 0 | D91: =D90*D89 -> 0 | E91: =E90*E89 -> 0
B92: Objemný odpad (kat. č. 20 03 07) - skládkování | C92: =(B81/12*10-C98) -> 350 | D92: =(B81-D98) -> 420 | E92: =(B81-E98) -> 420
B93: Jednotková cena za 1 t | C93: =('Výkaz výměr'!C65) -> 0 | D93: =('Výkaz výměr'!C65) -> 0 | E93: =('Výkaz výměr'!C65) -> 0
B94: Cena za nakládání | C94: =C93*C92 -> 0 | D94: =D93*D92 -> 0 | E94: =E93*E92 -> 0
B95: Směsný komunální odpad (kat. č. 20 03 01) jiné nakládání než skládkování | G95: Lze uvést 0 až 60 t, pro rok 2027 jen 0 až 50 t
B96: Jednotková cena za 1 t | C96: =('Výkaz výměr'!C64) -> 0 | D96: =('Výkaz výměr'!C64) -> 0 | E96: =('Výkaz výměr'!C64) -> 0
B97: Cena za nakládání | C97: =C96*C95 -> 0 | D97: =D96*D95 -> 0 | E97: =E96*E95 -> 0
B98: Objemný odpad (kat. č. 20 03 07) - jiné nakládání než skládkování | G98: Lze uvést 0 až 420 t, pro rok 2027 jen 0 až 350 t
B99: Jednotková cena za 1 t | C99: =('Výkaz výměr'!C66) -> 0 | D99: =('Výkaz výměr'!C66) -> 0 | E99: =('Výkaz výměr'!C66) -> 0
B100: Cena za nakládání | C100: =C99*C98 -> 0 | D100: =D99*D98 -> 0 | E100: =E99*E98 -> 0
B101: Poplatek bez slevy za 1 t | C101: 1700 | D101: 1800 | E101: 1850
B102: Cena za nakládání s SKO a objemným odpadem celkem | C102: =C91+C94+C97+C100 -> 0 | D102: =D91+D94+D97+D100 -> 0 | E102: =E91+E94+E97+E100 -> 0
B103: Poplatek za skládkování celkem | C103: =C88*C101 -> 680000 | D103: =D88*D101 -> 864000 | E103: =E88*E101 -> 888000
B106: ČINNOST | C106: Cena celkem | D106: Cena celkem | E106: Cena celkem
C107: rok 2027 | D107: rok 2028 | E107: rok 2029
B108: Vývoz nádob | C108: =(E26)/12*10 -> 0 | D108: =(E26) -> 0 | E108: =(E26) -> 0
B109: Pronájem nádob | C109: =(E40)/12*10 -> 0 | D109: =(E40) -> 0 | E109: =(E40) -> 0
B110: Vývoz NO | C110: =(D47)/12*10 -> 0 | D110: =(D47) -> 0 | E110: =(D50) -> 0
B111: Vývoz VOK | C111: =(D55)/12*10 -> 0 | D111: =(D55) -> 0 | E111: =(D55) -> 0
B112: Nakládání s odpady | C112: =F75/12*10 -> 0 | D112: =F75 -> 0 | E112: =F75 -> 0
B113: Nakládání s SKO a objemnými odpady | C113: =C102 -> 0 | D113: =D102 -> 0 | E113: =E102 -> 0
B114: Poplatek za skládkování | C114: =C103 -> 680000 | D114: =D103 -> 864000 | E114: =E103 -> 888000
B115: Cena celkem za rok* | C115: =SUM(C108:C114) -> 680000 | D115: =SUM(D108:D114) -> 864000 | E115: =SUM(E108:E114) -> 888000
