Workbook

Sheet Rekapitulace stavby
A1: Export Komplet | BA1: 2.0 | BT1: False | BU1: False | BV1: {d581e373-7c2b-498d-a10f-d6d9130f173d}
AR2: >> skryté sloupce << | BS2: 0,01 | BT2: 21
BS3: 0,01 | BT3: 12
D4: REKAPITULACE STAVBY | AS4: v --- níže se nacházejí doplnkové a pomocné údaje k sestavám --- v | BE4: Návod na vyplnění | BS4: 0,001
D5: Kód: | K5: 11025 | BE5: Měnit lze pouze buňky se žlutým podbarvením!_x000D_ _x000D_ 1) na prvním listu Rekapitulace stavby vyplňte v sestavě_x000D_ _x000D_ a) Souhrnný list_x000D_ - údaje o Uchazeči_x000D_ (přenesou se do ostatních sestav i v jiných listech)_x000D_ _x000D_ b) Rekapitulace objektů_x000D_ - potřebné Ostatní náklady_x000D_ _x000D_ 2) na vybraných listech vyplňte v sestavě_x000D_ _x000D_ a) Krycí list_x000D_ - údaje o Uchazeči, pokud se liší od údajů o Uchazeči na Souhrnném listu_x000D_ (údaje se přenesou do ostatních sestav v daném listu)_x000D_ _x000D_ b) Rekapitulace rozpočtu_x000D_ - potřebné Ostatní náklady_x000D_ _x000D_ c) Celkové náklady za stavbu_x000D_ - ceny u položek_x000D_ - množství, pokud má žluté podbarvení_x000D_ - a v případě potřeby poznámku (ta je ve skrytém sloupci) | BS5: 0,01
D6: Stavba: | K6: Bytový dům Líbeznice, Martinova 142 | BS6: 0,01
D7: KSO: | AK7: CC-CZ: | BS7: 0,01
D8: Místo: | K8: Martinova 142, Líbeznice | AK8: Datum: | AN8: 3. 11. 2025 | BS8: 0,01
BS9: 0,01
D10: Zadavatel: | AK10: IČ: | BS10: 0,01
AK11: DIČ: | BS11: 0,01
BS12: 0,01
D13: Uchazeč: | AK13: IČ: | AN13: Vyplň údaj | BS13: 0,01
E14: Vyplň údaj | AK14: DIČ: | AN14: Vyplň údaj | BS14: 0,01
BS15: False
D16: Projektant: | AK16: IČ: | BS16: False
E17: Ateliér bod architekti s.r.o. osadní 799/26, P 7 | AK17: DIČ: | BS17: True
BS18: 0,01
D19: Zpracovatel: | AK19: IČ: | BS19: 0,01
E20: Hana Pejšová | AK20: DIČ: | BS20: True
D22: Poznámka:
D26: Cena bez DPH | AK26: =ROUND(AG94,2) -> 0
L28: Sazba daně | W28: Základ daně | AK28: Výše daně
D29: DPH | F29: základní | L29: 0.21 | W29: =ROUND(AZ94, 2) -> 0 | AK29: =ROUND(AV94, 2) -> 0
F30: snížená | L30: 0.12 | W30: =ROUND(BA94, 2) -> 0 | AK30: =ROUND(AW94, 2) -> 0
F31: zákl. přenesená | L31: 0.21 | W31: =ROUND(BB94, 2) -> 0 | AK31: 0
F32: sníž. přenesená | L32: 0.12 | W32: =ROUND(BC94, 2) -> 0 | AK32: 0
F33: nulová | L33: 0 | W33: =ROUND(BD94, 2) -> 0 | AK33: 0
D35: Cena s DPH | T35: v | X35: CZK | AK35: =SUM(AK26:AK33) -> 0
D49: Projektant | AH49: Zpracovatel
D60: Datum a podpis: | V60: Razítko | AH60: Datum a podpis: | AM60: Razítko
D64: Objednavatel | AH64: Uchazeč
D75: Datum a podpis: | V75: Razítko | AH75: Datum a podpis: | AM75: Razítko
C82: REKAPITULACE OBJEKTŮ STAVBY A SOUPISŮ PRACÍ
C84: Kód: | L84: =K5 -> 11025
C85: Stavba: | L85: =K6 -> Bytový dům Líbeznice, Martinova 142
C87: Místo: | L87: =IF(K8="","",K8) -> Martinova 142, Líbeznice | AI87: Datum: | AM87: =IF(AN8= "","",AN8) -> 3. 11. 2025
C89: Zadavatel: | L89: =IF(E11= "","",E11) | AI89: Projektant: | AM89: =IF(E17="","",E17) -> Ateliér bod architekti s.r.o. osadní 799/26, P 7 | AS89: Informatívní údaje z listů zakázek
C90: Uchazeč: | L90: =IF(E14= "Vyplň údaj","",E14) | AI90: Zpracovatel: | AM90: =IF(E20="","",E20) -> Hana Pejšová
C92: Kód | I92: Popis | AG92: Cena bez DPH [CZK] | AN92: Cena s DPH [CZK] | AQ92: Typ | AS92: z toho Ostat._x000D_ náklady [CZK] | AT92: DPH [CZK] | AU92: Normohodiny [h] | AV92: DPH základní [CZK] | AW92: DPH snížená [CZK] | AX92: DPH základní přenesená_x000D_ [CZK] | AY92: DPH snížená přenesená_x000D_ [CZK] | AZ92: Základna_x000D_ DPH základní | BA92: Základna_x000D_ DPH snížená | BB92: Základna_x000D_ DPH zákl. přenesená | BC92: Základna_x000D_ DPH sníž. přenesená | BD92: Základna_x000D_ DPH nulová
...

Sheet 01 - Bytový dům - stavebn...
L2: >> skryté sloupce << | AT2: {c44d2664-e4b9-495d-bed9-561227e26bef}
AT3: 1
D4: KRYCÍ LIST SOUPISU PRACÍ | M4: v --- níže se nacházejí doplnkové a pomocné údaje k sestavám --- v | AT4: False
D6: Stavba:
E7: ='Rekapitulace stavby'!K6 -> Bytový dům Líbeznice, Martinova 142
D8: Objekt:
E9: 01 - Bytový dům - stavební a statická část
D11: KSO: | I11: CC-CZ:
D12: Místo: | F12: Martinova 142, Líbeznice | I12: Datum: | J12: ='Rekapitulace stavby'!AN8 -> 3. 11. 2025
D14: Zadavatel: | I14: IČ: | J14: =IF('Rekapitulace stavby'!AN10="","",'Rekapitulace stavby'!AN10)
E15: =IF('Rekapitulace stavby'!E11="","",'Rekapitulace stavby'!E11) | I15: DIČ: | J15: =IF('Rekapitulace stavby'!AN11="","",'Rekapitulace stavby'!AN11)
D17: Uchazeč: | I17: IČ: | J17: ='Rekapitulace stavby'!AN13 -> Vyplň údaj
E18: ='Rekapitulace stavby'!E14 -> Vyplň údaj | I18: DIČ: | J18: ='Rekapitulace stavby'!AN14 -> Vyplň údaj
D20: Projektant: | I20: IČ:
E21: Ateliér bod architekti s.r.o. osadní 799/26, P 7 | I21: DIČ:
D23: Zpracovatel: | I23: IČ:
E24: Hana Pejšová | I24: DIČ:
D26: Poznámka:
D30: Cena bez DPH | J30: =ROUND(J148, 2) -> 0
F32: Základ daně | I32: Sazba daně | J32: Výše daně
D33: DPH | E33: základní | F33: =ROUND((SUM(BE148:BE2387)), 2) -> 0 | I33: 0.21 | J33: =ROUND(((SUM(BE148:BE2387))*I33), 2) -> 0
E34: snížená | F34: =ROUND((SUM(BF148:BF2387)), 2) -> 0 | I34: 0.12 | J34: =ROUND(((SUM(BF148:BF2387))*I34), 2) -> 0
E35: zákl. přenesená | F35: =ROUND((SUM(BG148:BG2387)), 2) -> 0 | I35: 0.21 | J35: =0 -> 0
E36: sníž. přenesená | F36: =ROUND((SUM(BH148:BH2387)), 2) -> 0 | I36: 0.12 | J36: =0 -> 0
E37: nulová | F37: =ROUND((SUM(BI148:BI2387)), 2) -> 0 | I37: 0 | J37: =0 -> 0
D39: Cena s DPH | G39: v | H39: CZK | J39: =SUM(J30:J37) -> 0
D50: Projektant | G50: Zpracovatel
D61: Datum a podpis: | F61: Razítko | G61: Datum a podpis: | J61: Razítko
D65: Objednavatel | G65: Uchazeč
D76: Datum a podpis: | F76: Razítko | G76: Datum a podpis: | J76: Razítko
C82: REKAPITULACE ČLENĚNÍ SOUPISU PRACÍ
C84: Stavba:
E85: =E7 -> Bytový dům Líbeznice, Martinova 142
C86: Objekt:
E87: =E9 -> 01 - Bytový dům - stavební a statická část
C89: Místo: | F89: =F12 -> Martinova 142, Líbeznice | I89: Datum: | J89: =IF(J12="","",J12) -> 3. 11. 2025
C91: Zadavatel: | F91: =E15 | I91: Projektant: | J91: =E21 -> Ateliér bod architekti s.r.o. osadní 799/26, P 7
C92: Uchazeč: | F92: =IF(E18="","",E18) -> Vyplň údaj | I92: Zpracovatel: | J92: =E24 -> Hana Pejšová
C94: Kód dílu - Popis | J94: Cena celkem [CZK]
C96: Náklady ze soupisu prací | J96: =J148 -> 0 | AU96: -1
...

Sheet 001 - Sanace vlhkosti a s...
L2: >> skryté sloupce << | AT2: {acc169a4-da2d-4367-9b73-f98893351eb7}
AT3: 1
D4: KRYCÍ LIST SOUPISU PRACÍ | M4: v --- níže se nacházejí doplnkové a pomocné údaje k sestavám --- v | AT4: False
D6: Stavba:
E7: ='Rekapitulace stavby'!K6 -> Bytový dům Líbeznice, Martinova 142
D8: Objekt:
E9: 02 - Sanace vlhkosti
D10: Soupis:
E11: 001 - Sanace vlhkosti a salinity - 1.PP
D13: KSO: | I13: CC-CZ:
D14: Místo: | F14: 250 65 Líbeznice | I14: Datum: | J14: ='Rekapitulace stavby'!AN8 -> 3. 11. 2025
D16: Zadavatel: | I16: IČ:
I17: DIČ:
D19: Uchazeč: | I19: IČ: | J19: ='Rekapitulace stavby'!AN13 -> Vyplň údaj
E20: ='Rekapitulace stavby'!E14 -> Vyplň údaj | I20: DIČ: | J20: ='Rekapitulace stavby'!AN14 -> Vyplň údaj
D22: Projektant: | I22: IČ:
I23: DIČ:
D25: Zpracovatel: | I25: IČ:
I26: DIČ:
D28: Poznámka:
E29: Soupis prací je sestaven s využitím Cenové soustavy ÚRS. Položky, které pochází z této cenové soustavy, jsou ve sloupci 'Cenová soustava' označeny popisem 'CS ÚRS' a úrovní příslušného kalendářního pololetí. Veškeré další informace vymezující popis a podmínky použití těchto položek z Cenové soustavy, které nejsou uvedeny přímo v soupisu prací, jsou neomezeně dálkově k dispozici na webu podminky.urs.cz.
D32: Cena bez DPH | J32: =ROUND(J130, 2) -> 0
F34: Základ daně | I34: Sazba daně | J34: Výše daně
D35: DPH | E35: základní | F35: =ROUND((SUM(BE130:BE412)), 2) -> 0 | I35: 0.21 | J35: =ROUND(((SUM(BE130:BE412))*I35), 2) -> 0
E36: snížená | F36: =ROUND((SUM(BF130:BF412)), 2) -> 0 | I36: 0.12 | J36: =ROUND(((SUM(BF130:BF412))*I36), 2) -> 0
E37: zákl. přenesená | F37: =ROUND((SUM(BG130:BG412)), 2) -> 0 | I37: 0.21 | J37: =0 -> 0
E38: sníž. přenesená | F38: =ROUND((SUM(BH130:BH412)), 2) -> 0 | I38: 0.12 | J38: =0 -> 0
E39: nulová | F39: =ROUND((SUM(BI130:BI412)), 2) -> 0 | I39: 0 | J39: =0 -> 0
D41: Cena s DPH | G41: v | H41: CZK | J41: =SUM(J32:J39) -> 0
D50: Projektant | G50: Zpracovatel
D61: Datum a podpis: | F61: Razítko | G61: Datum a podpis: | J61: Razítko
D65: Objednavatel | G65: Uchazeč
D76: Datum a podpis: | F76: Razítko | G76: Datum a podpis: | J76: Razítko
C82: REKAPITULACE ČLENĚNÍ SOUPISU PRACÍ
C84: Stavba:
E85: =E7 -> Bytový dům Líbeznice, Martinova 142
C86: Objekt:
E87: 02 - Sanace vlhkosti
C88: Soupis:
E89: =E11 -> 001 - Sanace vlhkosti a salinity - 1.PP
...

Sheet 002 - Sanace vlhkosti a s...
L2: >> skryté sloupce << | AT2: {965c3748-ac70-480a-95a8-dea330f6f361}
AT3: 1
D4: KRYCÍ LIST SOUPISU PRACÍ | M4: v --- níže se nacházejí doplnkové a pomocné údaje k sestavám --- v | AT4: False
D6: Stavba:
E7: ='Rekapitulace stavby'!K6 -> Bytový dům Líbeznice, Martinova 142
D8: Objekt:
E9: 02 - Sanace vlhkosti
D10: Soupis:
E11: 002 - Sanace vlhkosti a salinity - 1.NP
D13: KSO: | I13: CC-CZ:
D14: Místo: | F14: 250 65 Líbeznice | I14: Datum: | J14: ='Rekapitulace stavby'!AN8 -> 3. 11. 2025
D16: Zadavatel: | I16: IČ:
I17: DIČ:
D19: Uchazeč: | I19: IČ: | J19: ='Rekapitulace stavby'!AN13 -> Vyplň údaj
E20: ='Rekapitulace stavby'!E14 -> Vyplň údaj | I20: DIČ: | J20: ='Rekapitulace stavby'!AN14 -> Vyplň údaj
D22: Projektant: | I22: IČ:
I23: DIČ:
D25: Zpracovatel: | I25: IČ:
I26: DIČ:
D28: Poznámka:
E29: Soupis prací je sestaven s využitím Cenové soustavy ÚRS. Položky, které pochází z této cenové soustavy, jsou ve sloupci 'Cenová soustava' označeny popisem 'CS ÚRS' a úrovní příslušného kalendářního pololetí. Veškeré další informace vymezující popis a podmínky použití těchto položek z Cenové soustavy, které nejsou uvedeny přímo v soupisu prací, jsou neomezeně dálkově k dispozici na webu podminky.urs.cz.
D32: Cena bez DPH | J32: =ROUND(J129, 2) -> 0
F34: Základ daně | I34: Sazba daně | J34: Výše daně
D35: DPH | E35: základní | F35: =ROUND((SUM(BE129:BE508)), 2) -> 0 | I35: 0.21 | J35: =ROUND(((SUM(BE129:BE508))*I35), 2) -> 0
E36: snížená | F36: =ROUND((SUM(BF129:BF508)), 2) -> 0 | I36: 0.12 | J36: =ROUND(((SUM(BF129:BF508))*I36), 2) -> 0
E37: zákl. přenesená | F37: =ROUND((SUM(BG129:BG508)), 2) -> 0 | I37: 0.21 | J37: =0 -> 0
E38: sníž. přenesená | F38: =ROUND((SUM(BH129:BH508)), 2) -> 0 | I38: 0.12 | J38: =0 -> 0
E39: nulová | F39: =ROUND((SUM(BI129:BI508)), 2) -> 0 | I39: 0 | J39: =0 -> 0
D41: Cena s DPH | G41: v | H41: CZK | J41: =SUM(J32:J39) -> 0
D50: Projektant | G50: Zpracovatel
D61: Datum a podpis: | F61: Razítko | G61: Datum a podpis: | J61: Razítko
D65: Objednavatel | G65: Uchazeč
D76: Datum a podpis: | F76: Razítko | G76: Datum a podpis: | J76: Razítko
C82: REKAPITULACE ČLENĚNÍ SOUPISU PRACÍ
C84: Stavba:
E85: =E7 -> Bytový dům Líbeznice, Martinova 142
C86: Objekt:
E87: 02 - Sanace vlhkosti
C88: Soupis:
E89: =E11 -> 002 - Sanace vlhkosti a salinity - 1.NP
...

Sheet 01 - ZTI
L2: >> skryté sloupce << | AT2: {81c7debb-cf19-443f-a7de-6a6b7c410bcd}
AT3: 1
D4: KRYCÍ LIST SOUPISU PRACÍ | M4: v --- níže se nacházejí doplnkové a pomocné údaje k sestavám --- v | AT4: False
D6: Stavba:
E7: ='Rekapitulace stavby'!K6 -> Bytový dům Líbeznice, Martinova 142
D8: Objekt:
E9: 03 - TZB
D10: Soupis:
E11: 01 - ZTI
D13: KSO: | I13: CC-CZ:
D14: Místo: | F14: Líbeznice | I14: Datum: | J14: ='Rekapitulace stavby'!AN8 -> 3. 11. 2025
D16: Zadavatel: | I16: IČ:
I17: DIČ:
D19: Uchazeč: | I19: IČ: | J19: ='Rekapitulace stavby'!AN13 -> Vyplň údaj
E20: ='Rekapitulace stavby'!E14 -> Vyplň údaj | I20: DIČ: | J20: ='Rekapitulace stavby'!AN14 -> Vyplň údaj
D22: Projektant: | I22: IČ:
I23: DIČ:
D25: Zpracovatel: | I25: IČ:
E26: Krajovský | I26: DIČ:
D28: Poznámka:
D32: Cena bez DPH | J32: =ROUND(J131, 2) -> 0
F34: Základ daně | I34: Sazba daně | J34: Výše daně
D35: DPH | E35: základní | F35: =ROUND((SUM(BE131:BE289)), 2) -> 0 | I35: 0.21 | J35: =ROUND(((SUM(BE131:BE289))*I35), 2) -> 0
E36: snížená | F36: =ROUND((SUM(BF131:BF289)), 2) -> 0 | I36: 0.12 | J36: =ROUND(((SUM(BF131:BF289))*I36), 2) -> 0
E37: zákl. přenesená | F37: =ROUND((SUM(BG131:BG289)), 2) -> 0 | I37: 0.21 | J37: =0 -> 0
E38: sníž. přenesená | F38: =ROUND((SUM(BH131:BH289)), 2) -> 0 | I38: 0.12 | J38: =0 -> 0
E39: nulová | F39: =ROUND((SUM(BI131:BI289)), 2) -> 0 | I39: 0 | J39: =0 -> 0
D41: Cena s DPH | G41: v | H41: CZK | J41: =SUM(J32:J39) -> 0
D50: Projektant | G50: Zpracovatel
D61: Datum a podpis: | F61: Razítko | G61: Datum a podpis: | J61: Razítko
D65: Objednavatel | G65: Uchazeč
D76: Datum a podpis: | F76: Razítko | G76: Datum a podpis: | J76: Razítko
C82: REKAPITULACE ČLENĚNÍ SOUPISU PRACÍ
C84: Stavba:
E85: =E7 -> Bytový dům Líbeznice, Martinova 142
C86: Objekt:
E87: 03 - TZB
C88: Soupis:
E89: =E11 -> 01 - ZTI
C91: Místo: | F91: =F14 -> Líbeznice | I91: Datum: | J91: =IF(J14="","",J14) -> 3. 11. 2025
...

Sheet 02 - Vytápění
L2: >> skryté sloupce << | AT2: {bdb91ee1-eca0-407d-8bff-264f3e7ffe2f}
AT3: 1
D4: KRYCÍ LIST SOUPISU PRACÍ | M4: v --- níže se nacházejí doplnkové a pomocné údaje k sestavám --- v | AT4: False
D6: Stavba:
E7: ='Rekapitulace stavby'!K6 -> Bytový dům Líbeznice, Martinova 142
D8: Objekt:
E9: 03 - TZB
D10: Soupis:
E11: 02 - Vytápění
D13: KSO: | I13: CC-CZ:
D14: Místo: | F14: Líbeznice | I14: Datum: | J14: ='Rekapitulace stavby'!AN8 -> 3. 11. 2025
D16: Zadavatel: | I16: IČ:
I17: DIČ:
D19: Uchazeč: | I19: IČ: | J19: ='Rekapitulace stavby'!AN13 -> Vyplň údaj
E20: ='Rekapitulace stavby'!E14 -> Vyplň údaj | I20: DIČ: | J20: ='Rekapitulace stavby'!AN14 -> Vyplň údaj
D22: Projektant: | I22: IČ:
I23: DIČ:
D25: Zpracovatel: | I25: IČ:
E26: Krajovský | I26: DIČ:
D28: Poznámka:
D32: Cena bez DPH | J32: =ROUND(J126, 2) -> 0
F34: Základ daně | I34: Sazba daně | J34: Výše daně
D35: DPH | E35: základní | F35: =ROUND((SUM(BE126:BE192)), 2) -> 0 | I35: 0.21 | J35: =ROUND(((SUM(BE126:BE192))*I35), 2) -> 0
E36: snížená | F36: =ROUND((SUM(BF126:BF192)), 2) -> 0 | I36: 0.12 | J36: =ROUND(((SUM(BF126:BF192))*I36), 2) -> 0
E37: zákl. přenesená | F37: =ROUND((SUM(BG126:BG192)), 2) -> 0 | I37: 0.21 | J37: =0 -> 0
E38: sníž. přenesená | F38: =ROUND((SUM(BH126:BH192)), 2) -> 0 | I38: 0.12 | J38: =0 -> 0
E39: nulová | F39: =ROUND((SUM(BI126:BI192)), 2) -> 0 | I39: 0 | J39: =0 -> 0
D41: Cena s DPH | G41: v | H41: CZK | J41: =SUM(J32:J39) -> 0
D50: Projektant | G50: Zpracovatel
D61: Datum a podpis: | F61: Razítko | G61: Datum a podpis: | J61: Razítko
D65: Objednavatel | G65: Uchazeč
D76: Datum a podpis: | F76: Razítko | G76: Datum a podpis: | J76: Razítko
C82: REKAPITULACE ČLENĚNÍ SOUPISU PRACÍ
C84: Stavba:
E85: =E7 -> Bytový dům Líbeznice, Martinova 142
C86: Objekt:
E87: 03 - TZB
C88: Soupis:
E89: =E11 -> 02 - Vytápění
C91: Místo: | F91: =F14 -> Líbeznice | I91: Datum: | J91: =IF(J14="","",J14) -> 3. 11. 2025
...

Sheet 03 - VZT
L2: >> skryté sloupce << | AT2: {d0ab993f-af45-44ab-b173-e25a24ff98e2}
AT3: 1
D4: KRYCÍ LIST SOUPISU PRACÍ | M4: v --- níže se nacházejí doplnkové a pomocné údaje k sestavám --- v | AT4: False
D6: Stavba:
E7: ='Rekapitulace stavby'!K6 -> Bytový dům Líbeznice, Martinova 142
D8: Objekt:
E9: 03 - TZB
D10: Soupis:
E11: 03 - VZT
D13: KSO: | I13: CC-CZ:
D14: Místo: | F14: Líbeznice | I14: Datum: | J14: ='Rekapitulace stavby'!AN8 -> 3. 11. 2025
D16: Zadavatel: | I16: IČ:
I17: DIČ:
D19: Uchazeč: | I19: IČ: | J19: ='Rekapitulace stavby'!AN13 -> Vyplň údaj
E20: ='Rekapitulace stavby'!E14 -> Vyplň údaj | I20: DIČ: | J20: ='Rekapitulace stavby'!AN14 -> Vyplň údaj
D22: Projektant: | I22: IČ:
I23: DIČ:
D25: Zpracovatel: | I25: IČ:
E26: Krajovský | I26: DIČ:
D28: Poznámka:
D32: Cena bez DPH | J32: =ROUND(J123, 2) -> 0
F34: Základ daně | I34: Sazba daně | J34: Výše daně
D35: DPH | E35: základní | F35: =ROUND((SUM(BE123:BE184)), 2) -> 0 | I35: 0.21 | J35: =ROUND(((SUM(BE123:BE184))*I35), 2) -> 0
E36: snížená | F36: =ROUND((SUM(BF123:BF184)), 2) -> 0 | I36: 0.12 | J36: =ROUND(((SUM(BF123:BF184))*I36), 2) -> 0
E37: zákl. přenesená | F37: =ROUND((SUM(BG123:BG184)), 2) -> 0 | I37: 0.21 | J37: =0 -> 0
E38: sníž. přenesená | F38: =ROUND((SUM(BH123:BH184)), 2) -> 0 | I38: 0.12 | J38: =0 -> 0
E39: nulová | F39: =ROUND((SUM(BI123:BI184)), 2) -> 0 | I39: 0 | J39: =0 -> 0
D41: Cena s DPH | G41: v | H41: CZK | J41: =SUM(J32:J39) -> 0
D50: Projektant | G50: Zpracovatel
D61: Datum a podpis: | F61: Razítko | G61: Datum a podpis: | J61: Razítko
D65: Objednavatel | G65: Uchazeč
D76: Datum a podpis: | F76: Razítko | G76: Datum a podpis: | J76: Razítko
C82: REKAPITULACE ČLENĚNÍ SOUPISU PRACÍ
C84: Stavba:
E85: =E7 -> Bytový dům Líbeznice, Martinova 142
C86: Objekt:
E87: 03 - TZB
C88: Soupis:
E89: =E11 -> 03 - VZT
C91: Místo: | F91: =F14 -> Líbeznice | I91: Datum: | J91: =IF(J14="","",J14) -> 3. 11. 2025
...

Sheet a - Společné prostory
L2: >> skryté sloupce << | AT2: {615c2c81-6452-44b0-9f5a-a0a8300d9d22}
AT3: 1
D4: KRYCÍ LIST SOUPISU PRACÍ | M4: v --- níže se nacházejí doplnkové a pomocné údaje k sestavám --- v | AT4: False
D6: Stavba:
E7: ='Rekapitulace stavby'!K6 -> Bytový dům Líbeznice, Martinova 142
D8: Objekt:
E9: 03 - TZB
D10: Soupis:
E11: 04 - Silnoproud
D12: Úroveň 3:
E13: a - Společné prostory
D15: KSO: | I15: CC-CZ:
D16: Místo: | F16: Líbeznice | I16: Datum: | J16: ='Rekapitulace stavby'!AN8 -> 3. 11. 2025
D18: Zadavatel: | I18: IČ:
I19: DIČ:
D21: Uchazeč: | I21: IČ: | J21: ='Rekapitulace stavby'!AN13 -> Vyplň údaj
E22: ='Rekapitulace stavby'!E14 -> Vyplň údaj | I22: DIČ: | J22: ='Rekapitulace stavby'!AN14 -> Vyplň údaj
D24: Projektant: | I24: IČ:
I25: DIČ:
D27: Zpracovatel: | I27: IČ:
E28: Krajovský | I28: DIČ:
D30: Poznámka:
D34: Cena bez DPH | J34: =ROUND(J132, 2) -> 0
F36: Základ daně | I36: Sazba daně | J36: Výše daně
D37: DPH | E37: základní | F37: =ROUND((SUM(BE132:BE290)), 2) -> 0 | I37: 0.21 | J37: =ROUND(((SUM(BE132:BE290))*I37), 2) -> 0
E38: snížená | F38: =ROUND((SUM(BF132:BF290)), 2) -> 0 | I38: 0.12 | J38: =ROUND(((SUM(BF132:BF290))*I38), 2) -> 0
E39: zákl. přenesená | F39: =ROUND((SUM(BG132:BG290)), 2) -> 0 | I39: 0.21 | J39: =0 -> 0
E40: sníž. přenesená | F40: =ROUND((SUM(BH132:BH290)), 2) -> 0 | I40: 0.12 | J40: =0 -> 0
E41: nulová | F41: =ROUND((SUM(BI132:BI290)), 2) -> 0 | I41: 0 | J41: =0 -> 0
D43: Cena s DPH | G43: v | H43: CZK | J43: =SUM(J34:J41) -> 0
D50: Projektant | G50: Zpracovatel
D61: Datum a podpis: | F61: Razítko | G61: Datum a podpis: | J61: Razítko
D65: Objednavatel | G65: Uchazeč
D76: Datum a podpis: | F76: Razítko | G76: Datum a podpis: | J76: Razítko
C82: REKAPITULACE ČLENĚNÍ SOUPISU PRACÍ
C84: Stavba:
E85: =E7 -> Bytový dům Líbeznice, Martinova 142
C86: Objekt:
E87: 03 - TZB
C88: Soupis:
...

Sheet b - Nebytové prostory
L2: >> skryté sloupce << | AT2: {41f75eed-8b26-4fcd-b82f-12798a3bb356}
AT3: 1
D4: KRYCÍ LIST SOUPISU PRACÍ | M4: v --- níže se nacházejí doplnkové a pomocné údaje k sestavám --- v | AT4: False
D6: Stavba:
E7: ='Rekapitulace stavby'!K6 -> Bytový dům Líbeznice, Martinova 142
D8: Objekt:
E9: 03 - TZB
D10: Soupis:
E11: 04 - Silnoproud
D12: Úroveň 3:
E13: b - Nebytové prostory
D15: KSO: | I15: CC-CZ:
D16: Místo: | F16: Líbeznice | I16: Datum: | J16: ='Rekapitulace stavby'!AN8 -> 3. 11. 2025
D18: Zadavatel: | I18: IČ:
I19: DIČ:
D21: Uchazeč: | I21: IČ: | J21: ='Rekapitulace stavby'!AN13 -> Vyplň údaj
E22: ='Rekapitulace stavby'!E14 -> Vyplň údaj | I22: DIČ: | J22: ='Rekapitulace stavby'!AN14 -> Vyplň údaj
D24: Projektant: | I24: IČ:
I25: DIČ:
D27: Zpracovatel: | I27: IČ:
E28: Krajovský | I28: DIČ:
D30: Poznámka:
D34: Cena bez DPH | J34: =ROUND(J131, 2) -> 0
F36: Základ daně | I36: Sazba daně | J36: Výše daně
D37: DPH | E37: základní | F37: =ROUND((SUM(BE131:BE226)), 2) -> 0 | I37: 0.21 | J37: =ROUND(((SUM(BE131:BE226))*I37), 2) -> 0
E38: snížená | F38: =ROUND((SUM(BF131:BF226)), 2) -> 0 | I38: 0.12 | J38: =ROUND(((SUM(BF131:BF226))*I38), 2) -> 0
E39: zákl. přenesená | F39: =ROUND((SUM(BG131:BG226)), 2) -> 0 | I39: 0.21 | J39: =0 -> 0
E40: sníž. přenesená | F40: =ROUND((SUM(BH131:BH226)), 2) -> 0 | I40: 0.12 | J40: =0 -> 0
E41: nulová | F41: =ROUND((SUM(BI131:BI226)), 2) -> 0 | I41: 0 | J41: =0 -> 0
D43: Cena s DPH | G43: v | H43: CZK | J43: =SUM(J34:J41) -> 0
D50: Projektant | G50: Zpracovatel
D61: Datum a podpis: | F61: Razítko | G61: Datum a podpis: | J61: Razítko
D65: Objednavatel | G65: Uchazeč
D76: Datum a podpis: | F76: Razítko | G76: Datum a podpis: | J76: Razítko
C82: REKAPITULACE ČLENĚNÍ SOUPISU PRACÍ
C84: Stavba:
E85: =E7 -> Bytový dům Líbeznice, Martinova 142
C86: Objekt:
E87: 03 - TZB
C88: Soupis:
...

Sheet c - Byty
L2: >> skryté sloupce << | AT2: {36c6882f-daf3-4ec6-a2f4-9e275b31960a}
AT3: 1
D4: KRYCÍ LIST SOUPISU PRACÍ | M4: v --- níže se nacházejí doplnkové a pomocné údaje k sestavám --- v | AT4: False
D6: Stavba:
E7: ='Rekapitulace stavby'!K6 -> Bytový dům Líbeznice, Martinova 142
D8: Objekt:
E9: 03 - TZB
D10: Soupis:
E11: 04 - Silnoproud
D12: Úroveň 3:
E13: c - Byty
D15: KSO: | I15: CC-CZ:
D16: Místo: | F16: Líbeznice | I16: Datum: | J16: ='Rekapitulace stavby'!AN8 -> 3. 11. 2025
D18: Zadavatel: | I18: IČ:
I19: DIČ:
D21: Uchazeč: | I21: IČ: | J21: ='Rekapitulace stavby'!AN13 -> Vyplň údaj
E22: ='Rekapitulace stavby'!E14 -> Vyplň údaj | I22: DIČ: | J22: ='Rekapitulace stavby'!AN14 -> Vyplň údaj
D24: Projektant: | I24: IČ:
I25: DIČ:
D27: Zpracovatel: | I27: IČ:
E28: Krajovský | I28: DIČ:
D30: Poznámka:
D34: Cena bez DPH | J34: =ROUND(J132, 2) -> 0
F36: Základ daně | I36: Sazba daně | J36: Výše daně
D37: DPH | E37: základní | F37: =ROUND((SUM(BE132:BE219)), 2) -> 0 | I37: 0.21 | J37: =ROUND(((SUM(BE132:BE219))*I37), 2) -> 0
E38: snížená | F38: =ROUND((SUM(BF132:BF219)), 2) -> 0 | I38: 0.12 | J38: =ROUND(((SUM(BF132:BF219))*I38), 2) -> 0
E39: zákl. přenesená | F39: =ROUND((SUM(BG132:BG219)), 2) -> 0 | I39: 0.21 | J39: =0 -> 0
E40: sníž. přenesená | F40: =ROUND((SUM(BH132:BH219)), 2) -> 0 | I40: 0.12 | J40: =0 -> 0
E41: nulová | F41: =ROUND((SUM(BI132:BI219)), 2) -> 0 | I41: 0 | J41: =0 -> 0
D43: Cena s DPH | G43: v | H43: CZK | J43: =SUM(J34:J41) -> 0
D50: Projektant | G50: Zpracovatel
D61: Datum a podpis: | F61: Razítko | G61: Datum a podpis: | J61: Razítko
D65: Objednavatel | G65: Uchazeč
D76: Datum a podpis: | F76: Razítko | G76: Datum a podpis: | J76: Razítko
C82: REKAPITULACE ČLENĚNÍ SOUPISU PRACÍ
C84: Stavba:
E85: =E7 -> Bytový dům Líbeznice, Martinova 142
C86: Objekt:
E87: 03 - TZB
C88: Soupis:
...

Sheet d - Hromosvod
L2: >> skryté sloupce << | AT2: {e89c2907-551f-4013-a1a9-fe3f6c0f1e0b}
AT3: 1
D4: KRYCÍ LIST SOUPISU PRACÍ | M4: v --- níže se nacházejí doplnkové a pomocné údaje k sestavám --- v | AT4: False
D6: Stavba:
E7: ='Rekapitulace stavby'!K6 -> Bytový dům Líbeznice, Martinova 142
D8: Objekt:
E9: 03 - TZB
D10: Soupis:
E11: 04 - Silnoproud
D12: Úroveň 3:
E13: d - Hromosvod
D15: KSO: | I15: CC-CZ:
D16: Místo: | F16: Líbeznice | I16: Datum: | J16: ='Rekapitulace stavby'!AN8 -> 3. 11. 2025
D18: Zadavatel: | I18: IČ:
I19: DIČ:
D21: Uchazeč: | I21: IČ: | J21: ='Rekapitulace stavby'!AN13 -> Vyplň údaj
E22: ='Rekapitulace stavby'!E14 -> Vyplň údaj | I22: DIČ: | J22: ='Rekapitulace stavby'!AN14 -> Vyplň údaj
D24: Projektant: | I24: IČ:
I25: DIČ:
D27: Zpracovatel: | I27: IČ:
E28: Krajovský | I28: DIČ:
D30: Poznámka:
D34: Cena bez DPH | J34: =ROUND(J130, 2) -> 0
F36: Základ daně | I36: Sazba daně | J36: Výše daně
D37: DPH | E37: základní | F37: =ROUND((SUM(BE130:BE168)), 2) -> 0 | I37: 0.21 | J37: =ROUND(((SUM(BE130:BE168))*I37), 2) -> 0
E38: snížená | F38: =ROUND((SUM(BF130:BF168)), 2) -> 0 | I38: 0.12 | J38: =ROUND(((SUM(BF130:BF168))*I38), 2) -> 0
E39: zákl. přenesená | F39: =ROUND((SUM(BG130:BG168)), 2) -> 0 | I39: 0.21 | J39: =0 -> 0
E40: sníž. přenesená | F40: =ROUND((SUM(BH130:BH168)), 2) -> 0 | I40: 0.12 | J40: =0 -> 0
E41: nulová | F41: =ROUND((SUM(BI130:BI168)), 2) -> 0 | I41: 0 | J41: =0 -> 0
D43: Cena s DPH | G43: v | H43: CZK | J43: =SUM(J34:J41) -> 0
D50: Projektant | G50: Zpracovatel
D61: Datum a podpis: | F61: Razítko | G61: Datum a podpis: | J61: Razítko
D65: Objednavatel | G65: Uchazeč
D76: Datum a podpis: | F76: Razítko | G76: Datum a podpis: | J76: Razítko
C82: REKAPITULACE ČLENĚNÍ SOUPISU PRACÍ
C84: Stavba:
E85: =E7 -> Bytový dům Líbeznice, Martinova 142
C86: Objekt:
E87: 03 - TZB
C88: Soupis:
...

Sheet a - Společné prostory_01
L2: >> skryté sloupce << | AT2: {98d3d525-3f8f-4e5f-9ef5-118ff7461b59}
AT3: 1
D4: KRYCÍ LIST SOUPISU PRACÍ | M4: v --- níže se nacházejí doplnkové a pomocné údaje k sestavám --- v | AT4: False
D6: Stavba:
E7: ='Rekapitulace stavby'!K6 -> Bytový dům Líbeznice, Martinova 142
D8: Objekt:
E9: 03 - TZB
D10: Soupis:
E11: 05 - Slaboproud
D12: Úroveň 3:
E13: a - Společné prostory
D15: KSO: | I15: CC-CZ:
D16: Místo: | F16: Líbeznice | I16: Datum: | J16: ='Rekapitulace stavby'!AN8 -> 3. 11. 2025
D18: Zadavatel: | I18: IČ:
I19: DIČ:
D21: Uchazeč: | I21: IČ: | J21: ='Rekapitulace stavby'!AN13 -> Vyplň údaj
E22: ='Rekapitulace stavby'!E14 -> Vyplň údaj | I22: DIČ: | J22: ='Rekapitulace stavby'!AN14 -> Vyplň údaj
D24: Projektant: | I24: IČ:
I25: DIČ:
D27: Zpracovatel: | I27: IČ:
E28: Krajovský | I28: DIČ:
D30: Poznámka:
D34: Cena bez DPH | J34: =ROUND(J131, 2) -> 0
F36: Základ daně | I36: Sazba daně | J36: Výše daně
D37: DPH | E37: základní | F37: =ROUND((SUM(BE131:BE205)), 2) -> 0 | I37: 0.21 | J37: =ROUND(((SUM(BE131:BE205))*I37), 2) -> 0
E38: snížená | F38: =ROUND((SUM(BF131:BF205)), 2) -> 0 | I38: 0.12 | J38: =ROUND(((SUM(BF131:BF205))*I38), 2) -> 0
E39: zákl. přenesená | F39: =ROUND((SUM(BG131:BG205)), 2) -> 0 | I39: 0.21 | J39: =0 -> 0
E40: sníž. přenesená | F40: =ROUND((SUM(BH131:BH205)), 2) -> 0 | I40: 0.12 | J40: =0 -> 0
E41: nulová | F41: =ROUND((SUM(BI131:BI205)), 2) -> 0 | I41: 0 | J41: =0 -> 0
D43: Cena s DPH | G43: v | H43: CZK | J43: =SUM(J34:J41) -> 0
D50: Projektant | G50: Zpracovatel
D61: Datum a podpis: | F61: Razítko | G61: Datum a podpis: | J61: Razítko
D65: Objednavatel | G65: Uchazeč
D76: Datum a podpis: | F76: Razítko | G76: Datum a podpis: | J76: Razítko
C82: REKAPITULACE ČLENĚNÍ SOUPISU PRACÍ
C84: Stavba:
E85: =E7 -> Bytový dům Líbeznice, Martinova 142
C86: Objekt:
E87: 03 - TZB
C88: Soupis:
...

Sheet b - Nebytové prostory_01
L2: >> skryté sloupce << | AT2: {73f372d0-b69f-4568-8069-ead7915db12c}
AT3: 1
D4: KRYCÍ LIST SOUPISU PRACÍ | M4: v --- níže se nacházejí doplnkové a pomocné údaje k sestavám --- v | AT4: False
D6: Stavba:
E7: ='Rekapitulace stavby'!K6 -> Bytový dům Líbeznice, Martinova 142
D8: Objekt:
E9: 03 - TZB
D10: Soupis:
E11: 05 - Slaboproud
D12: Úroveň 3:
E13: b - Nebytové prostory
D15: KSO: | I15: CC-CZ:
D16: Místo: | F16: Líbeznice | I16: Datum: | J16: ='Rekapitulace stavby'!AN8 -> 3. 11. 2025
D18: Zadavatel: | I18: IČ:
I19: DIČ:
D21: Uchazeč: | I21: IČ: | J21: ='Rekapitulace stavby'!AN13 -> Vyplň údaj
E22: ='Rekapitulace stavby'!E14 -> Vyplň údaj | I22: DIČ: | J22: ='Rekapitulace stavby'!AN14 -> Vyplň údaj
D24: Projektant: | I24: IČ:
I25: DIČ:
D27: Zpracovatel: | I27: IČ:
E28: Krajovský | I28: DIČ:
D30: Poznámka:
D34: Cena bez DPH | J34: =ROUND(J131, 2) -> 0
F36: Základ daně | I36: Sazba daně | J36: Výše daně
D37: DPH | E37: základní | F37: =ROUND((SUM(BE131:BE193)), 2) -> 0 | I37: 0.21 | J37: =ROUND(((SUM(BE131:BE193))*I37), 2) -> 0
E38: snížená | F38: =ROUND((SUM(BF131:BF193)), 2) -> 0 | I38: 0.12 | J38: =ROUND(((SUM(BF131:BF193))*I38), 2) -> 0
E39: zákl. přenesená | F39: =ROUND((SUM(BG131:BG193)), 2) -> 0 | I39: 0.21 | J39: =0 -> 0
E40: sníž. přenesená | F40: =ROUND((SUM(BH131:BH193)), 2) -> 0 | I40: 0.12 | J40: =0 -> 0
E41: nulová | F41: =ROUND((SUM(BI131:BI193)), 2) -> 0 | I41: 0 | J41: =0 -> 0
D43: Cena s DPH | G43: v | H43: CZK | J43: =SUM(J34:J41) -> 0
D50: Projektant | G50: Zpracovatel
D61: Datum a podpis: | F61: Razítko | G61: Datum a podpis: | J61: Razítko
D65: Objednavatel | G65: Uchazeč
D76: Datum a podpis: | F76: Razítko | G76: Datum a podpis: | J76: Razítko
C82: REKAPITULACE ČLENĚNÍ SOUPISU PRACÍ
C84: Stavba:
E85: =E7 -> Bytový dům Líbeznice, Martinova 142
C86: Objekt:
E87: 03 - TZB
C88: Soupis:
...

Sheet c - Byty_01
L2: >> skryté sloupce << | AT2: {287585c1-78dc-4dc1-8de7-1b9cd3a0eff2}
AT3: 1
D4: KRYCÍ LIST SOUPISU PRACÍ | M4: v --- níže se nacházejí doplnkové a pomocné údaje k sestavám --- v | AT4: False
D6: Stavba:
E7: ='Rekapitulace stavby'!K6 -> Bytový dům Líbeznice, Martinova 142
D8: Objekt:
E9: 03 - TZB
D10: Soupis:
E11: 05 - Slaboproud
D12: Úroveň 3:
E13: c - Byty
D15: KSO: | I15: CC-CZ:
D16: Místo: | F16: Líbeznice | I16: Datum: | J16: ='Rekapitulace stavby'!AN8 -> 3. 11. 2025
D18: Zadavatel: | I18: IČ:
I19: DIČ:
D21: Uchazeč: | I21: IČ: | J21: ='Rekapitulace stavby'!AN13 -> Vyplň údaj
E22: ='Rekapitulace stavby'!E14 -> Vyplň údaj | I22: DIČ: | J22: ='Rekapitulace stavby'!AN14 -> Vyplň údaj
D24: Projektant: | I24: IČ:
I25: DIČ:
D27: Zpracovatel: | I27: IČ:
E28: Krajovský | I28: DIČ:
D30: Poznámka:
D34: Cena bez DPH | J34: =ROUND(J130, 2) -> 0
F36: Základ daně | I36: Sazba daně | J36: Výše daně
D37: DPH | E37: základní | F37: =ROUND((SUM(BE130:BE173)), 2) -> 0 | I37: 0.21 | J37: =ROUND(((SUM(BE130:BE173))*I37), 2) -> 0
E38: snížená | F38: =ROUND((SUM(BF130:BF173)), 2) -> 0 | I38: 0.12 | J38: =ROUND(((SUM(BF130:BF173))*I38), 2) -> 0
E39: zákl. přenesená | F39: =ROUND((SUM(BG130:BG173)), 2) -> 0 | I39: 0.21 | J39: =0 -> 0
E40: sníž. přenesená | F40: =ROUND((SUM(BH130:BH173)), 2) -> 0 | I40: 0.12 | J40: =0 -> 0
E41: nulová | F41: =ROUND((SUM(BI130:BI173)), 2) -> 0 | I41: 0 | J41: =0 -> 0
D43: Cena s DPH | G43: v | H43: CZK | J43: =SUM(J34:J41) -> 0
D50: Projektant | G50: Zpracovatel
D61: Datum a podpis: | F61: Razítko | G61: Datum a podpis: | J61: Razítko
D65: Objednavatel | G65: Uchazeč
D76: Datum a podpis: | F76: Razítko | G76: Datum a podpis: | J76: Razítko
C82: REKAPITULACE ČLENĚNÍ SOUPISU PRACÍ
C84: Stavba:
E85: =E7 -> Bytový dům Líbeznice, Martinova 142
C86: Objekt:
E87: 03 - TZB
C88: Soupis:
...

Sheet 04 - Vedlejší rozpočtové ...
L2: >> skryté sloupce << | AT2: {834678de-135b-4424-ac89-b769296b0086}
AT3: 1
D4: KRYCÍ LIST SOUPISU PRACÍ | M4: v --- níže se nacházejí doplnkové a pomocné údaje k sestavám --- v | AT4: False
D6: Stavba:
E7: ='Rekapitulace stavby'!K6 -> Bytový dům Líbeznice, Martinova 142
D8: Objekt:
E9: 04 - Vedlejší rozpočtové náklady
D11: KSO: | I11: CC-CZ:
D12: Místo: | F12: Martinova 142, Líbeznice | I12: Datum: | J12: ='Rekapitulace stavby'!AN8 -> 3. 11. 2025
D14: Zadavatel: | I14: IČ: | J14: =IF('Rekapitulace stavby'!AN10="","",'Rekapitulace stavby'!AN10)
E15: =IF('Rekapitulace stavby'!E11="","",'Rekapitulace stavby'!E11) | I15: DIČ: | J15: =IF('Rekapitulace stavby'!AN11="","",'Rekapitulace stavby'!AN11)
D17: Uchazeč: | I17: IČ: | J17: ='Rekapitulace stavby'!AN13 -> Vyplň údaj
E18: ='Rekapitulace stavby'!E14 -> Vyplň údaj | I18: DIČ: | J18: ='Rekapitulace stavby'!AN14 -> Vyplň údaj
D20: Projektant: | I20: IČ:
E21: Ateliér bod architekti s.r.o. osadní 799/26, P 7 | I21: DIČ:
D23: Zpracovatel: | I23: IČ:
E24: Hana Pejšová | I24: DIČ:
D26: Poznámka:
D30: Cena bez DPH | J30: =ROUND(J124, 2) -> 0
F32: Základ daně | I32: Sazba daně | J32: Výše daně
D33: DPH | E33: základní | F33: =ROUND((SUM(BE124:BE143)), 2) -> 0 | I33: 0.21 | J33: =ROUND(((SUM(BE124:BE143))*I33), 2) -> 0
E34: snížená | F34: =ROUND((SUM(BF124:BF143)), 2) -> 0 | I34: 0.12 | J34: =ROUND(((SUM(BF124:BF143))*I34), 2) -> 0
E35: zákl. přenesená | F35: =ROUND((SUM(BG124:BG143)), 2) -> 0 | I35: 0.21 | J35: =0 -> 0
E36: sníž. přenesená | F36: =ROUND((SUM(BH124:BH143)), 2) -> 0 | I36: 0.12 | J36: =0 -> 0
E37: nulová | F37: =ROUND((SUM(BI124:BI143)), 2) -> 0 | I37: 0 | J37: =0 -> 0
D39: Cena s DPH | G39: v | H39: CZK | J39: =SUM(J30:J37) -> 0
D50: Projektant | G50: Zpracovatel
D61: Datum a podpis: | F61: Razítko | G61: Datum a podpis: | J61: Razítko
D65: Objednavatel | G65: Uchazeč
D76: Datum a podpis: | F76: Razítko | G76: Datum a podpis: | J76: Razítko
C82: REKAPITULACE ČLENĚNÍ SOUPISU PRACÍ
C84: Stavba:
E85: =E7 -> Bytový dům Líbeznice, Martinova 142
C86: Objekt:
E87: =E9 -> 04 - Vedlejší rozpočtové náklady
C89: Místo: | F89: =F12 -> Martinova 142, Líbeznice | I89: Datum: | J89: =IF(J12="","",J12) -> 3. 11. 2025
C91: Zadavatel: | F91: =E15 | I91: Projektant: | J91: =E21 -> Ateliér bod architekti s.r.o. osadní 799/26, P 7
C92: Uchazeč: | F92: =IF(E18="","",E18) -> Vyplň údaj | I92: Zpracovatel: | J92: =E24 -> Hana Pejšová
C94: Kód dílu - Popis | J94: Cena celkem [CZK]
C96: Náklady ze soupisu prací | J96: =J124 -> 0 | AU96: -1
...
