Workbook

Sheet Rekapitulace stavby
A1: Export Komplet | BA1: 2.0 | BT1: False | BU1: False | BV1: {d581e373-7c2b-498d-a10f-d6d9130f173d}
AR2: >> skryté sloupce << | BS2: 0,01 | BT2: 21
BS3: 0,01 | BT3: 12
D4: REKAPITULACE STAVBY | AS4: v --- níže se nacházejí doplnkové a pomocné údaje k sestavám --- v | BE4: Návod na vyplnění | BS4: 0,001
D5: Kód: | K5: 11025 | BE5: Měnit lze pouze buňky se žlutým podbarvením!_x000D_ _x000D_ 1) na prvním listu Rekapitulace stavby vyplňte v sestavě_x000D_ _x000D_ a) Souhrnný list_x000D_ - údaje o Uchazeči_x000D_ (přenesou se do ostatních sestav i v jiných listech)_x000D_ _x000D_ b) Rekapitulace objektů_x000D_ - potřebné Ostatní náklady_x000D_ _x000D_ 2) na vybraných listech vyplňte v sestavě_x000D_ _x000D_ a) Krycí list_x000D_ - údaje o Uchazeči, pokud se liší od údajů o Uchazeči na Souhrnném listu_x000D_ (údaje se přenesou do ostatních sestav v daném listu)_x000D_ _x000D_ b) Rekapitulace rozpočtu_x000D_ - potřebné Ostatní náklady_x000D_ _x000D_ c) Celkové náklady za stavbu_x000D_ - ceny u položek_x000D_ - množství, pokud má žluté podbarvení_x000D_ - a v případě potřeby poznámku (ta je ve skrytém sloupci) | BS5: 0,01
D6: Stavba: | K6: Bytový dům Líbeznice, Martinova 142 | BS6: 0,01
D7: KSO: | AK7: CC-CZ: | BS7: 0,01
D8: Místo: | K8: Martinova 142, Líbeznice | AK8: Datum: | AN8: 3. 11. 2025 | BS8: 0,01
BS9: 0,01
D10: Zadavatel: | AK10: IČ: | BS10: 0,01
AK11: DIČ: | BS11: 0,01
BS12: 0,01
D13: Uchazeč: | AK13: IČ: | AN13: Vyplň údaj | BS13: 0,01
E14: Vyplň údaj | AK14: DIČ: | AN14: Vyplň údaj | BS14: 0,01
BS15: False
D16: Projektant: | AK16: IČ: | BS16: False
E17: Ateliér bod architekti s.r.o. osadní 799/26, P 7 | AK17: DIČ: | BS17: True
BS18: 0,01
D19: Zpracovatel: | AK19: IČ: | BS19: 0,01
E20: Hana Pejšová | AK20: DIČ: | BS20: True
D22: Poznámka:
D26: Cena bez DPH | AK26: =ROUND(AG94,2) -> 0
L28: Sazba daně | W28: Základ daně | AK28: Výše daně
D29: DPH | F29: základní | L29: 0.21 | W29: =ROUND(AZ94, 2) -> 0 | AK29: =ROUND(AV94, 2) -> 0
F30: snížená | L30: 0.12 | W30: =ROUND(BA94, 2) -> 0 | AK30: =ROUND(AW94, 2) -> 0
F31: zákl. přenesená | L31: 0.21 | W31: =ROUND(BB94, 2) -> 0 | AK31: 0
F32: sníž. přenesená | L32: 0.12 | W32: =ROUND(BC94, 2) -> 0 | AK32: 0
F33: nulová | L33: 0 | W33: =ROUND(BD94, 2) -> 0 | AK33: 0
D35: Cena s DPH | T35: v | X35: CZK | AK35: =SUM(AK26:AK33) -> 0
D49: Projektant | AH49: Zpracovatel
D60: Datum a podpis: | V60: Razítko | AH60: Datum a podpis: | AM60: Razítko
D64: Objednavatel | AH64: Uchazeč
D75: Datum a podpis: | V75: Razítko | AH75: Datum a podpis: | AM75: Razítko
C82: REKAPITULACE OBJEKTŮ STAVBY A SOUPISŮ PRACÍ
C84: Kód: | L84: =K5 -> 11025
C85: Stavba: | L85: =K6 -> Bytový dům Líbeznice, Martinova 142
C87: Místo: | L87: =IF(K8="","",K8) -> Martinova 142, Líbeznice | AI87: Datum: | AM87: =IF(AN8= "","",AN8) -> 3. 11. 2025
C89: Zadavatel: | L89: =IF(E11= "","",E11) | AI89: Projektant: | AM89: =IF(E17="","",E17) -> Ateliér bod architekti s.r.o. osadní 799/26, P 7 | AS89: Informatívní údaje z listů zakázek
C90: Uchazeč: | L90: =IF(E14= "Vyplň údaj","",E14) | AI90: Zpracovatel: | AM90: =IF(E20="","",E20) -> Hana Pejšová
C92: Kód | I92: Popis | AG92: Cena bez DPH [CZK] | AN92: Cena s DPH [CZK] | AQ92: Typ | AS92: z toho Ostat._x000D_ náklady [CZK] | AT92: DPH [CZK] | AU92: Normohodiny [h] | AV92: DPH základní [CZK] | AW92: DPH snížená [CZK] | AX92: DPH základní přenesená_x000D_ [CZK] | AY92: DPH snížená přenesená_x000D_ [CZK] | AZ92: Základna_x000D_ DPH základní | BA92: Základna_x000D_ DPH snížená | BB92: Základna_x000D_ DPH zákl. přenesená | BC92: Základna_x000D_ DPH sníž. přenesená | BD92: Základna_x000D_ DPH nulová
C94: Náklady z rozpočtů | AG94: =ROUND(AG95+AG96+AG99+AG112,2) -> 0 | AN94: =SUM(AG94,AT94) -> 0 | AS94: =ROUND(AS95+AS96+AS99+AS112,2) -> 0 | AT94: =ROUND(SUM(AV94:AW94),2) -> 0 | AU94: =ROUND(AU95+AU96+AU99+AU112,5) -> 0 | AV94: =ROUND(AZ94*L29,2) -> 0 | AW94: =ROUND(BA94*L30,2) -> 0 | AX94: =ROUND(BB94*L29,2) -> 0 | AY94: =ROUND(BC94*L30,2) -> 0 | AZ94: =ROUND(AZ95+AZ96+AZ99+AZ112,2) -> 0 | BA94: =ROUND(BA95+BA96+BA99+BA112,2) -> 0 | BB94: =ROUND(BB95+BB96+BB99+BB112,2) -> 0 | BC94: =ROUND(BC95+BC96+BC99+BC112,2) -> 0 | BD94: =ROUND(BD95+BD96+BD99+BD112,2) -> 0 | BS94: D | BT94: 0 | BU94: ###NOIMPORT### | BV94: IMPORT | BW94: {d581e373-7c2b-498d-a10f-d6d9130f173d} | BX94: {00000000-0000-0000-0000-000000000000}
A95: / | D95: 01 | J95: Bytový dům - stavební a statická část | AG95: ='01 - Bytový dům - stavebn...'!J30 -> 0 | AN95: =SUM(AG95,AT95) -> 0 | AQ95: STA | AS95: 0 | AT95: =ROUND(SUM(AV95:AW95),2) -> 0 | AU95: ='01 - Bytový dům - stavebn...'!P148 -> 0 | AV95: ='01 - Bytový dům - stavebn...'!J33 -> 0 | AW95: ='01 - Bytový dům - stavebn...'!J34 -> 0 | AX95: ='01 - Bytový dům - stavebn...'!J35 -> 0 | AY95: ='01 - Bytový dům - stavebn...'!J36 -> 0 | AZ95: ='01 - Bytový dům - stavebn...'!F33 -> 0 | BA95: ='01 - Bytový dům - stavebn...'!F34 -> 0 | BB95: ='01 - Bytový dům - stavebn...'!F35 -> 0 | BC95: ='01 - Bytový dům - stavebn...'!F36 -> 0 | BD95: ='01 - Bytový dům - stavebn...'!F37 -> 0 | BT95: 1 | BV95: IMPORT | BW95: {c44d2664-e4b9-495d-bed9-561227e26bef} | BX95: {d581e373-7c2b-498d-a10f-d6d9130f173d} | CM95: 1
D96: 02 | J96: Sanace vlhkosti | AG96: =ROUND(SUM(AG97:AG98),2) -> 0 | AN96: =SUM(AG96,AT96) -> 0 | AQ96: STA | AS96: =ROUND(SUM(AS97:AS98),2) -> 0 | AT96: =ROUND(SUM(AV96:AW96),2) -> 0 | AU96: =ROUND(SUM(AU97:AU98),5) -> 0 | AV96: =ROUND(AZ96*L29,2) -> 0 | AW96: =ROUND(BA96*L30,2) -> 0 | AX96: =ROUND(BB96*L29,2) -> 0 | AY96: =ROUND(BC96*L30,2) -> 0 | AZ96: =ROUND(SUM(AZ97:AZ98),2) -> 0 | BA96: =ROUND(SUM(BA97:BA98),2) -> 0 | BB96: =ROUND(SUM(BB97:BB98),2) -> 0 | BC96: =ROUND(SUM(BC97:BC98),2) -> 0 | BD96: =ROUND(SUM(BD97:BD98),2) -> 0 | BS96: D | BT96: 1 | BU96: ###NOIMPORT### | BV96: IMPORT | BW96: {3a34920c-13c2-449a-a2d0-7b40c9b08c36} | BX96: {d581e373-7c2b-498d-a10f-d6d9130f173d} | CM96: 1
A97: / | E97: 001 | K97: Sanace vlhkosti a salinity - 1.PP | AG97: ='001 - Sanace vlhkosti a s...'!J32 -> 0 | AN97: =SUM(AG97,AT97) -> 0 | AQ97: Soupis | AS97: 0 | AT97: =ROUND(SUM(AV97:AW97),2) -> 0 | AU97: ='001 - Sanace vlhkosti a s...'!P130 -> 0 | AV97: ='001 - Sanace vlhkosti a s...'!J35 -> 0 | AW97: ='001 - Sanace vlhkosti a s...'!J36 -> 0 | AX97: ='001 - Sanace vlhkosti a s...'!J37 -> 0 | AY97: ='001 - Sanace vlhkosti a s...'!J38 -> 0 | AZ97: ='001 - Sanace vlhkosti a s...'!F35 -> 0 | BA97: ='001 - Sanace vlhkosti a s...'!F36 -> 0 | BB97: ='001 - Sanace vlhkosti a s...'!F37 -> 0 | BC97: ='001 - Sanace vlhkosti a s...'!F38 -> 0 | BD97: ='001 - Sanace vlhkosti a s...'!F39 -> 0 | BT97: 2 | BV97: IMPORT | BW97: {acc169a4-da2d-4367-9b73-f98893351eb7} | BX97: {3a34920c-13c2-449a-a2d0-7b40c9b08c36}
A98: / | E98: 002 | K98: Sanace vlhkosti a salinity - 1.NP | AG98: ='002 - Sanace vlhkosti a s...'!J32 -> 0 | AN98: =SUM(AG98,AT98) -> 0 | AQ98: Soupis | AS98: 0 | AT98: =ROUND(SUM(AV98:AW98),2) -> 0 | AU98: ='002 - Sanace vlhkosti a s...'!P129 -> 0 | AV98: ='002 - Sanace vlhkosti a s...'!J35 -> 0 | AW98: ='002 - Sanace vlhkosti a s...'!J36 -> 0 | AX98: ='002 - Sanace vlhkosti a s...'!J37 -> 0 | AY98: ='002 - Sanace vlhkosti a s...'!J38 -> 0 | AZ98: ='002 - Sanace vlhkosti a s...'!F35 -> 0 | BA98: ='002 - Sanace vlhkosti a s...'!F36 -> 0 | BB98: ='002 - Sanace vlhkosti a s...'!F37 -> 0 | BC98: ='002 - Sanace vlhkosti a s...'!F38 -> 0 | BD98: ='002 - Sanace vlhkosti a s...'!F39 -> 0 | BT98: 2 | BV98: IMPORT | BW98: {965c3748-ac70-480a-95a8-dea330f6f361} | BX98: {3a34920c-13c2-449a-a2d0-7b40c9b08c36}
D99: 03 | J99: TZB | AG99: =ROUND(AG100+SUM(AG101:AG103)+AG108,2) -> 0 | AN99: =SUM(AG99,AT99) -> 0 | AQ99: STA | AS99: =ROUND(AS100+SUM(AS101:AS103)+AS108,2) -> 0 | AT99: =ROUND(SUM(AV99:AW99),2) -> 0 | AU99: =ROUND(AU100+SUM(AU101:AU103)+AU108,5) -> 0 | AV99: =ROUND(AZ99*L29,2) -> 0 | AW99: =ROUND(BA99*L30,2) -> 0 | AX99: =ROUND(BB99*L29,2) -> 0 | AY99: =ROUND(BC99*L30,2) -> 0 | AZ99: =ROUND(AZ100+SUM(AZ101:AZ103)+AZ108,2) -> 0 | BA99: =ROUND(BA100+SUM(BA101:BA103)+BA108,2) -> 0 | BB99: =ROUND(BB100+SUM(BB101:BB103)+BB108,2) -> 0 | BC99: =ROUND(BC100+SUM(BC101:BC103)+BC108,2) -> 0 | BD99: =ROUND(BD100+SUM(BD101:BD103)+BD108,2) -> 0 | BS99: D | BT99: 1 | BU99: ###NOIMPORT### | BV99: IMPORT | BW99: {602a9a26-d069-46df-a957-b770530cdef5} | BX99: {d581e373-7c2b-498d-a10f-d6d9130f173d} | CM99: 1
A100: / | E100: 01 | K100: ZTI | AG100: ='01 - ZTI'!J32 -> 0 | AN100: =SUM(AG100,AT100) -> 0 | AQ100: Soupis | AS100: 0 | AT100: =ROUND(SUM(AV100:AW100),2) -> 0 | AU100: ='01 - ZTI'!P131 -> 0 | AV100: ='01 - ZTI'!J35 -> 0 | AW100: ='01 - ZTI'!J36 -> 0 | AX100: ='01 - ZTI'!J37 -> 0 | AY100: ='01 - ZTI'!J38 -> 0 | AZ100: ='01 - ZTI'!F35 -> 0 | BA100: ='01 - ZTI'!F36 -> 0 | BB100: ='01 - ZTI'!F37 -> 0 | BC100: ='01 - ZTI'!F38 -> 0 | BD100: ='01 - ZTI'!F39 -> 0 | BT100: 2 | BV100: IMPORT | BW100: {81c7debb-cf19-443f-a7de-6a6b7c410bcd} | BX100: {602a9a26-d069-46df-a957-b770530cdef5}
A101: / | E101: 02 | K101: Vytápění | AG101: ='02 - Vytápění'!J32 -> 0 | AN101: =SUM(AG101,AT101) -> 0 | AQ101: Soupis | AS101: 0 | AT101: =ROUND(SUM(AV101:AW101),2) -> 0 | AU101: ='02 - Vytápění'!P126 -> 0 | AV101: ='02 - Vytápění'!J35 -> 0 | AW101: ='02 - Vytápění'!J36 -> 0 | AX101: ='02 - Vytápění'!J37 -> 0 | AY101: ='02 - Vytápění'!J38 -> 0 | AZ101: ='02 - Vytápění'!F35 -> 0 | BA101: ='02 - Vytápění'!F36 -> 0 | BB101: ='02 - Vytápění'!F37 -> 0 | BC101: ='02 - Vytápění'!F38 -> 0 | BD101: ='02 - Vytápění'!F39 -> 0 | BT101: 2 | BV101: IMPORT | BW101: {bdb91ee1-eca0-407d-8bff-264f3e7ffe2f} | BX101: {602a9a26-d069-46df-a957-b770530cdef5}
A102: / | E102: 03 | K102: VZT | AG102: ='03 - VZT'!J32 -> 0 | AN102: =SUM(AG102,AT102) -> 0 | AQ102: Soupis | AS102: 0 | AT102: =ROUND(SUM(AV102:AW102),2) -> 0 | AU102: ='03 - VZT'!P123 -> 0 | AV102: ='03 - VZT'!J35 -> 0 | AW102: ='03 - VZT'!J36 -> 0 | AX102: ='03 - VZT'!J37 -> 0 | AY102: ='03 - VZT'!J38 -> 0 | AZ102: ='03 - VZT'!F35 -> 0 | BA102: ='03 - VZT'!F36 -> 0 | BB102: ='03 - VZT'!F37 -> 0 | BC102: ='03 - VZT'!F38 -> 0 | BD102: ='03 - VZT'!F39 -> 0 | BT102: 2 | BV102: IMPORT | BW102: {d0ab993f-af45-44ab-b173-e25a24ff98e2} | BX102: {602a9a26-d069-46df-a957-b770530cdef5}
E103: 04 | K103: Silnoproud | AG103: =ROUND(SUM(AG104:AG107),2) -> 0 | AN103: =SUM(AG103,AT103) -> 0 | AQ103: Soupis | AS103: =ROUND(SUM(AS104:AS107),2) -> 0 | AT103: =ROUND(SUM(AV103:AW103),2) -> 0 | AU103: =ROUND(SUM(AU104:AU107),5) -> 0 | AV103: =ROUND(AZ103*L29,2) -> 0 | AW103: =ROUND(BA103*L30,2) -> 0 | AX103: =ROUND(BB103*L29,2) -> 0 | AY103: =ROUND(BC103*L30,2) -> 0 | AZ103: =ROUND(SUM(AZ104:AZ107),2) -> 0 | BA103: =ROUND(SUM(BA104:BA107),2) -> 0 | BB103: =ROUND(SUM(BB104:BB107),2) -> 0 | BC103: =ROUND(SUM(BC104:BC107),2) -> 0 | BD103: =ROUND(SUM(BD104:BD107),2) -> 0 | BS103: D | BT103: 2 | BU103: ###NOIMPORT### | BV103: IMPORT | BW103: {9c358d49-f52c-4e1f-b90f-5b10dcbeff6b} | BX103: {602a9a26-d069-46df-a957-b770530cdef5}
A104: / | F104: a | L104: Společné prostory | AG104: ='a - Společné prostory'!J34 -> 0 | AN104: =SUM(AG104,AT104) -> 0 | AQ104: Soupis | AS104: 0 | AT104: =ROUND(SUM(AV104:AW104),2) -> 0 | AU104: ='a - Společné prostory'!P132 -> 0 | AV104: ='a - Společné prostory'!J37 -> 0 | AW104: ='a - Společné prostory'!J38 -> 0 | AX104: ='a - Společné prostory'!J39 -> 0 | AY104: ='a - Společné prostory'!J40 -> 0 | AZ104: ='a - Společné prostory'!F37 -> 0 | BA104: ='a - Společné prostory'!F38 -> 0 | BB104: ='a - Společné prostory'!F39 -> 0 | BC104: ='a - Společné prostory'!F40 -> 0 | BD104: ='a - Společné prostory'!F41 -> 0 | BT104: 3 | BV104: IMPORT | BW104: {615c2c81-6452-44b0-9f5a-a0a8300d9d22} | BX104: {9c358d49-f52c-4e1f-b90f-5b10dcbeff6b}
A105: / | F105: b | L105: Nebytové prostory | AG105: ='b - Nebytové prostory'!J34 -> 0 | AN105: =SUM(AG105,AT105) -> 0 | AQ105: Soupis | AS105: 0 | AT105: =ROUND(SUM(AV105:AW105),2) -> 0 | AU105: ='b - Nebytové prostory'!P131 -> 0 | AV105: ='b - Nebytové prostory'!J37 -> 0 | AW105: ='b - Nebytové prostory'!J38 -> 0 | AX105: ='b - Nebytové prostory'!J39 -> 0 | AY105: ='b - Nebytové prostory'!J40 -> 0 | AZ105: ='b - Nebytové prostory'!F37 -> 0 | BA105: ='b - Nebytové prostory'!F38 -> 0 | BB105: ='b - Nebytové prostory'!F39 -> 0 | BC105: ='b - Nebytové prostory'!F40 -> 0 | BD105: ='b - Nebytové prostory'!F41 -> 0 | BT105: 3 | BV105: IMPORT | BW105: {41f75eed-8b26-4fcd-b82f-12798a3bb356} | BX105: {9c358d49-f52c-4e1f-b90f-5b10dcbeff6b}
A106: / | F106: c | L106: Byty | AG106: ='c - Byty'!J34 -> 0 | AN106: =SUM(AG106,AT106) -> 0 | AQ106: Soupis | AS106: 0 | AT106: =ROUND(SUM(AV106:AW106),2) -> 0 | AU106: ='c - Byty'!P132 -> 0 | AV106: ='c - Byty'!J37 -> 0 | AW106: ='c - Byty'!J38 -> 0 | AX106: ='c - Byty'!J39 -> 0 | AY106: ='c - Byty'!J40 -> 0 | AZ106: ='c - Byty'!F37 -> 0 | BA106: ='c - Byty'!F38 -> 0 | BB106: ='c - Byty'!F39 -> 0 | BC106: ='c - Byty'!F40 -> 0 | BD106: ='c - Byty'!F41 -> 0 | BT106: 3 | BV106: IMPORT | BW106: {36c6882f-daf3-4ec6-a2f4-9e275b31960a} | BX106: {9c358d49-f52c-4e1f-b90f-5b10dcbeff6b}
A107: / | F107: d | L107: Hromosvod | AG107: ='d - Hromosvod'!J34 -> 0 | AN107: =SUM(AG107,AT107) -> 0 | AQ107: Soupis | AS107: 0 | AT107: =ROUND(SUM(AV107:AW107),2) -> 0 | AU107: ='d - Hromosvod'!P130 -> 0 | AV107: ='d - Hromosvod'!J37 -> 0 | AW107: ='d - Hromosvod'!J38 -> 0 | AX107: ='d - Hromosvod'!J39 -> 0 | AY107: ='d - Hromosvod'!J40 -> 0 | AZ107: ='d - Hromosvod'!F37 -> 0 | BA107: ='d - Hromosvod'!F38 -> 0 | BB107: ='d - Hromosvod'!F39 -> 0 | BC107: ='d - Hromosvod'!F40 -> 0 | BD107: ='d - Hromosvod'!F41 -> 0 | BT107: 3 | BV107: IMPORT | BW107: {e89c2907-551f-4013-a1a9-fe3f6c0f1e0b} | BX107: {9c358d49-f52c-4e1f-b90f-5b10dcbeff6b}
E108: 05 | K108: Slaboproud | AG108: =ROUND(SUM(AG109:AG111),2) -> 0 | AN108: =SUM(AG108,AT108) -> 0 | AQ108: Soupis | AS108: =ROUND(SUM(AS109:AS111),2) -> 0 | AT108: =ROUND(SUM(AV108:AW108),2) -> 0 | AU108: =ROUND(SUM(AU109:AU111),5) -> 0 | AV108: =ROUND(AZ108*L29,2) -> 0 | AW108: =ROUND(BA108*L30,2) -> 0 | AX108: =ROUND(BB108*L29,2) -> 0 | AY108: =ROUND(BC108*L30,2) -> 0 | AZ108: =ROUND(SUM(AZ109:AZ111),2) -> 0 | BA108: =ROUND(SUM(BA109:BA111),2) -> 0 | BB108: =ROUND(SUM(BB109:BB111),2) -> 0 | BC108: =ROUND(SUM(BC109:BC111),2) -> 0 | BD108: =ROUND(SUM(BD109:BD111),2) -> 0 | BS108: D | BT108: 2 | BU108: ###NOIMPORT### | BV108: IMPORT | BW108: {b008c5eb-7cd1-4cb4-82cc-f85b52e01001} | BX108: {602a9a26-d069-46df-a957-b770530cdef5}
A109: / | F109: a | L109: Společné prostory | AG109: ='a - Společné prostory_01'!J34 -> 0 | AN109: =SUM(AG109,AT109) -> 0 | AQ109: Soupis | AS109: 0 | AT109: =ROUND(SUM(AV109:AW109),2) -> 0 | AU109: ='a - Společné prostory_01'!P131 -> 0 | AV109: ='a - Společné prostory_01'!J37 -> 0 | AW109: ='a - Společné prostory_01'!J38 -> 0 | AX109: ='a - Společné prostory_01'!J39 -> 0 | AY109: ='a - Společné prostory_01'!J40 -> 0 | AZ109: ='a - Společné prostory_01'!F37 -> 0 | BA109: ='a - Společné prostory_01'!F38 -> 0 | BB109: ='a - Společné prostory_01'!F39 -> 0 | BC109: ='a - Společné prostory_01'!F40 -> 0 | BD109: ='a - Společné prostory_01'!F41 -> 0 | BT109: 3 | BV109: IMPORT | BW109: {98d3d525-3f8f-4e5f-9ef5-118ff7461b59} | BX109: {b008c5eb-7cd1-4cb4-82cc-f85b52e01001}
A110: / | F110: b | L110: Nebytové prostory | AG110: ='b - Nebytové prostory_01'!J34 -> 0 | AN110: =SUM(AG110,AT110) -> 0 | AQ110: Soupis | AS110: 0 | AT110: =ROUND(SUM(AV110:AW110),2) -> 0 | AU110: ='b - Nebytové prostory_01'!P131 -> 0 | AV110: ='b - Nebytové prostory_01'!J37 -> 0 | AW110: ='b - Nebytové prostory_01'!J38 -> 0 | AX110: ='b - Nebytové prostory_01'!J39 -> 0 | AY110: ='b - Nebytové prostory_01'!J40 -> 0 | AZ110: ='b - Nebytové prostory_01'!F37 -> 0 | BA110: ='b - Nebytové prostory_01'!F38 -> 0 | BB110: ='b - Nebytové prostory_01'!F39 -> 0 | BC110: ='b - Nebytové prostory_01'!F40 -> 0 | BD110: ='b - Nebytové prostory_01'!F41 -> 0 | BT110: 3 | BV110: IMPORT | BW110: {73f372d0-b69f-4568-8069-ead7915db12c} | BX110: {b008c5eb-7cd1-4cb4-82cc-f85b52e01001}
A111: / | F111: c | L111: Byty | AG111: ='c - Byty_01'!J34 -> 0 | AN111: =SUM(AG111,AT111) -> 0 | AQ111: Soupis | AS111: 0 | AT111: =ROUND(SUM(AV111:AW111),2) -> 0 | AU111: ='c - Byty_01'!P130 -> 0 | AV111: ='c - Byty_01'!J37 -> 0 | AW111: ='c - Byty_01'!J38 -> 0 | AX111: ='c - Byty_01'!J39 -> 0 | AY111: ='c - Byty_01'!J40 -> 0 | AZ111: ='c - Byty_01'!F37 -> 0 | BA111: ='c - Byty_01'!F38 -> 0 | BB111: ='c - Byty_01'!F39 -> 0 | BC111: ='c - Byty_01'!F40 -> 0 | BD111: ='c - Byty_01'!F41 -> 0 | BT111: 3 | BV111: IMPORT | BW111: {287585c1-78dc-4dc1-8de7-1b9cd3a0eff2} | BX111: {b008c5eb-7cd1-4cb4-82cc-f85b52e01001}
A112: / | D112: 04 | J112: Vedlejší rozpočtové náklady | AG112: ='04 - Vedlejší rozpočtové ...'!J30 -> 0 | AN112: =SUM(AG112,AT112) -> 0 | AQ112: STA | AS112: 0 | AT112: =ROUND(SUM(AV112:AW112),2) -> 0 | AU112: ='04 - Vedlejší rozpočtové ...'!P124 -> 0 | AV112: ='04 - Vedlejší rozpočtové ...'!J33 -> 0 | AW112: ='04 - Vedlejší rozpočtové ...'!J34 -> 0 | AX112: ='04 - Vedlejší rozpočtové ...'!J35 -> 0 | AY112: ='04 - Vedlejší rozpočtové ...'!J36 -> 0 | AZ112: ='04 - Vedlejší rozpočtové ...'!F33 -> 0 | BA112: ='04 - Vedlejší rozpočtové ...'!F34 -> 0 | BB112: ='04 - Vedlejší rozpočtové ...'!F35 -> 0 | BC112: ='04 - Vedlejší rozpočtové ...'!F36 -> 0 | BD112: ='04 - Vedlejší rozpočtové ...'!F37 -> 0 | BT112: 1 | BV112: IMPORT | BW112: {834678de-135b-4424-ac89-b769296b0086} | BX112: {d581e373-7c2b-498d-a10f-d6d9130f173d} | CM112: 1

Sheet 01 - Bytový dům - stavebn...
L2: >> skryté sloupce << | AT2: {c44d2664-e4b9-495d-bed9-561227e26bef}
AT3: 1
D4: KRYCÍ LIST SOUPISU PRACÍ | M4: v --- níže se nacházejí doplnkové a pomocné údaje k sestavám --- v | AT4: False
D6: Stavba:
E7: ='Rekapitulace stavby'!K6 -> Bytový dům Líbeznice, Martinova 142
D8: Objekt:
E9: 01 - Bytový dům - stavební a statická část
D11: KSO: | I11: CC-CZ:
D12: Místo: | F12: Martinova 142, Líbeznice | I12: Datum: | J12: ='Rekapitulace stavby'!AN8 -> 3. 11. 2025
D14: Zadavatel: | I14: IČ: | J14: =IF('Rekapitulace stavby'!AN10="","",'Rekapitulace stavby'!AN10)
E15: =IF('Rekapitulace stavby'!E11="","",'Rekapitulace stavby'!E11) | I15: DIČ: | J15: =IF('Rekapitulace stavby'!AN11="","",'Rekapitulace stavby'!AN11)
D17: Uchazeč: | I17: IČ: | J17: ='Rekapitulace stavby'!AN13 -> Vyplň údaj
E18: ='Rekapitulace stavby'!E14 -> Vyplň údaj | I18: DIČ: | J18: ='Rekapitulace stavby'!AN14 -> Vyplň údaj
D20: Projektant: | I20: IČ:
E21: Ateliér bod architekti s.r.o. osadní 799/26, P 7 | I21: DIČ:
D23: Zpracovatel: | I23: IČ:
E24: Hana Pejšová | I24: DIČ:
D26: Poznámka:
D30: Cena bez DPH | J30: =ROUND(J148, 2) -> 0
F32: Základ daně | I32: Sazba daně | J32: Výše daně
D33: DPH | E33: základní | F33: =ROUND((SUM(BE148:BE2387)), 2) -> 0 | I33: 0.21 | J33: =ROUND(((SUM(BE148:BE2387))*I33), 2) -> 0
E34: snížená | F34: =ROUND((SUM(BF148:BF2387)), 2) -> 0 | I34: 0.12 | J34: =ROUND(((SUM(BF148:BF2387))*I34), 2) -> 0
E35: zákl. přenesená | F35: =ROUND((SUM(BG148:BG2387)), 2) -> 0 | I35: 0.21 | J35: =0 -> 0
E36: sníž. přenesená | F36: =ROUND((SUM(BH148:BH2387)), 2) -> 0 | I36: 0.12 | J36: =0 -> 0
E37: nulová | F37: =ROUND((SUM(BI148:BI2387)), 2) -> 0 | I37: 0 | J37: =0 -> 0
D39: Cena s DPH | G39: v | H39: CZK | J39: =SUM(J30:J37) -> 0
D50: Projektant | G50: Zpracovatel
D61: Datum a podpis: | F61: Razítko | G61: Datum a podpis: | J61: Razítko
D65: Objednavatel | G65: Uchazeč
D76: Datum a podpis: | F76: Razítko | G76: Datum a podpis: | J76: Razítko
C82: REKAPITULACE ČLENĚNÍ SOUPISU PRACÍ
C84: Stavba:
E85: =E7 -> Bytový dům Líbeznice, Martinova 142
C86: Objekt:
E87: =E9 -> 01 - Bytový dům - stavební a statická část
C89: Místo: | F89: =F12 -> Martinova 142, Líbeznice | I89: Datum: | J89: =IF(J12="","",J12) -> 3. 11. 2025
C91: Zadavatel: | F91: =E15 | I91: Projektant: | J91: =E21 -> Ateliér bod architekti s.r.o. osadní 799/26, P 7
C92: Uchazeč: | F92: =IF(E18="","",E18) -> Vyplň údaj | I92: Zpracovatel: | J92: =E24 -> Hana Pejšová
C94: Kód dílu - Popis | J94: Cena celkem [CZK]
C96: Náklady ze soupisu prací | J96: =J148 -> 0 | AU96: -1
D97: HSV - Práce a dodávky HSV | J97: =J149 -> 0
D98: 1 - Zemní práce | J98: =J150 -> 0
D99: 2 - Zakládání | J99: =J187 -> 0
D100: 3 - Svislé a kompletní konstrukce | J100: =J210 -> 0
D101: 4 - Vodorovné konstrukce | J101: =J363 -> 0
D102: 5 - Komunikace pozemní | J102: =J396 -> 0
D103: 6 - Úpravy povrchů, podlahy a osazování výplní | J103: =J438 -> 0
D104: 9 - Ostatní konstrukce a práce, bourání | J104: =J729 -> 0
D105: 997 - Doprava suti a vybouraných hmot | J105: =J1136 -> 0
D106: 998 - Přesun hmot | J106: =J1149 -> 0
D107: 999 - Ostatní prvky kompletizovaní,dodávka,montáž,osazení,kotvení | J107: =J1151 -> 0
D108: PSV - Práce a dodávky PSV | J108: =J1203 -> 0
D109: 711 - Izolace proti vodě, vlhkosti a plynům | J109: =J1204 -> 0
D110: 713 - Izolace tepelné | J110: =J1222 -> 0
D111: 721 - Zdravotechnika - vnitřní kanalizace | J111: =J1324 -> 0
D112: 722 - Zdravotechnika - vnitřní vodovod | J112: =J1327 -> 0
D113: 762 - Konstrukce tesařské | J113: =J1329 -> 0
D114: 763 - Konstrukce suché výstavby | J114: =J1570 -> 0
D115: 764 - Konstrukce klempířské | J115: =J1753 -> 0
D116: 765 - Krytina skládaná | J116: =J1794 -> 0
D117: 766 - Konstrukce truhlářské kompletizované-dodávka,montáž,osazení,kotvení | J117: =J1818 -> 0
D118: 767 - Konstrukce zámečnické | J118: =J1969 -> 0
D119: 771 - Podlahy z dlaždic | J119: =J2013 -> 0
D120: 772 - Podlahy z kamene | J120: =J2060 -> 0
D121: 773 - Podlahy z litého teraca | J121: =J2086 -> 0
D122: 775 - Podlahy skládané | J122: =J2107 -> 0
D123: 776 - Podlahy povlakové | J123: =J2175 -> 0
D124: 777 - Podlahy lité | J124: =J2182 -> 0
D125: 781 - Dokončovací práce - obklady | J125: =J2207 -> 0
D126: 783 - Dokončovací práce - nátěry | J126: =J2235 -> 0
D127: 784 - Dokončovací práce - malby a tapety | J127: =J2289 -> 0
D128: HZS - Hodinové zúčtovací sazby | J128: =J2386 -> 0
C135: SOUPIS PRACÍ
C137: Stavba:
E138: =E7 -> Bytový dům Líbeznice, Martinova 142
C139: Objekt:
E140: =E9 -> 01 - Bytový dům - stavební a statická část
C142: Místo: | F142: =F12 -> Martinova 142, Líbeznice | I142: Datum: | J142: =IF(J12="","",J12) -> 3. 11. 2025
C144: Zadavatel: | F144: =E15 | I144: Projektant: | J144: =E21 -> Ateliér bod architekti s.r.o. osadní 799/26, P 7
C145: Uchazeč: | F145: =IF(E18="","",E18) -> Vyplň údaj | I145: Zpracovatel: | J145: =E24 -> Hana Pejšová
C147: PČ | D147: Typ | E147: Kód | F147: Popis | G147: MJ | H147: Množství | I147: J.cena [CZK] | J147: Cena celkem [CZK] | K147: Cenová soustava | N147: DPH | O147: J. Nh [h] | P147: Nh celkem [h] | Q147: J. hmotnost [t] | R147: Hmotnost celkem [t] | S147: J. suť [t] | T147: Suť Celkem [t]
C148: Náklady soupisu celkem | J148: =BK148 -> 0 | P148: =P149+P1203+P2386 -> 0 | R148: =R149+R1203+R2386 -> 1407.3663 | T148: =T149+T1203+T2386 -> 1366.8996 | AT148: D | AU148: -1 | BK148: =BK149+BK1203+BK2386 -> 0
D149: D | E149: HSV | F149: Práce a dodávky HSV | J149: =BK149 -> 0 | P149: =P150+P187+P210+P363+P396+P438+P729+P1136+P1149+P1151 -> 0 | R149: =R150+R187+R210+R363+R396+R438+R729+R1136+R1149+R1151 -> 1174.9133 | T149: =T150+T187+T210+T363+T396+T438+T729+T1136+T1149+T1151 -> 1196.7967 | AR149: 1 | AT149: D | AU149: 0 | AY149: ROZPOCET | BK149: =BK150+BK187+BK210+BK363+BK396+BK438+BK729+BK1136+BK1149+BK1151 -> 0
D150: D | E150: 1 | F150: Zemní práce | J150: =BK150 -> 0 | P150: =SUM(P151:P186) -> 0 | R150: =SUM(R151:R186) -> 0.360772 | T150: =SUM(T151:T186) -> 0 | AR150: 1 | AT150: D | AU150: 1 | AY150: ROZPOCET | BK150: =SUM(BK151:BK186) -> 0
C151: 1 | D151: K | E151: 12215000R | F151: Zemní práce pro zpevněné plochy-odkopání zeminy,vyrovnání,odvozy,skládkovné vč zhutnění podloží | G151: m2 | H151: 180.7 | J151: =ROUND(I151*H151,2) -> 0 | N151: snížená | P151: =O151*H151 -> 0 | Q151: 0 | R151: =Q151*H151 -> 0 | S151: 0 | T151: =S151*H151 -> 0 | AR151: 4 | AT151: K | AU151: 2 | AY151: ROZPOCET | BE151: =IF(N151="základní",J151,0) -> 0 | BF151: =IF(N151="snížená",J151,0) -> 0 | BG151: =IF(N151="zákl. přenesená",J151,0) -> 0 | BH151: =IF(N151="sníž. přenesená",J151,0) -> 0 | BI151: =IF(N151="nulová",J151,0) -> 0 | BJ151: 2 | BK151: =ROUND(I151*H151,2) -> 0 | BL151: 4 | BM151: -1051268456
D152: VV | F152: 10,2+1,55*2+17,5+118,9+20,9+10,1 | H152: 180.7 | AT152: VV | AU152: 2 | AV152: 2 | AW152: True | AX152: 1 | AY152: ROZPOCET
C153: 2 | D153: K | E153: 139711111 | F153: Vykopávky v uzavřených prostorech v hornině třídy těžitelnosti I skupiny 1 až 3 ručně-pro základ | G153: m3 | H153: 2.7 | J153: =ROUND(I153*H153,2) -> 0 | K153: CS ÚRS 2025 02 | N153: snížená | P153: =O153*H153 -> 0 | Q153: 0 | R153: =Q153*H153 -> 0 | S153: 0 | T153: =S153*H153 -> 0 | AR153: 4 | AT153: K | AU153: 2 | AY153: ROZPOCET | BE153: =IF(N153="základní",J153,0) -> 0 | BF153: =IF(N153="snížená",J153,0) -> 0 | BG153: =IF(N153="zákl. přenesená",J153,0) -> 0 | BH153: =IF(N153="sníž. přenesená",J153,0) -> 0 | BI153: =IF(N153="nulová",J153,0) -> 0 | BJ153: 2 | BK153: =ROUND(I153*H153,2) -> 0 | BL153: 4 | BM153: -26649314
C154: 3 | D154: K | E154: 162211201 | F154: Vodorovné přemístění do 10 m nošením výkopku z horniny třídy těžitelnosti I skupiny 1 až 3 | G154: m3 | H154: 2.7 | J154: =ROUND(I154*H154,2) -> 0 | K154: CS ÚRS 2025 02 | N154: snížená | P154: =O154*H154 -> 0 | Q154: 0 | R154: =Q154*H154 -> 0 | S154: 0 | T154: =S154*H154 -> 0 | AR154: 4 | AT154: K | AU154: 2 | AY154: ROZPOCET | BE154: =IF(N154="základní",J154,0) -> 0 | BF154: =IF(N154="snížená",J154,0) -> 0 | BG154: =IF(N154="zákl. přenesená",J154,0) -> 0 | BH154: =IF(N154="sníž. přenesená",J154,0) -> 0 | BI154: =IF(N154="nulová",J154,0) -> 0 | BJ154: 2 | BK154: =ROUND(I154*H154,2) -> 0 | BL154: 4 | BM154: -593900970
C155: 4 | D155: K | E155: 162751117 | F155: Vodorovné přemístění přes 9 000 do 10000 m výkopku/sypaniny z horniny třídy těžitelnosti I skupiny 1 až 3 | G155: m3 | H155: 2.7 | J155: =ROUND(I155*H155,2) -> 0 | K155: CS ÚRS 2025 02 | N155: snížená | P155: =O155*H155 -> 0 | Q155: 0 | R155: =Q155*H155 -> 0 | S155: 0 | T155: =S155*H155 -> 0 | AR155: 4 | AT155: K | AU155: 2 | AY155: ROZPOCET | BE155: =IF(N155="základní",J155,0) -> 0 | BF155: =IF(N155="snížená",J155,0) -> 0 | BG155: =IF(N155="zákl. přenesená",J155,0) -> 0 | BH155: =IF(N155="sníž. přenesená",J155,0) -> 0 | BI155: =IF(N155="nulová",J155,0) -> 0 | BJ155: 2 | BK155: =ROUND(I155*H155,2) -> 0 | BL155: 4 | BM155: 1521720037
C156: 5 | D156: K | E156: 162751119 | F156: Příplatek k vodorovnému přemístění výkopku/sypaniny z horniny třídy těžitelnosti I skupiny 1 až 3 ZKD 1000 m přes 10000 m | G156: m3 | H156: 27 | J156: =ROUND(I156*H156,2) -> 0 | K156: CS ÚRS 2025 02 | N156: snížená | P156: =O156*H156 -> 0 | Q156: 0 | R156: =Q156*H156 -> 0 | S156: 0 | T156: =S156*H156 -> 0 | AR156: 4 | AT156: K | AU156: 2 | AY156: ROZPOCET | BE156: =IF(N156="základní",J156,0) -> 0 | BF156: =IF(N156="snížená",J156,0) -> 0 | BG156: =IF(N156="zákl. přenesená",J156,0) -> 0 | BH156: =IF(N156="sníž. přenesená",J156,0) -> 0 | BI156: =IF(N156="nulová",J156,0) -> 0 | BJ156: 2 | BK156: =ROUND(I156*H156,2) -> 0 | BL156: 4 | BM156: -598709142
D157: VV | F157: 10*2,700 | H157: 27 | AT157: VV | AU157: 2 | AV157: 2 | AW157: True | AX157: 1 | AY157: ROZPOCET
C158: 6 | D158: K | E158: 171111113R | F158: Hutněný nepropustný zásyp doplněný jílovitou zeminou - V2.2 | G158: m3 | H158: 1.86 | J158: =ROUND(I158*H158,2) -> 0 | N158: snížená | P158: =O158*H158 -> 0 | Q158: 0 | R158: =Q158*H158 -> 0 | S158: 0 | T158: =S158*H158 -> 0 | AR158: 4 | AT158: K | AU158: 2 | AY158: ROZPOCET | BE158: =IF(N158="základní",J158,0) -> 0 | BF158: =IF(N158="snížená",J158,0) -> 0 | BG158: =IF(N158="zákl. přenesená",J158,0) -> 0 | BH158: =IF(N158="sníž. přenesená",J158,0) -> 0 | BI158: =IF(N158="nulová",J158,0) -> 0 | BJ158: 2 | BK158: =ROUND(I158*H158,2) -> 0 | BL158: 4 | BM158: 1025160029
D159: VV | F159: 1,55*2*1,2*0,5 | H159: 1.86 | AT159: VV | AU159: 2 | AV159: 2 | AW159: True | AX159: 1 | AY159: ROZPOCET
C160: 7 | D160: K | E160: 171201221 | F160: Poplatek za uložení na skládce (skládkovné) zeminy a kamení kód odpadu 17 05 04 | G160: t | H160: 5.4 | J160: =ROUND(I160*H160,2) -> 0 | K160: CS ÚRS 2025 02 | N160: snížená | P160: =O160*H160 -> 0 | Q160: 0 | R160: =Q160*H160 -> 0 | S160: 0 | T160: =S160*H160 -> 0 | AR160: 4 | AT160: K | AU160: 2 | AY160: ROZPOCET | BE160: =IF(N160="základní",J160,0) -> 0 | BF160: =IF(N160="snížená",J160,0) -> 0 | BG160: =IF(N160="zákl. přenesená",J160,0) -> 0 | BH160: =IF(N160="sníž. přenesená",J160,0) -> 0 | BI160: =IF(N160="nulová",J160,0) -> 0 | BJ160: 2 | BK160: =ROUND(I160*H160,2) -> 0 | BL160: 4 | BM160: -143581349
D161: VV | F161: 2,700*2 | H161: 5.4 | AT161: VV | AU161: 2 | AV161: 2 | AW161: True | AX161: 1 | AY161: ROZPOCET
C162: 8 | D162: K | E162: 171251201 | F162: Uložení sypaniny na skládky | G162: m3 | H162: 2.7 | J162: =ROUND(I162*H162,2) -> 0 | K162: CS ÚRS 2025 02 | N162: snížená | P162: =O162*H162 -> 0 | Q162: 0 | R162: =Q162*H162 -> 0 | S162: 0 | T162: =S162*H162 -> 0 | AR162: 4 | AT162: K | AU162: 2 | AY162: ROZPOCET | BE162: =IF(N162="základní",J162,0) -> 0 | BF162: =IF(N162="snížená",J162,0) -> 0 | BG162: =IF(N162="zákl. přenesená",J162,0) -> 0 | BH162: =IF(N162="sníž. přenesená",J162,0) -> 0 | BI162: =IF(N162="nulová",J162,0) -> 0 | BJ162: 2 | BK162: =ROUND(I162*H162,2) -> 0 | BL162: 4 | BM162: 1573471502
C163: 9 | D163: K | E163: 181311103 | F163: Rozprostření substrátu tl vrstvy do 200 mm v rovině nebo ve svahu do 1:5 ručně - V2.6 | G163: m2 | H163: 10.1 | J163: =ROUND(I163*H163,2) -> 0 | K163: CS ÚRS 2025 02 | N163: snížená | P163: =O163*H163 -> 0 | Q163: 0 | R163: =Q163*H163 -> 0 | S163: 0 | T163: =S163*H163 -> 0 | AR163: 4 | AT163: K | AU163: 2 | AY163: ROZPOCET | BE163: =IF(N163="základní",J163,0) -> 0 | BF163: =IF(N163="snížená",J163,0) -> 0 | BG163: =IF(N163="zákl. přenesená",J163,0) -> 0 | BH163: =IF(N163="sníž. přenesená",J163,0) -> 0 | BI163: =IF(N163="nulová",J163,0) -> 0 | BJ163: 2 | BK163: =ROUND(I163*H163,2) -> 0 | BL163: 4 | BM163: 1122841018
C164: 10 | D164: M | E164: 10371500 | F164: substrát pro trávníky VL | G164: m3 | H164: 1.717 | J164: =ROUND(I164*H164,2) -> 0 | K164: CS ÚRS 2025 02 | N164: snížená | P164: =O164*H164 -> 0 | Q164: 0.21 | R164: =Q164*H164 -> 0.36057 | S164: 0 | T164: =S164*H164 -> 0 | AR164: 8 | AT164: M | AU164: 2 | AY164: ROZPOCET | BE164: =IF(N164="základní",J164,0) -> 0 | BF164: =IF(N164="snížená",J164,0) -> 0 | BG164: =IF(N164="zákl. přenesená",J164,0) -> 0 | BH164: =IF(N164="sníž. přenesená",J164,0) -> 0 | BI164: =IF(N164="nulová",J164,0) -> 0 | BJ164: 2 | BK164: =ROUND(I164*H164,2) -> 0 | BL164: 4 | BM164: 1769297485
D165: VV | F165: 10,100*0,17 | H165: 1.717 | AT165: VV | AU165: 2 | AV165: 2 | AW165: True | AX165: 1 | AY165: ROZPOCET
C166: 11 | D166: K | E166: 181411141 | F166: Založení parterového trávníku výsevem pl do 1000 m2 v rovině a ve svahu do 1:5 - V2.6 | G166: m2 | H166: 10.1 | J166: =ROUND(I166*H166,2) -> 0 | K166: CS ÚRS 2025 02 | N166: snížená | P166: =O166*H166 -> 0 | Q166: 0 | R166: =Q166*H166 -> 0 | S166: 0 | T166: =S166*H166 -> 0 | AR166: 4 | AT166: K | AU166: 2 | AY166: ROZPOCET | BE166: =IF(N166="základní",J166,0) -> 0 | BF166: =IF(N166="snížená",J166,0) -> 0 | BG166: =IF(N166="zákl. přenesená",J166,0) -> 0 | BH166: =IF(N166="sníž. přenesená",J166,0) -> 0 | BI166: =IF(N166="nulová",J166,0) -> 0 | BJ166: 2 | BK166: =ROUND(I166*H166,2) -> 0 | BL166: 4 | BM166: 602374400
...

Sheet 001 - Sanace vlhkosti a s...
L2: >> skryté sloupce << | AT2: {acc169a4-da2d-4367-9b73-f98893351eb7}
AT3: 1
D4: KRYCÍ LIST SOUPISU PRACÍ | M4: v --- níže se nacházejí doplnkové a pomocné údaje k sestavám --- v | AT4: False
D6: Stavba:
E7: ='Rekapitulace stavby'!K6 -> Bytový dům Líbeznice, Martinova 142
D8: Objekt:
E9: 02 - Sanace vlhkosti
D10: Soupis:
E11: 001 - Sanace vlhkosti a salinity - 1.PP
D13: KSO: | I13: CC-CZ:
D14: Místo: | F14: 250 65 Líbeznice | I14: Datum: | J14: ='Rekapitulace stavby'!AN8 -> 3. 11. 2025
D16: Zadavatel: | I16: IČ:
I17: DIČ:
D19: Uchazeč: | I19: IČ: | J19: ='Rekapitulace stavby'!AN13 -> Vyplň údaj
E20: ='Rekapitulace stavby'!E14 -> Vyplň údaj | I20: DIČ: | J20: ='Rekapitulace stavby'!AN14 -> Vyplň údaj
D22: Projektant: | I22: IČ:
I23: DIČ:
D25: Zpracovatel: | I25: IČ:
I26: DIČ:
D28: Poznámka:
E29: Soupis prací je sestaven s využitím Cenové soustavy ÚRS. Položky, které pochází z této cenové soustavy, jsou ve sloupci 'Cenová soustava' označeny popisem 'CS ÚRS' a úrovní příslušného kalendářního pololetí. Veškeré další informace vymezující popis a podmínky použití těchto položek z Cenové soustavy, které nejsou uvedeny přímo v soupisu prací, jsou neomezeně dálkově k dispozici na webu podminky.urs.cz.
D32: Cena bez DPH | J32: =ROUND(J130, 2) -> 0
F34: Základ daně | I34: Sazba daně | J34: Výše daně
D35: DPH | E35: základní | F35: =ROUND((SUM(BE130:BE412)), 2) -> 0 | I35: 0.21 | J35: =ROUND(((SUM(BE130:BE412))*I35), 2) -> 0
E36: snížená | F36: =ROUND((SUM(BF130:BF412)), 2) -> 0 | I36: 0.12 | J36: =ROUND(((SUM(BF130:BF412))*I36), 2) -> 0
E37: zákl. přenesená | F37: =ROUND((SUM(BG130:BG412)), 2) -> 0 | I37: 0.21 | J37: =0 -> 0
E38: sníž. přenesená | F38: =ROUND((SUM(BH130:BH412)), 2) -> 0 | I38: 0.12 | J38: =0 -> 0
E39: nulová | F39: =ROUND((SUM(BI130:BI412)), 2) -> 0 | I39: 0 | J39: =0 -> 0
D41: Cena s DPH | G41: v | H41: CZK | J41: =SUM(J32:J39) -> 0
D50: Projektant | G50: Zpracovatel
D61: Datum a podpis: | F61: Razítko | G61: Datum a podpis: | J61: Razítko
D65: Objednavatel | G65: Uchazeč
D76: Datum a podpis: | F76: Razítko | G76: Datum a podpis: | J76: Razítko
C82: REKAPITULACE ČLENĚNÍ SOUPISU PRACÍ
C84: Stavba:
E85: =E7 -> Bytový dům Líbeznice, Martinova 142
C86: Objekt:
E87: 02 - Sanace vlhkosti
C88: Soupis:
E89: =E11 -> 001 - Sanace vlhkosti a salinity - 1.PP
C91: Místo: | F91: =F14 -> 250 65 Líbeznice | I91: Datum: | J91: =IF(J14="","",J14) -> 3. 11. 2025
C93: Zadavatel: | F93: =E17 | I93: Projektant: | J93: =E23
C94: Uchazeč: | F94: =IF(E20="","",E20) -> Vyplň údaj | I94: Zpracovatel: | J94: =E26
C96: Kód dílu - Popis | J96: Cena celkem [CZK]
C98: Náklady ze soupisu prací | J98: =J130 -> 0 | AU98: -1
D99: HSV - HSV | J99: =J131 -> 0
D100: 3 - Svislé a kompletní konstrukce | J100: =J132 -> 0
D101: 6 - Úpravy povrchů, podlahy a osazování výplní | J101: =J153 -> 0
D102: 9 - Ostatní konstrukce a práce, bourání | J102: =J262 -> 0
D103: 998 - Přesun hmot | J103: =J280 -> 0
D104: PSV - Práce a dodávky PSV | J104: =J282 -> 0
D105: 711 - Izolace proti vodě, vlhkosti a plynům | J105: =J283 -> 0
D106: 784 - Dokončovací práce - malby a tapety | J106: =J386 -> 0
D107: VRN - Vedlejší rozpočtové náklady | J107: =J410 -> 0
D108: VRN3 - Zařízení staveniště | J108: =J411 -> 0
C115: SOUPIS PRACÍ
C117: Stavba:
E118: =E7 -> Bytový dům Líbeznice, Martinova 142
C119: Objekt:
E120: 02 - Sanace vlhkosti
C121: Soupis:
E122: =E11 -> 001 - Sanace vlhkosti a salinity - 1.PP
C124: Místo: | F124: =F14 -> 250 65 Líbeznice | I124: Datum: | J124: =IF(J14="","",J14) -> 3. 11. 2025
C126: Zadavatel: | F126: =E17 | I126: Projektant: | J126: =E23
C127: Uchazeč: | F127: =IF(E20="","",E20) -> Vyplň údaj | I127: Zpracovatel: | J127: =E26
C129: PČ | D129: Typ | E129: Kód | F129: Popis | G129: MJ | H129: Množství | I129: J.cena [CZK] | J129: Cena celkem [CZK] | K129: Cenová soustava | N129: DPH | O129: J. Nh [h] | P129: Nh celkem [h] | Q129: J. hmotnost [t] | R129: Hmotnost celkem [t] | S129: J. suť [t] | T129: Suť Celkem [t]
C130: Náklady soupisu celkem | J130: =BK130 -> 0 | P130: =P131+P282+P410 -> 0 | R130: =R131+R282+R410 -> 25.633581 | T130: =T131+T282+T410 -> 0.0320216 | AT130: D | AU130: -1 | BK130: =BK131+BK282+BK410 -> 0
D131: D | E131: HSV | F131: HSV | J131: =BK131 -> 0 | P131: =P132+P153+P262+P280 -> 0 | R131: =R132+R153+R262+R280 -> 24.553344 | T131: =T132+T153+T262+T280 -> 0.0320216 | AR131: 1 | AT131: D | AU131: 0 | AY131: ROZPOCET | BK131: =BK132+BK153+BK262+BK280 -> 0
D132: D | E132: 3 | F132: Svislé a kompletní konstrukce | J132: =BK132 -> 0 | P132: =SUM(P133:P152) -> 0 | R132: =SUM(R133:R152) -> 0.43053604 | T132: =SUM(T133:T152) -> 0.0320216 | AR132: 1 | AT132: D | AU132: 1 | AY132: ROZPOCET | BK132: =SUM(BK133:BK152) -> 0
C133: 1 | D133: K | E133: 319202134 | F133: Dodatečná izolace cihelného zdiva nízkotlakou injektáží jednořadovou mikroemulzí, tloušťka zdiva přes 450 do 600 mm | G133: m | H133: 16.32 | J133: =ROUND(I133*H133,2) -> 0 | K133: CS ÚRS 2025 02 | N133: snížená | P133: =O133*H133 -> 0 | Q133: 0.001285 | R133: =Q133*H133 -> 0.0209712 | S133: 0.0001 | T133: =S133*H133 -> 0.001632 | AR133: 4 | AT133: K | AU133: 2 | AY133: ROZPOCET | BE133: =IF(N133="základní",J133,0) -> 0 | BF133: =IF(N133="snížená",J133,0) -> 0 | BG133: =IF(N133="zákl. přenesená",J133,0) -> 0 | BH133: =IF(N133="sníž. přenesená",J133,0) -> 0 | BI133: =IF(N133="nulová",J133,0) -> 0 | BJ133: 2 | BK133: =ROUND(I133*H133,2) -> 0 | BL133: 4 | BM133: 596485528
D134: VV | F134: "Dodatečná liniová izolace zdiva ormou chemické injektáže dle kap. 7.2.1." | AT134: VV | AU134: 2 | AV134: 1 | AW134: True | AX134: 0 | AY134: ROZPOCET
D135: VV | F135: "Výkres -- SAN 1 - D.1.1. - 1.PP - SANACE VLHKOSTI" | AT135: VV | AU135: 2 | AV135: 1 | AW135: True | AX135: 0 | AY135: ROZPOCET
D136: VV | F136: "vnitřní zdivo u podlahy - vodorovná dvouřadá" 0,76*4*2 | H136: 6.08 | AT136: VV | AU136: 2 | AV136: 2 | AW136: True | AX136: 0 | AY136: ROZPOCET
D137: VV | F137: "vnitřní zdivo - svislá dvouřadá" 2,56*4 | H137: 10.24 | AT137: VV | AU137: 2 | AV137: 2 | AW137: True | AX137: 0 | AY137: ROZPOCET
D138: VV | F138: Součet | H138: 16.32 | AT138: VV | AU138: 2 | AV138: 4 | AW138: True | AX138: 1 | AY138: ROZPOCET
C139: 2 | D139: K | E139: 319202136 | F139: Dodatečná izolace cihelného zdiva nízkotlakou injektáží jednořadovou mikroemulzí, tloušťka zdiva přes 750 do 900 mm | G139: m | H139: 180.04 | J139: =ROUND(I139*H139,2) -> 0 | K139: CS ÚRS 2025 02 | N139: snížená | P139: =O139*H139 -> 0 | Q139: 0.001891 | R139: =Q139*H139 -> 0.34045564 | S139: 0.00014 | T139: =S139*H139 -> 0.0252056 | AR139: 4 | AT139: K | AU139: 2 | AY139: ROZPOCET | BE139: =IF(N139="základní",J139,0) -> 0 | BF139: =IF(N139="snížená",J139,0) -> 0 | BG139: =IF(N139="zákl. přenesená",J139,0) -> 0 | BH139: =IF(N139="sníž. přenesená",J139,0) -> 0 | BI139: =IF(N139="nulová",J139,0) -> 0 | BJ139: 2 | BK139: =ROUND(I139*H139,2) -> 0 | BL139: 4 | BM139: 1464192191
D140: VV | F140: "Dodatečná liniová izolace zdiva ormou chemické injektáže dle kap. 7.2.1." | AT140: VV | AU140: 2 | AV140: 1 | AW140: True | AX140: 0 | AY140: ROZPOCET
D141: VV | F141: "Výkres -- SAN 1 - D.1.1. - 1.PP - SANACE VLHKOSTI" | AT141: VV | AU141: 2 | AV141: 1 | AW141: True | AX141: 0 | AY141: ROZPOCET
D142: VV | F142: "vnitřní zdivo u podlahy - vodorovná dvouřadá" (0,45+0,55)*2 | H142: 2 | AT142: VV | AU142: 2 | AV142: 2 | AW142: True | AX142: 0 | AY142: ROZPOCET
D143: VV | F143: "vnitřní zdivo - svislá dvouřadá" 2,56*2 | H143: 5.12 | AT143: VV | AU143: 2 | AV143: 2 | AW143: True | AX143: 0 | AY143: ROZPOCET
D144: VV | F144: "obvodové zdivo - vodorovná dvouřadá u podlahy" (3,63+10,27+10,44+6,53+5,51+6,85)*2 | H144: 86.46 | AT144: VV | AU144: 2 | AV144: 2 | AW144: True | AX144: 0 | AY144: ROZPOCET
D145: VV | F145: "obvodové zdivo - pod stropemú nad úrovní vnějšího terénu" (3,63+10,27+10,44+6,53+5,51+6,85)*2 | H145: 86.46 | AT145: VV | AU145: 2 | AV145: 2 | AW145: True | AX145: 0 | AY145: ROZPOCET
D146: VV | F146: Součet | H146: 180.04 | AT146: VV | AU146: 2 | AV146: 4 | AW146: True | AX146: 1 | AY146: ROZPOCET
C147: 3 | D147: K | E147: 319202137 | F147: Dodatečná izolace cihelného zdiva nízkotlakou injektáží jednořadovou mikroemulzí, tloušťka zdiva přes 900 do 1 050 mm | G147: m | H147: 32.4 | J147: =ROUND(I147*H147,2) -> 0 | K147: CS ÚRS 2025 02 | N147: snížená | P147: =O147*H147 -> 0 | Q147: 0.002133 | R147: =Q147*H147 -> 0.0691092 | S147: 0.00016 | T147: =S147*H147 -> 0.005184 | AR147: 4 | AT147: K | AU147: 2 | AY147: ROZPOCET | BE147: =IF(N147="základní",J147,0) -> 0 | BF147: =IF(N147="snížená",J147,0) -> 0 | BG147: =IF(N147="zákl. přenesená",J147,0) -> 0 | BH147: =IF(N147="sníž. přenesená",J147,0) -> 0 | BI147: =IF(N147="nulová",J147,0) -> 0 | BJ147: 2 | BK147: =ROUND(I147*H147,2) -> 0 | BL147: 4 | BM147: -919774057
D148: VV | F148: "Dodatečná liniová izolace zdiva ormou chemické injektáže dle kap. 7.2.1." | AT148: VV | AU148: 2 | AV148: 1 | AW148: True | AX148: 0 | AY148: ROZPOCET
D149: VV | F149: "Výkres -- SAN 1 - D.1.1. - 1.PP - SANACE VLHKOSTI" | AT149: VV | AU149: 2 | AV149: 1 | AW149: True | AX149: 0 | AY149: ROZPOCET
D150: VV | F150: "obvodové zdivo - vodorovná dvouřadá u podlahy" 8,1*2 | H150: 16.2 | AT150: VV | AU150: 2 | AV150: 2 | AW150: True | AX150: 0 | AY150: ROZPOCET
D151: VV | F151: "obvodové zdivo - pod stropemú nad úrovní vnějšího terénu" 8,1*2 | H151: 16.2 | AT151: VV | AU151: 2 | AV151: 2 | AW151: True | AX151: 0 | AY151: ROZPOCET
D152: VV | F152: Součet | H152: 32.4 | AT152: VV | AU152: 2 | AV152: 4 | AW152: True | AX152: 1 | AY152: ROZPOCET
D153: D | E153: 6 | F153: Úpravy povrchů, podlahy a osazování výplní | J153: =BK153 -> 0 | P153: =SUM(P154:P261) -> 0 | R153: =SUM(R154:R261) -> 24.067657 | T153: =SUM(T154:T261) -> 0 | AR153: 1 | AT153: D | AU153: 1 | AY153: ROZPOCET | BK153: =SUM(BK154:BK261) -> 0
C154: 4 | D154: K | E154: 611324113 | F154: Omítka sanační vnitřních ploch podkladní (vyrovnávací) tloušťky do 10 mm nanášená ručně vodorovných konstrukcí kleneb nebo skořepin | G154: m2 | H154: 70.4 | J154: =ROUND(I154*H154,2) -> 0 | K154: CS ÚRS 2025 02 | N154: snížená | P154: =O154*H154 -> 0 | Q154: 0.012 | R154: =Q154*H154 -> 0.8448 | S154: 0 | T154: =S154*H154 -> 0 | AR154: 4 | AT154: K | AU154: 2 | AY154: ROZPOCET | BE154: =IF(N154="základní",J154,0) -> 0 | BF154: =IF(N154="snížená",J154,0) -> 0 | BG154: =IF(N154="zákl. přenesená",J154,0) -> 0 | BH154: =IF(N154="sníž. přenesená",J154,0) -> 0 | BI154: =IF(N154="nulová",J154,0) -> 0 | BJ154: 2 | BK154: =ROUND(I154*H154,2) -> 0 | BL154: 4 | BM154: 1784078895
D155: VV | F155: "Výkres -- SAN 1 - D.1.1. - 1.PP - SANACE VLHKOSTI" | AT155: VV | AU155: 2 | AV155: 1 | AW155: True | AX155: 0 | AY155: ROZPOCET
D156: VV | F156: "sanační omítky vnitřní - skladba V1.8. -plošné utěsnění spár a vyrovnání podkladu do tl. 15 mm dle kap. 7.2.5. - klenby" | AT156: VV | AU156: 2 | AV156: 1 | AW156: True | AX156: 0 | AY156: ROZPOCET
D157: VV | F157: "m.č.0.01 - mimo schodiště" 10,6 | H157: 10.6 | AT157: VV | AU157: 2 | AV157: 2 | AW157: True | AX157: 0 | AY157: ROZPOCET
D158: VV | F158: "m.č.0.02" 21,2 | H158: 21.2 | AT158: VV | AU158: 2 | AV158: 2 | AW158: True | AX158: 0 | AY158: ROZPOCET
D159: VV | F159: "m.č.0.03"19,7 | H159: 19.7 | AT159: VV | AU159: 2 | AV159: 2 | AW159: True | AX159: 0 | AY159: ROZPOCET
D160: VV | F160: "m.č.0.04" 18,9 | H160: 18.9 | AT160: VV | AU160: 2 | AV160: 2 | AW160: True | AX160: 0 | AY160: ROZPOCET
D161: VV | F161: Součet | H161: 70.4 | AT161: VV | AU161: 2 | AV161: 4 | AW161: True | AX161: 1 | AY161: ROZPOCET
C162: 5 | D162: K | E162: 611324313 | F162: Omítka sanační vnitřních ploch podkladní (vyrovnávací) Příplatek k cenám podkladní sanační omítky nanášené ručně nanášená strojně vodorovných konstrukcí kleneb nebo skořepin | G162: m2 | H162: 70.4 | J162: =ROUND(I162*H162,2) -> 0 | K162: CS ÚRS 2025 02 | N162: snížená | P162: =O162*H162 -> 0 | Q162: 0.012 | R162: =Q162*H162 -> 0.8448 | S162: 0 | T162: =S162*H162 -> 0 | AR162: 4 | AT162: K | AU162: 2 | AY162: ROZPOCET | BE162: =IF(N162="základní",J162,0) -> 0 | BF162: =IF(N162="snížená",J162,0) -> 0 | BG162: =IF(N162="zákl. přenesená",J162,0) -> 0 | BH162: =IF(N162="sníž. přenesená",J162,0) -> 0 | BI162: =IF(N162="nulová",J162,0) -> 0 | BJ162: 2 | BK162: =ROUND(I162*H162,2) -> 0 | BL162: 4 | BM162: -36910415
C163: 6 | D163: K | E163: 612131151 | F163: Sanační postřik vnitřních omítaných ploch vápenocementový nanášený ručně celoplošně stěn | G163: m2 | H163: 162.887 | J163: =ROUND(I163*H163,2) -> 0 | K163: CS ÚRS 2025 02 | N163: snížená | P163: =O163*H163 -> 0 | Q163: 0.008 | R163: =Q163*H163 -> 1.303096 | S163: 0 | T163: =S163*H163 -> 0 | AR163: 4 | AT163: K | AU163: 2 | AY163: ROZPOCET | BE163: =IF(N163="základní",J163,0) -> 0 | BF163: =IF(N163="snížená",J163,0) -> 0 | BG163: =IF(N163="zákl. přenesená",J163,0) -> 0 | BH163: =IF(N163="sníž. přenesená",J163,0) -> 0 | BI163: =IF(N163="nulová",J163,0) -> 0 | BJ163: 2 | BK163: =ROUND(I163*H163,2) -> 0 | BL163: 4 | BM163: -319794518
...

Sheet 002 - Sanace vlhkosti a s...
L2: >> skryté sloupce << | AT2: {965c3748-ac70-480a-95a8-dea330f6f361}
AT3: 1
D4: KRYCÍ LIST SOUPISU PRACÍ | M4: v --- níže se nacházejí doplnkové a pomocné údaje k sestavám --- v | AT4: False
D6: Stavba:
E7: ='Rekapitulace stavby'!K6 -> Bytový dům Líbeznice, Martinova 142
D8: Objekt:
E9: 02 - Sanace vlhkosti
D10: Soupis:
E11: 002 - Sanace vlhkosti a salinity - 1.NP
D13: KSO: | I13: CC-CZ:
D14: Místo: | F14: 250 65 Líbeznice | I14: Datum: | J14: ='Rekapitulace stavby'!AN8 -> 3. 11. 2025
D16: Zadavatel: | I16: IČ:
I17: DIČ:
D19: Uchazeč: | I19: IČ: | J19: ='Rekapitulace stavby'!AN13 -> Vyplň údaj
E20: ='Rekapitulace stavby'!E14 -> Vyplň údaj | I20: DIČ: | J20: ='Rekapitulace stavby'!AN14 -> Vyplň údaj
D22: Projektant: | I22: IČ:
I23: DIČ:
D25: Zpracovatel: | I25: IČ:
I26: DIČ:
D28: Poznámka:
E29: Soupis prací je sestaven s využitím Cenové soustavy ÚRS. Položky, které pochází z této cenové soustavy, jsou ve sloupci 'Cenová soustava' označeny popisem 'CS ÚRS' a úrovní příslušného kalendářního pololetí. Veškeré další informace vymezující popis a podmínky použití těchto položek z Cenové soustavy, které nejsou uvedeny přímo v soupisu prací, jsou neomezeně dálkově k dispozici na webu podminky.urs.cz.
D32: Cena bez DPH | J32: =ROUND(J129, 2) -> 0
F34: Základ daně | I34: Sazba daně | J34: Výše daně
D35: DPH | E35: základní | F35: =ROUND((SUM(BE129:BE508)), 2) -> 0 | I35: 0.21 | J35: =ROUND(((SUM(BE129:BE508))*I35), 2) -> 0
E36: snížená | F36: =ROUND((SUM(BF129:BF508)), 2) -> 0 | I36: 0.12 | J36: =ROUND(((SUM(BF129:BF508))*I36), 2) -> 0
E37: zákl. přenesená | F37: =ROUND((SUM(BG129:BG508)), 2) -> 0 | I37: 0.21 | J37: =0 -> 0
E38: sníž. přenesená | F38: =ROUND((SUM(BH129:BH508)), 2) -> 0 | I38: 0.12 | J38: =0 -> 0
E39: nulová | F39: =ROUND((SUM(BI129:BI508)), 2) -> 0 | I39: 0 | J39: =0 -> 0
D41: Cena s DPH | G41: v | H41: CZK | J41: =SUM(J32:J39) -> 0
D50: Projektant | G50: Zpracovatel
D61: Datum a podpis: | F61: Razítko | G61: Datum a podpis: | J61: Razítko
D65: Objednavatel | G65: Uchazeč
D76: Datum a podpis: | F76: Razítko | G76: Datum a podpis: | J76: Razítko
C82: REKAPITULACE ČLENĚNÍ SOUPISU PRACÍ
C84: Stavba:
E85: =E7 -> Bytový dům Líbeznice, Martinova 142
C86: Objekt:
E87: 02 - Sanace vlhkosti
C88: Soupis:
E89: =E11 -> 002 - Sanace vlhkosti a salinity - 1.NP
C91: Místo: | F91: =F14 -> 250 65 Líbeznice | I91: Datum: | J91: =IF(J14="","",J14) -> 3. 11. 2025
C93: Zadavatel: | F93: =E17 | I93: Projektant: | J93: =E23
C94: Uchazeč: | F94: =IF(E20="","",E20) -> Vyplň údaj | I94: Zpracovatel: | J94: =E26
C96: Kód dílu - Popis | J96: Cena celkem [CZK]
C98: Náklady ze soupisu prací | J98: =J129 -> 0 | AU98: -1
D99: 3 - Svislé a kompletní konstrukce | J99: =J130 -> 0
D100: 6 - Úpravy povrchů, podlahy a osazování výplní | J100: =J156 -> 0
D101: 8 - Vedení trubní dálková a přípojná | J101: =J290 -> 0
D102: 9 - Ostatní konstrukce a práce, bourání | J102: =J348 -> 0
D103: 998 - Přesun hmot | J103: =J359 -> 0
D104: 711 - Izolace proti vodě, vlhkosti a plynům | J104: =J361 -> 0
D105: 783 - Dokončovací práce - nátěry | J105: =J480 -> 0
D106: 784 - Dokončovací práce - malby a tapety | J106: =J491 -> 0
D107: VRN3 - Zařízení staveniště | J107: =J507 -> 0
C114: SOUPIS PRACÍ
C116: Stavba:
E117: =E7 -> Bytový dům Líbeznice, Martinova 142
C118: Objekt:
E119: 02 - Sanace vlhkosti
C120: Soupis:
E121: =E11 -> 002 - Sanace vlhkosti a salinity - 1.NP
C123: Místo: | F123: =F14 -> 250 65 Líbeznice | I123: Datum: | J123: =IF(J14="","",J14) -> 3. 11. 2025
C125: Zadavatel: | F125: =E17 | I125: Projektant: | J125: =E23
C126: Uchazeč: | F126: =IF(E20="","",E20) -> Vyplň údaj | I126: Zpracovatel: | J126: =E26
C128: PČ | D128: Typ | E128: Kód | F128: Popis | G128: MJ | H128: Množství | I128: J.cena [CZK] | J128: Cena celkem [CZK] | K128: Cenová soustava | N128: DPH | O128: J. Nh [h] | P128: Nh celkem [h] | Q128: J. hmotnost [t] | R128: Hmotnost celkem [t] | S128: J. suť [t] | T128: Suť Celkem [t]
C129: Náklady soupisu celkem | J129: =BK129 -> 0 | P129: =P130+P156+P290+P348+P359+P361+P480+P491+P507 -> 0 | R129: =R130+R156+R290+R348+R359+R361+R480+R491+R507 -> 34.737277 | T129: =T130+T156+T290+T348+T359+T361+T480+T491+T507 -> 0.02429952 | AT129: D | AU129: -1 | BK129: =BK130+BK156+BK290+BK348+BK359+BK361+BK480+BK491+BK507 -> 0
D130: D | E130: 3 | F130: Svislé a kompletní konstrukce | J130: =BK130 -> 0 | P130: =SUM(P131:P155) -> 0 | R130: =SUM(R131:R155) -> 0.32522784 | T130: =SUM(T131:T155) -> 0.02429952 | AR130: 1 | AT130: D | AU130: 0 | AY130: ROZPOCET | BK130: =SUM(BK131:BK155) -> 0
C131: 1 | D131: K | E131: 319202132 | F131: Dodatečná izolace cihelného zdiva nízkotlakou injektáží jednořadovou mikroemulzí, tloušťka zdiva přes 150 do 300 mm | G131: m | H131: 7.14 | J131: =ROUND(I131*H131,2) -> 0 | K131: CS ÚRS 2025 02 | N131: snížená | P131: =O131*H131 -> 0 | Q131: 0.0007 | R131: =Q131*H131 -> 0.004998 | S131: 5e-05 | T131: =S131*H131 -> 0.000357 | AR131: 4 | AT131: K | AU131: 1 | AY131: ROZPOCET | BE131: =IF(N131="základní",J131,0) -> 0 | BF131: =IF(N131="snížená",J131,0) -> 0 | BG131: =IF(N131="zákl. přenesená",J131,0) -> 0 | BH131: =IF(N131="sníž. přenesená",J131,0) -> 0 | BI131: =IF(N131="nulová",J131,0) -> 0 | BJ131: 2 | BK131: =ROUND(I131*H131,2) -> 0 | BL131: 4 | BM131: -225751785
D132: VV | F132: "Dodatečná liniová izolace zdiva formou chemické injektáže dvouřadá dle kap. 7.2.1." | AT132: VV | AU132: 1 | AV132: 1 | AW132: True | AX132: 0 | AY132: ROZPOCET
D133: VV | F133: "Výkres -- SAN 2 - D.1.1. - 1.NP - SANACE VLHKOSTI" | AT133: VV | AU133: 1 | AV133: 1 | AW133: True | AX133: 0 | AY133: ROZPOCET
D134: VV | F134: "m.č.1.03.02" (2,57+0,5+0,5)*2 | H134: 7.14 | AT134: VV | AU134: 1 | AV134: 2 | AW134: True | AX134: 0 | AY134: ROZPOCET
D135: VV | F135: Součet | H135: 7.14 | AT135: VV | AU135: 1 | AV135: 4 | AW135: True | AX135: 1 | AY135: ROZPOCET
C136: 2 | D136: K | E136: 319202135 | F136: Dodatečná izolace cihelného zdiva nízkotlakou injektáží jednořadovou mikroemulzí, tloušťka zdiva přes 600 do 750 mm | G136: m | H136: 99.806 | J136: =ROUND(I136*H136,2) -> 0 | K136: CS ÚRS 2025 02 | N136: snížená | P136: =O136*H136 -> 0 | Q136: 0.00159 | R136: =Q136*H136 -> 0.15869154 | S136: 0.00012 | T136: =S136*H136 -> 0.01197672 | AR136: 4 | AT136: K | AU136: 1 | AY136: ROZPOCET | BE136: =IF(N136="základní",J136,0) -> 0 | BF136: =IF(N136="snížená",J136,0) -> 0 | BG136: =IF(N136="zákl. přenesená",J136,0) -> 0 | BH136: =IF(N136="sníž. přenesená",J136,0) -> 0 | BI136: =IF(N136="nulová",J136,0) -> 0 | BJ136: 2 | BK136: =ROUND(I136*H136,2) -> 0 | BL136: 4 | BM136: 428224442
D137: VV | F137: "Dodatečná liniová izolace zdiva formou chemické injektáže dvouřadá dle kap. 7.2.1." | AT137: VV | AU137: 1 | AV137: 1 | AW137: True | AX137: 0 | AY137: ROZPOCET
D138: VV | F138: "Výkres -- SAN 2 - D.1.1. - 1.NP - SANACE VLHKOSTI" | AT138: VV | AU138: 1 | AV138: 1 | AW138: True | AX138: 0 | AY138: ROZPOCET
D139: VV | F139: "m.č.1.04.07" (1,485+1,487)*2 | H139: 5.944 | AT139: VV | AU139: 1 | AV139: 2 | AW139: True | AX139: 0 | AY139: ROZPOCET
D140: VV | F140: "m.č.1.05.02+03" (1,44+1,493+0,74)*2 | H140: 7.346 | AT140: VV | AU140: 1 | AV140: 2 | AW140: True | AX140: 0 | AY140: ROZPOCET
D141: VV | F141: "m.č.1.02 "(1,483+0,125*2+4,415)*2 | H141: 12.296 | AT141: VV | AU141: 1 | AV141: 2 | AW141: True | AX141: 0 | AY141: ROZPOCET
D142: VV | F142: "m.č.1.03.04+05+1.06" (4,15+1,493+1,489*2+1,49+5,61+1,4+0,86+1,033)*2 | H142: 38.028 | AT142: VV | AU142: 1 | AV142: 2 | AW142: True | AX142: 0 | AY142: ROZPOCET
D143: VV | F143: "m.č.1.03.03" (1,49*5+0,17+2,72+1,53+0,82)*2 | H143: 25.38 | AT143: VV | AU143: 1 | AV143: 2 | AW143: True | AX143: 0 | AY143: ROZPOCET
D144: VV | F144: "m.č.1.03.01, 1.01, 1.04.05" (0,3+2,126+1,49*2)*2 | H144: 10.812 | AT144: VV | AU144: 1 | AV144: 2 | AW144: True | AX144: 0 | AY144: ROZPOCET
D145: VV | F145: Součet | H145: 99.806 | AT145: VV | AU145: 1 | AV145: 4 | AW145: True | AX145: 1 | AY145: ROZPOCET
C146: 3 | D146: K | E146: 319202136 | F146: Dodatečná izolace cihelného zdiva nízkotlakou injektáží jednořadovou mikroemulzí, tloušťka zdiva přes 750 do 900 mm | G146: m | H146: 85.47 | J146: =ROUND(I146*H146,2) -> 0 | K146: CS ÚRS 2025 02 | N146: snížená | P146: =O146*H146 -> 0 | Q146: 0.00189 | R146: =Q146*H146 -> 0.1615383 | S146: 0.00014 | T146: =S146*H146 -> 0.0119658 | AR146: 4 | AT146: K | AU146: 1 | AY146: ROZPOCET | BE146: =IF(N146="základní",J146,0) -> 0 | BF146: =IF(N146="snížená",J146,0) -> 0 | BG146: =IF(N146="zákl. přenesená",J146,0) -> 0 | BH146: =IF(N146="sníž. přenesená",J146,0) -> 0 | BI146: =IF(N146="nulová",J146,0) -> 0 | BJ146: 2 | BK146: =ROUND(I146*H146,2) -> 0 | BL146: 4 | BM146: 1821551358
D147: VV | F147: "Dodatečná liniová izolace zdiva formou chemické injektáže dvouřadá dle kap. 7.2.1." | AT147: VV | AU147: 1 | AV147: 1 | AW147: True | AX147: 0 | AY147: ROZPOCET
D148: VV | F148: "Výkres -- SAN 2 - D.1.1. - 1.NP - SANACE VLHKOSTI" | AT148: VV | AU148: 1 | AV148: 1 | AW148: True | AX148: 0 | AY148: ROZPOCET
D149: VV | F149: "m.č.1.04.07" (1,395+1,415+0,51)*2 | H149: 6.64 | AT149: VV | AU149: 1 | AV149: 2 | AW149: True | AX149: 0 | AY149: ROZPOCET
D150: VV | F150: "m.č.1.05.02+03" (0,465+0,33+3,845+2,015+1,66)*2 | H150: 16.63 | AT150: VV | AU150: 1 | AV150: 2 | AW150: True | AX150: 0 | AY150: ROZPOCET
D151: VV | F151: "m.č.1.02 - vodorovná + svislá" (0,545+0,905+0,22)*2+0,63*2*2 | H151: 5.86 | AT151: VV | AU151: 1 | AV151: 2 | AW151: True | AX151: 0 | AY151: ROZPOCET
D152: VV | F152: "m.č.1.03.04+05" (1,925+2,085+3,845+0,36+1,015+1,33+1,38)*2 | H152: 23.88 | AT152: VV | AU152: 1 | AV152: 2 | AW152: True | AX152: 0 | AY152: ROZPOCET
D153: VV | F153: "m.č.1.03.03" (0,895+1,49+1,5+2,495+1,11+1,01+1,51)*2 | H153: 20.02 | AT153: VV | AU153: 1 | AV153: 2 | AW153: True | AX153: 0 | AY153: ROZPOCET
D154: VV | F154: "m.č.1.03.01" (1,985+1,435+1,438+1,362)*2 | H154: 12.44 | AT154: VV | AU154: 1 | AV154: 2 | AW154: True | AX154: 0 | AY154: ROZPOCET
D155: VV | F155: Součet | H155: 85.47 | AT155: VV | AU155: 1 | AV155: 4 | AW155: True | AX155: 1 | AY155: ROZPOCET
D156: D | E156: 6 | F156: Úpravy povrchů, podlahy a osazování výplní | J156: =BK156 -> 0 | P156: =SUM(P157:P289) -> 0 | R156: =SUM(R157:R289) -> 30.316627 | T156: =SUM(T157:T289) -> 0 | AR156: 1 | AT156: D | AU156: 0 | AY156: ROZPOCET | BK156: =SUM(BK157:BK289) -> 0
C157: 4 | D157: K | E157: 612131151 | F157: Sanační postřik vnitřních omítaných ploch vápenocementový nanášený ručně celoplošně stěn | G157: m2 | H157: 271.679 | J157: =ROUND(I157*H157,2) -> 0 | K157: CS ÚRS 2025 02 | N157: snížená | P157: =O157*H157 -> 0 | Q157: 0.008 | R157: =Q157*H157 -> 2.173432 | S157: 0 | T157: =S157*H157 -> 0 | AR157: 4 | AT157: K | AU157: 1 | AY157: ROZPOCET | BE157: =IF(N157="základní",J157,0) -> 0 | BF157: =IF(N157="snížená",J157,0) -> 0 | BG157: =IF(N157="zákl. přenesená",J157,0) -> 0 | BH157: =IF(N157="sníž. přenesená",J157,0) -> 0 | BI157: =IF(N157="nulová",J157,0) -> 0 | BJ157: 2 | BK157: =ROUND(I157*H157,2) -> 0 | BL157: 4 | BM157: 36908084
D158: VV | F158: "Výkres -- SAN 2 - D.1.1. - 1.NP - SANACE VLHKOSTI" | AT158: VV | AU158: 1 | AV158: 1 | AW158: True | AX158: 0 | AY158: ROZPOCET
D159: VV | F159: "Utěsnění proti negativnímu působení vlhkosti - skladba S.01 - sanační postřik vnitřních stěn nanášený celoplošně ručně dle kap. 7.2.2." | AT159: VV | AU159: 1 | AV159: 1 | AW159: True | AX159: 0 | AY159: ROZPOCET
D160: VV | F160: "m.č.1.02" (1,82+2,99+0,9/2)*(0,9+0,3) | H160: 6.312 | AT160: VV | AU160: 1 | AV160: 2 | AW160: True | AX160: 0 | AY160: ROZPOCET
D161: VV | F161: Mezisoučet | H161: 6.312 | AT161: VV | AU161: 1 | AV161: 3 | AW161: True | AX161: 0 | AY161: ROZPOCET
D162: VV | F162: "Sanační omítka vnitřní - skladba S.3.2. - sanační postřik vnitřních stěn nanášený celoplošně ručně dle kap. 7.2.5. do 0,9 m" | AT162: VV | AU162: 1 | AV162: 1 | AW162: True | AX162: 0 | AY162: ROZPOCET
D163: VV | F163: "m.č.1.04.07, 1.05.02-03" 0,9*(5,64+4,29+9,85) | H163: 17.802 | AT163: VV | AU163: 1 | AV163: 2 | AW163: True | AX163: 0 | AY163: ROZPOCET
...

Sheet 01 - ZTI
L2: >> skryté sloupce << | AT2: {81c7debb-cf19-443f-a7de-6a6b7c410bcd}
AT3: 1
D4: KRYCÍ LIST SOUPISU PRACÍ | M4: v --- níže se nacházejí doplnkové a pomocné údaje k sestavám --- v | AT4: False
D6: Stavba:
E7: ='Rekapitulace stavby'!K6 -> Bytový dům Líbeznice, Martinova 142
D8: Objekt:
E9: 03 - TZB
D10: Soupis:
E11: 01 - ZTI
D13: KSO: | I13: CC-CZ:
D14: Místo: | F14: Líbeznice | I14: Datum: | J14: ='Rekapitulace stavby'!AN8 -> 3. 11. 2025
D16: Zadavatel: | I16: IČ:
I17: DIČ:
D19: Uchazeč: | I19: IČ: | J19: ='Rekapitulace stavby'!AN13 -> Vyplň údaj
E20: ='Rekapitulace stavby'!E14 -> Vyplň údaj | I20: DIČ: | J20: ='Rekapitulace stavby'!AN14 -> Vyplň údaj
D22: Projektant: | I22: IČ:
I23: DIČ:
D25: Zpracovatel: | I25: IČ:
E26: Krajovský | I26: DIČ:
D28: Poznámka:
D32: Cena bez DPH | J32: =ROUND(J131, 2) -> 0
F34: Základ daně | I34: Sazba daně | J34: Výše daně
D35: DPH | E35: základní | F35: =ROUND((SUM(BE131:BE289)), 2) -> 0 | I35: 0.21 | J35: =ROUND(((SUM(BE131:BE289))*I35), 2) -> 0
E36: snížená | F36: =ROUND((SUM(BF131:BF289)), 2) -> 0 | I36: 0.12 | J36: =ROUND(((SUM(BF131:BF289))*I36), 2) -> 0
E37: zákl. přenesená | F37: =ROUND((SUM(BG131:BG289)), 2) -> 0 | I37: 0.21 | J37: =0 -> 0
E38: sníž. přenesená | F38: =ROUND((SUM(BH131:BH289)), 2) -> 0 | I38: 0.12 | J38: =0 -> 0
E39: nulová | F39: =ROUND((SUM(BI131:BI289)), 2) -> 0 | I39: 0 | J39: =0 -> 0
D41: Cena s DPH | G41: v | H41: CZK | J41: =SUM(J32:J39) -> 0
D50: Projektant | G50: Zpracovatel
D61: Datum a podpis: | F61: Razítko | G61: Datum a podpis: | J61: Razítko
D65: Objednavatel | G65: Uchazeč
D76: Datum a podpis: | F76: Razítko | G76: Datum a podpis: | J76: Razítko
C82: REKAPITULACE ČLENĚNÍ SOUPISU PRACÍ
C84: Stavba:
E85: =E7 -> Bytový dům Líbeznice, Martinova 142
C86: Objekt:
E87: 03 - TZB
C88: Soupis:
E89: =E11 -> 01 - ZTI
C91: Místo: | F91: =F14 -> Líbeznice | I91: Datum: | J91: =IF(J14="","",J14) -> 3. 11. 2025
C93: Zadavatel: | F93: =E17 | I93: Projektant: | J93: =E23
C94: Uchazeč: | F94: =IF(E20="","",E20) -> Vyplň údaj | I94: Zpracovatel: | J94: =E26 -> Krajovský
C96: Kód dílu - Popis | J96: Cena celkem [CZK]
C98: Náklady ze soupisu prací | J98: =J131 -> 0 | AU98: -1
D99: HSV - Práce a dodávky HSV | J99: =J132 -> 0
D100: 8 - Vedení trubní dálková a přípojná | J100: =J133 -> 0
D101: PSV - Práce a dodávky PSV | J101: =J138 -> 0
D102: 721 - Zdravotechnika - vnitřní kanalizace | J102: =J139 -> 0
D103: 722 - Zdravotechnika - vnitřní vodovod | J103: =J160 -> 0
D104: 725 - Zdravotechnika - zařizovací předměty | J104: =J212 -> 0
D105: 726 - Zdravotechnika - předstěnové instalace | J105: =J269 -> 0
D106: 732 - Ústřední vytápění - strojovny | J106: =J272 -> 0
D107: 751 - Vzduchotechnika | J107: =J274 -> 0
D108: HZS - Hodinové zúčtovací sazby | J108: =J277 -> 0
D109: Ostatní - Ostatní | J109: =J287 -> 0
C116: SOUPIS PRACÍ
C118: Stavba:
E119: =E7 -> Bytový dům Líbeznice, Martinova 142
C120: Objekt:
E121: 03 - TZB
C122: Soupis:
E123: =E11 -> 01 - ZTI
C125: Místo: | F125: =F14 -> Líbeznice | I125: Datum: | J125: =IF(J14="","",J14) -> 3. 11. 2025
C127: Zadavatel: | F127: =E17 | I127: Projektant: | J127: =E23
C128: Uchazeč: | F128: =IF(E20="","",E20) -> Vyplň údaj | I128: Zpracovatel: | J128: =E26 -> Krajovský
C130: PČ | D130: Typ | E130: Kód | F130: Popis | G130: MJ | H130: Množství | I130: J.cena [CZK] | J130: Cena celkem [CZK] | K130: Cenová soustava | N130: DPH | O130: J. Nh [h] | P130: Nh celkem [h] | Q130: J. hmotnost [t] | R130: Hmotnost celkem [t] | S130: J. suť [t] | T130: Suť Celkem [t]
C131: Náklady soupisu celkem | J131: =BK131 -> 0 | P131: =P132+P138+P277+P287 -> 0 | R131: =R132+R138+R277+R287 -> 2.86041 | T131: =T132+T138+T277+T287 -> 0 | AT131: D | AU131: -1 | BK131: =BK132+BK138+BK277+BK287 -> 0
D132: D | E132: HSV | F132: Práce a dodávky HSV | J132: =BK132 -> 0 | P132: =P133 -> 0 | R132: =R133 -> 0.21714 | T132: =T133 -> 0 | AR132: 1 | AT132: D | AU132: 0 | AY132: ROZPOCET | BK132: =BK133 -> 0
D133: D | E133: 8 | F133: Vedení trubní dálková a přípojná | J133: =BK133 -> 0 | P133: =SUM(P134:P137) -> 0 | R133: =SUM(R134:R137) -> 0.21714 | T133: =SUM(T134:T137) -> 0 | AR133: 1 | AT133: D | AU133: 1 | AY133: ROZPOCET | BK133: =SUM(BK134:BK137) -> 0
C134: 1 | D134: K | E134: 894812001 | F134: Revizní a čistící šachta z PP šachtové dno DN 400/150 přímý tok | G134: kus | H134: 2 | J134: =ROUND(I134*H134,2) -> 0 | N134: snížená | P134: =O134*H134 -> 0 | Q134: 0.04005 | R134: =Q134*H134 -> 0.0801 | S134: 0 | T134: =S134*H134 -> 0 | AR134: 4 | AT134: K | AU134: 2 | AY134: ROZPOCET | BE134: =IF(N134="základní",J134,0) -> 0 | BF134: =IF(N134="snížená",J134,0) -> 0 | BG134: =IF(N134="zákl. přenesená",J134,0) -> 0 | BH134: =IF(N134="sníž. přenesená",J134,0) -> 0 | BI134: =IF(N134="nulová",J134,0) -> 0 | BJ134: 2 | BK134: =ROUND(I134*H134,2) -> 0 | BL134: 4 | BM134: 1465155321
C135: 2 | D135: K | E135: 894812033 | F135: Revizní a čistící šachta z PP DN 400 šachtová roura korugovaná bez hrdla světlé hloubky 2000 mm | G135: kus | H135: 2 | J135: =ROUND(I135*H135,2) -> 0 | N135: snížená | P135: =O135*H135 -> 0 | Q135: 0.00792 | R135: =Q135*H135 -> 0.01584 | S135: 0 | T135: =S135*H135 -> 0 | AR135: 4 | AT135: K | AU135: 2 | AY135: ROZPOCET | BE135: =IF(N135="základní",J135,0) -> 0 | BF135: =IF(N135="snížená",J135,0) -> 0 | BG135: =IF(N135="zákl. přenesená",J135,0) -> 0 | BH135: =IF(N135="sníž. přenesená",J135,0) -> 0 | BI135: =IF(N135="nulová",J135,0) -> 0 | BJ135: 2 | BK135: =ROUND(I135*H135,2) -> 0 | BL135: 4 | BM135: -1521898222
C136: 3 | D136: K | E136: 894812041 | F136: Příplatek k rourám revizní a čistící šachty z PP DN 400 za uříznutí šachtové roury | G136: kus | H136: 2 | J136: =ROUND(I136*H136,2) -> 0 | N136: snížená | P136: =O136*H136 -> 0 | Q136: 0 | R136: =Q136*H136 -> 0 | S136: 0 | T136: =S136*H136 -> 0 | AR136: 4 | AT136: K | AU136: 2 | AY136: ROZPOCET | BE136: =IF(N136="základní",J136,0) -> 0 | BF136: =IF(N136="snížená",J136,0) -> 0 | BG136: =IF(N136="zákl. přenesená",J136,0) -> 0 | BH136: =IF(N136="sníž. přenesená",J136,0) -> 0 | BI136: =IF(N136="nulová",J136,0) -> 0 | BJ136: 2 | BK136: =ROUND(I136*H136,2) -> 0 | BL136: 4 | BM136: -1099654226
C137: 4 | D137: K | E137: 894812062 | F137: Revizní a čistící šachta z PP DN 400 poklop litinový s betonovým rámem pro třídu zatížení B125 | G137: kus | H137: 2 | J137: =ROUND(I137*H137,2) -> 0 | N137: snížená | P137: =O137*H137 -> 0 | Q137: 0.0606 | R137: =Q137*H137 -> 0.1212 | S137: 0 | T137: =S137*H137 -> 0 | AR137: 4 | AT137: K | AU137: 2 | AY137: ROZPOCET | BE137: =IF(N137="základní",J137,0) -> 0 | BF137: =IF(N137="snížená",J137,0) -> 0 | BG137: =IF(N137="zákl. přenesená",J137,0) -> 0 | BH137: =IF(N137="sníž. přenesená",J137,0) -> 0 | BI137: =IF(N137="nulová",J137,0) -> 0 | BJ137: 2 | BK137: =ROUND(I137*H137,2) -> 0 | BL137: 4 | BM137: 1898200157
D138: D | E138: PSV | F138: Práce a dodávky PSV | J138: =BK138 -> 0 | P138: =P139+P160+P212+P269+P272+P274 -> 0 | R138: =R139+R160+R212+R269+R272+R274 -> 2.64327 | T138: =T139+T160+T212+T269+T272+T274 -> 0 | AR138: 2 | AT138: D | AU138: 0 | AY138: ROZPOCET | BK138: =BK139+BK160+BK212+BK269+BK272+BK274 -> 0
D139: D | E139: 721 | F139: Zdravotechnika - vnitřní kanalizace | J139: =BK139 -> 0 | P139: =SUM(P140:P159) -> 0 | R139: =SUM(R140:R159) -> 0.80325 | T139: =SUM(T140:T159) -> 0 | AR139: 2 | AT139: D | AU139: 1 | AY139: ROZPOCET | BK139: =SUM(BK140:BK159) -> 0
C140: 5 | D140: K | E140: 721173401 | F140: Potrubí kanalizační z PVC SN 4 svodné DN 110 | G140: m | H140: 70 | J140: =ROUND(I140*H140,2) -> 0 | N140: snížená | P140: =O140*H140 -> 0 | Q140: 0.00144 | R140: =Q140*H140 -> 0.1008 | S140: 0 | T140: =S140*H140 -> 0 | AR140: 16 | AT140: K | AU140: 2 | AY140: ROZPOCET | BE140: =IF(N140="základní",J140,0) -> 0 | BF140: =IF(N140="snížená",J140,0) -> 0 | BG140: =IF(N140="zákl. přenesená",J140,0) -> 0 | BH140: =IF(N140="sníž. přenesená",J140,0) -> 0 | BI140: =IF(N140="nulová",J140,0) -> 0 | BJ140: 2 | BK140: =ROUND(I140*H140,2) -> 0 | BL140: 16 | BM140: -1740706746
C141: 6 | D141: K | E141: 721173402 | F141: Potrubí kanalizační z PVC SN 4 svodné DN 125 | G141: m | H141: 50 | J141: =ROUND(I141*H141,2) -> 0 | N141: snížená | P141: =O141*H141 -> 0 | Q141: 0.00197 | R141: =Q141*H141 -> 0.0985 | S141: 0 | T141: =S141*H141 -> 0 | AR141: 16 | AT141: K | AU141: 2 | AY141: ROZPOCET | BE141: =IF(N141="základní",J141,0) -> 0 | BF141: =IF(N141="snížená",J141,0) -> 0 | BG141: =IF(N141="zákl. přenesená",J141,0) -> 0 | BH141: =IF(N141="sníž. přenesená",J141,0) -> 0 | BI141: =IF(N141="nulová",J141,0) -> 0 | BJ141: 2 | BK141: =ROUND(I141*H141,2) -> 0 | BL141: 16 | BM141: 1068328383
C142: 7 | D142: K | E142: 721173403 | F142: Potrubí kanalizační z PVC SN 4 svodné DN 160 | G142: m | H142: 30 | J142: =ROUND(I142*H142,2) -> 0 | N142: snížená | P142: =O142*H142 -> 0 | Q142: 0.00304 | R142: =Q142*H142 -> 0.0912 | S142: 0 | T142: =S142*H142 -> 0 | AR142: 16 | AT142: K | AU142: 2 | AY142: ROZPOCET | BE142: =IF(N142="základní",J142,0) -> 0 | BF142: =IF(N142="snížená",J142,0) -> 0 | BG142: =IF(N142="zákl. přenesená",J142,0) -> 0 | BH142: =IF(N142="sníž. přenesená",J142,0) -> 0 | BI142: =IF(N142="nulová",J142,0) -> 0 | BJ142: 2 | BK142: =ROUND(I142*H142,2) -> 0 | BL142: 16 | BM142: -1603059301
C143: 8 | D143: K | E143: 721173722 | F143: Potrubí kanalizační z PE připojovací DN 40 | G143: m | H143: 10 | J143: =ROUND(I143*H143,2) -> 0 | N143: snížená | P143: =O143*H143 -> 0 | Q143: 0.00036 | R143: =Q143*H143 -> 0.0036 | S143: 0 | T143: =S143*H143 -> 0 | AR143: 16 | AT143: K | AU143: 2 | AY143: ROZPOCET | BE143: =IF(N143="základní",J143,0) -> 0 | BF143: =IF(N143="snížená",J143,0) -> 0 | BG143: =IF(N143="zákl. přenesená",J143,0) -> 0 | BH143: =IF(N143="sníž. přenesená",J143,0) -> 0 | BI143: =IF(N143="nulová",J143,0) -> 0 | BJ143: 2 | BK143: =ROUND(I143*H143,2) -> 0 | BL143: 16 | BM143: 1039251627
C144: 9 | D144: K | E144: 721174026 | F144: Potrubí kanalizační z PP odpadní DN 125 | G144: m | H144: 14 | J144: =ROUND(I144*H144,2) -> 0 | N144: snížená | P144: =O144*H144 -> 0 | Q144: 0.00131 | R144: =Q144*H144 -> 0.01834 | S144: 0 | T144: =S144*H144 -> 0 | AR144: 16 | AT144: K | AU144: 2 | AY144: ROZPOCET | BE144: =IF(N144="základní",J144,0) -> 0 | BF144: =IF(N144="snížená",J144,0) -> 0 | BG144: =IF(N144="zákl. přenesená",J144,0) -> 0 | BH144: =IF(N144="sníž. přenesená",J144,0) -> 0 | BI144: =IF(N144="nulová",J144,0) -> 0 | BJ144: 2 | BK144: =ROUND(I144*H144,2) -> 0 | BL144: 16 | BM144: 1933101249
C145: 10 | D145: M | E145: 28615604 | F145: čistící tvarovka odpadní pro vysoké teploty HTRE DN 125 | G145: kus | H145: 14 | J145: =ROUND(I145*H145,2) -> 0 | N145: snížená | P145: =O145*H145 -> 0 | Q145: 0.0004 | R145: =Q145*H145 -> 0.0056 | S145: 0 | T145: =S145*H145 -> 0 | AR145: 32 | AT145: M | AU145: 2 | AY145: ROZPOCET | BE145: =IF(N145="základní",J145,0) -> 0 | BF145: =IF(N145="snížená",J145,0) -> 0 | BG145: =IF(N145="zákl. přenesená",J145,0) -> 0 | BH145: =IF(N145="sníž. přenesená",J145,0) -> 0 | BI145: =IF(N145="nulová",J145,0) -> 0 | BJ145: 2 | BK145: =ROUND(I145*H145,2) -> 0 | BL145: 16 | BM145: -1058736097
C146: 11 | D146: K | E146: 721174041 | F146: Potrubí kanalizační z PP připojovací DN 32 | G146: m | H146: 80 | J146: =ROUND(I146*H146,2) -> 0 | N146: snížená | P146: =O146*H146 -> 0 | Q146: 0.0004 | R146: =Q146*H146 -> 0.032 | S146: 0 | T146: =S146*H146 -> 0 | AR146: 16 | AT146: K | AU146: 2 | AY146: ROZPOCET | BE146: =IF(N146="základní",J146,0) -> 0 | BF146: =IF(N146="snížená",J146,0) -> 0 | BG146: =IF(N146="zákl. přenesená",J146,0) -> 0 | BH146: =IF(N146="sníž. přenesená",J146,0) -> 0 | BI146: =IF(N146="nulová",J146,0) -> 0 | BJ146: 2 | BK146: =ROUND(I146*H146,2) -> 0 | BL146: 16 | BM146: -87335731
C147: 12 | D147: K | E147: 721174042 | F147: Potrubí kanalizační z PP připojovací DN 40 | G147: m | H147: 5 | J147: =ROUND(I147*H147,2) -> 0 | N147: snížená | P147: =O147*H147 -> 0 | Q147: 0.00043 | R147: =Q147*H147 -> 0.00215 | S147: 0 | T147: =S147*H147 -> 0 | AR147: 16 | AT147: K | AU147: 2 | AY147: ROZPOCET | BE147: =IF(N147="základní",J147,0) -> 0 | BF147: =IF(N147="snížená",J147,0) -> 0 | BG147: =IF(N147="zákl. přenesená",J147,0) -> 0 | BH147: =IF(N147="sníž. přenesená",J147,0) -> 0 | BI147: =IF(N147="nulová",J147,0) -> 0 | BJ147: 2 | BK147: =ROUND(I147*H147,2) -> 0 | BL147: 16 | BM147: -87055598
C148: 13 | D148: K | E148: 721174043 | F148: Potrubí kanalizační z PP připojovací DN 50 | G148: m | H148: 100 | J148: =ROUND(I148*H148,2) -> 0 | N148: snížená | P148: =O148*H148 -> 0 | Q148: 0.0005 | R148: =Q148*H148 -> 0.05 | S148: 0 | T148: =S148*H148 -> 0 | AR148: 16 | AT148: K | AU148: 2 | AY148: ROZPOCET | BE148: =IF(N148="základní",J148,0) -> 0 | BF148: =IF(N148="snížená",J148,0) -> 0 | BG148: =IF(N148="zákl. přenesená",J148,0) -> 0 | BH148: =IF(N148="sníž. přenesená",J148,0) -> 0 | BI148: =IF(N148="nulová",J148,0) -> 0 | BJ148: 2 | BK148: =ROUND(I148*H148,2) -> 0 | BL148: 16 | BM148: -316647403
C149: 14 | D149: K | E149: 721174044 | F149: Potrubí kanalizační z PP připojovací DN 75 | G149: m | H149: 15 | J149: =ROUND(I149*H149,2) -> 0 | N149: snížená | P149: =O149*H149 -> 0 | Q149: 0.00076 | R149: =Q149*H149 -> 0.0114 | S149: 0 | T149: =S149*H149 -> 0 | AR149: 16 | AT149: K | AU149: 2 | AY149: ROZPOCET | BE149: =IF(N149="základní",J149,0) -> 0 | BF149: =IF(N149="snížená",J149,0) -> 0 | BG149: =IF(N149="zákl. přenesená",J149,0) -> 0 | BH149: =IF(N149="sníž. přenesená",J149,0) -> 0 | BI149: =IF(N149="nulová",J149,0) -> 0 | BJ149: 2 | BK149: =ROUND(I149*H149,2) -> 0 | BL149: 16 | BM149: -734413938
C150: 15 | D150: K | E150: 721174045 | F150: Potrubí kanalizační z PP připojovací DN 110 | G150: m | H150: 250 | J150: =ROUND(I150*H150,2) -> 0 | N150: snížená | P150: =O150*H150 -> 0 | Q150: 0.00153 | R150: =Q150*H150 -> 0.3825 | S150: 0 | T150: =S150*H150 -> 0 | AR150: 16 | AT150: K | AU150: 2 | AY150: ROZPOCET | BE150: =IF(N150="základní",J150,0) -> 0 | BF150: =IF(N150="snížená",J150,0) -> 0 | BG150: =IF(N150="zákl. přenesená",J150,0) -> 0 | BH150: =IF(N150="sníž. přenesená",J150,0) -> 0 | BI150: =IF(N150="nulová",J150,0) -> 0 | BJ150: 2 | BK150: =ROUND(I150*H150,2) -> 0 | BL150: 16 | BM150: -462918434
C151: 16 | D151: K | E151: 721211405 | F151: Vpusť podlahová s vodorovným odtokem DN 40/50 s automatickým a ručním uzávěrem proti vzduté vodě mřížka nerez 115x115 | G151: kus | H151: 1 | J151: =ROUND(I151*H151,2) -> 0 | N151: snížená | P151: =O151*H151 -> 0 | Q151: 0.00152 | R151: =Q151*H151 -> 0.00152 | S151: 0 | T151: =S151*H151 -> 0 | AR151: 16 | AT151: K | AU151: 2 | AY151: ROZPOCET | BE151: =IF(N151="základní",J151,0) -> 0 | BF151: =IF(N151="snížená",J151,0) -> 0 | BG151: =IF(N151="zákl. přenesená",J151,0) -> 0 | BH151: =IF(N151="sníž. přenesená",J151,0) -> 0 | BI151: =IF(N151="nulová",J151,0) -> 0 | BJ151: 2 | BK151: =ROUND(I151*H151,2) -> 0 | BL151: 16 | BM151: -352107023
... C158: 23 | D158: K | E158: 721910942 | F158: Pročištění lapačů střešních splavenin | G158: kus | H158: 3 | J158: =ROUND(I158*H158,2) -> 0 | N158: snížená | P158: =O158*H158 -> 0 | Q158: 0 | R158: =Q158*H158 -> 0 | S158: 0 | T158: =S158*H158 -> 0 | AR158: 16 | AT158: K | AU158: 2 | AY158: ROZPOCET | BE158: =IF(N158="základní",J158,0) -> 0 | BF158: =IF(N158="snížená",J158,0) -> 0 | BG158: =IF(N158="zákl. přenesená",J158,0) -> 0 | BH158: =IF(N158="sníž. přenesená",J158,0) -> 0 | BI158: =IF(N158="nulová",J158,0) -> 0 | BJ158: 2 | BK158: =ROUND(I158*H158,2) -> 0 | BL158: 16 | BM158: -1767784058
C159: 24 | D159: K | E159: 998721313 | F159: Přesun hmot procentní pro vnitřní kanalizaci ruční v objektech v přes 12 do 24 m | G159: % | J159: =ROUND(I159*H159,2) -> 0 | N159: snížená | P159: =O159*H159 -> 0 | Q159: 0 | R159: =Q159*H159 -> 0 | S159: 0 | T159: =S159*H159 -> 0 | AR159: 16 | AT159: K | AU159: 2 | AY159: ROZPOCET | BE159: =IF(N159="základní",J159,0) -> 0 | BF159: =IF(N159="snížená",J159,0) -> 0 | BG159: =IF(N159="zákl. přenesená",J159,0) -> 0 | BH159: =IF(N159="sníž. přenesená",J159,0) -> 0 | BI159: =IF(N159="nulová",J159,0) -> 0 | BJ159: 2 | BK159: =ROUND(I159*H159,2) -> 0 | BL159: 16 | BM159: 544126847
D160: D | E160: 722 | F160: Zdravotechnika - vnitřní vodovod | J160: =BK160 -> 0 | P160: =SUM(P161:P211) -> 0 | R160: =SUM(R161:R211) -> 1.44893 | T160: =SUM(T161:T211) -> 0 | AR160: 2 | AT160: D | AU160: 1 | AY160: ROZPOCET | BK160: =SUM(BK161:BK211) -> 0
C161: 25 | D161: K | E161: 722130105 | F161: Potrubí pro zavodněný požární systém ocelové hladké pozinkované spojované lisováním D 35x1,5 mm | G161: m | H161: 30 | J161: =ROUND(I161*H161,2) -> 0 | N161: snížená | P161: =O161*H161 -> 0 | Q161: 0.00142 | R161: =Q161*H161 -> 0.0426 | S161: 0 | T161: =S161*H161 -> 0 | AR161: 16 | AT161: K | AU161: 2 | AY161: ROZPOCET | BE161: =IF(N161="základní",J161,0) -> 0 | BF161: =IF(N161="snížená",J161,0) -> 0 | BG161: =IF(N161="zákl. přenesená",J161,0) -> 0 | BH161: =IF(N161="sníž. přenesená",J161,0) -> 0 | BI161: =IF(N161="nulová",J161,0) -> 0 | BJ161: 2 | BK161: =ROUND(I161*H161,2) -> 0 | BL161: 16 | BM161: 1226720135
C162: 26 | D162: K | E162: 722130106 | F162: Potrubí pro zavodněný požární systém ocelové hladké pozinkované spojované lisováním D 42x1,5 mm | G162: m | H162: 15 | J162: =ROUND(I162*H162,2) -> 0 | N162: snížená | P162: =O162*H162 -> 0 | Q162: 0.0017 | R162: =Q162*H162 -> 0.0255 | S162: 0 | T162: =S162*H162 -> 0 | AR162: 16 | AT162: K | AU162: 2 | AY162: ROZPOCET | BE162: =IF(N162="základní",J162,0) -> 0 | BF162: =IF(N162="snížená",J162,0) -> 0 | BG162: =IF(N162="zákl. přenesená",J162,0) -> 0 | BH162: =IF(N162="sníž. přenesená",J162,0) -> 0 | BI162: =IF(N162="nulová",J162,0) -> 0 | BJ162: 2 | BK162: =ROUND(I162*H162,2) -> 0 | BL162: 16 | BM162: 1934965595
C163: 27 | D163: K | E163: 722174002 | F163: Potrubí vodovodní plastové PPR S3,2 spojované svařováním D 20x2,8 mm | G163: m | H163: 250 | J163: =ROUND(I163*H163,2) -> 0 | N163: snížená | P163: =O163*H163 -> 0 | Q163: 0.00081 | R163: =Q163*H163 -> 0.2025 | S163: 0 | T163: =S163*H163 -> 0 | AR163: 16 | AT163: K | AU163: 2 | AY163: ROZPOCET | BE163: =IF(N163="základní",J163,0) -> 0 | BF163: =IF(N163="snížená",J163,0) -> 0 | BG163: =IF(N163="zákl. přenesená",J163,0) -> 0 | BH163: =IF(N163="sníž. přenesená",J163,0) -> 0 | BI163: =IF(N163="nulová",J163,0) -> 0 | BJ163: 2 | BK163: =ROUND(I163*H163,2) -> 0 | BL163: 16 | BM163: -1765014497
C164: 28 | D164: K | E164: 722174003 | F164: Potrubí vodovodní plastové PPR S3,2 spojované svařováním D 25x3,5 mm | G164: m | H164: 220 | J164: =ROUND(I164*H164,2) -> 0 | N164: snížená | P164: =O164*H164 -> 0 | Q164: 0.00119 | R164: =Q164*H164 -> 0.2618 | S164: 0 | T164: =S164*H164 -> 0 | AR164: 16 | AT164: K | AU164: 2 | AY164: ROZPOCET | BE164: =IF(N164="základní",J164,0) -> 0 | BF164: =IF(N164="snížená",J164,0) -> 0 | BG164: =IF(N164="zákl. přenesená",J164,0) -> 0 | BH164: =IF(N164="sníž. přenesená",J164,0) -> 0 | BI164: =IF(N164="nulová",J164,0) -> 0 | BJ164: 2 | BK164: =ROUND(I164*H164,2) -> 0 | BL164: 16 | BM164: 1340080463
C165: 29 | D165: K | E165: 722174004 | F165: Potrubí vodovodní plastové PPR S3,2 spojované svařováním D 32x4,4 mm | G165: m | H165: 6 | J165: =ROUND(I165*H165,2) -> 0 | N165: snížená | P165: =O165*H165 -> 0 | Q165: 0.00136 | R165: =Q165*H165 -> 0.00816 | S165: 0 | T165: =S165*H165 -> 0 | AR165: 16 | AT165: K | AU165: 2 | AY165: ROZPOCET | BE165: =IF(N165="základní",J165,0) -> 0 | BF165: =IF(N165="snížená",J165,0) -> 0 | BG165: =IF(N165="zákl. přenesená",J165,0) -> 0 | BH165: =IF(N165="sníž. přenesená",J165,0) -> 0 | BI165: =IF(N165="nulová",J165,0) -> 0 | BJ165: 2 | BK165: =ROUND(I165*H165,2) -> 0 | BL165: 16 | BM165: -681519636
C166: 30 | D166: K | E166: 722175002 | F166: Potrubí vodovodní plastové vícevrstvé PP-RCT S3,2 s hliníkovou fólií spojované svařováním D 20x2,8 mm | G166: m | H166: 100 | J166: =ROUND(I166*H166,2) -> 0 | N166: snížená | P166: =O166*H166 -> 0 | Q166: 0.00058 | R166: =Q166*H166 -> 0.058 | S166: 0 | T166: =S166*H166 -> 0 | AR166: 16 | AT166: K | AU166: 2 | AY166: ROZPOCET | BE166: =IF(N166="základní",J166,0) -> 0 | BF166: =IF(N166="snížená",J166,0) -> 0 | BG166: =IF(N166="zákl. přenesená",J166,0) -> 0 | BH166: =IF(N166="sníž. přenesená",J166,0) -> 0 | BI166: =IF(N166="nulová",J166,0) -> 0 | BJ166: 2 | BK166: =ROUND(I166*H166,2) -> 0 | BL166: 16 | BM166: -1265222200
C167: 31 | D167: K | E167: 722175003 | F167: Potrubí vodovodní plastové vícevrstvé PP-RCT S3,2 s hliníkovou fólií spojované svařováním D 25x3,5 mm | G167: m | H167: 60 | J167: =ROUND(I167*H167,2) -> 0 | N167: snížená | P167: =O167*H167 -> 0 | Q167: 0.00102 | R167: =Q167*H167 -> 0.0612 | S167: 0 | T167: =S167*H167 -> 0 | AR167: 16 | AT167: K | AU167: 2 | AY167: ROZPOCET | BE167: =IF(N167="základní",J167,0) -> 0 | BF167: =IF(N167="snížená",J167,0) -> 0 | BG167: =IF(N167="zákl. přenesená",J167,0) -> 0 | BH167: =IF(N167="sníž. přenesená",J167,0) -> 0 | BI167: =IF(N167="nulová",J167,0) -> 0 | BJ167: 2 | BK167: =ROUND(I167*H167,2) -> 0 | BL167: 16 | BM167: -1033310131
C168: 32 | D168: K | E168: 722175004 | F168: Potrubí vodovodní plastové vícevrstvé PP-RCT S3,2 s hliníkovou fólií spojované svařováním D 32x4,4 mm | G168: m | H168: 120 | J168: =ROUND(I168*H168,2) -> 0 | N168: snížená | P168: =O168*H168 -> 0 | Q168: 0.00122 | R168: =Q168*H168 -> 0.1464 | S168: 0 | T168: =S168*H168 -> 0 | AR168: 16 | AT168: K | AU168: 2 | AY168: ROZPOCET | BE168: =IF(N168="základní",J168,0) -> 0 | BF168: =IF(N168="snížená",J168,0) -> 0 | BG168: =IF(N168="zákl. přenesená",J168,0) -> 0 | BH168: =IF(N168="sníž. přenesená",J168,0) -> 0 | BI168: =IF(N168="nulová",J168,0) -> 0 | BJ168: 2 | BK168: =ROUND(I168*H168,2) -> 0 | BL168: 16 | BM168: -346781000
C169: 33 | D169: K | E169: 722175005 | F169: Potrubí vodovodní plastové vícevrstvé PP-RCT S3,2 s hliníkovou fólií spojované svařováním D 40x5,5 mm | G169: m | H169: 65 | J169: =ROUND(I169*H169,2) -> 0 | N169: snížená | P169: =O169*H169 -> 0 | Q169: 0.00241 | R169: =Q169*H169 -> 0.15665 | S169: 0 | T169: =S169*H169 -> 0 | AR169: 16 | AT169: K | AU169: 2 | AY169: ROZPOCET | BE169: =IF(N169="základní",J169,0) -> 0 | BF169: =IF(N169="snížená",J169,0) -> 0 | BG169: =IF(N169="zákl. přenesená",J169,0) -> 0 | BH169: =IF(N169="sníž. přenesená",J169,0) -> 0 | BI169: =IF(N169="nulová",J169,0) -> 0 | BJ169: 2 | BK169: =ROUND(I169*H169,2) -> 0 | BL169: 16 | BM169: 1234049481
C170: 34 | D170: K | E170: 722175006 | F170: Potrubí vodovodní plastové vícevrstvé PP-RCT S3,2 s hliníkovou fólií spojované svařováním D 50x6,9 mm | G170: m | H170: 36 | J170: =ROUND(I170*H170,2) -> 0 | N170: snížená | P170: =O170*H170 -> 0 | Q170: 0.00367 | R170: =Q170*H170 -> 0.13212 | S170: 0 | T170: =S170*H170 -> 0 | AR170: 16 | AT170: K | AU170: 2 | AY170: ROZPOCET | BE170: =IF(N170="základní",J170,0) -> 0 | BF170: =IF(N170="snížená",J170,0) -> 0 | BG170: =IF(N170="zákl. přenesená",J170,0) -> 0 | BH170: =IF(N170="sníž. přenesená",J170,0) -> 0 | BI170: =IF(N170="nulová",J170,0) -> 0 | BJ170: 2 | BK170: =ROUND(I170*H170,2) -> 0 | BL170: 16 | BM170: -523901458
...

Sheet 02 - Vytápění
L2: >> skryté sloupce << | AT2: {bdb91ee1-eca0-407d-8bff-264f3e7ffe2f}
AT3: 1
D4: KRYCÍ LIST SOUPISU PRACÍ | M4: v --- níže se nacházejí doplnkové a pomocné údaje k sestavám --- v | AT4: False
D6: Stavba:
E7: ='Rekapitulace stavby'!K6 -> Bytový dům Líbeznice, Martinova 142
D8: Objekt:
E9: 03 - TZB
D10: Soupis:
E11: 02 - Vytápění
D13: KSO: | I13: CC-CZ:
D14: Místo: | F14: Líbeznice | I14: Datum: | J14: ='Rekapitulace stavby'!AN8 -> 3. 11. 2025
D16: Zadavatel: | I16: IČ:
I17: DIČ:
D19: Uchazeč: | I19: IČ: | J19: ='Rekapitulace stavby'!AN13 -> Vyplň údaj
E20: ='Rekapitulace stavby'!E14 -> Vyplň údaj | I20: DIČ: | J20: ='Rekapitulace stavby'!AN14 -> Vyplň údaj
D22: Projektant: | I22: IČ:
I23: DIČ:
D25: Zpracovatel: | I25: IČ:
E26: Krajovský | I26: DIČ:
D28: Poznámka:
D32: Cena bez DPH | J32: =ROUND(J126, 2) -> 0
F34: Základ daně | I34: Sazba daně | J34: Výše daně
D35: DPH | E35: základní | F35: =ROUND((SUM(BE126:BE192)), 2) -> 0 | I35: 0.21 | J35: =ROUND(((SUM(BE126:BE192))*I35), 2) -> 0
E36: snížená | F36: =ROUND((SUM(BF126:BF192)), 2) -> 0 | I36: 0.12 | J36: =ROUND(((SUM(BF126:BF192))*I36), 2) -> 0
E37: zákl. přenesená | F37: =ROUND((SUM(BG126:BG192)), 2) -> 0 | I37: 0.21 | J37: =0 -> 0
E38: sníž. přenesená | F38: =ROUND((SUM(BH126:BH192)), 2) -> 0 | I38: 0.12 | J38: =0 -> 0
E39: nulová | F39: =ROUND((SUM(BI126:BI192)), 2) -> 0 | I39: 0 | J39: =0 -> 0
D41: Cena s DPH | G41: v | H41: CZK | J41: =SUM(J32:J39) -> 0
D50: Projektant | G50: Zpracovatel
D61: Datum a podpis: | F61: Razítko | G61: Datum a podpis: | J61: Razítko
D65: Objednavatel | G65: Uchazeč
D76: Datum a podpis: | F76: Razítko | G76: Datum a podpis: | J76: Razítko
C82: REKAPITULACE ČLENĚNÍ SOUPISU PRACÍ
C84: Stavba:
E85: =E7 -> Bytový dům Líbeznice, Martinova 142
C86: Objekt:
E87: 03 - TZB
C88: Soupis:
E89: =E11 -> 02 - Vytápění
C91: Místo: | F91: =F14 -> Líbeznice | I91: Datum: | J91: =IF(J14="","",J14) -> 3. 11. 2025
C93: Zadavatel: | F93: =E17 | I93: Projektant: | J93: =E23
C94: Uchazeč: | F94: =IF(E20="","",E20) -> Vyplň údaj | I94: Zpracovatel: | J94: =E26 -> Krajovský
C96: Kód dílu - Popis | J96: Cena celkem [CZK]
C98: Náklady ze soupisu prací | J98: =J126 -> 0 | AU98: -1
D99: PSV - Práce a dodávky PSV | J99: =J127 -> 0
D100: 733 - Ústřední vytápění - rozvodné potrubí | J100: =J128 -> 0
D101: 734 - Ústřední vytápění - armatury | J101: =J146 -> 0
D102: 735 - Ústřední vytápění - otopná tělesa | J102: =J152 -> 0
D103: HZS - Hodinové zúčtovací sazby | J103: =J164 -> 0
D104: Ostatní - Ostatní | J104: =J174 -> 0
C111: SOUPIS PRACÍ
C113: Stavba:
E114: =E7 -> Bytový dům Líbeznice, Martinova 142
C115: Objekt:
E116: 03 - TZB
C117: Soupis:
E118: =E11 -> 02 - Vytápění
C120: Místo: | F120: =F14 -> Líbeznice | I120: Datum: | J120: =IF(J14="","",J14) -> 3. 11. 2025
C122: Zadavatel: | F122: =E17 | I122: Projektant: | J122: =E23
C123: Uchazeč: | F123: =IF(E20="","",E20) -> Vyplň údaj | I123: Zpracovatel: | J123: =E26 -> Krajovský
C125: PČ | D125: Typ | E125: Kód | F125: Popis | G125: MJ | H125: Množství | I125: J.cena [CZK] | J125: Cena celkem [CZK] | K125: Cenová soustava | N125: DPH | O125: J. Nh [h] | P125: Nh celkem [h] | Q125: J. hmotnost [t] | R125: Hmotnost celkem [t] | S125: J. suť [t] | T125: Suť Celkem [t]
C126: Náklady soupisu celkem | J126: =BK126 -> 0 | P126: =P127+P164+P174 -> 0 | R126: =R127+R164+R174 -> 3.7768 | T126: =T127+T164+T174 -> 0 | AT126: D | AU126: -1 | BK126: =BK127+BK164+BK174 -> 0
D127: D | E127: PSV | F127: Práce a dodávky PSV | J127: =BK127 -> 0 | P127: =P128+P146+P152 -> 0 | R127: =R128+R146+R152 -> 3.7768 | T127: =T128+T146+T152 -> 0 | AR127: 2 | AT127: D | AU127: 0 | AY127: ROZPOCET | BK127: =BK128+BK146+BK152 -> 0
D128: D | E128: 733 | F128: Ústřední vytápění - rozvodné potrubí | J128: =BK128 -> 0 | P128: =SUM(P129:P145) -> 0 | R128: =SUM(R129:R145) -> 1.4026 | T128: =SUM(T129:T145) -> 0 | AR128: 2 | AT128: D | AU128: 1 | AY128: ROZPOCET | BK128: =SUM(BK129:BK145) -> 0
C129: 1 | D129: K | E129: 733222301 | F129: Potrubí měděné polotvrdé spojované lisováním D 12x1 mm | G129: m | H129: 10 | J129: =ROUND(I129*H129,2) -> 0 | N129: snížená | P129: =O129*H129 -> 0 | Q129: 0.00037 | R129: =Q129*H129 -> 0.0037 | S129: 0 | T129: =S129*H129 -> 0 | AR129: 16 | AT129: K | AU129: 2 | AY129: ROZPOCET | BE129: =IF(N129="základní",J129,0) -> 0 | BF129: =IF(N129="snížená",J129,0) -> 0 | BG129: =IF(N129="zákl. přenesená",J129,0) -> 0 | BH129: =IF(N129="sníž. přenesená",J129,0) -> 0 | BI129: =IF(N129="nulová",J129,0) -> 0 | BJ129: 2 | BK129: =ROUND(I129*H129,2) -> 0 | BL129: 16 | BM129: 1065328614
C130: 2 | D130: K | E130: 733222302 | F130: Potrubí měděné polotvrdé spojované lisováním D 15x1 mm | G130: m | H130: 800 | J130: =ROUND(I130*H130,2) -> 0 | N130: snížená | P130: =O130*H130 -> 0 | Q130: 0.00046 | R130: =Q130*H130 -> 0.368 | S130: 0 | T130: =S130*H130 -> 0 | AR130: 16 | AT130: K | AU130: 2 | AY130: ROZPOCET | BE130: =IF(N130="základní",J130,0) -> 0 | BF130: =IF(N130="snížená",J130,0) -> 0 | BG130: =IF(N130="zákl. přenesená",J130,0) -> 0 | BH130: =IF(N130="sníž. přenesená",J130,0) -> 0 | BI130: =IF(N130="nulová",J130,0) -> 0 | BJ130: 2 | BK130: =ROUND(I130*H130,2) -> 0 | BL130: 16 | BM130: -1533804430
C131: 3 | D131: K | E131: 733222303 | F131: Potrubí měděné polotvrdé spojované lisováním D 18x1 mm | G131: m | H131: 240 | J131: =ROUND(I131*H131,2) -> 0 | N131: snížená | P131: =O131*H131 -> 0 | Q131: 0.00055 | R131: =Q131*H131 -> 0.132 | S131: 0 | T131: =S131*H131 -> 0 | AR131: 16 | AT131: K | AU131: 2 | AY131: ROZPOCET | BE131: =IF(N131="základní",J131,0) -> 0 | BF131: =IF(N131="snížená",J131,0) -> 0 | BG131: =IF(N131="zákl. přenesená",J131,0) -> 0 | BH131: =IF(N131="sníž. přenesená",J131,0) -> 0 | BI131: =IF(N131="nulová",J131,0) -> 0 | BJ131: 2 | BK131: =ROUND(I131*H131,2) -> 0 | BL131: 16 | BM131: -977711413
C132: 4 | D132: K | E132: 733222304 | F132: Potrubí měděné polotvrdé spojované lisováním D 22x1 mm | G132: m | H132: 170 | J132: =ROUND(I132*H132,2) -> 0 | N132: snížená | P132: =O132*H132 -> 0 | Q132: 0.0007 | R132: =Q132*H132 -> 0.119 | S132: 0 | T132: =S132*H132 -> 0 | AR132: 16 | AT132: K | AU132: 2 | AY132: ROZPOCET | BE132: =IF(N132="základní",J132,0) -> 0 | BF132: =IF(N132="snížená",J132,0) -> 0 | BG132: =IF(N132="zákl. přenesená",J132,0) -> 0 | BH132: =IF(N132="sníž. přenesená",J132,0) -> 0 | BI132: =IF(N132="nulová",J132,0) -> 0 | BJ132: 2 | BK132: =ROUND(I132*H132,2) -> 0 | BL132: 16 | BM132: 583257833
C133: 5 | D133: K | E133: 733223304 | F133: Potrubí měděné tvrdé spojované lisováním D 28x1,5 mm | G133: m | H133: 100 | J133: =ROUND(I133*H133,2) -> 0 | N133: snížená | P133: =O133*H133 -> 0 | Q133: 0.00124 | R133: =Q133*H133 -> 0.124 | S133: 0 | T133: =S133*H133 -> 0 | AR133: 16 | AT133: K | AU133: 2 | AY133: ROZPOCET | BE133: =IF(N133="základní",J133,0) -> 0 | BF133: =IF(N133="snížená",J133,0) -> 0 | BG133: =IF(N133="zákl. přenesená",J133,0) -> 0 | BH133: =IF(N133="sníž. přenesená",J133,0) -> 0 | BI133: =IF(N133="nulová",J133,0) -> 0 | BJ133: 2 | BK133: =ROUND(I133*H133,2) -> 0 | BL133: 16 | BM133: 835966483
C134: 6 | D134: K | E134: 733223305 | F134: Potrubí měděné tvrdé spojované lisováním D 35x1,5 mm | G134: m | H134: 85 | J134: =ROUND(I134*H134,2) -> 0 | N134: snížená | P134: =O134*H134 -> 0 | Q134: 0.00161 | R134: =Q134*H134 -> 0.13685 | S134: 0 | T134: =S134*H134 -> 0 | AR134: 16 | AT134: K | AU134: 2 | AY134: ROZPOCET | BE134: =IF(N134="základní",J134,0) -> 0 | BF134: =IF(N134="snížená",J134,0) -> 0 | BG134: =IF(N134="zákl. přenesená",J134,0) -> 0 | BH134: =IF(N134="sníž. přenesená",J134,0) -> 0 | BI134: =IF(N134="nulová",J134,0) -> 0 | BJ134: 2 | BK134: =ROUND(I134*H134,2) -> 0 | BL134: 16 | BM134: 1179276459
C135: 7 | D135: K | E135: 733223306 | F135: Potrubí měděné tvrdé spojované lisováním D 42x1,5 mm | G135: m | H135: 90 | J135: =ROUND(I135*H135,2) -> 0 | N135: snížená | P135: =O135*H135 -> 0 | Q135: 0.00196 | R135: =Q135*H135 -> 0.1764 | S135: 0 | T135: =S135*H135 -> 0 | AR135: 16 | AT135: K | AU135: 2 | AY135: ROZPOCET | BE135: =IF(N135="základní",J135,0) -> 0 | BF135: =IF(N135="snížená",J135,0) -> 0 | BG135: =IF(N135="zákl. přenesená",J135,0) -> 0 | BH135: =IF(N135="sníž. přenesená",J135,0) -> 0 | BI135: =IF(N135="nulová",J135,0) -> 0 | BJ135: 2 | BK135: =ROUND(I135*H135,2) -> 0 | BL135: 16 | BM135: 1710106851
C136: 8 | D136: K | E136: 733223307 | F136: Potrubí měděné tvrdé spojované lisováním D 54x2 mm | G136: m | H136: 60 | J136: =ROUND(I136*H136,2) -> 0 | N136: snížená | P136: =O136*H136 -> 0 | Q136: 0.00344 | R136: =Q136*H136 -> 0.2064 | S136: 0 | T136: =S136*H136 -> 0 | AR136: 16 | AT136: K | AU136: 2 | AY136: ROZPOCET | BE136: =IF(N136="základní",J136,0) -> 0 | BF136: =IF(N136="snížená",J136,0) -> 0 | BG136: =IF(N136="zákl. přenesená",J136,0) -> 0 | BH136: =IF(N136="sníž. přenesená",J136,0) -> 0 | BI136: =IF(N136="nulová",J136,0) -> 0 | BJ136: 2 | BK136: =ROUND(I136*H136,2) -> 0 | BL136: 16 | BM136: -1772851375
C137: 9 | D137: K | E137: 733291101 | F137: Zkouška těsnosti potrubí měděné D do 35x1,5 | G137: m | H137: 1 | J137: =ROUND(I137*H137,2) -> 0 | N137: snížená | P137: =O137*H137 -> 0 | Q137: 0 | R137: =Q137*H137 -> 0 | S137: 0 | T137: =S137*H137 -> 0 | AR137: 16 | AT137: K | AU137: 2 | AY137: ROZPOCET | BE137: =IF(N137="základní",J137,0) -> 0 | BF137: =IF(N137="snížená",J137,0) -> 0 | BG137: =IF(N137="zákl. přenesená",J137,0) -> 0 | BH137: =IF(N137="sníž. přenesená",J137,0) -> 0 | BI137: =IF(N137="nulová",J137,0) -> 0 | BJ137: 2 | BK137: =ROUND(I137*H137,2) -> 0 | BL137: 16 | BM137: 1882279054
C138: 10 | D138: K | E138: 733291102 | F138: Zkouška těsnosti potrubí měděné D přes 35x1,5 do 64x2 | G138: m | H138: 1 | J138: =ROUND(I138*H138,2) -> 0 | N138: snížená | P138: =O138*H138 -> 0 | Q138: 0 | R138: =Q138*H138 -> 0 | S138: 0 | T138: =S138*H138 -> 0 | AR138: 16 | AT138: K | AU138: 2 | AY138: ROZPOCET | BE138: =IF(N138="základní",J138,0) -> 0 | BF138: =IF(N138="snížená",J138,0) -> 0 | BG138: =IF(N138="zákl. přenesená",J138,0) -> 0 | BH138: =IF(N138="sníž. přenesená",J138,0) -> 0 | BI138: =IF(N138="nulová",J138,0) -> 0 | BJ138: 2 | BK138: =ROUND(I138*H138,2) -> 0 | BL138: 16 | BM138: -1645846532
C139: 11 | D139: K | E139: 733811221 | F139: Ochrana potrubí ústředního vytápění termoizolačními trubicemi z PE tl přes 6 do 9 mm DN do 22 mm | G139: m | H139: 1220 | J139: =ROUND(I139*H139,2) -> 0 | N139: snížená | P139: =O139*H139 -> 0 | Q139: 4e-05 | R139: =Q139*H139 -> 0.0488 | S139: 0 | T139: =S139*H139 -> 0 | AR139: 16 | AT139: K | AU139: 2 | AY139: ROZPOCET | BE139: =IF(N139="základní",J139,0) -> 0 | BF139: =IF(N139="snížená",J139,0) -> 0 | BG139: =IF(N139="zákl. přenesená",J139,0) -> 0 | BH139: =IF(N139="sníž. přenesená",J139,0) -> 0 | BI139: =IF(N139="nulová",J139,0) -> 0 | BJ139: 2 | BK139: =ROUND(I139*H139,2) -> 0 | BL139: 16 | BM139: -1014376205
D140: VV | F140: 10+800+240+170 | H140: 1220 | AT140: VV | AU140: 2 | AV140: 2 | AW140: True | AX140: 0 | AY140: ROZPOCET
D141: VV | F141: Součet | H141: 1220 | AT141: VV | AU141: 2 | AV141: 4 | AW141: True | AX141: 1 | AY141: ROZPOCET
C142: 12 | D142: K | E142: 733811252 | F142: Ochrana potrubí ústředního vytápění termoizolačními trubicemi z PE tl přes 20 do 30 mm DN přes 22 do 45 mm | G142: m | H142: 100 | J142: =ROUND(I142*H142,2) -> 0 | N142: snížená | P142: =O142*H142 -> 0 | Q142: 0.00024 | R142: =Q142*H142 -> 0.024 | S142: 0 | T142: =S142*H142 -> 0 | AR142: 16 | AT142: K | AU142: 2 | AY142: ROZPOCET | BE142: =IF(N142="základní",J142,0) -> 0 | BF142: =IF(N142="snížená",J142,0) -> 0 | BG142: =IF(N142="zákl. přenesená",J142,0) -> 0 | BH142: =IF(N142="sníž. přenesená",J142,0) -> 0 | BI142: =IF(N142="nulová",J142,0) -> 0 | BJ142: 2 | BK142: =ROUND(I142*H142,2) -> 0 | BL142: 16 | BM142: 1714787984
C143: 13 | D143: K | E143: 733811253 | F143: Ochrana potrubí ústředního vytápění termoizolačními trubicemi z PE tl přes 20 do 50 mm DN přes 45 do 63 mm | G143: m | H143: 235 | J143: =ROUND(I143*H143,2) -> 0 | N143: snížená | P143: =O143*H143 -> 0 | Q143: 0.00027 | R143: =Q143*H143 -> 0.06345 | S143: 0 | T143: =S143*H143 -> 0 | AR143: 16 | AT143: K | AU143: 2 | AY143: ROZPOCET | BE143: =IF(N143="základní",J143,0) -> 0 | BF143: =IF(N143="snížená",J143,0) -> 0 | BG143: =IF(N143="zákl. přenesená",J143,0) -> 0 | BH143: =IF(N143="sníž. přenesená",J143,0) -> 0 | BI143: =IF(N143="nulová",J143,0) -> 0 | BJ143: 2 | BK143: =ROUND(I143*H143,2) -> 0 | BL143: 16 | BM143: -2141342166
D144: VV | F144: 85+90+60 | H144: 235 | AT144: VV | AU144: 2 | AV144: 2 | AW144: True | AX144: 0 | AY144: ROZPOCET
D145: VV | F145: Součet | H145: 235 | AT145: VV | AU145: 2 | AV145: 4 | AW145: True | AX145: 1 | AY145: ROZPOCET
D146: D | E146: 734 | F146: Ústřední vytápění - armatury | J146: =BK146 -> 0 | P146: =SUM(P147:P151) -> 0 | R146: =SUM(R147:R151) -> 0.05564 | T146: =SUM(T147:T151) -> 0 | AR146: 2 | AT146: D | AU146: 1 | AY146: ROZPOCET | BK146: =SUM(BK147:BK151) -> 0
C147: 14 | D147: K | E147: 734221122 | F147: Ventil závitový termostatický rohový G 1/2 PN 10 do 120°C Q 10-150 l/h s automatickým omezením průtoku bez hlavice ovládání | G147: kus | H147: 16 | J147: =ROUND(I147*H147,2) -> 0 | N147: snížená | P147: =O147*H147 -> 0 | Q147: 0.00029 | R147: =Q147*H147 -> 0.00464 | S147: 0 | T147: =S147*H147 -> 0 | AR147: 16 | AT147: K | AU147: 2 | AY147: ROZPOCET | BE147: =IF(N147="základní",J147,0) -> 0 | BF147: =IF(N147="snížená",J147,0) -> 0 | BG147: =IF(N147="zákl. přenesená",J147,0) -> 0 | BH147: =IF(N147="sníž. přenesená",J147,0) -> 0 | BI147: =IF(N147="nulová",J147,0) -> 0 | BJ147: 2 | BK147: =ROUND(I147*H147,2) -> 0 | BL147: 16 | BM147: 37978260
C148: 15 | D148: K | E148: 734221682 | F148: Termostatická hlavice kapalinová PN 10 do 110°C otopných těles VK | G148: kus | H148: 51 | J148: =ROUND(I148*H148,2) -> 0 | N148: snížená | P148: =O148*H148 -> 0 | Q148: 0.00014 | R148: =Q148*H148 -> 0.00714 | S148: 0 | T148: =S148*H148 -> 0 | AR148: 16 | AT148: K | AU148: 2 | AY148: ROZPOCET | BE148: =IF(N148="základní",J148,0) -> 0 | BF148: =IF(N148="snížená",J148,0) -> 0 | BG148: =IF(N148="zákl. přenesená",J148,0) -> 0 | BH148: =IF(N148="sníž. přenesená",J148,0) -> 0 | BI148: =IF(N148="nulová",J148,0) -> 0 | BJ148: 2 | BK148: =ROUND(I148*H148,2) -> 0 | BL148: 16 | BM148: 1860733957
C149: 16 | D149: K | E149: 734221683 | F149: Termostatická hlavice kapalinová PN 10 do 110°C úhlové provedení | G149: kus | H149: 16 | J149: =ROUND(I149*H149,2) -> 0 | N149: snížená | P149: =O149*H149 -> 0 | Q149: 0.00024 | R149: =Q149*H149 -> 0.00384 | S149: 0 | T149: =S149*H149 -> 0 | AR149: 16 | AT149: K | AU149: 2 | AY149: ROZPOCET | BE149: =IF(N149="základní",J149,0) -> 0 | BF149: =IF(N149="snížená",J149,0) -> 0 | BG149: =IF(N149="zákl. přenesená",J149,0) -> 0 | BH149: =IF(N149="sníž. přenesená",J149,0) -> 0 | BI149: =IF(N149="nulová",J149,0) -> 0 | BJ149: 2 | BK149: =ROUND(I149*H149,2) -> 0 | BL149: 16 | BM149: -166389812
C150: 17 | D150: K | E150: 734261333 | F150: Šroubení topenářské rohové G 1/2 PN 16 do 120°C | G150: kus | H150: 16 | J150: =ROUND(I150*H150,2) -> 0 | N150: snížená | P150: =O150*H150 -> 0 | Q150: 0.00027 | R150: =Q150*H150 -> 0.00432 | S150: 0 | T150: =S150*H150 -> 0 | AR150: 16 | AT150: K | AU150: 2 | AY150: ROZPOCET | BE150: =IF(N150="základní",J150,0) -> 0 | BF150: =IF(N150="snížená",J150,0) -> 0 | BG150: =IF(N150="zákl. přenesená",J150,0) -> 0 | BH150: =IF(N150="sníž. přenesená",J150,0) -> 0 | BI150: =IF(N150="nulová",J150,0) -> 0 | BJ150: 2 | BK150: =ROUND(I150*H150,2) -> 0 | BL150: 16 | BM150: -259003816
C151: 18 | D151: K | E151: 734261402 | F151: Armatura připojovací rohová G 1/2x18 PN 10 do 110°C radiátorů typu VK | G151: kus | H151: 51 | J151: =ROUND(I151*H151,2) -> 0 | N151: snížená | P151: =O151*H151 -> 0 | Q151: 0.0007 | R151: =Q151*H151 -> 0.0357 | S151: 0 | T151: =S151*H151 -> 0 | AR151: 16 | AT151: K | AU151: 2 | AY151: ROZPOCET | BE151: =IF(N151="základní",J151,0) -> 0 | BF151: =IF(N151="snížená",J151,0) -> 0 | BG151: =IF(N151="zákl. přenesená",J151,0) -> 0 | BH151: =IF(N151="sníž. přenesená",J151,0) -> 0 | BI151: =IF(N151="nulová",J151,0) -> 0 | BJ151: 2 | BK151: =ROUND(I151*H151,2) -> 0 | BL151: 16 | BM151: 1060402151
D152: D | E152: 735 | F152: Ústřední vytápění - otopná tělesa | J152: =BK152 -> 0 | P152: =SUM(P153:P163) -> 0 | R152: =SUM(R153:R163) -> 2.31856 | T152: =SUM(T153:T163) -> 0 | AR152: 2 | AT152: D | AU152: 1 | AY152: ROZPOCET | BK152: =SUM(BK153:BK163) -> 0
C153: 19 | D153: K | E153: 735152476 | F153: Otopné těleso panelové VK dvoudeskové 1 přídavná přestupní plocha výška/délka 600/900 mm výkon 1159 W | G153: kus | H153: 2 | J153: =ROUND(I153*H153,2) -> 0 | N153: snížená | P153: =O153*H153 -> 0 | Q153: 0.02803 | R153: =Q153*H153 -> 0.05606 | S153: 0 | T153: =S153*H153 -> 0 | AR153: 16 | AT153: K | AU153: 2 | AY153: ROZPOCET | BE153: =IF(N153="základní",J153,0) -> 0 | BF153: =IF(N153="snížená",J153,0) -> 0 | BG153: =IF(N153="zákl. přenesená",J153,0) -> 0 | BH153: =IF(N153="sníž. přenesená",J153,0) -> 0 | BI153: =IF(N153="nulová",J153,0) -> 0 | BJ153: 2 | BK153: =ROUND(I153*H153,2) -> 0 | BL153: 16 | BM153: -377647159
C154: 20 | D154: K | E154: 735152477 | F154: Otopné těleso panelové VK dvoudeskové 1 přídavná přestupní plocha výška/délka 600/1000 mm výkon 1288 W | G154: kus | H154: 2 | J154: =ROUND(I154*H154,2) -> 0 | N154: snížená | P154: =O154*H154 -> 0 | Q154: 0.0309 | R154: =Q154*H154 -> 0.0618 | S154: 0 | T154: =S154*H154 -> 0 | AR154: 16 | AT154: K | AU154: 2 | AY154: ROZPOCET | BE154: =IF(N154="základní",J154,0) -> 0 | BF154: =IF(N154="snížená",J154,0) -> 0 | BG154: =IF(N154="zákl. přenesená",J154,0) -> 0 | BH154: =IF(N154="sníž. přenesená",J154,0) -> 0 | BI154: =IF(N154="nulová",J154,0) -> 0 | BJ154: 2 | BK154: =ROUND(I154*H154,2) -> 0 | BL154: 16 | BM154: 1302388316
C155: 21 | D155: K | E155: 735152479 | F155: Otopné těleso panelové VK dvoudeskové 1 přídavná přestupní plocha výška/délka 600/1200 mm výkon 1546 W | G155: kus | H155: 8 | J155: =ROUND(I155*H155,2) -> 0 | N155: snížená | P155: =O155*H155 -> 0 | Q155: 0.03664 | R155: =Q155*H155 -> 0.29312 | S155: 0 | T155: =S155*H155 -> 0 | AR155: 16 | AT155: K | AU155: 2 | AY155: ROZPOCET | BE155: =IF(N155="základní",J155,0) -> 0 | BF155: =IF(N155="snížená",J155,0) -> 0 | BG155: =IF(N155="zákl. přenesená",J155,0) -> 0 | BH155: =IF(N155="sníž. přenesená",J155,0) -> 0 | BI155: =IF(N155="nulová",J155,0) -> 0 | BJ155: 2 | BK155: =ROUND(I155*H155,2) -> 0 | BL155: 16 | BM155: 1725049767
C156: 22 | D156: K | E156: 735152576 | F156: Otopné těleso panelové VK dvoudeskové 2 přídavné přestupní plochy výška/délka 600/900 mm výkon 1511 W | G156: kus | H156: 4 | J156: =ROUND(I156*H156,2) -> 0 | N156: snížená | P156: =O156*H156 -> 0 | Q156: 0.03154 | R156: =Q156*H156 -> 0.12616 | S156: 0 | T156: =S156*H156 -> 0 | AR156: 16 | AT156: K | AU156: 2 | AY156: ROZPOCET | BE156: =IF(N156="základní",J156,0) -> 0 | BF156: =IF(N156="snížená",J156,0) -> 0 | BG156: =IF(N156="zákl. přenesená",J156,0) -> 0 | BH156: =IF(N156="sníž. přenesená",J156,0) -> 0 | BI156: =IF(N156="nulová",J156,0) -> 0 | BJ156: 2 | BK156: =ROUND(I156*H156,2) -> 0 | BL156: 16 | BM156: -2106851292
C157: 23 | D157: K | E157: 735152578 | F157: Otopné těleso panelové VK dvoudeskové 2 přídavné přestupní plochy výška/délka 600/1100 mm výkon 1847 W | G157: kus | H157: 2 | J157: =ROUND(I157*H157,2) -> 0 | N157: snížená | P157: =O157*H157 -> 0 | Q157: 0.0372 | R157: =Q157*H157 -> 0.0744 | S157: 0 | T157: =S157*H157 -> 0 | AR157: 16 | AT157: K | AU157: 2 | AY157: ROZPOCET | BE157: =IF(N157="základní",J157,0) -> 0 | BF157: =IF(N157="snížená",J157,0) -> 0 | BG157: =IF(N157="zákl. přenesená",J157,0) -> 0 | BH157: =IF(N157="sníž. přenesená",J157,0) -> 0 | BI157: =IF(N157="nulová",J157,0) -> 0 | BJ157: 2 | BK157: =ROUND(I157*H157,2) -> 0 | BL157: 16 | BM157: 1539264204
C158: 24 | D158: K | E158: 735152579 | F158: Otopné těleso panelové VK dvoudeskové 2 přídavné přestupní plochy výška/délka 600/1200 mm výkon 2015 W | G158: kus | H158: 25 | J158: =ROUND(I158*H158,2) -> 0 | N158: snížená | P158: =O158*H158 -> 0 | Q158: 0.04132 | R158: =Q158*H158 -> 1.033 | S158: 0 | T158: =S158*H158 -> 0 | AR158: 16 | AT158: K | AU158: 2 | AY158: ROZPOCET | BE158: =IF(N158="základní",J158,0) -> 0 | BF158: =IF(N158="snížená",J158,0) -> 0 | BG158: =IF(N158="zákl. přenesená",J158,0) -> 0 | BH158: =IF(N158="sníž. přenesená",J158,0) -> 0 | BI158: =IF(N158="nulová",J158,0) -> 0 | BJ158: 2 | BK158: =ROUND(I158*H158,2) -> 0 | BL158: 16 | BM158: 1382420113
C159: 25 | D159: K | E159: 735152580 | F159: Otopné těleso panelové VK dvoudeskové 2 přídavné přestupní plochy výška/délka 600/1400 mm výkon 2351 W | G159: kus | H159: 2 | J159: =ROUND(I159*H159,2) -> 0 | N159: snížená | P159: =O159*H159 -> 0 | Q159: 0.04784 | R159: =Q159*H159 -> 0.09568 | S159: 0 | T159: =S159*H159 -> 0 | AR159: 16 | AT159: K | AU159: 2 | AY159: ROZPOCET | BE159: =IF(N159="základní",J159,0) -> 0 | BF159: =IF(N159="snížená",J159,0) -> 0 | BG159: =IF(N159="zákl. přenesená",J159,0) -> 0 | BH159: =IF(N159="sníž. přenesená",J159,0) -> 0 | BI159: =IF(N159="nulová",J159,0) -> 0 | BJ159: 2 | BK159: =ROUND(I159*H159,2) -> 0 | BL159: 16 | BM159: 2099522573
C160: 26 | D160: K | E160: 735152678 | F160: Otopné těleso panelové VK třídeskové 3 přídavné přestupní plochy výška/délka 600/1100 mm výkon 2647 W | G160: kus | H160: 2 | J160: =ROUND(I160*H160,2) -> 0 | N160: snížená | P160: =O160*H160 -> 0 | Q160: 0.0622 | R160: =Q160*H160 -> 0.1244 | S160: 0 | T160: =S160*H160 -> 0 | AR160: 16 | AT160: K | AU160: 2 | AY160: ROZPOCET | BE160: =IF(N160="základní",J160,0) -> 0 | BF160: =IF(N160="snížená",J160,0) -> 0 | BG160: =IF(N160="zákl. přenesená",J160,0) -> 0 | BH160: =IF(N160="sníž. přenesená",J160,0) -> 0 | BI160: =IF(N160="nulová",J160,0) -> 0 | BJ160: 2 | BK160: =ROUND(I160*H160,2) -> 0 | BL160: 16 | BM160: -608115904
C161: 27 | D161: K | E161: 735152679 | F161: Otopné těleso panelové VK třídeskové 3 přídavné přestupní plochy výška/délka 600/1200 mm výkon 2887 W | G161: kus | H161: 4 | J161: =ROUND(I161*H161,2) -> 0 | N161: snížená | P161: =O161*H161 -> 0 | Q161: 0.06916 | R161: =Q161*H161 -> 0.27664 | S161: 0 | T161: =S161*H161 -> 0 | AR161: 16 | AT161: K | AU161: 2 | AY161: ROZPOCET | BE161: =IF(N161="základní",J161,0) -> 0 | BF161: =IF(N161="snížená",J161,0) -> 0 | BG161: =IF(N161="zákl. přenesená",J161,0) -> 0 | BH161: =IF(N161="sníž. přenesená",J161,0) -> 0 | BI161: =IF(N161="nulová",J161,0) -> 0 | BJ161: 2 | BK161: =ROUND(I161*H161,2) -> 0 | BL161: 16 | BM161: 1898861242
C162: 28 | D162: K | E162: 735160132 | F162: Otopné těleso trubkové teplovodní výška/délka 1 620/500 mm | G162: kus | H162: 15 | J162: =ROUND(I162*H162,2) -> 0 | N162: snížená | P162: =O162*H162 -> 0 | Q162: 0.011 | R162: =Q162*H162 -> 0.165 | S162: 0 | T162: =S162*H162 -> 0 | AR162: 16 | AT162: K | AU162: 2 | AY162: ROZPOCET | BE162: =IF(N162="základní",J162,0) -> 0 | BF162: =IF(N162="snížená",J162,0) -> 0 | BG162: =IF(N162="zákl. přenesená",J162,0) -> 0 | BH162: =IF(N162="sníž. přenesená",J162,0) -> 0 | BI162: =IF(N162="nulová",J162,0) -> 0 | BJ162: 2 | BK162: =ROUND(I162*H162,2) -> 0 | BL162: 16 | BM162: 331569308
C163: 29 | D163: K | E163: 735160141 | F163: Otopné těleso trubkové teplovodní výška/délka 1 820/450 mm | G163: kus | H163: 1 | J163: =ROUND(I163*H163,2) -> 0 | N163: snížená | P163: =O163*H163 -> 0 | Q163: 0.0123 | R163: =Q163*H163 -> 0.0123 | S163: 0 | T163: =S163*H163 -> 0 | AR163: 16 | AT163: K | AU163: 2 | AY163: ROZPOCET | BE163: =IF(N163="základní",J163,0) -> 0 | BF163: =IF(N163="snížená",J163,0) -> 0 | BG163: =IF(N163="zákl. přenesená",J163,0) -> 0 | BH163: =IF(N163="sníž. přenesená",J163,0) -> 0 | BI163: =IF(N163="nulová",J163,0) -> 0 | BJ163: 2 | BK163: =ROUND(I163*H163,2) -> 0 | BL163: 16 | BM163: 697569290
D164: D | E164: HZS | F164: Hodinové zúčtovací sazby | J164: =BK164 -> 0 | P164: =SUM(P165:P173) -> 0 | R164: =SUM(R165:R173) -> 0 | T164: =SUM(T165:T173) -> 0 | AR164: 4 | AT164: D | AU164: 0 | AY164: ROZPOCET | BK164: =SUM(BK165:BK173) -> 0
...

Sheet 03 - VZT
L2: >> skryté sloupce << | AT2: {d0ab993f-af45-44ab-b173-e25a24ff98e2}
AT3: 1
D4: KRYCÍ LIST SOUPISU PRACÍ | M4: v --- níže se nacházejí doplnkové a pomocné údaje k sestavám --- v | AT4: False
D6: Stavba:
E7: ='Rekapitulace stavby'!K6 -> Bytový dům Líbeznice, Martinova 142
D8: Objekt:
E9: 03 - TZB
D10: Soupis:
E11: 03 - VZT
D13: KSO: | I13: CC-CZ:
D14: Místo: | F14: Líbeznice | I14: Datum: | J14: ='Rekapitulace stavby'!AN8 -> 3. 11. 2025
D16: Zadavatel: | I16: IČ:
I17: DIČ:
D19: Uchazeč: | I19: IČ: | J19: ='Rekapitulace stavby'!AN13 -> Vyplň údaj
E20: ='Rekapitulace stavby'!E14 -> Vyplň údaj | I20: DIČ: | J20: ='Rekapitulace stavby'!AN14 -> Vyplň údaj
D22: Projektant: | I22: IČ:
I23: DIČ:
D25: Zpracovatel: | I25: IČ:
E26: Krajovský | I26: DIČ:
D28: Poznámka:
D32: Cena bez DPH | J32: =ROUND(J123, 2) -> 0
F34: Základ daně | I34: Sazba daně | J34: Výše daně
D35: DPH | E35: základní | F35: =ROUND((SUM(BE123:BE184)), 2) -> 0 | I35: 0.21 | J35: =ROUND(((SUM(BE123:BE184))*I35), 2) -> 0
E36: snížená | F36: =ROUND((SUM(BF123:BF184)), 2) -> 0 | I36: 0.12 | J36: =ROUND(((SUM(BF123:BF184))*I36), 2) -> 0
E37: zákl. přenesená | F37: =ROUND((SUM(BG123:BG184)), 2) -> 0 | I37: 0.21 | J37: =0 -> 0
E38: sníž. přenesená | F38: =ROUND((SUM(BH123:BH184)), 2) -> 0 | I38: 0.12 | J38: =0 -> 0
E39: nulová | F39: =ROUND((SUM(BI123:BI184)), 2) -> 0 | I39: 0 | J39: =0 -> 0
D41: Cena s DPH | G41: v | H41: CZK | J41: =SUM(J32:J39) -> 0
D50: Projektant | G50: Zpracovatel
D61: Datum a podpis: | F61: Razítko | G61: Datum a podpis: | J61: Razítko
D65: Objednavatel | G65: Uchazeč
D76: Datum a podpis: | F76: Razítko | G76: Datum a podpis: | J76: Razítko
C82: REKAPITULACE ČLENĚNÍ SOUPISU PRACÍ
C84: Stavba:
E85: =E7 -> Bytový dům Líbeznice, Martinova 142
C86: Objekt:
E87: 03 - TZB
C88: Soupis:
E89: =E11 -> 03 - VZT
C91: Místo: | F91: =F14 -> Líbeznice | I91: Datum: | J91: =IF(J14="","",J14) -> 3. 11. 2025
C93: Zadavatel: | F93: =E17 | I93: Projektant: | J93: =E23
C94: Uchazeč: | F94: =IF(E20="","",E20) -> Vyplň údaj | I94: Zpracovatel: | J94: =E26 -> Krajovský
C96: Kód dílu - Popis | J96: Cena celkem [CZK]
C98: Náklady ze soupisu prací | J98: =J123 -> 0 | AU98: -1
D99: PSV - Práce a dodávky PSV | J99: =J124 -> 0
D100: 751 - Vzduchotechnika | J100: =J125 -> 0
D101: HZS - Hodinové zúčtovací sazby | J101: =J171 -> 0
C108: SOUPIS PRACÍ
C110: Stavba:
E111: =E7 -> Bytový dům Líbeznice, Martinova 142
C112: Objekt:
E113: 03 - TZB
C114: Soupis:
E115: =E11 -> 03 - VZT
C117: Místo: | F117: =F14 -> Líbeznice | I117: Datum: | J117: =IF(J14="","",J14) -> 3. 11. 2025
C119: Zadavatel: | F119: =E17 | I119: Projektant: | J119: =E23
C120: Uchazeč: | F120: =IF(E20="","",E20) -> Vyplň údaj | I120: Zpracovatel: | J120: =E26 -> Krajovský
C122: PČ | D122: Typ | E122: Kód | F122: Popis | G122: MJ | H122: Množství | I122: J.cena [CZK] | J122: Cena celkem [CZK] | K122: Cenová soustava | N122: DPH | O122: J. Nh [h] | P122: Nh celkem [h] | Q122: J. hmotnost [t] | R122: Hmotnost celkem [t] | S122: J. suť [t] | T122: Suť Celkem [t]
C123: Náklady soupisu celkem | J123: =BK123 -> 0 | P123: =P124+P171 -> 0 | R123: =R124+R171 -> 1.058905 | T123: =T124+T171 -> 0 | AT123: D | AU123: -1 | BK123: =BK124+BK171 -> 0
D124: D | E124: PSV | F124: Práce a dodávky PSV | J124: =BK124 -> 0 | P124: =P125 -> 0 | R124: =R125 -> 1.058905 | T124: =T125 -> 0 | AR124: 2 | AT124: D | AU124: 0 | AY124: ROZPOCET | BK124: =BK125 -> 0
D125: D | E125: 751 | F125: Vzduchotechnika | J125: =BK125 -> 0 | P125: =SUM(P126:P170) -> 0 | R125: =SUM(R126:R170) -> 1.058905 | T125: =SUM(T126:T170) -> 0 | AR125: 2 | AT125: D | AU125: 1 | AY125: ROZPOCET | BK125: =SUM(BK126:BK170) -> 0
C126: 1 | D126: K | E126: 751111052 | F126: Montáž ventilátoru axiálního nízkotlakého podhledového D přes 100 do 200 mm | G126: kus | H126: 24 | J126: =ROUND(I126*H126,2) -> 0 | N126: snížená | P126: =O126*H126 -> 0 | Q126: 0 | R126: =Q126*H126 -> 0 | S126: 0 | T126: =S126*H126 -> 0 | AR126: 16 | AT126: K | AU126: 2 | AY126: ROZPOCET | BE126: =IF(N126="základní",J126,0) -> 0 | BF126: =IF(N126="snížená",J126,0) -> 0 | BG126: =IF(N126="zákl. přenesená",J126,0) -> 0 | BH126: =IF(N126="sníž. přenesená",J126,0) -> 0 | BI126: =IF(N126="nulová",J126,0) -> 0 | BJ126: 2 | BK126: =ROUND(I126*H126,2) -> 0 | BL126: 16 | BM126: 902316180
D127: VV | F127: Hygienické zařízení č.1 | AT127: VV | AU127: 2 | AV127: 1 | AW127: True | AX127: 0 | AY127: ROZPOCET
D128: VV | F128: 21 | H128: 21 | AT128: VV | AU128: 2 | AV128: 2 | AW128: True | AX128: 0 | AY128: ROZPOCET
D129: VV | F129: Hygienické zařízení č.2 komerce | AT129: VV | AU129: 2 | AV129: 1 | AW129: True | AX129: 0 | AY129: ROZPOCET
D130: VV | F130: 3 | H130: 3 | AT130: VV | AU130: 2 | AV130: 2 | AW130: True | AX130: 0 | AY130: ROZPOCET
D131: VV | F131: Součet | H131: 24 | AT131: VV | AU131: 2 | AV131: 4 | AW131: True | AX131: 1 | AY131: ROZPOCET
C132: 2 | D132: M | E132: RMAT0001 | F132: ventilátor podhledový Qv 60m3/hod. P=10W pzv=100Pa vč.instalační skřínky s bočním napojením dvouotáčkový s trvalým chodem na nízké otáčky, přesná specifikace dle PD VZT | G132: kus | H132: 21 | J132: =ROUND(I132*H132,2) -> 0 | N132: snížená | P132: =O132*H132 -> 0 | Q132: 0 | R132: =Q132*H132 -> 0 | S132: 0 | T132: =S132*H132 -> 0 | AR132: 32 | AT132: M | AU132: 2 | AY132: ROZPOCET | BE132: =IF(N132="základní",J132,0) -> 0 | BF132: =IF(N132="snížená",J132,0) -> 0 | BG132: =IF(N132="zákl. přenesená",J132,0) -> 0 | BH132: =IF(N132="sníž. přenesená",J132,0) -> 0 | BI132: =IF(N132="nulová",J132,0) -> 0 | BJ132: 2 | BK132: =ROUND(I132*H132,2) -> 0 | BL132: 16 | BM132: 1157312536
C133: 3 | D133: M | E133: RMAT0002 | F133: ventilátor podhledový ventilátor podhledový Qv 90m3/hod. P=10W pzv=100Pa vč.instalační skřínky s bočním napojením s doběhem chodu přesná specifikace dle PD VZT | G133: kus | H133: 3 | J133: =ROUND(I133*H133,2) -> 0 | N133: snížená | P133: =O133*H133 -> 0 | Q133: 0 | R133: =Q133*H133 -> 0 | S133: 0 | T133: =S133*H133 -> 0 | AR133: 32 | AT133: M | AU133: 2 | AY133: ROZPOCET | BE133: =IF(N133="základní",J133,0) -> 0 | BF133: =IF(N133="snížená",J133,0) -> 0 | BG133: =IF(N133="zákl. přenesená",J133,0) -> 0 | BH133: =IF(N133="sníž. přenesená",J133,0) -> 0 | BI133: =IF(N133="nulová",J133,0) -> 0 | BJ133: 2 | BK133: =ROUND(I133*H133,2) -> 0 | BL133: 16 | BM133: 2117618894
C134: 4 | D134: K | E134: 751122652 | F134: Montáž ventilátoru radiálního středotlakého potrubního se spirální skříní průmyslového pohon na přímo do kruhového potrubí D přes 100 do 200 mm | G134: kus | H134: 1 | J134: =ROUND(I134*H134,2) -> 0 | N134: snížená | P134: =O134*H134 -> 0 | Q134: 0 | R134: =Q134*H134 -> 0 | S134: 0 | T134: =S134*H134 -> 0 | AR134: 16 | AT134: K | AU134: 2 | AY134: ROZPOCET | BE134: =IF(N134="základní",J134,0) -> 0 | BF134: =IF(N134="snížená",J134,0) -> 0 | BG134: =IF(N134="zákl. přenesená",J134,0) -> 0 | BH134: =IF(N134="sníž. přenesená",J134,0) -> 0 | BI134: =IF(N134="nulová",J134,0) -> 0 | BJ134: 2 | BK134: =ROUND(I134*H134,2) -> 0 | BL134: 16 | BM134: -472238415
C135: 5 | D135: M | E135: RMAT0003 | F135: ventilátor potrubní TD500/150 3V Qv=90m3/hod. P=10W pzv= 100Pa vč. instalační skříňky s bočním napojením s doběhem chodu | G135: ks | H135: 1 | J135: =ROUND(I135*H135,2) -> 0 | N135: snížená | P135: =O135*H135 -> 0 | Q135: 0 | R135: =Q135*H135 -> 0 | S135: 0 | T135: =S135*H135 -> 0 | AR135: 32 | AT135: M | AU135: 2 | AY135: ROZPOCET | BE135: =IF(N135="základní",J135,0) -> 0 | BF135: =IF(N135="snížená",J135,0) -> 0 | BG135: =IF(N135="zákl. přenesená",J135,0) -> 0 | BH135: =IF(N135="sníž. přenesená",J135,0) -> 0 | BI135: =IF(N135="nulová",J135,0) -> 0 | BJ135: 2 | BK135: =ROUND(I135*H135,2) -> 0 | BL135: 16 | BM135: 185711762
C136: 6 | D136: K | E136: 751344112 | F136: Montáž tlumiče hluku pro kruhové potrubí D přes 100 do 200 mm | G136: kus | H136: 1 | J136: =ROUND(I136*H136,2) -> 0 | N136: snížená | P136: =O136*H136 -> 0 | Q136: 0 | R136: =Q136*H136 -> 0 | S136: 0 | T136: =S136*H136 -> 0 | AR136: 16 | AT136: K | AU136: 2 | AY136: ROZPOCET | BE136: =IF(N136="základní",J136,0) -> 0 | BF136: =IF(N136="snížená",J136,0) -> 0 | BG136: =IF(N136="zákl. přenesená",J136,0) -> 0 | BH136: =IF(N136="sníž. přenesená",J136,0) -> 0 | BI136: =IF(N136="nulová",J136,0) -> 0 | BJ136: 2 | BK136: =ROUND(I136*H136,2) -> 0 | BL136: 16 | BM136: -1066715424
C137: 7 | D137: M | E137: ELD.PR460100030 | F137: tlumič hluku pro kruhové potrubí 125/600 | G137: kus | H137: 1 | J137: =ROUND(I137*H137,2) -> 0 | N137: snížená | P137: =O137*H137 -> 0 | Q137: 0.0019 | R137: =Q137*H137 -> 0.0019 | S137: 0 | T137: =S137*H137 -> 0 | AR137: 32 | AT137: M | AU137: 2 | AY137: ROZPOCET | BE137: =IF(N137="základní",J137,0) -> 0 | BF137: =IF(N137="snížená",J137,0) -> 0 | BG137: =IF(N137="zákl. přenesená",J137,0) -> 0 | BH137: =IF(N137="sníž. přenesená",J137,0) -> 0 | BI137: =IF(N137="nulová",J137,0) -> 0 | BJ137: 2 | BK137: =ROUND(I137*H137,2) -> 0 | BL137: 16 | BM137: 1534814106
C138: 8 | D138: K | E138: 751510041 | F138: Vzduchotechnické potrubí z pozinkovaného plechu kruhové spirálně vinutá trouba bez příruby D do 100 mm | G138: m | H138: 43 | J138: =ROUND(I138*H138,2) -> 0 | N138: snížená | P138: =O138*H138 -> 0 | Q138: 0.00168 | R138: =Q138*H138 -> 0.07224 | S138: 0 | T138: =S138*H138 -> 0 | AR138: 16 | AT138: K | AU138: 2 | AY138: ROZPOCET | BE138: =IF(N138="základní",J138,0) -> 0 | BF138: =IF(N138="snížená",J138,0) -> 0 | BG138: =IF(N138="zákl. přenesená",J138,0) -> 0 | BH138: =IF(N138="sníž. přenesená",J138,0) -> 0 | BI138: =IF(N138="nulová",J138,0) -> 0 | BJ138: 2 | BK138: =ROUND(I138*H138,2) -> 0 | BL138: 16 | BM138: -946094653
D139: VV | F139: zařízení č.1 | AT139: VV | AU139: 2 | AV139: 1 | AW139: True | AX139: 0 | AY139: ROZPOCET
D140: VV | F140: 40 | H140: 40 | AT140: VV | AU140: 2 | AV140: 2 | AW140: True | AX140: 0 | AY140: ROZPOCET
D141: VV | F141: zařízení č.2 | AT141: VV | AU141: 2 | AV141: 1 | AW141: True | AX141: 0 | AY141: ROZPOCET
D142: VV | F142: 3 | H142: 3 | AT142: VV | AU142: 2 | AV142: 2 | AW142: True | AX142: 0 | AY142: ROZPOCET
D143: VV | F143: Součet | H143: 43 | AT143: VV | AU143: 2 | AV143: 4 | AW143: True | AX143: 1 | AY143: ROZPOCET
C144: 9 | D144: K | E144: 751510042 | F144: Vzduchotechnické potrubí z pozinkovaného plechu kruhové spirálně vinutá trouba bez příruby D přes 100 do 200 mm | G144: m | H144: 225.5 | J144: =ROUND(I144*H144,2) -> 0 | N144: snížená | P144: =O144*H144 -> 0 | Q144: 0.00345 | R144: =Q144*H144 -> 0.777975 | S144: 0 | T144: =S144*H144 -> 0 | AR144: 16 | AT144: K | AU144: 2 | AY144: ROZPOCET | BE144: =IF(N144="základní",J144,0) -> 0 | BF144: =IF(N144="snížená",J144,0) -> 0 | BG144: =IF(N144="zákl. přenesená",J144,0) -> 0 | BH144: =IF(N144="sníž. přenesená",J144,0) -> 0 | BI144: =IF(N144="nulová",J144,0) -> 0 | BJ144: 2 | BK144: =ROUND(I144*H144,2) -> 0 | BL144: 16 | BM144: 468125543
D145: VV | F145: zařízení č.1 125 | AT145: VV | AU145: 2 | AV145: 1 | AW145: True | AX145: 0 | AY145: ROZPOCET
D146: VV | F146: 190 | H146: 190 | AT146: VV | AU146: 2 | AV146: 2 | AW146: True | AX146: 0 | AY146: ROZPOCET
D147: VV | F147: zařízení č.2 125 | AT147: VV | AU147: 2 | AV147: 1 | AW147: True | AX147: 0 | AY147: ROZPOCET
D148: VV | F148: 6 | H148: 6 | AT148: VV | AU148: 2 | AV148: 2 | AW148: True | AX148: 0 | AY148: ROZPOCET
D149: VV | F149: zařízení č.5 125 | AT149: VV | AU149: 2 | AV149: 1 | AW149: True | AX149: 0 | AY149: ROZPOCET
D150: VV | F150: 3 | H150: 3 | AT150: VV | AU150: 2 | AV150: 2 | AW150: True | AX150: 0 | AY150: ROZPOCET
D151: VV | F151: zařízení č.5 150 | AT151: VV | AU151: 2 | AV151: 1 | AW151: True | AX151: 0 | AY151: ROZPOCET
D152: VV | F152: 0,5 | H152: 0.5 | AT152: VV | AU152: 2 | AV152: 2 | AW152: True | AX152: 0 | AY152: ROZPOCET
D153: VV | F153: zařízení č.1 140 | AT153: VV | AU153: 2 | AV153: 1 | AW153: True | AX153: 0 | AY153: ROZPOCET
D154: VV | F154: 11 | H154: 11 | AT154: VV | AU154: 2 | AV154: 2 | AW154: True | AX154: 0 | AY154: ROZPOCET
D155: VV | F155: zařízení č.1 160 | AT155: VV | AU155: 2 | AV155: 1 | AW155: True | AX155: 0 | AY155: ROZPOCET
D156: VV | F156: 15 | H156: 15 | AT156: VV | AU156: 2 | AV156: 2 | AW156: True | AX156: 0 | AY156: ROZPOCET
D157: VV | F157: Součet | H157: 225.5 | AT157: VV | AU157: 2 | AV157: 4 | AW157: True | AX157: 1 | AY157: ROZPOCET
C158: 10 | D158: K | E158: 751514662 | F158: Montáž škrtící klapky nebo zpětné klapky do plechového potrubí kruhové s přírubou D přes 100 do 200 mm | G158: kus | H158: 2 | J158: =ROUND(I158*H158,2) -> 0 | N158: snížená | P158: =O158*H158 -> 0 | Q158: 0 | R158: =Q158*H158 -> 0 | S158: 0 | T158: =S158*H158 -> 0 | AR158: 16 | AT158: K | AU158: 2 | AY158: ROZPOCET | BE158: =IF(N158="základní",J158,0) -> 0 | BF158: =IF(N158="snížená",J158,0) -> 0 | BG158: =IF(N158="zákl. přenesená",J158,0) -> 0 | BH158: =IF(N158="sníž. přenesená",J158,0) -> 0 | BI158: =IF(N158="nulová",J158,0) -> 0 | BJ158: 2 | BK158: =ROUND(I158*H158,2) -> 0 | BL158: 16 | BM158: -1222489996
C159: 11 | D159: M | E159: RMAT0004 | F159: klapka škrtící kruhová MSKTG 125 vč. servopohonu belimo CM 230 | G159: kus | H159: 1 | J159: =ROUND(I159*H159,2) -> 0 | N159: snížená | P159: =O159*H159 -> 0 | Q159: 0 | R159: =Q159*H159 -> 0 | S159: 0 | T159: =S159*H159 -> 0 | AR159: 32 | AT159: M | AU159: 2 | AY159: ROZPOCET | BE159: =IF(N159="základní",J159,0) -> 0 | BF159: =IF(N159="snížená",J159,0) -> 0 | BG159: =IF(N159="zákl. přenesená",J159,0) -> 0 | BH159: =IF(N159="sníž. přenesená",J159,0) -> 0 | BI159: =IF(N159="nulová",J159,0) -> 0 | BJ159: 2 | BK159: =ROUND(I159*H159,2) -> 0 | BL159: 16 | BM159: -882433358
C160: 12 | D160: M | E160: RMAT0005 | F160: klapka škrtící kruhová klapka škrtící kruhová MSKTG 150 vč. servopohonu belimo CM 230 | G160: kus | H160: 1 | J160: =ROUND(I160*H160,2) -> 0 | N160: snížená | P160: =O160*H160 -> 0 | Q160: 0 | R160: =Q160*H160 -> 0 | S160: 0 | T160: =S160*H160 -> 0 | AR160: 32 | AT160: M | AU160: 2 | AY160: ROZPOCET | BE160: =IF(N160="základní",J160,0) -> 0 | BF160: =IF(N160="snížená",J160,0) -> 0 | BG160: =IF(N160="zákl. přenesená",J160,0) -> 0 | BH160: =IF(N160="sníž. přenesená",J160,0) -> 0 | BI160: =IF(N160="nulová",J160,0) -> 0 | BJ160: 2 | BK160: =ROUND(I160*H160,2) -> 0 | BL160: 16 | BM160: 1561388042
C161: 13 | D161: K | E161: 751537145 | F161: Montáž potrubí kruhového ohebného tepelně a zvukově izolovaného Al hadice D do 100 mm | G161: m | H161: 24 | J161: =ROUND(I161*H161,2) -> 0 | N161: snížená | P161: =O161*H161 -> 0 | Q161: 0 | R161: =Q161*H161 -> 0 | S161: 0 | T161: =S161*H161 -> 0 | AR161: 16 | AT161: K | AU161: 2 | AY161: ROZPOCET | BE161: =IF(N161="základní",J161,0) -> 0 | BF161: =IF(N161="snížená",J161,0) -> 0 | BG161: =IF(N161="zákl. přenesená",J161,0) -> 0 | BH161: =IF(N161="sníž. přenesená",J161,0) -> 0 | BI161: =IF(N161="nulová",J161,0) -> 0 | BJ161: 2 | BK161: =ROUND(I161*H161,2) -> 0 | BL161: 16 | BM161: 1263524677
D162: VV | F162: zařízení č.1 | AT162: VV | AU162: 2 | AV162: 1 | AW162: True | AX162: 0 | AY162: ROZPOCET
D163: VV | F163: 21 | H163: 21 | AT163: VV | AU163: 2 | AV163: 2 | AW163: True | AX163: 0 | AY163: ROZPOCET
D164: VV | F164: zařízení č.2 | AT164: VV | AU164: 2 | AV164: 1 | AW164: True | AX164: 0 | AY164: ROZPOCET
...

Sheet a - Společné prostory
L2: >> skryté sloupce << | AT2: {615c2c81-6452-44b0-9f5a-a0a8300d9d22}
AT3: 1
D4: KRYCÍ LIST SOUPISU PRACÍ | M4: v --- níže se nacházejí doplnkové a pomocné údaje k sestavám --- v | AT4: False
D6: Stavba:
E7: ='Rekapitulace stavby'!K6 -> Bytový dům Líbeznice, Martinova 142
D8: Objekt:
E9: 03 - TZB
D10: Soupis:
E11: 04 - Silnoproud
D12: Úroveň 3:
E13: a - Společné prostory
D15: KSO: | I15: CC-CZ:
D16: Místo: | F16: Líbeznice | I16: Datum: | J16: ='Rekapitulace stavby'!AN8 -> 3. 11. 2025
D18: Zadavatel: | I18: IČ:
I19: DIČ:
D21: Uchazeč: | I21: IČ: | J21: ='Rekapitulace stavby'!AN13 -> Vyplň údaj
E22: ='Rekapitulace stavby'!E14 -> Vyplň údaj | I22: DIČ: | J22: ='Rekapitulace stavby'!AN14 -> Vyplň údaj
D24: Projektant: | I24: IČ:
I25: DIČ:
D27: Zpracovatel: | I27: IČ:
E28: Krajovský | I28: DIČ:
D30: Poznámka:
D34: Cena bez DPH | J34: =ROUND(J132, 2) -> 0
F36: Základ daně | I36: Sazba daně | J36: Výše daně
D37: DPH | E37: základní | F37: =ROUND((SUM(BE132:BE290)), 2) -> 0 | I37: 0.21 | J37: =ROUND(((SUM(BE132:BE290))*I37), 2) -> 0
E38: snížená | F38: =ROUND((SUM(BF132:BF290)), 2) -> 0 | I38: 0.12 | J38: =ROUND(((SUM(BF132:BF290))*I38), 2) -> 0
E39: zákl. přenesená | F39: =ROUND((SUM(BG132:BG290)), 2) -> 0 | I39: 0.21 | J39: =0 -> 0
E40: sníž. přenesená | F40: =ROUND((SUM(BH132:BH290)), 2) -> 0 | I40: 0.12 | J40: =0 -> 0
E41: nulová | F41: =ROUND((SUM(BI132:BI290)), 2) -> 0 | I41: 0 | J41: =0 -> 0
D43: Cena s DPH | G43: v | H43: CZK | J43: =SUM(J34:J41) -> 0
D50: Projektant | G50: Zpracovatel
D61: Datum a podpis: | F61: Razítko | G61: Datum a podpis: | J61: Razítko
D65: Objednavatel | G65: Uchazeč
D76: Datum a podpis: | F76: Razítko | G76: Datum a podpis: | J76: Razítko
C82: REKAPITULACE ČLENĚNÍ SOUPISU PRACÍ
C84: Stavba:
E85: =E7 -> Bytový dům Líbeznice, Martinova 142
C86: Objekt:
E87: 03 - TZB
C88: Soupis:
E89: 04 - Silnoproud
C90: Úroveň 3:
E91: =E13 -> a - Společné prostory
C93: Místo: | F93: =F16 -> Líbeznice | I93: Datum: | J93: =IF(J16="","",J16) -> 3. 11. 2025
C95: Zadavatel: | F95: =E19 | I95: Projektant: | J95: =E25
C96: Uchazeč: | F96: =IF(E22="","",E22) -> Vyplň údaj | I96: Zpracovatel: | J96: =E28 -> Krajovský
C98: Kód dílu - Popis | J98: Cena celkem [CZK]
C100: Náklady ze soupisu prací | J100: =J132 -> 0 | AU100: -1
D101: PSV - Práce a dodávky PSV | J101: =J133 -> 0
D102: 741 - Elektroinstalace - silnoproud | J102: =J134 -> 0
D103: 742 - Elektroinstalace - slaboproud | J103: =J225 -> 0
D104: M - Práce a dodávky M | J104: =J233 -> 0
D105: 21-M - Elektromontáže | J105: =J234 -> 0
D106: 46-M - Zemní práce při extr.mont.pracích | J106: =J253 -> 0
D107: HZS - Hodinové zúčtovací sazby | J107: =J269 -> 0
D108: Ostatní - Ostatní | J108: =J278 -> 0
C115: SOUPIS PRACÍ
C117: Stavba:
E118: =E7 -> Bytový dům Líbeznice, Martinova 142
C119: Objekt:
E120: 03 - TZB
C121: Soupis:
E122: 04 - Silnoproud
C123: Úroveň 3:
E124: =E13 -> a - Společné prostory
C126: Místo: | F126: =F16 -> Líbeznice | I126: Datum: | J126: =IF(J16="","",J16) -> 3. 11. 2025
C128: Zadavatel: | F128: =E19 | I128: Projektant: | J128: =E25
C129: Uchazeč: | F129: =IF(E22="","",E22) -> Vyplň údaj | I129: Zpracovatel: | J129: =E28 -> Krajovský
C131: PČ | D131: Typ | E131: Kód | F131: Popis | G131: MJ | H131: Množství | I131: J.cena [CZK] | J131: Cena celkem [CZK] | K131: Cenová soustava | N131: DPH | O131: J. Nh [h] | P131: Nh celkem [h] | Q131: J. hmotnost [t] | R131: Hmotnost celkem [t] | S131: J. suť [t] | T131: Suť Celkem [t]
C132: Náklady soupisu celkem | J132: =BK132 -> 0 | P132: =P133+P233+P269+P278 -> 0 | R132: =R133+R233+R269+R278 -> 6.0624525 | T132: =T133+T233+T269+T278 -> 1.4284 | AT132: D | AU132: -1 | BK132: =BK133+BK233+BK269+BK278 -> 0
D133: D | E133: PSV | F133: Práce a dodávky PSV | J133: =BK133 -> 0 | P133: =P134+P225 -> 0 | R133: =R134+R225 -> 1.3525325 | T133: =T134+T225 -> 0 | AR133: 2 | AT133: D | AU133: 0 | AY133: ROZPOCET | BK133: =BK134+BK225 -> 0
D134: D | E134: 741 | F134: Elektroinstalace - silnoproud | J134: =BK134 -> 0 | P134: =SUM(P135:P224) -> 0 | R134: =SUM(R135:R224) -> 1.3021325 | T134: =SUM(T135:T224) -> 0 | AR134: 2 | AT134: D | AU134: 1 | AY134: ROZPOCET | BK134: =SUM(BK135:BK224) -> 0
C135: 1 | D135: K | E135: 741110043 | F135: Montáž trubka plastová ohebná D přes 35 mm uložená pevně | G135: m | H135: 900 | J135: =ROUND(I135*H135,2) -> 0 | N135: snížená | P135: =O135*H135 -> 0 | Q135: 0 | R135: =Q135*H135 -> 0 | S135: 0 | T135: =S135*H135 -> 0 | AR135: 16 | AT135: K | AU135: 2 | AY135: ROZPOCET | BE135: =IF(N135="základní",J135,0) -> 0 | BF135: =IF(N135="snížená",J135,0) -> 0 | BG135: =IF(N135="zákl. přenesená",J135,0) -> 0 | BH135: =IF(N135="sníž. přenesená",J135,0) -> 0 | BI135: =IF(N135="nulová",J135,0) -> 0 | BJ135: 2 | BK135: =ROUND(I135*H135,2) -> 0 | BL135: 16 | BM135: 389563639
D136: VV | F136: 100+50+300+80+50+120+200 | H136: 900 | AT136: VV | AU136: 2 | AV136: 2 | AW136: True | AX136: 0 | AY136: ROZPOCET
D137: VV | F137: Součet | H137: 900 | AT137: VV | AU137: 2 | AV137: 4 | AW137: True | AX137: 1 | AY137: ROZPOCET
C138: 2 | D138: M | E138: RMAT0016 | F138: trubka elektroinstalační dn 110 | G138: m | H138: 105 | J138: =ROUND(I138*H138,2) -> 0 | N138: snížená | P138: =O138*H138 -> 0 | Q138: 0 | R138: =Q138*H138 -> 0 | S138: 0 | T138: =S138*H138 -> 0 | AR138: 32 | AT138: M | AU138: 2 | AY138: ROZPOCET | BE138: =IF(N138="základní",J138,0) -> 0 | BF138: =IF(N138="snížená",J138,0) -> 0 | BG138: =IF(N138="zákl. přenesená",J138,0) -> 0 | BH138: =IF(N138="sníž. přenesená",J138,0) -> 0 | BI138: =IF(N138="nulová",J138,0) -> 0 | BJ138: 2 | BK138: =ROUND(I138*H138,2) -> 0 | BL138: 16 | BM138: -1198514958
D139: VV | F139: 100*1,05 "Přepočtené koeficientem množství | H139: 105 | AT139: VV | AU139: 2 | AV139: 2 | AW139: True | AX139: 1 | AY139: ROZPOCET
C140: 3 | D140: M | E140: RMAT0017 | F140: trubka elektroinstalační dn 90 | G140: m | H140: 52.5 | J140: =ROUND(I140*H140,2) -> 0 | N140: snížená | P140: =O140*H140 -> 0 | Q140: 0 | R140: =Q140*H140 -> 0 | S140: 0 | T140: =S140*H140 -> 0 | AR140: 32 | AT140: M | AU140: 2 | AY140: ROZPOCET | BE140: =IF(N140="základní",J140,0) -> 0 | BF140: =IF(N140="snížená",J140,0) -> 0 | BG140: =IF(N140="zákl. přenesená",J140,0) -> 0 | BH140: =IF(N140="sníž. přenesená",J140,0) -> 0 | BI140: =IF(N140="nulová",J140,0) -> 0 | BJ140: 2 | BK140: =ROUND(I140*H140,2) -> 0 | BL140: 16 | BM140: 1014561831
D141: VV | F141: 50*1,05 "Přepočtené koeficientem množství | H141: 52.5 | AT141: VV | AU141: 2 | AV141: 2 | AW141: True | AX141: 1 | AY141: ROZPOCET
C142: 4 | D142: M | E142: RMAT0018 | F142: trubka elektroinstalační dn 63 | G142: m | H142: 315 | J142: =ROUND(I142*H142,2) -> 0 | N142: snížená | P142: =O142*H142 -> 0 | Q142: 0 | R142: =Q142*H142 -> 0 | S142: 0 | T142: =S142*H142 -> 0 | AR142: 32 | AT142: M | AU142: 2 | AY142: ROZPOCET | BE142: =IF(N142="základní",J142,0) -> 0 | BF142: =IF(N142="snížená",J142,0) -> 0 | BG142: =IF(N142="zákl. přenesená",J142,0) -> 0 | BH142: =IF(N142="sníž. přenesená",J142,0) -> 0 | BI142: =IF(N142="nulová",J142,0) -> 0 | BJ142: 2 | BK142: =ROUND(I142*H142,2) -> 0 | BL142: 16 | BM142: 1488606095
D143: VV | F143: 300*1,05 "Přepočtené koeficientem množství | H143: 315 | AT143: VV | AU143: 2 | AV143: 2 | AW143: True | AX143: 1 | AY143: ROZPOCET
C144: 5 | D144: M | E144: RMAT0019 | F144: trubka elektroinstalační dn 40 | G144: m | H144: 84 | J144: =ROUND(I144*H144,2) -> 0 | N144: snížená | P144: =O144*H144 -> 0 | Q144: 0 | R144: =Q144*H144 -> 0 | S144: 0 | T144: =S144*H144 -> 0 | AR144: 32 | AT144: M | AU144: 2 | AY144: ROZPOCET | BE144: =IF(N144="základní",J144,0) -> 0 | BF144: =IF(N144="snížená",J144,0) -> 0 | BG144: =IF(N144="zákl. přenesená",J144,0) -> 0 | BH144: =IF(N144="sníž. přenesená",J144,0) -> 0 | BI144: =IF(N144="nulová",J144,0) -> 0 | BJ144: 2 | BK144: =ROUND(I144*H144,2) -> 0 | BL144: 16 | BM144: 1923359350
D145: VV | F145: 80*1,05 "Přepočtené koeficientem množství | H145: 84 | AT145: VV | AU145: 2 | AV145: 2 | AW145: True | AX145: 1 | AY145: ROZPOCET
C146: 6 | D146: M | E146: RMAT0020 | F146: trubka elektroinstalační dn 32 | G146: m | H146: 52.5 | J146: =ROUND(I146*H146,2) -> 0 | N146: snížená | P146: =O146*H146 -> 0 | Q146: 0 | R146: =Q146*H146 -> 0 | S146: 0 | T146: =S146*H146 -> 0 | AR146: 32 | AT146: M | AU146: 2 | AY146: ROZPOCET | BE146: =IF(N146="základní",J146,0) -> 0 | BF146: =IF(N146="snížená",J146,0) -> 0 | BG146: =IF(N146="zákl. přenesená",J146,0) -> 0 | BH146: =IF(N146="sníž. přenesená",J146,0) -> 0 | BI146: =IF(N146="nulová",J146,0) -> 0 | BJ146: 2 | BK146: =ROUND(I146*H146,2) -> 0 | BL146: 16 | BM146: -1005592411
D147: VV | F147: 50*1,05 "Přepočtené koeficientem množství | H147: 52.5 | AT147: VV | AU147: 2 | AV147: 2 | AW147: True | AX147: 1 | AY147: ROZPOCET
C148: 7 | D148: M | E148: RMAT0021 | F148: trubka elektroinstalační dn 25 | G148: m | H148: 126 | J148: =ROUND(I148*H148,2) -> 0 | N148: snížená | P148: =O148*H148 -> 0 | Q148: 0 | R148: =Q148*H148 -> 0 | S148: 0 | T148: =S148*H148 -> 0 | AR148: 32 | AT148: M | AU148: 2 | AY148: ROZPOCET | BE148: =IF(N148="základní",J148,0) -> 0 | BF148: =IF(N148="snížená",J148,0) -> 0 | BG148: =IF(N148="zákl. přenesená",J148,0) -> 0 | BH148: =IF(N148="sníž. přenesená",J148,0) -> 0 | BI148: =IF(N148="nulová",J148,0) -> 0 | BJ148: 2 | BK148: =ROUND(I148*H148,2) -> 0 | BL148: 16 | BM148: 1943980995
D149: VV | F149: 120*1,05 "Přepočtené koeficientem množství | H149: 126 | AT149: VV | AU149: 2 | AV149: 2 | AW149: True | AX149: 1 | AY149: ROZPOCET
C150: 8 | D150: M | E150: RMAT0022 | F150: trubka elektroinstalační dn 20 | G150: m | H150: 210 | J150: =ROUND(I150*H150,2) -> 0 | N150: snížená | P150: =O150*H150 -> 0 | Q150: 0 | R150: =Q150*H150 -> 0 | S150: 0 | T150: =S150*H150 -> 0 | AR150: 32 | AT150: M | AU150: 2 | AY150: ROZPOCET | BE150: =IF(N150="základní",J150,0) -> 0 | BF150: =IF(N150="snížená",J150,0) -> 0 | BG150: =IF(N150="zákl. přenesená",J150,0) -> 0 | BH150: =IF(N150="sníž. přenesená",J150,0) -> 0 | BI150: =IF(N150="nulová",J150,0) -> 0 | BJ150: 2 | BK150: =ROUND(I150*H150,2) -> 0 | BL150: 16 | BM150: -502418377
D151: VV | F151: 200*1,05 "Přepočtené koeficientem množství | H151: 210 | AT151: VV | AU151: 2 | AV151: 2 | AW151: True | AX151: 1 | AY151: ROZPOCET
C152: 9 | D152: M | E152: 34572331 | F152: páska stahovací kabelová 12,6x230mm | G152: 100 kus | H152: 10 | J152: =ROUND(I152*H152,2) -> 0 | N152: snížená | P152: =O152*H152 -> 0 | Q152: 0.00316 | R152: =Q152*H152 -> 0.0316 | S152: 0 | T152: =S152*H152 -> 0 | AR152: 32 | AT152: M | AU152: 2 | AY152: ROZPOCET | BE152: =IF(N152="základní",J152,0) -> 0 | BF152: =IF(N152="snížená",J152,0) -> 0 | BG152: =IF(N152="zákl. přenesená",J152,0) -> 0 | BH152: =IF(N152="sníž. přenesená",J152,0) -> 0 | BI152: =IF(N152="nulová",J152,0) -> 0 | BJ152: 2 | BK152: =ROUND(I152*H152,2) -> 0 | BL152: 16 | BM152: -549947531
C153: 10 | D153: K | E153: 741112001 | F153: Montáž krabice zapuštěná plastová kruhová | G153: kus | H153: 19 | J153: =ROUND(I153*H153,2) -> 0 | N153: snížená | P153: =O153*H153 -> 0 | Q153: 0 | R153: =Q153*H153 -> 0 | S153: 0 | T153: =S153*H153 -> 0 | AR153: 16 | AT153: K | AU153: 2 | AY153: ROZPOCET | BE153: =IF(N153="základní",J153,0) -> 0 | BF153: =IF(N153="snížená",J153,0) -> 0 | BG153: =IF(N153="zákl. přenesená",J153,0) -> 0 | BH153: =IF(N153="sníž. přenesená",J153,0) -> 0 | BI153: =IF(N153="nulová",J153,0) -> 0 | BJ153: 2 | BK153: =ROUND(I153*H153,2) -> 0 | BL153: 16 | BM153: -1685137153
D154: VV | F154: 2+10+7 | H154: 19 | AT154: VV | AU154: 2 | AV154: 2 | AW154: True | AX154: 0 | AY154: ROZPOCET
D155: VV | F155: Součet | H155: 19 | AT155: VV | AU155: 2 | AV155: 4 | AW155: True | AX155: 1 | AY155: ROZPOCET
C156: 11 | D156: M | E156: RMAT0004 | F156: krabice elektroinstalační plastová ksk ip 66 | G156: kus | H156: 2 | J156: =ROUND(I156*H156,2) -> 0 | N156: snížená | P156: =O156*H156 -> 0 | Q156: 0 | R156: =Q156*H156 -> 0 | S156: 0 | T156: =S156*H156 -> 0 | AR156: 32 | AT156: M | AU156: 2 | AY156: ROZPOCET | BE156: =IF(N156="základní",J156,0) -> 0 | BF156: =IF(N156="snížená",J156,0) -> 0 | BG156: =IF(N156="zákl. přenesená",J156,0) -> 0 | BH156: =IF(N156="sníž. přenesená",J156,0) -> 0 | BI156: =IF(N156="nulová",J156,0) -> 0 | BJ156: 2 | BK156: =ROUND(I156*H156,2) -> 0 | BL156: 16 | BM156: 1462400853
C157: 12 | D157: M | E157: RMAT0005 | F157: krabice elektroinstalační plastová rozbočovací s víčkem | G157: kus | H157: 10 | J157: =ROUND(I157*H157,2) -> 0 | N157: snížená | P157: =O157*H157 -> 0 | Q157: 0 | R157: =Q157*H157 -> 0 | S157: 0 | T157: =S157*H157 -> 0 | AR157: 32 | AT157: M | AU157: 2 | AY157: ROZPOCET | BE157: =IF(N157="základní",J157,0) -> 0 | BF157: =IF(N157="snížená",J157,0) -> 0 | BG157: =IF(N157="zákl. přenesená",J157,0) -> 0 | BH157: =IF(N157="sníž. přenesená",J157,0) -> 0 | BI157: =IF(N157="nulová",J157,0) -> 0 | BJ157: 2 | BK157: =ROUND(I157*H157,2) -> 0 | BL157: 16 | BM157: 1130397886
C158: 13 | D158: M | E158: RMAT0006 | F158: krabice elektroinstalační plastová universální KU68 | G158: kus | H158: 7 | J158: =ROUND(I158*H158,2) -> 0 | N158: snížená | P158: =O158*H158 -> 0 | Q158: 0 | R158: =Q158*H158 -> 0 | S158: 0 | T158: =S158*H158 -> 0 | AR158: 32 | AT158: M | AU158: 2 | AY158: ROZPOCET | BE158: =IF(N158="základní",J158,0) -> 0 | BF158: =IF(N158="snížená",J158,0) -> 0 | BG158: =IF(N158="zákl. přenesená",J158,0) -> 0 | BH158: =IF(N158="sníž. přenesená",J158,0) -> 0 | BI158: =IF(N158="nulová",J158,0) -> 0 | BJ158: 2 | BK158: =ROUND(I158*H158,2) -> 0 | BL158: 16 | BM158: -31774340
C159: 14 | D159: K | E159: 741120501 | F159: Montáž kabelů flexibilních Cu lehkých a středních do 7 žil uložených volně (např. CGSG) | G159: m | H159: 140 | J159: =ROUND(I159*H159,2) -> 0 | N159: snížená | P159: =O159*H159 -> 0 | Q159: 0 | R159: =Q159*H159 -> 0 | S159: 0 | T159: =S159*H159 -> 0 | AR159: 16 | AT159: K | AU159: 2 | AY159: ROZPOCET | BE159: =IF(N159="základní",J159,0) -> 0 | BF159: =IF(N159="snížená",J159,0) -> 0 | BG159: =IF(N159="zákl. přenesená",J159,0) -> 0 | BH159: =IF(N159="sníž. přenesená",J159,0) -> 0 | BI159: =IF(N159="nulová",J159,0) -> 0 | BJ159: 2 | BK159: =ROUND(I159*H159,2) -> 0 | BL159: 16 | BM159: 1048348048
C160: 15 | D160: M | E160: 34145002 | F160: kabel instalační flexibilní jádro Cu lanované izolace PVC plášť PVC 300/300V (H03VV-F) 2x0,75mm2 | G160: m | H160: 161 | J160: =ROUND(I160*H160,2) -> 0 | N160: snížená | P160: =O160*H160 -> 0 | Q160: 4e-05 | R160: =Q160*H160 -> 0.00644 | S160: 0 | T160: =S160*H160 -> 0 | AR160: 32 | AT160: M | AU160: 2 | AY160: ROZPOCET | BE160: =IF(N160="základní",J160,0) -> 0 | BF160: =IF(N160="snížená",J160,0) -> 0 | BG160: =IF(N160="zákl. přenesená",J160,0) -> 0 | BH160: =IF(N160="sníž. přenesená",J160,0) -> 0 | BI160: =IF(N160="nulová",J160,0) -> 0 | BJ160: 2 | BK160: =ROUND(I160*H160,2) -> 0 | BL160: 16 | BM160: -567667180
D161: VV | F161: 140*1,15 "Přepočtené koeficientem množství | H161: 161 | AT161: VV | AU161: 2 | AV161: 2 | AW161: True | AX161: 1 | AY161: ROZPOCET
C162: 16 | D162: K | E162: 741122015 | F162: Montáž kabel Cu bez ukončení uložený pod omítku plný kulatý 3x1,5 mm2 (např. CYKY, CYKFY) | G162: m | H162: 610 | J162: =ROUND(I162*H162,2) -> 0 | N162: snížená | P162: =O162*H162 -> 0 | Q162: 0 | R162: =Q162*H162 -> 0 | S162: 0 | T162: =S162*H162 -> 0 | AR162: 16 | AT162: K | AU162: 2 | AY162: ROZPOCET | BE162: =IF(N162="základní",J162,0) -> 0 | BF162: =IF(N162="snížená",J162,0) -> 0 | BG162: =IF(N162="zákl. přenesená",J162,0) -> 0 | BH162: =IF(N162="sníž. přenesená",J162,0) -> 0 | BI162: =IF(N162="nulová",J162,0) -> 0 | BJ162: 2 | BK162: =ROUND(I162*H162,2) -> 0 | BL162: 16 | BM162: -836744987
...

Sheet b - Nebytové prostory
L2: >> skryté sloupce << | AT2: {41f75eed-8b26-4fcd-b82f-12798a3bb356}
AT3: 1
D4: KRYCÍ LIST SOUPISU PRACÍ | M4: v --- níže se nacházejí doplnkové a pomocné údaje k sestavám --- v | AT4: False
D6: Stavba:
E7: ='Rekapitulace stavby'!K6 -> Bytový dům Líbeznice, Martinova 142
D8: Objekt:
E9: 03 - TZB
D10: Soupis:
E11: 04 - Silnoproud
D12: Úroveň 3:
E13: b - Nebytové prostory
D15: KSO: | I15: CC-CZ:
D16: Místo: | F16: Líbeznice | I16: Datum: | J16: ='Rekapitulace stavby'!AN8 -> 3. 11. 2025
D18: Zadavatel: | I18: IČ:
I19: DIČ:
D21: Uchazeč: | I21: IČ: | J21: ='Rekapitulace stavby'!AN13 -> Vyplň údaj
E22: ='Rekapitulace stavby'!E14 -> Vyplň údaj | I22: DIČ: | J22: ='Rekapitulace stavby'!AN14 -> Vyplň údaj
D24: Projektant: | I24: IČ:
I25: DIČ:
D27: Zpracovatel: | I27: IČ:
E28: Krajovský | I28: DIČ:
D30: Poznámka:
D34: Cena bez DPH | J34: =ROUND(J131, 2) -> 0
F36: Základ daně | I36: Sazba daně | J36: Výše daně
D37: DPH | E37: základní | F37: =ROUND((SUM(BE131:BE226)), 2) -> 0 | I37: 0.21 | J37: =ROUND(((SUM(BE131:BE226))*I37), 2) -> 0
E38: snížená | F38: =ROUND((SUM(BF131:BF226)), 2) -> 0 | I38: 0.12 | J38: =ROUND(((SUM(BF131:BF226))*I38), 2) -> 0
E39: zákl. přenesená | F39: =ROUND((SUM(BG131:BG226)), 2) -> 0 | I39: 0.21 | J39: =0 -> 0
E40: sníž. přenesená | F40: =ROUND((SUM(BH131:BH226)), 2) -> 0 | I40: 0.12 | J40: =0 -> 0
E41: nulová | F41: =ROUND((SUM(BI131:BI226)), 2) -> 0 | I41: 0 | J41: =0 -> 0
D43: Cena s DPH | G43: v | H43: CZK | J43: =SUM(J34:J41) -> 0
D50: Projektant | G50: Zpracovatel
D61: Datum a podpis: | F61: Razítko | G61: Datum a podpis: | J61: Razítko
D65: Objednavatel | G65: Uchazeč
D76: Datum a podpis: | F76: Razítko | G76: Datum a podpis: | J76: Razítko
C82: REKAPITULACE ČLENĚNÍ SOUPISU PRACÍ
C84: Stavba:
E85: =E7 -> Bytový dům Líbeznice, Martinova 142
C86: Objekt:
E87: 03 - TZB
C88: Soupis:
E89: 04 - Silnoproud
C90: Úroveň 3:
E91: =E13 -> b - Nebytové prostory
C93: Místo: | F93: =F16 -> Líbeznice | I93: Datum: | J93: =IF(J16="","",J16) -> 3. 11. 2025
C95: Zadavatel: | F95: =E19 | I95: Projektant: | J95: =E25
C96: Uchazeč: | F96: =IF(E22="","",E22) -> Vyplň údaj | I96: Zpracovatel: | J96: =E28 -> Krajovský
C98: Kód dílu - Popis | J98: Cena celkem [CZK]
C100: Náklady ze soupisu prací | J100: =J131 -> 0 | AU100: -1
D101: PSV - Práce a dodávky PSV | J101: =J132 -> 0
D102: 741 - Elektroinstalace - silnoproud | J102: =J133 -> 0
D103: M - Práce a dodávky M | J103: =J188 -> 0
D104: 21-M - Elektromontáže | J104: =J189 -> 0
D105: HZS - Hodinové zúčtovací sazby | J105: =J195 -> 0
D106: Ostatní - Ostatní | J106: =J204 -> 0
D107: 46-M - Zemní práce při extr.mont.pracích | J107: =J215 -> 0
C114: SOUPIS PRACÍ
C116: Stavba:
E117: =E7 -> Bytový dům Líbeznice, Martinova 142
C118: Objekt:
E119: 03 - TZB
C120: Soupis:
E121: 04 - Silnoproud
C122: Úroveň 3:
E123: =E13 -> b - Nebytové prostory
C125: Místo: | F125: =F16 -> Líbeznice | I125: Datum: | J125: =IF(J16="","",J16) -> 3. 11. 2025
C127: Zadavatel: | F127: =E19 | I127: Projektant: | J127: =E25
C128: Uchazeč: | F128: =IF(E22="","",E22) -> Vyplň údaj | I128: Zpracovatel: | J128: =E28 -> Krajovský
C130: PČ | D130: Typ | E130: Kód | F130: Popis | G130: MJ | H130: Množství | I130: J.cena [CZK] | J130: Cena celkem [CZK] | K130: Cenová soustava | N130: DPH | O130: J. Nh [h] | P130: Nh celkem [h] | Q130: J. hmotnost [t] | R130: Hmotnost celkem [t] | S130: J. suť [t] | T130: Suť Celkem [t]
C131: Náklady soupisu celkem | J131: =BK131 -> 0 | P131: =P132+P188+P195+P204 -> 0 | R131: =R132+R188+R195+R204 -> 0.22666 | T131: =T132+T188+T195+T204 -> 0.633 | AT131: D | AU131: -1 | BK131: =BK132+BK188+BK195+BK204 -> 0
D132: D | E132: PSV | F132: Práce a dodávky PSV | J132: =BK132 -> 0 | P132: =P133 -> 0 | R132: =R133 -> 0.17716 | T132: =T133 -> 0 | AR132: 2 | AT132: D | AU132: 0 | AY132: ROZPOCET | BK132: =BK133 -> 0
D133: D | E133: 741 | F133: Elektroinstalace - silnoproud | J133: =BK133 -> 0 | P133: =SUM(P134:P187) -> 0 | R133: =SUM(R134:R187) -> 0.17716 | T133: =SUM(T134:T187) -> 0 | AR133: 2 | AT133: D | AU133: 1 | AY133: ROZPOCET | BK133: =SUM(BK134:BK187) -> 0
C134: 1 | D134: K | E134: 741110043 | F134: Montáž trubka plastová ohebná D přes 35 mm uložená pevně | G134: m | H134: 1870 | J134: =ROUND(I134*H134,2) -> 0 | N134: snížená | P134: =O134*H134 -> 0 | Q134: 0 | R134: =Q134*H134 -> 0 | S134: 0 | T134: =S134*H134 -> 0 | AR134: 16 | AT134: K | AU134: 2 | AY134: ROZPOCET | BE134: =IF(N134="základní",J134,0) -> 0 | BF134: =IF(N134="snížená",J134,0) -> 0 | BG134: =IF(N134="zákl. přenesená",J134,0) -> 0 | BH134: =IF(N134="sníž. přenesená",J134,0) -> 0 | BI134: =IF(N134="nulová",J134,0) -> 0 | BJ134: 2 | BK134: =ROUND(I134*H134,2) -> 0 | BL134: 16 | BM134: 810316265
D135: VV | F135: 100+50+1450+20+250 | H135: 1870 | AT135: VV | AU135: 2 | AV135: 2 | AW135: True | AX135: 0 | AY135: ROZPOCET
D136: VV | F136: Součet | H136: 1870 | AT136: VV | AU136: 2 | AV136: 4 | AW136: True | AX136: 1 | AY136: ROZPOCET
C137: 2 | D137: M | E137: RMAT0018 | F137: trubka elektroinstalační dn 63 | G137: m | H137: 100 | J137: =ROUND(I137*H137,2) -> 0 | N137: snížená | P137: =O137*H137 -> 0 | Q137: 0 | R137: =Q137*H137 -> 0 | S137: 0 | T137: =S137*H137 -> 0 | AR137: 32 | AT137: M | AU137: 2 | AY137: ROZPOCET | BE137: =IF(N137="základní",J137,0) -> 0 | BF137: =IF(N137="snížená",J137,0) -> 0 | BG137: =IF(N137="zákl. přenesená",J137,0) -> 0 | BH137: =IF(N137="sníž. přenesená",J137,0) -> 0 | BI137: =IF(N137="nulová",J137,0) -> 0 | BJ137: 2 | BK137: =ROUND(I137*H137,2) -> 0 | BL137: 16 | BM137: 217556083
C138: 3 | D138: M | E138: RMAT0019 | F138: trubka elektroinstalační dn 40 | G138: m | H138: 50 | J138: =ROUND(I138*H138,2) -> 0 | N138: snížená | P138: =O138*H138 -> 0 | Q138: 0 | R138: =Q138*H138 -> 0 | S138: 0 | T138: =S138*H138 -> 0 | AR138: 32 | AT138: M | AU138: 2 | AY138: ROZPOCET | BE138: =IF(N138="základní",J138,0) -> 0 | BF138: =IF(N138="snížená",J138,0) -> 0 | BG138: =IF(N138="zákl. přenesená",J138,0) -> 0 | BH138: =IF(N138="sníž. přenesená",J138,0) -> 0 | BI138: =IF(N138="nulová",J138,0) -> 0 | BJ138: 2 | BK138: =ROUND(I138*H138,2) -> 0 | BL138: 16 | BM138: 1768748299
C139: 4 | D139: M | E139: RMAT0020 | F139: trubka elektroinstalační dn 32 | G139: m | H139: 150 | J139: =ROUND(I139*H139,2) -> 0 | N139: snížená | P139: =O139*H139 -> 0 | Q139: 0 | R139: =Q139*H139 -> 0 | S139: 0 | T139: =S139*H139 -> 0 | AR139: 32 | AT139: M | AU139: 2 | AY139: ROZPOCET | BE139: =IF(N139="základní",J139,0) -> 0 | BF139: =IF(N139="snížená",J139,0) -> 0 | BG139: =IF(N139="zákl. přenesená",J139,0) -> 0 | BH139: =IF(N139="sníž. přenesená",J139,0) -> 0 | BI139: =IF(N139="nulová",J139,0) -> 0 | BJ139: 2 | BK139: =ROUND(I139*H139,2) -> 0 | BL139: 16 | BM139: -1035532159
C140: 5 | D140: M | E140: RMAT0021 | F140: trubka elektroinstalační dn 25 | G140: m | H140: 200 | J140: =ROUND(I140*H140,2) -> 0 | N140: snížená | P140: =O140*H140 -> 0 | Q140: 0 | R140: =Q140*H140 -> 0 | S140: 0 | T140: =S140*H140 -> 0 | AR140: 32 | AT140: M | AU140: 2 | AY140: ROZPOCET | BE140: =IF(N140="základní",J140,0) -> 0 | BF140: =IF(N140="snížená",J140,0) -> 0 | BG140: =IF(N140="zákl. přenesená",J140,0) -> 0 | BH140: =IF(N140="sníž. přenesená",J140,0) -> 0 | BI140: =IF(N140="nulová",J140,0) -> 0 | BJ140: 2 | BK140: =ROUND(I140*H140,2) -> 0 | BL140: 16 | BM140: -943773832
C141: 6 | D141: M | E141: RMAT0022 | F141: trubka elektroinstalační dn 20 | G141: m | H141: 250 | J141: =ROUND(I141*H141,2) -> 0 | N141: snížená | P141: =O141*H141 -> 0 | Q141: 0 | R141: =Q141*H141 -> 0 | S141: 0 | T141: =S141*H141 -> 0 | AR141: 32 | AT141: M | AU141: 2 | AY141: ROZPOCET | BE141: =IF(N141="základní",J141,0) -> 0 | BF141: =IF(N141="snížená",J141,0) -> 0 | BG141: =IF(N141="zákl. přenesená",J141,0) -> 0 | BH141: =IF(N141="sníž. přenesená",J141,0) -> 0 | BI141: =IF(N141="nulová",J141,0) -> 0 | BJ141: 2 | BK141: =ROUND(I141*H141,2) -> 0 | BL141: 16 | BM141: -767011616
C142: 7 | D142: M | E142: 34572331 | F142: páska stahovací kabelová 12,6x230mm | G142: 100 kus | H142: 4 | J142: =ROUND(I142*H142,2) -> 0 | N142: snížená | P142: =O142*H142 -> 0 | Q142: 0.00316 | R142: =Q142*H142 -> 0.01264 | S142: 0 | T142: =S142*H142 -> 0 | AR142: 32 | AT142: M | AU142: 2 | AY142: ROZPOCET | BE142: =IF(N142="základní",J142,0) -> 0 | BF142: =IF(N142="snížená",J142,0) -> 0 | BG142: =IF(N142="zákl. přenesená",J142,0) -> 0 | BH142: =IF(N142="sníž. přenesená",J142,0) -> 0 | BI142: =IF(N142="nulová",J142,0) -> 0 | BJ142: 2 | BK142: =ROUND(I142*H142,2) -> 0 | BL142: 16 | BM142: 880158495
C143: 8 | D143: K | E143: 741112001 | F143: Montáž krabice zapuštěná plastová kruhová | G143: kus | H143: 75 | J143: =ROUND(I143*H143,2) -> 0 | N143: snížená | P143: =O143*H143 -> 0 | Q143: 0 | R143: =Q143*H143 -> 0 | S143: 0 | T143: =S143*H143 -> 0 | AR143: 16 | AT143: K | AU143: 2 | AY143: ROZPOCET | BE143: =IF(N143="základní",J143,0) -> 0 | BF143: =IF(N143="snížená",J143,0) -> 0 | BG143: =IF(N143="zákl. přenesená",J143,0) -> 0 | BH143: =IF(N143="sníž. přenesená",J143,0) -> 0 | BI143: =IF(N143="nulová",J143,0) -> 0 | BJ143: 2 | BK143: =ROUND(I143*H143,2) -> 0 | BL143: 16 | BM143: -100805645
D144: VV | F144: 10+7+58 | H144: 75 | AT144: VV | AU144: 2 | AV144: 2 | AW144: True | AX144: 0 | AY144: ROZPOCET
D145: VV | F145: Součet | H145: 75 | AT145: VV | AU145: 2 | AV145: 4 | AW145: True | AX145: 1 | AY145: ROZPOCET
C146: 9 | D146: M | E146: RMAT0004 | F146: krabice elektroinstalační hluboká KPR 68 | G146: kus | H146: 7 | J146: =ROUND(I146*H146,2) -> 0 | N146: snížená | P146: =O146*H146 -> 0 | Q146: 0 | R146: =Q146*H146 -> 0 | S146: 0 | T146: =S146*H146 -> 0 | AR146: 32 | AT146: M | AU146: 2 | AY146: ROZPOCET | BE146: =IF(N146="základní",J146,0) -> 0 | BF146: =IF(N146="snížená",J146,0) -> 0 | BG146: =IF(N146="zákl. přenesená",J146,0) -> 0 | BH146: =IF(N146="sníž. přenesená",J146,0) -> 0 | BI146: =IF(N146="nulová",J146,0) -> 0 | BJ146: 2 | BK146: =ROUND(I146*H146,2) -> 0 | BL146: 16 | BM146: 1961734707
C147: 10 | D147: M | E147: RMAT0005 | F147: krabice elektroinstalační plastová rozbočovací s víčkem | G147: kus | H147: 10 | J147: =ROUND(I147*H147,2) -> 0 | N147: snížená | P147: =O147*H147 -> 0 | Q147: 0 | R147: =Q147*H147 -> 0 | S147: 0 | T147: =S147*H147 -> 0 | AR147: 32 | AT147: M | AU147: 2 | AY147: ROZPOCET | BE147: =IF(N147="základní",J147,0) -> 0 | BF147: =IF(N147="snížená",J147,0) -> 0 | BG147: =IF(N147="zákl. přenesená",J147,0) -> 0 | BH147: =IF(N147="sníž. přenesená",J147,0) -> 0 | BI147: =IF(N147="nulová",J147,0) -> 0 | BJ147: 2 | BK147: =ROUND(I147*H147,2) -> 0 | BL147: 16 | BM147: -32903235
C148: 11 | D148: M | E148: RMAT0006 | F148: krabice elektroinstalační plastová universální KU68 | G148: kus | H148: 58 | J148: =ROUND(I148*H148,2) -> 0 | N148: snížená | P148: =O148*H148 -> 0 | Q148: 0 | R148: =Q148*H148 -> 0 | S148: 0 | T148: =S148*H148 -> 0 | AR148: 32 | AT148: M | AU148: 2 | AY148: ROZPOCET | BE148: =IF(N148="základní",J148,0) -> 0 | BF148: =IF(N148="snížená",J148,0) -> 0 | BG148: =IF(N148="zákl. přenesená",J148,0) -> 0 | BH148: =IF(N148="sníž. přenesená",J148,0) -> 0 | BI148: =IF(N148="nulová",J148,0) -> 0 | BJ148: 2 | BK148: =ROUND(I148*H148,2) -> 0 | BL148: 16 | BM148: -1753845749
C149: 12 | D149: K | E149: 741122015 | F149: Montáž kabel Cu bez ukončení uložený pod omítku plný kulatý 3x1,5 mm2 (např. CYKY, CYKFY) | G149: m | H149: 200 | J149: =ROUND(I149*H149,2) -> 0 | N149: snížená | P149: =O149*H149 -> 0 | Q149: 0 | R149: =Q149*H149 -> 0 | S149: 0 | T149: =S149*H149 -> 0 | AR149: 16 | AT149: K | AU149: 2 | AY149: ROZPOCET | BE149: =IF(N149="základní",J149,0) -> 0 | BF149: =IF(N149="snížená",J149,0) -> 0 | BG149: =IF(N149="zákl. přenesená",J149,0) -> 0 | BH149: =IF(N149="sníž. přenesená",J149,0) -> 0 | BI149: =IF(N149="nulová",J149,0) -> 0 | BJ149: 2 | BK149: =ROUND(I149*H149,2) -> 0 | BL149: 16 | BM149: 694742309
C150: 13 | D150: M | E150: 34111030 | F150: kabel instalační jádro Cu plné izolace PVC plášť PVC 450/750V (CYKY) 3x1,5mm2 | G150: m | H150: 200 | J150: =ROUND(I150*H150,2) -> 0 | N150: snížená | P150: =O150*H150 -> 0 | Q150: 0.00012 | R150: =Q150*H150 -> 0.024 | S150: 0 | T150: =S150*H150 -> 0 | AR150: 32 | AT150: M | AU150: 2 | AY150: ROZPOCET | BE150: =IF(N150="základní",J150,0) -> 0 | BF150: =IF(N150="snížená",J150,0) -> 0 | BG150: =IF(N150="zákl. přenesená",J150,0) -> 0 | BH150: =IF(N150="sníž. přenesená",J150,0) -> 0 | BI150: =IF(N150="nulová",J150,0) -> 0 | BJ150: 2 | BK150: =ROUND(I150*H150,2) -> 0 | BL150: 16 | BM150: 996785485
C151: 14 | D151: K | E151: 741122016 | F151: Montáž kabel Cu bez ukončení uložený pod omítku plný kulatý 3x2,5 až 6 mm2 (např. CYKY, CYKFY) | G151: m | H151: 350 | J151: =ROUND(I151*H151,2) -> 0 | N151: snížená | P151: =O151*H151 -> 0 | Q151: 0 | R151: =Q151*H151 -> 0 | S151: 0 | T151: =S151*H151 -> 0 | AR151: 16 | AT151: K | AU151: 2 | AY151: ROZPOCET | BE151: =IF(N151="základní",J151,0) -> 0 | BF151: =IF(N151="snížená",J151,0) -> 0 | BG151: =IF(N151="zákl. přenesená",J151,0) -> 0 | BH151: =IF(N151="sníž. přenesená",J151,0) -> 0 | BI151: =IF(N151="nulová",J151,0) -> 0 | BJ151: 2 | BK151: =ROUND(I151*H151,2) -> 0 | BL151: 16 | BM151: -944300426
C152: 15 | D152: M | E152: 34111036 | F152: kabel instalační jádro Cu plné izolace PVC plášť PVC 450/750V (CYKY) 3x2,5mm2 | G152: m | H152: 350 | J152: =ROUND(I152*H152,2) -> 0 | N152: snížená | P152: =O152*H152 -> 0 | Q152: 0.00017 | R152: =Q152*H152 -> 0.0595 | S152: 0 | T152: =S152*H152 -> 0 | AR152: 32 | AT152: M | AU152: 2 | AY152: ROZPOCET | BE152: =IF(N152="základní",J152,0) -> 0 | BF152: =IF(N152="snížená",J152,0) -> 0 | BG152: =IF(N152="zákl. přenesená",J152,0) -> 0 | BH152: =IF(N152="sníž. přenesená",J152,0) -> 0 | BI152: =IF(N152="nulová",J152,0) -> 0 | BJ152: 2 | BK152: =ROUND(I152*H152,2) -> 0 | BL152: 16 | BM152: -950546412
C153: 16 | D153: K | E153: 741122031 | F153: Montáž kabel Cu bez ukončení uložený pod omítku plný kulatý 5x1,5 až 2,5 mm2 (např. CYKY, CYKFY) | G153: m | H153: 270 | J153: =ROUND(I153*H153,2) -> 0 | N153: snížená | P153: =O153*H153 -> 0 | Q153: 0 | R153: =Q153*H153 -> 0 | S153: 0 | T153: =S153*H153 -> 0 | AR153: 16 | AT153: K | AU153: 2 | AY153: ROZPOCET | BE153: =IF(N153="základní",J153,0) -> 0 | BF153: =IF(N153="snížená",J153,0) -> 0 | BG153: =IF(N153="zákl. přenesená",J153,0) -> 0 | BH153: =IF(N153="sníž. přenesená",J153,0) -> 0 | BI153: =IF(N153="nulová",J153,0) -> 0 | BJ153: 2 | BK153: =ROUND(I153*H153,2) -> 0 | BL153: 16 | BM153: 732126204
C154: 17 | D154: M | E154: 34111090 | F154: kabel instalační jádro Cu plné izolace PVC plášť PVC 450/750V (CYKY) 5x1,5mm2 | G154: m | H154: 270 | J154: =ROUND(I154*H154,2) -> 0 | N154: snížená | P154: =O154*H154 -> 0 | Q154: 0.00016 | R154: =Q154*H154 -> 0.0432 | S154: 0 | T154: =S154*H154 -> 0 | AR154: 32 | AT154: M | AU154: 2 | AY154: ROZPOCET | BE154: =IF(N154="základní",J154,0) -> 0 | BF154: =IF(N154="snížená",J154,0) -> 0 | BG154: =IF(N154="zákl. přenesená",J154,0) -> 0 | BH154: =IF(N154="sníž. přenesená",J154,0) -> 0 | BI154: =IF(N154="nulová",J154,0) -> 0 | BJ154: 2 | BK154: =ROUND(I154*H154,2) -> 0 | BL154: 16 | BM154: 1780332518
C155: 18 | D155: K | E155: 741122033 | F155: Montáž kabel Cu bez ukončení uložený pod omítku plný kulatý 5x10 mm2 (např. CYKY, CYKFY) | G155: m | H155: 40 | J155: =ROUND(I155*H155,2) -> 0 | N155: snížená | P155: =O155*H155 -> 0 | Q155: 0 | R155: =Q155*H155 -> 0 | S155: 0 | T155: =S155*H155 -> 0 | AR155: 16 | AT155: K | AU155: 2 | AY155: ROZPOCET | BE155: =IF(N155="základní",J155,0) -> 0 | BF155: =IF(N155="snížená",J155,0) -> 0 | BG155: =IF(N155="zákl. přenesená",J155,0) -> 0 | BH155: =IF(N155="sníž. přenesená",J155,0) -> 0 | BI155: =IF(N155="nulová",J155,0) -> 0 | BJ155: 2 | BK155: =ROUND(I155*H155,2) -> 0 | BL155: 16 | BM155: 2131476353
C156: 19 | D156: M | E156: 34113034 | F156: kabel instalační jádro Cu plné izolace PVC plášť PVC 450/750V (CYKY) 5x10mm2 | G156: m | H156: 46 | J156: =ROUND(I156*H156,2) -> 0 | N156: snížená | P156: =O156*H156 -> 0 | Q156: 0.00077 | R156: =Q156*H156 -> 0.03542 | S156: 0 | T156: =S156*H156 -> 0 | AR156: 32 | AT156: M | AU156: 2 | AY156: ROZPOCET | BE156: =IF(N156="základní",J156,0) -> 0 | BF156: =IF(N156="snížená",J156,0) -> 0 | BG156: =IF(N156="zákl. přenesená",J156,0) -> 0 | BH156: =IF(N156="sníž. přenesená",J156,0) -> 0 | BI156: =IF(N156="nulová",J156,0) -> 0 | BJ156: 2 | BK156: =ROUND(I156*H156,2) -> 0 | BL156: 16 | BM156: -375725479
D157: VV | F157: 40*1,15 "Přepočtené koeficientem množství | H157: 46 | AT157: VV | AU157: 2 | AV157: 2 | AW157: True | AX157: 1 | AY157: ROZPOCET
C158: 20 | D158: K | E158: 741124703 | F158: Montáž kabel Cu stíněný ovládací žíly 2 až 19x1 mm2 uložený volně (např. JYTY) | G158: m | H158: 30 | J158: =ROUND(I158*H158,2) -> 0 | N158: snížená | P158: =O158*H158 -> 0 | Q158: 0 | R158: =Q158*H158 -> 0 | S158: 0 | T158: =S158*H158 -> 0 | AR158: 16 | AT158: K | AU158: 2 | AY158: ROZPOCET | BE158: =IF(N158="základní",J158,0) -> 0 | BF158: =IF(N158="snížená",J158,0) -> 0 | BG158: =IF(N158="zákl. přenesená",J158,0) -> 0 | BH158: =IF(N158="sníž. přenesená",J158,0) -> 0 | BI158: =IF(N158="nulová",J158,0) -> 0 | BJ158: 2 | BK158: =ROUND(I158*H158,2) -> 0 | BL158: 16 | BM158: -863883984
C159: 21 | D159: M | E159: 34113150 | F159: kabel ovládací průmyslový stíněný laminovanou Al fólií s příložným Cu drátem jádro Cu plné izolace PVC plášť PVC 250V (JYTY) 4x1,00mm2 | G159: m | H159: 30 | J159: =ROUND(I159*H159,2) -> 0 | N159: snížená | P159: =O159*H159 -> 0 | Q159: 8e-05 | R159: =Q159*H159 -> 0.0024 | S159: 0 | T159: =S159*H159 -> 0 | AR159: 32 | AT159: M | AU159: 2 | AY159: ROZPOCET | BE159: =IF(N159="základní",J159,0) -> 0 | BF159: =IF(N159="snížená",J159,0) -> 0 | BG159: =IF(N159="zákl. přenesená",J159,0) -> 0 | BH159: =IF(N159="sníž. přenesená",J159,0) -> 0 | BI159: =IF(N159="nulová",J159,0) -> 0 | BJ159: 2 | BK159: =ROUND(I159*H159,2) -> 0 | BL159: 16 | BM159: 1609058862
C160: 22 | D160: K | E160: 741310001 | F160: Montáž spínač nástěnný 1-jednopólový prostředí normální se zapojením vodičů | G160: kus | H160: 14 | J160: =ROUND(I160*H160,2) -> 0 | N160: snížená | P160: =O160*H160 -> 0 | Q160: 0 | R160: =Q160*H160 -> 0 | S160: 0 | T160: =S160*H160 -> 0 | AR160: 16 | AT160: K | AU160: 2 | AY160: ROZPOCET | BE160: =IF(N160="základní",J160,0) -> 0 | BF160: =IF(N160="snížená",J160,0) -> 0 | BG160: =IF(N160="zákl. přenesená",J160,0) -> 0 | BH160: =IF(N160="sníž. přenesená",J160,0) -> 0 | BI160: =IF(N160="nulová",J160,0) -> 0 | BJ160: 2 | BK160: =ROUND(I160*H160,2) -> 0 | BL160: 16 | BM160: 1434983156
D161: VV | F161: řaz.1, řaz 1/0 řaz 1/0+1/0 | AT161: VV | AU161: 2 | AV161: 1 | AW161: True | AX161: 0 | AY161: ROZPOCET
D162: VV | F162: 7+1+6 | H162: 14 | AT162: VV | AU162: 2 | AV162: 2 | AW162: True | AX162: 0 | AY162: ROZPOCET
...

Sheet c - Byty
L2: >> skryté sloupce << | AT2: {36c6882f-daf3-4ec6-a2f4-9e275b31960a}
AT3: 1
D4: KRYCÍ LIST SOUPISU PRACÍ | M4: v --- níže se nacházejí doplnkové a pomocné údaje k sestavám --- v | AT4: False
D6: Stavba:
E7: ='Rekapitulace stavby'!K6 -> Bytový dům Líbeznice, Martinova 142
D8: Objekt:
E9: 03 - TZB
D10: Soupis:
E11: 04 - Silnoproud
D12: Úroveň 3:
E13: c - Byty
D15: KSO: | I15: CC-CZ:
D16: Místo: | F16: Líbeznice | I16: Datum: | J16: ='Rekapitulace stavby'!AN8 -> 3. 11. 2025
D18: Zadavatel: | I18: IČ:
I19: DIČ:
D21: Uchazeč: | I21: IČ: | J21: ='Rekapitulace stavby'!AN13 -> Vyplň údaj
E22: ='Rekapitulace stavby'!E14 -> Vyplň údaj | I22: DIČ: | J22: ='Rekapitulace stavby'!AN14 -> Vyplň údaj
D24: Projektant: | I24: IČ:
I25: DIČ:
D27: Zpracovatel: | I27: IČ:
E28: Krajovský | I28: DIČ:
D30: Poznámka:
D34: Cena bez DPH | J34: =ROUND(J132, 2) -> 0
F36: Základ daně | I36: Sazba daně | J36: Výše daně
D37: DPH | E37: základní | F37: =ROUND((SUM(BE132:BE219)), 2) -> 0 | I37: 0.21 | J37: =ROUND(((SUM(BE132:BE219))*I37), 2) -> 0
E38: snížená | F38: =ROUND((SUM(BF132:BF219)), 2) -> 0 | I38: 0.12 | J38: =ROUND(((SUM(BF132:BF219))*I38), 2) -> 0
E39: zákl. přenesená | F39: =ROUND((SUM(BG132:BG219)), 2) -> 0 | I39: 0.21 | J39: =0 -> 0
E40: sníž. přenesená | F40: =ROUND((SUM(BH132:BH219)), 2) -> 0 | I40: 0.12 | J40: =0 -> 0
E41: nulová | F41: =ROUND((SUM(BI132:BI219)), 2) -> 0 | I41: 0 | J41: =0 -> 0
D43: Cena s DPH | G43: v | H43: CZK | J43: =SUM(J34:J41) -> 0
D50: Projektant | G50: Zpracovatel
D61: Datum a podpis: | F61: Razítko | G61: Datum a podpis: | J61: Razítko
D65: Objednavatel | G65: Uchazeč
D76: Datum a podpis: | F76: Razítko | G76: Datum a podpis: | J76: Razítko
C82: REKAPITULACE ČLENĚNÍ SOUPISU PRACÍ
C84: Stavba:
E85: =E7 -> Bytový dům Líbeznice, Martinova 142
C86: Objekt:
E87: 03 - TZB
C88: Soupis:
E89: 04 - Silnoproud
C90: Úroveň 3:
E91: =E13 -> c - Byty
C93: Místo: | F93: =F16 -> Líbeznice | I93: Datum: | J93: =IF(J16="","",J16) -> 3. 11. 2025
C95: Zadavatel: | F95: =E19 | I95: Projektant: | J95: =E25
C96: Uchazeč: | F96: =IF(E22="","",E22) -> Vyplň údaj | I96: Zpracovatel: | J96: =E28 -> Krajovský
C98: Kód dílu - Popis | J98: Cena celkem [CZK]
C100: Náklady ze soupisu prací | J100: =J132 -> 0 | AU100: -1
D101: PSV - Práce a dodávky PSV | J101: =J133 -> 0
D102: 741 - Elektroinstalace - silnoproud | J102: =J134 -> 0
D103: 742 - Elektroinstalace - slaboproud | J103: =J187 -> 0
D104: M - Práce a dodávky M | J104: =J190 -> 0
D105: 21-M - Elektromontáže | J105: =J191 -> 0
D106: HZS - Hodinové zúčtovací sazby | J106: =J194 -> 0
D107: Ostatní - Ostatní | J107: =J203 -> 0
D108: 46-M - Zemní práce při extr.mont.pracích | J108: =J208 -> 0
C115: SOUPIS PRACÍ
C117: Stavba:
E118: =E7 -> Bytový dům Líbeznice, Martinova 142
C119: Objekt:
E120: 03 - TZB
C121: Soupis:
E122: 04 - Silnoproud
C123: Úroveň 3:
E124: =E13 -> c - Byty
C126: Místo: | F126: =F16 -> Líbeznice | I126: Datum: | J126: =IF(J16="","",J16) -> 3. 11. 2025
C128: Zadavatel: | F128: =E19 | I128: Projektant: | J128: =E25
C129: Uchazeč: | F129: =IF(E22="","",E22) -> Vyplň údaj | I129: Zpracovatel: | J129: =E28 -> Krajovský
C131: PČ | D131: Typ | E131: Kód | F131: Popis | G131: MJ | H131: Množství | I131: J.cena [CZK] | J131: Cena celkem [CZK] | K131: Cenová soustava | N131: DPH | O131: J. Nh [h] | P131: Nh celkem [h] | Q131: J. hmotnost [t] | R131: Hmotnost celkem [t] | S131: J. suť [t] | T131: Suť Celkem [t]
C132: Náklady soupisu celkem | J132: =BK132 -> 0 | P132: =P133+P190+P194+P203 -> 0 | R132: =R133+R190+R194+R203 -> 0.81842 | T132: =T133+T190+T194+T203 -> 3.108 | AT132: D | AU132: -1 | BK132: =BK133+BK190+BK194+BK203 -> 0
D133: D | E133: PSV | F133: Práce a dodávky PSV | J133: =BK133 -> 0 | P133: =P134+P187 -> 0 | R133: =R134+R187 -> 0.70982 | T133: =T134+T187 -> 0 | AR133: 2 | AT133: D | AU133: 0 | AY133: ROZPOCET | BK133: =BK134+BK187 -> 0
D134: D | E134: 741 | F134: Elektroinstalace - silnoproud | J134: =BK134 -> 0 | P134: =SUM(P135:P186) -> 0 | R134: =SUM(R135:R186) -> 0.70782 | T134: =SUM(T135:T186) -> 0 | AR134: 2 | AT134: D | AU134: 1 | AY134: ROZPOCET | BK134: =SUM(BK135:BK186) -> 0
C135: 1 | D135: K | E135: 741110043 | F135: Montáž trubka plastová ohebná D přes 35 mm uložená pevně | G135: m | H135: 1850 | J135: =ROUND(I135*H135,2) -> 0 | N135: snížená | P135: =O135*H135 -> 0 | Q135: 0 | R135: =Q135*H135 -> 0 | S135: 0 | T135: =S135*H135 -> 0 | AR135: 16 | AT135: K | AU135: 2 | AY135: ROZPOCET | BE135: =IF(N135="základní",J135,0) -> 0 | BF135: =IF(N135="snížená",J135,0) -> 0 | BG135: =IF(N135="zákl. přenesená",J135,0) -> 0 | BH135: =IF(N135="sníž. přenesená",J135,0) -> 0 | BI135: =IF(N135="nulová",J135,0) -> 0 | BJ135: 2 | BK135: =ROUND(I135*H135,2) -> 0 | BL135: 16 | BM135: 234679221
D136: VV | F136: 250+600+1000 | H136: 1850 | AT136: VV | AU136: 2 | AV136: 2 | AW136: True | AX136: 0 | AY136: ROZPOCET
D137: VV | F137: Součet | H137: 1850 | AT137: VV | AU137: 2 | AV137: 4 | AW137: True | AX137: 1 | AY137: ROZPOCET
C138: 2 | D138: M | E138: RMAT0020 | F138: trubka elektroinstalační dn 32 | G138: m | H138: 250 | J138: =ROUND(I138*H138,2) -> 0 | N138: snížená | P138: =O138*H138 -> 0 | Q138: 0 | R138: =Q138*H138 -> 0 | S138: 0 | T138: =S138*H138 -> 0 | AR138: 32 | AT138: M | AU138: 2 | AY138: ROZPOCET | BE138: =IF(N138="základní",J138,0) -> 0 | BF138: =IF(N138="snížená",J138,0) -> 0 | BG138: =IF(N138="zákl. přenesená",J138,0) -> 0 | BH138: =IF(N138="sníž. přenesená",J138,0) -> 0 | BI138: =IF(N138="nulová",J138,0) -> 0 | BJ138: 2 | BK138: =ROUND(I138*H138,2) -> 0 | BL138: 16 | BM138: -1995347327
C139: 3 | D139: M | E139: RMAT0021 | F139: trubka elektroinstalační dn 25 | G139: m | H139: 600 | J139: =ROUND(I139*H139,2) -> 0 | N139: snížená | P139: =O139*H139 -> 0 | Q139: 0 | R139: =Q139*H139 -> 0 | S139: 0 | T139: =S139*H139 -> 0 | AR139: 32 | AT139: M | AU139: 2 | AY139: ROZPOCET | BE139: =IF(N139="základní",J139,0) -> 0 | BF139: =IF(N139="snížená",J139,0) -> 0 | BG139: =IF(N139="zákl. přenesená",J139,0) -> 0 | BH139: =IF(N139="sníž. přenesená",J139,0) -> 0 | BI139: =IF(N139="nulová",J139,0) -> 0 | BJ139: 2 | BK139: =ROUND(I139*H139,2) -> 0 | BL139: 16 | BM139: 1905427465
C140: 4 | D140: M | E140: RMAT0022 | F140: trubka elektroinstalační dn 20 | G140: m | H140: 1000 | J140: =ROUND(I140*H140,2) -> 0 | N140: snížená | P140: =O140*H140 -> 0 | Q140: 0 | R140: =Q140*H140 -> 0 | S140: 0 | T140: =S140*H140 -> 0 | AR140: 32 | AT140: M | AU140: 2 | AY140: ROZPOCET | BE140: =IF(N140="základní",J140,0) -> 0 | BF140: =IF(N140="snížená",J140,0) -> 0 | BG140: =IF(N140="zákl. přenesená",J140,0) -> 0 | BH140: =IF(N140="sníž. přenesená",J140,0) -> 0 | BI140: =IF(N140="nulová",J140,0) -> 0 | BJ140: 2 | BK140: =ROUND(I140*H140,2) -> 0 | BL140: 16 | BM140: -1452966337
C141: 5 | D141: M | E141: 34572331 | F141: páska stahovací kabelová 12,6x230mm | G141: 100 kus | H141: 7 | J141: =ROUND(I141*H141,2) -> 0 | N141: snížená | P141: =O141*H141 -> 0 | Q141: 0.00316 | R141: =Q141*H141 -> 0.02212 | S141: 0 | T141: =S141*H141 -> 0 | AR141: 32 | AT141: M | AU141: 2 | AY141: ROZPOCET | BE141: =IF(N141="základní",J141,0) -> 0 | BF141: =IF(N141="snížená",J141,0) -> 0 | BG141: =IF(N141="zákl. přenesená",J141,0) -> 0 | BH141: =IF(N141="sníž. přenesená",J141,0) -> 0 | BI141: =IF(N141="nulová",J141,0) -> 0 | BJ141: 2 | BK141: =ROUND(I141*H141,2) -> 0 | BL141: 16 | BM141: 724513728
C142: 6 | D142: K | E142: 741112001 | F142: Montáž krabice zapuštěná plastová kruhová | G142: kus | H142: 881 | J142: =ROUND(I142*H142,2) -> 0 | N142: snížená | P142: =O142*H142 -> 0 | Q142: 0 | R142: =Q142*H142 -> 0 | S142: 0 | T142: =S142*H142 -> 0 | AR142: 16 | AT142: K | AU142: 2 | AY142: ROZPOCET | BE142: =IF(N142="základní",J142,0) -> 0 | BF142: =IF(N142="snížená",J142,0) -> 0 | BG142: =IF(N142="zákl. přenesená",J142,0) -> 0 | BH142: =IF(N142="sníž. přenesená",J142,0) -> 0 | BI142: =IF(N142="nulová",J142,0) -> 0 | BJ142: 2 | BK142: =ROUND(I142*H142,2) -> 0 | BL142: 16 | BM142: 1838119514
D143: VV | F143: 90+760+15+16 | H143: 881 | AT143: VV | AU143: 2 | AV143: 2 | AW143: True | AX143: 0 | AY143: ROZPOCET
D144: VV | F144: Součet | H144: 881 | AT144: VV | AU144: 2 | AV144: 4 | AW144: True | AX144: 1 | AY144: ROZPOCET
C145: 7 | D145: M | E145: RMAT0004 | F145: krabice elektroinstalační hluboká KPR 68 | G145: kus | H145: 15 | J145: =ROUND(I145*H145,2) -> 0 | N145: snížená | P145: =O145*H145 -> 0 | Q145: 0 | R145: =Q145*H145 -> 0 | S145: 0 | T145: =S145*H145 -> 0 | AR145: 32 | AT145: M | AU145: 2 | AY145: ROZPOCET | BE145: =IF(N145="základní",J145,0) -> 0 | BF145: =IF(N145="snížená",J145,0) -> 0 | BG145: =IF(N145="zákl. přenesená",J145,0) -> 0 | BH145: =IF(N145="sníž. přenesená",J145,0) -> 0 | BI145: =IF(N145="nulová",J145,0) -> 0 | BJ145: 2 | BK145: =ROUND(I145*H145,2) -> 0 | BL145: 16 | BM145: 469444002
C146: 8 | D146: M | E146: RMAT0005 | F146: krabice elektroinstalační plastová rozbočovací s víčkem | G146: kus | H146: 90 | J146: =ROUND(I146*H146,2) -> 0 | N146: snížená | P146: =O146*H146 -> 0 | Q146: 0 | R146: =Q146*H146 -> 0 | S146: 0 | T146: =S146*H146 -> 0 | AR146: 32 | AT146: M | AU146: 2 | AY146: ROZPOCET | BE146: =IF(N146="základní",J146,0) -> 0 | BF146: =IF(N146="snížená",J146,0) -> 0 | BG146: =IF(N146="zákl. přenesená",J146,0) -> 0 | BH146: =IF(N146="sníž. přenesená",J146,0) -> 0 | BI146: =IF(N146="nulová",J146,0) -> 0 | BJ146: 2 | BK146: =ROUND(I146*H146,2) -> 0 | BL146: 16 | BM146: -1424929443
C147: 9 | D147: M | E147: RMAT0006 | F147: krabice elektroinstalační plastová universální KU68 | G147: kus | H147: 760 | J147: =ROUND(I147*H147,2) -> 0 | N147: snížená | P147: =O147*H147 -> 0 | Q147: 0 | R147: =Q147*H147 -> 0 | S147: 0 | T147: =S147*H147 -> 0 | AR147: 32 | AT147: M | AU147: 2 | AY147: ROZPOCET | BE147: =IF(N147="základní",J147,0) -> 0 | BF147: =IF(N147="snížená",J147,0) -> 0 | BG147: =IF(N147="zákl. přenesená",J147,0) -> 0 | BH147: =IF(N147="sníž. přenesená",J147,0) -> 0 | BI147: =IF(N147="nulová",J147,0) -> 0 | BJ147: 2 | BK147: =ROUND(I147*H147,2) -> 0 | BL147: 16 | BM147: -1475054220
C148: 10 | D148: M | E148: RMAT0006a | F148: krabice KR97 s víčkem a rozvodnicí | G148: ks | H148: 16 | J148: =ROUND(I148*H148,2) -> 0 | N148: snížená | P148: =O148*H148 -> 0 | Q148: 0 | R148: =Q148*H148 -> 0 | S148: 0 | T148: =S148*H148 -> 0 | AR148: 32 | AT148: M | AU148: 2 | AY148: ROZPOCET | BE148: =IF(N148="základní",J148,0) -> 0 | BF148: =IF(N148="snížená",J148,0) -> 0 | BG148: =IF(N148="zákl. přenesená",J148,0) -> 0 | BH148: =IF(N148="sníž. přenesená",J148,0) -> 0 | BI148: =IF(N148="nulová",J148,0) -> 0 | BJ148: 2 | BK148: =ROUND(I148*H148,2) -> 0 | BL148: 16 | BM148: -1247706221
C149: 11 | D149: K | E149: 741122015 | F149: Montáž kabel Cu bez ukončení uložený pod omítku plný kulatý 3x1,5 mm2 (např. CYKY, CYKFY) | G149: m | H149: 1830 | J149: =ROUND(I149*H149,2) -> 0 | N149: snížená | P149: =O149*H149 -> 0 | Q149: 0 | R149: =Q149*H149 -> 0 | S149: 0 | T149: =S149*H149 -> 0 | AR149: 16 | AT149: K | AU149: 2 | AY149: ROZPOCET | BE149: =IF(N149="základní",J149,0) -> 0 | BF149: =IF(N149="snížená",J149,0) -> 0 | BG149: =IF(N149="zákl. přenesená",J149,0) -> 0 | BH149: =IF(N149="sníž. přenesená",J149,0) -> 0 | BI149: =IF(N149="nulová",J149,0) -> 0 | BJ149: 2 | BK149: =ROUND(I149*H149,2) -> 0 | BL149: 16 | BM149: -1121869084
C150: 12 | D150: M | E150: 34111030 | F150: kabel instalační jádro Cu plné izolace PVC plášť PVC 450/750V (CYKY) 3x1,5mm2 | G150: m | H150: 1830 | J150: =ROUND(I150*H150,2) -> 0 | N150: snížená | P150: =O150*H150 -> 0 | Q150: 0.00012 | R150: =Q150*H150 -> 0.2196 | S150: 0 | T150: =S150*H150 -> 0 | AR150: 32 | AT150: M | AU150: 2 | AY150: ROZPOCET | BE150: =IF(N150="základní",J150,0) -> 0 | BF150: =IF(N150="snížená",J150,0) -> 0 | BG150: =IF(N150="zákl. přenesená",J150,0) -> 0 | BH150: =IF(N150="sníž. přenesená",J150,0) -> 0 | BI150: =IF(N150="nulová",J150,0) -> 0 | BJ150: 2 | BK150: =ROUND(I150*H150,2) -> 0 | BL150: 16 | BM150: -265880508
C151: 13 | D151: K | E151: 741122016 | F151: Montáž kabel Cu bez ukončení uložený pod omítku plný kulatý 3x2,5 až 6 mm2 (např. CYKY, CYKFY) | G151: m | H151: 2220 | J151: =ROUND(I151*H151,2) -> 0 | N151: snížená | P151: =O151*H151 -> 0 | Q151: 0 | R151: =Q151*H151 -> 0 | S151: 0 | T151: =S151*H151 -> 0 | AR151: 16 | AT151: K | AU151: 2 | AY151: ROZPOCET | BE151: =IF(N151="základní",J151,0) -> 0 | BF151: =IF(N151="snížená",J151,0) -> 0 | BG151: =IF(N151="zákl. přenesená",J151,0) -> 0 | BH151: =IF(N151="sníž. přenesená",J151,0) -> 0 | BI151: =IF(N151="nulová",J151,0) -> 0 | BJ151: 2 | BK151: =ROUND(I151*H151,2) -> 0 | BL151: 16 | BM151: -236126917
C152: 14 | D152: M | E152: 34111036 | F152: kabel instalační jádro Cu plné izolace PVC plášť PVC 450/750V (CYKY) 3x2,5mm2 | G152: m | H152: 2220 | J152: =ROUND(I152*H152,2) -> 0 | N152: snížená | P152: =O152*H152 -> 0 | Q152: 0.00017 | R152: =Q152*H152 -> 0.3774 | S152: 0 | T152: =S152*H152 -> 0 | AR152: 32 | AT152: M | AU152: 2 | AY152: ROZPOCET | BE152: =IF(N152="základní",J152,0) -> 0 | BF152: =IF(N152="snížená",J152,0) -> 0 | BG152: =IF(N152="zákl. přenesená",J152,0) -> 0 | BH152: =IF(N152="sníž. přenesená",J152,0) -> 0 | BI152: =IF(N152="nulová",J152,0) -> 0 | BJ152: 2 | BK152: =ROUND(I152*H152,2) -> 0 | BL152: 16 | BM152: 1050794582
C153: 15 | D153: K | E153: 741122031 | F153: Montáž kabel Cu bez ukončení uložený pod omítku plný kulatý 5x1,5 až 2,5 mm2 (např. CYKY, CYKFY) | G153: m | H153: 470 | J153: =ROUND(I153*H153,2) -> 0 | N153: snížená | P153: =O153*H153 -> 0 | Q153: 0 | R153: =Q153*H153 -> 0 | S153: 0 | T153: =S153*H153 -> 0 | AR153: 16 | AT153: K | AU153: 2 | AY153: ROZPOCET | BE153: =IF(N153="základní",J153,0) -> 0 | BF153: =IF(N153="snížená",J153,0) -> 0 | BG153: =IF(N153="zákl. přenesená",J153,0) -> 0 | BH153: =IF(N153="sníž. přenesená",J153,0) -> 0 | BI153: =IF(N153="nulová",J153,0) -> 0 | BJ153: 2 | BK153: =ROUND(I153*H153,2) -> 0 | BL153: 16 | BM153: -245686011
D154: VV | F154: 320+150 | H154: 470 | AT154: VV | AU154: 2 | AV154: 2 | AW154: True | AX154: 1 | AY154: ROZPOCET
C155: 16 | D155: M | E155: 34111090 | F155: kabel instalační jádro Cu plné izolace PVC plášť PVC 450/750V (CYKY) 5x1,5mm2 | G155: m | H155: 320 | J155: =ROUND(I155*H155,2) -> 0 | N155: snížená | P155: =O155*H155 -> 0 | Q155: 0.00016 | R155: =Q155*H155 -> 0.0512 | S155: 0 | T155: =S155*H155 -> 0 | AR155: 32 | AT155: M | AU155: 2 | AY155: ROZPOCET | BE155: =IF(N155="základní",J155,0) -> 0 | BF155: =IF(N155="snížená",J155,0) -> 0 | BG155: =IF(N155="zákl. přenesená",J155,0) -> 0 | BH155: =IF(N155="sníž. přenesená",J155,0) -> 0 | BI155: =IF(N155="nulová",J155,0) -> 0 | BJ155: 2 | BK155: =ROUND(I155*H155,2) -> 0 | BL155: 16 | BM155: -2147458624
C156: 17 | D156: M | E156: 34111094 | F156: kabel instalační jádro Cu plné izolace PVC plášť PVC 450/750V (CYKY) 5x2,5mm2 | G156: m | H156: 150 | J156: =ROUND(I156*H156,2) -> 0 | N156: snížená | P156: =O156*H156 -> 0 | Q156: 0.00025 | R156: =Q156*H156 -> 0.0375 | S156: 0 | T156: =S156*H156 -> 0 | AR156: 32 | AT156: M | AU156: 2 | AY156: ROZPOCET | BE156: =IF(N156="základní",J156,0) -> 0 | BF156: =IF(N156="snížená",J156,0) -> 0 | BG156: =IF(N156="zákl. přenesená",J156,0) -> 0 | BH156: =IF(N156="sníž. přenesená",J156,0) -> 0 | BI156: =IF(N156="nulová",J156,0) -> 0 | BJ156: 2 | BK156: =ROUND(I156*H156,2) -> 0 | BL156: 16 | BM156: 1734884931
C157: 18 | D157: K | E157: 741310001 | F157: Montáž spínač nástěnný 1-jednopólový prostředí normální se zapojením vodičů | G157: kus | H157: 58 | J157: =ROUND(I157*H157,2) -> 0 | N157: snížená | P157: =O157*H157 -> 0 | Q157: 0 | R157: =Q157*H157 -> 0 | S157: 0 | T157: =S157*H157 -> 0 | AR157: 16 | AT157: K | AU157: 2 | AY157: ROZPOCET | BE157: =IF(N157="základní",J157,0) -> 0 | BF157: =IF(N157="snížená",J157,0) -> 0 | BG157: =IF(N157="zákl. přenesená",J157,0) -> 0 | BH157: =IF(N157="sníž. přenesená",J157,0) -> 0 | BI157: =IF(N157="nulová",J157,0) -> 0 | BJ157: 2 | BK157: =ROUND(I157*H157,2) -> 0 | BL157: 16 | BM157: 47734381
D158: VV | F158: 43+15 | H158: 58 | AT158: VV | AU158: 2 | AV158: 2 | AW158: True | AX158: 0 | AY158: ROZPOCET
D159: VV | F159: Součet | H159: 58 | AT159: VV | AU159: 2 | AV159: 4 | AW159: True | AX159: 1 | AY159: ROZPOCET
C160: 19 | D160: M | E160: RMAT0002 | F160: spínač kompletní dle knihy standardů PD | G160: kus | H160: 58 | J160: =ROUND(I160*H160,2) -> 0 | N160: snížená | P160: =O160*H160 -> 0 | Q160: 0 | R160: =Q160*H160 -> 0 | S160: 0 | T160: =S160*H160 -> 0 | AR160: 32 | AT160: M | AU160: 2 | AY160: ROZPOCET | BE160: =IF(N160="základní",J160,0) -> 0 | BF160: =IF(N160="snížená",J160,0) -> 0 | BG160: =IF(N160="zákl. přenesená",J160,0) -> 0 | BH160: =IF(N160="sníž. přenesená",J160,0) -> 0 | BI160: =IF(N160="nulová",J160,0) -> 0 | BJ160: 2 | BK160: =ROUND(I160*H160,2) -> 0 | BL160: 16 | BM160: -508983398
C161: 20 | D161: K | E161: 741310003 | F161: Montáž spínač žaluziový | G161: kus | H161: 12 | J161: =ROUND(I161*H161,2) -> 0 | N161: snížená | P161: =O161*H161 -> 0 | Q161: 0 | R161: =Q161*H161 -> 0 | S161: 0 | T161: =S161*H161 -> 0 | AR161: 16 | AT161: K | AU161: 2 | AY161: ROZPOCET | BE161: =IF(N161="základní",J161,0) -> 0 | BF161: =IF(N161="snížená",J161,0) -> 0 | BG161: =IF(N161="zákl. přenesená",J161,0) -> 0 | BH161: =IF(N161="sníž. přenesená",J161,0) -> 0 | BI161: =IF(N161="nulová",J161,0) -> 0 | BJ161: 2 | BK161: =ROUND(I161*H161,2) -> 0 | BL161: 16 | BM161: -813969593
D162: VV | F162: 12 | H162: 12 | AT162: VV | AU162: 2 | AV162: 2 | AW162: True | AX162: 0 | AY162: ROZPOCET
...

Sheet d - Hromosvod
L2: >> skryté sloupce << | AT2: {e89c2907-551f-4013-a1a9-fe3f6c0f1e0b}
AT3: 1
D4: KRYCÍ LIST SOUPISU PRACÍ | M4: v --- níže se nacházejí doplnkové a pomocné údaje k sestavám --- v | AT4: False
D6: Stavba:
E7: ='Rekapitulace stavby'!K6 -> Bytový dům Líbeznice, Martinova 142
D8: Objekt:
E9: 03 - TZB
D10: Soupis:
E11: 04 - Silnoproud
D12: Úroveň 3:
E13: d - Hromosvod
D15: KSO: | I15: CC-CZ:
D16: Místo: | F16: Líbeznice | I16: Datum: | J16: ='Rekapitulace stavby'!AN8 -> 3. 11. 2025
D18: Zadavatel: | I18: IČ:
I19: DIČ:
D21: Uchazeč: | I21: IČ: | J21: ='Rekapitulace stavby'!AN13 -> Vyplň údaj
E22: ='Rekapitulace stavby'!E14 -> Vyplň údaj | I22: DIČ: | J22: ='Rekapitulace stavby'!AN14 -> Vyplň údaj
D24: Projektant: | I24: IČ:
I25: DIČ:
D27: Zpracovatel: | I27: IČ:
E28: Krajovský | I28: DIČ:
D30: Poznámka:
D34: Cena bez DPH | J34: =ROUND(J130, 2) -> 0
F36: Základ daně | I36: Sazba daně | J36: Výše daně
D37: DPH | E37: základní | F37: =ROUND((SUM(BE130:BE168)), 2) -> 0 | I37: 0.21 | J37: =ROUND(((SUM(BE130:BE168))*I37), 2) -> 0
E38: snížená | F38: =ROUND((SUM(BF130:BF168)), 2) -> 0 | I38: 0.12 | J38: =ROUND(((SUM(BF130:BF168))*I38), 2) -> 0
E39: zákl. přenesená | F39: =ROUND((SUM(BG130:BG168)), 2) -> 0 | I39: 0.21 | J39: =0 -> 0
E40: sníž. přenesená | F40: =ROUND((SUM(BH130:BH168)), 2) -> 0 | I40: 0.12 | J40: =0 -> 0
E41: nulová | F41: =ROUND((SUM(BI130:BI168)), 2) -> 0 | I41: 0 | J41: =0 -> 0
D43: Cena s DPH | G43: v | H43: CZK | J43: =SUM(J34:J41) -> 0
D50: Projektant | G50: Zpracovatel
D61: Datum a podpis: | F61: Razítko | G61: Datum a podpis: | J61: Razítko
D65: Objednavatel | G65: Uchazeč
D76: Datum a podpis: | F76: Razítko | G76: Datum a podpis: | J76: Razítko
C82: REKAPITULACE ČLENĚNÍ SOUPISU PRACÍ
C84: Stavba:
E85: =E7 -> Bytový dům Líbeznice, Martinova 142
C86: Objekt:
E87: 03 - TZB
C88: Soupis:
E89: 04 - Silnoproud
C90: Úroveň 3:
E91: =E13 -> d - Hromosvod
C93: Místo: | F93: =F16 -> Líbeznice | I93: Datum: | J93: =IF(J16="","",J16) -> 3. 11. 2025
C95: Zadavatel: | F95: =E19 | I95: Projektant: | J95: =E25
C96: Uchazeč: | F96: =IF(E22="","",E22) -> Vyplň údaj | I96: Zpracovatel: | J96: =E28 -> Krajovský
C98: Kód dílu - Popis | J98: Cena celkem [CZK]
C100: Náklady ze soupisu prací | J100: =J130 -> 0 | AU100: -1
D101: HSV - Práce a dodávky HSV | J101: =J131 -> 0
D102: 9 - Ostatní konstrukce a práce, bourání | J102: =J132 -> 0
D103: PSV - Práce a dodávky PSV | J103: =J134 -> 0
D104: 741 - Elektroinstalace - silnoproud | J104: =J135 -> 0
D105: HZS - Hodinové zúčtovací sazby | J105: =J160 -> 0
D106: Ostatní - Ostatní | J106: =J165 -> 0
C113: SOUPIS PRACÍ
C115: Stavba:
E116: =E7 -> Bytový dům Líbeznice, Martinova 142
C117: Objekt:
E118: 03 - TZB
C119: Soupis:
E120: 04 - Silnoproud
C121: Úroveň 3:
E122: =E13 -> d - Hromosvod
C124: Místo: | F124: =F16 -> Líbeznice | I124: Datum: | J124: =IF(J16="","",J16) -> 3. 11. 2025
C126: Zadavatel: | F126: =E19 | I126: Projektant: | J126: =E25
C127: Uchazeč: | F127: =IF(E22="","",E22) -> Vyplň údaj | I127: Zpracovatel: | J127: =E28 -> Krajovský
C129: PČ | D129: Typ | E129: Kód | F129: Popis | G129: MJ | H129: Množství | I129: J.cena [CZK] | J129: Cena celkem [CZK] | K129: Cenová soustava | N129: DPH | O129: J. Nh [h] | P129: Nh celkem [h] | Q129: J. hmotnost [t] | R129: Hmotnost celkem [t] | S129: J. suť [t] | T129: Suť Celkem [t]
C130: Náklady soupisu celkem | J130: =BK130 -> 0 | P130: =P131+P134+P160+P165 -> 0 | R130: =R131+R134+R160+R165 -> 0.21325 | T130: =T131+T134+T160+T165 -> 0 | AT130: D | AU130: -1 | BK130: =BK131+BK134+BK160+BK165 -> 0
D131: D | E131: HSV | F131: Práce a dodávky HSV | J131: =BK131 -> 0 | P131: =P132 -> 0 | R131: =R132 -> 0 | T131: =T132 -> 0 | AR131: 1 | AT131: D | AU131: 0 | AY131: ROZPOCET | BK131: =BK132 -> 0
D132: D | E132: 9 | F132: Ostatní konstrukce a práce, bourání | J132: =BK132 -> 0 | P132: =P133 -> 0 | R132: =R133 -> 0 | T132: =T133 -> 0 | AR132: 1 | AT132: D | AU132: 1 | AY132: ROZPOCET | BK132: =BK133 -> 0
C133: 1 | D133: K | E133: 945421110 | F133: Hydraulická zvedací plošina na automobilovém podvozku výška zdvihu do 18 m včetně obsluhy | G133: hod | H133: 48 | J133: =ROUND(I133*H133,2) -> 0 | N133: snížená | P133: =O133*H133 -> 0 | Q133: 0 | R133: =Q133*H133 -> 0 | S133: 0 | T133: =S133*H133 -> 0 | AR133: 4 | AT133: K | AU133: 2 | AY133: ROZPOCET | BE133: =IF(N133="základní",J133,0) -> 0 | BF133: =IF(N133="snížená",J133,0) -> 0 | BG133: =IF(N133="zákl. přenesená",J133,0) -> 0 | BH133: =IF(N133="sníž. přenesená",J133,0) -> 0 | BI133: =IF(N133="nulová",J133,0) -> 0 | BJ133: 2 | BK133: =ROUND(I133*H133,2) -> 0 | BL133: 4 | BM133: 1280650761
D134: D | E134: PSV | F134: Práce a dodávky PSV | J134: =BK134 -> 0 | P134: =P135 -> 0 | R134: =R135 -> 0.21325 | T134: =T135 -> 0 | AR134: 2 | AT134: D | AU134: 0 | AY134: ROZPOCET | BK134: =BK135 -> 0
D135: D | E135: 741 | F135: Elektroinstalace - silnoproud | J135: =BK135 -> 0 | P135: =SUM(P136:P159) -> 0 | R135: =SUM(R136:R159) -> 0.21325 | T135: =SUM(T136:T159) -> 0 | AR135: 2 | AT135: D | AU135: 1 | AY135: ROZPOCET | BK135: =SUM(BK136:BK159) -> 0
C136: 2 | D136: K | E136: 741410001 | F136: Montáž pásku uzemňovacího průřezu do 120 mm2 na povrchu | G136: m | H136: 115 | J136: =ROUND(I136*H136,2) -> 0 | N136: snížená | P136: =O136*H136 -> 0 | Q136: 0 | R136: =Q136*H136 -> 0 | S136: 0 | T136: =S136*H136 -> 0 | AR136: 16 | AT136: K | AU136: 2 | AY136: ROZPOCET | BE136: =IF(N136="základní",J136,0) -> 0 | BF136: =IF(N136="snížená",J136,0) -> 0 | BG136: =IF(N136="zákl. přenesená",J136,0) -> 0 | BH136: =IF(N136="sníž. přenesená",J136,0) -> 0 | BI136: =IF(N136="nulová",J136,0) -> 0 | BJ136: 2 | BK136: =ROUND(I136*H136,2) -> 0 | BL136: 16 | BM136: 278550673
C137: 3 | D137: M | E137: RMAT0001 | F137: pásek uzemňovacíV4A 40*4mm | G137: kg | H137: 115 | J137: =ROUND(I137*H137,2) -> 0 | N137: snížená | P137: =O137*H137 -> 0 | Q137: 0 | R137: =Q137*H137 -> 0 | S137: 0 | T137: =S137*H137 -> 0 | AR137: 32 | AT137: M | AU137: 2 | AY137: ROZPOCET | BE137: =IF(N137="základní",J137,0) -> 0 | BF137: =IF(N137="snížená",J137,0) -> 0 | BG137: =IF(N137="zákl. přenesená",J137,0) -> 0 | BH137: =IF(N137="sníž. přenesená",J137,0) -> 0 | BI137: =IF(N137="nulová",J137,0) -> 0 | BJ137: 2 | BK137: =ROUND(I137*H137,2) -> 0 | BL137: 16 | BM137: 1132289548
C138: 4 | D138: K | E138: 741420001 | F138: Montáž drát nebo lano hromosvodné svodové D do 10 mm s podpěrou | G138: m | H138: 291 | J138: =ROUND(I138*H138,2) -> 0 | N138: snížená | P138: =O138*H138 -> 0 | Q138: 0 | R138: =Q138*H138 -> 0 | S138: 0 | T138: =S138*H138 -> 0 | AR138: 16 | AT138: K | AU138: 2 | AY138: ROZPOCET | BE138: =IF(N138="základní",J138,0) -> 0 | BF138: =IF(N138="snížená",J138,0) -> 0 | BG138: =IF(N138="zákl. přenesená",J138,0) -> 0 | BH138: =IF(N138="sníž. přenesená",J138,0) -> 0 | BI138: =IF(N138="nulová",J138,0) -> 0 | BJ138: 2 | BK138: =ROUND(I138*H138,2) -> 0 | BL138: 16 | BM138: 2133345
D139: VV | F139: 36+255 | H139: 291 | AT139: VV | AU139: 2 | AV139: 2 | AW139: True | AX139: 0 | AY139: ROZPOCET
D140: VV | F140: Součet | H140: 291 | AT140: VV | AU140: 2 | AV140: 4 | AW140: True | AX140: 1 | AY140: ROZPOCET
C141: 5 | D141: M | E141: 35441077 | F141: drát D 8mm AlMgSi | G141: kg | H141: 120 | J141: =ROUND(I141*H141,2) -> 0 | N141: snížená | P141: =O141*H141 -> 0 | Q141: 0.001 | R141: =Q141*H141 -> 0.12 | S141: 0 | T141: =S141*H141 -> 0 | AR141: 32 | AT141: M | AU141: 2 | AY141: ROZPOCET | BE141: =IF(N141="základní",J141,0) -> 0 | BF141: =IF(N141="snížená",J141,0) -> 0 | BG141: =IF(N141="zákl. přenesená",J141,0) -> 0 | BH141: =IF(N141="sníž. přenesená",J141,0) -> 0 | BI141: =IF(N141="nulová",J141,0) -> 0 | BJ141: 2 | BK141: =ROUND(I141*H141,2) -> 0 | BL141: 16 | BM141: -1439695325
C142: 6 | D142: M | E142: 35442135 | F142: drát D 10/13mm FeZn + PVC | G142: kg | H142: 15 | J142: =ROUND(I142*H142,2) -> 0 | N142: snížená | P142: =O142*H142 -> 0 | Q142: 0.001 | R142: =Q142*H142 -> 0.015 | S142: 0 | T142: =S142*H142 -> 0 | AR142: 32 | AT142: M | AU142: 2 | AY142: ROZPOCET | BE142: =IF(N142="základní",J142,0) -> 0 | BF142: =IF(N142="snížená",J142,0) -> 0 | BG142: =IF(N142="zákl. přenesená",J142,0) -> 0 | BH142: =IF(N142="sníž. přenesená",J142,0) -> 0 | BI142: =IF(N142="nulová",J142,0) -> 0 | BJ142: 2 | BK142: =ROUND(I142*H142,2) -> 0 | BL142: 16 | BM142: -1877715556
C143: 7 | D143: K | E143: 741420021 | F143: Montáž svorka hromosvodná se 2 šrouby | G143: kus | H143: 89 | J143: =ROUND(I143*H143,2) -> 0 | N143: snížená | P143: =O143*H143 -> 0 | Q143: 0 | R143: =Q143*H143 -> 0 | S143: 0 | T143: =S143*H143 -> 0 | AR143: 16 | AT143: K | AU143: 2 | AY143: ROZPOCET | BE143: =IF(N143="základní",J143,0) -> 0 | BF143: =IF(N143="snížená",J143,0) -> 0 | BG143: =IF(N143="zákl. přenesená",J143,0) -> 0 | BH143: =IF(N143="sníž. přenesená",J143,0) -> 0 | BI143: =IF(N143="nulová",J143,0) -> 0 | BJ143: 2 | BK143: =ROUND(I143*H143,2) -> 0 | BL143: 16 | BM143: 634928744
D144: VV | F144: 7+30+7+4+9+12+20 | H144: 89 | AT144: VV | AU144: 2 | AV144: 2 | AW144: True | AX144: 0 | AY144: ROZPOCET
D145: VV | F145: Součet | H145: 89 | AT145: VV | AU145: 2 | AV145: 4 | AW145: True | AX145: 1 | AY145: ROZPOCET
C146: 8 | D146: M | E146: RMAT0002 | F146: svorka SS | G146: kus | H146: 30 | J146: =ROUND(I146*H146,2) -> 0 | N146: snížená | P146: =O146*H146 -> 0 | Q146: 0 | R146: =Q146*H146 -> 0 | S146: 0 | T146: =S146*H146 -> 0 | AR146: 32 | AT146: M | AU146: 2 | AY146: ROZPOCET | BE146: =IF(N146="základní",J146,0) -> 0 | BF146: =IF(N146="snížená",J146,0) -> 0 | BG146: =IF(N146="zákl. přenesená",J146,0) -> 0 | BH146: =IF(N146="sníž. přenesená",J146,0) -> 0 | BI146: =IF(N146="nulová",J146,0) -> 0 | BJ146: 2 | BK146: =ROUND(I146*H146,2) -> 0 | BL146: 16 | BM146: 363556689
C147: 9 | D147: M | E147: RMAT0003 | F147: svorka SO | G147: kus | H147: 7 | J147: =ROUND(I147*H147,2) -> 0 | N147: snížená | P147: =O147*H147 -> 0 | Q147: 0 | R147: =Q147*H147 -> 0 | S147: 0 | T147: =S147*H147 -> 0 | AR147: 32 | AT147: M | AU147: 2 | AY147: ROZPOCET | BE147: =IF(N147="základní",J147,0) -> 0 | BF147: =IF(N147="snížená",J147,0) -> 0 | BG147: =IF(N147="zákl. přenesená",J147,0) -> 0 | BH147: =IF(N147="sníž. přenesená",J147,0) -> 0 | BI147: =IF(N147="nulová",J147,0) -> 0 | BJ147: 2 | BK147: =ROUND(I147*H147,2) -> 0 | BL147: 16 | BM147: -1940023187
C148: 10 | D148: M | E148: RMAT0004 | F148: svorka SK | G148: kus | H148: 4 | J148: =ROUND(I148*H148,2) -> 0 | N148: snížená | P148: =O148*H148 -> 0 | Q148: 0 | R148: =Q148*H148 -> 0 | S148: 0 | T148: =S148*H148 -> 0 | AR148: 32 | AT148: M | AU148: 2 | AY148: ROZPOCET | BE148: =IF(N148="základní",J148,0) -> 0 | BF148: =IF(N148="snížená",J148,0) -> 0 | BG148: =IF(N148="zákl. přenesená",J148,0) -> 0 | BH148: =IF(N148="sníž. přenesená",J148,0) -> 0 | BI148: =IF(N148="nulová",J148,0) -> 0 | BJ148: 2 | BK148: =ROUND(I148*H148,2) -> 0 | BL148: 16 | BM148: -43807103
C149: 11 | D149: M | E149: RMAT0005 | F149: svorka ST SJ SR SJ01FE | G149: kus | H149: 9 | J149: =ROUND(I149*H149,2) -> 0 | N149: snížená | P149: =O149*H149 -> 0 | Q149: 0 | R149: =Q149*H149 -> 0 | S149: 0 | T149: =S149*H149 -> 0 | AR149: 32 | AT149: M | AU149: 2 | AY149: ROZPOCET | BE149: =IF(N149="základní",J149,0) -> 0 | BF149: =IF(N149="snížená",J149,0) -> 0 | BG149: =IF(N149="zákl. přenesená",J149,0) -> 0 | BH149: =IF(N149="sníž. přenesená",J149,0) -> 0 | BI149: =IF(N149="nulová",J149,0) -> 0 | BJ149: 2 | BK149: =ROUND(I149*H149,2) -> 0 | BL149: 16 | BM149: -2017200015
C150: 12 | D150: M | E150: RMAT0006 | F150: svorka ST SJ SR SR2b | G150: kus | H150: 12 | J150: =ROUND(I150*H150,2) -> 0 | N150: snížená | P150: =O150*H150 -> 0 | Q150: 0 | R150: =Q150*H150 -> 0 | S150: 0 | T150: =S150*H150 -> 0 | AR150: 32 | AT150: M | AU150: 2 | AY150: ROZPOCET | BE150: =IF(N150="základní",J150,0) -> 0 | BF150: =IF(N150="snížená",J150,0) -> 0 | BG150: =IF(N150="zákl. přenesená",J150,0) -> 0 | BH150: =IF(N150="sníž. přenesená",J150,0) -> 0 | BI150: =IF(N150="nulová",J150,0) -> 0 | BJ150: 2 | BK150: =ROUND(I150*H150,2) -> 0 | BL150: 16 | BM150: 533527833
C151: 13 | D151: M | E151: RMAT0007 | F151: svorka ST SR SJ SR3b | G151: kus | H151: 20 | J151: =ROUND(I151*H151,2) -> 0 | N151: snížená | P151: =O151*H151 -> 0 | Q151: 0 | R151: =Q151*H151 -> 0 | S151: 0 | T151: =S151*H151 -> 0 | AR151: 32 | AT151: M | AU151: 2 | AY151: ROZPOCET | BE151: =IF(N151="základní",J151,0) -> 0 | BF151: =IF(N151="snížená",J151,0) -> 0 | BG151: =IF(N151="zákl. přenesená",J151,0) -> 0 | BH151: =IF(N151="sníž. přenesená",J151,0) -> 0 | BI151: =IF(N151="nulová",J151,0) -> 0 | BJ151: 2 | BK151: =ROUND(I151*H151,2) -> 0 | BL151: 16 | BM151: 1509910823
C152: 14 | D152: K | E152: 741420051 | F152: Montáž vedení hromosvodné-úhelník nebo trubka s držáky do zdiva | G152: kus | H152: 14 | J152: =ROUND(I152*H152,2) -> 0 | N152: snížená | P152: =O152*H152 -> 0 | Q152: 0 | R152: =Q152*H152 -> 0 | S152: 0 | T152: =S152*H152 -> 0 | AR152: 16 | AT152: K | AU152: 2 | AY152: ROZPOCET | BE152: =IF(N152="základní",J152,0) -> 0 | BF152: =IF(N152="snížená",J152,0) -> 0 | BG152: =IF(N152="zákl. přenesená",J152,0) -> 0 | BH152: =IF(N152="sníž. přenesená",J152,0) -> 0 | BI152: =IF(N152="nulová",J152,0) -> 0 | BJ152: 2 | BK152: =ROUND(I152*H152,2) -> 0 | BL152: 16 | BM152: -1704269865
C153: 15 | D153: M | E153: 35441830 | F153: úhelník ochranný na ochranu svodu - 1700mm, FeZn | G153: kus | H153: 14 | J153: =ROUND(I153*H153,2) -> 0 | N153: snížená | P153: =O153*H153 -> 0 | Q153: 0.002 | R153: =Q153*H153 -> 0.028 | S153: 0 | T153: =S153*H153 -> 0 | AR153: 32 | AT153: M | AU153: 2 | AY153: ROZPOCET | BE153: =IF(N153="základní",J153,0) -> 0 | BF153: =IF(N153="snížená",J153,0) -> 0 | BG153: =IF(N153="zákl. přenesená",J153,0) -> 0 | BH153: =IF(N153="sníž. přenesená",J153,0) -> 0 | BI153: =IF(N153="nulová",J153,0) -> 0 | BJ153: 2 | BK153: =ROUND(I153*H153,2) -> 0 | BL153: 16 | BM153: 934891560
C154: 16 | D154: K | E154: 741430004 | F154: Montáž tyč jímací délky do 3 m na střešní hřeben | G154: kus | H154: 7 | J154: =ROUND(I154*H154,2) -> 0 | N154: snížená | P154: =O154*H154 -> 0 | Q154: 0 | R154: =Q154*H154 -> 0 | S154: 0 | T154: =S154*H154 -> 0 | AR154: 16 | AT154: K | AU154: 2 | AY154: ROZPOCET | BE154: =IF(N154="základní",J154,0) -> 0 | BF154: =IF(N154="snížená",J154,0) -> 0 | BG154: =IF(N154="zákl. přenesená",J154,0) -> 0 | BH154: =IF(N154="sníž. přenesená",J154,0) -> 0 | BI154: =IF(N154="nulová",J154,0) -> 0 | BJ154: 2 | BK154: =ROUND(I154*H154,2) -> 0 | BL154: 16 | BM154: -310975434
C155: 17 | D155: M | E155: 35442152 | F155: tyč jímací s rovným koncem 16/10 2000 (1000/1000)mm AlMgSi | G155: kus | H155: 7 | J155: =ROUND(I155*H155,2) -> 0 | N155: snížená | P155: =O155*H155 -> 0 | Q155: 0.00077 | R155: =Q155*H155 -> 0.00539 | S155: 0 | T155: =S155*H155 -> 0 | AR155: 32 | AT155: M | AU155: 2 | AY155: ROZPOCET | BE155: =IF(N155="základní",J155,0) -> 0 | BF155: =IF(N155="snížená",J155,0) -> 0 | BG155: =IF(N155="zákl. přenesená",J155,0) -> 0 | BH155: =IF(N155="sníž. přenesená",J155,0) -> 0 | BI155: =IF(N155="nulová",J155,0) -> 0 | BJ155: 2 | BK155: =ROUND(I155*H155,2) -> 0 | BL155: 16 | BM155: -781666237
C156: 18 | D156: K | E156: 741430011 | F156: Montáž tyč jímací délky přes 3 m na střešní hřeben | G156: kus | H156: 2 | J156: =ROUND(I156*H156,2) -> 0 | N156: snížená | P156: =O156*H156 -> 0 | Q156: 0 | R156: =Q156*H156 -> 0 | S156: 0 | T156: =S156*H156 -> 0 | AR156: 16 | AT156: K | AU156: 2 | AY156: ROZPOCET | BE156: =IF(N156="základní",J156,0) -> 0 | BF156: =IF(N156="snížená",J156,0) -> 0 | BG156: =IF(N156="zákl. přenesená",J156,0) -> 0 | BH156: =IF(N156="sníž. přenesená",J156,0) -> 0 | BI156: =IF(N156="nulová",J156,0) -> 0 | BJ156: 2 | BK156: =ROUND(I156*H156,2) -> 0 | BL156: 16 | BM156: 438832712
C157: 19 | D157: M | E157: 35442154 | F157: tyč jímací s rovným koncem 16/10 4000 (3000/1000)mm AlMgSi | G157: kus | H157: 2 | J157: =ROUND(I157*H157,2) -> 0 | N157: snížená | P157: =O157*H157 -> 0 | Q157: 0.0015 | R157: =Q157*H157 -> 0.003 | S157: 0 | T157: =S157*H157 -> 0 | AR157: 32 | AT157: M | AU157: 2 | AY157: ROZPOCET | BE157: =IF(N157="základní",J157,0) -> 0 | BF157: =IF(N157="snížená",J157,0) -> 0 | BG157: =IF(N157="zákl. přenesená",J157,0) -> 0 | BH157: =IF(N157="sníž. přenesená",J157,0) -> 0 | BI157: =IF(N157="nulová",J157,0) -> 0 | BJ157: 2 | BK157: =ROUND(I157*H157,2) -> 0 | BL157: 16 | BM157: 711937962
... C159: 21 | D159: M | E159: 35442127 | F159: tyč zemnící 1,5 m FeZn se svorkou | G159: kus | H159: 7 | J159: =ROUND(I159*H159,2) -> 0 | N159: snížená | P159: =O159*H159 -> 0 | Q159: 0.00598 | R159: =Q159*H159 -> 0.04186 | S159: 0 | T159: =S159*H159 -> 0 | AR159: 32 | AT159: M | AU159: 2 | AY159: ROZPOCET | BE159: =IF(N159="základní",J159,0) -> 0 | BF159: =IF(N159="snížená",J159,0) -> 0 | BG159: =IF(N159="zákl. přenesená",J159,0) -> 0 | BH159: =IF(N159="sníž. přenesená",J159,0) -> 0 | BI159: =IF(N159="nulová",J159,0) -> 0 | BJ159: 2 | BK159: =ROUND(I159*H159,2) -> 0 | BL159: 16 | BM159: -949876131
D160: D | E160: HZS | F160: Hodinové zúčtovací sazby | J160: =BK160 -> 0 | P160: =SUM(P161:P164) -> 0 | R160: =SUM(R161:R164) -> 0 | T160: =SUM(T161:T164) -> 0 | AR160: 4 | AT160: D | AU160: 0 | AY160: ROZPOCET | BK160: =SUM(BK161:BK164) -> 0
C161: 22 | D161: K | E161: HZS2231 | F161: Hodinová zúčtovací sazba elektrikář | G161: hod | H161: 18 | J161: =ROUND(I161*H161,2) -> 0 | N161: snížená | P161: =O161*H161 -> 0 | Q161: 0 | R161: =Q161*H161 -> 0 | S161: 0 | T161: =S161*H161 -> 0 | AR161: 512 | AT161: K | AU161: 1 | AY161: ROZPOCET | BE161: =IF(N161="základní",J161,0) -> 0 | BF161: =IF(N161="snížená",J161,0) -> 0 | BG161: =IF(N161="zákl. přenesená",J161,0) -> 0 | BH161: =IF(N161="sníž. přenesená",J161,0) -> 0 | BI161: =IF(N161="nulová",J161,0) -> 0 | BJ161: 2 | BK161: =ROUND(I161*H161,2) -> 0 | BL161: 512 | BM161: 1536798445
D162: VV | F162: Demontáž stávajícího zařízení | AT162: VV | AU162: 1 | AV162: 1 | AW162: True | AX162: 0 | AY162: ROZPOCET
D163: VV | F163: 18 | H163: 18 | AT163: VV | AU163: 1 | AV163: 2 | AW163: True | AX163: 0 | AY163: ROZPOCET
...

Sheet a - Společné prostory_01
L2: >> skryté sloupce << | AT2: {98d3d525-3f8f-4e5f-9ef5-118ff7461b59}
AT3: 1
D4: KRYCÍ LIST SOUPISU PRACÍ | M4: v --- níže se nacházejí doplnkové a pomocné údaje k sestavám --- v | AT4: False
D6: Stavba:
E7: ='Rekapitulace stavby'!K6 -> Bytový dům Líbeznice, Martinova 142
D8: Objekt:
E9: 03 - TZB
D10: Soupis:
E11: 05 - Slaboproud
D12: Úroveň 3:
E13: a - Společné prostory
D15: KSO: | I15: CC-CZ:
D16: Místo: | F16: Líbeznice | I16: Datum: | J16: ='Rekapitulace stavby'!AN8 -> 3. 11. 2025
D18: Zadavatel: | I18: IČ:
I19: DIČ:
D21: Uchazeč: | I21: IČ: | J21: ='Rekapitulace stavby'!AN13 -> Vyplň údaj
E22: ='Rekapitulace stavby'!E14 -> Vyplň údaj | I22: DIČ: | J22: ='Rekapitulace stavby'!AN14 -> Vyplň údaj
D24: Projektant: | I24: IČ:
I25: DIČ:
D27: Zpracovatel: | I27: IČ:
E28: Krajovský | I28: DIČ:
D30: Poznámka:
D34: Cena bez DPH | J34: =ROUND(J131, 2) -> 0
F36: Základ daně | I36: Sazba daně | J36: Výše daně
D37: DPH | E37: základní | F37: =ROUND((SUM(BE131:BE205)), 2) -> 0 | I37: 0.21 | J37: =ROUND(((SUM(BE131:BE205))*I37), 2) -> 0
E38: snížená | F38: =ROUND((SUM(BF131:BF205)), 2) -> 0 | I38: 0.12 | J38: =ROUND(((SUM(BF131:BF205))*I38), 2) -> 0
E39: zákl. přenesená | F39: =ROUND((SUM(BG131:BG205)), 2) -> 0 | I39: 0.21 | J39: =0 -> 0
E40: sníž. přenesená | F40: =ROUND((SUM(BH131:BH205)), 2) -> 0 | I40: 0.12 | J40: =0 -> 0
E41: nulová | F41: =ROUND((SUM(BI131:BI205)), 2) -> 0 | I41: 0 | J41: =0 -> 0
D43: Cena s DPH | G43: v | H43: CZK | J43: =SUM(J34:J41) -> 0
D50: Projektant | G50: Zpracovatel
D61: Datum a podpis: | F61: Razítko | G61: Datum a podpis: | J61: Razítko
D65: Objednavatel | G65: Uchazeč
D76: Datum a podpis: | F76: Razítko | G76: Datum a podpis: | J76: Razítko
C82: REKAPITULACE ČLENĚNÍ SOUPISU PRACÍ
C84: Stavba:
E85: =E7 -> Bytový dům Líbeznice, Martinova 142
C86: Objekt:
E87: 03 - TZB
C88: Soupis:
E89: 05 - Slaboproud
C90: Úroveň 3:
E91: =E13 -> a - Společné prostory
C93: Místo: | F93: =F16 -> Líbeznice | I93: Datum: | J93: =IF(J16="","",J16) -> 3. 11. 2025
C95: Zadavatel: | F95: =E19 | I95: Projektant: | J95: =E25
C96: Uchazeč: | F96: =IF(E22="","",E22) -> Vyplň údaj | I96: Zpracovatel: | J96: =E28 -> Krajovský
C98: Kód dílu - Popis | J98: Cena celkem [CZK]
C100: Náklady ze soupisu prací | J100: =J131 -> 0 | AU100: -1
D101: PSV - Práce a dodávky PSV | J101: =J132 -> 0
D102: 741 - Elektroinstalace - silnoproud | J102: =J133 -> 0
D103: 742 - Elektroinstalace - slaboproud | J103: =J139 -> 0
D104: M - Práce a dodávky M | J104: =J185 -> 0
D105: 46-M - Zemní práce při extr.mont.pracích | J105: =J186 -> 0
D106: HZS - Hodinové zúčtovací sazby | J106: =J195 -> 0
D107: Ostatní - Ostatní | J107: =J204 -> 0
C114: SOUPIS PRACÍ
C116: Stavba:
E117: =E7 -> Bytový dům Líbeznice, Martinova 142
C118: Objekt:
E119: 03 - TZB
C120: Soupis:
E121: 05 - Slaboproud
C122: Úroveň 3:
E123: =E13 -> a - Společné prostory
C125: Místo: | F125: =F16 -> Líbeznice | I125: Datum: | J125: =IF(J16="","",J16) -> 3. 11. 2025
C127: Zadavatel: | F127: =E19 | I127: Projektant: | J127: =E25
C128: Uchazeč: | F128: =IF(E22="","",E22) -> Vyplň údaj | I128: Zpracovatel: | J128: =E28 -> Krajovský
C130: PČ | D130: Typ | E130: Kód | F130: Popis | G130: MJ | H130: Množství | I130: J.cena [CZK] | J130: Cena celkem [CZK] | K130: Cenová soustava | N130: DPH | O130: J. Nh [h] | P130: Nh celkem [h] | Q130: J. hmotnost [t] | R130: Hmotnost celkem [t] | S130: J. suť [t] | T130: Suť Celkem [t]
C131: Náklady soupisu celkem | J131: =BK131 -> 0 | P131: =P132+P185+P195+P204 -> 0 | R131: =R132+R185+R195+R204 -> 0.4768025 | T131: =T132+T185+T195+T204 -> 0.07 | AT131: D | AU131: -1 | BK131: =BK132+BK185+BK195+BK204 -> 0
D132: D | E132: PSV | F132: Práce a dodávky PSV | J132: =BK132 -> 0 | P132: =P133+P139 -> 0 | R132: =R133+R139 -> 0.4715525 | T132: =T133+T139 -> 0 | AR132: 2 | AT132: D | AU132: 0 | AY132: ROZPOCET | BK132: =BK133+BK139 -> 0
D133: D | E133: 741 | F133: Elektroinstalace - silnoproud | J133: =BK133 -> 0 | P133: =SUM(P134:P138) -> 0 | R133: =SUM(R134:R138) -> 0.03548 | T133: =SUM(T134:T138) -> 0 | AR133: 2 | AT133: D | AU133: 1 | AY133: ROZPOCET | BK133: =SUM(BK134:BK138) -> 0
C134: 1 | D134: K | E134: 741124733 | F134: Montáž kabel Cu stíněný ovládací žíly 2 až 19x1 mm2 uložený pevně (např. JYTY) | G134: m | H134: 370 | J134: =ROUND(I134*H134,2) -> 0 | N134: snížená | P134: =O134*H134 -> 0 | Q134: 0 | R134: =Q134*H134 -> 0 | S134: 0 | T134: =S134*H134 -> 0 | AR134: 16 | AT134: K | AU134: 2 | AY134: ROZPOCET | BE134: =IF(N134="základní",J134,0) -> 0 | BF134: =IF(N134="snížená",J134,0) -> 0 | BG134: =IF(N134="zákl. přenesená",J134,0) -> 0 | BH134: =IF(N134="sníž. přenesená",J134,0) -> 0 | BI134: =IF(N134="nulová",J134,0) -> 0 | BJ134: 2 | BK134: =ROUND(I134*H134,2) -> 0 | BL134: 16 | BM134: -456982682
C135: 2 | D135: M | E135: 34113150 | F135: kabel ovládací průmyslový stíněný laminovanou Al fólií s příložným Cu drátem jádro Cu plné izolace PVC plášť PVC 250V (JYTY) 4x1,00mm2 | G135: m | H135: 425.5 | J135: =ROUND(I135*H135,2) -> 0 | N135: snížená | P135: =O135*H135 -> 0 | Q135: 8e-05 | R135: =Q135*H135 -> 0.03404 | S135: 0 | T135: =S135*H135 -> 0 | AR135: 32 | AT135: M | AU135: 2 | AY135: ROZPOCET | BE135: =IF(N135="základní",J135,0) -> 0 | BF135: =IF(N135="snížená",J135,0) -> 0 | BG135: =IF(N135="zákl. přenesená",J135,0) -> 0 | BH135: =IF(N135="sníž. přenesená",J135,0) -> 0 | BI135: =IF(N135="nulová",J135,0) -> 0 | BJ135: 2 | BK135: =ROUND(I135*H135,2) -> 0 | BL135: 16 | BM135: 1852366871
D136: VV | F136: 370*1,15 "Přepočtené koeficientem množství | H136: 425.5 | AT136: VV | AU136: 2 | AV136: 2 | AW136: True | AX136: 1 | AY136: ROZPOCET
C137: 3 | D137: K | E137: 741310011 | F137: Montáž ovladač nástěnný 1/0-tlačítkový zapínací prostředí normální se zapojením vodičů | G137: kus | H137: 16 | J137: =ROUND(I137*H137,2) -> 0 | N137: snížená | P137: =O137*H137 -> 0 | Q137: 0 | R137: =Q137*H137 -> 0 | S137: 0 | T137: =S137*H137 -> 0 | AR137: 16 | AT137: K | AU137: 2 | AY137: ROZPOCET | BE137: =IF(N137="základní",J137,0) -> 0 | BF137: =IF(N137="snížená",J137,0) -> 0 | BG137: =IF(N137="zákl. přenesená",J137,0) -> 0 | BH137: =IF(N137="sníž. přenesená",J137,0) -> 0 | BI137: =IF(N137="nulová",J137,0) -> 0 | BJ137: 2 | BK137: =ROUND(I137*H137,2) -> 0 | BL137: 16 | BM137: -1176870390
C138: 4 | D138: M | E138: 34535023 | F138: ovládač nástěnný zapínací, řazení 1/0, IP44, šroubové svorky | G138: kus | H138: 16 | J138: =ROUND(I138*H138,2) -> 0 | N138: snížená | P138: =O138*H138 -> 0 | Q138: 9e-05 | R138: =Q138*H138 -> 0.00144 | S138: 0 | T138: =S138*H138 -> 0 | AR138: 32 | AT138: M | AU138: 2 | AY138: ROZPOCET | BE138: =IF(N138="základní",J138,0) -> 0 | BF138: =IF(N138="snížená",J138,0) -> 0 | BG138: =IF(N138="zákl. přenesená",J138,0) -> 0 | BH138: =IF(N138="sníž. přenesená",J138,0) -> 0 | BI138: =IF(N138="nulová",J138,0) -> 0 | BJ138: 2 | BK138: =ROUND(I138*H138,2) -> 0 | BL138: 16 | BM138: -352577089
D139: D | E139: 742 | F139: Elektroinstalace - slaboproud | J139: =BK139 -> 0 | P139: =SUM(P140:P184) -> 0 | R139: =SUM(R140:R184) -> 0.4360725 | T139: =SUM(T140:T184) -> 0 | AR139: 2 | AT139: D | AU139: 1 | AY139: ROZPOCET | BK139: =SUM(BK140:BK184) -> 0
C140: 5 | D140: K | E140: 742110002 | F140: Montáž trubek pro slaboproud plastových ohebných uložených pod omítku | G140: m | H140: 1855 | J140: =ROUND(I140*H140,2) -> 0 | N140: snížená | P140: =O140*H140 -> 0 | Q140: 0 | R140: =Q140*H140 -> 0 | S140: 0 | T140: =S140*H140 -> 0 | AR140: 16 | AT140: K | AU140: 2 | AY140: ROZPOCET | BE140: =IF(N140="základní",J140,0) -> 0 | BF140: =IF(N140="snížená",J140,0) -> 0 | BG140: =IF(N140="zákl. přenesená",J140,0) -> 0 | BH140: =IF(N140="sníž. přenesená",J140,0) -> 0 | BI140: =IF(N140="nulová",J140,0) -> 0 | BJ140: 2 | BK140: =ROUND(I140*H140,2) -> 0 | BL140: 16 | BM140: -1762771864
D141: VV | F141: DN32 | AT141: VV | AU141: 2 | AV141: 1 | AW141: True | AX141: 0 | AY141: ROZPOCET
D142: VV | F142: 1450 | H142: 1450 | AT142: VV | AU142: 2 | AV142: 2 | AW142: True | AX142: 0 | AY142: ROZPOCET
D143: VV | F143: DN63 | AT143: VV | AU143: 2 | AV143: 1 | AW143: True | AX143: 0 | AY143: ROZPOCET
D144: VV | F144: 25 | H144: 25 | AT144: VV | AU144: 2 | AV144: 2 | AW144: True | AX144: 0 | AY144: ROZPOCET
D145: VV | F145: DN25 | AT145: VV | AU145: 2 | AV145: 1 | AW145: True | AX145: 0 | AY145: ROZPOCET
D146: VV | F146: 380 | H146: 380 | AT146: VV | AU146: 2 | AV146: 2 | AW146: True | AX146: 0 | AY146: ROZPOCET
D147: VV | F147: Součet | H147: 1855 | AT147: VV | AU147: 2 | AV147: 4 | AW147: True | AX147: 1 | AY147: ROZPOCET
C148: 6 | D148: M | E148: 34571370 | F148: trubka elektroinstalační ohebná dvouplášťová korugovaná HDPE UV stab (chránička) D 32/40mm | G148: m | H148: 1522.5 | J148: =ROUND(I148*H148,2) -> 0 | N148: snížená | P148: =O148*H148 -> 0 | Q148: 0.00019 | R148: =Q148*H148 -> 0.289275 | S148: 0 | T148: =S148*H148 -> 0 | AR148: 32 | AT148: M | AU148: 2 | AY148: ROZPOCET | BE148: =IF(N148="základní",J148,0) -> 0 | BF148: =IF(N148="snížená",J148,0) -> 0 | BG148: =IF(N148="zákl. přenesená",J148,0) -> 0 | BH148: =IF(N148="sníž. přenesená",J148,0) -> 0 | BI148: =IF(N148="nulová",J148,0) -> 0 | BJ148: 2 | BK148: =ROUND(I148*H148,2) -> 0 | BL148: 16 | BM148: -134358858
D149: VV | F149: 1450*1,05 "Přepočtené koeficientem množství | H149: 1522.5 | AT149: VV | AU149: 2 | AV149: 2 | AW149: True | AX149: 1 | AY149: ROZPOCET
C150: 7 | D150: M | E150: 34571378 | F150: trubka elektroinstalační ohebná lehce odolná z PVC-U D 24,5/32mm poloměr ohybu >130mm | G150: m | H150: 260 | J150: =ROUND(I150*H150,2) -> 0 | N150: snížená | P150: =O150*H150 -> 0 | Q150: 0.0001 | R150: =Q150*H150 -> 0.026 | S150: 0 | T150: =S150*H150 -> 0 | AR150: 32 | AT150: M | AU150: 2 | AY150: ROZPOCET | BE150: =IF(N150="základní",J150,0) -> 0 | BF150: =IF(N150="snížená",J150,0) -> 0 | BG150: =IF(N150="zákl. přenesená",J150,0) -> 0 | BH150: =IF(N150="sníž. přenesená",J150,0) -> 0 | BI150: =IF(N150="nulová",J150,0) -> 0 | BJ150: 2 | BK150: =ROUND(I150*H150,2) -> 0 | BL150: 16 | BM150: 1403685741
C151: 8 | D151: M | E151: 34571373 | F151: trubka elektroinstalační ohebná dvouplášťová korugovaná HDPE UV stab (chránička) D 61/75mm | G151: m | H151: 26.25 | J151: =ROUND(I151*H151,2) -> 0 | N151: snížená | P151: =O151*H151 -> 0 | Q151: 0.00043 | R151: =Q151*H151 -> 0.0112875 | S151: 0 | T151: =S151*H151 -> 0 | AR151: 32 | AT151: M | AU151: 2 | AY151: ROZPOCET | BE151: =IF(N151="základní",J151,0) -> 0 | BF151: =IF(N151="snížená",J151,0) -> 0 | BG151: =IF(N151="zákl. přenesená",J151,0) -> 0 | BH151: =IF(N151="sníž. přenesená",J151,0) -> 0 | BI151: =IF(N151="nulová",J151,0) -> 0 | BJ151: 2 | BK151: =ROUND(I151*H151,2) -> 0 | BL151: 16 | BM151: -15581417
D152: VV | F152: 25*1,05 "Přepočtené koeficientem množství | H152: 26.25 | AT152: VV | AU152: 2 | AV152: 2 | AW152: True | AX152: 1 | AY152: ROZPOCET
C153: 9 | D153: K | E153: 742110107 | F153: Montáž kabelového žlabu pro slaboproud šířky přes 250 mm | G153: m | H153: 18 | J153: =ROUND(I153*H153,2) -> 0 | N153: snížená | P153: =O153*H153 -> 0 | Q153: 0 | R153: =Q153*H153 -> 0 | S153: 0 | T153: =S153*H153 -> 0 | AR153: 16 | AT153: K | AU153: 2 | AY153: ROZPOCET | BE153: =IF(N153="základní",J153,0) -> 0 | BF153: =IF(N153="snížená",J153,0) -> 0 | BG153: =IF(N153="zákl. přenesená",J153,0) -> 0 | BH153: =IF(N153="sníž. přenesená",J153,0) -> 0 | BI153: =IF(N153="nulová",J153,0) -> 0 | BJ153: 2 | BK153: =ROUND(I153*H153,2) -> 0 | BL153: 16 | BM153: 1865183540
C154: 10 | D154: M | E154: 34575602 | F154: žlab kabelový drátěný GZ v přes 60mm š přes 250 do 350mm | G154: m | H154: 18 | J154: =ROUND(I154*H154,2) -> 0 | N154: snížená | P154: =O154*H154 -> 0 | Q154: 0.00196 | R154: =Q154*H154 -> 0.03528 | S154: 0 | T154: =S154*H154 -> 0 | AR154: 32 | AT154: M | AU154: 2 | AY154: ROZPOCET | BE154: =IF(N154="základní",J154,0) -> 0 | BF154: =IF(N154="snížená",J154,0) -> 0 | BG154: =IF(N154="zákl. přenesená",J154,0) -> 0 | BH154: =IF(N154="sníž. přenesená",J154,0) -> 0 | BI154: =IF(N154="nulová",J154,0) -> 0 | BJ154: 2 | BK154: =ROUND(I154*H154,2) -> 0 | BL154: 16 | BM154: -453831501
