Workbook

Sheet Rekapitulace stavby
A1: Export Komplet | AZ1: VZ | BA1: 2.0 | BB1: ZAMOK | BT1: False | BU1: False | BV1: {3b664484-ed53-4eb1-a27a-a8e55c55a450}
BS2: 0,01 | BT2: 21
BS3: 0,01 | BT3: 12
D4: REKAPITULACE STAVBY | AS4: v --- níže se nacházejí doplnkové a pomocné údaje k sestavám --- v | BE4: Návod na vyplnění | BS4: 0,001
D5: Kód: | K5: 4333/002M | BE5: Měnit lze pouze buňky se žlutým podbarvením!_x000D_ _x000D_ 1) v Rekapitulaci stavby vyplňte údaje o Účastníkovi (přenesou se do ostatních sestav i v jiných listech)_x000D_ _x000D_ 2) na vybraných listech vyplňte v sestavě Soupis prací ceny u položek | BS5: 0,01
D6: Stavba: | K6: Připojení vodovodu Černé Voděrady na SV Region JIH | BS6: 0,01
D7: KSO: | AK7: CC-CZ: | BS7: 0,01
D8: Místo: | K8: K.Ú. černé Voděrady, Zvánovice, Ondřejov u Prahy | AK8: Datum: | AN8: 31. 7. 2025 | BS8: 0,01
BS9: 0,01
D10: Zadavatel: | AK10: IČ: | AN10: 00235318 | BS10: 0,01
E11: Obec Černé Voděrady, nám. Lípy Svobody 47, 281 63 | AK11: DIČ: | BS11: 0,01
BS12: 0,01
D13: Účastník: | AK13: IČ: | AN13: Vyplň údaj | BS13: 0,01
E14: Vyplň údaj | AK14: DIČ: | AN14: Vyplň údaj | BS14: 0,01
BS15: False
D16: Projektant: | AK16: IČ: | AN16: 47116901 | BS16: False
E17: Vodohospodářský rozvoj a výstavba s.s. Praha 5 | AK17: DIČ: | BS17: True
BS18: 0,01
D19: Zpracovatel: | AK19: IČ: | BS19: 0,01
E20: M. Morská | AK20: DIČ: | BS20: False
D22: Poznámka:
E23: Soupis prací je sestaven s využitím Cenové soustavy ÚRS. Položky, které pochází z této cenové soustavy, jsou ve sloupci 'Cenová soustava' označeny popisem 'CS ÚRS' a úrovní příslušného kalendářního pololetí. Veškeré další informace vymezující popis a podmínky použití těchto položek z Cenové soustavy, které nejsou uvedeny přímo v soupisu prací, jsou neomezeně dálkově k dispozici na webu podminky.urs.cz.
D26: Cena bez DPH | AK26: =ROUND(AG54,2) -> 0
L28: Sazba daně | W28: Základ daně | AK28: Výše daně
D29: DPH | F29: základní | L29: 0.21 | W29: =ROUND(AZ54, 2) -> 0 | AK29: =ROUND(AV54, 2) -> 0
F30: snížená | L30: 0.12 | W30: =ROUND(BA54, 2) -> 0 | AK30: =ROUND(AW54, 2) -> 0
F31: zákl. přenesená | L31: 0.21 | W31: =ROUND(BB54, 2) -> 0 | AK31: 0
F32: sníž. přenesená | L32: 0.12 | W32: =ROUND(BC54, 2) -> 0 | AK32: 0
F33: nulová | L33: 0 | W33: =ROUND(BD54, 2) -> 0 | AK33: 0
D35: Cena s DPH | T35: v | X35: CZK | AK35: =SUM(AK26:AK33) -> 0
C42: REKAPITULACE OBJEKTŮ STAVBY A SOUPISŮ PRACÍ
C44: Kód: | L44: =K5 -> 4333/002M
C45: Stavba: | L45: =K6 -> Připojení vodovodu Černé Voděrady na SV Region JIH
C47: Místo: | L47: =IF(K8="","",K8) -> K.Ú. černé Voděrady, Zvánovice, Ondřejov u Prahy | AI47: Datum: | AM47: =IF(AN8= "","",AN8) -> 31. 7. 2025
C49: Zadavatel: | L49: =IF(E11= "","",E11) -> Obec Černé Voděrady, nám. Lípy Svobody 47, 281 63 | AI49: Projektant: | AM49: =IF(E17="","",E17) -> Vodohospodářský rozvoj a výstavba s.s. Praha 5 | AS49: Informatívní údaje z listů zakázek
C50: Účastník: | L50: =IF(E14= "Vyplň údaj","",E14) | AI50: Zpracovatel: | AM50: =IF(E20="","",E20) -> M. Morská
C52: Kód | I52: Popis | AG52: Cena bez DPH [CZK] | AN52: Cena s DPH [CZK] | AQ52: Typ | AS52: z toho Ostat._x000D_ náklady [CZK] | AT52: DPH [CZK] | AU52: Normohodiny [h] | AV52: DPH základní [CZK] | AW52: DPH snížená [CZK] | AX52: DPH základní přenesená_x000D_ [CZK] | AY52: DPH snížená přenesená_x000D_ [CZK] | AZ52: Základna_x000D_ DPH základní | BA52: Základna_x000D_ DPH snížená | BB52: Základna_x000D_ DPH zákl. přenesená | BC52: Základna_x000D_ DPH sníž. přenesená | BD52: Základna_x000D_ DPH nulová
C54: Náklady stavby celkem | AG54: =ROUND(AG55+AG56+AG57+AG61+SUM(AG74:AG76),2) -> 0 | AN54: =SUM(AG54,AT54) -> 0 | AS54: =ROUND(AS55+AS56+AS57+AS61+SUM(AS74:AS76),2) -> 0 | AT54: =ROUND(SUM(AV54:AW54),2) -> 0 | AU54: =ROUND(AU55+AU56+AU57+AU61+SUM(AU74:AU76),5) -> 0 | AV54: =ROUND(AZ54*L29,2) -> 0 | AW54: =ROUND(BA54*L30,2) -> 0 | AX54: =ROUND(BB54*L29,2) -> 0 | AY54: =ROUND(BC54*L30,2) -> 0 | AZ54: =ROUND(AZ55+AZ56+AZ57+AZ61+SUM(AZ74:AZ76),2) -> 0 | BA54: =ROUND(BA55+BA56+BA57+BA61+SUM(BA74:BA76),2) -> 0 | BB54: =ROUND(BB55+BB56+BB57+BB61+SUM(BB74:BB76),2) -> 0 | BC54: =ROUND(BC55+BC56+BC57+BC61+SUM(BC74:BC76),2) -> 0 | BD54: =ROUND(BD55+BD56+BD57+BD61+SUM(BD74:BD76),2) -> 0 | BS54: D | BT54: 0 | BU54: ###NOIMPORT### | BV54: IMPORT | BW54: {3b664484-ed53-4eb1-a27a-a8e55c55a450} | BX54: {00000000-0000-0000-0000-000000000000}
A55: / | D55: SO 01 | J55: Přiváděcí řad | AG55: ='SO 01 - Přiváděcí řad'!J30 -> 0 | AN55: =SUM(AG55,AT55) -> 0 | AQ55: ING | AS55: 0 | AT55: =ROUND(SUM(AV55:AW55),2) -> 0 | AU55: ='SO 01 - Přiváděcí řad'!P91 -> 0 | AV55: ='SO 01 - Přiváděcí řad'!J33 -> 0 | AW55: ='SO 01 - Přiváděcí řad'!J34 -> 0 | AX55: ='SO 01 - Přiváděcí řad'!J35 -> 0 | AY55: ='SO 01 - Přiváděcí řad'!J36 -> 0 | AZ55: ='SO 01 - Přiváděcí řad'!F33 -> 0 | BA55: ='SO 01 - Přiváděcí řad'!F34 -> 0 | BB55: ='SO 01 - Přiváděcí řad'!F35 -> 0 | BC55: ='SO 01 - Přiváděcí řad'!F36 -> 0 | BD55: ='SO 01 - Přiváděcí řad'!F37 -> 0 | BT55: 1 | BV55: IMPORT | BW55: {38df8828-39e7-49c2-b1e9-7c793a76f1fa} | BX55: {3b664484-ed53-4eb1-a27a-a8e55c55a450} | CL55: 827 11 11 | CM55: 2
A56: / | D56: SO 02 | J56: Rozváděcí řad 1 | AG56: ='SO 02 - Rozváděcí řad 1'!J30 -> 0 | AN56: =SUM(AG56,AT56) -> 0 | AQ56: ING | AS56: 0 | AT56: =ROUND(SUM(AV56:AW56),2) -> 0 | AU56: ='SO 02 - Rozváděcí řad 1'!P86 -> 0 | AV56: ='SO 02 - Rozváděcí řad 1'!J33 -> 0 | AW56: ='SO 02 - Rozváděcí řad 1'!J34 -> 0 | AX56: ='SO 02 - Rozváděcí řad 1'!J35 -> 0 | AY56: ='SO 02 - Rozváděcí řad 1'!J36 -> 0 | AZ56: ='SO 02 - Rozváděcí řad 1'!F33 -> 0 | BA56: ='SO 02 - Rozváděcí řad 1'!F34 -> 0 | BB56: ='SO 02 - Rozváděcí řad 1'!F35 -> 0 | BC56: ='SO 02 - Rozváděcí řad 1'!F36 -> 0 | BD56: ='SO 02 - Rozváděcí řad 1'!F37 -> 0 | BT56: 1 | BV56: IMPORT | BW56: {73cbfc85-daa1-4228-8572-5cacf42582b7} | BX56: {3b664484-ed53-4eb1-a27a-a8e55c55a450} | CL56: 827 13 11 | CM56: 2
D57: SO 03 | J57: AŠ Zvánovice | AG57: =ROUND(SUM(AG58:AG60),2) -> 0 | AN57: =SUM(AG57,AT57) -> 0 | AQ57: STA | AS57: =ROUND(SUM(AS58:AS60),2) -> 0 | AT57: =ROUND(SUM(AV57:AW57),2) -> 0 | AU57: =ROUND(SUM(AU58:AU60),5) -> 0 | AV57: =ROUND(AZ57*L29,2) -> 0 | AW57: =ROUND(BA57*L30,2) -> 0 | AX57: =ROUND(BB57*L29,2) -> 0 | AY57: =ROUND(BC57*L30,2) -> 0 | AZ57: =ROUND(SUM(AZ58:AZ60),2) -> 0 | BA57: =ROUND(SUM(BA58:BA60),2) -> 0 | BB57: =ROUND(SUM(BB58:BB60),2) -> 0 | BC57: =ROUND(SUM(BC58:BC60),2) -> 0 | BD57: =ROUND(SUM(BD58:BD60),2) -> 0 | BS57: D | BT57: 1 | BU57: ###NOIMPORT### | BV57: IMPORT | BW57: {fdc19b99-4284-4ccb-b9d9-afa17d505066} | BX57: {3b664484-ed53-4eb1-a27a-a8e55c55a450} | CL57: 827 13 11 | CM57: 2
A58: / | E58: 1. | K58: AŠ Zvánovice - stavební část + vystrojení | AG58: ='1. - AŠ Zvánovice - stave...'!J32 -> 0 | AN58: =SUM(AG58,AT58) -> 0 | AQ58: Soupis | AS58: 0 | AT58: =ROUND(SUM(AV58:AW58),2) -> 0 | AU58: ='1. - AŠ Zvánovice - stave...'!P98 -> 0 | AV58: ='1. - AŠ Zvánovice - stave...'!J35 -> 0 | AW58: ='1. - AŠ Zvánovice - stave...'!J36 -> 0 | AX58: ='1. - AŠ Zvánovice - stave...'!J37 -> 0 | AY58: ='1. - AŠ Zvánovice - stave...'!J38 -> 0 | AZ58: ='1. - AŠ Zvánovice - stave...'!F35 -> 0 | BA58: ='1. - AŠ Zvánovice - stave...'!F36 -> 0 | BB58: ='1. - AŠ Zvánovice - stave...'!F37 -> 0 | BC58: ='1. - AŠ Zvánovice - stave...'!F38 -> 0 | BD58: ='1. - AŠ Zvánovice - stave...'!F39 -> 0 | BT58: 2 | BV58: IMPORT | BW58: {96be42ba-70fa-4d61-bd16-cf3bd184a13b} | BX58: {fdc19b99-4284-4ccb-b9d9-afa17d505066} | CL58: 825 53 1
A59: / | E59: 2. | K59: Elektroinstalace | AG59: ='2. - Elektroinstalace'!J32 -> 0 | AN59: =SUM(AG59,AT59) -> 0 | AQ59: Soupis | AS59: 0 | AT59: =ROUND(SUM(AV59:AW59),2) -> 0 | AU59: ='2. - Elektroinstalace'!P86 -> 0 | AV59: ='2. - Elektroinstalace'!J35 -> 0 | AW59: ='2. - Elektroinstalace'!J36 -> 0 | AX59: ='2. - Elektroinstalace'!J37 -> 0 | AY59: ='2. - Elektroinstalace'!J38 -> 0 | AZ59: ='2. - Elektroinstalace'!F35 -> 0 | BA59: ='2. - Elektroinstalace'!F36 -> 0 | BB59: ='2. - Elektroinstalace'!F37 -> 0 | BC59: ='2. - Elektroinstalace'!F38 -> 0 | BD59: ='2. - Elektroinstalace'!F39 -> 0 | BT59: 2 | BV59: IMPORT | BW59: {e9948865-7e2b-4b99-9177-51cca3407d5e} | BX59: {fdc19b99-4284-4ccb-b9d9-afa17d505066}
A60: / | E60: 3. | K60: Rozváděč DT1 | AG60: ='3. - Rozváděč DT1'!J32 -> 0 | AN60: =SUM(AG60,AT60) -> 0 | AQ60: Soupis | AS60: 0 | AT60: =ROUND(SUM(AV60:AW60),2) -> 0 | AU60: ='3. - Rozváděč DT1'!P86 -> 0 | AV60: ='3. - Rozváděč DT1'!J35 -> 0 | AW60: ='3. - Rozváděč DT1'!J36 -> 0 | AX60: ='3. - Rozváděč DT1'!J37 -> 0 | AY60: ='3. - Rozváděč DT1'!J38 -> 0 | AZ60: ='3. - Rozváděč DT1'!F35 -> 0 | BA60: ='3. - Rozváděč DT1'!F36 -> 0 | BB60: ='3. - Rozváděč DT1'!F37 -> 0 | BC60: ='3. - Rozváděč DT1'!F38 -> 0 | BD60: ='3. - Rozváděč DT1'!F39 -> 0 | BT60: 2 | BV60: IMPORT | BW60: {58b1902f-507b-469b-beb8-8d444ace78c6} | BX60: {fdc19b99-4284-4ccb-b9d9-afa17d505066}
D61: SO 04 | J61: VDJ Černé Voděrady 2x40m3 | AG61: =ROUND(AG62+SUM(AG65:AG69),2) -> 0 | AN61: =SUM(AG61,AT61) -> 0 | AQ61: STA | AS61: =ROUND(AS62+SUM(AS65:AS69),2) -> 0 | AT61: =ROUND(SUM(AV61:AW61),2) -> 0 | AU61: =ROUND(AU62+SUM(AU65:AU69),5) -> 0 | AV61: =ROUND(AZ61*L29,2) -> 0 | AW61: =ROUND(BA61*L30,2) -> 0 | AX61: =ROUND(BB61*L29,2) -> 0 | AY61: =ROUND(BC61*L30,2) -> 0 | AZ61: =ROUND(AZ62+SUM(AZ65:AZ69),2) -> 0 | BA61: =ROUND(BA62+SUM(BA65:BA69),2) -> 0 | BB61: =ROUND(BB62+SUM(BB65:BB69),2) -> 0 | BC61: =ROUND(BC62+SUM(BC65:BC69),2) -> 0 | BD61: =ROUND(BD62+SUM(BD65:BD69),2) -> 0 | BS61: D | BT61: 1 | BU61: ###NOIMPORT### | BV61: IMPORT | BW61: {c92110ba-3986-4f7f-a737-d3574d133f57} | BX61: {3b664484-ed53-4eb1-a27a-a8e55c55a450} | CM61: 2
E62: SO 04.1 | K62: VDJ Černé Voděrady - stavební část | AG62: =ROUND(SUM(AG63:AG64),2) -> 0 | AN62: =SUM(AG62,AT62) -> 0 | AQ62: Soupis | AS62: =ROUND(SUM(AS63:AS64),2) -> 0 | AT62: =ROUND(SUM(AV62:AW62),2) -> 0 | AU62: =ROUND(SUM(AU63:AU64),5) -> 0 | AV62: =ROUND(AZ62*L29,2) -> 0 | AW62: =ROUND(BA62*L30,2) -> 0 | AX62: =ROUND(BB62*L29,2) -> 0 | AY62: =ROUND(BC62*L30,2) -> 0 | AZ62: =ROUND(SUM(AZ63:AZ64),2) -> 0 | BA62: =ROUND(SUM(BA63:BA64),2) -> 0 | BB62: =ROUND(SUM(BB63:BB64),2) -> 0 | BC62: =ROUND(SUM(BC63:BC64),2) -> 0 | BD62: =ROUND(SUM(BD63:BD64),2) -> 0 | BS62: D | BT62: 2 | BV62: IMPORT | BW62: {221ed791-5e0a-46ba-90f6-11444a1a6347} | BX62: {c92110ba-3986-4f7f-a737-d3574d133f57}
A63: / | F63: SO 04.1 | L63: VDJ Černé Voděrady - stavební část | AG63: ='SO 04.1 - VDJ Černé Voděr...'!J32 -> 0 | AN63: =SUM(AG63,AT63) -> 0 | AQ63: Soupis | AS63: 0 | AT63: =ROUND(SUM(AV63:AW63),2) -> 0 | AU63: ='SO 04.1 - VDJ Černé Voděr...'!P112 -> 0 | AV63: ='SO 04.1 - VDJ Černé Voděr...'!J35 -> 0 | AW63: ='SO 04.1 - VDJ Černé Voděr...'!J36 -> 0 | AX63: ='SO 04.1 - VDJ Černé Voděr...'!J37 -> 0 | AY63: ='SO 04.1 - VDJ Černé Voděr...'!J38 -> 0 | AZ63: ='SO 04.1 - VDJ Černé Voděr...'!F35 -> 0 | BA63: ='SO 04.1 - VDJ Černé Voděr...'!F36 -> 0 | BB63: ='SO 04.1 - VDJ Černé Voděr...'!F37 -> 0 | BC63: ='SO 04.1 - VDJ Černé Voděr...'!F38 -> 0 | BD63: ='SO 04.1 - VDJ Černé Voděr...'!F39 -> 0 | BT63: 3 | BU63: ###NOINSERT### | BV63: IMPORT | BW63: {221ed791-5e0a-46ba-90f6-11444a1a6347} | BX63: {c92110ba-3986-4f7f-a737-d3574d133f57}
A64: / | F64: SO 04.1. | L64: Oplocení VDJ | AG64: ='SO 04.1. - Oplocení VDJ'!J34 -> 0 | AN64: =SUM(AG64,AT64) -> 0 | AQ64: Soupis | AS64: 0 | AT64: =ROUND(SUM(AV64:AW64),2) -> 0 | AU64: ='SO 04.1. - Oplocení VDJ'!P100 -> 0 | AV64: ='SO 04.1. - Oplocení VDJ'!J37 -> 0 | AW64: ='SO 04.1. - Oplocení VDJ'!J38 -> 0 | AX64: ='SO 04.1. - Oplocení VDJ'!J39 -> 0 | AY64: ='SO 04.1. - Oplocení VDJ'!J40 -> 0 | AZ64: ='SO 04.1. - Oplocení VDJ'!F37 -> 0 | BA64: ='SO 04.1. - Oplocení VDJ'!F38 -> 0 | BB64: ='SO 04.1. - Oplocení VDJ'!F39 -> 0 | BC64: ='SO 04.1. - Oplocení VDJ'!F40 -> 0 | BD64: ='SO 04.1. - Oplocení VDJ'!F41 -> 0 | BT64: 3 | BV64: IMPORT | BW64: {40d2dc28-b793-4644-9c0f-416bcc0dd7fa} | BX64: {221ed791-5e0a-46ba-90f6-11444a1a6347}
A65: / | E65: SO 04.2 | K65: VDJ Černé Voděrady - strojně-technologická část | AG65: ='SO 04.2 - VDJ Černé Voděr...'!J32 -> 0 | AN65: =SUM(AG65,AT65) -> 0 | AQ65: Soupis | AS65: 0 | AT65: =ROUND(SUM(AV65:AW65),2) -> 0 | AU65: ='SO 04.2 - VDJ Černé Voděr...'!P93 -> 0 | AV65: ='SO 04.2 - VDJ Černé Voděr...'!J35 -> 0 | AW65: ='SO 04.2 - VDJ Černé Voděr...'!J36 -> 0 | AX65: ='SO 04.2 - VDJ Černé Voděr...'!J37 -> 0 | AY65: ='SO 04.2 - VDJ Černé Voděr...'!J38 -> 0 | AZ65: ='SO 04.2 - VDJ Černé Voděr...'!F35 -> 0 | BA65: ='SO 04.2 - VDJ Černé Voděr...'!F36 -> 0 | BB65: ='SO 04.2 - VDJ Černé Voděr...'!F37 -> 0 | BC65: ='SO 04.2 - VDJ Černé Voděr...'!F38 -> 0 | BD65: ='SO 04.2 - VDJ Černé Voděr...'!F39 -> 0 | BT65: 2 | BV65: IMPORT | BW65: {8ace5c17-d099-4c31-a66c-efe4eb83b7e2} | BX65: {c92110ba-3986-4f7f-a737-d3574d133f57}
A66: / | E66: SO 04.3 | K66: Odpad z VDJ | AG66: ='SO 04.3 - Odpad z VDJ'!J32 -> 0 | AN66: =SUM(AG66,AT66) -> 0 | AQ66: Soupis | AS66: 0 | AT66: =ROUND(SUM(AV66:AW66),2) -> 0 | AU66: ='SO 04.3 - Odpad z VDJ'!P95 -> 0 | AV66: ='SO 04.3 - Odpad z VDJ'!J35 -> 0 | AW66: ='SO 04.3 - Odpad z VDJ'!J36 -> 0 | AX66: ='SO 04.3 - Odpad z VDJ'!J37 -> 0 | AY66: ='SO 04.3 - Odpad z VDJ'!J38 -> 0 | AZ66: ='SO 04.3 - Odpad z VDJ'!F35 -> 0 | BA66: ='SO 04.3 - Odpad z VDJ'!F36 -> 0 | BB66: ='SO 04.3 - Odpad z VDJ'!F37 -> 0 | BC66: ='SO 04.3 - Odpad z VDJ'!F38 -> 0 | BD66: ='SO 04.3 - Odpad z VDJ'!F39 -> 0 | BT66: 2 | BV66: IMPORT | BW66: {c99b3fa6-8290-4404-9020-47aa73890263} | BX66: {c92110ba-3986-4f7f-a737-d3574d133f57}
A67: / | E67: SO 04.4 | K67: Zpevněné plochy a příjezdová komunikace | AG67: ='SO 04.4 - Zpevněné plochy...'!J32 -> 0 | AN67: =SUM(AG67,AT67) -> 0 | AQ67: Soupis | AS67: 0 | AT67: =ROUND(SUM(AV67:AW67),2) -> 0 | AU67: ='SO 04.4 - Zpevněné plochy...'!P91 -> 0 | AV67: ='SO 04.4 - Zpevněné plochy...'!J35 -> 0 | AW67: ='SO 04.4 - Zpevněné plochy...'!J36 -> 0 | AX67: ='SO 04.4 - Zpevněné plochy...'!J37 -> 0 | AY67: ='SO 04.4 - Zpevněné plochy...'!J38 -> 0 | AZ67: ='SO 04.4 - Zpevněné plochy...'!F35 -> 0 | BA67: ='SO 04.4 - Zpevněné plochy...'!F36 -> 0 | BB67: ='SO 04.4 - Zpevněné plochy...'!F37 -> 0 | BC67: ='SO 04.4 - Zpevněné plochy...'!F38 -> 0 | BD67: ='SO 04.4 - Zpevněné plochy...'!F39 -> 0 | BT67: 2 | BV67: IMPORT | BW67: {a8f81881-68b9-4554-85c8-d0f3711bc6a7} | BX67: {c92110ba-3986-4f7f-a737-d3574d133f57}
A68: / | E68: SO 04.5 | K68: Přípojka NN k VDJ | AG68: ='SO 04.5 - Přípojka NN k VDJ'!J32 -> 0 | AN68: =SUM(AG68,AT68) -> 0 | AQ68: Soupis | AS68: 0 | AT68: =ROUND(SUM(AV68:AW68),2) -> 0 | AU68: ='SO 04.5 - Přípojka NN k VDJ'!P86 -> 0 | AV68: ='SO 04.5 - Přípojka NN k VDJ'!J35 -> 0 | AW68: ='SO 04.5 - Přípojka NN k VDJ'!J36 -> 0 | AX68: ='SO 04.5 - Přípojka NN k VDJ'!J37 -> 0 | AY68: ='SO 04.5 - Přípojka NN k VDJ'!J38 -> 0 | AZ68: ='SO 04.5 - Přípojka NN k VDJ'!F35 -> 0 | BA68: ='SO 04.5 - Přípojka NN k VDJ'!F36 -> 0 | BB68: ='SO 04.5 - Přípojka NN k VDJ'!F37 -> 0 | BC68: ='SO 04.5 - Přípojka NN k VDJ'!F38 -> 0 | BD68: ='SO 04.5 - Přípojka NN k VDJ'!F39 -> 0 | BT68: 2 | BV68: IMPORT | BW68: {8116425a-8c25-457e-b216-b81c5e6926f6} | BX68: {c92110ba-3986-4f7f-a737-d3574d133f57}
E69: SO 04.6 | K69: Systém řízení technologického procesu | AG69: =ROUND(SUM(AG70:AG73),2) -> 0 | AN69: =SUM(AG69,AT69) -> 0 | AQ69: Soupis | AS69: =ROUND(SUM(AS70:AS73),2) -> 0 | AT69: =ROUND(SUM(AV69:AW69),2) -> 0 | AU69: =ROUND(SUM(AU70:AU73),5) -> 0 | AV69: =ROUND(AZ69*L29,2) -> 0 | AW69: =ROUND(BA69*L30,2) -> 0 | AX69: =ROUND(BB69*L29,2) -> 0 | AY69: =ROUND(BC69*L30,2) -> 0 | AZ69: =ROUND(SUM(AZ70:AZ73),2) -> 0 | BA69: =ROUND(SUM(BA70:BA73),2) -> 0 | BB69: =ROUND(SUM(BB70:BB73),2) -> 0 | BC69: =ROUND(SUM(BC70:BC73),2) -> 0 | BD69: =ROUND(SUM(BD70:BD73),2) -> 0 | BS69: D | BT69: 2 | BU69: ###NOIMPORT### | BV69: IMPORT | BW69: {f58cc89a-f0c4-4518-bc5e-b002382bb296} | BX69: {c92110ba-3986-4f7f-a737-d3574d133f57}
A70: / | F70: 1. | L70: Technologická elektroinstalace, měření a regulace | AG70: ='1. - Technologická elektr...'!J34 -> 0 | AN70: =SUM(AG70,AT70) -> 0 | AQ70: Soupis | AS70: 0 | AT70: =ROUND(SUM(AV70:AW70),2) -> 0 | AU70: ='1. - Technologická elektr...'!P92 -> 0 | AV70: ='1. - Technologická elektr...'!J37 -> 0 | AW70: ='1. - Technologická elektr...'!J38 -> 0 | AX70: ='1. - Technologická elektr...'!J39 -> 0 | AY70: ='1. - Technologická elektr...'!J40 -> 0 | AZ70: ='1. - Technologická elektr...'!F37 -> 0 | BA70: ='1. - Technologická elektr...'!F38 -> 0 | BB70: ='1. - Technologická elektr...'!F39 -> 0 | BC70: ='1. - Technologická elektr...'!F40 -> 0 | BD70: ='1. - Technologická elektr...'!F41 -> 0 | BT70: 3 | BV70: IMPORT | BW70: {593d4620-9bbf-401a-b391-bc86e9120b5f} | BX70: {f58cc89a-f0c4-4518-bc5e-b002382bb296}
A71: / | F71: 2. | L71: Rozváděč RM1 | AG71: ='2. - Rozváděč RM1'!J34 -> 0 | AN71: =SUM(AG71,AT71) -> 0 | AQ71: Soupis | AS71: 0 | AT71: =ROUND(SUM(AV71:AW71),2) -> 0 | AU71: ='2. - Rozváděč RM1'!P92 -> 0 | AV71: ='2. - Rozváděč RM1'!J37 -> 0 | AW71: ='2. - Rozváděč RM1'!J38 -> 0 | AX71: ='2. - Rozváděč RM1'!J39 -> 0 | AY71: ='2. - Rozváděč RM1'!J40 -> 0 | AZ71: ='2. - Rozváděč RM1'!F37 -> 0 | BA71: ='2. - Rozváděč RM1'!F38 -> 0 | BB71: ='2. - Rozváděč RM1'!F39 -> 0 | BC71: ='2. - Rozváděč RM1'!F40 -> 0 | BD71: ='2. - Rozváděč RM1'!F41 -> 0 | BT71: 3 | BV71: IMPORT | BW71: {f3ae2e04-b07b-4061-afcb-0ab7ef81225b} | BX71: {f58cc89a-f0c4-4518-bc5e-b002382bb296}
A72: / | F72: 3. | L72: Stavební elektroinstalace | AG72: ='3. - Stavební elektroinst...'!J34 -> 0 | AN72: =SUM(AG72,AT72) -> 0 | AQ72: Soupis | AS72: 0 | AT72: =ROUND(SUM(AV72:AW72),2) -> 0 | AU72: ='3. - Stavební elektroinst...'!P92 -> 0 | AV72: ='3. - Stavební elektroinst...'!J37 -> 0 | AW72: ='3. - Stavební elektroinst...'!J38 -> 0 | AX72: ='3. - Stavební elektroinst...'!J39 -> 0 | AY72: ='3. - Stavební elektroinst...'!J40 -> 0 | AZ72: ='3. - Stavební elektroinst...'!F37 -> 0 | BA72: ='3. - Stavební elektroinst...'!F38 -> 0 | BB72: ='3. - Stavební elektroinst...'!F39 -> 0 | BC72: ='3. - Stavební elektroinst...'!F40 -> 0 | BD72: ='3. - Stavební elektroinst...'!F41 -> 0 | BT72: 3 | BV72: IMPORT | BW72: {6c634c7f-d5ab-40e2-8945-b03a3fefd1a0} | BX72: {f58cc89a-f0c4-4518-bc5e-b002382bb296}
A73: / | F73: 4. | L73: Uzemnění a hromosvod | AG73: ='4. - Uzemnění a hromosvod'!J34 -> 0 | AN73: =SUM(AG73,AT73) -> 0 | AQ73: Soupis | AS73: 0 | AT73: =ROUND(SUM(AV73:AW73),2) -> 0 | AU73: ='4. - Uzemnění a hromosvod'!P92 -> 0 | AV73: ='4. - Uzemnění a hromosvod'!J37 -> 0 | AW73: ='4. - Uzemnění a hromosvod'!J38 -> 0 | AX73: ='4. - Uzemnění a hromosvod'!J39 -> 0 | AY73: ='4. - Uzemnění a hromosvod'!J40 -> 0 | AZ73: ='4. - Uzemnění a hromosvod'!F37 -> 0 | BA73: ='4. - Uzemnění a hromosvod'!F38 -> 0 | BB73: ='4. - Uzemnění a hromosvod'!F39 -> 0 | BC73: ='4. - Uzemnění a hromosvod'!F40 -> 0 | BD73: ='4. - Uzemnění a hromosvod'!F41 -> 0 | BT73: 3 | BV73: IMPORT | BW73: {e2443d69-0c82-410b-9ee2-58d5cc6e8804} | BX73: {f58cc89a-f0c4-4518-bc5e-b002382bb296}
A74: / | D74: SO 05 | J74: Rozváděcí řad 2 | AG74: ='SO 05 - Rozváděcí řad 2'!J30 -> 0 | AN74: =SUM(AG74,AT74) -> 0 | AQ74: ING | AS74: 0 | AT74: =ROUND(SUM(AV74:AW74),2) -> 0 | AU74: ='SO 05 - Rozváděcí řad 2'!P85 -> 0 | AV74: ='SO 05 - Rozváděcí řad 2'!J33 -> 0 | AW74: ='SO 05 - Rozváděcí řad 2'!J34 -> 0 | AX74: ='SO 05 - Rozváděcí řad 2'!J35 -> 0 | AY74: ='SO 05 - Rozváděcí řad 2'!J36 -> 0 | AZ74: ='SO 05 - Rozváděcí řad 2'!F33 -> 0 | BA74: ='SO 05 - Rozváděcí řad 2'!F34 -> 0 | BB74: ='SO 05 - Rozváděcí řad 2'!F35 -> 0 | BC74: ='SO 05 - Rozváděcí řad 2'!F36 -> 0 | BD74: ='SO 05 - Rozváděcí řad 2'!F37 -> 0 | BT74: 1 | BV74: IMPORT | BW74: {6271922a-ae37-4c0b-ba53-9902a11dedc5} | BX74: {3b664484-ed53-4eb1-a27a-a8e55c55a450} | CL74: 827 13 11 | CM74: 2
A75: / | D75: SO 06 | J75: Rozváděcí řad 3 | AG75: ='SO 06 - Rozváděcí řad 3'!J30 -> 0 | AN75: =SUM(AG75,AT75) -> 0 | AQ75: ING | AS75: 0 | AT75: =ROUND(SUM(AV75:AW75),2) -> 0 | AU75: ='SO 06 - Rozváděcí řad 3'!P85 -> 0 | AV75: ='SO 06 - Rozváděcí řad 3'!J33 -> 0 | AW75: ='SO 06 - Rozváděcí řad 3'!J34 -> 0 | AX75: ='SO 06 - Rozváděcí řad 3'!J35 -> 0 | AY75: ='SO 06 - Rozváděcí řad 3'!J36 -> 0 | AZ75: ='SO 06 - Rozváděcí řad 3'!F33 -> 0 | BA75: ='SO 06 - Rozváděcí řad 3'!F34 -> 0 | BB75: ='SO 06 - Rozváděcí řad 3'!F35 -> 0 | BC75: ='SO 06 - Rozváděcí řad 3'!F36 -> 0 | BD75: ='SO 06 - Rozváděcí řad 3'!F37 -> 0 | BT75: 1 | BV75: IMPORT | BW75: {6f2b828e-26a0-4006-96c1-6ef02128fe84} | BX75: {3b664484-ed53-4eb1-a27a-a8e55c55a450} | CL75: 827 13 11 | CM75: 2
A76: / | D76: VON | J76: Vedlejší a ostatní rozpočtové náklady | AG76: ='VON - Vedlejší a ostatní ...'!J30 -> 0 | AN76: =SUM(AG76,AT76) -> 0 | AQ76: VON | AS76: 0 | AT76: =ROUND(SUM(AV76:AW76),2) -> 0 | AU76: ='VON - Vedlejší a ostatní ...'!P85 -> 0 | AV76: ='VON - Vedlejší a ostatní ...'!J33 -> 0 | AW76: ='VON - Vedlejší a ostatní ...'!J34 -> 0 | AX76: ='VON - Vedlejší a ostatní ...'!J35 -> 0 | AY76: ='VON - Vedlejší a ostatní ...'!J36 -> 0 | AZ76: ='VON - Vedlejší a ostatní ...'!F33 -> 0 | BA76: ='VON - Vedlejší a ostatní ...'!F34 -> 0 | BB76: ='VON - Vedlejší a ostatní ...'!F35 -> 0 | BC76: ='VON - Vedlejší a ostatní ...'!F36 -> 0 | BD76: ='VON - Vedlejší a ostatní ...'!F37 -> 0 | BT76: 1 | BV76: IMPORT | BW76: {4c807b73-8742-429b-941d-046f42e74cd1} | BX76: {3b664484-ed53-4eb1-a27a-a8e55c55a450} | CM76: 2

Sheet SO 01 - Přiváděcí řad
AT2: {38df8828-39e7-49c2-b1e9-7c793a76f1fa}
AT3: 2
D4: KRYCÍ LIST SOUPISU PRACÍ | M4: v --- níže se nacházejí doplnkové a pomocné údaje k sestavám --- v | AT4: False
D6: Stavba:
E7: ='Rekapitulace stavby'!K6 -> Připojení vodovodu Černé Voděrady na SV Region JIH
D8: Objekt:
E9: SO 01 - Přiváděcí řad
D11: KSO: | F11: 827 11 11 | I11: CC-CZ: | J11: 22221
D12: Místo: | F12: K.Ú. černé Voděrady, Zvánovice, Ondřejov u Prahy | I12: Datum: | J12: ='Rekapitulace stavby'!AN8 -> 31. 7. 2025
D13: CZ-CPV: | F13: 45332200-5 | I13: CZ-CPA: | J13: 42.21.13
D14: Zadavatel: | I14: IČ: | J14: 00235318
E15: Obec Černé Voděrady, nám. Lípy Svobody 47, 281 63 | I15: DIČ:
D17: Účastník: | I17: IČ: | J17: ='Rekapitulace stavby'!AN13 -> Vyplň údaj
E18: ='Rekapitulace stavby'!E14 -> Vyplň údaj | I18: DIČ: | J18: ='Rekapitulace stavby'!AN14 -> Vyplň údaj
D20: Projektant: | I20: IČ: | J20: 47116901
E21: Vodohospodářský rozvoj a výstavba s.s. Praha 5 | I21: DIČ:
D23: Zpracovatel: | I23: IČ:
I24: DIČ:
D26: Poznámka:
D30: Cena bez DPH | J30: =ROUND(J91, 2) -> 0
F32: Základ daně | I32: Sazba daně | J32: Výše daně
D33: DPH | E33: základní | F33: =ROUND((SUM(BE91:BE947)), 2) -> 0 | I33: 0.21 | J33: =ROUND(((SUM(BE91:BE947))*I33), 2) -> 0
E34: snížená | F34: =ROUND((SUM(BF91:BF947)), 2) -> 0 | I34: 0.12 | J34: =ROUND(((SUM(BF91:BF947))*I34), 2) -> 0
E35: zákl. přenesená | F35: =ROUND((SUM(BG91:BG947)), 2) -> 0 | I35: 0.21 | J35: =0 -> 0
E36: sníž. přenesená | F36: =ROUND((SUM(BH91:BH947)), 2) -> 0 | I36: 0.12 | J36: =0 -> 0
E37: nulová | F37: =ROUND((SUM(BI91:BI947)), 2) -> 0 | I37: 0 | J37: =0 -> 0
D39: Cena s DPH | G39: v | H39: CZK | J39: =SUM(J30:J37) -> 0
C45: REKAPITULACE ČLENĚNÍ SOUPISU PRACÍ
C47: Stavba:
E48: =E7 -> Připojení vodovodu Černé Voděrady na SV Region JIH
C49: Objekt:
E50: =E9 -> SO 01 - Přiváděcí řad
C52: Místo: | F52: =F12 -> K.Ú. černé Voděrady, Zvánovice, Ondřejov u Prahy | I52: Datum: | J52: =IF(J12="","",J12) -> 31. 7. 2025
C54: Zadavatel: | F54: =E15 -> Obec Černé Voděrady, nám. Lípy Svobody 47, 281 63 | I54: Projektant: | J54: =E21 -> Vodohospodářský rozvoj a výstavba s.s. Praha 5
C55: Účastník: | F55: =IF(E18="","",E18) -> Vyplň údaj | I55: Zpracovatel: | J55: =E24
C57: Kód dílu - Popis | J57: Cena celkem [CZK]
C59: Náklady stavby celkem | J59: =J91 -> 0 | AU59: -1
D60: HSV - Práce a dodávky HSV | J60: =J92 -> 0
D61: 1 - Zemní práce | J61: =J93 -> 0
D62: 2 - Zakládání | J62: =J542 -> 0
D63: 4 - Vodorovné konstrukce | J63: =J554 -> 0
D64: 5 - Komunikace pozemní | J64: =J589 -> 0
D65: 8 - Trubní vedení | J65: =J696 -> 0
D66: 9 - Ostatní konstrukce a práce, bourání | J66: =J815 -> 0
D67: 997 - Přesun sutě | J67: =J845 -> 0
D68: 998 - Přesun hmot | J68: =J923 -> 0
D69: M - Práce a dodávky M | J69: =J928 -> 0
D70: 23-M - Montáže potrubí | J70: =J929 -> 0
D71: 46-M - Zemní práce při extr.mont.pracích | J71: =J938 -> 0
C78: SOUPIS PRACÍ
C80: Stavba:
E81: =E7 -> Připojení vodovodu Černé Voděrady na SV Region JIH
C82: Objekt:
E83: =E9 -> SO 01 - Přiváděcí řad
C85: Místo: | F85: =F12 -> K.Ú. černé Voděrady, Zvánovice, Ondřejov u Prahy | I85: Datum: | J85: =IF(J12="","",J12) -> 31. 7. 2025
C87: Zadavatel: | F87: =E15 -> Obec Černé Voděrady, nám. Lípy Svobody 47, 281 63 | I87: Projektant: | J87: =E21 -> Vodohospodářský rozvoj a výstavba s.s. Praha 5
C88: Účastník: | F88: =IF(E18="","",E18) -> Vyplň údaj | I88: Zpracovatel: | J88: =E24
C90: PČ | D90: Typ | E90: Kód | F90: Popis | G90: MJ | H90: Množství | I90: J.cena [CZK] | J90: Cena celkem [CZK] | K90: Cenová soustava | N90: DPH | O90: J. Nh [h] | P90: Nh celkem [h] | Q90: J. hmotnost [t] | R90: Hmotnost celkem [t] | S90: J. suť [t] | T90: Suť Celkem [t]
C91: Náklady soupisu celkem | J91: =BK91 -> 0 | P91: =P92+P928 -> 0 | R91: =R92+R928 -> 409.74065 | T91: =T92+T928 -> 3767.5842 | AT91: D | AU91: -1 | BK91: =BK92+BK928 -> 0
D92: D | E92: HSV | F92: Práce a dodávky HSV | J92: =BK92 -> 0 | P92: =P93+P542+P554+P589+P696+P815+P845+P923 -> 0 | R92: =R93+R542+R554+R589+R696+R815+R845+R923 -> 408.47151 | T92: =T93+T542+T554+T589+T696+T815+T845+T923 -> 3767.5842 | AR92: 1 | AT92: D | AU92: 0 | AY92: ROZPOCET | BK92: =BK93+BK542+BK554+BK589+BK696+BK815+BK845+BK923 -> 0
D93: D | E93: 1 | F93: Zemní práce | J93: =BK93 -> 0 | P93: =SUM(P94:P541) -> 0 | R93: =SUM(R94:R541) -> 7.5732591 | T93: =SUM(T94:T541) -> 3767.5842 | AR93: 1 | AT93: D | AU93: 1 | AY93: ROZPOCET | BK93: =SUM(BK94:BK541) -> 0
C94: 1 | D94: K | E94: 111251101 | F94: Odstranění křovin a stromů s odstraněním kořenů strojně průměru kmene do 100 mm v rovině nebo ve svahu sklonu terénu do 1:5, při celkové ploše do 100 m2 | G94: m2 | H94: 60 | J94: =ROUND(I94*H94,2) -> 0 | K94: CS ÚRS 2025 02 | N94: základní | P94: =O94*H94 -> 0 | Q94: 0 | R94: =Q94*H94 -> 0 | S94: 0 | T94: =S94*H94 -> 0 | AR94: 4 | AT94: K | AU94: 2 | AY94: ROZPOCET | BE94: =IF(N94="základní",J94,0) -> 0 | BF94: =IF(N94="snížená",J94,0) -> 0 | BG94: =IF(N94="zákl. přenesená",J94,0) -> 0 | BH94: =IF(N94="sníž. přenesená",J94,0) -> 0 | BI94: =IF(N94="nulová",J94,0) -> 0 | BJ94: 1 | BK94: =ROUND(I94*H94,2) -> 0 | BL94: 4 | BM94: 6578772
D95: Online PSC | F95: https://podminky.urs.cz/item/CS_URS_2025_02/111251101 | AT95: Online PSC | AU95: 2
C96: 2 | D96: K | E96: 112101101 | F96: Odstranění stromů s odřezáním kmene a s odvětvením listnatých, průměru kmene přes 100 do 300 mm | G96: kus | H96: 33 | J96: =ROUND(I96*H96,2) -> 0 | K96: CS ÚRS 2025 02 | N96: základní | P96: =O96*H96 -> 0 | Q96: 0 | R96: =Q96*H96 -> 0 | S96: 0 | T96: =S96*H96 -> 0 | AR96: 4 | AT96: K | AU96: 2 | AY96: ROZPOCET | BE96: =IF(N96="základní",J96,0) -> 0 | BF96: =IF(N96="snížená",J96,0) -> 0 | BG96: =IF(N96="zákl. přenesená",J96,0) -> 0 | BH96: =IF(N96="sníž. přenesená",J96,0) -> 0 | BI96: =IF(N96="nulová",J96,0) -> 0 | BJ96: 1 | BK96: =ROUND(I96*H96,2) -> 0 | BL96: 4 | BM96: -979180319
D97: Online PSC | F97: https://podminky.urs.cz/item/CS_URS_2025_02/112101101 | AT97: Online PSC | AU97: 2
D98: VV | F98: "PASPORT ZELENĚ | AT98: VV | AU98: 2 | AV98: 1 | AW98: True | AX98: 0 | AY98: ROZPOCET
D99: VV | F99: 33 | H99: 33 | AT99: VV | AU99: 2 | AV99: 2 | AW99: True | AX99: 1 | AY99: ROZPOCET
C100: 3 | D100: K | E100: 112101102 | F100: Odstranění stromů s odřezáním kmene a s odvětvením listnatých, průměru kmene přes 300 do 500 mm | G100: kus | H100: 19 | J100: =ROUND(I100*H100,2) -> 0 | K100: CS ÚRS 2025 02 | N100: základní | P100: =O100*H100 -> 0 | Q100: 0 | R100: =Q100*H100 -> 0 | S100: 0 | T100: =S100*H100 -> 0 | AR100: 4 | AT100: K | AU100: 2 | AY100: ROZPOCET | BE100: =IF(N100="základní",J100,0) -> 0 | BF100: =IF(N100="snížená",J100,0) -> 0 | BG100: =IF(N100="zákl. přenesená",J100,0) -> 0 | BH100: =IF(N100="sníž. přenesená",J100,0) -> 0 | BI100: =IF(N100="nulová",J100,0) -> 0 | BJ100: 1 | BK100: =ROUND(I100*H100,2) -> 0 | BL100: 4 | BM100: -58952422
D101: Online PSC | F101: https://podminky.urs.cz/item/CS_URS_2025_02/112101102 | AT101: Online PSC | AU101: 2
D102: VV | F102: "PASPORT ZELENĚ | AT102: VV | AU102: 2 | AV102: 1 | AW102: True | AX102: 0 | AY102: ROZPOCET
D103: VV | F103: 19 | H103: 19 | AT103: VV | AU103: 2 | AV103: 2 | AW103: True | AX103: 1 | AY103: ROZPOCET
C104: 4 | D104: K | E104: 112101103 | F104: Odstranění stromů s odřezáním kmene a s odvětvením listnatých, průměru kmene přes 500 do 700 mm | G104: kus | H104: 6 | J104: =ROUND(I104*H104,2) -> 0 | K104: CS ÚRS 2025 02 | N104: základní | P104: =O104*H104 -> 0 | Q104: 0 | R104: =Q104*H104 -> 0 | S104: 0 | T104: =S104*H104 -> 0 | AR104: 4 | AT104: K | AU104: 2 | AY104: ROZPOCET | BE104: =IF(N104="základní",J104,0) -> 0 | BF104: =IF(N104="snížená",J104,0) -> 0 | BG104: =IF(N104="zákl. přenesená",J104,0) -> 0 | BH104: =IF(N104="sníž. přenesená",J104,0) -> 0 | BI104: =IF(N104="nulová",J104,0) -> 0 | BJ104: 1 | BK104: =ROUND(I104*H104,2) -> 0 | BL104: 4 | BM104: 1992741282
D105: Online PSC | F105: https://podminky.urs.cz/item/CS_URS_2025_02/112101103 | AT105: Online PSC | AU105: 2
D106: VV | F106: "TECHNICKÁ ZPRÁVA | AT106: VV | AU106: 2 | AV106: 1 | AW106: True | AX106: 0 | AY106: ROZPOCET
D107: VV | F107: "PASPORT ZELENĚ | AT107: VV | AU107: 2 | AV107: 1 | AW107: True | AX107: 0 | AY107: ROZPOCET
D108: VV | F108: 6 | H108: 6 | AT108: VV | AU108: 2 | AV108: 2 | AW108: True | AX108: 1 | AY108: ROZPOCET
C109: 5 | D109: K | E109: 112101121 | F109: Odstranění stromů s odřezáním kmene a s odvětvením jehličnatých bez odkornění, průměru kmene přes 100 do 300 mm | G109: kus | H109: 16 | J109: =ROUND(I109*H109,2) -> 0 | K109: CS ÚRS 2025 02 | N109: základní | P109: =O109*H109 -> 0 | Q109: 0 | R109: =Q109*H109 -> 0 | S109: 0 | T109: =S109*H109 -> 0 | AR109: 4 | AT109: K | AU109: 2 | AY109: ROZPOCET | BE109: =IF(N109="základní",J109,0) -> 0 | BF109: =IF(N109="snížená",J109,0) -> 0 | BG109: =IF(N109="zákl. přenesená",J109,0) -> 0 | BH109: =IF(N109="sníž. přenesená",J109,0) -> 0 | BI109: =IF(N109="nulová",J109,0) -> 0 | BJ109: 1 | BK109: =ROUND(I109*H109,2) -> 0 | BL109: 4 | BM109: 1331989694
D110: Online PSC | F110: https://podminky.urs.cz/item/CS_URS_2025_02/112101121 | AT110: Online PSC | AU110: 2
D111: VV | F111: "PASPORT ZELENĚ | AT111: VV | AU111: 2 | AV111: 1 | AW111: True | AX111: 0 | AY111: ROZPOCET
D112: VV | F112: 16 | H112: 16 | AT112: VV | AU112: 2 | AV112: 2 | AW112: True | AX112: 1 | AY112: ROZPOCET
C113: 6 | D113: K | E113: 112101122 | F113: Odstranění stromů s odřezáním kmene a s odvětvením jehličnatých bez odkornění, průměru kmene přes 300 do 500 mm | G113: kus | H113: 7 | J113: =ROUND(I113*H113,2) -> 0 | K113: CS ÚRS 2025 02 | N113: základní | P113: =O113*H113 -> 0 | Q113: 0 | R113: =Q113*H113 -> 0 | S113: 0 | T113: =S113*H113 -> 0 | AR113: 4 | AT113: K | AU113: 2 | AY113: ROZPOCET | BE113: =IF(N113="základní",J113,0) -> 0 | BF113: =IF(N113="snížená",J113,0) -> 0 | BG113: =IF(N113="zákl. přenesená",J113,0) -> 0 | BH113: =IF(N113="sníž. přenesená",J113,0) -> 0 | BI113: =IF(N113="nulová",J113,0) -> 0 | BJ113: 1 | BK113: =ROUND(I113*H113,2) -> 0 | BL113: 4 | BM113: 1492379938
D114: Online PSC | F114: https://podminky.urs.cz/item/CS_URS_2025_02/112101122 | AT114: Online PSC | AU114: 2
D115: VV | F115: "PASPORT ZELENĚ | AT115: VV | AU115: 2 | AV115: 1 | AW115: True | AX115: 0 | AY115: ROZPOCET
D116: VV | F116: 7 | H116: 7 | AT116: VV | AU116: 2 | AV116: 2 | AW116: True | AX116: 1 | AY116: ROZPOCET
C117: 7 | D117: K | E117: 112101123 | F117: Odstranění stromů s odřezáním kmene a s odvětvením jehličnatých bez odkornění, průměru kmene přes 500 do 700 mm | G117: kus | H117: 5 | J117: =ROUND(I117*H117,2) -> 0 | K117: CS ÚRS 2025 02 | N117: základní | P117: =O117*H117 -> 0 | Q117: 0 | R117: =Q117*H117 -> 0 | S117: 0 | T117: =S117*H117 -> 0 | AR117: 4 | AT117: K | AU117: 2 | AY117: ROZPOCET | BE117: =IF(N117="základní",J117,0) -> 0 | BF117: =IF(N117="snížená",J117,0) -> 0 | BG117: =IF(N117="zákl. přenesená",J117,0) -> 0 | BH117: =IF(N117="sníž. přenesená",J117,0) -> 0 | BI117: =IF(N117="nulová",J117,0) -> 0 | BJ117: 1 | BK117: =ROUND(I117*H117,2) -> 0 | BL117: 4 | BM117: -212107679
D118: Online PSC | F118: https://podminky.urs.cz/item/CS_URS_2025_02/112101123 | AT118: Online PSC | AU118: 2
D119: VV | F119: "PASPORT ZELENĚ | AT119: VV | AU119: 2 | AV119: 1 | AW119: True | AX119: 0 | AY119: ROZPOCET
D120: VV | F120: 5 | H120: 5 | AT120: VV | AU120: 2 | AV120: 2 | AW120: True | AX120: 1 | AY120: ROZPOCET
C121: 8 | D121: K | E121: 112155215 | F121: Štěpkování s naložením na dopravní prostředek a odvozem do 20 km stromků a větví solitérů, průměru kmene do 300 mm | G121: kus | H121: 49 | J121: =ROUND(I121*H121,2) -> 0 | K121: CS ÚRS 2025 02 | N121: základní | P121: =O121*H121 -> 0 | Q121: 0 | R121: =Q121*H121 -> 0 | S121: 0 | T121: =S121*H121 -> 0 | AR121: 4 | AT121: K | AU121: 2 | AY121: ROZPOCET | BE121: =IF(N121="základní",J121,0) -> 0 | BF121: =IF(N121="snížená",J121,0) -> 0 | BG121: =IF(N121="zákl. přenesená",J121,0) -> 0 | BH121: =IF(N121="sníž. přenesená",J121,0) -> 0 | BI121: =IF(N121="nulová",J121,0) -> 0 | BJ121: 1 | BK121: =ROUND(I121*H121,2) -> 0 | BL121: 4 | BM121: -375352631
D122: Online PSC | F122: https://podminky.urs.cz/item/CS_URS_2025_02/112155215 | AT122: Online PSC | AU122: 2
C123: 9 | D123: K | E123: 112155221 | F123: Štěpkování s naložením na dopravní prostředek a odvozem do 20 km stromků a větví solitérů, průměru kmene přes 300 do 500 mm | G123: kus | H123: 26 | J123: =ROUND(I123*H123,2) -> 0 | K123: CS ÚRS 2025 02 | N123: základní | P123: =O123*H123 -> 0 | Q123: 0 | R123: =Q123*H123 -> 0 | S123: 0 | T123: =S123*H123 -> 0 | AR123: 4 | AT123: K | AU123: 2 | AY123: ROZPOCET | BE123: =IF(N123="základní",J123,0) -> 0 | BF123: =IF(N123="snížená",J123,0) -> 0 | BG123: =IF(N123="zákl. přenesená",J123,0) -> 0 | BH123: =IF(N123="sníž. přenesená",J123,0) -> 0 | BI123: =IF(N123="nulová",J123,0) -> 0 | BJ123: 1 | BK123: =ROUND(I123*H123,2) -> 0 | BL123: 4 | BM123: 582148116
D124: Online PSC | F124: https://podminky.urs.cz/item/CS_URS_2025_02/112155221 | AT124: Online PSC | AU124: 2
C125: 10 | D125: K | E125: 112155225 | F125: Štěpkování s naložením na dopravní prostředek a odvozem do 20 km stromků a větví solitérů, průměru kmene přes 500 do 700 mm | G125: kus | H125: 11 | J125: =ROUND(I125*H125,2) -> 0 | K125: CS ÚRS 2025 02 | N125: základní | P125: =O125*H125 -> 0 | Q125: 0 | R125: =Q125*H125 -> 0 | S125: 0 | T125: =S125*H125 -> 0 | AR125: 4 | AT125: K | AU125: 2 | AY125: ROZPOCET | BE125: =IF(N125="základní",J125,0) -> 0 | BF125: =IF(N125="snížená",J125,0) -> 0 | BG125: =IF(N125="zákl. přenesená",J125,0) -> 0 | BH125: =IF(N125="sníž. přenesená",J125,0) -> 0 | BI125: =IF(N125="nulová",J125,0) -> 0 | BJ125: 1 | BK125: =ROUND(I125*H125,2) -> 0 | BL125: 4 | BM125: -1230368393
D126: Online PSC | F126: https://podminky.urs.cz/item/CS_URS_2025_02/112155225 | AT126: Online PSC | AU126: 2
C127: 11 | D127: K | E127: 112155311 | F127: Štěpkování s naložením na dopravní prostředek a odvozem do 20 km keřového porostu středně hustého | G127: m2 | H127: 60 | J127: =ROUND(I127*H127,2) -> 0 | K127: CS ÚRS 2025 02 | N127: základní | P127: =O127*H127 -> 0 | Q127: 0 | R127: =Q127*H127 -> 0 | S127: 0 | T127: =S127*H127 -> 0 | AR127: 4 | AT127: K | AU127: 2 | AY127: ROZPOCET | BE127: =IF(N127="základní",J127,0) -> 0 | BF127: =IF(N127="snížená",J127,0) -> 0 | BG127: =IF(N127="zákl. přenesená",J127,0) -> 0 | BH127: =IF(N127="sníž. přenesená",J127,0) -> 0 | BI127: =IF(N127="nulová",J127,0) -> 0 | BJ127: 1 | BK127: =ROUND(I127*H127,2) -> 0 | BL127: 4 | BM127: 344812021
D128: Online PSC | F128: https://podminky.urs.cz/item/CS_URS_2025_02/112155311 | AT128: Online PSC | AU128: 2
C129: 12 | D129: K | E129: 112251101 | F129: Odstranění pařezů strojně s jejich vykopáním nebo vytrháním průměru přes 100 do 300 mm | G129: kus | H129: 49 | J129: =ROUND(I129*H129,2) -> 0 | K129: CS ÚRS 2025 02 | N129: základní | P129: =O129*H129 -> 0 | Q129: 0 | R129: =Q129*H129 -> 0 | S129: 0 | T129: =S129*H129 -> 0 | AR129: 4 | AT129: K | AU129: 2 | AY129: ROZPOCET | BE129: =IF(N129="základní",J129,0) -> 0 | BF129: =IF(N129="snížená",J129,0) -> 0 | BG129: =IF(N129="zákl. přenesená",J129,0) -> 0 | BH129: =IF(N129="sníž. přenesená",J129,0) -> 0 | BI129: =IF(N129="nulová",J129,0) -> 0 | BJ129: 1 | BK129: =ROUND(I129*H129,2) -> 0 | BL129: 4 | BM129: -502417012
D130: Online PSC | F130: https://podminky.urs.cz/item/CS_URS_2025_02/112251101 | AT130: Online PSC | AU130: 2
D131: VV | F131: 33+16 | H131: 49 | AT131: VV | AU131: 2 | AV131: 2 | AW131: True | AX131: 1 | AY131: ROZPOCET
C132: 13 | D132: K | E132: 112251102 | F132: Odstranění pařezů strojně s jejich vykopáním nebo vytrháním průměru přes 300 do 500 mm | G132: kus | H132: 26 | J132: =ROUND(I132*H132,2) -> 0 | K132: CS ÚRS 2025 02 | N132: základní | P132: =O132*H132 -> 0 | Q132: 0 | R132: =Q132*H132 -> 0 | S132: 0 | T132: =S132*H132 -> 0 | AR132: 4 | AT132: K | AU132: 2 | AY132: ROZPOCET | BE132: =IF(N132="základní",J132,0) -> 0 | BF132: =IF(N132="snížená",J132,0) -> 0 | BG132: =IF(N132="zákl. přenesená",J132,0) -> 0 | BH132: =IF(N132="sníž. přenesená",J132,0) -> 0 | BI132: =IF(N132="nulová",J132,0) -> 0 | BJ132: 1 | BK132: =ROUND(I132*H132,2) -> 0 | BL132: 4 | BM132: 1732553038
...

Sheet SO 02 - Rozváděcí řad 1
AT2: {73cbfc85-daa1-4228-8572-5cacf42582b7}
AT3: 2
D4: KRYCÍ LIST SOUPISU PRACÍ | M4: v --- níže se nacházejí doplnkové a pomocné údaje k sestavám --- v | AT4: False
D6: Stavba:
E7: ='Rekapitulace stavby'!K6 -> Připojení vodovodu Černé Voděrady na SV Region JIH
D8: Objekt:
E9: SO 02 - Rozváděcí řad 1
D11: KSO: | F11: 827 13 11 | I11: CC-CZ: | J11: 22221
D12: Místo: | F12: K.Ú. černé Voděrady, Zvánovice, Ondřejov u Prahy | I12: Datum: | J12: ='Rekapitulace stavby'!AN8 -> 31. 7. 2025
D13: CZ-CPV: | F13: 45332200-5 | I13: CZ-CPA: | J13: 42.21.23
D14: Zadavatel: | I14: IČ: | J14: 00235318
E15: Obec Černé Voděrady, nám. Lípy Svobody 47, 281 63 | I15: DIČ:
D17: Účastník: | I17: IČ: | J17: ='Rekapitulace stavby'!AN13 -> Vyplň údaj
E18: ='Rekapitulace stavby'!E14 -> Vyplň údaj | I18: DIČ: | J18: ='Rekapitulace stavby'!AN14 -> Vyplň údaj
D20: Projektant: | I20: IČ: | J20: 47116901
E21: Vodohospodářský rozvoj a výstavba s.s. Praha 5 | I21: DIČ:
D23: Zpracovatel: | I23: IČ:
I24: DIČ:
D26: Poznámka:
D30: Cena bez DPH | J30: =ROUND(J86, 2) -> 0
F32: Základ daně | I32: Sazba daně | J32: Výše daně
D33: DPH | E33: základní | F33: =ROUND((SUM(BE86:BE426)), 2) -> 0 | I33: 0.21 | J33: =ROUND(((SUM(BE86:BE426))*I33), 2) -> 0
E34: snížená | F34: =ROUND((SUM(BF86:BF426)), 2) -> 0 | I34: 0.12 | J34: =ROUND(((SUM(BF86:BF426))*I34), 2) -> 0
E35: zákl. přenesená | F35: =ROUND((SUM(BG86:BG426)), 2) -> 0 | I35: 0.21 | J35: =0 -> 0
E36: sníž. přenesená | F36: =ROUND((SUM(BH86:BH426)), 2) -> 0 | I36: 0.12 | J36: =0 -> 0
E37: nulová | F37: =ROUND((SUM(BI86:BI426)), 2) -> 0 | I37: 0 | J37: =0 -> 0
D39: Cena s DPH | G39: v | H39: CZK | J39: =SUM(J30:J37) -> 0
C45: REKAPITULACE ČLENĚNÍ SOUPISU PRACÍ
C47: Stavba:
E48: =E7 -> Připojení vodovodu Černé Voděrady na SV Region JIH
C49: Objekt:
E50: =E9 -> SO 02 - Rozváděcí řad 1
C52: Místo: | F52: =F12 -> K.Ú. černé Voděrady, Zvánovice, Ondřejov u Prahy | I52: Datum: | J52: =IF(J12="","",J12) -> 31. 7. 2025
C54: Zadavatel: | F54: =E15 -> Obec Černé Voděrady, nám. Lípy Svobody 47, 281 63 | I54: Projektant: | J54: =E21 -> Vodohospodářský rozvoj a výstavba s.s. Praha 5
C55: Účastník: | F55: =IF(E18="","",E18) -> Vyplň údaj | I55: Zpracovatel: | J55: =E24
C57: Kód dílu - Popis | J57: Cena celkem [CZK]
C59: Náklady stavby celkem | J59: =J86 -> 0 | AU59: -1
D60: HSV - Práce a dodávky HSV | J60: =J87 -> 0
D61: 1 - Zemní práce | J61: =J88 -> 0
D62: 4 - Vodorovné konstrukce | J62: =J279 -> 0
D63: 5 - Komunikace pozemní | J63: =J304 -> 0
D64: 8 - Trubní vedení | J64: =J326 -> 0
D65: 997 - Přesun sutě | J65: =J416 -> 0
D66: 998 - Přesun hmot | J66: =J424 -> 0
C73: SOUPIS PRACÍ
C75: Stavba:
E76: =E7 -> Připojení vodovodu Černé Voděrady na SV Region JIH
C77: Objekt:
E78: =E9 -> SO 02 - Rozváděcí řad 1
C80: Místo: | F80: =F12 -> K.Ú. černé Voděrady, Zvánovice, Ondřejov u Prahy | I80: Datum: | J80: =IF(J12="","",J12) -> 31. 7. 2025
C82: Zadavatel: | F82: =E15 -> Obec Černé Voděrady, nám. Lípy Svobody 47, 281 63 | I82: Projektant: | J82: =E21 -> Vodohospodářský rozvoj a výstavba s.s. Praha 5
C83: Účastník: | F83: =IF(E18="","",E18) -> Vyplň údaj | I83: Zpracovatel: | J83: =E24
C85: PČ | D85: Typ | E85: Kód | F85: Popis | G85: MJ | H85: Množství | I85: J.cena [CZK] | J85: Cena celkem [CZK] | K85: Cenová soustava | N85: DPH | O85: J. Nh [h] | P85: Nh celkem [h] | Q85: J. hmotnost [t] | R85: Hmotnost celkem [t] | S85: J. suť [t] | T85: Suť Celkem [t]
C86: Náklady soupisu celkem | J86: =BK86 -> 0 | P86: =P87 -> 0 | R86: =R87 -> 5.3457874 | T86: =T87 -> 251.43 | AT86: D | AU86: -1 | BK86: =BK87 -> 0
D87: D | E87: HSV | F87: Práce a dodávky HSV | J87: =BK87 -> 0 | P87: =P88+P279+P304+P326+P416+P424 -> 0 | R87: =R88+R279+R304+R326+R416+R424 -> 5.3457874 | T87: =T88+T279+T304+T326+T416+T424 -> 251.43 | AR87: 1 | AT87: D | AU87: 0 | AY87: ROZPOCET | BK87: =BK88+BK279+BK304+BK326+BK416+BK424 -> 0
D88: D | E88: 1 | F88: Zemní práce | J88: =BK88 -> 0 | P88: =SUM(P89:P278) -> 0 | R88: =SUM(R89:R278) -> 1.253702 | T88: =SUM(T89:T278) -> 251.43 | AR88: 1 | AT88: D | AU88: 1 | AY88: ROZPOCET | BK88: =SUM(BK89:BK278) -> 0
C89: 1 | D89: K | E89: 113107224 | F89: Odstranění podkladů nebo krytů strojně plochy jednotlivě přes 200 m2 s přemístěním hmot na skládku na vzdálenost do 20 m nebo s naložením na dopravní prostředek z kameniva hrubého drceného, o tl. vrstvy přes 300 do 400 mm | G89: m2 | H89: 433.5 | J89: =ROUND(I89*H89,2) -> 0 | K89: CS ÚRS 2025 02 | N89: základní | P89: =O89*H89 -> 0 | Q89: 0 | R89: =Q89*H89 -> 0 | S89: 0.58 | T89: =S89*H89 -> 251.43 | AR89: 4 | AT89: K | AU89: 2 | AY89: ROZPOCET | BE89: =IF(N89="základní",J89,0) -> 0 | BF89: =IF(N89="snížená",J89,0) -> 0 | BG89: =IF(N89="zákl. přenesená",J89,0) -> 0 | BH89: =IF(N89="sníž. přenesená",J89,0) -> 0 | BI89: =IF(N89="nulová",J89,0) -> 0 | BJ89: 1 | BK89: =ROUND(I89*H89,2) -> 0 | BL89: 4 | BM89: 375480832
D90: Online PSC | F90: https://podminky.urs.cz/item/CS_URS_2025_02/113107224 | AT90: Online PSC | AU90: 2
D91: VV | F91: štěrková cesta | AT91: VV | AU91: 2 | AV91: 1 | AW91: True | AX91: 0 | AY91: ROZPOCET
D92: VV | F92: 144,5*3 | H92: 433.5 | AT92: VV | AU92: 2 | AV92: 2 | AW92: True | AX92: 1 | AY92: ROZPOCET
C93: 2 | D93: K | E93: 115101201 | F93: Čerpání vody na dopravní výšku do 10 m s uvažovaným průměrným přítokem do 500 l/min | G93: hod | H93: 50 | J93: =ROUND(I93*H93,2) -> 0 | K93: CS ÚRS 2025 02 | N93: základní | P93: =O93*H93 -> 0 | Q93: 3e-05 | R93: =Q93*H93 -> 0.0015 | S93: 0 | T93: =S93*H93 -> 0 | AR93: 4 | AT93: K | AU93: 2 | AY93: ROZPOCET | BE93: =IF(N93="základní",J93,0) -> 0 | BF93: =IF(N93="snížená",J93,0) -> 0 | BG93: =IF(N93="zákl. přenesená",J93,0) -> 0 | BH93: =IF(N93="sníž. přenesená",J93,0) -> 0 | BI93: =IF(N93="nulová",J93,0) -> 0 | BJ93: 1 | BK93: =ROUND(I93*H93,2) -> 0 | BL93: 4 | BM93: 1577047712
D94: Online PSC | F94: https://podminky.urs.cz/item/CS_URS_2025_02/115101201 | AT94: Online PSC | AU94: 2
D95: VV | F95: 5 dní á 10 hod | AT95: VV | AU95: 2 | AV95: 1 | AW95: True | AX95: 0 | AY95: ROZPOCET
D96: VV | F96: 5*10 | H96: 50 | AT96: VV | AU96: 2 | AV96: 2 | AW96: True | AX96: 1 | AY96: ROZPOCET
C97: 3 | D97: K | E97: 115101301 | F97: Pohotovost záložní čerpací soupravy pro dopravní výšku do 10 m s uvažovaným průměrným přítokem do 500 l/min | G97: den | H97: 5 | J97: =ROUND(I97*H97,2) -> 0 | K97: CS ÚRS 2025 02 | N97: základní | P97: =O97*H97 -> 0 | Q97: 0 | R97: =Q97*H97 -> 0 | S97: 0 | T97: =S97*H97 -> 0 | AR97: 4 | AT97: K | AU97: 2 | AY97: ROZPOCET | BE97: =IF(N97="základní",J97,0) -> 0 | BF97: =IF(N97="snížená",J97,0) -> 0 | BG97: =IF(N97="zákl. přenesená",J97,0) -> 0 | BH97: =IF(N97="sníž. přenesená",J97,0) -> 0 | BI97: =IF(N97="nulová",J97,0) -> 0 | BJ97: 1 | BK97: =ROUND(I97*H97,2) -> 0 | BL97: 4 | BM97: 602968166
D98: Online PSC | F98: https://podminky.urs.cz/item/CS_URS_2025_02/115101301 | AT98: Online PSC | AU98: 2
C99: 4 | D99: K | E99: 119001423 | F99: Dočasné zajištění podzemního potrubí nebo vedení ve výkopišti ve stavu i poloze, ve kterých byla na začátku zemních prací a to s podepřením, vzepřením nebo vyvěšením, případně s ochranným bedněním, se zřízením a odstraněním zajišťovací konstrukce, s opotřebením hmot kabelů a kabelových tratí z volně ložených kabelů a to přes 6 kabelů | G99: m | H99: 7 | J99: =ROUND(I99*H99,2) -> 0 | K99: CS ÚRS 2025 02 | N99: základní | P99: =O99*H99 -> 0 | Q99: 0.10775 | R99: =Q99*H99 -> 0.75425 | S99: 0 | T99: =S99*H99 -> 0 | AR99: 4 | AT99: K | AU99: 2 | AY99: ROZPOCET | BE99: =IF(N99="základní",J99,0) -> 0 | BF99: =IF(N99="snížená",J99,0) -> 0 | BG99: =IF(N99="zákl. přenesená",J99,0) -> 0 | BH99: =IF(N99="sníž. přenesená",J99,0) -> 0 | BI99: =IF(N99="nulová",J99,0) -> 0 | BJ99: 1 | BK99: =ROUND(I99*H99,2) -> 0 | BL99: 4 | BM99: -1614768186
D100: Online PSC | F100: https://podminky.urs.cz/item/CS_URS_2025_02/119001423 | AT100: Online PSC | AU100: 2
D101: VV | F101: kabely | AT101: VV | AU101: 2 | AV101: 1 | AW101: True | AX101: 0 | AY101: ROZPOCET
D102: VV | F102: 7*1 | H102: 7 | AT102: VV | AU102: 2 | AV102: 2 | AW102: True | AX102: 1 | AY102: ROZPOCET
C103: 5 | D103: K | E103: 121151115 | F103: Sejmutí ornice strojně při souvislé ploše přes 100 do 500 m2, tl. vrstvy přes 250 do 300 mm | G103: m2 | H103: 109.25 | J103: =ROUND(I103*H103,2) -> 0 | K103: CS ÚRS 2025 02 | N103: základní | P103: =O103*H103 -> 0 | Q103: 0 | R103: =Q103*H103 -> 0 | S103: 0 | T103: =S103*H103 -> 0 | AR103: 4 | AT103: K | AU103: 2 | AY103: ROZPOCET | BE103: =IF(N103="základní",J103,0) -> 0 | BF103: =IF(N103="snížená",J103,0) -> 0 | BG103: =IF(N103="zákl. přenesená",J103,0) -> 0 | BH103: =IF(N103="sníž. přenesená",J103,0) -> 0 | BI103: =IF(N103="nulová",J103,0) -> 0 | BJ103: 1 | BK103: =ROUND(I103*H103,2) -> 0 | BL103: 4 | BM103: 1714646179
D104: Online PSC | F104: https://podminky.urs.cz/item/CS_URS_2025_02/121151115 | AT104: Online PSC | AU104: 2
D105: VV | F105: tl.300 mm | AT105: VV | AU105: 2 | AV105: 1 | AW105: True | AX105: 0 | AY105: ROZPOCET
D106: VV | F106: pole | AT106: VV | AU106: 2 | AV106: 1 | AW106: True | AX106: 0 | AY106: ROZPOCET
D107: VV | F107: v pásu šířky 3 m bude nově vozovka s krytem z asfaltového recyklátu ) | AT107: VV | AU107: 2 | AV107: 1 | AW107: True | AX107: 0 | AY107: ROZPOCET
D108: VV | F108: 11,5*9,50 | H108: 109.25 | AT108: VV | AU108: 2 | AV108: 2 | AW108: True | AX108: 1 | AY108: ROZPOCET
C109: 6 | D109: K | E109: 132154204 | F109: Hloubení zapažených rýh šířky přes 800 do 2 000 mm strojně s urovnáním dna do předepsaného profilu a spádu v hornině třídy těžitelnosti I skupiny 1 a 2 přes 100 do 500 m3 | G109: m3 | H109: 23.515 | J109: =ROUND(I109*H109,2) -> 0 | K109: CS ÚRS 2025 02 | N109: základní | P109: =O109*H109 -> 0 | Q109: 0 | R109: =Q109*H109 -> 0 | S109: 0 | T109: =S109*H109 -> 0 | AR109: 4 | AT109: K | AU109: 2 | AY109: ROZPOCET | BE109: =IF(N109="základní",J109,0) -> 0 | BF109: =IF(N109="snížená",J109,0) -> 0 | BG109: =IF(N109="zákl. přenesená",J109,0) -> 0 | BH109: =IF(N109="sníž. přenesená",J109,0) -> 0 | BI109: =IF(N109="nulová",J109,0) -> 0 | BJ109: 1 | BK109: =ROUND(I109*H109,2) -> 0 | BL109: 4 | BM109: -188406739
D110: Online PSC | F110: https://podminky.urs.cz/item/CS_URS_2025_02/132154204 | AT110: Online PSC | AU110: 2
D111: VV | F111: potrubí PED110 | AT111: VV | AU111: 2 | AV111: 1 | AW111: True | AX111: 0 | AY111: ROZPOCET
D112: VV | F112: šířka rýhy = 1,0 m | AT112: VV | AU112: 2 | AV112: 1 | AW112: True | AX112: 0 | AY112: ROZPOCET
D113: VV | F113: průměrná hloubka výkopu včetně povrchů = 1,90 m | AT113: VV | AU113: 2 | AV113: 1 | AW113: True | AX113: 0 | AY113: ROZPOCET
D114: VV | F114: pole | AT114: VV | AU114: 2 | AV114: 1 | AW114: True | AX114: 0 | AY114: ROZPOCET
D115: VV | F115: 11,5*1*(1,9-0,3) | H115: 18.4 | AT115: VV | AU115: 2 | AV115: 2 | AW115: True | AX115: 0 | AY115: ROZPOCET
D116: VV | F116: štěrková cesta | AT116: VV | AU116: 2 | AV116: 1 | AW116: True | AX116: 0 | AY116: ROZPOCET
D117: VV | F117: 144,50*1*(1,9-0,4) | H117: 216.75 | AT117: VV | AU117: 2 | AV117: 2 | AW117: True | AX117: 0 | AY117: ROZPOCET
D118: VV | F118: Mezisoučet | H118: 235.15 | AT118: VV | AU118: 2 | AV118: 3 | AW118: True | AX118: 0 | AY118: ROZPOCET
D119: VV | F119: skupina 1 a 2 - 10% | AT119: VV | AU119: 2 | AV119: 1 | AW119: True | AX119: 0 | AY119: ROZPOCET
D120: VV | F120: 235,15*0,1 | H120: 23.515 | AT120: VV | AU120: 2 | AV120: 2 | AW120: True | AX120: 1 | AY120: ROZPOCET
C121: 7 | D121: K | E121: 132254204 | F121: Hloubení zapažených rýh šířky přes 800 do 2 000 mm strojně s urovnáním dna do předepsaného profilu a spádu v hornině třídy těžitelnosti I skupiny 3 přes 100 do 500 m3 | G121: m3 | H121: 35.273 | J121: =ROUND(I121*H121,2) -> 0 | K121: CS ÚRS 2025 02 | N121: základní | P121: =O121*H121 -> 0 | Q121: 0 | R121: =Q121*H121 -> 0 | S121: 0 | T121: =S121*H121 -> 0 | AR121: 4 | AT121: K | AU121: 2 | AY121: ROZPOCET | BE121: =IF(N121="základní",J121,0) -> 0 | BF121: =IF(N121="snížená",J121,0) -> 0 | BG121: =IF(N121="zákl. přenesená",J121,0) -> 0 | BH121: =IF(N121="sníž. přenesená",J121,0) -> 0 | BI121: =IF(N121="nulová",J121,0) -> 0 | BJ121: 1 | BK121: =ROUND(I121*H121,2) -> 0 | BL121: 4 | BM121: 193496828
D122: Online PSC | F122: https://podminky.urs.cz/item/CS_URS_2025_02/132254204 | AT122: Online PSC | AU122: 2
D123: VV | F123: skupina 3 - 15% | AT123: VV | AU123: 2 | AV123: 1 | AW123: True | AX123: 0 | AY123: ROZPOCET
D124: VV | F124: 235,15*0,15 | H124: 35.273 | AT124: VV | AU124: 2 | AV124: 2 | AW124: True | AX124: 1 | AY124: ROZPOCET
C125: 8 | D125: K | E125: 132354204 | F125: Hloubení zapažených rýh šířky přes 800 do 2 000 mm strojně s urovnáním dna do předepsaného profilu a spádu v hornině třídy těžitelnosti II skupiny 4 přes 100 do 500 m3 | G125: m3 | H125: 141.09 | J125: =ROUND(I125*H125,2) -> 0 | K125: CS ÚRS 2025 02 | N125: základní | P125: =O125*H125 -> 0 | Q125: 0 | R125: =Q125*H125 -> 0 | S125: 0 | T125: =S125*H125 -> 0 | AR125: 4 | AT125: K | AU125: 2 | AY125: ROZPOCET | BE125: =IF(N125="základní",J125,0) -> 0 | BF125: =IF(N125="snížená",J125,0) -> 0 | BG125: =IF(N125="zákl. přenesená",J125,0) -> 0 | BH125: =IF(N125="sníž. přenesená",J125,0) -> 0 | BI125: =IF(N125="nulová",J125,0) -> 0 | BJ125: 1 | BK125: =ROUND(I125*H125,2) -> 0 | BL125: 4 | BM125: -1781072417
D126: Online PSC | F126: https://podminky.urs.cz/item/CS_URS_2025_02/132354204 | AT126: Online PSC | AU126: 2
D127: VV | F127: skupina 4 - 60% | AT127: VV | AU127: 2 | AV127: 1 | AW127: True | AX127: 0 | AY127: ROZPOCET
D128: VV | F128: 235,15*0,60 | H128: 141.09 | AT128: VV | AU128: 2 | AV128: 2 | AW128: True | AX128: 1 | AY128: ROZPOCET
C129: 9 | D129: K | E129: 132454204 | F129: Hloubení zapažených rýh šířky přes 800 do 2 000 mm strojně s urovnáním dna do předepsaného profilu a spádu v hornině třídy těžitelnosti II skupiny 5 přes 100 do 500 m3 | G129: m3 | H129: 23.515 | J129: =ROUND(I129*H129,2) -> 0 | K129: CS ÚRS 2025 02 | N129: základní | P129: =O129*H129 -> 0 | Q129: 0 | R129: =Q129*H129 -> 0 | S129: 0 | T129: =S129*H129 -> 0 | AR129: 4 | AT129: K | AU129: 2 | AY129: ROZPOCET | BE129: =IF(N129="základní",J129,0) -> 0 | BF129: =IF(N129="snížená",J129,0) -> 0 | BG129: =IF(N129="zákl. přenesená",J129,0) -> 0 | BH129: =IF(N129="sníž. přenesená",J129,0) -> 0 | BI129: =IF(N129="nulová",J129,0) -> 0 | BJ129: 1 | BK129: =ROUND(I129*H129,2) -> 0 | BL129: 4 | BM129: 1006932318
D130: Online PSC | F130: https://podminky.urs.cz/item/CS_URS_2025_02/132454204 | AT130: Online PSC | AU130: 2
D131: VV | F131: skupina 5 - 10% | AT131: VV | AU131: 2 | AV131: 1 | AW131: True | AX131: 0 | AY131: ROZPOCET
D132: VV | F132: 235,15*0,10 | H132: 23.515 | AT132: VV | AU132: 2 | AV132: 2 | AW132: True | AX132: 1 | AY132: ROZPOCET
...

Sheet 1. - AŠ Zvánovice - stave...
AT2: {96be42ba-70fa-4d61-bd16-cf3bd184a13b}
AT3: 2
D4: KRYCÍ LIST SOUPISU PRACÍ | M4: v --- níže se nacházejí doplnkové a pomocné údaje k sestavám --- v | AT4: False
D6: Stavba:
E7: ='Rekapitulace stavby'!K6 -> Připojení vodovodu Černé Voděrady na SV Region JIH
D8: Objekt:
E9: SO 03 - AŠ Zvánovice
D10: Soupis:
E11: 1. - AŠ Zvánovice - stavební část + vystrojení
D13: KSO: | F13: 825 53 1 | I13: CC-CZ: | J13: 22223
D14: Místo: | F14: K.Ú. černé Voděrady, Zvánovice, Ondřejov u Prahy | I14: Datum: | J14: ='Rekapitulace stavby'!AN8 -> 31. 7. 2025
D15: CZ-CPV: | F15: 45332200-5 | I15: CZ-CPA: | J15: 42.21.23
D16: Zadavatel: | I16: IČ: | J16: 00235318
E17: Obec Černé Voděrady, nám. Lípy Svobody 47, 281 63 | I17: DIČ:
D19: Účastník: | I19: IČ: | J19: ='Rekapitulace stavby'!AN13 -> Vyplň údaj
E20: ='Rekapitulace stavby'!E14 -> Vyplň údaj | I20: DIČ: | J20: ='Rekapitulace stavby'!AN14 -> Vyplň údaj
D22: Projektant: | I22: IČ: | J22: 47116901
E23: Vodohospodářský rozvoj a výstavba s.s. Praha 5 | I23: DIČ:
D25: Zpracovatel: | I25: IČ:
I26: DIČ:
D28: Poznámka:
D32: Cena bez DPH | J32: =ROUND(J98, 2) -> 0
F34: Základ daně | I34: Sazba daně | J34: Výše daně
D35: DPH | E35: základní | F35: =ROUND((SUM(BE98:BE423)), 2) -> 0 | I35: 0.21 | J35: =ROUND(((SUM(BE98:BE423))*I35), 2) -> 0
E36: snížená | F36: =ROUND((SUM(BF98:BF423)), 2) -> 0 | I36: 0.12 | J36: =ROUND(((SUM(BF98:BF423))*I36), 2) -> 0
E37: zákl. přenesená | F37: =ROUND((SUM(BG98:BG423)), 2) -> 0 | I37: 0.21 | J37: =0 -> 0
E38: sníž. přenesená | F38: =ROUND((SUM(BH98:BH423)), 2) -> 0 | I38: 0.12 | J38: =0 -> 0
E39: nulová | F39: =ROUND((SUM(BI98:BI423)), 2) -> 0 | I39: 0 | J39: =0 -> 0
D41: Cena s DPH | G41: v | H41: CZK | J41: =SUM(J32:J39) -> 0
C47: REKAPITULACE ČLENĚNÍ SOUPISU PRACÍ
C49: Stavba:
E50: =E7 -> Připojení vodovodu Černé Voděrady na SV Region JIH
C51: Objekt:
E52: SO 03 - AŠ Zvánovice
C53: Soupis:
E54: =E11 -> 1. - AŠ Zvánovice - stavební část + vystrojení
C56: Místo: | F56: =F14 -> K.Ú. černé Voděrady, Zvánovice, Ondřejov u Prahy | I56: Datum: | J56: =IF(J14="","",J14) -> 31. 7. 2025
C58: Zadavatel: | F58: =E17 -> Obec Černé Voděrady, nám. Lípy Svobody 47, 281 63 | I58: Projektant: | J58: =E23 -> Vodohospodářský rozvoj a výstavba s.s. Praha 5
C59: Účastník: | F59: =IF(E20="","",E20) -> Vyplň údaj | I59: Zpracovatel: | J59: =E26
C61: Kód dílu - Popis | J61: Cena celkem [CZK]
C63: Náklady stavby celkem | J63: =J98 -> 0 | AU63: -1
D64: HSV - Práce a dodávky HSV | J64: =J99 -> 0
D65: 1 - Zemní práce | J65: =J100 -> 0
D66: 2 - Zakládání | J66: =J226 -> 0
D67: 4 - Vodorovné konstrukce | J67: =J252 -> 0
D68: 6 - Úpravy povrchů, podlahy a osazování výplní | J68: =J258 -> 0
D69: 8 - Trubní vedení | J69: =J301 -> 0
D70: 9 - Ostatní konstrukce a práce, bourání | J70: =J353 -> 0
D71: 998 - Přesun hmot | J71: =J361 -> 0
D72: PSV - Práce a dodávky PSV | J72: =J364 -> 0
D73: 711 - Izolace proti vodě, vlhkosti a plynům | J73: =J365 -> 0
D74: 722 - Zdravotechnika - vnitřní vodovod | J74: =J404 -> 0
D75: 734 - Ústřední vytápění - armatury | J75: =J409 -> 0
D76: 783 - Dokončovací práce - nátěry | J76: =J414 -> 0
C83: SOUPIS PRACÍ
C85: Stavba:
E86: =E7 -> Připojení vodovodu Černé Voděrady na SV Region JIH
C87: Objekt:
E88: SO 03 - AŠ Zvánovice
C89: Soupis:
E90: =E11 -> 1. - AŠ Zvánovice - stavební část + vystrojení
C92: Místo: | F92: =F14 -> K.Ú. černé Voděrady, Zvánovice, Ondřejov u Prahy | I92: Datum: | J92: =IF(J14="","",J14) -> 31. 7. 2025
C94: Zadavatel: | F94: =E17 -> Obec Černé Voděrady, nám. Lípy Svobody 47, 281 63 | I94: Projektant: | J94: =E23 -> Vodohospodářský rozvoj a výstavba s.s. Praha 5
C95: Účastník: | F95: =IF(E20="","",E20) -> Vyplň údaj | I95: Zpracovatel: | J95: =E26
C97: PČ | D97: Typ | E97: Kód | F97: Popis | G97: MJ | H97: Množství | I97: J.cena [CZK] | J97: Cena celkem [CZK] | K97: Cenová soustava | N97: DPH | O97: J. Nh [h] | P97: Nh celkem [h] | Q97: J. hmotnost [t] | R97: Hmotnost celkem [t] | S97: J. suť [t] | T97: Suť Celkem [t]
C98: Náklady soupisu celkem | J98: =BK98 -> 0 | P98: =P99+P364 -> 0 | R98: =R99+R364 -> 17.603661 | T98: =T99+T364 -> 0.0156 | AT98: D | AU98: -1 | BK98: =BK99+BK364 -> 0
D99: D | E99: HSV | F99: Práce a dodávky HSV | J99: =BK99 -> 0 | P99: =P100+P226+P252+P258+P301+P353+P361 -> 0 | R99: =R100+R226+R252+R258+R301+R353+R361 -> 17.012288 | T99: =T100+T226+T252+T258+T301+T353+T361 -> 0.0156 | AR99: 1 | AT99: D | AU99: 0 | AY99: ROZPOCET | BK99: =BK100+BK226+BK252+BK258+BK301+BK353+BK361 -> 0
D100: D | E100: 1 | F100: Zemní práce | J100: =BK100 -> 0 | P100: =SUM(P101:P225) -> 0 | R100: =SUM(R101:R225) -> 0.7947648 | T100: =SUM(T101:T225) -> 0 | AR100: 1 | AT100: D | AU100: 1 | AY100: ROZPOCET | BK100: =SUM(BK101:BK225) -> 0
C101: 1 | D101: K | E101: 115101201 | F101: Čerpání vody na dopravní výšku do 10 m s uvažovaným průměrným přítokem do 500 l/min | G101: hod | H101: 100 | J101: =ROUND(I101*H101,2) -> 0 | K101: CS ÚRS 2025 02 | N101: základní | P101: =O101*H101 -> 0 | Q101: 3e-05 | R101: =Q101*H101 -> 0.003 | S101: 0 | T101: =S101*H101 -> 0 | AR101: 4 | AT101: K | AU101: 2 | AY101: ROZPOCET | BE101: =IF(N101="základní",J101,0) -> 0 | BF101: =IF(N101="snížená",J101,0) -> 0 | BG101: =IF(N101="zákl. přenesená",J101,0) -> 0 | BH101: =IF(N101="sníž. přenesená",J101,0) -> 0 | BI101: =IF(N101="nulová",J101,0) -> 0 | BJ101: 1 | BK101: =ROUND(I101*H101,2) -> 0 | BL101: 4 | BM101: 1431585545
D102: Online PSC | F102: https://podminky.urs.cz/item/CS_URS_2025_02/115101201 | AT102: Online PSC | AU102: 2
D103: VV | F103: 10 dní á 10 hod | AT103: VV | AU103: 2 | AV103: 1 | AW103: True | AX103: 0 | AY103: ROZPOCET
D104: VV | F104: 10*10 | H104: 100 | AT104: VV | AU104: 2 | AV104: 2 | AW104: True | AX104: 1 | AY104: ROZPOCET
C105: 2 | D105: K | E105: 115101301 | F105: Pohotovost záložní čerpací soupravy pro dopravní výšku do 10 m s uvažovaným průměrným přítokem do 500 l/min | G105: den | H105: 10 | J105: =ROUND(I105*H105,2) -> 0 | K105: CS ÚRS 2025 02 | N105: základní | P105: =O105*H105 -> 0 | Q105: 0 | R105: =Q105*H105 -> 0 | S105: 0 | T105: =S105*H105 -> 0 | AR105: 4 | AT105: K | AU105: 2 | AY105: ROZPOCET | BE105: =IF(N105="základní",J105,0) -> 0 | BF105: =IF(N105="snížená",J105,0) -> 0 | BG105: =IF(N105="zákl. přenesená",J105,0) -> 0 | BH105: =IF(N105="sníž. přenesená",J105,0) -> 0 | BI105: =IF(N105="nulová",J105,0) -> 0 | BJ105: 1 | BK105: =ROUND(I105*H105,2) -> 0 | BL105: 4 | BM105: -797576187
D106: Online PSC | F106: https://podminky.urs.cz/item/CS_URS_2025_02/115101301 | AT106: Online PSC | AU106: 2
C107: 3 | D107: K | E107: 11520000R | F107: Provizorní čerpací studna průměru 800 mm výšky 3 m - dodávka + montáž + demontáž | G107: kus | H107: 1 | J107: =ROUND(I107*H107,2) -> 0 | N107: základní | P107: =O107*H107 -> 0 | Q107: 0 | R107: =Q107*H107 -> 0 | S107: 0 | T107: =S107*H107 -> 0 | AR107: 4 | AT107: K | AU107: 2 | AY107: ROZPOCET | BE107: =IF(N107="základní",J107,0) -> 0 | BF107: =IF(N107="snížená",J107,0) -> 0 | BG107: =IF(N107="zákl. přenesená",J107,0) -> 0 | BH107: =IF(N107="sníž. přenesená",J107,0) -> 0 | BI107: =IF(N107="nulová",J107,0) -> 0 | BJ107: 1 | BK107: =ROUND(I107*H107,2) -> 0 | BL107: 4 | BM107: 2013091631
C108: 4 | D108: K | E108: 131151203 | F108: Hloubení zapažených jam a zářezů strojně s urovnáním dna do předepsaného profilu a spádu v hornině třídy těžitelnosti I skupiny 1 a 2 přes 50 do 100 m3 | G108: m3 | H108: 15.903 | J108: =ROUND(I108*H108,2) -> 0 | K108: CS ÚRS 2025 02 | N108: základní | P108: =O108*H108 -> 0 | Q108: 0 | R108: =Q108*H108 -> 0 | S108: 0 | T108: =S108*H108 -> 0 | AR108: 4 | AT108: K | AU108: 2 | AY108: ROZPOCET | BE108: =IF(N108="základní",J108,0) -> 0 | BF108: =IF(N108="snížená",J108,0) -> 0 | BG108: =IF(N108="zákl. přenesená",J108,0) -> 0 | BH108: =IF(N108="sníž. přenesená",J108,0) -> 0 | BI108: =IF(N108="nulová",J108,0) -> 0 | BJ108: 1 | BK108: =ROUND(I108*H108,2) -> 0 | BL108: 4 | BM108: 960693314
D109: Online PSC | F109: https://podminky.urs.cz/item/CS_URS_2025_02/131151203 | AT109: Online PSC | AU109: 2
D110: VV | F110: 5,7*4,5*3,1 | H110: 79.515 | AT110: VV | AU110: 2 | AV110: 2 | AW110: True | AX110: 0 | AY110: ROZPOCET
D111: VV | F111: skupina 1 a 2 - 20% | AT111: VV | AU111: 2 | AV111: 1 | AW111: True | AX111: 0 | AY111: ROZPOCET
D112: VV | F112: 79,515*0,2 | H112: 15.903 | AT112: VV | AU112: 2 | AV112: 2 | AW112: True | AX112: 1 | AY112: ROZPOCET
C113: 5 | D113: K | E113: 131251203 | F113: Hloubení zapažených jam a zářezů strojně s urovnáním dna do předepsaného profilu a spádu v hornině třídy těžitelnosti I skupiny 3 přes 50 do 100 m3 | G113: m3 | H113: 23.855 | J113: =ROUND(I113*H113,2) -> 0 | K113: CS ÚRS 2025 02 | N113: základní | P113: =O113*H113 -> 0 | Q113: 0 | R113: =Q113*H113 -> 0 | S113: 0 | T113: =S113*H113 -> 0 | AR113: 4 | AT113: K | AU113: 2 | AY113: ROZPOCET | BE113: =IF(N113="základní",J113,0) -> 0 | BF113: =IF(N113="snížená",J113,0) -> 0 | BG113: =IF(N113="zákl. přenesená",J113,0) -> 0 | BH113: =IF(N113="sníž. přenesená",J113,0) -> 0 | BI113: =IF(N113="nulová",J113,0) -> 0 | BJ113: 1 | BK113: =ROUND(I113*H113,2) -> 0 | BL113: 4 | BM113: 1324159040
D114: Online PSC | F114: https://podminky.urs.cz/item/CS_URS_2025_02/131251203 | AT114: Online PSC | AU114: 2
D115: VV | F115: skupina 3 - 30% | AT115: VV | AU115: 2 | AV115: 1 | AW115: True | AX115: 0 | AY115: ROZPOCET
D116: VV | F116: 79,515*0,3 | H116: 23.855 | AT116: VV | AU116: 2 | AV116: 2 | AW116: True | AX116: 1 | AY116: ROZPOCET
C117: 6 | D117: K | E117: 131351203 | F117: Hloubení zapažených jam a zářezů strojně s urovnáním dna do předepsaného profilu a spádu v hornině třídy těžitelnosti II skupiny 4 přes 50 do 100 m3 | G117: m3 | H117: 19.879 | J117: =ROUND(I117*H117,2) -> 0 | K117: CS ÚRS 2025 02 | N117: základní | P117: =O117*H117 -> 0 | Q117: 0 | R117: =Q117*H117 -> 0 | S117: 0 | T117: =S117*H117 -> 0 | AR117: 4 | AT117: K | AU117: 2 | AY117: ROZPOCET | BE117: =IF(N117="základní",J117,0) -> 0 | BF117: =IF(N117="snížená",J117,0) -> 0 | BG117: =IF(N117="zákl. přenesená",J117,0) -> 0 | BH117: =IF(N117="sníž. přenesená",J117,0) -> 0 | BI117: =IF(N117="nulová",J117,0) -> 0 | BJ117: 1 | BK117: =ROUND(I117*H117,2) -> 0 | BL117: 4 | BM117: -57983037
D118: Online PSC | F118: https://podminky.urs.cz/item/CS_URS_2025_02/131351203 | AT118: Online PSC | AU118: 2
D119: VV | F119: skupina 4 - 25% | AT119: VV | AU119: 2 | AV119: 1 | AW119: True | AX119: 0 | AY119: ROZPOCET
D120: VV | F120: 79,515*0,25 | H120: 19.879 | AT120: VV | AU120: 2 | AV120: 2 | AW120: True | AX120: 1 | AY120: ROZPOCET
C121: 7 | D121: K | E121: 131451203 | F121: Hloubení zapažených jam a zářezů strojně s urovnáním dna do předepsaného profilu a spádu v hornině třídy těžitelnosti II skupiny 5 přes 50 do 100 m3 | G121: m3 | H121: 15.903 | J121: =ROUND(I121*H121,2) -> 0 | K121: CS ÚRS 2025 02 | N121: základní | P121: =O121*H121 -> 0 | Q121: 0 | R121: =Q121*H121 -> 0 | S121: 0 | T121: =S121*H121 -> 0 | AR121: 4 | AT121: K | AU121: 2 | AY121: ROZPOCET | BE121: =IF(N121="základní",J121,0) -> 0 | BF121: =IF(N121="snížená",J121,0) -> 0 | BG121: =IF(N121="zákl. přenesená",J121,0) -> 0 | BH121: =IF(N121="sníž. přenesená",J121,0) -> 0 | BI121: =IF(N121="nulová",J121,0) -> 0 | BJ121: 1 | BK121: =ROUND(I121*H121,2) -> 0 | BL121: 4 | BM121: -762200176
D122: Online PSC | F122: https://podminky.urs.cz/item/CS_URS_2025_02/131451203 | AT122: Online PSC | AU122: 2
D123: VV | F123: skupina 5 - 20% | AT123: VV | AU123: 2 | AV123: 1 | AW123: True | AX123: 0 | AY123: ROZPOCET
D124: VV | F124: 79,515*0,20 | H124: 15.903 | AT124: VV | AU124: 2 | AV124: 2 | AW124: True | AX124: 1 | AY124: ROZPOCET
C125: 8 | D125: K | E125: 131551203 | F125: Hloubení zapažených jam a zářezů strojně s urovnáním dna do předepsaného profilu a spádu v hornině třídy těžitelnosti III skupiny 6 přes 50 do 100 m3 | G125: m3 | H125: 3.976 | J125: =ROUND(I125*H125,2) -> 0 | K125: CS ÚRS 2025 02 | N125: základní | P125: =O125*H125 -> 0 | Q125: 0 | R125: =Q125*H125 -> 0 | S125: 0 | T125: =S125*H125 -> 0 | AR125: 4 | AT125: K | AU125: 2 | AY125: ROZPOCET | BE125: =IF(N125="základní",J125,0) -> 0 | BF125: =IF(N125="snížená",J125,0) -> 0 | BG125: =IF(N125="zákl. přenesená",J125,0) -> 0 | BH125: =IF(N125="sníž. přenesená",J125,0) -> 0 | BI125: =IF(N125="nulová",J125,0) -> 0 | BJ125: 1 | BK125: =ROUND(I125*H125,2) -> 0 | BL125: 4 | BM125: 1821892052
D126: Online PSC | F126: https://podminky.urs.cz/item/CS_URS_2025_02/131551203 | AT126: Online PSC | AU126: 2
D127: VV | F127: skupina 6 - 5% | AT127: VV | AU127: 2 | AV127: 1 | AW127: True | AX127: 0 | AY127: ROZPOCET
D128: VV | F128: 79,515*0,05 | H128: 3.976 | AT128: VV | AU128: 2 | AV128: 2 | AW128: True | AX128: 1 | AY128: ROZPOCET
C129: 9 | D129: K | E129: 151301201 | F129: Zřízení pažení stěn výkopu bez rozepření nebo vzepření hnané, hloubky do 4 m | G129: m2 | H129: 63.24 | J129: =ROUND(I129*H129,2) -> 0 | K129: CS ÚRS 2025 02 | N129: základní | P129: =O129*H129 -> 0 | Q129: 0.00444 | R129: =Q129*H129 -> 0.2807856 | S129: 0 | T129: =S129*H129 -> 0 | AR129: 4 | AT129: K | AU129: 2 | AY129: ROZPOCET | BE129: =IF(N129="základní",J129,0) -> 0 | BF129: =IF(N129="snížená",J129,0) -> 0 | BG129: =IF(N129="zákl. přenesená",J129,0) -> 0 | BH129: =IF(N129="sníž. přenesená",J129,0) -> 0 | BI129: =IF(N129="nulová",J129,0) -> 0 | BJ129: 1 | BK129: =ROUND(I129*H129,2) -> 0 | BL129: 4 | BM129: -424752538
D130: Online PSC | F130: https://podminky.urs.cz/item/CS_URS_2025_02/151301201 | AT130: Online PSC | AU130: 2
D131: VV | F131: (5,7+4,5)*2*3,10 | H131: 63.24 | AT131: VV | AU131: 2 | AV131: 2 | AW131: True | AX131: 1 | AY131: ROZPOCET
C132: 10 | D132: K | E132: 151301211 | F132: Odstranění pažení stěn výkopu bez rozepření nebo vzepření s uložením pažin na vzdálenost do 3 m od okraje výkopu hnané, hloubky do 4 m | G132: m2 | H132: 63.24 | J132: =ROUND(I132*H132,2) -> 0 | K132: CS ÚRS 2025 02 | N132: základní | P132: =O132*H132 -> 0 | Q132: 0 | R132: =Q132*H132 -> 0 | S132: 0 | T132: =S132*H132 -> 0 | AR132: 4 | AT132: K | AU132: 2 | AY132: ROZPOCET | BE132: =IF(N132="základní",J132,0) -> 0 | BF132: =IF(N132="snížená",J132,0) -> 0 | BG132: =IF(N132="zákl. přenesená",J132,0) -> 0 | BH132: =IF(N132="sníž. přenesená",J132,0) -> 0 | BI132: =IF(N132="nulová",J132,0) -> 0 | BJ132: 1 | BK132: =ROUND(I132*H132,2) -> 0 | BL132: 4 | BM132: -427276361
...

Sheet 2. - Elektroinstalace
AT2: {e9948865-7e2b-4b99-9177-51cca3407d5e}
AT3: 2
D4: KRYCÍ LIST SOUPISU PRACÍ | M4: v --- níže se nacházejí doplnkové a pomocné údaje k sestavám --- v | AT4: False
D6: Stavba:
E7: ='Rekapitulace stavby'!K6 -> Připojení vodovodu Černé Voděrady na SV Region JIH
D8: Objekt:
E9: SO 03 - AŠ Zvánovice
D10: Soupis:
E11: 2. - Elektroinstalace
D13: KSO: | I13: CC-CZ:
D14: Místo: | F14: K.Ú. černé Voděrady, Zvánovice, Ondřejov u Prahy | I14: Datum: | J14: ='Rekapitulace stavby'!AN8 -> 31. 7. 2025
D16: Zadavatel: | I16: IČ: | J16: 00235318
E17: Obec Černé Voděrady, nám. Lípy Svobody 47, 281 63 | I17: DIČ:
D19: Účastník: | I19: IČ: | J19: ='Rekapitulace stavby'!AN13 -> Vyplň údaj
E20: ='Rekapitulace stavby'!E14 -> Vyplň údaj | I20: DIČ: | J20: ='Rekapitulace stavby'!AN14 -> Vyplň údaj
D22: Projektant: | I22: IČ: | J22: 47116901
E23: Vodohospodářský rozvoj a výstavba s.s. Praha 5 | I23: DIČ:
D25: Zpracovatel: | I25: IČ:
I26: DIČ:
D28: Poznámka:
D32: Cena bez DPH | J32: =ROUND(J86, 2) -> 0
F34: Základ daně | I34: Sazba daně | J34: Výše daně
D35: DPH | E35: základní | F35: =ROUND((SUM(BE86:BE153)), 2) -> 0 | I35: 0.21 | J35: =ROUND(((SUM(BE86:BE153))*I35), 2) -> 0
E36: snížená | F36: =ROUND((SUM(BF86:BF153)), 2) -> 0 | I36: 0.12 | J36: =ROUND(((SUM(BF86:BF153))*I36), 2) -> 0
E37: zákl. přenesená | F37: =ROUND((SUM(BG86:BG153)), 2) -> 0 | I37: 0.21 | J37: =0 -> 0
E38: sníž. přenesená | F38: =ROUND((SUM(BH86:BH153)), 2) -> 0 | I38: 0.12 | J38: =0 -> 0
E39: nulová | F39: =ROUND((SUM(BI86:BI153)), 2) -> 0 | I39: 0 | J39: =0 -> 0
D41: Cena s DPH | G41: v | H41: CZK | J41: =SUM(J32:J39) -> 0
C47: REKAPITULACE ČLENĚNÍ SOUPISU PRACÍ
C49: Stavba:
E50: =E7 -> Připojení vodovodu Černé Voděrady na SV Region JIH
C51: Objekt:
E52: SO 03 - AŠ Zvánovice
C53: Soupis:
E54: =E11 -> 2. - Elektroinstalace
C56: Místo: | F56: =F14 -> K.Ú. černé Voděrady, Zvánovice, Ondřejov u Prahy | I56: Datum: | J56: =IF(J14="","",J14) -> 31. 7. 2025
C58: Zadavatel: | F58: =E17 -> Obec Černé Voděrady, nám. Lípy Svobody 47, 281 63 | I58: Projektant: | J58: =E23 -> Vodohospodářský rozvoj a výstavba s.s. Praha 5
C59: Účastník: | F59: =IF(E20="","",E20) -> Vyplň údaj | I59: Zpracovatel: | J59: =E26
C61: Kód dílu - Popis | J61: Cena celkem [CZK]
C63: Náklady stavby celkem | J63: =J86 -> 0 | AU63: -1
D64: M - Práce a dodávky M | J64: =J87 -> 0
C71: SOUPIS PRACÍ
C73: Stavba:
E74: =E7 -> Připojení vodovodu Černé Voděrady na SV Region JIH
C75: Objekt:
E76: SO 03 - AŠ Zvánovice
C77: Soupis:
E78: =E11 -> 2. - Elektroinstalace
C80: Místo: | F80: =F14 -> K.Ú. černé Voděrady, Zvánovice, Ondřejov u Prahy | I80: Datum: | J80: =IF(J14="","",J14) -> 31. 7. 2025
C82: Zadavatel: | F82: =E17 -> Obec Černé Voděrady, nám. Lípy Svobody 47, 281 63 | I82: Projektant: | J82: =E23 -> Vodohospodářský rozvoj a výstavba s.s. Praha 5
C83: Účastník: | F83: =IF(E20="","",E20) -> Vyplň údaj | I83: Zpracovatel: | J83: =E26
C85: PČ | D85: Typ | E85: Kód | F85: Popis | G85: MJ | H85: Množství | I85: J.cena [CZK] | J85: Cena celkem [CZK] | K85: Cenová soustava | N85: DPH | O85: J. Nh [h] | P85: Nh celkem [h] | Q85: J. hmotnost [t] | R85: Hmotnost celkem [t] | S85: J. suť [t] | T85: Suť Celkem [t]
C86: Náklady soupisu celkem | J86: =BK86 -> 0 | P86: =P87 -> 0 | R86: =R87 -> 0 | T86: =T87 -> 0 | AT86: D | AU86: -1 | BK86: =BK87 -> 0
D87: D | E87: M | F87: Práce a dodávky M | J87: =BK87 -> 0 | P87: =SUM(P88:P153) -> 0 | R87: =SUM(R88:R153) -> 0 | T87: =SUM(T88:T153) -> 0 | AR87: 3 | AT87: D | AU87: 0 | AY87: ROZPOCET | BK87: =SUM(BK88:BK153) -> 0
C88: 1 | D88: K | E88: Pol3 | F88: PVC kabelová chránička do země DN 63 | G88: m | H88: 7 | J88: =ROUND(I88*H88,2) -> 0 | N88: základní | P88: =O88*H88 -> 0 | Q88: 0 | R88: =Q88*H88 -> 0 | S88: 0 | T88: =S88*H88 -> 0 | AR88: 64 | AT88: K | AU88: 1 | AY88: ROZPOCET | BE88: =IF(N88="základní",J88,0) -> 0 | BF88: =IF(N88="snížená",J88,0) -> 0 | BG88: =IF(N88="zákl. přenesená",J88,0) -> 0 | BH88: =IF(N88="sníž. přenesená",J88,0) -> 0 | BI88: =IF(N88="nulová",J88,0) -> 0 | BJ88: 1 | BK88: =ROUND(I88*H88,2) -> 0 | BL88: 64 | BM88: -1189006950
D89: P | F89: Poznámka k položce:_x000D_ V ceně je obsažena kompletní dodávka a pokládka | AT89: P | AU89: 1
C90: 2 | D90: K | E90: Pol5 | F90: Kabelová rýha Š 50cm, H 120cm, zemina tř. 3 | G90: m | H90: 2 | J90: =ROUND(I90*H90,2) -> 0 | N90: základní | P90: =O90*H90 -> 0 | Q90: 0 | R90: =Q90*H90 -> 0 | S90: 0 | T90: =S90*H90 -> 0 | AR90: 64 | AT90: K | AU90: 1 | AY90: ROZPOCET | BE90: =IF(N90="základní",J90,0) -> 0 | BF90: =IF(N90="snížená",J90,0) -> 0 | BG90: =IF(N90="zákl. přenesená",J90,0) -> 0 | BH90: =IF(N90="sníž. přenesená",J90,0) -> 0 | BI90: =IF(N90="nulová",J90,0) -> 0 | BJ90: 1 | BK90: =ROUND(I90*H90,2) -> 0 | BL90: 64 | BM90: 1701858910
D91: P | F91: Poznámka k položce:_x000D_ V ceně je obsažen kompletní výkop s likvidací přebytečné zeminy | AT91: P | AU91: 1
C92: 3 | D92: K | E92: Pol6 | F92: Zához rýhy Š 50cm, H 120cm, zemina tř. 3 | G92: m | H92: 2 | J92: =ROUND(I92*H92,2) -> 0 | N92: základní | P92: =O92*H92 -> 0 | Q92: 0 | R92: =Q92*H92 -> 0 | S92: 0 | T92: =S92*H92 -> 0 | AR92: 64 | AT92: K | AU92: 1 | AY92: ROZPOCET | BE92: =IF(N92="základní",J92,0) -> 0 | BF92: =IF(N92="snížená",J92,0) -> 0 | BG92: =IF(N92="zákl. přenesená",J92,0) -> 0 | BH92: =IF(N92="sníž. přenesená",J92,0) -> 0 | BI92: =IF(N92="nulová",J92,0) -> 0 | BJ92: 1 | BK92: =ROUND(I92*H92,2) -> 0 | BL92: 64 | BM92: -364644662
D93: P | F93: Poznámka k položce:_x000D_ V ceně obsaženo zasypání včetně hutnění, položení výstražné pásky. | AT93: P | AU93: 1
C94: 4 | D94: K | E94: Pol7 | F94: Obsypový materiál kabelové chráničky | G94: m3 | H94: 0.5 | J94: =ROUND(I94*H94,2) -> 0 | N94: základní | P94: =O94*H94 -> 0 | Q94: 0 | R94: =Q94*H94 -> 0 | S94: 0 | T94: =S94*H94 -> 0 | AR94: 64 | AT94: K | AU94: 1 | AY94: ROZPOCET | BE94: =IF(N94="základní",J94,0) -> 0 | BF94: =IF(N94="snížená",J94,0) -> 0 | BG94: =IF(N94="zákl. přenesená",J94,0) -> 0 | BH94: =IF(N94="sníž. přenesená",J94,0) -> 0 | BI94: =IF(N94="nulová",J94,0) -> 0 | BJ94: 1 | BK94: =ROUND(I94*H94,2) -> 0 | BL94: 64 | BM94: 440103695
D95: P | F95: Poznámka k položce:_x000D_ V ceně obsažen materiál včetně provedení obsypu chráničky | AT95: P | AU95: 1
C96: 5 | D96: K | E96: Pol8 | F96: Zemnící páska FeZn 30x4 mm | G96: kg | H96: 20 | J96: =ROUND(I96*H96,2) -> 0 | N96: základní | P96: =O96*H96 -> 0 | Q96: 0 | R96: =Q96*H96 -> 0 | S96: 0 | T96: =S96*H96 -> 0 | AR96: 64 | AT96: K | AU96: 1 | AY96: ROZPOCET | BE96: =IF(N96="základní",J96,0) -> 0 | BF96: =IF(N96="snížená",J96,0) -> 0 | BG96: =IF(N96="zákl. přenesená",J96,0) -> 0 | BH96: =IF(N96="sníž. přenesená",J96,0) -> 0 | BI96: =IF(N96="nulová",J96,0) -> 0 | BJ96: 1 | BK96: =ROUND(I96*H96,2) -> 0 | BL96: 64 | BM96: 751760022
D97: P | F97: Poznámka k položce:_x000D_ Zemnící drát FeZn _x000D_ V ceně obsažena dodávka, pokládka, spoje a nátěry | AT97: P | AU97: 1
C98: 6 | D98: K | E98: Pol25 | F98: Plastová krabicová rozvodka 88x88mm se svorkami, IP 65 | G98: kus | H98: 3 | J98: =ROUND(I98*H98,2) -> 0 | N98: základní | P98: =O98*H98 -> 0 | Q98: 0 | R98: =Q98*H98 -> 0 | S98: 0 | T98: =S98*H98 -> 0 | AR98: 64 | AT98: K | AU98: 1 | AY98: ROZPOCET | BE98: =IF(N98="základní",J98,0) -> 0 | BF98: =IF(N98="snížená",J98,0) -> 0 | BG98: =IF(N98="zákl. přenesená",J98,0) -> 0 | BH98: =IF(N98="sníž. přenesená",J98,0) -> 0 | BI98: =IF(N98="nulová",J98,0) -> 0 | BJ98: 1 | BK98: =ROUND(I98*H98,2) -> 0 | BL98: 64 | BM98: -1612010633
D99: P | F99: Poznámka k položce:_x000D_ V ceně je obsažena dodávka, montáž a zapojení. | AT99: P | AU99: 1
C100: 7 | D100: K | E100: Pol32 | F100: Měření průtoku FIQ1, FIQ2 | G100: kus | H100: 2 | J100: =ROUND(I100*H100,2) -> 0 | N100: základní | P100: =O100*H100 -> 0 | Q100: 0 | R100: =Q100*H100 -> 0 | S100: 0 | T100: =S100*H100 -> 0 | AR100: 64 | AT100: K | AU100: 1 | AY100: ROZPOCET | BE100: =IF(N100="základní",J100,0) -> 0 | BF100: =IF(N100="snížená",J100,0) -> 0 | BG100: =IF(N100="zákl. přenesená",J100,0) -> 0 | BH100: =IF(N100="sníž. přenesená",J100,0) -> 0 | BI100: =IF(N100="nulová",J100,0) -> 0 | BJ100: 1 | BK100: =ROUND(I100*H100,2) -> 0 | BL100: 64 | BM100: 1633230175
D101: P | F101: Poznámka k položce:_x000D_ V ceně je obsažena dodávka, montáž a zapojení. | AT101: P | AU101: 1
C102: 8 | D102: K | E102: Pol128 | F102: Kabel CYSY 2x2,5 | G102: m | H102: 10 | J102: =ROUND(I102*H102,2) -> 0 | N102: základní | P102: =O102*H102 -> 0 | Q102: 0 | R102: =Q102*H102 -> 0 | S102: 0 | T102: =S102*H102 -> 0 | AR102: 64 | AT102: K | AU102: 1 | AY102: ROZPOCET | BE102: =IF(N102="základní",J102,0) -> 0 | BF102: =IF(N102="snížená",J102,0) -> 0 | BG102: =IF(N102="zákl. přenesená",J102,0) -> 0 | BH102: =IF(N102="sníž. přenesená",J102,0) -> 0 | BI102: =IF(N102="nulová",J102,0) -> 0 | BJ102: 1 | BK102: =ROUND(I102*H102,2) -> 0 | BL102: 64 | BM102: -1667487065
D103: P | F103: Poznámka k položce:_x000D_ V ceně je obsažena kompletní dodávka a pokládka kabelu. | AT103: P | AU103: 1
C104: 9 | D104: K | E104: Pol129 | F104: Kabel JYTY-O 4x1 | G104: m | H104: 15 | J104: =ROUND(I104*H104,2) -> 0 | N104: základní | P104: =O104*H104 -> 0 | Q104: 0 | R104: =Q104*H104 -> 0 | S104: 0 | T104: =S104*H104 -> 0 | AR104: 64 | AT104: K | AU104: 1 | AY104: ROZPOCET | BE104: =IF(N104="základní",J104,0) -> 0 | BF104: =IF(N104="snížená",J104,0) -> 0 | BG104: =IF(N104="zákl. přenesená",J104,0) -> 0 | BH104: =IF(N104="sníž. přenesená",J104,0) -> 0 | BI104: =IF(N104="nulová",J104,0) -> 0 | BJ104: 1 | BK104: =ROUND(I104*H104,2) -> 0 | BL104: 64 | BM104: -812708020
D105: P | F105: Poznámka k položce:_x000D_ V ceně je obsažena kompletní dodávka a pokládka kabelu. | AT105: P | AU105: 1
C106: 10 | D106: K | E106: Pol130 | F106: Kabel JYTY-O 2x1 | G106: m | H106: 25 | J106: =ROUND(I106*H106,2) -> 0 | N106: základní | P106: =O106*H106 -> 0 | Q106: 0 | R106: =Q106*H106 -> 0 | S106: 0 | T106: =S106*H106 -> 0 | AR106: 64 | AT106: K | AU106: 1 | AY106: ROZPOCET | BE106: =IF(N106="základní",J106,0) -> 0 | BF106: =IF(N106="snížená",J106,0) -> 0 | BG106: =IF(N106="zákl. přenesená",J106,0) -> 0 | BH106: =IF(N106="sníž. přenesená",J106,0) -> 0 | BI106: =IF(N106="nulová",J106,0) -> 0 | BJ106: 1 | BK106: =ROUND(I106*H106,2) -> 0 | BL106: 64 | BM106: 1257585713
D107: P | F107: Poznámka k položce:_x000D_ V ceně je obsažena kompletní dodávka a pokládka kabelu. | AT107: P | AU107: 1
C108: 11 | D108: K | E108: Pol131 | F108: Instalační plastová trubka DN25 | G108: m | H108: 15 | J108: =ROUND(I108*H108,2) -> 0 | N108: základní | P108: =O108*H108 -> 0 | Q108: 0 | R108: =Q108*H108 -> 0 | S108: 0 | T108: =S108*H108 -> 0 | AR108: 64 | AT108: K | AU108: 1 | AY108: ROZPOCET | BE108: =IF(N108="základní",J108,0) -> 0 | BF108: =IF(N108="snížená",J108,0) -> 0 | BG108: =IF(N108="zákl. přenesená",J108,0) -> 0 | BH108: =IF(N108="sníž. přenesená",J108,0) -> 0 | BI108: =IF(N108="nulová",J108,0) -> 0 | BJ108: 1 | BK108: =ROUND(I108*H108,2) -> 0 | BL108: 64 | BM108: -767053053
D109: P | F109: Poznámka k položce:_x000D_ V ceně dodávka a montáž trasy včetně uchycení | AT109: P | AU109: 1
C110: 12 | D110: K | E110: Pol132 | F110: Ochranná kabelová hadice DN25 | G110: m | H110: 5 | J110: =ROUND(I110*H110,2) -> 0 | N110: základní | P110: =O110*H110 -> 0 | Q110: 0 | R110: =Q110*H110 -> 0 | S110: 0 | T110: =S110*H110 -> 0 | AR110: 64 | AT110: K | AU110: 1 | AY110: ROZPOCET | BE110: =IF(N110="základní",J110,0) -> 0 | BF110: =IF(N110="snížená",J110,0) -> 0 | BG110: =IF(N110="zákl. přenesená",J110,0) -> 0 | BH110: =IF(N110="sníž. přenesená",J110,0) -> 0 | BI110: =IF(N110="nulová",J110,0) -> 0 | BJ110: 1 | BK110: =ROUND(I110*H110,2) -> 0 | BL110: 64 | BM110: -1068385793
D111: P | F111: Poznámka k položce:_x000D_ V ceně dodávka a montáž trasy včetně uchycení. | AT111: P | AU111: 1
C112: 13 | D112: K | E112: Pol133 | F112: Jádrový vrt D100 - prostup stěnou AŠ | G112: kpl | H112: 1 | J112: =ROUND(I112*H112,2) -> 0 | N112: základní | P112: =O112*H112 -> 0 | Q112: 0 | R112: =Q112*H112 -> 0 | S112: 0 | T112: =S112*H112 -> 0 | AR112: 64 | AT112: K | AU112: 1 | AY112: ROZPOCET | BE112: =IF(N112="základní",J112,0) -> 0 | BF112: =IF(N112="snížená",J112,0) -> 0 | BG112: =IF(N112="zákl. přenesená",J112,0) -> 0 | BH112: =IF(N112="sníž. přenesená",J112,0) -> 0 | BI112: =IF(N112="nulová",J112,0) -> 0 | BJ112: 1 | BK112: =ROUND(I112*H112,2) -> 0 | BL112: 64 | BM112: 727153040
D113: P | F113: Poznámka k položce:_x000D_ V ceně zhotovení prostupu | AT113: P | AU113: 1
C114: 14 | D114: K | E114: Pol134 | F114: Univerzální těsnění vodotěsné do 5 bar průměr kabelu 18-65 mm | G114: kus | H114: 1 | J114: =ROUND(I114*H114,2) -> 0 | N114: základní | P114: =O114*H114 -> 0 | Q114: 0 | R114: =Q114*H114 -> 0 | S114: 0 | T114: =S114*H114 -> 0 | AR114: 64 | AT114: K | AU114: 1 | AY114: ROZPOCET | BE114: =IF(N114="základní",J114,0) -> 0 | BF114: =IF(N114="snížená",J114,0) -> 0 | BG114: =IF(N114="zákl. přenesená",J114,0) -> 0 | BH114: =IF(N114="sníž. přenesená",J114,0) -> 0 | BI114: =IF(N114="nulová",J114,0) -> 0 | BJ114: 1 | BK114: =ROUND(I114*H114,2) -> 0 | BL114: 64 | BM114: -1212541601
D115: P | F115: Poznámka k položce:_x000D_ V ceně obsažena kompletní dodávka a montáž. | AT115: P | AU115: 1
C116: 15 | D116: K | E116: Pol135 | F116: Rozváděč DT1 | G116: kus | H116: 1 | J116: =ROUND(I116*H116,2) -> 0 | N116: základní | P116: =O116*H116 -> 0 | Q116: 0 | R116: =Q116*H116 -> 0 | S116: 0 | T116: =S116*H116 -> 0 | AR116: 64 | AT116: K | AU116: 1 | AY116: ROZPOCET | BE116: =IF(N116="základní",J116,0) -> 0 | BF116: =IF(N116="snížená",J116,0) -> 0 | BG116: =IF(N116="zákl. přenesená",J116,0) -> 0 | BH116: =IF(N116="sníž. přenesená",J116,0) -> 0 | BI116: =IF(N116="nulová",J116,0) -> 0 | BJ116: 1 | BK116: =ROUND(I116*H116,2) -> 0 | BL116: 64 | BM116: -850586285
D117: P | F117: Poznámka k položce:_x000D_ V ceně obsaženo instalace a zapojení rozváděče. | AT117: P | AU117: 1
C118: 16 | D118: K | E118: Pol136 | F118: Plovákový spínač | G118: kus | H118: 2 | J118: =ROUND(I118*H118,2) -> 0 | N118: základní | P118: =O118*H118 -> 0 | Q118: 0 | R118: =Q118*H118 -> 0 | S118: 0 | T118: =S118*H118 -> 0 | AR118: 64 | AT118: K | AU118: 1 | AY118: ROZPOCET | BE118: =IF(N118="základní",J118,0) -> 0 | BF118: =IF(N118="snížená",J118,0) -> 0 | BG118: =IF(N118="zákl. přenesená",J118,0) -> 0 | BH118: =IF(N118="sníž. přenesená",J118,0) -> 0 | BI118: =IF(N118="nulová",J118,0) -> 0 | BJ118: 1 | BK118: =ROUND(I118*H118,2) -> 0 | BL118: 64 | BM118: 1154391122
D119: P | F119: Poznámka k položce:_x000D_ V ceně je obsažena dodávka, montáž a zapojení. | AT119: P | AU119: 1
C120: 17 | D120: K | E120: Pol137 | F120: Koncový spínač s pružinou | G120: kus | H120: 2 | J120: =ROUND(I120*H120,2) -> 0 | N120: základní | P120: =O120*H120 -> 0 | Q120: 0 | R120: =Q120*H120 -> 0 | S120: 0 | T120: =S120*H120 -> 0 | AR120: 64 | AT120: K | AU120: 1 | AY120: ROZPOCET | BE120: =IF(N120="základní",J120,0) -> 0 | BF120: =IF(N120="snížená",J120,0) -> 0 | BG120: =IF(N120="zákl. přenesená",J120,0) -> 0 | BH120: =IF(N120="sníž. přenesená",J120,0) -> 0 | BI120: =IF(N120="nulová",J120,0) -> 0 | BJ120: 1 | BK120: =ROUND(I120*H120,2) -> 0 | BL120: 64 | BM120: -1904559749
D121: P | F121: Poznámka k položce:_x000D_ V ceně je obsažena dodávka, montáž a zapojení. | AT121: P | AU121: 1
C122: 18 | D122: K | E122: Pol138 | F122: Magnetický spínač | G122: kus | H122: 1 | J122: =ROUND(I122*H122,2) -> 0 | N122: základní | P122: =O122*H122 -> 0 | Q122: 0 | R122: =Q122*H122 -> 0 | S122: 0 | T122: =S122*H122 -> 0 | AR122: 64 | AT122: K | AU122: 1 | AY122: ROZPOCET | BE122: =IF(N122="základní",J122,0) -> 0 | BF122: =IF(N122="snížená",J122,0) -> 0 | BG122: =IF(N122="zákl. přenesená",J122,0) -> 0 | BH122: =IF(N122="sníž. přenesená",J122,0) -> 0 | BI122: =IF(N122="nulová",J122,0) -> 0 | BJ122: 1 | BK122: =ROUND(I122*H122,2) -> 0 | BL122: 64 | BM122: 188797329
D123: P | F123: Poznámka k položce:_x000D_ V ceně je obsažena dodávka, montáž a zapojení. | AT123: P | AU123: 1
C124: 19 | D124: K | E124: Pol139 | F124: Fotovoltaický panel 18V, 10W | G124: kus | H124: 1 | J124: =ROUND(I124*H124,2) -> 0 | N124: základní | P124: =O124*H124 -> 0 | Q124: 0 | R124: =Q124*H124 -> 0 | S124: 0 | T124: =S124*H124 -> 0 | AR124: 64 | AT124: K | AU124: 1 | AY124: ROZPOCET | BE124: =IF(N124="základní",J124,0) -> 0 | BF124: =IF(N124="snížená",J124,0) -> 0 | BG124: =IF(N124="zákl. přenesená",J124,0) -> 0 | BH124: =IF(N124="sníž. přenesená",J124,0) -> 0 | BI124: =IF(N124="nulová",J124,0) -> 0 | BJ124: 1 | BK124: =ROUND(I124*H124,2) -> 0 | BL124: 64 | BM124: 548182856
D125: P | F125: Poznámka k položce:_x000D_ V ceně dodávka včetně montáže a zapojení | AT125: P | AU125: 1
C126: 20 | D126: K | E126: Pol140 | F126: Přírubový stožár pro FVE panel v provedení FeZn, výška 4m | G126: kus | H126: 1 | J126: =ROUND(I126*H126,2) -> 0 | N126: základní | P126: =O126*H126 -> 0 | Q126: 0 | R126: =Q126*H126 -> 0 | S126: 0 | T126: =S126*H126 -> 0 | AR126: 64 | AT126: K | AU126: 1 | AY126: ROZPOCET | BE126: =IF(N126="základní",J126,0) -> 0 | BF126: =IF(N126="snížená",J126,0) -> 0 | BG126: =IF(N126="zákl. přenesená",J126,0) -> 0 | BH126: =IF(N126="sníž. přenesená",J126,0) -> 0 | BI126: =IF(N126="nulová",J126,0) -> 0 | BJ126: 1 | BK126: =ROUND(I126*H126,2) -> 0 | BL126: 64 | BM126: -427232803
D127: P | F127: Poznámka k položce:_x000D_ V ceně dodávka včetně montáže | AT127: P | AU127: 1
C128: 21 | D128: K | E128: Pol141 | F128: Betonový základ pro přírubový stožár | G128: kpl | H128: 1 | J128: =ROUND(I128*H128,2) -> 0 | N128: základní | P128: =O128*H128 -> 0 | Q128: 0 | R128: =Q128*H128 -> 0 | S128: 0 | T128: =S128*H128 -> 0 | AR128: 64 | AT128: K | AU128: 1 | AY128: ROZPOCET | BE128: =IF(N128="základní",J128,0) -> 0 | BF128: =IF(N128="snížená",J128,0) -> 0 | BG128: =IF(N128="zákl. přenesená",J128,0) -> 0 | BH128: =IF(N128="sníž. přenesená",J128,0) -> 0 | BI128: =IF(N128="nulová",J128,0) -> 0 | BJ128: 1 | BK128: =ROUND(I128*H128,2) -> 0 | BL128: 64 | BM128: 1663917394
D129: P | F129: Poznámka k položce:_x000D_ V ceně dodávka včetně montáže | AT129: P | AU129: 1
C130: 22 | D130: K | E130: Pol142 | F130: Držák FVE panelu na vrchol stožáru | G130: kus | H130: 1 | J130: =ROUND(I130*H130,2) -> 0 | N130: základní | P130: =O130*H130 -> 0 | Q130: 0 | R130: =Q130*H130 -> 0 | S130: 0 | T130: =S130*H130 -> 0 | AR130: 64 | AT130: K | AU130: 1 | AY130: ROZPOCET | BE130: =IF(N130="základní",J130,0) -> 0 | BF130: =IF(N130="snížená",J130,0) -> 0 | BG130: =IF(N130="zákl. přenesená",J130,0) -> 0 | BH130: =IF(N130="sníž. přenesená",J130,0) -> 0 | BI130: =IF(N130="nulová",J130,0) -> 0 | BJ130: 1 | BK130: =ROUND(I130*H130,2) -> 0 | BL130: 64 | BM130: 443396168
D131: P | F131: Poznámka k položce:_x000D_ V ceně dodávka včetně montáže | AT131: P | AU131: 1
C132: 23 | D132: K | E132: Pol143 | F132: Svorka páska - drát FeZn | G132: kus | H132: 6 | J132: =ROUND(I132*H132,2) -> 0 | N132: základní | P132: =O132*H132 -> 0 | Q132: 0 | R132: =Q132*H132 -> 0 | S132: 0 | T132: =S132*H132 -> 0 | AR132: 64 | AT132: K | AU132: 1 | AY132: ROZPOCET | BE132: =IF(N132="základní",J132,0) -> 0 | BF132: =IF(N132="snížená",J132,0) -> 0 | BG132: =IF(N132="zákl. přenesená",J132,0) -> 0 | BH132: =IF(N132="sníž. přenesená",J132,0) -> 0 | BI132: =IF(N132="nulová",J132,0) -> 0 | BJ132: 1 | BK132: =ROUND(I132*H132,2) -> 0 | BL132: 64 | BM132: -935503906
D133: P | F133: Poznámka k položce:_x000D_ V ceně obsažena dodávka a montáž | AT133: P | AU133: 1
...

Sheet 3. - Rozváděč DT1
AT2: {58b1902f-507b-469b-beb8-8d444ace78c6}
AT3: 2
D4: KRYCÍ LIST SOUPISU PRACÍ | M4: v --- níže se nacházejí doplnkové a pomocné údaje k sestavám --- v | AT4: False
D6: Stavba:
E7: ='Rekapitulace stavby'!K6 -> Připojení vodovodu Černé Voděrady na SV Region JIH
D8: Objekt:
E9: SO 03 - AŠ Zvánovice
D10: Soupis:
E11: 3. - Rozváděč DT1
D13: KSO: | I13: CC-CZ:
D14: Místo: | F14: K.Ú. černé Voděrady, Zvánovice, Ondřejov u Prahy | I14: Datum: | J14: ='Rekapitulace stavby'!AN8 -> 31. 7. 2025
D16: Zadavatel: | I16: IČ: | J16: 00235318
E17: Obec Černé Voděrady, nám. Lípy Svobody 47, 281 63 | I17: DIČ:
D19: Účastník: | I19: IČ: | J19: ='Rekapitulace stavby'!AN13 -> Vyplň údaj
E20: ='Rekapitulace stavby'!E14 -> Vyplň údaj | I20: DIČ: | J20: ='Rekapitulace stavby'!AN14 -> Vyplň údaj
D22: Projektant: | I22: IČ: | J22: 47116901
E23: Vodohospodářský rozvoj a výstavba s.s. Praha 5 | I23: DIČ:
D25: Zpracovatel: | I25: IČ:
I26: DIČ:
D28: Poznámka:
D32: Cena bez DPH | J32: =ROUND(J86, 2) -> 0
F34: Základ daně | I34: Sazba daně | J34: Výše daně
D35: DPH | E35: základní | F35: =ROUND((SUM(BE86:BE109)), 2) -> 0 | I35: 0.21 | J35: =ROUND(((SUM(BE86:BE109))*I35), 2) -> 0
E36: snížená | F36: =ROUND((SUM(BF86:BF109)), 2) -> 0 | I36: 0.12 | J36: =ROUND(((SUM(BF86:BF109))*I36), 2) -> 0
E37: zákl. přenesená | F37: =ROUND((SUM(BG86:BG109)), 2) -> 0 | I37: 0.21 | J37: =0 -> 0
E38: sníž. přenesená | F38: =ROUND((SUM(BH86:BH109)), 2) -> 0 | I38: 0.12 | J38: =0 -> 0
E39: nulová | F39: =ROUND((SUM(BI86:BI109)), 2) -> 0 | I39: 0 | J39: =0 -> 0
D41: Cena s DPH | G41: v | H41: CZK | J41: =SUM(J32:J39) -> 0
C47: REKAPITULACE ČLENĚNÍ SOUPISU PRACÍ
C49: Stavba:
E50: =E7 -> Připojení vodovodu Černé Voděrady na SV Region JIH
C51: Objekt:
E52: SO 03 - AŠ Zvánovice
C53: Soupis:
E54: =E11 -> 3. - Rozváděč DT1
C56: Místo: | F56: =F14 -> K.Ú. černé Voděrady, Zvánovice, Ondřejov u Prahy | I56: Datum: | J56: =IF(J14="","",J14) -> 31. 7. 2025
C58: Zadavatel: | F58: =E17 -> Obec Černé Voděrady, nám. Lípy Svobody 47, 281 63 | I58: Projektant: | J58: =E23 -> Vodohospodářský rozvoj a výstavba s.s. Praha 5
C59: Účastník: | F59: =IF(E20="","",E20) -> Vyplň údaj | I59: Zpracovatel: | J59: =E26
C61: Kód dílu - Popis | J61: Cena celkem [CZK]
C63: Náklady stavby celkem | J63: =J86 -> 0 | AU63: -1
D64: M - Práce a dodávky M | J64: =J87 -> 0
C71: SOUPIS PRACÍ
C73: Stavba:
E74: =E7 -> Připojení vodovodu Černé Voděrady na SV Region JIH
C75: Objekt:
E76: SO 03 - AŠ Zvánovice
C77: Soupis:
E78: =E11 -> 3. - Rozváděč DT1
C80: Místo: | F80: =F14 -> K.Ú. černé Voděrady, Zvánovice, Ondřejov u Prahy | I80: Datum: | J80: =IF(J14="","",J14) -> 31. 7. 2025
C82: Zadavatel: | F82: =E17 -> Obec Černé Voděrady, nám. Lípy Svobody 47, 281 63 | I82: Projektant: | J82: =E23 -> Vodohospodářský rozvoj a výstavba s.s. Praha 5
C83: Účastník: | F83: =IF(E20="","",E20) -> Vyplň údaj | I83: Zpracovatel: | J83: =E26
C85: PČ | D85: Typ | E85: Kód | F85: Popis | G85: MJ | H85: Množství | I85: J.cena [CZK] | J85: Cena celkem [CZK] | K85: Cenová soustava | N85: DPH | O85: J. Nh [h] | P85: Nh celkem [h] | Q85: J. hmotnost [t] | R85: Hmotnost celkem [t] | S85: J. suť [t] | T85: Suť Celkem [t]
C86: Náklady soupisu celkem | J86: =BK86 -> 0 | P86: =P87 -> 0 | R86: =R87 -> 0 | T86: =T87 -> 0 | AT86: D | AU86: -1 | BK86: =BK87 -> 0
D87: D | E87: M | F87: Práce a dodávky M | J87: =BK87 -> 0 | P87: =SUM(P88:P109) -> 0 | R87: =SUM(R88:R109) -> 0 | T87: =SUM(T88:T109) -> 0 | AR87: 3 | AT87: D | AU87: 0 | AY87: ROZPOCET | BK87: =SUM(BK88:BK109) -> 0
C88: 1 | D88: K | E88: Pol80 | F88: Svorka na přístrojovou pojistku | G88: kus | H88: 3 | J88: =ROUND(I88*H88,2) -> 0 | N88: základní | P88: =O88*H88 -> 0 | Q88: 0 | R88: =Q88*H88 -> 0 | S88: 0 | T88: =S88*H88 -> 0 | AR88: 64 | AT88: K | AU88: 1 | AY88: ROZPOCET | BE88: =IF(N88="základní",J88,0) -> 0 | BF88: =IF(N88="snížená",J88,0) -> 0 | BG88: =IF(N88="zákl. přenesená",J88,0) -> 0 | BH88: =IF(N88="sníž. přenesená",J88,0) -> 0 | BI88: =IF(N88="nulová",J88,0) -> 0 | BJ88: 1 | BK88: =ROUND(I88*H88,2) -> 0 | BL88: 64 | BM88: 293040158
C89: 2 | D89: K | E89: Pol81 | F89: Přístrojová pojistka T2,5A | G89: kus | H89: 1 | J89: =ROUND(I89*H89,2) -> 0 | N89: základní | P89: =O89*H89 -> 0 | Q89: 0 | R89: =Q89*H89 -> 0 | S89: 0 | T89: =S89*H89 -> 0 | AR89: 64 | AT89: K | AU89: 1 | AY89: ROZPOCET | BE89: =IF(N89="základní",J89,0) -> 0 | BF89: =IF(N89="snížená",J89,0) -> 0 | BG89: =IF(N89="zákl. přenesená",J89,0) -> 0 | BH89: =IF(N89="sníž. přenesená",J89,0) -> 0 | BI89: =IF(N89="nulová",J89,0) -> 0 | BJ89: 1 | BK89: =ROUND(I89*H89,2) -> 0 | BL89: 64 | BM89: 1984531941
C90: 3 | D90: K | E90: Pol82 | F90: Přístrojová pojistka T500mA | G90: kus | H90: 1 | J90: =ROUND(I90*H90,2) -> 0 | N90: základní | P90: =O90*H90 -> 0 | Q90: 0 | R90: =Q90*H90 -> 0 | S90: 0 | T90: =S90*H90 -> 0 | AR90: 64 | AT90: K | AU90: 1 | AY90: ROZPOCET | BE90: =IF(N90="základní",J90,0) -> 0 | BF90: =IF(N90="snížená",J90,0) -> 0 | BG90: =IF(N90="zákl. přenesená",J90,0) -> 0 | BH90: =IF(N90="sníž. přenesená",J90,0) -> 0 | BI90: =IF(N90="nulová",J90,0) -> 0 | BJ90: 1 | BK90: =ROUND(I90*H90,2) -> 0 | BL90: 64 | BM90: 425595360
C91: 4 | D91: K | E91: Pol88 | F91: Pružinová svorka, velikost 4, šedá | G91: kus | H91: 26 | J91: =ROUND(I91*H91,2) -> 0 | N91: základní | P91: =O91*H91 -> 0 | Q91: 0 | R91: =Q91*H91 -> 0 | S91: 0 | T91: =S91*H91 -> 0 | AR91: 64 | AT91: K | AU91: 1 | AY91: ROZPOCET | BE91: =IF(N91="základní",J91,0) -> 0 | BF91: =IF(N91="snížená",J91,0) -> 0 | BG91: =IF(N91="zákl. přenesená",J91,0) -> 0 | BH91: =IF(N91="sníž. přenesená",J91,0) -> 0 | BI91: =IF(N91="nulová",J91,0) -> 0 | BJ91: 1 | BK91: =ROUND(I91*H91,2) -> 0 | BL91: 64 | BM91: -913128628
C92: 5 | D92: K | E92: Pol90 | F92: Pružinová svorka, velikost 4, zelenožlutá | G92: kus | H92: 8 | J92: =ROUND(I92*H92,2) -> 0 | N92: základní | P92: =O92*H92 -> 0 | Q92: 0 | R92: =Q92*H92 -> 0 | S92: 0 | T92: =S92*H92 -> 0 | AR92: 64 | AT92: K | AU92: 1 | AY92: ROZPOCET | BE92: =IF(N92="základní",J92,0) -> 0 | BF92: =IF(N92="snížená",J92,0) -> 0 | BG92: =IF(N92="zákl. přenesená",J92,0) -> 0 | BH92: =IF(N92="sníž. přenesená",J92,0) -> 0 | BI92: =IF(N92="nulová",J92,0) -> 0 | BJ92: 1 | BK92: =ROUND(I92*H92,2) -> 0 | BL92: 64 | BM92: 400651282
C93: 6 | D93: K | E93: Pol93 | F93: Kabelová průchodka s maticí Pg13,5 | G93: kus | H93: 1 | J93: =ROUND(I93*H93,2) -> 0 | N93: základní | P93: =O93*H93 -> 0 | Q93: 0 | R93: =Q93*H93 -> 0 | S93: 0 | T93: =S93*H93 -> 0 | AR93: 64 | AT93: K | AU93: 1 | AY93: ROZPOCET | BE93: =IF(N93="základní",J93,0) -> 0 | BF93: =IF(N93="snížená",J93,0) -> 0 | BG93: =IF(N93="zákl. přenesená",J93,0) -> 0 | BH93: =IF(N93="sníž. přenesená",J93,0) -> 0 | BI93: =IF(N93="nulová",J93,0) -> 0 | BJ93: 1 | BK93: =ROUND(I93*H93,2) -> 0 | BL93: 64 | BM93: 1519949644
C94: 7 | D94: K | E94: Pol94 | F94: Kabelová průchodka s maticí Pg11 | G94: kus | H94: 9 | J94: =ROUND(I94*H94,2) -> 0 | N94: základní | P94: =O94*H94 -> 0 | Q94: 0 | R94: =Q94*H94 -> 0 | S94: 0 | T94: =S94*H94 -> 0 | AR94: 64 | AT94: K | AU94: 1 | AY94: ROZPOCET | BE94: =IF(N94="základní",J94,0) -> 0 | BF94: =IF(N94="snížená",J94,0) -> 0 | BG94: =IF(N94="zákl. přenesená",J94,0) -> 0 | BH94: =IF(N94="sníž. přenesená",J94,0) -> 0 | BI94: =IF(N94="nulová",J94,0) -> 0 | BJ94: 1 | BK94: =ROUND(I94*H94,2) -> 0 | BL94: 64 | BM94: -111706948
C95: 8 | D95: K | E95: Pol154 | F95: Plastová skříň 436x647x250, IP66 s montážním plechem | G95: kus | H95: 1 | J95: =ROUND(I95*H95,2) -> 0 | N95: základní | P95: =O95*H95 -> 0 | Q95: 0 | R95: =Q95*H95 -> 0 | S95: 0 | T95: =S95*H95 -> 0 | AR95: 64 | AT95: K | AU95: 1 | AY95: ROZPOCET | BE95: =IF(N95="základní",J95,0) -> 0 | BF95: =IF(N95="snížená",J95,0) -> 0 | BG95: =IF(N95="zákl. přenesená",J95,0) -> 0 | BH95: =IF(N95="sníž. přenesená",J95,0) -> 0 | BI95: =IF(N95="nulová",J95,0) -> 0 | BJ95: 1 | BK95: =ROUND(I95*H95,2) -> 0 | BL95: 64 | BM95: 2137348914
C96: 9 | D96: K | E96: Pol155 | F96: Přístrojová pojistka T400mA | G96: kus | H96: 1 | J96: =ROUND(I96*H96,2) -> 0 | N96: základní | P96: =O96*H96 -> 0 | Q96: 0 | R96: =Q96*H96 -> 0 | S96: 0 | T96: =S96*H96 -> 0 | AR96: 64 | AT96: K | AU96: 1 | AY96: ROZPOCET | BE96: =IF(N96="základní",J96,0) -> 0 | BF96: =IF(N96="snížená",J96,0) -> 0 | BG96: =IF(N96="zákl. přenesená",J96,0) -> 0 | BH96: =IF(N96="sníž. přenesená",J96,0) -> 0 | BI96: =IF(N96="nulová",J96,0) -> 0 | BJ96: 1 | BK96: =ROUND(I96*H96,2) -> 0 | BL96: 64 | BM96: -1697493949
C97: 10 | D97: K | E97: Pol156 | F97: Regulátor dobíjení a odpojovač akumulátorů 12V DC | G97: kus | H97: 1 | J97: =ROUND(I97*H97,2) -> 0 | N97: základní | P97: =O97*H97 -> 0 | Q97: 0 | R97: =Q97*H97 -> 0 | S97: 0 | T97: =S97*H97 -> 0 | AR97: 64 | AT97: K | AU97: 1 | AY97: ROZPOCET | BE97: =IF(N97="základní",J97,0) -> 0 | BF97: =IF(N97="snížená",J97,0) -> 0 | BG97: =IF(N97="zákl. přenesená",J97,0) -> 0 | BH97: =IF(N97="sníž. přenesená",J97,0) -> 0 | BI97: =IF(N97="nulová",J97,0) -> 0 | BJ97: 1 | BK97: =ROUND(I97*H97,2) -> 0 | BL97: 64 | BM97: 1134286715
C98: 11 | D98: K | E98: Pol157 | F98: Akumulátor NiCd 12V/9Ah | G98: kus | H98: 1 | J98: =ROUND(I98*H98,2) -> 0 | N98: základní | P98: =O98*H98 -> 0 | Q98: 0 | R98: =Q98*H98 -> 0 | S98: 0 | T98: =S98*H98 -> 0 | AR98: 64 | AT98: K | AU98: 1 | AY98: ROZPOCET | BE98: =IF(N98="základní",J98,0) -> 0 | BF98: =IF(N98="snížená",J98,0) -> 0 | BG98: =IF(N98="zákl. přenesená",J98,0) -> 0 | BH98: =IF(N98="sníž. přenesená",J98,0) -> 0 | BI98: =IF(N98="nulová",J98,0) -> 0 | BJ98: 1 | BK98: =ROUND(I98*H98,2) -> 0 | BL98: 64 | BM98: -1839215070
C99: 12 | D99: K | E99: Pol158 | F99: Datalogger | G99: kus | H99: 1 | J99: =ROUND(I99*H99,2) -> 0 | N99: základní | P99: =O99*H99 -> 0 | Q99: 0 | R99: =Q99*H99 -> 0 | S99: 0 | T99: =S99*H99 -> 0 | AR99: 64 | AT99: K | AU99: 1 | AY99: ROZPOCET | BE99: =IF(N99="základní",J99,0) -> 0 | BF99: =IF(N99="snížená",J99,0) -> 0 | BG99: =IF(N99="zákl. přenesená",J99,0) -> 0 | BH99: =IF(N99="sníž. přenesená",J99,0) -> 0 | BI99: =IF(N99="nulová",J99,0) -> 0 | BJ99: 1 | BK99: =ROUND(I99*H99,2) -> 0 | BL99: 64 | BM99: -2010692818
D100: P | F100: Poznámka k položce:_x000D_ Zařízení pro přenos dat včetně SIM karty | AT100: P | AU100: 1
C101: 13 | D101: K | E101: Pol159 | F101: Propojovací materiál | G101: kpl | H101: 1 | J101: =ROUND(I101*H101,2) -> 0 | N101: základní | P101: =O101*H101 -> 0 | Q101: 0 | R101: =Q101*H101 -> 0 | S101: 0 | T101: =S101*H101 -> 0 | AR101: 64 | AT101: K | AU101: 1 | AY101: ROZPOCET | BE101: =IF(N101="základní",J101,0) -> 0 | BF101: =IF(N101="snížená",J101,0) -> 0 | BG101: =IF(N101="zákl. přenesená",J101,0) -> 0 | BH101: =IF(N101="sníž. přenesená",J101,0) -> 0 | BI101: =IF(N101="nulová",J101,0) -> 0 | BJ101: 1 | BK101: =ROUND(I101*H101,2) -> 0 | BL101: 64 | BM101: -1498430139
D102: P | F102: Poznámka k položce:_x000D_ Propojovací lišty, vodiče, dutinky | AT102: P | AU102: 1
C103: 14 | D103: K | E103: Pol160 | F103: Popisovací materiál | G103: kpl | H103: 1 | J103: =ROUND(I103*H103,2) -> 0 | N103: základní | P103: =O103*H103 -> 0 | Q103: 0 | R103: =Q103*H103 -> 0 | S103: 0 | T103: =S103*H103 -> 0 | AR103: 64 | AT103: K | AU103: 1 | AY103: ROZPOCET | BE103: =IF(N103="základní",J103,0) -> 0 | BF103: =IF(N103="snížená",J103,0) -> 0 | BG103: =IF(N103="zákl. přenesená",J103,0) -> 0 | BH103: =IF(N103="sníž. přenesená",J103,0) -> 0 | BI103: =IF(N103="nulová",J103,0) -> 0 | BJ103: 1 | BK103: =ROUND(I103*H103,2) -> 0 | BL103: 64 | BM103: 1938323281
D104: P | F104: Poznámka k položce:_x000D_ Popisky, výstražné symboly, návlečky na vodiče | AT104: P | AU104: 1
C105: 15 | D105: K | E105: Pol161 | F105: Konstrukční materiál | G105: kpl | H105: 1 | J105: =ROUND(I105*H105,2) -> 0 | N105: základní | P105: =O105*H105 -> 0 | Q105: 0 | R105: =Q105*H105 -> 0 | S105: 0 | T105: =S105*H105 -> 0 | AR105: 64 | AT105: K | AU105: 1 | AY105: ROZPOCET | BE105: =IF(N105="základní",J105,0) -> 0 | BF105: =IF(N105="snížená",J105,0) -> 0 | BG105: =IF(N105="zákl. přenesená",J105,0) -> 0 | BH105: =IF(N105="sníž. přenesená",J105,0) -> 0 | BI105: =IF(N105="nulová",J105,0) -> 0 | BJ105: 1 | BK105: =ROUND(I105*H105,2) -> 0 | BL105: 64 | BM105: -1461717096
D106: P | F106: Poznámka k položce:_x000D_ U lišty, vkládací žlaby, šrouby | AT106: P | AU106: 1
C107: 16 | D107: K | E107: Pol162 | F107: Výroba rozváděče | G107: kus | H107: 1 | J107: =ROUND(I107*H107,2) -> 0 | N107: základní | P107: =O107*H107 -> 0 | Q107: 0 | R107: =Q107*H107 -> 0 | S107: 0 | T107: =S107*H107 -> 0 | AR107: 64 | AT107: K | AU107: 1 | AY107: ROZPOCET | BE107: =IF(N107="základní",J107,0) -> 0 | BF107: =IF(N107="snížená",J107,0) -> 0 | BG107: =IF(N107="zákl. přenesená",J107,0) -> 0 | BH107: =IF(N107="sníž. přenesená",J107,0) -> 0 | BI107: =IF(N107="nulová",J107,0) -> 0 | BJ107: 1 | BK107: =ROUND(I107*H107,2) -> 0 | BL107: 64 | BM107: 1979548150
C108: 17 | D108: K | E108: Pol163 | F108: Dokumentace rozváděče | G108: kpl | H108: 1 | J108: =ROUND(I108*H108,2) -> 0 | N108: základní | P108: =O108*H108 -> 0 | Q108: 0 | R108: =Q108*H108 -> 0 | S108: 0 | T108: =S108*H108 -> 0 | AR108: 64 | AT108: K | AU108: 1 | AY108: ROZPOCET | BE108: =IF(N108="základní",J108,0) -> 0 | BF108: =IF(N108="snížená",J108,0) -> 0 | BG108: =IF(N108="zákl. přenesená",J108,0) -> 0 | BH108: =IF(N108="sníž. přenesená",J108,0) -> 0 | BI108: =IF(N108="nulová",J108,0) -> 0 | BJ108: 1 | BK108: =ROUND(I108*H108,2) -> 0 | BL108: 64 | BM108: -1018233857
D109: P | F109: Poznámka k položce:_x000D_ Výkresy, prohlášení o shodě, protokol o zkoušce | AT109: P | AU109: 1

Sheet SO 04.1 - VDJ Černé Voděr...
AT2: {221ed791-5e0a-46ba-90f6-11444a1a6347}
AT3: 2
D4: KRYCÍ LIST SOUPISU PRACÍ | M4: v --- níže se nacházejí doplnkové a pomocné údaje k sestavám --- v | AT4: False
D6: Stavba:
E7: ='Rekapitulace stavby'!K6 -> Připojení vodovodu Černé Voděrady na SV Region JIH
D8: Objekt:
E9: SO 04 - VDJ Černé Voděrady 2x40m3
D10: Soupis:
E11: SO 04.1 - VDJ Černé Voděrady - stavební část
D13: KSO: | I13: CC-CZ:
D14: Místo: | F14: K.Ú. černé Voděrady, Zvánovice, Ondřejov u Prahy | I14: Datum: | J14: ='Rekapitulace stavby'!AN8 -> 31. 7. 2025
D16: Zadavatel: | I16: IČ: | J16: 00235318
E17: Obec Černé Voděrady, nám. Lípy Svobody 47, 281 63 | I17: DIČ:
D19: Účastník: | I19: IČ: | J19: ='Rekapitulace stavby'!AN13 -> Vyplň údaj
E20: ='Rekapitulace stavby'!E14 -> Vyplň údaj | I20: DIČ: | J20: ='Rekapitulace stavby'!AN14 -> Vyplň údaj
D22: Projektant: | I22: IČ: | J22: 47116901
E23: Vodohospodářský rozvoj a výstavba s.s. Praha 5 | I23: DIČ:
D25: Zpracovatel: | I25: IČ:
E26: M. Morská | I26: DIČ:
D28: Poznámka:
D32: Cena bez DPH | J32: =ROUND(J112, 2) -> 0
F34: Základ daně | I34: Sazba daně | J34: Výše daně
D35: DPH | E35: základní | F35: =ROUND((SUM(BE112:BE1578)), 2) -> 0 | I35: 0.21 | J35: =ROUND(((SUM(BE112:BE1578))*I35), 2) -> 0
E36: snížená | F36: =ROUND((SUM(BF112:BF1578)), 2) -> 0 | I36: 0.12 | J36: =ROUND(((SUM(BF112:BF1578))*I36), 2) -> 0
E37: zákl. přenesená | F37: =ROUND((SUM(BG112:BG1578)), 2) -> 0 | I37: 0.21 | J37: =0 -> 0
E38: sníž. přenesená | F38: =ROUND((SUM(BH112:BH1578)), 2) -> 0 | I38: 0.12 | J38: =0 -> 0
E39: nulová | F39: =ROUND((SUM(BI112:BI1578)), 2) -> 0 | I39: 0 | J39: =0 -> 0
D41: Cena s DPH | G41: v | H41: CZK | J41: =SUM(J32:J39) -> 0
C47: REKAPITULACE ČLENĚNÍ SOUPISU PRACÍ
C49: Stavba:
E50: =E7 -> Připojení vodovodu Černé Voděrady na SV Region JIH
C51: Objekt:
E52: SO 04 - VDJ Černé Voděrady 2x40m3
C53: Soupis:
E54: =E11 -> SO 04.1 - VDJ Černé Voděrady - stavební část
C56: Místo: | F56: =F14 -> K.Ú. černé Voděrady, Zvánovice, Ondřejov u Prahy | I56: Datum: | J56: =IF(J14="","",J14) -> 31. 7. 2025
C58: Zadavatel: | F58: =E17 -> Obec Černé Voděrady, nám. Lípy Svobody 47, 281 63 | I58: Projektant: | J58: =E23 -> Vodohospodářský rozvoj a výstavba s.s. Praha 5
C59: Účastník: | F59: =IF(E20="","",E20) -> Vyplň údaj | I59: Zpracovatel: | J59: =E26 -> M. Morská
C61: Kód dílu - Popis | J61: Cena celkem [CZK]
C63: Náklady stavby celkem | J63: =J112 -> 0 | AU63: -1
D64: HSV - Práce a dodávky HSV | J64: =J113 -> 0
D65: 1 - Zemní práce | J65: =J114 -> 0
D66: 2 - Zakládání | J66: =J272 -> 0
D67: 3 - Svislé a kompletní konstrukce | J67: =J352 -> 0
D68: 4 - Vodorovné konstrukce | J68: =J378 -> 0
D69: 5 - Komunikace pozemní | J69: =J437 -> 0
D70: 6 - Úpravy povrchů, podlahy a osazování výplní | J70: =J464 -> 0
D71: 8 - Trubní vedení | J71: =J629 -> 0
D72: 9 - Ostatní konstrukce a práce, bourání | J72: =J651 -> 0
D73: 997 - Přesun sutě | J73: =J871 -> 0
D74: 998 - Přesun hmot | J74: =J883 -> 0
D75: PSV - Práce a dodávky PSV | J75: =J886 -> 0
D76: 711 - Izolace proti vodě, vlhkosti a plynům | J76: =J887 -> 0
D77: 712 - Povlakové krytiny | J77: =J996 -> 0
D78: 713 - Izolace tepelné | J78: =J1091 -> 0
D79: 721 - Zdravotechnika - vnitřní kanalizace | J79: =J1138 -> 0
D80: 722 - Zdravotechnika - vnitřní vodovod | J80: =J1155 -> 0
D81: 725 - Zdravotechnika - zařizovací předměty | J81: =J1162 -> 0
D82: 751 - Vzduchotechnika | J82: =J1181 -> 0
D83: 762 - Konstrukce tesařské | J83: =J1235 -> 0
D84: 764 - Konstrukce klempířské | J84: =J1311 -> 0
D85: 765 - Krytina skládaná | J85: =J1334 -> 0
D86: 766 - Konstrukce truhlářské | J86: =J1383 -> 0
D87: 767 - Konstrukce zámečnické | J87: =J1406 -> 0
D88: 771 - Podlahy z dlaždic | J88: =J1486 -> 0
D89: 783 - Dokončovací práce - nátěry | J89: =J1519 -> 0
D90: 999 - Zkoušky a kontrolní práce | J90: =J1533 -> 0
C97: SOUPIS PRACÍ
C99: Stavba:
E100: =E7 -> Připojení vodovodu Černé Voděrady na SV Region JIH
C101: Objekt:
E102: SO 04 - VDJ Černé Voděrady 2x40m3
C103: Soupis:
E104: =E11 -> SO 04.1 - VDJ Černé Voděrady - stavební část
C106: Místo: | F106: =F14 -> K.Ú. černé Voděrady, Zvánovice, Ondřejov u Prahy | I106: Datum: | J106: =IF(J14="","",J14) -> 31. 7. 2025
C108: Zadavatel: | F108: =E17 -> Obec Černé Voděrady, nám. Lípy Svobody 47, 281 63 | I108: Projektant: | J108: =E23 -> Vodohospodářský rozvoj a výstavba s.s. Praha 5
C109: Účastník: | F109: =IF(E20="","",E20) -> Vyplň údaj | I109: Zpracovatel: | J109: =E26 -> M. Morská
C111: PČ | D111: Typ | E111: Kód | F111: Popis | G111: MJ | H111: Množství | I111: J.cena [CZK] | J111: Cena celkem [CZK] | K111: Cenová soustava | N111: DPH | O111: J. Nh [h] | P111: Nh celkem [h] | Q111: J. hmotnost [t] | R111: Hmotnost celkem [t] | S111: J. suť [t] | T111: Suť Celkem [t]
C112: Náklady soupisu celkem | J112: =BK112 -> 0 | P112: =P113+P886 -> 0 | R112: =R113+R886 -> 535.43815 | T112: =T113+T886 -> 13.9642 | AT112: D | AU112: -1 | BK112: =BK113+BK886 -> 0
D113: D | E113: HSV | F113: Práce a dodávky HSV | J113: =BK113 -> 0 | P113: =P114+P272+P352+P378+P437+P464+P629+P651+P871+P883 -> 0 | R113: =R114+R272+R352+R378+R437+R464+R629+R651+R871+R883 -> 500.44558 | T113: =T114+T272+T352+T378+T437+T464+T629+T651+T871+T883 -> 13.9642 | AR113: 1 | AT113: D | AU113: 0 | AY113: ROZPOCET | BK113: =BK114+BK272+BK352+BK378+BK437+BK464+BK629+BK651+BK871+BK883 -> 0
D114: D | E114: 1 | F114: Zemní práce | J114: =BK114 -> 0 | P114: =SUM(P115:P271) -> 0 | R114: =SUM(R115:R271) -> 364.24695 | T114: =SUM(T115:T271) -> 0 | AR114: 1 | AT114: D | AU114: 1 | AY114: ROZPOCET | BK114: =SUM(BK115:BK271) -> 0
C115: 1 | D115: K | E115: 115101201 | F115: Čerpání vody na dopravní výšku do 10 m s uvažovaným průměrným přítokem do 500 l/min | G115: hod | H115: 320 | J115: =ROUND(I115*H115,2) -> 0 | K115: CS ÚRS 2025 02 | N115: základní | P115: =O115*H115 -> 0 | Q115: 3e-05 | R115: =Q115*H115 -> 0.0096 | S115: 0 | T115: =S115*H115 -> 0 | AR115: 4 | AT115: K | AU115: 2 | AY115: ROZPOCET | BE115: =IF(N115="základní",J115,0) -> 0 | BF115: =IF(N115="snížená",J115,0) -> 0 | BG115: =IF(N115="zákl. přenesená",J115,0) -> 0 | BH115: =IF(N115="sníž. přenesená",J115,0) -> 0 | BI115: =IF(N115="nulová",J115,0) -> 0 | BJ115: 1 | BK115: =ROUND(I115*H115,2) -> 0 | BL115: 4 | BM115: 977725147
D116: Online PSC | F116: https://podminky.urs.cz/item/CS_URS_2025_02/115101201 | AT116: Online PSC | AU116: 2
C117: 2 | D117: K | E117: 115101301 | F117: Pohotovost záložní čerpací soupravy pro dopravní výšku do 10 m s uvažovaným průměrným přítokem do 500 l/min | G117: den | H117: 40 | J117: =ROUND(I117*H117,2) -> 0 | K117: CS ÚRS 2025 02 | N117: základní | P117: =O117*H117 -> 0 | Q117: 0 | R117: =Q117*H117 -> 0 | S117: 0 | T117: =S117*H117 -> 0 | AR117: 4 | AT117: K | AU117: 2 | AY117: ROZPOCET | BE117: =IF(N117="základní",J117,0) -> 0 | BF117: =IF(N117="snížená",J117,0) -> 0 | BG117: =IF(N117="zákl. přenesená",J117,0) -> 0 | BH117: =IF(N117="sníž. přenesená",J117,0) -> 0 | BI117: =IF(N117="nulová",J117,0) -> 0 | BJ117: 1 | BK117: =ROUND(I117*H117,2) -> 0 | BL117: 4 | BM117: -1972719993
D118: Online PSC | F118: https://podminky.urs.cz/item/CS_URS_2025_02/115101301 | AT118: Online PSC | AU118: 2
C119: 3 | D119: K | E119: 121151123 | F119: Sejmutí ornice strojně při souvislé ploše přes 500 m2, tl. vrstvy do 200 mm | G119: m2 | H119: 890 | J119: =ROUND(I119*H119,2) -> 0 | K119: CS ÚRS 2025 02 | N119: základní | P119: =O119*H119 -> 0 | Q119: 0 | R119: =Q119*H119 -> 0 | S119: 0 | T119: =S119*H119 -> 0 | AR119: 4 | AT119: K | AU119: 2 | AY119: ROZPOCET | BE119: =IF(N119="základní",J119,0) -> 0 | BF119: =IF(N119="snížená",J119,0) -> 0 | BG119: =IF(N119="zákl. přenesená",J119,0) -> 0 | BH119: =IF(N119="sníž. přenesená",J119,0) -> 0 | BI119: =IF(N119="nulová",J119,0) -> 0 | BJ119: 1 | BK119: =ROUND(I119*H119,2) -> 0 | BL119: 4 | BM119: 572053418
D120: Online PSC | F120: https://podminky.urs.cz/item/CS_URS_2025_02/121151123 | AT120: Online PSC | AU120: 2
D121: VV | F121: sejmutí ornice pro stavbu vodojemu | AT121: VV | AU121: 2 | AV121: 1 | AW121: True | AX121: 0 | AY121: ROZPOCET
D122: VV | F122: celý areál VDJ vč. dotčených ploch kolem oplocení | AT122: VV | AU122: 2 | AV122: 1 | AW122: True | AX122: 0 | AY122: ROZPOCET
D123: VV | F123: 775,00+115,00 | H123: 890 | AT123: VV | AU123: 2 | AV123: 2 | AW123: True | AX123: 0 | AY123: ROZPOCET
D124: VV | F124: Součet | H124: 890 | AT124: VV | AU124: 2 | AV124: 4 | AW124: True | AX124: 1 | AY124: ROZPOCET
C125: 4 | D125: K | E125: 131151104 | F125: Hloubení nezapažených jam a zářezů strojně s urovnáním dna do předepsaného profilu a spádu v hornině třídy těžitelnosti I skupiny 1 a 2 přes 100 do 500 m3 | G125: m3 | H125: 22.8 | J125: =ROUND(I125*H125,2) -> 0 | K125: CS ÚRS 2025 02 | N125: základní | P125: =O125*H125 -> 0 | Q125: 0 | R125: =Q125*H125 -> 0 | S125: 0 | T125: =S125*H125 -> 0 | AR125: 4 | AT125: K | AU125: 2 | AY125: ROZPOCET | BE125: =IF(N125="základní",J125,0) -> 0 | BF125: =IF(N125="snížená",J125,0) -> 0 | BG125: =IF(N125="zákl. přenesená",J125,0) -> 0 | BH125: =IF(N125="sníž. přenesená",J125,0) -> 0 | BI125: =IF(N125="nulová",J125,0) -> 0 | BJ125: 1 | BK125: =ROUND(I125*H125,2) -> 0 | BL125: 4 | BM125: 1512143884
D126: Online PSC | F126: https://podminky.urs.cz/item/CS_URS_2025_02/131151104 | AT126: Online PSC | AU126: 2
D127: VV | F127: "TECHNICKÁ ZPRÁVA | AT127: VV | AU127: 2 | AV127: 1 | AW127: True | AX127: 0 | AY127: ROZPOCET
D128: VV | F128: "VÝKOPY | AT128: VV | AU128: 2 | AV128: 1 | AW128: True | AX128: 0 | AY128: ROZPOCET
D129: VV | F129: 190,00 | H129: 190 | AT129: VV | AU129: 2 | AV129: 2 | AW129: True | AX129: 0 | AY129: ROZPOCET
D130: VV | F130: "zemina sk.2 - 12%" 190,00*0,12 | H130: 22.8 | AT130: VV | AU130: 2 | AV130: 2 | AW130: True | AX130: 1 | AY130: ROZPOCET
C131: 5 | D131: K | E131: 131251104 | F131: Hloubení nezapažených jam a zářezů strojně s urovnáním dna do předepsaného profilu a spádu v hornině třídy těžitelnosti I skupiny 3 přes 100 do 500 m3 | G131: m3 | H131: 83.6 | J131: =ROUND(I131*H131,2) -> 0 | K131: CS ÚRS 2025 02 | N131: základní | P131: =O131*H131 -> 0 | Q131: 0 | R131: =Q131*H131 -> 0 | S131: 0 | T131: =S131*H131 -> 0 | AR131: 4 | AT131: K | AU131: 2 | AY131: ROZPOCET | BE131: =IF(N131="základní",J131,0) -> 0 | BF131: =IF(N131="snížená",J131,0) -> 0 | BG131: =IF(N131="zákl. přenesená",J131,0) -> 0 | BH131: =IF(N131="sníž. přenesená",J131,0) -> 0 | BI131: =IF(N131="nulová",J131,0) -> 0 | BJ131: 1 | BK131: =ROUND(I131*H131,2) -> 0 | BL131: 4 | BM131: -486352581
D132: Online PSC | F132: https://podminky.urs.cz/item/CS_URS_2025_02/131251104 | AT132: Online PSC | AU132: 2
D133: VV | F133: "TECHNICKÁ ZPRÁVA | AT133: VV | AU133: 2 | AV133: 1 | AW133: True | AX133: 0 | AY133: ROZPOCET
...

Sheet SO 04.1. - Oplocení VDJ
AT2: {40d2dc28-b793-4644-9c0f-416bcc0dd7fa}
AT3: 2
D4: KRYCÍ LIST SOUPISU PRACÍ | M4: v --- níže se nacházejí doplnkové a pomocné údaje k sestavám --- v | AT4: False
D6: Stavba:
E7: ='Rekapitulace stavby'!K6 -> Připojení vodovodu Černé Voděrady na SV Region JIH
D8: Objekt:
E9: SO 04 - VDJ Černé Voděrady 2x40m3
D10: Soupis:
E11: SO 04.1 - VDJ Černé Voděrady - stavební část
D12: Úroveň 3:
E13: SO 04.1. - Oplocení VDJ
D15: KSO: | I15: CC-CZ:
D16: Místo: | F16: K.Ú. černé Voděrady, Zvánovice, Ondřejov u Prahy | I16: Datum: | J16: ='Rekapitulace stavby'!AN8 -> 31. 7. 2025
D18: Zadavatel: | I18: IČ: | J18: 00235318
E19: Obec Černé Voděrady, nám. Lípy Svobody 47, 281 63 | I19: DIČ:
D21: Účastník: | I21: IČ: | J21: ='Rekapitulace stavby'!AN13 -> Vyplň údaj
E22: ='Rekapitulace stavby'!E14 -> Vyplň údaj | I22: DIČ: | J22: ='Rekapitulace stavby'!AN14 -> Vyplň údaj
D24: Projektant: | I24: IČ: | J24: 47116901
E25: Vodohospodářský rozvoj a výstavba s.s. Praha 5 | I25: DIČ:
D27: Zpracovatel: | I27: IČ:
E28: M. Morská | I28: DIČ:
D30: Poznámka:
D34: Cena bez DPH | J34: =ROUND(J100, 2) -> 0
F36: Základ daně | I36: Sazba daně | J36: Výše daně
D37: DPH | E37: základní | F37: =ROUND((SUM(BE100:BE284)), 2) -> 0 | I37: 0.21 | J37: =ROUND(((SUM(BE100:BE284))*I37), 2) -> 0
E38: snížená | F38: =ROUND((SUM(BF100:BF284)), 2) -> 0 | I38: 0.12 | J38: =ROUND(((SUM(BF100:BF284))*I38), 2) -> 0
E39: zákl. přenesená | F39: =ROUND((SUM(BG100:BG284)), 2) -> 0 | I39: 0.21 | J39: =0 -> 0
E40: sníž. přenesená | F40: =ROUND((SUM(BH100:BH284)), 2) -> 0 | I40: 0.12 | J40: =0 -> 0
E41: nulová | F41: =ROUND((SUM(BI100:BI284)), 2) -> 0 | I41: 0 | J41: =0 -> 0
D43: Cena s DPH | G43: v | H43: CZK | J43: =SUM(J34:J41) -> 0
C49: REKAPITULACE ČLENĚNÍ SOUPISU PRACÍ
C51: Stavba:
E52: =E7 -> Připojení vodovodu Černé Voděrady na SV Region JIH
C53: Objekt:
E54: SO 04 - VDJ Černé Voděrady 2x40m3
C55: Soupis:
E56: SO 04.1 - VDJ Černé Voděrady - stavební část
C57: Úroveň 3:
E58: =E13 -> SO 04.1. - Oplocení VDJ
C60: Místo: | F60: =F16 -> K.Ú. černé Voděrady, Zvánovice, Ondřejov u Prahy | I60: Datum: | J60: =IF(J16="","",J16) -> 31. 7. 2025
C62: Zadavatel: | F62: =E19 -> Obec Černé Voděrady, nám. Lípy Svobody 47, 281 63 | I62: Projektant: | J62: =E25 -> Vodohospodářský rozvoj a výstavba s.s. Praha 5
C63: Účastník: | F63: =IF(E22="","",E22) -> Vyplň údaj | I63: Zpracovatel: | J63: =E28 -> M. Morská
C65: Kód dílu - Popis | J65: Cena celkem [CZK]
C67: Náklady stavby celkem | J67: =J100 -> 0 | AU67: -1
D68: HSV - Práce a dodávky HSV | J68: =J101 -> 0
D69: 1 - Zemní práce | J69: =J102 -> 0
D70: 2 - Zakládání | J70: =J143 -> 0
D71: 3 - Svislé a kompletní konstrukce | J71: =J158 -> 0
D72: 9 - Ostatní konstrukce a práce, bourání | J72: =J252 -> 0
D73: 998 - Přesun hmot | J73: =J259 -> 0
D74: PSV - Práce a dodávky PSV | J74: =J262 -> 0
D75: 767 - Konstrukce zámečnické | J75: =J263 -> 0
D76: 46-M - Zemní práce při extr.mont.pracích | J76: =J277 -> 0
C83: SOUPIS PRACÍ
C85: Stavba:
E86: =E7 -> Připojení vodovodu Černé Voděrady na SV Region JIH
C87: Objekt:
E88: SO 04 - VDJ Černé Voděrady 2x40m3
C89: Soupis:
E90: SO 04.1 - VDJ Černé Voděrady - stavební část
C91: Úroveň 3:
E92: =E13 -> SO 04.1. - Oplocení VDJ
C94: Místo: | F94: =F16 -> K.Ú. černé Voděrady, Zvánovice, Ondřejov u Prahy | I94: Datum: | J94: =IF(J16="","",J16) -> 31. 7. 2025
C96: Zadavatel: | F96: =E19 -> Obec Černé Voděrady, nám. Lípy Svobody 47, 281 63 | I96: Projektant: | J96: =E25 -> Vodohospodářský rozvoj a výstavba s.s. Praha 5
C97: Účastník: | F97: =IF(E22="","",E22) -> Vyplň údaj | I97: Zpracovatel: | J97: =E28 -> M. Morská
C99: PČ | D99: Typ | E99: Kód | F99: Popis | G99: MJ | H99: Množství | I99: J.cena [CZK] | J99: Cena celkem [CZK] | K99: Cenová soustava | N99: DPH | O99: J. Nh [h] | P99: Nh celkem [h] | Q99: J. hmotnost [t] | R99: Hmotnost celkem [t] | S99: J. suť [t] | T99: Suť Celkem [t]
C100: Náklady soupisu celkem | J100: =BK100 -> 0 | P100: =P101+P262 -> 0 | R100: =R101+R262 -> 31.181284 | T100: =T101+T262 -> 0 | AT100: D | AU100: -1 | BK100: =BK101+BK262 -> 0
D101: D | E101: HSV | F101: Práce a dodávky HSV | J101: =BK101 -> 0 | P101: =P102+P143+P158+P252+P259 -> 0 | R101: =R102+R143+R158+R252+R259 -> 30.39274 | T101: =T102+T143+T158+T252+T259 -> 0 | AR101: 1 | AT101: D | AU101: 0 | AY101: ROZPOCET | BK101: =BK102+BK143+BK158+BK252+BK259 -> 0
D102: D | E102: 1 | F102: Zemní práce | J102: =BK102 -> 0 | P102: =SUM(P103:P142) -> 0 | R102: =SUM(R103:R142) -> 17.25 | T102: =SUM(T103:T142) -> 0 | AR102: 1 | AT102: D | AU102: 1 | AY102: ROZPOCET | BK102: =SUM(BK103:BK142) -> 0
C103: 1 | D103: K | E103: 122211101 | F103: Odkopávky a prokopávky ručně zapažené i nezapažené v hornině třídy těžitelnosti I skupiny 3 | G103: m3 | H103: 11.5 | J103: =ROUND(I103*H103,2) -> 0 | K103: CS ÚRS 2025 02 | N103: základní | P103: =O103*H103 -> 0 | Q103: 0 | R103: =Q103*H103 -> 0 | S103: 0 | T103: =S103*H103 -> 0 | AR103: 4 | AT103: K | AU103: 2 | AY103: ROZPOCET | BE103: =IF(N103="základní",J103,0) -> 0 | BF103: =IF(N103="snížená",J103,0) -> 0 | BG103: =IF(N103="zákl. přenesená",J103,0) -> 0 | BH103: =IF(N103="sníž. přenesená",J103,0) -> 0 | BI103: =IF(N103="nulová",J103,0) -> 0 | BJ103: 1 | BK103: =ROUND(I103*H103,2) -> 0 | BL103: 4 | BM103: -2011046361
D104: Online PSC | F104: https://podminky.urs.cz/item/CS_URS_2025_02/122211101 | AT104: Online PSC | AU104: 2
D105: VV | F105: "TECHNICKÁ ZPRÁVA | AT105: VV | AU105: 2 | AV105: 1 | AW105: True | AX105: 0 | AY105: ROZPOCET
D106: VV | F106: "CHARAKTERISTICKÝ POHLED A VÝPIS MATERIÁLU | AT106: VV | AU106: 2 | AV106: 1 | AW106: True | AX106: 0 | AY106: ROZPOCET
D107: VV | F107: "odkopávka pro lože ze štěrkodrti pod podhrabové desky | AT107: VV | AU107: 2 | AV107: 1 | AW107: True | AX107: 0 | AY107: ROZPOCET
D108: VV | F108: 115,00*0,50*0,20 | H108: 11.5 | AT108: VV | AU108: 2 | AV108: 2 | AW108: True | AX108: 1 | AY108: ROZPOCET
C109: 2 | D109: K | E109: 131111332 | F109: Vrtání jamek ručním motorovým vrtákem průměru přes 100 do 200 mm | G109: m | H109: 6 | J109: =ROUND(I109*H109,2) -> 0 | K109: CS ÚRS 2025 02 | N109: základní | P109: =O109*H109 -> 0 | Q109: 0 | R109: =Q109*H109 -> 0 | S109: 0 | T109: =S109*H109 -> 0 | AR109: 4 | AT109: K | AU109: 2 | AY109: ROZPOCET | BE109: =IF(N109="základní",J109,0) -> 0 | BF109: =IF(N109="snížená",J109,0) -> 0 | BG109: =IF(N109="zákl. přenesená",J109,0) -> 0 | BH109: =IF(N109="sníž. přenesená",J109,0) -> 0 | BI109: =IF(N109="nulová",J109,0) -> 0 | BJ109: 1 | BK109: =ROUND(I109*H109,2) -> 0 | BL109: 4 | BM109: 359150904
D110: Online PSC | F110: https://podminky.urs.cz/item/CS_URS_2025_02/131111332 | AT110: Online PSC | AU110: 2
D111: VV | F111: "B1" 1,00*6 | H111: 6 | AT111: VV | AU111: 2 | AV111: 2 | AW111: True | AX111: 1 | AY111: ROZPOCET
C112: 3 | D112: K | E112: 131111359 | F112: Vrtání jamek Příplatek k cenám -1331 až -1343 za vrtání v kamenité nebo kořeny prorostlé půdě | G112: m | H112: 6 | J112: =ROUND(I112*H112,2) -> 0 | K112: CS ÚRS 2025 02 | N112: základní | P112: =O112*H112 -> 0 | Q112: 0 | R112: =Q112*H112 -> 0 | S112: 0 | T112: =S112*H112 -> 0 | AR112: 4 | AT112: K | AU112: 2 | AY112: ROZPOCET | BE112: =IF(N112="základní",J112,0) -> 0 | BF112: =IF(N112="snížená",J112,0) -> 0 | BG112: =IF(N112="zákl. přenesená",J112,0) -> 0 | BH112: =IF(N112="sníž. přenesená",J112,0) -> 0 | BI112: =IF(N112="nulová",J112,0) -> 0 | BJ112: 1 | BK112: =ROUND(I112*H112,2) -> 0 | BL112: 4 | BM112: -135001440
D113: Online PSC | F113: https://podminky.urs.cz/item/CS_URS_2025_02/131111359 | AT113: Online PSC | AU113: 2
C114: 4 | D114: K | E114: 132212132 | F114: Hloubení nezapažených rýh šířky do 800 mm ručně s urovnáním dna do předepsaného profilu a spádu v hornině třídy těžitelnosti I skupiny 3 nesoudržných | G114: m3 | H114: 3.43 | J114: =ROUND(I114*H114,2) -> 0 | K114: CS ÚRS 2025 02 | N114: základní | P114: =O114*H114 -> 0 | Q114: 0 | R114: =Q114*H114 -> 0 | S114: 0 | T114: =S114*H114 -> 0 | AR114: 4 | AT114: K | AU114: 2 | AY114: ROZPOCET | BE114: =IF(N114="základní",J114,0) -> 0 | BF114: =IF(N114="snížená",J114,0) -> 0 | BG114: =IF(N114="zákl. přenesená",J114,0) -> 0 | BH114: =IF(N114="sníž. přenesená",J114,0) -> 0 | BI114: =IF(N114="nulová",J114,0) -> 0 | BJ114: 1 | BK114: =ROUND(I114*H114,2) -> 0 | BL114: 4 | BM114: -710215279
D115: Online PSC | F115: https://podminky.urs.cz/item/CS_URS_2025_02/132212132 | AT115: Online PSC | AU115: 2
D116: VV | F116: "CHARAKTERISTICKÝ POHLED A VÝPIS MATERIÁLU | AT116: VV | AU116: 2 | AV116: 1 | AW116: True | AX116: 0 | AY116: ROZPOCET
D117: VV | F117: "B2 - betonová patka | AT117: VV | AU117: 2 | AV117: 1 | AW117: True | AX117: 0 | AY117: ROZPOCET
D118: VV | F118: 4,90*0,50*1,40 | H118: 3.43 | AT118: VV | AU118: 2 | AV118: 2 | AW118: True | AX118: 0 | AY118: ROZPOCET
D119: VV | F119: Součet | H119: 3.43 | AT119: VV | AU119: 2 | AV119: 4 | AW119: True | AX119: 1 | AY119: ROZPOCET
C120: 5 | D120: K | E120: 162651112 | F120: Vodorovné přemístění výkopku nebo sypaniny po suchu na obvyklém dopravním prostředku, bez naložení výkopku, avšak se složením bez rozhrnutí z horniny třídy těžitelnosti I skupiny 1 až 3 na vzdálenost přes 4 000 do 5 000 m | G120: m3 | H120: 30.232 | J120: =ROUND(I120*H120,2) -> 0 | K120: CS ÚRS 2025 02 | N120: základní | P120: =O120*H120 -> 0 | Q120: 0 | R120: =Q120*H120 -> 0 | S120: 0 | T120: =S120*H120 -> 0 | AR120: 4 | AT120: K | AU120: 2 | AY120: ROZPOCET | BE120: =IF(N120="základní",J120,0) -> 0 | BF120: =IF(N120="snížená",J120,0) -> 0 | BG120: =IF(N120="zákl. přenesená",J120,0) -> 0 | BH120: =IF(N120="sníž. přenesená",J120,0) -> 0 | BI120: =IF(N120="nulová",J120,0) -> 0 | BJ120: 1 | BK120: =ROUND(I120*H120,2) -> 0 | BL120: 4 | BM120: 2063977270
D121: Online PSC | F121: https://podminky.urs.cz/item/CS_URS_2025_02/162651112 | AT121: Online PSC | AU121: 2
D122: VV | F122: "odvoz na meziskládku, zemina bude využita na úpravu okolního terénu | AT122: VV | AU122: 2 | AV122: 1 | AW122: True | AX122: 0 | AY122: ROZPOCET
D123: VV | F123: 6*0,031 | H123: 0.186 | AT123: VV | AU123: 2 | AV123: 2 | AW123: True | AX123: 0 | AY123: ROZPOCET
D124: VV | F124: 11,50 | H124: 11.5 | AT124: VV | AU124: 2 | AV124: 2 | AW124: True | AX124: 0 | AY124: ROZPOCET
D125: VV | F125: 3,43 | H125: 3.43 | AT125: VV | AU125: 2 | AV125: 2 | AW125: True | AX125: 0 | AY125: ROZPOCET
D126: VV | F126: Mezisoučet | H126: 15.116 | AT126: VV | AU126: 2 | AV126: 3 | AW126: True | AX126: 0 | AY126: ROZPOCET
D127: VV | F127: "doprava výkopku z meziskládky zpět pro terénní úpravy | AT127: VV | AU127: 2 | AV127: 1 | AW127: True | AX127: 0 | AY127: ROZPOCET
D128: VV | F128: 15,116 | H128: 15.116 | AT128: VV | AU128: 2 | AV128: 2 | AW128: True | AX128: 0 | AY128: ROZPOCET
D129: VV | F129: Součet | H129: 30.232 | AT129: VV | AU129: 2 | AV129: 4 | AW129: True | AX129: 1 | AY129: ROZPOCET
C130: 6 | D130: K | E130: 167151101 | F130: Nakládání, skládání a překládání neulehlého výkopku nebo sypaniny strojně nakládání, množství do 100 m3, z horniny třídy těžitelnosti I, skupiny 1 až 3 | G130: m3 | H130: 15.116 | J130: =ROUND(I130*H130,2) -> 0 | K130: CS ÚRS 2025 02 | N130: základní | P130: =O130*H130 -> 0 | Q130: 0 | R130: =Q130*H130 -> 0 | S130: 0 | T130: =S130*H130 -> 0 | AR130: 4 | AT130: K | AU130: 2 | AY130: ROZPOCET | BE130: =IF(N130="základní",J130,0) -> 0 | BF130: =IF(N130="snížená",J130,0) -> 0 | BG130: =IF(N130="zákl. přenesená",J130,0) -> 0 | BH130: =IF(N130="sníž. přenesená",J130,0) -> 0 | BI130: =IF(N130="nulová",J130,0) -> 0 | BJ130: 1 | BK130: =ROUND(I130*H130,2) -> 0 | BL130: 4 | BM130: -1345234572
D131: Online PSC | F131: https://podminky.urs.cz/item/CS_URS_2025_02/167151101 | AT131: Online PSC | AU131: 2
C132: 7 | D132: K | E132: 174151101 | F132: Zásyp sypaninou z jakékoliv horniny strojně s uložením výkopku ve vrstvách se zhutněním jam, šachet, rýh nebo kolem objektů v těchto vykopávkách | G132: m3 | H132: 23.741 | J132: =ROUND(I132*H132,2) -> 0 | K132: CS ÚRS 2025 02 | N132: základní | P132: =O132*H132 -> 0 | Q132: 0 | R132: =Q132*H132 -> 0 | S132: 0 | T132: =S132*H132 -> 0 | AR132: 4 | AT132: K | AU132: 2 | AY132: ROZPOCET | BE132: =IF(N132="základní",J132,0) -> 0 | BF132: =IF(N132="snížená",J132,0) -> 0 | BG132: =IF(N132="zákl. přenesená",J132,0) -> 0 | BH132: =IF(N132="sníž. přenesená",J132,0) -> 0 | BI132: =IF(N132="nulová",J132,0) -> 0 | BJ132: 1 | BK132: =ROUND(I132*H132,2) -> 0 | BL132: 4 | BM132: -1306527302
D133: Online PSC | F133: https://podminky.urs.cz/item/CS_URS_2025_02/174151101 | AT133: Online PSC | AU133: 2
...

Sheet SO 04.2 - VDJ Černé Voděr...
AT2: {8ace5c17-d099-4c31-a66c-efe4eb83b7e2}
AT3: 2
D4: KRYCÍ LIST SOUPISU PRACÍ | M4: v --- níže se nacházejí doplnkové a pomocné údaje k sestavám --- v | AT4: False
D6: Stavba:
E7: ='Rekapitulace stavby'!K6 -> Připojení vodovodu Černé Voděrady na SV Region JIH
D8: Objekt:
E9: SO 04 - VDJ Černé Voděrady 2x40m3
D10: Soupis:
E11: SO 04.2 - VDJ Černé Voděrady - strojně-technologická část
D13: KSO: | I13: CC-CZ:
D14: Místo: | F14: K.Ú. černé Voděrady, Zvánovice, Ondřejov u Prahy | I14: Datum: | J14: ='Rekapitulace stavby'!AN8 -> 31. 7. 2025
D16: Zadavatel: | I16: IČ: | J16: 00235318
E17: Obec Černé Voděrady, nám. Lípy Svobody 47, 281 63 | I17: DIČ:
D19: Účastník: | I19: IČ: | J19: ='Rekapitulace stavby'!AN13 -> Vyplň údaj
E20: ='Rekapitulace stavby'!E14 -> Vyplň údaj | I20: DIČ: | J20: ='Rekapitulace stavby'!AN14 -> Vyplň údaj
D22: Projektant: | I22: IČ: | J22: 47116901
E23: Vodohospodářský rozvoj a výstavba s.s. Praha 5 | I23: DIČ:
D25: Zpracovatel: | I25: IČ:
E26: M. Morská | I26: DIČ:
D28: Poznámka:
D32: Cena bez DPH | J32: =ROUND(J93, 2) -> 0
F34: Základ daně | I34: Sazba daně | J34: Výše daně
D35: DPH | E35: základní | F35: =ROUND((SUM(BE93:BE345)), 2) -> 0 | I35: 0.21 | J35: =ROUND(((SUM(BE93:BE345))*I35), 2) -> 0
E36: snížená | F36: =ROUND((SUM(BF93:BF345)), 2) -> 0 | I36: 0.12 | J36: =ROUND(((SUM(BF93:BF345))*I36), 2) -> 0
E37: zákl. přenesená | F37: =ROUND((SUM(BG93:BG345)), 2) -> 0 | I37: 0.21 | J37: =0 -> 0
E38: sníž. přenesená | F38: =ROUND((SUM(BH93:BH345)), 2) -> 0 | I38: 0.12 | J38: =0 -> 0
E39: nulová | F39: =ROUND((SUM(BI93:BI345)), 2) -> 0 | I39: 0 | J39: =0 -> 0
D41: Cena s DPH | G41: v | H41: CZK | J41: =SUM(J32:J39) -> 0
C47: REKAPITULACE ČLENĚNÍ SOUPISU PRACÍ
C49: Stavba:
E50: =E7 -> Připojení vodovodu Černé Voděrady na SV Region JIH
C51: Objekt:
E52: SO 04 - VDJ Černé Voděrady 2x40m3
C53: Soupis:
E54: =E11 -> SO 04.2 - VDJ Černé Voděrady - strojně-technologická část
C56: Místo: | F56: =F14 -> K.Ú. černé Voděrady, Zvánovice, Ondřejov u Prahy | I56: Datum: | J56: =IF(J14="","",J14) -> 31. 7. 2025
C58: Zadavatel: | F58: =E17 -> Obec Černé Voděrady, nám. Lípy Svobody 47, 281 63 | I58: Projektant: | J58: =E23 -> Vodohospodářský rozvoj a výstavba s.s. Praha 5
C59: Účastník: | F59: =IF(E20="","",E20) -> Vyplň údaj | I59: Zpracovatel: | J59: =E26 -> M. Morská
C61: Kód dílu - Popis | J61: Cena celkem [CZK]
C63: Náklady stavby celkem | J63: =J93 -> 0 | AU63: -1
D64: HSV - Práce a dodávky HSV | J64: =J94 -> 0
D65: 8 - Trubní vedení | J65: =J95 -> 0
D66: M - Práce a dodávky M | J66: =J113 -> 0
D67: 01.1-M - Trubní část - PLAST | J67: =J114 -> 0
D68: 01-M - Trubní část | J68: =J117 -> 0
D69: 02-M - Armatury | J69: =J222 -> 0
D70: 03-M - Mechanická zařízení | J70: =J271 -> 0
D71: 04-M - Montážní práce a ostatní | J71: =J328 -> 0
C78: SOUPIS PRACÍ
C80: Stavba:
E81: =E7 -> Připojení vodovodu Černé Voděrady na SV Region JIH
C82: Objekt:
E83: SO 04 - VDJ Černé Voděrady 2x40m3
C84: Soupis:
E85: =E11 -> SO 04.2 - VDJ Černé Voděrady - strojně-technologická část
C87: Místo: | F87: =F14 -> K.Ú. černé Voděrady, Zvánovice, Ondřejov u Prahy | I87: Datum: | J87: =IF(J14="","",J14) -> 31. 7. 2025
C89: Zadavatel: | F89: =E17 -> Obec Černé Voděrady, nám. Lípy Svobody 47, 281 63 | I89: Projektant: | J89: =E23 -> Vodohospodářský rozvoj a výstavba s.s. Praha 5
C90: Účastník: | F90: =IF(E20="","",E20) -> Vyplň údaj | I90: Zpracovatel: | J90: =E26 -> M. Morská
C92: PČ | D92: Typ | E92: Kód | F92: Popis | G92: MJ | H92: Množství | I92: J.cena [CZK] | J92: Cena celkem [CZK] | K92: Cenová soustava | N92: DPH | O92: J. Nh [h] | P92: Nh celkem [h] | Q92: J. hmotnost [t] | R92: Hmotnost celkem [t] | S92: J. suť [t] | T92: Suť Celkem [t]
C93: Náklady soupisu celkem | J93: =BK93 -> 0 | P93: =P94+P113 -> 0 | R93: =R94+R113 -> 0.535862 | T93: =T94+T113 -> 0 | AT93: D | AU93: -1 | BK93: =BK94+BK113 -> 0
D94: D | E94: HSV | F94: Práce a dodávky HSV | J94: =BK94 -> 0 | P94: =P95 -> 0 | R94: =R95 -> 0.10135 | T94: =T95 -> 0 | AR94: 1 | AT94: D | AU94: 0 | AY94: ROZPOCET | BK94: =BK95 -> 0
D95: D | E95: 8 | F95: Trubní vedení | J95: =BK95 -> 0 | P95: =SUM(P96:P112) -> 0 | R95: =SUM(R96:R112) -> 0.10135 | T95: =SUM(T96:T112) -> 0 | AR95: 1 | AT95: D | AU95: 1 | AY95: ROZPOCET | BK95: =SUM(BK96:BK112) -> 0
C96: 1 | D96: K | E96: 852242122 | F96: Montáž potrubí z trub litinových tlakových přírubových abnormálních délek, jednotlivě do 1 m v otevřeném výkopu, kanálu nebo v šachtě DN 80 | G96: kus | H96: 3 | J96: =ROUND(I96*H96,2) -> 0 | K96: CS ÚRS 2025 02 | N96: základní | P96: =O96*H96 -> 0 | Q96: 0.00167 | R96: =Q96*H96 -> 0.00501 | S96: 0 | T96: =S96*H96 -> 0 | AR96: 1 | AT96: K | AU96: 2 | AY96: ROZPOCET | BE96: =IF(N96="základní",J96,0) -> 0 | BF96: =IF(N96="snížená",J96,0) -> 0 | BG96: =IF(N96="zákl. přenesená",J96,0) -> 0 | BH96: =IF(N96="sníž. přenesená",J96,0) -> 0 | BI96: =IF(N96="nulová",J96,0) -> 0 | BJ96: 1 | BK96: =ROUND(I96*H96,2) -> 0 | BL96: 1 | BM96: -1522248662
D97: Online PSC | F97: https://podminky.urs.cz/item/CS_URS_2025_02/852242122 | AT97: Online PSC | AU97: 2
C98: 2 | D98: M | E98: M5050060 | F98: tvarovka přírubová litinová vodovodní FF-kus PN10/16 DN 50 dl 1000mm - prostupová tvarovka s kotvící přírubou | G98: kus | H98: 2 | J98: =ROUND(I98*H98,2) -> 0 | N98: základní | P98: =O98*H98 -> 0 | Q98: 0.015 | R98: =Q98*H98 -> 0.03 | S98: 0 | T98: =S98*H98 -> 0 | AR98: 8 | AT98: M | AU98: 2 | AY98: ROZPOCET | BE98: =IF(N98="základní",J98,0) -> 0 | BF98: =IF(N98="snížená",J98,0) -> 0 | BG98: =IF(N98="zákl. přenesená",J98,0) -> 0 | BH98: =IF(N98="sníž. přenesená",J98,0) -> 0 | BI98: =IF(N98="nulová",J98,0) -> 0 | BJ98: 1 | BK98: =ROUND(I98*H98,2) -> 0 | BL98: 4 | BM98: -1711314243
D99: VV | F99: "TECHNICKÁ ZPRÁVA | AT99: VV | AU99: 2 | AV99: 1 | AW99: True | AX99: 0 | AY99: ROZPOCET
D100: VV | F100: "PŮDORYS, ŘEZY | AT100: VV | AU100: 2 | AV100: 1 | AW100: True | AX100: 0 | AY100: ROZPOCET
D101: VV | F101: "VÝKAZ PŘÍSLUŠENSTVÍ POTRUBÍ | AT101: VV | AU101: 2 | AV101: 1 | AW101: True | AX101: 0 | AY101: ROZPOCET
D102: VV | F102: 2 | H102: 2 | AT102: VV | AU102: 2 | AV102: 2 | AW102: True | AX102: 1 | AY102: ROZPOCET
C103: 3 | D103: M | E103: M5080060 | F103: tvarovka přírubová litinová vodovodní FF-kus PN10/16 DN 80 dl 600mm - prostupová tvarovka s kotvící přírubou | G103: kus | H103: 1 | J103: =ROUND(I103*H103,2) -> 0 | N103: základní | P103: =O103*H103 -> 0 | Q103: 0.019 | R103: =Q103*H103 -> 0.019 | S103: 0 | T103: =S103*H103 -> 0 | AR103: 8 | AT103: M | AU103: 2 | AY103: ROZPOCET | BE103: =IF(N103="základní",J103,0) -> 0 | BF103: =IF(N103="snížená",J103,0) -> 0 | BG103: =IF(N103="zákl. přenesená",J103,0) -> 0 | BH103: =IF(N103="sníž. přenesená",J103,0) -> 0 | BI103: =IF(N103="nulová",J103,0) -> 0 | BJ103: 1 | BK103: =ROUND(I103*H103,2) -> 0 | BL103: 4 | BM103: 68641847
D104: VV | F104: "TECHNICKÁ ZPRÁVA | AT104: VV | AU104: 2 | AV104: 1 | AW104: True | AX104: 0 | AY104: ROZPOCET
D105: VV | F105: "VÝKAZ PŘÍSLUŠENSTVÍ POTRUBÍ | AT105: VV | AU105: 2 | AV105: 1 | AW105: True | AX105: 0 | AY105: ROZPOCET
D106: VV | F106: 1 | H106: 1 | AT106: VV | AU106: 2 | AV106: 2 | AW106: True | AX106: 1 | AY106: ROZPOCET
C107: 4 | D107: K | E107: 852262122 | F107: Montáž potrubí z trub litinových tlakových přírubových abnormálních délek, jednotlivě do 1 m v otevřeném výkopu, kanálu nebo v šachtě DN 100 | G107: kus | H107: 2 | J107: =ROUND(I107*H107,2) -> 0 | K107: CS ÚRS 2025 02 | N107: základní | P107: =O107*H107 -> 0 | Q107: 0.00167 | R107: =Q107*H107 -> 0.00334 | S107: 0 | T107: =S107*H107 -> 0 | AR107: 4 | AT107: K | AU107: 2 | AY107: ROZPOCET | BE107: =IF(N107="základní",J107,0) -> 0 | BF107: =IF(N107="snížená",J107,0) -> 0 | BG107: =IF(N107="zákl. přenesená",J107,0) -> 0 | BH107: =IF(N107="sníž. přenesená",J107,0) -> 0 | BI107: =IF(N107="nulová",J107,0) -> 0 | BJ107: 1 | BK107: =ROUND(I107*H107,2) -> 0 | BL107: 4 | BM107: -2076880580
D108: Online PSC | F108: https://podminky.urs.cz/item/CS_URS_2025_02/852262122 | AT108: Online PSC | AU108: 2
C109: 5 | D109: M | E109: M5100060 | F109: tvarovka přírubová litinová vodovodní FF-kus PN10/16 DN 100 dl 600mm - prostupová tvarovka s kotvící přírubou | G109: kus | H109: 2 | J109: =ROUND(I109*H109,2) -> 0 | N109: základní | P109: =O109*H109 -> 0 | Q109: 0.022 | R109: =Q109*H109 -> 0.044 | S109: 0 | T109: =S109*H109 -> 0 | AR109: 8 | AT109: M | AU109: 2 | AY109: ROZPOCET | BE109: =IF(N109="základní",J109,0) -> 0 | BF109: =IF(N109="snížená",J109,0) -> 0 | BG109: =IF(N109="zákl. přenesená",J109,0) -> 0 | BH109: =IF(N109="sníž. přenesená",J109,0) -> 0 | BI109: =IF(N109="nulová",J109,0) -> 0 | BJ109: 1 | BK109: =ROUND(I109*H109,2) -> 0 | BL109: 4 | BM109: 282416180
D110: VV | F110: "TECHNICKÁ ZPRÁVA | AT110: VV | AU110: 2 | AV110: 1 | AW110: True | AX110: 0 | AY110: ROZPOCET
D111: VV | F111: "VÝKAZ PŘÍSLUŠENSTVÍ POTRUBÍ | AT111: VV | AU111: 2 | AV111: 1 | AW111: True | AX111: 0 | AY111: ROZPOCET
D112: VV | F112: 2 | H112: 2 | AT112: VV | AU112: 2 | AV112: 2 | AW112: True | AX112: 1 | AY112: ROZPOCET
D113: D | E113: M | F113: Práce a dodávky M | J113: =BK113 -> 0 | P113: =P114+P117+P222+P271+P328 -> 0 | R113: =R114+R117+R222+R271+R328 -> 0.434512 | T113: =T114+T117+T222+T271+T328 -> 0 | AR113: 3 | AT113: D | AU113: 0 | AY113: ROZPOCET | BK113: =BK114+BK117+BK222+BK271+BK328 -> 0
D114: D | E114: 01.1-M | F114: Trubní část - PLAST | J114: =BK114 -> 0 | P114: =SUM(P115:P116) -> 0 | R114: =SUM(R115:R116) -> 0.001092 | T114: =SUM(T115:T116) -> 0 | AR114: 3 | AT114: D | AU114: 1 | AY114: ROZPOCET | BK114: =SUM(BK115:BK116) -> 0
C115: 6 | D115: M | E115: 2861513R | F115: Dávkování chemikálií potrubí PE DN 8mm vč. tvarovek | G115: m | H115: 5.46 | J115: =ROUND(I115*H115,2) -> 0 | N115: základní | P115: =O115*H115 -> 0 | Q115: 0.0002 | R115: =Q115*H115 -> 0.001092 | S115: 0 | T115: =S115*H115 -> 0 | AR115: 2 | AT115: M | AU115: 2 | AY115: ROZPOCET | BE115: =IF(N115="základní",J115,0) -> 0 | BF115: =IF(N115="snížená",J115,0) -> 0 | BG115: =IF(N115="zákl. přenesená",J115,0) -> 0 | BH115: =IF(N115="sníž. přenesená",J115,0) -> 0 | BI115: =IF(N115="nulová",J115,0) -> 0 | BJ115: 1 | BK115: =ROUND(I115*H115,2) -> 0 | BL115: 1 | BM115: 817203433
D116: VV | F116: 5,2*1,05 'Přepočtené koeficientem množství | H116: 5.46 | AT116: VV | AU116: 2 | AV116: 2 | AW116: False | AX116: 1 | AY116: ROZPOCET
D117: D | E117: 01-M | F117: Trubní část | J117: =BK117 -> 0 | P117: =SUM(P118:P221) -> 0 | R117: =SUM(R118:R221) -> 0 | T117: =SUM(T118:T221) -> 0 | AR117: 3 | AT117: D | AU117: 1 | AY117: ROZPOCET | BK117: =SUM(BK118:BK221) -> 0
C118: 7 | D118: M | E118: 1.002 | F118: Nerezová trubka DN 25 | G118: m | H118: 27.09 | J118: =ROUND(I118*H118,2) -> 0 | N118: základní | P118: =O118*H118 -> 0 | Q118: 0 | R118: =Q118*H118 -> 0 | S118: 0 | T118: =S118*H118 -> 0 | AR118: 2 | AT118: M | AU118: 2 | AY118: ROZPOCET | BE118: =IF(N118="základní",J118,0) -> 0 | BF118: =IF(N118="snížená",J118,0) -> 0 | BG118: =IF(N118="zákl. přenesená",J118,0) -> 0 | BH118: =IF(N118="sníž. přenesená",J118,0) -> 0 | BI118: =IF(N118="nulová",J118,0) -> 0 | BJ118: 1 | BK118: =ROUND(I118*H118,2) -> 0 | BL118: 1 | BM118: 2016705418
D119: VV | F119: "PŮDORYS, ŘEZY | AT119: VV | AU119: 2 | AV119: 1 | AW119: True | AX119: 0 | AY119: ROZPOCET
D120: VV | F120: "VÝKAZ TRUBEK | AT120: VV | AU120: 2 | AV120: 1 | AW120: True | AX120: 0 | AY120: ROZPOCET
D121: VV | F121: 25,80 | H121: 25.8 | AT121: VV | AU121: 2 | AV121: 2 | AW121: True | AX121: 1 | AY121: ROZPOCET
D122: VV | F122: 25,8*1,05 'Přepočtené koeficientem množství | H122: 27.09 | AT122: VV | AU122: 2 | AV122: 2 | AW122: False | AX122: 1 | AY122: ROZPOCET
C123: 8 | D123: M | E123: 1.003 | F123: Nerezová trubka DN 32 | G123: m | H123: 0.525 | J123: =ROUND(I123*H123,2) -> 0 | N123: základní | P123: =O123*H123 -> 0 | Q123: 0 | R123: =Q123*H123 -> 0 | S123: 0 | T123: =S123*H123 -> 0 | AR123: 2 | AT123: M | AU123: 2 | AY123: ROZPOCET | BE123: =IF(N123="základní",J123,0) -> 0 | BF123: =IF(N123="snížená",J123,0) -> 0 | BG123: =IF(N123="zákl. přenesená",J123,0) -> 0 | BH123: =IF(N123="sníž. přenesená",J123,0) -> 0 | BI123: =IF(N123="nulová",J123,0) -> 0 | BJ123: 1 | BK123: =ROUND(I123*H123,2) -> 0 | BL123: 1 | BM123: -447574103
D124: VV | F124: "PŮDORYS, ŘEZY | AT124: VV | AU124: 2 | AV124: 1 | AW124: True | AX124: 0 | AY124: ROZPOCET
D125: VV | F125: "VÝKAZ TRUBEK | AT125: VV | AU125: 2 | AV125: 1 | AW125: True | AX125: 0 | AY125: ROZPOCET
D126: VV | F126: 0,50 | H126: 0.5 | AT126: VV | AU126: 2 | AV126: 2 | AW126: True | AX126: 1 | AY126: ROZPOCET
D127: VV | F127: 0,5*1,05 'Přepočtené koeficientem množství | H127: 0.525 | AT127: VV | AU127: 2 | AV127: 2 | AW127: False | AX127: 1 | AY127: ROZPOCET
C128: 9 | D128: M | E128: 1.004 | F128: Nerezová trubka DN 40 | G128: m | H128: 0.84 | J128: =ROUND(I128*H128,2) -> 0 | N128: základní | P128: =O128*H128 -> 0 | Q128: 0 | R128: =Q128*H128 -> 0 | S128: 0 | T128: =S128*H128 -> 0 | AR128: 2 | AT128: M | AU128: 2 | AY128: ROZPOCET | BE128: =IF(N128="základní",J128,0) -> 0 | BF128: =IF(N128="snížená",J128,0) -> 0 | BG128: =IF(N128="zákl. přenesená",J128,0) -> 0 | BH128: =IF(N128="sníž. přenesená",J128,0) -> 0 | BI128: =IF(N128="nulová",J128,0) -> 0 | BJ128: 1 | BK128: =ROUND(I128*H128,2) -> 0 | BL128: 1 | BM128: -1154039629
D129: VV | F129: "VÝKAZ TRUBEK | AT129: VV | AU129: 2 | AV129: 1 | AW129: True | AX129: 0 | AY129: ROZPOCET
D130: VV | F130: 0,80 | H130: 0.8 | AT130: VV | AU130: 2 | AV130: 2 | AW130: True | AX130: 1 | AY130: ROZPOCET
D131: VV | F131: 0,8*1,05 'Přepočtené koeficientem množství | H131: 0.84 | AT131: VV | AU131: 2 | AV131: 2 | AW131: False | AX131: 1 | AY131: ROZPOCET
C132: 10 | D132: M | E132: 1.005 | F132: Nerezová trubka DN 50 | G132: m | H132: 3.57 | J132: =ROUND(I132*H132,2) -> 0 | N132: základní | P132: =O132*H132 -> 0 | Q132: 0 | R132: =Q132*H132 -> 0 | S132: 0 | T132: =S132*H132 -> 0 | AR132: 2 | AT132: M | AU132: 2 | AY132: ROZPOCET | BE132: =IF(N132="základní",J132,0) -> 0 | BF132: =IF(N132="snížená",J132,0) -> 0 | BG132: =IF(N132="zákl. přenesená",J132,0) -> 0 | BH132: =IF(N132="sníž. přenesená",J132,0) -> 0 | BI132: =IF(N132="nulová",J132,0) -> 0 | BJ132: 1 | BK132: =ROUND(I132*H132,2) -> 0 | BL132: 1 | BM132: -274941419
D133: VV | F133: "TECHNICKÁ ZPRÁVA | AT133: VV | AU133: 2 | AV133: 1 | AW133: True | AX133: 0 | AY133: ROZPOCET
...

Sheet SO 04.3 - Odpad z VDJ
AT2: {c99b3fa6-8290-4404-9020-47aa73890263}
AT3: 2
D4: KRYCÍ LIST SOUPISU PRACÍ | M4: v --- níže se nacházejí doplnkové a pomocné údaje k sestavám --- v | AT4: False
D6: Stavba:
E7: ='Rekapitulace stavby'!K6 -> Připojení vodovodu Černé Voděrady na SV Region JIH
D8: Objekt:
E9: SO 04 - VDJ Černé Voděrady 2x40m3
D10: Soupis:
E11: SO 04.3 - Odpad z VDJ
D13: KSO: | I13: CC-CZ:
D14: Místo: | F14: K.Ú. černé Voděrady, Zvánovice, Ondřejov u Prahy | I14: Datum: | J14: ='Rekapitulace stavby'!AN8 -> 31. 7. 2025
D16: Zadavatel: | I16: IČ: | J16: 00235318
E17: Obec Černé Voděrady, nám. Lípy Svobody 47, 281 63 | I17: DIČ:
D19: Účastník: | I19: IČ: | J19: ='Rekapitulace stavby'!AN13 -> Vyplň údaj
E20: ='Rekapitulace stavby'!E14 -> Vyplň údaj | I20: DIČ: | J20: ='Rekapitulace stavby'!AN14 -> Vyplň údaj
D22: Projektant: | I22: IČ: | J22: 47116901
E23: Vodohospodářský rozvoj a výstavba s.s. Praha 5 | I23: DIČ:
D25: Zpracovatel: | I25: IČ:
I26: DIČ:
D28: Poznámka:
D32: Cena bez DPH | J32: =ROUND(J95, 2) -> 0
F34: Základ daně | I34: Sazba daně | J34: Výše daně
D35: DPH | E35: základní | F35: =ROUND((SUM(BE95:BE527)), 2) -> 0 | I35: 0.21 | J35: =ROUND(((SUM(BE95:BE527))*I35), 2) -> 0
E36: snížená | F36: =ROUND((SUM(BF95:BF527)), 2) -> 0 | I36: 0.12 | J36: =ROUND(((SUM(BF95:BF527))*I36), 2) -> 0
E37: zákl. přenesená | F37: =ROUND((SUM(BG95:BG527)), 2) -> 0 | I37: 0.21 | J37: =0 -> 0
E38: sníž. přenesená | F38: =ROUND((SUM(BH95:BH527)), 2) -> 0 | I38: 0.12 | J38: =0 -> 0
E39: nulová | F39: =ROUND((SUM(BI95:BI527)), 2) -> 0 | I39: 0 | J39: =0 -> 0
D41: Cena s DPH | G41: v | H41: CZK | J41: =SUM(J32:J39) -> 0
C47: REKAPITULACE ČLENĚNÍ SOUPISU PRACÍ
C49: Stavba:
E50: =E7 -> Připojení vodovodu Černé Voděrady na SV Region JIH
C51: Objekt:
E52: SO 04 - VDJ Černé Voděrady 2x40m3
C53: Soupis:
E54: =E11 -> SO 04.3 - Odpad z VDJ
C56: Místo: | F56: =F14 -> K.Ú. černé Voděrady, Zvánovice, Ondřejov u Prahy | I56: Datum: | J56: =IF(J14="","",J14) -> 31. 7. 2025
C58: Zadavatel: | F58: =E17 -> Obec Černé Voděrady, nám. Lípy Svobody 47, 281 63 | I58: Projektant: | J58: =E23 -> Vodohospodářský rozvoj a výstavba s.s. Praha 5
C59: Účastník: | F59: =IF(E20="","",E20) -> Vyplň údaj | I59: Zpracovatel: | J59: =E26
C61: Kód dílu - Popis | J61: Cena celkem [CZK]
C63: Náklady stavby celkem | J63: =J95 -> 0 | AU63: -1
D64: HSV - Práce a dodávky HSV | J64: =J96 -> 0
D65: 1 - Zemní práce | J65: =J97 -> 0
D66: 2 - Zakládání | J66: =J296 -> 0
D67: 4 - Vodorovné konstrukce | J67: =J303 -> 0
D68: 6 - Úpravy povrchů, podlahy a osazování výplní | J68: =J341 -> 0
D69: 8 - Trubní vedení | J69: =J344 -> 0
D70: 9 - Ostatní konstrukce a práce, bourání | J70: =J496 -> 0
D71: 998 - Přesun hmot | J71: =J520 -> 0
D72: M - Práce a dodávky M | J72: =J523 -> 0
D73: 23-M - Montáže potrubí | J73: =J524 -> 0
C80: SOUPIS PRACÍ
C82: Stavba:
E83: =E7 -> Připojení vodovodu Černé Voděrady na SV Region JIH
C84: Objekt:
E85: SO 04 - VDJ Černé Voděrady 2x40m3
C86: Soupis:
E87: =E11 -> SO 04.3 - Odpad z VDJ
C89: Místo: | F89: =F14 -> K.Ú. černé Voděrady, Zvánovice, Ondřejov u Prahy | I89: Datum: | J89: =IF(J14="","",J14) -> 31. 7. 2025
C91: Zadavatel: | F91: =E17 -> Obec Černé Voděrady, nám. Lípy Svobody 47, 281 63 | I91: Projektant: | J91: =E23 -> Vodohospodářský rozvoj a výstavba s.s. Praha 5
C92: Účastník: | F92: =IF(E20="","",E20) -> Vyplň údaj | I92: Zpracovatel: | J92: =E26
C94: PČ | D94: Typ | E94: Kód | F94: Popis | G94: MJ | H94: Množství | I94: J.cena [CZK] | J94: Cena celkem [CZK] | K94: Cenová soustava | N94: DPH | O94: J. Nh [h] | P94: Nh celkem [h] | Q94: J. hmotnost [t] | R94: Hmotnost celkem [t] | S94: J. suť [t] | T94: Suť Celkem [t]
C95: Náklady soupisu celkem | J95: =BK95 -> 0 | P95: =P96+P523 -> 0 | R95: =R96+R523 -> 9.744407 | T95: =T96+T523 -> 0.0366 | AT95: D | AU95: -1 | BK95: =BK96+BK523 -> 0
D96: D | E96: HSV | F96: Práce a dodávky HSV | J96: =BK96 -> 0 | P96: =P97+P296+P303+P341+P344+P496+P520 -> 0 | R96: =R97+R296+R303+R341+R344+R496+R520 -> 9.744407 | T96: =T97+T296+T303+T341+T344+T496+T520 -> 0.0366 | AR96: 1 | AT96: D | AU96: 0 | AY96: ROZPOCET | BK96: =BK97+BK296+BK303+BK341+BK344+BK496+BK520 -> 0
D97: D | E97: 1 | F97: Zemní práce | J97: =BK97 -> 0 | P97: =SUM(P98:P295) -> 0 | R97: =SUM(R98:R295) -> 0.07029 | T97: =SUM(T98:T295) -> 0 | AR97: 1 | AT97: D | AU97: 1 | AY97: ROZPOCET | BK97: =SUM(BK98:BK295) -> 0
C98: 1 | D98: K | E98: 115101201 | F98: Čerpání vody na dopravní výšku do 10 m s uvažovaným průměrným přítokem do 500 l/min | G98: hod | H98: 8 | J98: =ROUND(I98*H98,2) -> 0 | K98: CS ÚRS 2025 02 | N98: základní | P98: =O98*H98 -> 0 | Q98: 3e-05 | R98: =Q98*H98 -> 0.00024 | S98: 0 | T98: =S98*H98 -> 0 | AR98: 4 | AT98: K | AU98: 2 | AY98: ROZPOCET | BE98: =IF(N98="základní",J98,0) -> 0 | BF98: =IF(N98="snížená",J98,0) -> 0 | BG98: =IF(N98="zákl. přenesená",J98,0) -> 0 | BH98: =IF(N98="sníž. přenesená",J98,0) -> 0 | BI98: =IF(N98="nulová",J98,0) -> 0 | BJ98: 1 | BK98: =ROUND(I98*H98,2) -> 0 | BL98: 4 | BM98: 1856154768
D99: Online PSC | F99: https://podminky.urs.cz/item/CS_URS_2025_02/115101201 | AT99: Online PSC | AU99: 2
D100: VV | F100: 8 | H100: 8 | AT100: VV | AU100: 2 | AV100: 2 | AW100: True | AX100: 1 | AY100: ROZPOCET
C101: 2 | D101: K | E101: 115101301 | F101: Pohotovost záložní čerpací soupravy pro dopravní výšku do 10 m s uvažovaným průměrným přítokem do 500 l/min | G101: den | H101: 2 | J101: =ROUND(I101*H101,2) -> 0 | K101: CS ÚRS 2025 02 | N101: základní | P101: =O101*H101 -> 0 | Q101: 0 | R101: =Q101*H101 -> 0 | S101: 0 | T101: =S101*H101 -> 0 | AR101: 4 | AT101: K | AU101: 2 | AY101: ROZPOCET | BE101: =IF(N101="základní",J101,0) -> 0 | BF101: =IF(N101="snížená",J101,0) -> 0 | BG101: =IF(N101="zákl. přenesená",J101,0) -> 0 | BH101: =IF(N101="sníž. přenesená",J101,0) -> 0 | BI101: =IF(N101="nulová",J101,0) -> 0 | BJ101: 1 | BK101: =ROUND(I101*H101,2) -> 0 | BL101: 4 | BM101: -1010098002
D102: Online PSC | F102: https://podminky.urs.cz/item/CS_URS_2025_02/115101301 | AT102: Online PSC | AU102: 2
C103: 3 | D103: K | E103: 121151103 | F103: Sejmutí ornice strojně při souvislé ploše do 100 m2, tl. vrstvy do 200 mm | G103: m2 | H103: 100 | J103: =ROUND(I103*H103,2) -> 0 | K103: CS ÚRS 2025 02 | N103: základní | P103: =O103*H103 -> 0 | Q103: 0 | R103: =Q103*H103 -> 0 | S103: 0 | T103: =S103*H103 -> 0 | AR103: 4 | AT103: K | AU103: 2 | AY103: ROZPOCET | BE103: =IF(N103="základní",J103,0) -> 0 | BF103: =IF(N103="snížená",J103,0) -> 0 | BG103: =IF(N103="zákl. přenesená",J103,0) -> 0 | BH103: =IF(N103="sníž. přenesená",J103,0) -> 0 | BI103: =IF(N103="nulová",J103,0) -> 0 | BJ103: 1 | BK103: =ROUND(I103*H103,2) -> 0 | BL103: 4 | BM103: -1284783454
D104: Online PSC | F104: https://podminky.urs.cz/item/CS_URS_2025_02/121151103 | AT104: Online PSC | AU104: 2
D105: VV | F105: 20,00*5,00 | H105: 100 | AT105: VV | AU105: 2 | AV105: 2 | AW105: True | AX105: 1 | AY105: ROZPOCET
C106: 4 | D106: K | E106: 131151201 | F106: Hloubení zapažených jam a zářezů strojně s urovnáním dna do předepsaného profilu a spádu v hornině třídy těžitelnosti I skupiny 1 a 2 do 20 m3 | G106: m3 | H106: 3.376 | J106: =ROUND(I106*H106,2) -> 0 | K106: CS ÚRS 2025 02 | N106: základní | P106: =O106*H106 -> 0 | Q106: 0 | R106: =Q106*H106 -> 0 | S106: 0 | T106: =S106*H106 -> 0 | AR106: 4 | AT106: K | AU106: 2 | AY106: ROZPOCET | BE106: =IF(N106="základní",J106,0) -> 0 | BF106: =IF(N106="snížená",J106,0) -> 0 | BG106: =IF(N106="zákl. přenesená",J106,0) -> 0 | BH106: =IF(N106="sníž. přenesená",J106,0) -> 0 | BI106: =IF(N106="nulová",J106,0) -> 0 | BJ106: 1 | BK106: =ROUND(I106*H106,2) -> 0 | BL106: 4 | BM106: 400253603
D107: Online PSC | F107: https://podminky.urs.cz/item/CS_URS_2025_02/131151201 | AT107: Online PSC | AU107: 2
D108: VV | F108: "ROZDĚLOVACÍ ŠACHTA | AT108: VV | AU108: 2 | AV108: 1 | AW108: True | AX108: 0 | AY108: ROZPOCET
D109: VV | F109: 2,50*2,50*2,00 | H109: 12.5 | AT109: VV | AU109: 2 | AV109: 2 | AW109: True | AX109: 0 | AY109: ROZPOCET
D110: VV | F110: "KONCOVÁ ŠACHTA | AT110: VV | AU110: 2 | AV110: 1 | AW110: True | AX110: 0 | AY110: ROZPOCET
D111: VV | F111: 2,50*2,50*2,50 | H111: 15.625 | AT111: VV | AU111: 2 | AV111: 2 | AW111: True | AX111: 0 | AY111: ROZPOCET
D112: VV | F112: Mezisoučet | H112: 28.125 | AT112: VV | AU112: 2 | AV112: 3 | AW112: True | AX112: 0 | AY112: ROZPOCET
D113: VV | F113: "zemina sk.2- 12%" | AT113: VV | AU113: 2 | AV113: 1 | AW113: True | AX113: 0 | AY113: ROZPOCET
D114: VV | F114: 28,13*0,12 | H114: 3.376 | AT114: VV | AU114: 2 | AV114: 2 | AW114: True | AX114: 1 | AY114: ROZPOCET
C115: 5 | D115: K | E115: 131251201 | F115: Hloubení zapažených jam a zářezů strojně s urovnáním dna do předepsaného profilu a spádu v hornině třídy těžitelnosti I skupiny 3 do 20 m3 | G115: m3 | H115: 12.377 | J115: =ROUND(I115*H115,2) -> 0 | K115: CS ÚRS 2025 02 | N115: základní | P115: =O115*H115 -> 0 | Q115: 0 | R115: =Q115*H115 -> 0 | S115: 0 | T115: =S115*H115 -> 0 | AR115: 4 | AT115: K | AU115: 2 | AY115: ROZPOCET | BE115: =IF(N115="základní",J115,0) -> 0 | BF115: =IF(N115="snížená",J115,0) -> 0 | BG115: =IF(N115="zákl. přenesená",J115,0) -> 0 | BH115: =IF(N115="sníž. přenesená",J115,0) -> 0 | BI115: =IF(N115="nulová",J115,0) -> 0 | BJ115: 1 | BK115: =ROUND(I115*H115,2) -> 0 | BL115: 4 | BM115: 2061718672
D116: Online PSC | F116: https://podminky.urs.cz/item/CS_URS_2025_02/131251201 | AT116: Online PSC | AU116: 2
D117: VV | F117: "zemina sk.3- 44% | AT117: VV | AU117: 2 | AV117: 1 | AW117: True | AX117: 0 | AY117: ROZPOCET
D118: VV | F118: 28,13*0,44 | H118: 12.377 | AT118: VV | AU118: 2 | AV118: 2 | AW118: True | AX118: 1 | AY118: ROZPOCET
C119: 6 | D119: K | E119: 131351201 | F119: Hloubení zapažených jam a zářezů strojně s urovnáním dna do předepsaného profilu a spádu v hornině třídy těžitelnosti II skupiny 4 do 20 m3 | G119: m3 | H119: 9.002 | J119: =ROUND(I119*H119,2) -> 0 | K119: CS ÚRS 2025 02 | N119: základní | P119: =O119*H119 -> 0 | Q119: 0 | R119: =Q119*H119 -> 0 | S119: 0 | T119: =S119*H119 -> 0 | AR119: 4 | AT119: K | AU119: 2 | AY119: ROZPOCET | BE119: =IF(N119="základní",J119,0) -> 0 | BF119: =IF(N119="snížená",J119,0) -> 0 | BG119: =IF(N119="zákl. přenesená",J119,0) -> 0 | BH119: =IF(N119="sníž. přenesená",J119,0) -> 0 | BI119: =IF(N119="nulová",J119,0) -> 0 | BJ119: 1 | BK119: =ROUND(I119*H119,2) -> 0 | BL119: 4 | BM119: -966043900
D120: Online PSC | F120: https://podminky.urs.cz/item/CS_URS_2025_02/131351201 | AT120: Online PSC | AU120: 2
D121: VV | F121: "zemina sk.4- 32% | AT121: VV | AU121: 2 | AV121: 1 | AW121: True | AX121: 0 | AY121: ROZPOCET
D122: VV | F122: 28,13*0,32 | H122: 9.002 | AT122: VV | AU122: 2 | AV122: 2 | AW122: True | AX122: 1 | AY122: ROZPOCET
C123: 7 | D123: K | E123: 131451201 | F123: Hloubení zapažených jam a zářezů strojně s urovnáním dna do předepsaného profilu a spádu v hornině třídy těžitelnosti II skupiny 5 do 20 m3 | G123: m3 | H123: 3.376 | J123: =ROUND(I123*H123,2) -> 0 | K123: CS ÚRS 2025 02 | N123: základní | P123: =O123*H123 -> 0 | Q123: 0 | R123: =Q123*H123 -> 0 | S123: 0 | T123: =S123*H123 -> 0 | AR123: 4 | AT123: K | AU123: 2 | AY123: ROZPOCET | BE123: =IF(N123="základní",J123,0) -> 0 | BF123: =IF(N123="snížená",J123,0) -> 0 | BG123: =IF(N123="zákl. přenesená",J123,0) -> 0 | BH123: =IF(N123="sníž. přenesená",J123,0) -> 0 | BI123: =IF(N123="nulová",J123,0) -> 0 | BJ123: 1 | BK123: =ROUND(I123*H123,2) -> 0 | BL123: 4 | BM123: -2086822350
D124: Online PSC | F124: https://podminky.urs.cz/item/CS_URS_2025_02/131451201 | AT124: Online PSC | AU124: 2
D125: VV | F125: "zemina sk.5- 12%" | AT125: VV | AU125: 2 | AV125: 1 | AW125: True | AX125: 0 | AY125: ROZPOCET
D126: VV | F126: 28,13*0,12 | H126: 3.376 | AT126: VV | AU126: 2 | AV126: 2 | AW126: True | AX126: 1 | AY126: ROZPOCET
C127: 8 | D127: K | E127: 132151102 | F127: Hloubení nezapažených rýh šířky do 800 mm strojně s urovnáním dna do předepsaného profilu a spádu v hornině třídy těžitelnosti I skupiny 1 a 2 přes 20 do 50 m3 | G127: m3 | H127: 2.314 | J127: =ROUND(I127*H127,2) -> 0 | K127: CS ÚRS 2025 02 | N127: základní | P127: =O127*H127 -> 0 | Q127: 0 | R127: =Q127*H127 -> 0 | S127: 0 | T127: =S127*H127 -> 0 | AR127: 4 | AT127: K | AU127: 2 | AY127: ROZPOCET | BE127: =IF(N127="základní",J127,0) -> 0 | BF127: =IF(N127="snížená",J127,0) -> 0 | BG127: =IF(N127="zákl. přenesená",J127,0) -> 0 | BH127: =IF(N127="sníž. přenesená",J127,0) -> 0 | BI127: =IF(N127="nulová",J127,0) -> 0 | BJ127: 1 | BK127: =ROUND(I127*H127,2) -> 0 | BL127: 4 | BM127: -1359291453
D128: Online PSC | F128: https://podminky.urs.cz/item/CS_URS_2025_02/132151102 | AT128: Online PSC | AU128: 2
D129: VV | F129: pole | AT129: VV | AU129: 2 | AV129: 1 | AW129: True | AX129: 0 | AY129: ROZPOCET
D130: VV | F130: "D63 | AT130: VV | AU130: 2 | AV130: 1 | AW130: True | AX130: 0 | AY130: ROZPOCET
D131: VV | F131: 2,50*0,80*0,80 | H131: 1.6 | AT131: VV | AU131: 2 | AV131: 2 | AW131: True | AX131: 0 | AY131: ROZPOCET
D132: VV | F132: 6,80*0,80*1,00 | H132: 5.44 | AT132: VV | AU132: 2 | AV132: 2 | AW132: True | AX132: 0 | AY132: ROZPOCET
D133: VV | F133: "D160 | AT133: VV | AU133: 2 | AV133: 1 | AW133: True | AX133: 0 | AY133: ROZPOCET
...

Sheet SO 04.4 - Zpevněné plochy...
AT2: {a8f81881-68b9-4554-85c8-d0f3711bc6a7}
AT3: 2
D4: KRYCÍ LIST SOUPISU PRACÍ | M4: v --- níže se nacházejí doplnkové a pomocné údaje k sestavám --- v | AT4: False
D6: Stavba:
E7: ='Rekapitulace stavby'!K6 -> Připojení vodovodu Černé Voděrady na SV Region JIH
D8: Objekt:
E9: SO 04 - VDJ Černé Voděrady 2x40m3
D10: Soupis:
E11: SO 04.4 - Zpevněné plochy a příjezdová komunikace
D13: KSO: | I13: CC-CZ:
D14: Místo: | F14: K.Ú. černé Voděrady, Zvánovice, Ondřejov u Prahy | I14: Datum: | J14: ='Rekapitulace stavby'!AN8 -> 31. 7. 2025
D16: Zadavatel: | I16: IČ: | J16: 00235318
E17: Obec Černé Voděrady, nám. Lípy Svobody 47, 281 63 | I17: DIČ:
D19: Účastník: | I19: IČ: | J19: ='Rekapitulace stavby'!AN13 -> Vyplň údaj
E20: ='Rekapitulace stavby'!E14 -> Vyplň údaj | I20: DIČ: | J20: ='Rekapitulace stavby'!AN14 -> Vyplň údaj
D22: Projektant: | I22: IČ: | J22: 47116901
E23: Vodohospodářský rozvoj a výstavba s.s. Praha 5 | I23: DIČ:
D25: Zpracovatel: | I25: IČ:
I26: DIČ:
D28: Poznámka:
D32: Cena bez DPH | J32: =ROUND(J91, 2) -> 0
F34: Základ daně | I34: Sazba daně | J34: Výše daně
D35: DPH | E35: základní | F35: =ROUND((SUM(BE91:BE248)), 2) -> 0 | I35: 0.21 | J35: =ROUND(((SUM(BE91:BE248))*I35), 2) -> 0
E36: snížená | F36: =ROUND((SUM(BF91:BF248)), 2) -> 0 | I36: 0.12 | J36: =ROUND(((SUM(BF91:BF248))*I36), 2) -> 0
E37: zákl. přenesená | F37: =ROUND((SUM(BG91:BG248)), 2) -> 0 | I37: 0.21 | J37: =0 -> 0
E38: sníž. přenesená | F38: =ROUND((SUM(BH91:BH248)), 2) -> 0 | I38: 0.12 | J38: =0 -> 0
E39: nulová | F39: =ROUND((SUM(BI91:BI248)), 2) -> 0 | I39: 0 | J39: =0 -> 0
D41: Cena s DPH | G41: v | H41: CZK | J41: =SUM(J32:J39) -> 0
C47: REKAPITULACE ČLENĚNÍ SOUPISU PRACÍ
C49: Stavba:
E50: =E7 -> Připojení vodovodu Černé Voděrady na SV Region JIH
C51: Objekt:
E52: SO 04 - VDJ Černé Voděrady 2x40m3
C53: Soupis:
E54: =E11 -> SO 04.4 - Zpevněné plochy a příjezdová komunikace
C56: Místo: | F56: =F14 -> K.Ú. černé Voděrady, Zvánovice, Ondřejov u Prahy | I56: Datum: | J56: =IF(J14="","",J14) -> 31. 7. 2025
C58: Zadavatel: | F58: =E17 -> Obec Černé Voděrady, nám. Lípy Svobody 47, 281 63 | I58: Projektant: | J58: =E23 -> Vodohospodářský rozvoj a výstavba s.s. Praha 5
C59: Účastník: | F59: =IF(E20="","",E20) -> Vyplň údaj | I59: Zpracovatel: | J59: =E26
C61: Kód dílu - Popis | J61: Cena celkem [CZK]
C63: Náklady stavby celkem | J63: =J91 -> 0 | AU63: -1
D64: HSV - Práce a dodávky HSV | J64: =J92 -> 0
D65: 1 - Zemní práce | J65: =J93 -> 0
D66: 5 - Komunikace pozemní | J66: =J200 -> 0
D67: 9 - Ostatní konstrukce a práce, bourání | J67: =J230 -> 0
D68: 997 - Doprava suti a vybouraných hmot | J68: =J237 -> 0
D69: 998 - Přesun hmot | J69: =J246 -> 0
C76: SOUPIS PRACÍ
C78: Stavba:
E79: =E7 -> Připojení vodovodu Černé Voděrady na SV Region JIH
C80: Objekt:
E81: SO 04 - VDJ Černé Voděrady 2x40m3
C82: Soupis:
E83: =E11 -> SO 04.4 - Zpevněné plochy a příjezdová komunikace
C85: Místo: | F85: =F14 -> K.Ú. černé Voděrady, Zvánovice, Ondřejov u Prahy | I85: Datum: | J85: =IF(J14="","",J14) -> 31. 7. 2025
C87: Zadavatel: | F87: =E17 -> Obec Černé Voděrady, nám. Lípy Svobody 47, 281 63 | I87: Projektant: | J87: =E23 -> Vodohospodářský rozvoj a výstavba s.s. Praha 5
C88: Účastník: | F88: =IF(E20="","",E20) -> Vyplň údaj | I88: Zpracovatel: | J88: =E26
C90: PČ | D90: Typ | E90: Kód | F90: Popis | G90: MJ | H90: Množství | I90: J.cena [CZK] | J90: Cena celkem [CZK] | K90: Cenová soustava | N90: DPH | O90: J. Nh [h] | P90: Nh celkem [h] | Q90: J. hmotnost [t] | R90: Hmotnost celkem [t] | S90: J. suť [t] | T90: Suť Celkem [t]
C91: Náklady soupisu celkem | J91: =BK91 -> 0 | P91: =P92 -> 0 | R91: =R92 -> 88.078024 | T91: =T92 -> 17.4 | AT91: D | AU91: -1 | BK91: =BK92 -> 0
D92: D | E92: HSV | F92: Práce a dodávky HSV | J92: =BK92 -> 0 | P92: =P93+P200+P230+P237+P246 -> 0 | R92: =R93+R200+R230+R237+R246 -> 88.078024 | T92: =T93+T200+T230+T237+T246 -> 17.4 | AR92: 1 | AT92: D | AU92: 0 | AY92: ROZPOCET | BK92: =BK93+BK200+BK230+BK237+BK246 -> 0
D93: D | E93: 1 | F93: Zemní práce | J93: =BK93 -> 0 | P93: =SUM(P94:P199) -> 0 | R93: =SUM(R94:R199) -> 21.42772 | T93: =SUM(T94:T199) -> 17.4 | AR93: 1 | AT93: D | AU93: 1 | AY93: ROZPOCET | BK93: =SUM(BK94:BK199) -> 0
C94: 1 | D94: K | E94: 111251101 | F94: Odstranění křovin a stromů s odstraněním kořenů strojně průměru kmene do 100 mm v rovině nebo ve svahu sklonu terénu do 1:5, při celkové ploše do 100 m2 | G94: m2 | H94: 21 | J94: =ROUND(I94*H94,2) -> 0 | K94: CS ÚRS 2025 02 | N94: základní | P94: =O94*H94 -> 0 | Q94: 0 | R94: =Q94*H94 -> 0 | S94: 0 | T94: =S94*H94 -> 0 | AR94: 4 | AT94: K | AU94: 2 | AY94: ROZPOCET | BE94: =IF(N94="základní",J94,0) -> 0 | BF94: =IF(N94="snížená",J94,0) -> 0 | BG94: =IF(N94="zákl. přenesená",J94,0) -> 0 | BH94: =IF(N94="sníž. přenesená",J94,0) -> 0 | BI94: =IF(N94="nulová",J94,0) -> 0 | BJ94: 1 | BK94: =ROUND(I94*H94,2) -> 0 | BL94: 4 | BM94: -1420084196
D95: Online PSC | F95: https://podminky.urs.cz/item/CS_URS_2025_02/111251101 | AT95: Online PSC | AU95: 2
C96: 2 | D96: K | E96: 112155311 | F96: Štěpkování s naložením na dopravní prostředek a odvozem do 20 km keřového porostu středně hustého | G96: m2 | H96: 21 | J96: =ROUND(I96*H96,2) -> 0 | K96: CS ÚRS 2025 02 | N96: základní | P96: =O96*H96 -> 0 | Q96: 0 | R96: =Q96*H96 -> 0 | S96: 0 | T96: =S96*H96 -> 0 | AR96: 4 | AT96: K | AU96: 2 | AY96: ROZPOCET | BE96: =IF(N96="základní",J96,0) -> 0 | BF96: =IF(N96="snížená",J96,0) -> 0 | BG96: =IF(N96="zákl. přenesená",J96,0) -> 0 | BH96: =IF(N96="sníž. přenesená",J96,0) -> 0 | BI96: =IF(N96="nulová",J96,0) -> 0 | BJ96: 1 | BK96: =ROUND(I96*H96,2) -> 0 | BL96: 4 | BM96: 406949398
D97: Online PSC | F97: https://podminky.urs.cz/item/CS_URS_2025_02/112155311 | AT97: Online PSC | AU97: 2
C98: 3 | D98: K | E98: 112251101 | F98: Odstranění pařezů strojně s jejich vykopáním nebo vytrháním průměru přes 100 do 300 mm | G98: kus | H98: 2 | J98: =ROUND(I98*H98,2) -> 0 | K98: CS ÚRS 2025 02 | N98: základní | P98: =O98*H98 -> 0 | Q98: 0 | R98: =Q98*H98 -> 0 | S98: 0 | T98: =S98*H98 -> 0 | AR98: 4 | AT98: K | AU98: 2 | AY98: ROZPOCET | BE98: =IF(N98="základní",J98,0) -> 0 | BF98: =IF(N98="snížená",J98,0) -> 0 | BG98: =IF(N98="zákl. přenesená",J98,0) -> 0 | BH98: =IF(N98="sníž. přenesená",J98,0) -> 0 | BI98: =IF(N98="nulová",J98,0) -> 0 | BJ98: 1 | BK98: =ROUND(I98*H98,2) -> 0 | BL98: 4 | BM98: 303382579
D99: Online PSC | F99: https://podminky.urs.cz/item/CS_URS_2025_02/112251101 | AT99: Online PSC | AU99: 2
C100: 4 | D100: K | E100: 113107162 | F100: Odstranění podkladů nebo krytů strojně plochy jednotlivě přes 50 m2 do 200 m2 s přemístěním hmot na skládku na vzdálenost do 20 m nebo s naložením na dopravní prostředek z kameniva hrubého drceného, o tl. vrstvy přes 100 do 200 mm | G100: m2 | H100: 60 | J100: =ROUND(I100*H100,2) -> 0 | K100: CS ÚRS 2025 02 | N100: základní | P100: =O100*H100 -> 0 | Q100: 0 | R100: =Q100*H100 -> 0 | S100: 0.29 | T100: =S100*H100 -> 17.4 | AR100: 4 | AT100: K | AU100: 2 | AY100: ROZPOCET | BE100: =IF(N100="základní",J100,0) -> 0 | BF100: =IF(N100="snížená",J100,0) -> 0 | BG100: =IF(N100="zákl. přenesená",J100,0) -> 0 | BH100: =IF(N100="sníž. přenesená",J100,0) -> 0 | BI100: =IF(N100="nulová",J100,0) -> 0 | BJ100: 1 | BK100: =ROUND(I100*H100,2) -> 0 | BL100: 4 | BM100: 2133366835
D101: Online PSC | F101: https://podminky.urs.cz/item/CS_URS_2025_02/113107162 | AT101: Online PSC | AU101: 2
D102: VV | F102: "PODROBNÝ SITUAČNÍ VÝKRES | AT102: VV | AU102: 2 | AV102: 1 | AW102: True | AX102: 0 | AY102: ROZPOCET
D103: VV | F103: "obnova porušené polní cesty | AT103: VV | AU103: 2 | AV103: 1 | AW103: True | AX103: 0 | AY103: ROZPOCET
D104: VV | F104: 20,00*3,00 | H104: 60 | AT104: VV | AU104: 2 | AV104: 2 | AW104: True | AX104: 1 | AY104: ROZPOCET
C105: 5 | D105: K | E105: 121151113 | F105: Sejmutí ornice strojně při souvislé ploše přes 100 do 500 m2, tl. vrstvy do 200 mm | G105: m2 | H105: 335 | J105: =ROUND(I105*H105,2) -> 0 | K105: CS ÚRS 2025 02 | N105: základní | P105: =O105*H105 -> 0 | Q105: 0 | R105: =Q105*H105 -> 0 | S105: 0 | T105: =S105*H105 -> 0 | AR105: 4 | AT105: K | AU105: 2 | AY105: ROZPOCET | BE105: =IF(N105="základní",J105,0) -> 0 | BF105: =IF(N105="snížená",J105,0) -> 0 | BG105: =IF(N105="zákl. přenesená",J105,0) -> 0 | BH105: =IF(N105="sníž. přenesená",J105,0) -> 0 | BI105: =IF(N105="nulová",J105,0) -> 0 | BJ105: 1 | BK105: =ROUND(I105*H105,2) -> 0 | BL105: 4 | BM105: -1124034954
D106: Online PSC | F106: https://podminky.urs.cz/item/CS_URS_2025_02/121151113 | AT106: Online PSC | AU106: 2
D107: VV | F107: "PODROBNÝ SITUAČNÍ VÝKRES | AT107: VV | AU107: 2 | AV107: 1 | AW107: True | AX107: 0 | AY107: ROZPOCET
D108: VV | F108: "zemina schopná zúrodnění pro opětovné využití | AT108: VV | AU108: 2 | AV108: 1 | AW108: True | AX108: 0 | AY108: ROZPOCET
D109: VV | F109: 260,00 | H109: 260 | AT109: VV | AU109: 2 | AV109: 2 | AW109: True | AX109: 0 | AY109: ROZPOCET
D110: VV | F110: "zemina s drnem" 75,00 | H110: 75 | AT110: VV | AU110: 2 | AV110: 2 | AW110: True | AX110: 0 | AY110: ROZPOCET
D111: VV | F111: Součet | H111: 335 | AT111: VV | AU111: 2 | AV111: 4 | AW111: True | AX111: 1 | AY111: ROZPOCET
C112: 6 | D112: K | E112: 122251104 | F112: Odkopávky a prokopávky nezapažené strojně v hornině třídy těžitelnosti I skupiny 3 přes 100 do 500 m3 | G112: m3 | H112: 219 | J112: =ROUND(I112*H112,2) -> 0 | K112: CS ÚRS 2025 02 | N112: základní | P112: =O112*H112 -> 0 | Q112: 0 | R112: =Q112*H112 -> 0 | S112: 0 | T112: =S112*H112 -> 0 | AR112: 4 | AT112: K | AU112: 2 | AY112: ROZPOCET | BE112: =IF(N112="základní",J112,0) -> 0 | BF112: =IF(N112="snížená",J112,0) -> 0 | BG112: =IF(N112="zákl. přenesená",J112,0) -> 0 | BH112: =IF(N112="sníž. přenesená",J112,0) -> 0 | BI112: =IF(N112="nulová",J112,0) -> 0 | BJ112: 1 | BK112: =ROUND(I112*H112,2) -> 0 | BL112: 4 | BM112: 408736601
D113: Online PSC | F113: https://podminky.urs.cz/item/CS_URS_2025_02/122251104 | AT113: Online PSC | AU113: 2
D114: VV | F114: "odkopávky pro konstrukci komunikace a terénní úpravy | AT114: VV | AU114: 2 | AV114: 1 | AW114: True | AX114: 0 | AY114: ROZPOCET
D115: VV | F115: 108,00 | H115: 108 | AT115: VV | AU115: 2 | AV115: 2 | AW115: True | AX115: 0 | AY115: ROZPOCET
D116: VV | F116: "odkopávky pro úpravy AZ | AT116: VV | AU116: 2 | AV116: 1 | AW116: True | AX116: 0 | AY116: ROZPOCET
D117: VV | F117: 111,00 | H117: 111 | AT117: VV | AU117: 2 | AV117: 2 | AW117: True | AX117: 0 | AY117: ROZPOCET
D118: VV | F118: Součet | H118: 219 | AT118: VV | AU118: 2 | AV118: 4 | AW118: True | AX118: 1 | AY118: ROZPOCET
C119: 7 | D119: K | E119: 131251100 | F119: Hloubení nezapažených jam a zářezů strojně s urovnáním dna do předepsaného profilu a spádu v hornině třídy těžitelnosti I skupiny 3 do 20 m3 | G119: m3 | H119: 16 | J119: =ROUND(I119*H119,2) -> 0 | K119: CS ÚRS 2025 02 | N119: základní | P119: =O119*H119 -> 0 | Q119: 0 | R119: =Q119*H119 -> 0 | S119: 0 | T119: =S119*H119 -> 0 | AR119: 4 | AT119: K | AU119: 2 | AY119: ROZPOCET | BE119: =IF(N119="základní",J119,0) -> 0 | BF119: =IF(N119="snížená",J119,0) -> 0 | BG119: =IF(N119="zákl. přenesená",J119,0) -> 0 | BH119: =IF(N119="sníž. přenesená",J119,0) -> 0 | BI119: =IF(N119="nulová",J119,0) -> 0 | BJ119: 1 | BK119: =ROUND(I119*H119,2) -> 0 | BL119: 4 | BM119: 374516800
D120: Online PSC | F120: https://podminky.urs.cz/item/CS_URS_2025_02/131251100 | AT120: Online PSC | AU120: 2
D121: VV | F121: "výkop průlehu | AT121: VV | AU121: 2 | AV121: 1 | AW121: True | AX121: 0 | AY121: ROZPOCET
D122: VV | F122: 16,00 | H122: 16 | AT122: VV | AU122: 2 | AV122: 2 | AW122: True | AX122: 1 | AY122: ROZPOCET
C123: 8 | D123: K | E123: 162451106 | F123: Vodorovné přemístění výkopku nebo sypaniny po suchu na obvyklém dopravním prostředku, bez naložení výkopku, avšak se složením bez rozhrnutí z horniny třídy těžitelnosti I skupiny 1 až 3 na vzdálenost přes 1 500 do 2 000 m | G123: m3 | H123: 126.5 | J123: =ROUND(I123*H123,2) -> 0 | K123: CS ÚRS 2025 02 | N123: základní | P123: =O123*H123 -> 0 | Q123: 0 | R123: =Q123*H123 -> 0 | S123: 0 | T123: =S123*H123 -> 0 | AR123: 4 | AT123: K | AU123: 2 | AY123: ROZPOCET | BE123: =IF(N123="základní",J123,0) -> 0 | BF123: =IF(N123="snížená",J123,0) -> 0 | BG123: =IF(N123="zákl. přenesená",J123,0) -> 0 | BH123: =IF(N123="sníž. přenesená",J123,0) -> 0 | BI123: =IF(N123="nulová",J123,0) -> 0 | BJ123: 1 | BK123: =ROUND(I123*H123,2) -> 0 | BL123: 4 | BM123: 1620692459
D124: Online PSC | F124: https://podminky.urs.cz/item/CS_URS_2025_02/162451106 | AT124: Online PSC | AU124: 2
D125: VV | F125: "vodorovné přemístění v rámci stavby | AT125: VV | AU125: 2 | AV125: 1 | AW125: True | AX125: 0 | AY125: ROZPOCET
D126: VV | F126: "na meziskládku a zpět | AT126: VV | AU126: 2 | AV126: 1 | AW126: True | AX126: 0 | AY126: ROZPOCET
D127: VV | F127: "sejmuté zeminy schopné zúrodnění pro opětovné využití | AT127: VV | AU127: 2 | AV127: 1 | AW127: True | AX127: 0 | AY127: ROZPOCET
D128: VV | F128: 260,00*0,20*2 | H128: 104 | AT128: VV | AU128: 2 | AV128: 2 | AW128: True | AX128: 0 | AY128: ROZPOCET
D129: VV | F129: "zemina s drnem" 75,00*0,15*2 | H129: 22.5 | AT129: VV | AU129: 2 | AV129: 2 | AW129: True | AX129: 0 | AY129: ROZPOCET
D130: VV | F130: Součet | H130: 126.5 | AT130: VV | AU130: 2 | AV130: 4 | AW130: True | AX130: 1 | AY130: ROZPOCET
C131: 9 | D131: K | E131: 162751117 | F131: Vodorovné přemístění výkopku nebo sypaniny po suchu na obvyklém dopravním prostředku, bez naložení výkopku, avšak se složením bez rozhrnutí z horniny třídy těžitelnosti I skupiny 1 až 3 na vzdálenost přes 9 000 do 10 000 m | G131: m3 | H131: 235 | J131: =ROUND(I131*H131,2) -> 0 | K131: CS ÚRS 2025 02 | N131: základní | P131: =O131*H131 -> 0 | Q131: 0 | R131: =Q131*H131 -> 0 | S131: 0 | T131: =S131*H131 -> 0 | AR131: 4 | AT131: K | AU131: 2 | AY131: ROZPOCET | BE131: =IF(N131="základní",J131,0) -> 0 | BF131: =IF(N131="snížená",J131,0) -> 0 | BG131: =IF(N131="zákl. přenesená",J131,0) -> 0 | BH131: =IF(N131="sníž. přenesená",J131,0) -> 0 | BI131: =IF(N131="nulová",J131,0) -> 0 | BJ131: 1 | BK131: =ROUND(I131*H131,2) -> 0 | BL131: 4 | BM131: -940843854
D132: Online PSC | F132: https://podminky.urs.cz/item/CS_URS_2025_02/162751117 | AT132: Online PSC | AU132: 2
D133: VV | F133: "výkopy" 219,00+16,00 | H133: 235 | AT133: VV | AU133: 2 | AV133: 2 | AW133: True | AX133: 1 | AY133: ROZPOCET
...

Sheet SO 04.5 - Přípojka NN k VDJ
AT2: {8116425a-8c25-457e-b216-b81c5e6926f6}
AT3: 2
D4: KRYCÍ LIST SOUPISU PRACÍ | M4: v --- níže se nacházejí doplnkové a pomocné údaje k sestavám --- v | AT4: False
D6: Stavba:
E7: ='Rekapitulace stavby'!K6 -> Připojení vodovodu Černé Voděrady na SV Region JIH
D8: Objekt:
E9: SO 04 - VDJ Černé Voděrady 2x40m3
D10: Soupis:
E11: SO 04.5 - Přípojka NN k VDJ
D13: KSO: | I13: CC-CZ:
D14: Místo: | F14: K.Ú. černé Voděrady, Zvánovice, Ondřejov u Prahy | I14: Datum: | J14: ='Rekapitulace stavby'!AN8 -> 31. 7. 2025
D16: Zadavatel: | I16: IČ: | J16: 00235318
E17: Obec Černé Voděrady, nám. Lípy Svobody 47, 281 63 | I17: DIČ:
D19: Účastník: | I19: IČ: | J19: ='Rekapitulace stavby'!AN13 -> Vyplň údaj
E20: ='Rekapitulace stavby'!E14 -> Vyplň údaj | I20: DIČ: | J20: ='Rekapitulace stavby'!AN14 -> Vyplň údaj
D22: Projektant: | I22: IČ: | J22: 47116901
E23: Vodohospodářský rozvoj a výstavba s.s. Praha 5 | I23: DIČ:
D25: Zpracovatel: | I25: IČ:
I26: DIČ:
D28: Poznámka:
D32: Cena bez DPH | J32: =ROUND(J86, 2) -> 0
F34: Základ daně | I34: Sazba daně | J34: Výše daně
D35: DPH | E35: základní | F35: =ROUND((SUM(BE86:BE113)), 2) -> 0 | I35: 0.21 | J35: =ROUND(((SUM(BE86:BE113))*I35), 2) -> 0
E36: snížená | F36: =ROUND((SUM(BF86:BF113)), 2) -> 0 | I36: 0.12 | J36: =ROUND(((SUM(BF86:BF113))*I36), 2) -> 0
E37: zákl. přenesená | F37: =ROUND((SUM(BG86:BG113)), 2) -> 0 | I37: 0.21 | J37: =0 -> 0
E38: sníž. přenesená | F38: =ROUND((SUM(BH86:BH113)), 2) -> 0 | I38: 0.12 | J38: =0 -> 0
E39: nulová | F39: =ROUND((SUM(BI86:BI113)), 2) -> 0 | I39: 0 | J39: =0 -> 0
D41: Cena s DPH | G41: v | H41: CZK | J41: =SUM(J32:J39) -> 0
C47: REKAPITULACE ČLENĚNÍ SOUPISU PRACÍ
C49: Stavba:
E50: =E7 -> Připojení vodovodu Černé Voděrady na SV Region JIH
C51: Objekt:
E52: SO 04 - VDJ Černé Voděrady 2x40m3
C53: Soupis:
E54: =E11 -> SO 04.5 - Přípojka NN k VDJ
C56: Místo: | F56: =F14 -> K.Ú. černé Voděrady, Zvánovice, Ondřejov u Prahy | I56: Datum: | J56: =IF(J14="","",J14) -> 31. 7. 2025
C58: Zadavatel: | F58: =E17 -> Obec Černé Voděrady, nám. Lípy Svobody 47, 281 63 | I58: Projektant: | J58: =E23 -> Vodohospodářský rozvoj a výstavba s.s. Praha 5
C59: Účastník: | F59: =IF(E20="","",E20) -> Vyplň údaj | I59: Zpracovatel: | J59: =E26
C61: Kód dílu - Popis | J61: Cena celkem [CZK]
C63: Náklady stavby celkem | J63: =J86 -> 0 | AU63: -1
D64: M - Práce a dodávky M | J64: =J87 -> 0
C71: SOUPIS PRACÍ
C73: Stavba:
E74: =E7 -> Připojení vodovodu Černé Voděrady na SV Region JIH
C75: Objekt:
E76: SO 04 - VDJ Černé Voděrady 2x40m3
C77: Soupis:
E78: =E11 -> SO 04.5 - Přípojka NN k VDJ
C80: Místo: | F80: =F14 -> K.Ú. černé Voděrady, Zvánovice, Ondřejov u Prahy | I80: Datum: | J80: =IF(J14="","",J14) -> 31. 7. 2025
C82: Zadavatel: | F82: =E17 -> Obec Černé Voděrady, nám. Lípy Svobody 47, 281 63 | I82: Projektant: | J82: =E23 -> Vodohospodářský rozvoj a výstavba s.s. Praha 5
C83: Účastník: | F83: =IF(E20="","",E20) -> Vyplň údaj | I83: Zpracovatel: | J83: =E26
C85: PČ | D85: Typ | E85: Kód | F85: Popis | G85: MJ | H85: Množství | I85: J.cena [CZK] | J85: Cena celkem [CZK] | K85: Cenová soustava | N85: DPH | O85: J. Nh [h] | P85: Nh celkem [h] | Q85: J. hmotnost [t] | R85: Hmotnost celkem [t] | S85: J. suť [t] | T85: Suť Celkem [t]
C86: Náklady soupisu celkem | J86: =BK86 -> 0 | P86: =P87 -> 0 | R86: =R87 -> 0 | T86: =T87 -> 0 | AT86: D | AU86: -1 | BK86: =BK87 -> 0
D87: D | E87: M | F87: Práce a dodávky M | J87: =BK87 -> 0 | P87: =SUM(P88:P113) -> 0 | R87: =SUM(R88:R113) -> 0 | T87: =SUM(T88:T113) -> 0 | AR87: 3 | AT87: D | AU87: 0 | AY87: ROZPOCET | BK87: =SUM(BK88:BK113) -> 0
C88: 1 | D88: K | E88: Pol1 | F88: Nožové pojistky vel. 000 32A gG | G88: kus | H88: 3 | J88: =ROUND(I88*H88,2) -> 0 | N88: základní | P88: =O88*H88 -> 0 | Q88: 0 | R88: =Q88*H88 -> 0 | S88: 0 | T88: =S88*H88 -> 0 | AR88: 64 | AT88: K | AU88: 1 | AY88: ROZPOCET | BE88: =IF(N88="základní",J88,0) -> 0 | BF88: =IF(N88="snížená",J88,0) -> 0 | BG88: =IF(N88="zákl. přenesená",J88,0) -> 0 | BH88: =IF(N88="sníž. přenesená",J88,0) -> 0 | BI88: =IF(N88="nulová",J88,0) -> 0 | BJ88: 1 | BK88: =ROUND(I88*H88,2) -> 0 | BL88: 64 | BM88: -1952095390
D89: P | F89: Poznámka k položce:_x000D_ V ceně je obsažena dodávka a montáž. | AT89: P | AU89: 1
C90: 2 | D90: K | E90: Pol2 | F90: Pancéřová trubka FeZn 54mm | G90: m | H90: 3 | J90: =ROUND(I90*H90,2) -> 0 | N90: základní | P90: =O90*H90 -> 0 | Q90: 0 | R90: =Q90*H90 -> 0 | S90: 0 | T90: =S90*H90 -> 0 | AR90: 64 | AT90: K | AU90: 1 | AY90: ROZPOCET | BE90: =IF(N90="základní",J90,0) -> 0 | BF90: =IF(N90="snížená",J90,0) -> 0 | BG90: =IF(N90="zákl. přenesená",J90,0) -> 0 | BH90: =IF(N90="sníž. přenesená",J90,0) -> 0 | BI90: =IF(N90="nulová",J90,0) -> 0 | BJ90: 1 | BK90: =ROUND(I90*H90,2) -> 0 | BL90: 64 | BM90: 1064062034
D91: P | F91: Poznámka k položce:_x000D_ V ceně je obsažena dodávka a montáž. | AT91: P | AU91: 1
C92: 3 | D92: K | E92: Pol3 | F92: PVC kabelová chránička do země DN 63 | G92: m | H92: 25 | J92: =ROUND(I92*H92,2) -> 0 | N92: základní | P92: =O92*H92 -> 0 | Q92: 0 | R92: =Q92*H92 -> 0 | S92: 0 | T92: =S92*H92 -> 0 | AR92: 64 | AT92: K | AU92: 1 | AY92: ROZPOCET | BE92: =IF(N92="základní",J92,0) -> 0 | BF92: =IF(N92="snížená",J92,0) -> 0 | BG92: =IF(N92="zákl. přenesená",J92,0) -> 0 | BH92: =IF(N92="sníž. přenesená",J92,0) -> 0 | BI92: =IF(N92="nulová",J92,0) -> 0 | BJ92: 1 | BK92: =ROUND(I92*H92,2) -> 0 | BL92: 64 | BM92: -1081150279
D93: P | F93: Poznámka k položce:_x000D_ V ceně je obsažena dodávka a montáž. | AT93: P | AU93: 1
C94: 4 | D94: K | E94: Pol4 | F94: Kabel CYKY-J 4x10 | G94: m | H94: 30 | J94: =ROUND(I94*H94,2) -> 0 | N94: základní | P94: =O94*H94 -> 0 | Q94: 0 | R94: =Q94*H94 -> 0 | S94: 0 | T94: =S94*H94 -> 0 | AR94: 64 | AT94: K | AU94: 1 | AY94: ROZPOCET | BE94: =IF(N94="základní",J94,0) -> 0 | BF94: =IF(N94="snížená",J94,0) -> 0 | BG94: =IF(N94="zákl. přenesená",J94,0) -> 0 | BH94: =IF(N94="sníž. přenesená",J94,0) -> 0 | BI94: =IF(N94="nulová",J94,0) -> 0 | BJ94: 1 | BK94: =ROUND(I94*H94,2) -> 0 | BL94: 64 | BM94: 37328467
D95: P | F95: Poznámka k položce:_x000D_ V ceně je obsažena dodávka, montáž a zapojení. | AT95: P | AU95: 1
C96: 5 | D96: K | E96: Pol5 | F96: Kabelová rýha Š 50cm, H 120cm, zemina tř. 3 | G96: m | H96: 12 | J96: =ROUND(I96*H96,2) -> 0 | N96: základní | P96: =O96*H96 -> 0 | Q96: 0 | R96: =Q96*H96 -> 0 | S96: 0 | T96: =S96*H96 -> 0 | AR96: 64 | AT96: K | AU96: 1 | AY96: ROZPOCET | BE96: =IF(N96="základní",J96,0) -> 0 | BF96: =IF(N96="snížená",J96,0) -> 0 | BG96: =IF(N96="zákl. přenesená",J96,0) -> 0 | BH96: =IF(N96="sníž. přenesená",J96,0) -> 0 | BI96: =IF(N96="nulová",J96,0) -> 0 | BJ96: 1 | BK96: =ROUND(I96*H96,2) -> 0 | BL96: 64 | BM96: -590199119
D97: P | F97: Poznámka k položce:_x000D_ V ceně je obsažen kompletní výkop s likvidací přebytečné zeminy | AT97: P | AU97: 1
C98: 6 | D98: K | E98: Pol6 | F98: Zához rýhy Š 50cm, H 120cm, zemina tř. 3 | G98: m | H98: 12 | J98: =ROUND(I98*H98,2) -> 0 | N98: základní | P98: =O98*H98 -> 0 | Q98: 0 | R98: =Q98*H98 -> 0 | S98: 0 | T98: =S98*H98 -> 0 | AR98: 64 | AT98: K | AU98: 1 | AY98: ROZPOCET | BE98: =IF(N98="základní",J98,0) -> 0 | BF98: =IF(N98="snížená",J98,0) -> 0 | BG98: =IF(N98="zákl. přenesená",J98,0) -> 0 | BH98: =IF(N98="sníž. přenesená",J98,0) -> 0 | BI98: =IF(N98="nulová",J98,0) -> 0 | BJ98: 1 | BK98: =ROUND(I98*H98,2) -> 0 | BL98: 64 | BM98: 130519714
D99: P | F99: Poznámka k položce:_x000D_ V ceně obsaženo zasypání včetně hutnění, položení výstražné pásky. | AT99: P | AU99: 1
C100: 7 | D100: K | E100: Pol7 | F100: Obsypový materiál kabelové chráničky | G100: m3 | H100: 2.7 | J100: =ROUND(I100*H100,2) -> 0 | N100: základní | P100: =O100*H100 -> 0 | Q100: 0 | R100: =Q100*H100 -> 0 | S100: 0 | T100: =S100*H100 -> 0 | AR100: 64 | AT100: K | AU100: 1 | AY100: ROZPOCET | BE100: =IF(N100="základní",J100,0) -> 0 | BF100: =IF(N100="snížená",J100,0) -> 0 | BG100: =IF(N100="zákl. přenesená",J100,0) -> 0 | BH100: =IF(N100="sníž. přenesená",J100,0) -> 0 | BI100: =IF(N100="nulová",J100,0) -> 0 | BJ100: 1 | BK100: =ROUND(I100*H100,2) -> 0 | BL100: 64 | BM100: -782300117
D101: P | F101: Poznámka k položce:_x000D_ V ceně obsažen materiál včetně provedení obsypu chráničky | AT101: P | AU101: 1
C102: 8 | D102: K | E102: Pol8 | F102: Zemnící páska FeZn 30x4 mm | G102: kg | H102: 12 | J102: =ROUND(I102*H102,2) -> 0 | N102: základní | P102: =O102*H102 -> 0 | Q102: 0 | R102: =Q102*H102 -> 0 | S102: 0 | T102: =S102*H102 -> 0 | AR102: 64 | AT102: K | AU102: 1 | AY102: ROZPOCET | BE102: =IF(N102="základní",J102,0) -> 0 | BF102: =IF(N102="snížená",J102,0) -> 0 | BG102: =IF(N102="zákl. přenesená",J102,0) -> 0 | BH102: =IF(N102="sníž. přenesená",J102,0) -> 0 | BI102: =IF(N102="nulová",J102,0) -> 0 | BJ102: 1 | BK102: =ROUND(I102*H102,2) -> 0 | BL102: 64 | BM102: -1419276615
D103: P | F103: Poznámka k položce:_x000D_ V ceně obsažena dodávka, pokládka, spoje a nátěry | AT103: P | AU103: 1
C104: 9 | D104: K | E104: Pol9 | F104: Svorka páska - páska FeZn | G104: kus | H104: 2 | J104: =ROUND(I104*H104,2) -> 0 | N104: základní | P104: =O104*H104 -> 0 | Q104: 0 | R104: =Q104*H104 -> 0 | S104: 0 | T104: =S104*H104 -> 0 | AR104: 64 | AT104: K | AU104: 1 | AY104: ROZPOCET | BE104: =IF(N104="základní",J104,0) -> 0 | BF104: =IF(N104="snížená",J104,0) -> 0 | BG104: =IF(N104="zákl. přenesená",J104,0) -> 0 | BH104: =IF(N104="sníž. přenesená",J104,0) -> 0 | BI104: =IF(N104="nulová",J104,0) -> 0 | BJ104: 1 | BK104: =ROUND(I104*H104,2) -> 0 | BL104: 64 | BM104: -1010513496
D105: P | F105: Poznámka k položce:_x000D_ V ceně obsažena dodávka a montáž | AT105: P | AU105: 1
C106: 10 | D106: K | E106: Pol10 | F106: Jistič 20B/3 | G106: kus | H106: 1 | J106: =ROUND(I106*H106,2) -> 0 | N106: základní | P106: =O106*H106 -> 0 | Q106: 0 | R106: =Q106*H106 -> 0 | S106: 0 | T106: =S106*H106 -> 0 | AR106: 64 | AT106: K | AU106: 1 | AY106: ROZPOCET | BE106: =IF(N106="základní",J106,0) -> 0 | BF106: =IF(N106="snížená",J106,0) -> 0 | BG106: =IF(N106="zákl. přenesená",J106,0) -> 0 | BH106: =IF(N106="sníž. přenesená",J106,0) -> 0 | BI106: =IF(N106="nulová",J106,0) -> 0 | BJ106: 1 | BK106: =ROUND(I106*H106,2) -> 0 | BL106: 64 | BM106: 1479921817
D107: P | F107: Poznámka k položce:_x000D_ V ceně obsažena kompletní dodávka a montáž. | AT107: P | AU107: 1
C108: 11 | D108: K | E108: Pol11 | F108: Elektroměrový rozváděč, kompaktní pilíř, třífázový, jednosazbový, 40A | G108: kus | H108: 1 | J108: =ROUND(I108*H108,2) -> 0 | N108: základní | P108: =O108*H108 -> 0 | Q108: 0 | R108: =Q108*H108 -> 0 | S108: 0 | T108: =S108*H108 -> 0 | AR108: 64 | AT108: K | AU108: 1 | AY108: ROZPOCET | BE108: =IF(N108="základní",J108,0) -> 0 | BF108: =IF(N108="snížená",J108,0) -> 0 | BG108: =IF(N108="zákl. přenesená",J108,0) -> 0 | BH108: =IF(N108="sníž. přenesená",J108,0) -> 0 | BI108: =IF(N108="nulová",J108,0) -> 0 | BJ108: 1 | BK108: =ROUND(I108*H108,2) -> 0 | BL108: 64 | BM108: -1787238293
D109: P | F109: Poznámka k položce:_x000D_ V ceně obsažena dodávka, montáž a zapojení | AT109: P | AU109: 1
C110: 12 | D110: K | E110: Pol12 | F110: Výchozí revize elektrického zařízení | G110: kpl | H110: 1 | J110: =ROUND(I110*H110,2) -> 0 | N110: základní | P110: =O110*H110 -> 0 | Q110: 0 | R110: =Q110*H110 -> 0 | S110: 0 | T110: =S110*H110 -> 0 | AR110: 64 | AT110: K | AU110: 1 | AY110: ROZPOCET | BE110: =IF(N110="základní",J110,0) -> 0 | BF110: =IF(N110="snížená",J110,0) -> 0 | BG110: =IF(N110="zákl. přenesená",J110,0) -> 0 | BH110: =IF(N110="sníž. přenesená",J110,0) -> 0 | BI110: =IF(N110="nulová",J110,0) -> 0 | BJ110: 1 | BK110: =ROUND(I110*H110,2) -> 0 | BL110: 64 | BM110: 965167724
D111: P | F111: Poznámka k položce:_x000D_ Prohlídka, měření a vypracování revizní zprávy. | AT111: P | AU111: 1
C112: 13 | D112: K | E112: Pol13 | F112: Ostatní rozpočtové náklady | G112: kpl | H112: 1 | J112: =ROUND(I112*H112,2) -> 0 | N112: základní | P112: =O112*H112 -> 0 | Q112: 0 | R112: =Q112*H112 -> 0 | S112: 0 | T112: =S112*H112 -> 0 | AR112: 64 | AT112: K | AU112: 1 | AY112: ROZPOCET | BE112: =IF(N112="základní",J112,0) -> 0 | BF112: =IF(N112="snížená",J112,0) -> 0 | BG112: =IF(N112="zákl. přenesená",J112,0) -> 0 | BH112: =IF(N112="sníž. přenesená",J112,0) -> 0 | BI112: =IF(N112="nulová",J112,0) -> 0 | BJ112: 1 | BK112: =ROUND(I112*H112,2) -> 0 | BL112: 64 | BM112: -1644834538
D113: P | F113: Poznámka k položce:_x000D_ Položka obsahuje:_x000D_ - doprava, přesun materiálu_x000D_ - dokumentace skutečného provedení | AT113: P | AU113: 1

Sheet 1. - Technologická elektr...
AT2: {593d4620-9bbf-401a-b391-bc86e9120b5f}
AT3: 2
D4: KRYCÍ LIST SOUPISU PRACÍ | M4: v --- níže se nacházejí doplnkové a pomocné údaje k sestavám --- v | AT4: False
D6: Stavba:
E7: ='Rekapitulace stavby'!K6 -> Připojení vodovodu Černé Voděrady na SV Region JIH
D8: Objekt:
E9: SO 04 - VDJ Černé Voděrady 2x40m3
D10: Soupis:
E11: SO 04.6 - Systém řízení technologického procesu
D12: Úroveň 3:
E13: 1. - Technologická elektroinstalace, měření a regulace
D15: KSO: | I15: CC-CZ:
D16: Místo: | F16: K.Ú. černé Voděrady, Zvánovice, Ondřejov u Prahy | I16: Datum: | J16: ='Rekapitulace stavby'!AN8 -> 31. 7. 2025
D18: Zadavatel: | I18: IČ: | J18: 00235318
E19: Obec Černé Voděrady, nám. Lípy Svobody 47, 281 63 | I19: DIČ:
D21: Účastník: | I21: IČ: | J21: ='Rekapitulace stavby'!AN13 -> Vyplň údaj
E22: ='Rekapitulace stavby'!E14 -> Vyplň údaj | I22: DIČ: | J22: ='Rekapitulace stavby'!AN14 -> Vyplň údaj
D24: Projektant: | I24: IČ: | J24: 47116901
E25: Vodohospodářský rozvoj a výstavba s.s. Praha 5 | I25: DIČ:
D27: Zpracovatel: | I27: IČ:
I28: DIČ:
D30: Poznámka:
D34: Cena bez DPH | J34: =ROUND(J92, 2) -> 0
F36: Základ daně | I36: Sazba daně | J36: Výše daně
D37: DPH | E37: základní | F37: =ROUND((SUM(BE92:BE159)), 2) -> 0 | I37: 0.21 | J37: =ROUND(((SUM(BE92:BE159))*I37), 2) -> 0
E38: snížená | F38: =ROUND((SUM(BF92:BF159)), 2) -> 0 | I38: 0.12 | J38: =ROUND(((SUM(BF92:BF159))*I38), 2) -> 0
E39: zákl. přenesená | F39: =ROUND((SUM(BG92:BG159)), 2) -> 0 | I39: 0.21 | J39: =0 -> 0
E40: sníž. přenesená | F40: =ROUND((SUM(BH92:BH159)), 2) -> 0 | I40: 0.12 | J40: =0 -> 0
E41: nulová | F41: =ROUND((SUM(BI92:BI159)), 2) -> 0 | I41: 0 | J41: =0 -> 0
D43: Cena s DPH | G43: v | H43: CZK | J43: =SUM(J34:J41) -> 0
C49: REKAPITULACE ČLENĚNÍ SOUPISU PRACÍ
C51: Stavba:
E52: =E7 -> Připojení vodovodu Černé Voděrady na SV Region JIH
C53: Objekt:
E54: SO 04 - VDJ Černé Voděrady 2x40m3
C55: Soupis:
E56: SO 04.6 - Systém řízení technologického procesu
C57: Úroveň 3:
E58: =E13 -> 1. - Technologická elektroinstalace, měření a regulace
C60: Místo: | F60: =F16 -> K.Ú. černé Voděrady, Zvánovice, Ondřejov u Prahy | I60: Datum: | J60: =IF(J16="","",J16) -> 31. 7. 2025
C62: Zadavatel: | F62: =E19 -> Obec Černé Voděrady, nám. Lípy Svobody 47, 281 63 | I62: Projektant: | J62: =E25 -> Vodohospodářský rozvoj a výstavba s.s. Praha 5
C63: Účastník: | F63: =IF(E22="","",E22) -> Vyplň údaj | I63: Zpracovatel: | J63: =E28
C65: Kód dílu - Popis | J65: Cena celkem [CZK]
C67: Náklady stavby celkem | J67: =J92 -> 0 | AU67: -1
D68: M - Práce a dodávky M | J68: =J93 -> 0
C75: SOUPIS PRACÍ
C77: Stavba:
E78: =E7 -> Připojení vodovodu Černé Voděrady na SV Region JIH
C79: Objekt:
E80: SO 04 - VDJ Černé Voděrady 2x40m3
C81: Soupis:
E82: SO 04.6 - Systém řízení technologického procesu
C83: Úroveň 3:
E84: =E13 -> 1. - Technologická elektroinstalace, měření a regulace
C86: Místo: | F86: =F16 -> K.Ú. černé Voděrady, Zvánovice, Ondřejov u Prahy | I86: Datum: | J86: =IF(J16="","",J16) -> 31. 7. 2025
C88: Zadavatel: | F88: =E19 -> Obec Černé Voděrady, nám. Lípy Svobody 47, 281 63 | I88: Projektant: | J88: =E25 -> Vodohospodářský rozvoj a výstavba s.s. Praha 5
C89: Účastník: | F89: =IF(E22="","",E22) -> Vyplň údaj | I89: Zpracovatel: | J89: =E28
C91: PČ | D91: Typ | E91: Kód | F91: Popis | G91: MJ | H91: Množství | I91: J.cena [CZK] | J91: Cena celkem [CZK] | K91: Cenová soustava | N91: DPH | O91: J. Nh [h] | P91: Nh celkem [h] | Q91: J. hmotnost [t] | R91: Hmotnost celkem [t] | S91: J. suť [t] | T91: Suť Celkem [t]
C92: Náklady soupisu celkem | J92: =BK92 -> 0 | P92: =P93 -> 0 | R92: =R93 -> 0 | T92: =T93 -> 0 | AT92: D | AU92: -1 | BK92: =BK93 -> 0
D93: D | E93: M | F93: Práce a dodávky M | J93: =BK93 -> 0 | P93: =SUM(P94:P159) -> 0 | R93: =SUM(R94:R159) -> 0 | T93: =SUM(T94:T159) -> 0 | AR93: 3 | AT93: D | AU93: 0 | AY93: ROZPOCET | BK93: =SUM(BK94:BK159) -> 0
C94: 1 | D94: K | E94: Pol14 | F94: Kabel CYKY-J 5x1,5 | G94: m | H94: 10 | J94: =ROUND(I94*H94,2) -> 0 | N94: základní | P94: =O94*H94 -> 0 | Q94: 0 | R94: =Q94*H94 -> 0 | S94: 0 | T94: =S94*H94 -> 0 | AR94: 64 | AT94: K | AU94: 1 | AY94: ROZPOCET | BE94: =IF(N94="základní",J94,0) -> 0 | BF94: =IF(N94="snížená",J94,0) -> 0 | BG94: =IF(N94="zákl. přenesená",J94,0) -> 0 | BH94: =IF(N94="sníž. přenesená",J94,0) -> 0 | BI94: =IF(N94="nulová",J94,0) -> 0 | BJ94: 1 | BK94: =ROUND(I94*H94,2) -> 0 | BL94: 64 | BM94: -1091181000
D95: P | F95: Poznámka k položce:_x000D_ V ceně je obsažena kompletní dodávka a pokládka kabelu. | AT95: P | AU95: 1
C96: 2 | D96: K | E96: Pol15 | F96: Kabel CYKY-J 4x1,5 | G96: m | H96: 15 | J96: =ROUND(I96*H96,2) -> 0 | N96: základní | P96: =O96*H96 -> 0 | Q96: 0 | R96: =Q96*H96 -> 0 | S96: 0 | T96: =S96*H96 -> 0 | AR96: 64 | AT96: K | AU96: 1 | AY96: ROZPOCET | BE96: =IF(N96="základní",J96,0) -> 0 | BF96: =IF(N96="snížená",J96,0) -> 0 | BG96: =IF(N96="zákl. přenesená",J96,0) -> 0 | BH96: =IF(N96="sníž. přenesená",J96,0) -> 0 | BI96: =IF(N96="nulová",J96,0) -> 0 | BJ96: 1 | BK96: =ROUND(I96*H96,2) -> 0 | BL96: 64 | BM96: -2077120113
D97: P | F97: Poznámka k položce:_x000D_ V ceně je obsažena kompletní dodávka a pokládka kabelu. | AT97: P | AU97: 1
C98: 3 | D98: K | E98: Pol16 | F98: Kabel CYKY-J 3x1,5 | G98: m | H98: 20 | J98: =ROUND(I98*H98,2) -> 0 | N98: základní | P98: =O98*H98 -> 0 | Q98: 0 | R98: =Q98*H98 -> 0 | S98: 0 | T98: =S98*H98 -> 0 | AR98: 64 | AT98: K | AU98: 1 | AY98: ROZPOCET | BE98: =IF(N98="základní",J98,0) -> 0 | BF98: =IF(N98="snížená",J98,0) -> 0 | BG98: =IF(N98="zákl. přenesená",J98,0) -> 0 | BH98: =IF(N98="sníž. přenesená",J98,0) -> 0 | BI98: =IF(N98="nulová",J98,0) -> 0 | BJ98: 1 | BK98: =ROUND(I98*H98,2) -> 0 | BL98: 64 | BM98: -2081079792
D99: P | F99: Poznámka k položce:_x000D_ V ceně je obsažena kompletní dodávka a pokládka kabelu. | AT99: P | AU99: 1
C100: 4 | D100: K | E100: Pol17 | F100: Kabel JYTY 14x1 | G100: m | H100: 25 | J100: =ROUND(I100*H100,2) -> 0 | N100: základní | P100: =O100*H100 -> 0 | Q100: 0 | R100: =Q100*H100 -> 0 | S100: 0 | T100: =S100*H100 -> 0 | AR100: 64 | AT100: K | AU100: 1 | AY100: ROZPOCET | BE100: =IF(N100="základní",J100,0) -> 0 | BF100: =IF(N100="snížená",J100,0) -> 0 | BG100: =IF(N100="zákl. přenesená",J100,0) -> 0 | BH100: =IF(N100="sníž. přenesená",J100,0) -> 0 | BI100: =IF(N100="nulová",J100,0) -> 0 | BJ100: 1 | BK100: =ROUND(I100*H100,2) -> 0 | BL100: 64 | BM100: 1732309606
D101: P | F101: Poznámka k položce:_x000D_ V ceně je obsažena kompletní dodávka a pokládka kabelu. | AT101: P | AU101: 1
C102: 5 | D102: K | E102: Pol18 | F102: Kabel JYTY 7x1 | G102: m | H102: 10 | J102: =ROUND(I102*H102,2) -> 0 | N102: základní | P102: =O102*H102 -> 0 | Q102: 0 | R102: =Q102*H102 -> 0 | S102: 0 | T102: =S102*H102 -> 0 | AR102: 64 | AT102: K | AU102: 1 | AY102: ROZPOCET | BE102: =IF(N102="základní",J102,0) -> 0 | BF102: =IF(N102="snížená",J102,0) -> 0 | BG102: =IF(N102="zákl. přenesená",J102,0) -> 0 | BH102: =IF(N102="sníž. přenesená",J102,0) -> 0 | BI102: =IF(N102="nulová",J102,0) -> 0 | BJ102: 1 | BK102: =ROUND(I102*H102,2) -> 0 | BL102: 64 | BM102: 311323656
D103: P | F103: Poznámka k položce:_x000D_ V ceně je obsažena kompletní dodávka a pokládka kabelu. | AT103: P | AU103: 1
C104: 6 | D104: K | E104: Pol19 | F104: Kabel J-Y(St)Y 4x2x0,8 | G104: m | H104: 45 | J104: =ROUND(I104*H104,2) -> 0 | N104: základní | P104: =O104*H104 -> 0 | Q104: 0 | R104: =Q104*H104 -> 0 | S104: 0 | T104: =S104*H104 -> 0 | AR104: 64 | AT104: K | AU104: 1 | AY104: ROZPOCET | BE104: =IF(N104="základní",J104,0) -> 0 | BF104: =IF(N104="snížená",J104,0) -> 0 | BG104: =IF(N104="zákl. přenesená",J104,0) -> 0 | BH104: =IF(N104="sníž. přenesená",J104,0) -> 0 | BI104: =IF(N104="nulová",J104,0) -> 0 | BJ104: 1 | BK104: =ROUND(I104*H104,2) -> 0 | BL104: 64 | BM104: -1324163669
D105: P | F105: Poznámka k položce:_x000D_ V ceně je obsažena kompletní dodávka a pokládka kabelu. | AT105: P | AU105: 1
C106: 7 | D106: K | E106: Pol20 | F106: Kabel J-Y(St)Y 2x2x0,8 | G106: m | H106: 90 | J106: =ROUND(I106*H106,2) -> 0 | N106: základní | P106: =O106*H106 -> 0 | Q106: 0 | R106: =Q106*H106 -> 0 | S106: 0 | T106: =S106*H106 -> 0 | AR106: 64 | AT106: K | AU106: 1 | AY106: ROZPOCET | BE106: =IF(N106="základní",J106,0) -> 0 | BF106: =IF(N106="snížená",J106,0) -> 0 | BG106: =IF(N106="zákl. přenesená",J106,0) -> 0 | BH106: =IF(N106="sníž. přenesená",J106,0) -> 0 | BI106: =IF(N106="nulová",J106,0) -> 0 | BJ106: 1 | BK106: =ROUND(I106*H106,2) -> 0 | BL106: 64 | BM106: -403318076
D107: P | F107: Poznámka k položce:_x000D_ V ceně je obsažena kompletní dodávka a pokládka kabelu. | AT107: P | AU107: 1
C108: 8 | D108: K | E108: Pol21 | F108: Kabelový drátěný žlab 100x50 žárový zinek | G108: m | H108: 25 | J108: =ROUND(I108*H108,2) -> 0 | N108: základní | P108: =O108*H108 -> 0 | Q108: 0 | R108: =Q108*H108 -> 0 | S108: 0 | T108: =S108*H108 -> 0 | AR108: 64 | AT108: K | AU108: 1 | AY108: ROZPOCET | BE108: =IF(N108="základní",J108,0) -> 0 | BF108: =IF(N108="snížená",J108,0) -> 0 | BG108: =IF(N108="zákl. přenesená",J108,0) -> 0 | BH108: =IF(N108="sníž. přenesená",J108,0) -> 0 | BI108: =IF(N108="nulová",J108,0) -> 0 | BJ108: 1 | BK108: =ROUND(I108*H108,2) -> 0 | BL108: 64 | BM108: -1125266062
D109: P | F109: Poznámka k položce:_x000D_ V ceně je obsažena kompletní dodávka a montáž všech prvků pro vytvoření kabelového nosného systému | AT109: P | AU109: 1
C110: 9 | D110: K | E110: Pol22 | F110: Elektroinstalační trubka DN25 | G110: m | H110: 45 | J110: =ROUND(I110*H110,2) -> 0 | N110: základní | P110: =O110*H110 -> 0 | Q110: 0 | R110: =Q110*H110 -> 0 | S110: 0 | T110: =S110*H110 -> 0 | AR110: 64 | AT110: K | AU110: 1 | AY110: ROZPOCET | BE110: =IF(N110="základní",J110,0) -> 0 | BF110: =IF(N110="snížená",J110,0) -> 0 | BG110: =IF(N110="zákl. přenesená",J110,0) -> 0 | BH110: =IF(N110="sníž. přenesená",J110,0) -> 0 | BI110: =IF(N110="nulová",J110,0) -> 0 | BJ110: 1 | BK110: =ROUND(I110*H110,2) -> 0 | BL110: 64 | BM110: 1907467418
D111: P | F111: Poznámka k položce:_x000D_ V ceně je obsažena kompletní dodávka a montáž všech prvků pro vytvoření kabelového nosného systému | AT111: P | AU111: 1
C112: 10 | D112: K | E112: Pol23 | F112: Ochranná kabelová hadice 25mm | G112: m | H112: 15 | J112: =ROUND(I112*H112,2) -> 0 | N112: základní | P112: =O112*H112 -> 0 | Q112: 0 | R112: =Q112*H112 -> 0 | S112: 0 | T112: =S112*H112 -> 0 | AR112: 64 | AT112: K | AU112: 1 | AY112: ROZPOCET | BE112: =IF(N112="základní",J112,0) -> 0 | BF112: =IF(N112="snížená",J112,0) -> 0 | BG112: =IF(N112="zákl. přenesená",J112,0) -> 0 | BH112: =IF(N112="sníž. přenesená",J112,0) -> 0 | BI112: =IF(N112="nulová",J112,0) -> 0 | BJ112: 1 | BK112: =ROUND(I112*H112,2) -> 0 | BL112: 64 | BM112: -1307602212
D113: P | F113: Poznámka k položce:_x000D_ V ceně je obsažena kompletní dodávka a montáž všech prvků pro vytvoření kabelového nosného systému | AT113: P | AU113: 1
C114: 11 | D114: K | E114: Pol24 | F114: Plastová krabicová rozvodka 98x98mm se svorkami, IP 65 | G114: kus | H114: 3 | J114: =ROUND(I114*H114,2) -> 0 | N114: základní | P114: =O114*H114 -> 0 | Q114: 0 | R114: =Q114*H114 -> 0 | S114: 0 | T114: =S114*H114 -> 0 | AR114: 64 | AT114: K | AU114: 1 | AY114: ROZPOCET | BE114: =IF(N114="základní",J114,0) -> 0 | BF114: =IF(N114="snížená",J114,0) -> 0 | BG114: =IF(N114="zákl. přenesená",J114,0) -> 0 | BH114: =IF(N114="sníž. přenesená",J114,0) -> 0 | BI114: =IF(N114="nulová",J114,0) -> 0 | BJ114: 1 | BK114: =ROUND(I114*H114,2) -> 0 | BL114: 64 | BM114: 2064567647
D115: P | F115: Poznámka k položce:_x000D_ V ceně dodávka včetně montáže a zapojení | AT115: P | AU115: 1
C116: 12 | D116: K | E116: Pol25 | F116: Plastová krabicová rozvodka 88x88mm se svorkami, IP 65 | G116: kus | H116: 3 | J116: =ROUND(I116*H116,2) -> 0 | N116: základní | P116: =O116*H116 -> 0 | Q116: 0 | R116: =Q116*H116 -> 0 | S116: 0 | T116: =S116*H116 -> 0 | AR116: 64 | AT116: K | AU116: 1 | AY116: ROZPOCET | BE116: =IF(N116="základní",J116,0) -> 0 | BF116: =IF(N116="snížená",J116,0) -> 0 | BG116: =IF(N116="zákl. přenesená",J116,0) -> 0 | BH116: =IF(N116="sníž. přenesená",J116,0) -> 0 | BI116: =IF(N116="nulová",J116,0) -> 0 | BJ116: 1 | BK116: =ROUND(I116*H116,2) -> 0 | BL116: 64 | BM116: 1017266221
D117: P | F117: Poznámka k položce:_x000D_ V ceně dodávka včetně montáže a zapojení | AT117: P | AU117: 1
C118: 13 | D118: K | E118: Pol26 | F118: Zásuvka 230V, montáž na povrch, IP 44 | G118: kus | H118: 1 | J118: =ROUND(I118*H118,2) -> 0 | N118: základní | P118: =O118*H118 -> 0 | Q118: 0 | R118: =Q118*H118 -> 0 | S118: 0 | T118: =S118*H118 -> 0 | AR118: 64 | AT118: K | AU118: 1 | AY118: ROZPOCET | BE118: =IF(N118="základní",J118,0) -> 0 | BF118: =IF(N118="snížená",J118,0) -> 0 | BG118: =IF(N118="zákl. přenesená",J118,0) -> 0 | BH118: =IF(N118="sníž. přenesená",J118,0) -> 0 | BI118: =IF(N118="nulová",J118,0) -> 0 | BJ118: 1 | BK118: =ROUND(I118*H118,2) -> 0 | BL118: 64 | BM118: 1615023509
D119: P | F119: Poznámka k položce:_x000D_ V ceně dodávka včetně montáže a zapojení | AT119: P | AU119: 1
C120: 14 | D120: K | E120: Pol27 | F120: Rozváděč RM1 | G120: kus | H120: 1 | J120: =ROUND(I120*H120,2) -> 0 | N120: základní | P120: =O120*H120 -> 0 | Q120: 0 | R120: =Q120*H120 -> 0 | S120: 0 | T120: =S120*H120 -> 0 | AR120: 64 | AT120: K | AU120: 1 | AY120: ROZPOCET | BE120: =IF(N120="základní",J120,0) -> 0 | BF120: =IF(N120="snížená",J120,0) -> 0 | BG120: =IF(N120="zákl. přenesená",J120,0) -> 0 | BH120: =IF(N120="sníž. přenesená",J120,0) -> 0 | BI120: =IF(N120="nulová",J120,0) -> 0 | BJ120: 1 | BK120: =ROUND(I120*H120,2) -> 0 | BL120: 64 | BM120: -363751667
D121: P | F121: Poznámka k položce:_x000D_ V ceně je obsaženo usazení a zapojení zařízení (cena dodávky vypočtena ze záložky RH1) | AT121: P | AU121: 1
C122: 15 | D122: K | E122: Pol28 | F122: Automatická tlaková stanice ATS | G122: kus | H122: 1 | J122: =ROUND(I122*H122,2) -> 0 | N122: základní | P122: =O122*H122 -> 0 | Q122: 0 | R122: =Q122*H122 -> 0 | S122: 0 | T122: =S122*H122 -> 0 | AR122: 64 | AT122: K | AU122: 1 | AY122: ROZPOCET | BE122: =IF(N122="základní",J122,0) -> 0 | BF122: =IF(N122="snížená",J122,0) -> 0 | BG122: =IF(N122="zákl. přenesená",J122,0) -> 0 | BH122: =IF(N122="sníž. přenesená",J122,0) -> 0 | BI122: =IF(N122="nulová",J122,0) -> 0 | BJ122: 1 | BK122: =ROUND(I122*H122,2) -> 0 | BL122: 64 | BM122: 1660995903
D123: P | F123: Poznámka k položce:_x000D_ V ceně je obsaženo zapojení rozváděče. | AT123: P | AU123: 1
C124: 16 | D124: K | E124: Pol29 | F124: Elektroarmatura M2 | G124: kus | H124: 1 | J124: =ROUND(I124*H124,2) -> 0 | N124: základní | P124: =O124*H124 -> 0 | Q124: 0 | R124: =Q124*H124 -> 0 | S124: 0 | T124: =S124*H124 -> 0 | AR124: 64 | AT124: K | AU124: 1 | AY124: ROZPOCET | BE124: =IF(N124="základní",J124,0) -> 0 | BF124: =IF(N124="snížená",J124,0) -> 0 | BG124: =IF(N124="zákl. přenesená",J124,0) -> 0 | BH124: =IF(N124="sníž. přenesená",J124,0) -> 0 | BI124: =IF(N124="nulová",J124,0) -> 0 | BJ124: 1 | BK124: =ROUND(I124*H124,2) -> 0 | BL124: 64 | BM124: 1078908767
D125: P | F125: Poznámka k položce:_x000D_ V ceně je obsaženo zapojení elektromotoru. | AT125: P | AU125: 1
C126: 17 | D126: K | E126: Pol30 | F126: Dávkovací čerpadlo M3 | G126: kus | H126: 1 | J126: =ROUND(I126*H126,2) -> 0 | N126: základní | P126: =O126*H126 -> 0 | Q126: 0 | R126: =Q126*H126 -> 0 | S126: 0 | T126: =S126*H126 -> 0 | AR126: 64 | AT126: K | AU126: 1 | AY126: ROZPOCET | BE126: =IF(N126="základní",J126,0) -> 0 | BF126: =IF(N126="snížená",J126,0) -> 0 | BG126: =IF(N126="zákl. přenesená",J126,0) -> 0 | BH126: =IF(N126="sníž. přenesená",J126,0) -> 0 | BI126: =IF(N126="nulová",J126,0) -> 0 | BJ126: 1 | BK126: =ROUND(I126*H126,2) -> 0 | BL126: 64 | BM126: 519878022
D127: P | F127: Poznámka k položce:_x000D_ V ceně je obsaženo zapojení elektromotoru. | AT127: P | AU127: 1
C128: 18 | D128: K | E128: Pol31 | F128: Ventilátor V1, 230V, 25W, 245 m3/h | G128: kus | H128: 1 | J128: =ROUND(I128*H128,2) -> 0 | N128: základní | P128: =O128*H128 -> 0 | Q128: 0 | R128: =Q128*H128 -> 0 | S128: 0 | T128: =S128*H128 -> 0 | AR128: 64 | AT128: K | AU128: 1 | AY128: ROZPOCET | BE128: =IF(N128="základní",J128,0) -> 0 | BF128: =IF(N128="snížená",J128,0) -> 0 | BG128: =IF(N128="zákl. přenesená",J128,0) -> 0 | BH128: =IF(N128="sníž. přenesená",J128,0) -> 0 | BI128: =IF(N128="nulová",J128,0) -> 0 | BJ128: 1 | BK128: =ROUND(I128*H128,2) -> 0 | BL128: 64 | BM128: -1087370069
D129: P | F129: Poznámka k položce:_x000D_ V ceně je obsažena dodávka, montáž a zapojení ventilátoru. | AT129: P | AU129: 1
C130: 19 | D130: K | E130: Pol32 | F130: Měření průtoku FIQ1, FIQ2 | G130: kus | H130: 2 | J130: =ROUND(I130*H130,2) -> 0 | N130: základní | P130: =O130*H130 -> 0 | Q130: 0 | R130: =Q130*H130 -> 0 | S130: 0 | T130: =S130*H130 -> 0 | AR130: 64 | AT130: K | AU130: 1 | AY130: ROZPOCET | BE130: =IF(N130="základní",J130,0) -> 0 | BF130: =IF(N130="snížená",J130,0) -> 0 | BG130: =IF(N130="zákl. přenesená",J130,0) -> 0 | BH130: =IF(N130="sníž. přenesená",J130,0) -> 0 | BI130: =IF(N130="nulová",J130,0) -> 0 | BJ130: 1 | BK130: =ROUND(I130*H130,2) -> 0 | BL130: 64 | BM130: 482279108
D131: P | F131: Poznámka k položce:_x000D_ V ceně je obsažena dodávka, montáž a zapojení. | AT131: P | AU131: 1
C132: 20 | D132: K | E132: Pol33 | F132: Plovákový spínač LZ1.1, LZ1.2, LZ2.1, LZ2.2 | G132: kus | H132: 4 | J132: =ROUND(I132*H132,2) -> 0 | N132: základní | P132: =O132*H132 -> 0 | Q132: 0 | R132: =Q132*H132 -> 0 | S132: 0 | T132: =S132*H132 -> 0 | AR132: 64 | AT132: K | AU132: 1 | AY132: ROZPOCET | BE132: =IF(N132="základní",J132,0) -> 0 | BF132: =IF(N132="snížená",J132,0) -> 0 | BG132: =IF(N132="zákl. přenesená",J132,0) -> 0 | BH132: =IF(N132="sníž. přenesená",J132,0) -> 0 | BI132: =IF(N132="nulová",J132,0) -> 0 | BJ132: 1 | BK132: =ROUND(I132*H132,2) -> 0 | BL132: 64 | BM132: -158405642
D133: P | F133: Poznámka k položce:_x000D_ V ceně je obsažena dodávka, montáž a zapojení. | AT133: P | AU133: 1
...

Sheet 2. - Rozváděč RM1
AT2: {f3ae2e04-b07b-4061-afcb-0ab7ef81225b}
AT3: 2
D4: KRYCÍ LIST SOUPISU PRACÍ | M4: v --- níže se nacházejí doplnkové a pomocné údaje k sestavám --- v | AT4: False
D6: Stavba:
E7: ='Rekapitulace stavby'!K6 -> Připojení vodovodu Černé Voděrady na SV Region JIH
D8: Objekt:
E9: SO 04 - VDJ Černé Voděrady 2x40m3
D10: Soupis:
E11: SO 04.6 - Systém řízení technologického procesu
D12: Úroveň 3:
E13: 2. - Rozváděč RM1
D15: KSO: | I15: CC-CZ:
D16: Místo: | F16: K.Ú. černé Voděrady, Zvánovice, Ondřejov u Prahy | I16: Datum: | J16: ='Rekapitulace stavby'!AN8 -> 31. 7. 2025
D18: Zadavatel: | I18: IČ: | J18: 00235318
E19: Obec Černé Voděrady, nám. Lípy Svobody 47, 281 63 | I19: DIČ:
D21: Účastník: | I21: IČ: | J21: ='Rekapitulace stavby'!AN13 -> Vyplň údaj
E22: ='Rekapitulace stavby'!E14 -> Vyplň údaj | I22: DIČ: | J22: ='Rekapitulace stavby'!AN14 -> Vyplň údaj
D24: Projektant: | I24: IČ: | J24: 47116901
E25: Vodohospodářský rozvoj a výstavba s.s. Praha 5 | I25: DIČ:
D27: Zpracovatel: | I27: IČ:
I28: DIČ:
D30: Poznámka:
D34: Cena bez DPH | J34: =ROUND(J92, 2) -> 0
F36: Základ daně | I36: Sazba daně | J36: Výše daně
D37: DPH | E37: základní | F37: =ROUND((SUM(BE92:BE153)), 2) -> 0 | I37: 0.21 | J37: =ROUND(((SUM(BE92:BE153))*I37), 2) -> 0
E38: snížená | F38: =ROUND((SUM(BF92:BF153)), 2) -> 0 | I38: 0.12 | J38: =ROUND(((SUM(BF92:BF153))*I38), 2) -> 0
E39: zákl. přenesená | F39: =ROUND((SUM(BG92:BG153)), 2) -> 0 | I39: 0.21 | J39: =0 -> 0
E40: sníž. přenesená | F40: =ROUND((SUM(BH92:BH153)), 2) -> 0 | I40: 0.12 | J40: =0 -> 0
E41: nulová | F41: =ROUND((SUM(BI92:BI153)), 2) -> 0 | I41: 0 | J41: =0 -> 0
D43: Cena s DPH | G43: v | H43: CZK | J43: =SUM(J34:J41) -> 0
C49: REKAPITULACE ČLENĚNÍ SOUPISU PRACÍ
C51: Stavba:
E52: =E7 -> Připojení vodovodu Černé Voděrady na SV Region JIH
C53: Objekt:
E54: SO 04 - VDJ Černé Voděrady 2x40m3
C55: Soupis:
E56: SO 04.6 - Systém řízení technologického procesu
C57: Úroveň 3:
E58: =E13 -> 2. - Rozváděč RM1
C60: Místo: | F60: =F16 -> K.Ú. černé Voděrady, Zvánovice, Ondřejov u Prahy | I60: Datum: | J60: =IF(J16="","",J16) -> 31. 7. 2025
C62: Zadavatel: | F62: =E19 -> Obec Černé Voděrady, nám. Lípy Svobody 47, 281 63 | I62: Projektant: | J62: =E25 -> Vodohospodářský rozvoj a výstavba s.s. Praha 5
C63: Účastník: | F63: =IF(E22="","",E22) -> Vyplň údaj | I63: Zpracovatel: | J63: =E28
C65: Kód dílu - Popis | J65: Cena celkem [CZK]
C67: Náklady stavby celkem | J67: =J92 -> 0 | AU67: -1
D68: M - Práce a dodávky M | J68: =J93 -> 0
C75: SOUPIS PRACÍ
C77: Stavba:
E78: =E7 -> Připojení vodovodu Černé Voděrady na SV Region JIH
C79: Objekt:
E80: SO 04 - VDJ Černé Voděrady 2x40m3
C81: Soupis:
E82: SO 04.6 - Systém řízení technologického procesu
C83: Úroveň 3:
E84: =E13 -> 2. - Rozváděč RM1
C86: Místo: | F86: =F16 -> K.Ú. černé Voděrady, Zvánovice, Ondřejov u Prahy | I86: Datum: | J86: =IF(J16="","",J16) -> 31. 7. 2025
C88: Zadavatel: | F88: =E19 -> Obec Černé Voděrady, nám. Lípy Svobody 47, 281 63 | I88: Projektant: | J88: =E25 -> Vodohospodářský rozvoj a výstavba s.s. Praha 5
C89: Účastník: | F89: =IF(E22="","",E22) -> Vyplň údaj | I89: Zpracovatel: | J89: =E28
C91: PČ | D91: Typ | E91: Kód | F91: Popis | G91: MJ | H91: Množství | I91: J.cena [CZK] | J91: Cena celkem [CZK] | K91: Cenová soustava | N91: DPH | O91: J. Nh [h] | P91: Nh celkem [h] | Q91: J. hmotnost [t] | R91: Hmotnost celkem [t] | S91: J. suť [t] | T91: Suť Celkem [t]
C92: Náklady soupisu celkem | J92: =BK92 -> 0 | P92: =P93 -> 0 | R92: =R93 -> 0 | T92: =T93 -> 0 | AT92: D | AU92: -1 | BK92: =BK93 -> 0
D93: D | E93: M | F93: Práce a dodávky M | J93: =BK93 -> 0 | P93: =SUM(P94:P153) -> 0 | R93: =SUM(R94:R153) -> 0 | T93: =SUM(T94:T153) -> 0 | AR93: 3 | AT93: D | AU93: 0 | AY93: ROZPOCET | BK93: =SUM(BK94:BK153) -> 0
C94: 1 | D94: K | E94: Pol47 | F94: Rozváděč nástěnný, VxŠxH 1000x800x300, IP54 | G94: kus | H94: 1 | J94: =ROUND(I94*H94,2) -> 0 | N94: základní | P94: =O94*H94 -> 0 | Q94: 0 | R94: =Q94*H94 -> 0 | S94: 0 | T94: =S94*H94 -> 0 | AR94: 64 | AT94: K | AU94: 1 | AY94: ROZPOCET | BE94: =IF(N94="základní",J94,0) -> 0 | BF94: =IF(N94="snížená",J94,0) -> 0 | BG94: =IF(N94="zákl. přenesená",J94,0) -> 0 | BH94: =IF(N94="sníž. přenesená",J94,0) -> 0 | BI94: =IF(N94="nulová",J94,0) -> 0 | BJ94: 1 | BK94: =ROUND(I94*H94,2) -> 0 | BL94: 64 | BM94: 1674585693
D95: P | F95: Poznámka k položce:_x000D_ Včetně montážního plechu | AT95: P | AU95: 1
C96: 2 | D96: K | E96: Pol48 | F96: Vypínač 32A/3p | G96: kus | H96: 1 | J96: =ROUND(I96*H96,2) -> 0 | N96: základní | P96: =O96*H96 -> 0 | Q96: 0 | R96: =Q96*H96 -> 0 | S96: 0 | T96: =S96*H96 -> 0 | AR96: 64 | AT96: K | AU96: 1 | AY96: ROZPOCET | BE96: =IF(N96="základní",J96,0) -> 0 | BF96: =IF(N96="snížená",J96,0) -> 0 | BG96: =IF(N96="zákl. přenesená",J96,0) -> 0 | BH96: =IF(N96="sníž. přenesená",J96,0) -> 0 | BI96: =IF(N96="nulová",J96,0) -> 0 | BJ96: 1 | BK96: =ROUND(I96*H96,2) -> 0 | BL96: 64 | BM96: 1784000095
D97: P | F97: Poznámka k položce:_x000D_ Včetně ovladače a izolačních krytů | AT97: P | AU97: 1
C98: 3 | D98: K | E98: Pol49 | F98: Signálka žlutá 230V AC | G98: kus | H98: 3 | J98: =ROUND(I98*H98,2) -> 0 | N98: základní | P98: =O98*H98 -> 0 | Q98: 0 | R98: =Q98*H98 -> 0 | S98: 0 | T98: =S98*H98 -> 0 | AR98: 64 | AT98: K | AU98: 1 | AY98: ROZPOCET | BE98: =IF(N98="základní",J98,0) -> 0 | BF98: =IF(N98="snížená",J98,0) -> 0 | BG98: =IF(N98="zákl. přenesená",J98,0) -> 0 | BH98: =IF(N98="sníž. přenesená",J98,0) -> 0 | BI98: =IF(N98="nulová",J98,0) -> 0 | BJ98: 1 | BK98: =ROUND(I98*H98,2) -> 0 | BL98: 64 | BM98: -2029267597
