Workbook

Sheet Rekapitulace stavby
A1: Export Komplet | AZ1: VZ | BA1: 2.0 | BB1: ZAMOK | BT1: False | BU1: False | BV1: {3b664484-ed53-4eb1-a27a-a8e55c55a450}
BS2: 0,01 | BT2: 21
BS3: 0,01 | BT3: 12
D4: REKAPITULACE STAVBY | AS4: v --- níže se nacházejí doplnkové a pomocné údaje k sestavám --- v | BE4: Návod na vyplnění | BS4: 0,001
D5: Kód: | K5: 4333/002M | BE5: Měnit lze pouze buňky se žlutým podbarvením!_x000D_ _x000D_ 1) v Rekapitulaci stavby vyplňte údaje o Účastníkovi (přenesou se do ostatních sestav i v jiných listech)_x000D_ _x000D_ 2) na vybraných listech vyplňte v sestavě Soupis prací ceny u položek | BS5: 0,01
D6: Stavba: | K6: Připojení vodovodu Černé Voděrady na SV Region JIH | BS6: 0,01
D7: KSO: | AK7: CC-CZ: | BS7: 0,01
D8: Místo: | K8: K.Ú. černé Voděrady, Zvánovice, Ondřejov u Prahy | AK8: Datum: | AN8: 31. 7. 2025 | BS8: 0,01
BS9: 0,01
D10: Zadavatel: | AK10: IČ: | AN10: 00235318 | BS10: 0,01
E11: Obec Černé Voděrady, nám. Lípy Svobody 47, 281 63 | AK11: DIČ: | BS11: 0,01
BS12: 0,01
D13: Účastník: | AK13: IČ: | AN13: Vyplň údaj | BS13: 0,01
E14: Vyplň údaj | AK14: DIČ: | AN14: Vyplň údaj | BS14: 0,01
BS15: False
D16: Projektant: | AK16: IČ: | AN16: 47116901 | BS16: False
E17: Vodohospodářský rozvoj a výstavba s.s. Praha 5 | AK17: DIČ: | BS17: True
BS18: 0,01
D19: Zpracovatel: | AK19: IČ: | BS19: 0,01
E20: M. Morská | AK20: DIČ: | BS20: False
D22: Poznámka:
E23: Soupis prací je sestaven s využitím Cenové soustavy ÚRS. Položky, které pochází z této cenové soustavy, jsou ve sloupci 'Cenová soustava' označeny popisem 'CS ÚRS' a úrovní příslušného kalendářního pololetí. Veškeré další informace vymezující popis a podmínky použití těchto položek z Cenové soustavy, které nejsou uvedeny přímo v soupisu prací, jsou neomezeně dálkově k dispozici na webu podminky.urs.cz.
D26: Cena bez DPH | AK26: =ROUND(AG54,2) -> 0
L28: Sazba daně | W28: Základ daně | AK28: Výše daně
D29: DPH | F29: základní | L29: 0.21 | W29: =ROUND(AZ54, 2) -> 0 | AK29: =ROUND(AV54, 2) -> 0
F30: snížená | L30: 0.12 | W30: =ROUND(BA54, 2) -> 0 | AK30: =ROUND(AW54, 2) -> 0
F31: zákl. přenesená | L31: 0.21 | W31: =ROUND(BB54, 2) -> 0 | AK31: 0
F32: sníž. přenesená | L32: 0.12 | W32: =ROUND(BC54, 2) -> 0 | AK32: 0
F33: nulová | L33: 0 | W33: =ROUND(BD54, 2) -> 0 | AK33: 0
D35: Cena s DPH | T35: v | X35: CZK | AK35: =SUM(AK26:AK33) -> 0
C42: REKAPITULACE OBJEKTŮ STAVBY A SOUPISŮ PRACÍ
C44: Kód: | L44: =K5 -> 4333/002M
C45: Stavba: | L45: =K6 -> Připojení vodovodu Černé Voděrady na SV Region JIH
C47: Místo: | L47: =IF(K8="","",K8) -> K.Ú. černé Voděrady, Zvánovice, Ondřejov u Prahy | AI47: Datum: | AM47: =IF(AN8= "","",AN8) -> 31. 7. 2025
C49: Zadavatel: | L49: =IF(E11= "","",E11) -> Obec Černé Voděrady, nám. Lípy Svobody 47, 281 63 | AI49: Projektant: | AM49: =IF(E17="","",E17) -> Vodohospodářský rozvoj a výstavba s.s. Praha 5 | AS49: Informatívní údaje z listů zakázek
C50: Účastník: | L50: =IF(E14= "Vyplň údaj","",E14) | AI50: Zpracovatel: | AM50: =IF(E20="","",E20) -> M. Morská
C52: Kód | I52: Popis | AG52: Cena bez DPH [CZK] | AN52: Cena s DPH [CZK] | AQ52: Typ | AS52: z toho Ostat._x000D_ náklady [CZK] | AT52: DPH [CZK] | AU52: Normohodiny [h] | AV52: DPH základní [CZK] | AW52: DPH snížená [CZK] | AX52: DPH základní přenesená_x000D_ [CZK] | AY52: DPH snížená přenesená_x000D_ [CZK] | AZ52: Základna_x000D_ DPH základní | BA52: Základna_x000D_ DPH snížená | BB52: Základna_x000D_ DPH zákl. přenesená | BC52: Základna_x000D_ DPH sníž. přenesená | BD52: Základna_x000D_ DPH nulová
C54: Náklady stavby celkem | AG54: =ROUND(AG55+AG56+AG57+AG61+SUM(AG74:AG76),2) -> 0 | AN54: =SUM(AG54,AT54) -> 0 | AS54: =ROUND(AS55+AS56+AS57+AS61+SUM(AS74:AS76),2) -> 0 | AT54: =ROUND(SUM(AV54:AW54),2) -> 0 | AU54: =ROUND(AU55+AU56+AU57+AU61+SUM(AU74:AU76),5) -> 0 | AV54: =ROUND(AZ54*L29,2) -> 0 | AW54: =ROUND(BA54*L30,2) -> 0 | AX54: =ROUND(BB54*L29,2) -> 0 | AY54: =ROUND(BC54*L30,2) -> 0 | AZ54: =ROUND(AZ55+AZ56+AZ57+AZ61+SUM(AZ74:AZ76),2) -> 0 | BA54: =ROUND(BA55+BA56+BA57+BA61+SUM(BA74:BA76),2) -> 0 | BB54: =ROUND(BB55+BB56+BB57+BB61+SUM(BB74:BB76),2) -> 0 | BC54: =ROUND(BC55+BC56+BC57+BC61+SUM(BC74:BC76),2) -> 0 | BD54: =ROUND(BD55+BD56+BD57+BD61+SUM(BD74:BD76),2) -> 0 | BS54: D | BT54: 0 | BU54: ###NOIMPORT### | BV54: IMPORT | BW54: {3b664484-ed53-4eb1-a27a-a8e55c55a450} | BX54: {00000000-0000-0000-0000-000000000000}
A55: / | D55: SO 01 | J55: Přiváděcí řad | AG55: ='SO 01 - Přiváděcí řad'!J30 -> 0 | AN55: =SUM(AG55,AT55) -> 0 | AQ55: ING | AS55: 0 | AT55: =ROUND(SUM(AV55:AW55),2) -> 0 | AU55: ='SO 01 - Přiváděcí řad'!P91 -> 0 | AV55: ='SO 01 - Přiváděcí řad'!J33 -> 0 | AW55: ='SO 01 - Přiváděcí řad'!J34 -> 0 | AX55: ='SO 01 - Přiváděcí řad'!J35 -> 0 | AY55: ='SO 01 - Přiváděcí řad'!J36 -> 0 | AZ55: ='SO 01 - Přiváděcí řad'!F33 -> 0 | BA55: ='SO 01 - Přiváděcí řad'!F34 -> 0 | BB55: ='SO 01 - Přiváděcí řad'!F35 -> 0 | BC55: ='SO 01 - Přiváděcí řad'!F36 -> 0 | BD55: ='SO 01 - Přiváděcí řad'!F37 -> 0 | BT55: 1 | BV55: IMPORT | BW55: {38df8828-39e7-49c2-b1e9-7c793a76f1fa} | BX55: {3b664484-ed53-4eb1-a27a-a8e55c55a450} | CL55: 827 11 11 | CM55: 2
A56: / | D56: SO 02 | J56: Rozváděcí řad 1 | AG56: ='SO 02 - Rozváděcí řad 1'!J30 -> 0 | AN56: =SUM(AG56,AT56) -> 0 | AQ56: ING | AS56: 0 | AT56: =ROUND(SUM(AV56:AW56),2) -> 0 | AU56: ='SO 02 - Rozváděcí řad 1'!P86 -> 0 | AV56: ='SO 02 - Rozváděcí řad 1'!J33 -> 0 | AW56: ='SO 02 - Rozváděcí řad 1'!J34 -> 0 | AX56: ='SO 02 - Rozváděcí řad 1'!J35 -> 0 | AY56: ='SO 02 - Rozváděcí řad 1'!J36 -> 0 | AZ56: ='SO 02 - Rozváděcí řad 1'!F33 -> 0 | BA56: ='SO 02 - Rozváděcí řad 1'!F34 -> 0 | BB56: ='SO 02 - Rozváděcí řad 1'!F35 -> 0 | BC56: ='SO 02 - Rozváděcí řad 1'!F36 -> 0 | BD56: ='SO 02 - Rozváděcí řad 1'!F37 -> 0 | BT56: 1 | BV56: IMPORT | BW56: {73cbfc85-daa1-4228-8572-5cacf42582b7} | BX56: {3b664484-ed53-4eb1-a27a-a8e55c55a450} | CL56: 827 13 11 | CM56: 2
...

Sheet SO 01 - Přiváděcí řad
AT2: {38df8828-39e7-49c2-b1e9-7c793a76f1fa}
AT3: 2
D4: KRYCÍ LIST SOUPISU PRACÍ | M4: v --- níže se nacházejí doplnkové a pomocné údaje k sestavám --- v | AT4: False
D6: Stavba:
E7: ='Rekapitulace stavby'!K6 -> Připojení vodovodu Černé Voděrady na SV Region JIH
D8: Objekt:
E9: SO 01 - Přiváděcí řad
D11: KSO: | F11: 827 11 11 | I11: CC-CZ: | J11: 22221
D12: Místo: | F12: K.Ú. černé Voděrady, Zvánovice, Ondřejov u Prahy | I12: Datum: | J12: ='Rekapitulace stavby'!AN8 -> 31. 7. 2025
D13: CZ-CPV: | F13: 45332200-5 | I13: CZ-CPA: | J13: 42.21.13
D14: Zadavatel: | I14: IČ: | J14: 00235318
E15: Obec Černé Voděrady, nám. Lípy Svobody 47, 281 63 | I15: DIČ:
D17: Účastník: | I17: IČ: | J17: ='Rekapitulace stavby'!AN13 -> Vyplň údaj
E18: ='Rekapitulace stavby'!E14 -> Vyplň údaj | I18: DIČ: | J18: ='Rekapitulace stavby'!AN14 -> Vyplň údaj
D20: Projektant: | I20: IČ: | J20: 47116901
E21: Vodohospodářský rozvoj a výstavba s.s. Praha 5 | I21: DIČ:
D23: Zpracovatel: | I23: IČ:
I24: DIČ:
D26: Poznámka:
D30: Cena bez DPH | J30: =ROUND(J91, 2) -> 0
F32: Základ daně | I32: Sazba daně | J32: Výše daně
D33: DPH | E33: základní | F33: =ROUND((SUM(BE91:BE947)), 2) -> 0 | I33: 0.21 | J33: =ROUND(((SUM(BE91:BE947))*I33), 2) -> 0
E34: snížená | F34: =ROUND((SUM(BF91:BF947)), 2) -> 0 | I34: 0.12 | J34: =ROUND(((SUM(BF91:BF947))*I34), 2) -> 0
E35: zákl. přenesená | F35: =ROUND((SUM(BG91:BG947)), 2) -> 0 | I35: 0.21 | J35: =0 -> 0
E36: sníž. přenesená | F36: =ROUND((SUM(BH91:BH947)), 2) -> 0 | I36: 0.12 | J36: =0 -> 0
E37: nulová | F37: =ROUND((SUM(BI91:BI947)), 2) -> 0 | I37: 0 | J37: =0 -> 0
D39: Cena s DPH | G39: v | H39: CZK | J39: =SUM(J30:J37) -> 0
C45: REKAPITULACE ČLENĚNÍ SOUPISU PRACÍ
C47: Stavba:
E48: =E7 -> Připojení vodovodu Černé Voděrady na SV Region JIH
C49: Objekt:
E50: =E9 -> SO 01 - Přiváděcí řad
C52: Místo: | F52: =F12 -> K.Ú. černé Voděrady, Zvánovice, Ondřejov u Prahy | I52: Datum: | J52: =IF(J12="","",J12) -> 31. 7. 2025
C54: Zadavatel: | F54: =E15 -> Obec Černé Voděrady, nám. Lípy Svobody 47, 281 63 | I54: Projektant: | J54: =E21 -> Vodohospodářský rozvoj a výstavba s.s. Praha 5
C55: Účastník: | F55: =IF(E18="","",E18) -> Vyplň údaj | I55: Zpracovatel: | J55: =E24
C57: Kód dílu - Popis | J57: Cena celkem [CZK]
C59: Náklady stavby celkem | J59: =J91 -> 0 | AU59: -1
D60: HSV - Práce a dodávky HSV | J60: =J92 -> 0
D61: 1 - Zemní práce | J61: =J93 -> 0
D62: 2 - Zakládání | J62: =J542 -> 0
...

Sheet SO 02 - Rozváděcí řad 1
AT2: {73cbfc85-daa1-4228-8572-5cacf42582b7}
AT3: 2
D4: KRYCÍ LIST SOUPISU PRACÍ | M4: v --- níže se nacházejí doplnkové a pomocné údaje k sestavám --- v | AT4: False
D6: Stavba:
E7: ='Rekapitulace stavby'!K6 -> Připojení vodovodu Černé Voděrady na SV Region JIH
D8: Objekt:
E9: SO 02 - Rozváděcí řad 1
D11: KSO: | F11: 827 13 11 | I11: CC-CZ: | J11: 22221
D12: Místo: | F12: K.Ú. černé Voděrady, Zvánovice, Ondřejov u Prahy | I12: Datum: | J12: ='Rekapitulace stavby'!AN8 -> 31. 7. 2025
D13: CZ-CPV: | F13: 45332200-5 | I13: CZ-CPA: | J13: 42.21.23
D14: Zadavatel: | I14: IČ: | J14: 00235318
E15: Obec Černé Voděrady, nám. Lípy Svobody 47, 281 63 | I15: DIČ:
D17: Účastník: | I17: IČ: | J17: ='Rekapitulace stavby'!AN13 -> Vyplň údaj
E18: ='Rekapitulace stavby'!E14 -> Vyplň údaj | I18: DIČ: | J18: ='Rekapitulace stavby'!AN14 -> Vyplň údaj
D20: Projektant: | I20: IČ: | J20: 47116901
E21: Vodohospodářský rozvoj a výstavba s.s. Praha 5 | I21: DIČ:
D23: Zpracovatel: | I23: IČ:
I24: DIČ:
D26: Poznámka:
D30: Cena bez DPH | J30: =ROUND(J86, 2) -> 0
F32: Základ daně | I32: Sazba daně | J32: Výše daně
D33: DPH | E33: základní | F33: =ROUND((SUM(BE86:BE426)), 2) -> 0 | I33: 0.21 | J33: =ROUND(((SUM(BE86:BE426))*I33), 2) -> 0
E34: snížená | F34: =ROUND((SUM(BF86:BF426)), 2) -> 0 | I34: 0.12 | J34: =ROUND(((SUM(BF86:BF426))*I34), 2) -> 0
E35: zákl. přenesená | F35: =ROUND((SUM(BG86:BG426)), 2) -> 0 | I35: 0.21 | J35: =0 -> 0
E36: sníž. přenesená | F36: =ROUND((SUM(BH86:BH426)), 2) -> 0 | I36: 0.12 | J36: =0 -> 0
E37: nulová | F37: =ROUND((SUM(BI86:BI426)), 2) -> 0 | I37: 0 | J37: =0 -> 0
D39: Cena s DPH | G39: v | H39: CZK | J39: =SUM(J30:J37) -> 0
C45: REKAPITULACE ČLENĚNÍ SOUPISU PRACÍ
C47: Stavba:
E48: =E7 -> Připojení vodovodu Černé Voděrady na SV Region JIH
C49: Objekt:
E50: =E9 -> SO 02 - Rozváděcí řad 1
C52: Místo: | F52: =F12 -> K.Ú. černé Voděrady, Zvánovice, Ondřejov u Prahy | I52: Datum: | J52: =IF(J12="","",J12) -> 31. 7. 2025
C54: Zadavatel: | F54: =E15 -> Obec Černé Voděrady, nám. Lípy Svobody 47, 281 63 | I54: Projektant: | J54: =E21 -> Vodohospodářský rozvoj a výstavba s.s. Praha 5
C55: Účastník: | F55: =IF(E18="","",E18) -> Vyplň údaj | I55: Zpracovatel: | J55: =E24
C57: Kód dílu - Popis | J57: Cena celkem [CZK]
C59: Náklady stavby celkem | J59: =J86 -> 0 | AU59: -1
D60: HSV - Práce a dodávky HSV | J60: =J87 -> 0
D61: 1 - Zemní práce | J61: =J88 -> 0
D62: 4 - Vodorovné konstrukce | J62: =J279 -> 0
...

Sheet 1. - AŠ Zvánovice - stave...
AT2: {96be42ba-70fa-4d61-bd16-cf3bd184a13b}
AT3: 2
D4: KRYCÍ LIST SOUPISU PRACÍ | M4: v --- níže se nacházejí doplnkové a pomocné údaje k sestavám --- v | AT4: False
D6: Stavba:
E7: ='Rekapitulace stavby'!K6 -> Připojení vodovodu Černé Voděrady na SV Region JIH
D8: Objekt:
E9: SO 03 - AŠ Zvánovice
D10: Soupis:
E11: 1. - AŠ Zvánovice - stavební část + vystrojení
D13: KSO: | F13: 825 53 1 | I13: CC-CZ: | J13: 22223
D14: Místo: | F14: K.Ú. černé Voděrady, Zvánovice, Ondřejov u Prahy | I14: Datum: | J14: ='Rekapitulace stavby'!AN8 -> 31. 7. 2025
D15: CZ-CPV: | F15: 45332200-5 | I15: CZ-CPA: | J15: 42.21.23
D16: Zadavatel: | I16: IČ: | J16: 00235318
E17: Obec Černé Voděrady, nám. Lípy Svobody 47, 281 63 | I17: DIČ:
D19: Účastník: | I19: IČ: | J19: ='Rekapitulace stavby'!AN13 -> Vyplň údaj
E20: ='Rekapitulace stavby'!E14 -> Vyplň údaj | I20: DIČ: | J20: ='Rekapitulace stavby'!AN14 -> Vyplň údaj
D22: Projektant: | I22: IČ: | J22: 47116901
E23: Vodohospodářský rozvoj a výstavba s.s. Praha 5 | I23: DIČ:
D25: Zpracovatel: | I25: IČ:
I26: DIČ:
D28: Poznámka:
D32: Cena bez DPH | J32: =ROUND(J98, 2) -> 0
F34: Základ daně | I34: Sazba daně | J34: Výše daně
D35: DPH | E35: základní | F35: =ROUND((SUM(BE98:BE423)), 2) -> 0 | I35: 0.21 | J35: =ROUND(((SUM(BE98:BE423))*I35), 2) -> 0
E36: snížená | F36: =ROUND((SUM(BF98:BF423)), 2) -> 0 | I36: 0.12 | J36: =ROUND(((SUM(BF98:BF423))*I36), 2) -> 0
E37: zákl. přenesená | F37: =ROUND((SUM(BG98:BG423)), 2) -> 0 | I37: 0.21 | J37: =0 -> 0
E38: sníž. přenesená | F38: =ROUND((SUM(BH98:BH423)), 2) -> 0 | I38: 0.12 | J38: =0 -> 0
E39: nulová | F39: =ROUND((SUM(BI98:BI423)), 2) -> 0 | I39: 0 | J39: =0 -> 0
D41: Cena s DPH | G41: v | H41: CZK | J41: =SUM(J32:J39) -> 0
C47: REKAPITULACE ČLENĚNÍ SOUPISU PRACÍ
C49: Stavba:
E50: =E7 -> Připojení vodovodu Černé Voděrady na SV Region JIH
C51: Objekt:
E52: SO 03 - AŠ Zvánovice
C53: Soupis:
E54: =E11 -> 1. - AŠ Zvánovice - stavební část + vystrojení
C56: Místo: | F56: =F14 -> K.Ú. černé Voděrady, Zvánovice, Ondřejov u Prahy | I56: Datum: | J56: =IF(J14="","",J14) -> 31. 7. 2025
C58: Zadavatel: | F58: =E17 -> Obec Černé Voděrady, nám. Lípy Svobody 47, 281 63 | I58: Projektant: | J58: =E23 -> Vodohospodářský rozvoj a výstavba s.s. Praha 5
C59: Účastník: | F59: =IF(E20="","",E20) -> Vyplň údaj | I59: Zpracovatel: | J59: =E26
C61: Kód dílu - Popis | J61: Cena celkem [CZK]
...

Sheet 2. - Elektroinstalace
AT2: {e9948865-7e2b-4b99-9177-51cca3407d5e}
AT3: 2
D4: KRYCÍ LIST SOUPISU PRACÍ | M4: v --- níže se nacházejí doplnkové a pomocné údaje k sestavám --- v | AT4: False
D6: Stavba:
E7: ='Rekapitulace stavby'!K6 -> Připojení vodovodu Černé Voděrady na SV Region JIH
D8: Objekt:
E9: SO 03 - AŠ Zvánovice
D10: Soupis:
E11: 2. - Elektroinstalace
D13: KSO: | I13: CC-CZ:
D14: Místo: | F14: K.Ú. černé Voděrady, Zvánovice, Ondřejov u Prahy | I14: Datum: | J14: ='Rekapitulace stavby'!AN8 -> 31. 7. 2025
D16: Zadavatel: | I16: IČ: | J16: 00235318
E17: Obec Černé Voděrady, nám. Lípy Svobody 47, 281 63 | I17: DIČ:
D19: Účastník: | I19: IČ: | J19: ='Rekapitulace stavby'!AN13 -> Vyplň údaj
E20: ='Rekapitulace stavby'!E14 -> Vyplň údaj | I20: DIČ: | J20: ='Rekapitulace stavby'!AN14 -> Vyplň údaj
D22: Projektant: | I22: IČ: | J22: 47116901
E23: Vodohospodářský rozvoj a výstavba s.s. Praha 5 | I23: DIČ:
D25: Zpracovatel: | I25: IČ:
I26: DIČ:
D28: Poznámka:
D32: Cena bez DPH | J32: =ROUND(J86, 2) -> 0
F34: Základ daně | I34: Sazba daně | J34: Výše daně
D35: DPH | E35: základní | F35: =ROUND((SUM(BE86:BE153)), 2) -> 0 | I35: 0.21 | J35: =ROUND(((SUM(BE86:BE153))*I35), 2) -> 0
E36: snížená | F36: =ROUND((SUM(BF86:BF153)), 2) -> 0 | I36: 0.12 | J36: =ROUND(((SUM(BF86:BF153))*I36), 2) -> 0
E37: zákl. přenesená | F37: =ROUND((SUM(BG86:BG153)), 2) -> 0 | I37: 0.21 | J37: =0 -> 0
E38: sníž. přenesená | F38: =ROUND((SUM(BH86:BH153)), 2) -> 0 | I38: 0.12 | J38: =0 -> 0
E39: nulová | F39: =ROUND((SUM(BI86:BI153)), 2) -> 0 | I39: 0 | J39: =0 -> 0
D41: Cena s DPH | G41: v | H41: CZK | J41: =SUM(J32:J39) -> 0
C47: REKAPITULACE ČLENĚNÍ SOUPISU PRACÍ
C49: Stavba:
E50: =E7 -> Připojení vodovodu Černé Voděrady na SV Region JIH
C51: Objekt:
E52: SO 03 - AŠ Zvánovice
C53: Soupis:
E54: =E11 -> 2. - Elektroinstalace
C56: Místo: | F56: =F14 -> K.Ú. černé Voděrady, Zvánovice, Ondřejov u Prahy | I56: Datum: | J56: =IF(J14="","",J14) -> 31. 7. 2025
C58: Zadavatel: | F58: =E17 -> Obec Černé Voděrady, nám. Lípy Svobody 47, 281 63 | I58: Projektant: | J58: =E23 -> Vodohospodářský rozvoj a výstavba s.s. Praha 5
C59: Účastník: | F59: =IF(E20="","",E20) -> Vyplň údaj | I59: Zpracovatel: | J59: =E26
C61: Kód dílu - Popis | J61: Cena celkem [CZK]
C63: Náklady stavby celkem | J63: =J86 -> 0 | AU63: -1
...

Sheet 3. - Rozváděč DT1
AT2: {58b1902f-507b-469b-beb8-8d444ace78c6}
AT3: 2
D4: KRYCÍ LIST SOUPISU PRACÍ | M4: v --- níže se nacházejí doplnkové a pomocné údaje k sestavám --- v | AT4: False
D6: Stavba:
E7: ='Rekapitulace stavby'!K6 -> Připojení vodovodu Černé Voděrady na SV Region JIH
D8: Objekt:
E9: SO 03 - AŠ Zvánovice
D10: Soupis:
E11: 3. - Rozváděč DT1
D13: KSO: | I13: CC-CZ:
D14: Místo: | F14: K.Ú. černé Voděrady, Zvánovice, Ondřejov u Prahy | I14: Datum: | J14: ='Rekapitulace stavby'!AN8 -> 31. 7. 2025
D16: Zadavatel: | I16: IČ: | J16: 00235318
E17: Obec Černé Voděrady, nám. Lípy Svobody 47, 281 63 | I17: DIČ:
D19: Účastník: | I19: IČ: | J19: ='Rekapitulace stavby'!AN13 -> Vyplň údaj
E20: ='Rekapitulace stavby'!E14 -> Vyplň údaj | I20: DIČ: | J20: ='Rekapitulace stavby'!AN14 -> Vyplň údaj
D22: Projektant: | I22: IČ: | J22: 47116901
E23: Vodohospodářský rozvoj a výstavba s.s. Praha 5 | I23: DIČ:
D25: Zpracovatel: | I25: IČ:
I26: DIČ:
D28: Poznámka:
D32: Cena bez DPH | J32: =ROUND(J86, 2) -> 0
F34: Základ daně | I34: Sazba daně | J34: Výše daně
D35: DPH | E35: základní | F35: =ROUND((SUM(BE86:BE109)), 2) -> 0 | I35: 0.21 | J35: =ROUND(((SUM(BE86:BE109))*I35), 2) -> 0
E36: snížená | F36: =ROUND((SUM(BF86:BF109)), 2) -> 0 | I36: 0.12 | J36: =ROUND(((SUM(BF86:BF109))*I36), 2) -> 0
E37: zákl. přenesená | F37: =ROUND((SUM(BG86:BG109)), 2) -> 0 | I37: 0.21 | J37: =0 -> 0
E38: sníž. přenesená | F38: =ROUND((SUM(BH86:BH109)), 2) -> 0 | I38: 0.12 | J38: =0 -> 0
E39: nulová | F39: =ROUND((SUM(BI86:BI109)), 2) -> 0 | I39: 0 | J39: =0 -> 0
D41: Cena s DPH | G41: v | H41: CZK | J41: =SUM(J32:J39) -> 0
C47: REKAPITULACE ČLENĚNÍ SOUPISU PRACÍ
C49: Stavba:
E50: =E7 -> Připojení vodovodu Černé Voděrady na SV Region JIH
C51: Objekt:
E52: SO 03 - AŠ Zvánovice
C53: Soupis:
E54: =E11 -> 3. - Rozváděč DT1
C56: Místo: | F56: =F14 -> K.Ú. černé Voděrady, Zvánovice, Ondřejov u Prahy | I56: Datum: | J56: =IF(J14="","",J14) -> 31. 7. 2025
C58: Zadavatel: | F58: =E17 -> Obec Černé Voděrady, nám. Lípy Svobody 47, 281 63 | I58: Projektant: | J58: =E23 -> Vodohospodářský rozvoj a výstavba s.s. Praha 5
C59: Účastník: | F59: =IF(E20="","",E20) -> Vyplň údaj | I59: Zpracovatel: | J59: =E26
C61: Kód dílu - Popis | J61: Cena celkem [CZK]
C63: Náklady stavby celkem | J63: =J86 -> 0 | AU63: -1
...

Sheet SO 04.1 - VDJ Černé Voděr...
AT2: {221ed791-5e0a-46ba-90f6-11444a1a6347}
AT3: 2
D4: KRYCÍ LIST SOUPISU PRACÍ | M4: v --- níže se nacházejí doplnkové a pomocné údaje k sestavám --- v | AT4: False
D6: Stavba:
E7: ='Rekapitulace stavby'!K6 -> Připojení vodovodu Černé Voděrady na SV Region JIH
D8: Objekt:
E9: SO 04 - VDJ Černé Voděrady 2x40m3
D10: Soupis:
E11: SO 04.1 - VDJ Černé Voděrady - stavební část
D13: KSO: | I13: CC-CZ:
D14: Místo: | F14: K.Ú. černé Voděrady, Zvánovice, Ondřejov u Prahy | I14: Datum: | J14: ='Rekapitulace stavby'!AN8 -> 31. 7. 2025
D16: Zadavatel: | I16: IČ: | J16: 00235318
E17: Obec Černé Voděrady, nám. Lípy Svobody 47, 281 63 | I17: DIČ:
D19: Účastník: | I19: IČ: | J19: ='Rekapitulace stavby'!AN13 -> Vyplň údaj
E20: ='Rekapitulace stavby'!E14 -> Vyplň údaj | I20: DIČ: | J20: ='Rekapitulace stavby'!AN14 -> Vyplň údaj
D22: Projektant: | I22: IČ: | J22: 47116901
E23: Vodohospodářský rozvoj a výstavba s.s. Praha 5 | I23: DIČ:
D25: Zpracovatel: | I25: IČ:
E26: M. Morská | I26: DIČ:
D28: Poznámka:
D32: Cena bez DPH | J32: =ROUND(J112, 2) -> 0
F34: Základ daně | I34: Sazba daně | J34: Výše daně
D35: DPH | E35: základní | F35: =ROUND((SUM(BE112:BE1578)), 2) -> 0 | I35: 0.21 | J35: =ROUND(((SUM(BE112:BE1578))*I35), 2) -> 0
E36: snížená | F36: =ROUND((SUM(BF112:BF1578)), 2) -> 0 | I36: 0.12 | J36: =ROUND(((SUM(BF112:BF1578))*I36), 2) -> 0
E37: zákl. přenesená | F37: =ROUND((SUM(BG112:BG1578)), 2) -> 0 | I37: 0.21 | J37: =0 -> 0
E38: sníž. přenesená | F38: =ROUND((SUM(BH112:BH1578)), 2) -> 0 | I38: 0.12 | J38: =0 -> 0
E39: nulová | F39: =ROUND((SUM(BI112:BI1578)), 2) -> 0 | I39: 0 | J39: =0 -> 0
D41: Cena s DPH | G41: v | H41: CZK | J41: =SUM(J32:J39) -> 0
C47: REKAPITULACE ČLENĚNÍ SOUPISU PRACÍ
C49: Stavba:
E50: =E7 -> Připojení vodovodu Černé Voděrady na SV Region JIH
C51: Objekt:
E52: SO 04 - VDJ Černé Voděrady 2x40m3
C53: Soupis:
E54: =E11 -> SO 04.1 - VDJ Černé Voděrady - stavební část
C56: Místo: | F56: =F14 -> K.Ú. černé Voděrady, Zvánovice, Ondřejov u Prahy | I56: Datum: | J56: =IF(J14="","",J14) -> 31. 7. 2025
C58: Zadavatel: | F58: =E17 -> Obec Černé Voděrady, nám. Lípy Svobody 47, 281 63 | I58: Projektant: | J58: =E23 -> Vodohospodářský rozvoj a výstavba s.s. Praha 5
C59: Účastník: | F59: =IF(E20="","",E20) -> Vyplň údaj | I59: Zpracovatel: | J59: =E26 -> M. Morská
C61: Kód dílu - Popis | J61: Cena celkem [CZK]
C63: Náklady stavby celkem | J63: =J112 -> 0 | AU63: -1
...

Sheet SO 04.1. - Oplocení VDJ
AT2: {40d2dc28-b793-4644-9c0f-416bcc0dd7fa}
AT3: 2
D4: KRYCÍ LIST SOUPISU PRACÍ | M4: v --- níže se nacházejí doplnkové a pomocné údaje k sestavám --- v | AT4: False
D6: Stavba:
E7: ='Rekapitulace stavby'!K6 -> Připojení vodovodu Černé Voděrady na SV Region JIH
D8: Objekt:
E9: SO 04 - VDJ Černé Voděrady 2x40m3
D10: Soupis:
E11: SO 04.1 - VDJ Černé Voděrady - stavební část
D12: Úroveň 3:
E13: SO 04.1. - Oplocení VDJ
D15: KSO: | I15: CC-CZ:
D16: Místo: | F16: K.Ú. černé Voděrady, Zvánovice, Ondřejov u Prahy | I16: Datum: | J16: ='Rekapitulace stavby'!AN8 -> 31. 7. 2025
D18: Zadavatel: | I18: IČ: | J18: 00235318
E19: Obec Černé Voděrady, nám. Lípy Svobody 47, 281 63 | I19: DIČ:
D21: Účastník: | I21: IČ: | J21: ='Rekapitulace stavby'!AN13 -> Vyplň údaj
E22: ='Rekapitulace stavby'!E14 -> Vyplň údaj | I22: DIČ: | J22: ='Rekapitulace stavby'!AN14 -> Vyplň údaj
D24: Projektant: | I24: IČ: | J24: 47116901
E25: Vodohospodářský rozvoj a výstavba s.s. Praha 5 | I25: DIČ:
D27: Zpracovatel: | I27: IČ:
E28: M. Morská | I28: DIČ:
D30: Poznámka:
D34: Cena bez DPH | J34: =ROUND(J100, 2) -> 0
F36: Základ daně | I36: Sazba daně | J36: Výše daně
D37: DPH | E37: základní | F37: =ROUND((SUM(BE100:BE284)), 2) -> 0 | I37: 0.21 | J37: =ROUND(((SUM(BE100:BE284))*I37), 2) -> 0
E38: snížená | F38: =ROUND((SUM(BF100:BF284)), 2) -> 0 | I38: 0.12 | J38: =ROUND(((SUM(BF100:BF284))*I38), 2) -> 0
E39: zákl. přenesená | F39: =ROUND((SUM(BG100:BG284)), 2) -> 0 | I39: 0.21 | J39: =0 -> 0
E40: sníž. přenesená | F40: =ROUND((SUM(BH100:BH284)), 2) -> 0 | I40: 0.12 | J40: =0 -> 0
E41: nulová | F41: =ROUND((SUM(BI100:BI284)), 2) -> 0 | I41: 0 | J41: =0 -> 0
D43: Cena s DPH | G43: v | H43: CZK | J43: =SUM(J34:J41) -> 0
C49: REKAPITULACE ČLENĚNÍ SOUPISU PRACÍ
C51: Stavba:
E52: =E7 -> Připojení vodovodu Černé Voděrady na SV Region JIH
C53: Objekt:
E54: SO 04 - VDJ Černé Voděrady 2x40m3
C55: Soupis:
E56: SO 04.1 - VDJ Černé Voděrady - stavební část
C57: Úroveň 3:
E58: =E13 -> SO 04.1. - Oplocení VDJ
C60: Místo: | F60: =F16 -> K.Ú. černé Voděrady, Zvánovice, Ondřejov u Prahy | I60: Datum: | J60: =IF(J16="","",J16) -> 31. 7. 2025
...

Sheet SO 04.2 - VDJ Černé Voděr...
AT2: {8ace5c17-d099-4c31-a66c-efe4eb83b7e2}
AT3: 2
D4: KRYCÍ LIST SOUPISU PRACÍ | M4: v --- níže se nacházejí doplnkové a pomocné údaje k sestavám --- v | AT4: False
D6: Stavba:
E7: ='Rekapitulace stavby'!K6 -> Připojení vodovodu Černé Voděrady na SV Region JIH
D8: Objekt:
E9: SO 04 - VDJ Černé Voděrady 2x40m3
D10: Soupis:
E11: SO 04.2 - VDJ Černé Voděrady - strojně-technologická část
D13: KSO: | I13: CC-CZ:
D14: Místo: | F14: K.Ú. černé Voděrady, Zvánovice, Ondřejov u Prahy | I14: Datum: | J14: ='Rekapitulace stavby'!AN8 -> 31. 7. 2025
D16: Zadavatel: | I16: IČ: | J16: 00235318
E17: Obec Černé Voděrady, nám. Lípy Svobody 47, 281 63 | I17: DIČ:
D19: Účastník: | I19: IČ: | J19: ='Rekapitulace stavby'!AN13 -> Vyplň údaj
E20: ='Rekapitulace stavby'!E14 -> Vyplň údaj | I20: DIČ: | J20: ='Rekapitulace stavby'!AN14 -> Vyplň údaj
D22: Projektant: | I22: IČ: | J22: 47116901
E23: Vodohospodářský rozvoj a výstavba s.s. Praha 5 | I23: DIČ:
D25: Zpracovatel: | I25: IČ:
E26: M. Morská | I26: DIČ:
D28: Poznámka:
D32: Cena bez DPH | J32: =ROUND(J93, 2) -> 0
F34: Základ daně | I34: Sazba daně | J34: Výše daně
D35: DPH | E35: základní | F35: =ROUND((SUM(BE93:BE345)), 2) -> 0 | I35: 0.21 | J35: =ROUND(((SUM(BE93:BE345))*I35), 2) -> 0
E36: snížená | F36: =ROUND((SUM(BF93:BF345)), 2) -> 0 | I36: 0.12 | J36: =ROUND(((SUM(BF93:BF345))*I36), 2) -> 0
E37: zákl. přenesená | F37: =ROUND((SUM(BG93:BG345)), 2) -> 0 | I37: 0.21 | J37: =0 -> 0
E38: sníž. přenesená | F38: =ROUND((SUM(BH93:BH345)), 2) -> 0 | I38: 0.12 | J38: =0 -> 0
E39: nulová | F39: =ROUND((SUM(BI93:BI345)), 2) -> 0 | I39: 0 | J39: =0 -> 0
D41: Cena s DPH | G41: v | H41: CZK | J41: =SUM(J32:J39) -> 0
C47: REKAPITULACE ČLENĚNÍ SOUPISU PRACÍ
C49: Stavba:
E50: =E7 -> Připojení vodovodu Černé Voděrady na SV Region JIH
C51: Objekt:
E52: SO 04 - VDJ Černé Voděrady 2x40m3
C53: Soupis:
E54: =E11 -> SO 04.2 - VDJ Černé Voděrady - strojně-technologická část
C56: Místo: | F56: =F14 -> K.Ú. černé Voděrady, Zvánovice, Ondřejov u Prahy | I56: Datum: | J56: =IF(J14="","",J14) -> 31. 7. 2025
C58: Zadavatel: | F58: =E17 -> Obec Černé Voděrady, nám. Lípy Svobody 47, 281 63 | I58: Projektant: | J58: =E23 -> Vodohospodářský rozvoj a výstavba s.s. Praha 5
C59: Účastník: | F59: =IF(E20="","",E20) -> Vyplň údaj | I59: Zpracovatel: | J59: =E26 -> M. Morská
C61: Kód dílu - Popis | J61: Cena celkem [CZK]
C63: Náklady stavby celkem | J63: =J93 -> 0 | AU63: -1
...

Sheet SO 04.3 - Odpad z VDJ
AT2: {c99b3fa6-8290-4404-9020-47aa73890263}
AT3: 2
D4: KRYCÍ LIST SOUPISU PRACÍ | M4: v --- níže se nacházejí doplnkové a pomocné údaje k sestavám --- v | AT4: False
D6: Stavba:
E7: ='Rekapitulace stavby'!K6 -> Připojení vodovodu Černé Voděrady na SV Region JIH
D8: Objekt:
E9: SO 04 - VDJ Černé Voděrady 2x40m3
D10: Soupis:
E11: SO 04.3 - Odpad z VDJ
D13: KSO: | I13: CC-CZ:
D14: Místo: | F14: K.Ú. černé Voděrady, Zvánovice, Ondřejov u Prahy | I14: Datum: | J14: ='Rekapitulace stavby'!AN8 -> 31. 7. 2025
D16: Zadavatel: | I16: IČ: | J16: 00235318
E17: Obec Černé Voděrady, nám. Lípy Svobody 47, 281 63 | I17: DIČ:
D19: Účastník: | I19: IČ: | J19: ='Rekapitulace stavby'!AN13 -> Vyplň údaj
E20: ='Rekapitulace stavby'!E14 -> Vyplň údaj | I20: DIČ: | J20: ='Rekapitulace stavby'!AN14 -> Vyplň údaj
D22: Projektant: | I22: IČ: | J22: 47116901
E23: Vodohospodářský rozvoj a výstavba s.s. Praha 5 | I23: DIČ:
D25: Zpracovatel: | I25: IČ:
I26: DIČ:
D28: Poznámka:
D32: Cena bez DPH | J32: =ROUND(J95, 2) -> 0
F34: Základ daně | I34: Sazba daně | J34: Výše daně
D35: DPH | E35: základní | F35: =ROUND((SUM(BE95:BE527)), 2) -> 0 | I35: 0.21 | J35: =ROUND(((SUM(BE95:BE527))*I35), 2) -> 0
E36: snížená | F36: =ROUND((SUM(BF95:BF527)), 2) -> 0 | I36: 0.12 | J36: =ROUND(((SUM(BF95:BF527))*I36), 2) -> 0
E37: zákl. přenesená | F37: =ROUND((SUM(BG95:BG527)), 2) -> 0 | I37: 0.21 | J37: =0 -> 0
E38: sníž. přenesená | F38: =ROUND((SUM(BH95:BH527)), 2) -> 0 | I38: 0.12 | J38: =0 -> 0
E39: nulová | F39: =ROUND((SUM(BI95:BI527)), 2) -> 0 | I39: 0 | J39: =0 -> 0
D41: Cena s DPH | G41: v | H41: CZK | J41: =SUM(J32:J39) -> 0
C47: REKAPITULACE ČLENĚNÍ SOUPISU PRACÍ
C49: Stavba:
E50: =E7 -> Připojení vodovodu Černé Voděrady na SV Region JIH
C51: Objekt:
E52: SO 04 - VDJ Černé Voděrady 2x40m3
C53: Soupis:
E54: =E11 -> SO 04.3 - Odpad z VDJ
C56: Místo: | F56: =F14 -> K.Ú. černé Voděrady, Zvánovice, Ondřejov u Prahy | I56: Datum: | J56: =IF(J14="","",J14) -> 31. 7. 2025
C58: Zadavatel: | F58: =E17 -> Obec Černé Voděrady, nám. Lípy Svobody 47, 281 63 | I58: Projektant: | J58: =E23 -> Vodohospodářský rozvoj a výstavba s.s. Praha 5
C59: Účastník: | F59: =IF(E20="","",E20) -> Vyplň údaj | I59: Zpracovatel: | J59: =E26
C61: Kód dílu - Popis | J61: Cena celkem [CZK]
C63: Náklady stavby celkem | J63: =J95 -> 0 | AU63: -1
...

Sheet SO 04.4 - Zpevněné plochy...
AT2: {a8f81881-68b9-4554-85c8-d0f3711bc6a7}
AT3: 2
D4: KRYCÍ LIST SOUPISU PRACÍ | M4: v --- níže se nacházejí doplnkové a pomocné údaje k sestavám --- v | AT4: False
D6: Stavba:
E7: ='Rekapitulace stavby'!K6 -> Připojení vodovodu Černé Voděrady na SV Region JIH
D8: Objekt:
E9: SO 04 - VDJ Černé Voděrady 2x40m3
D10: Soupis:
E11: SO 04.4 - Zpevněné plochy a příjezdová komunikace
D13: KSO: | I13: CC-CZ:
D14: Místo: | F14: K.Ú. černé Voděrady, Zvánovice, Ondřejov u Prahy | I14: Datum: | J14: ='Rekapitulace stavby'!AN8 -> 31. 7. 2025
D16: Zadavatel: | I16: IČ: | J16: 00235318
E17: Obec Černé Voděrady, nám. Lípy Svobody 47, 281 63 | I17: DIČ:
D19: Účastník: | I19: IČ: | J19: ='Rekapitulace stavby'!AN13 -> Vyplň údaj
E20: ='Rekapitulace stavby'!E14 -> Vyplň údaj | I20: DIČ: | J20: ='Rekapitulace stavby'!AN14 -> Vyplň údaj
D22: Projektant: | I22: IČ: | J22: 47116901
E23: Vodohospodářský rozvoj a výstavba s.s. Praha 5 | I23: DIČ:
D25: Zpracovatel: | I25: IČ:
I26: DIČ:
D28: Poznámka:
D32: Cena bez DPH | J32: =ROUND(J91, 2) -> 0
F34: Základ daně | I34: Sazba daně | J34: Výše daně
D35: DPH | E35: základní | F35: =ROUND((SUM(BE91:BE248)), 2) -> 0 | I35: 0.21 | J35: =ROUND(((SUM(BE91:BE248))*I35), 2) -> 0
E36: snížená | F36: =ROUND((SUM(BF91:BF248)), 2) -> 0 | I36: 0.12 | J36: =ROUND(((SUM(BF91:BF248))*I36), 2) -> 0
E37: zákl. přenesená | F37: =ROUND((SUM(BG91:BG248)), 2) -> 0 | I37: 0.21 | J37: =0 -> 0
E38: sníž. přenesená | F38: =ROUND((SUM(BH91:BH248)), 2) -> 0 | I38: 0.12 | J38: =0 -> 0
E39: nulová | F39: =ROUND((SUM(BI91:BI248)), 2) -> 0 | I39: 0 | J39: =0 -> 0
D41: Cena s DPH | G41: v | H41: CZK | J41: =SUM(J32:J39) -> 0
C47: REKAPITULACE ČLENĚNÍ SOUPISU PRACÍ
C49: Stavba:
E50: =E7 -> Připojení vodovodu Černé Voděrady na SV Region JIH
C51: Objekt:
E52: SO 04 - VDJ Černé Voděrady 2x40m3
C53: Soupis:
E54: =E11 -> SO 04.4 - Zpevněné plochy a příjezdová komunikace
C56: Místo: | F56: =F14 -> K.Ú. černé Voděrady, Zvánovice, Ondřejov u Prahy | I56: Datum: | J56: =IF(J14="","",J14) -> 31. 7. 2025
C58: Zadavatel: | F58: =E17 -> Obec Černé Voděrady, nám. Lípy Svobody 47, 281 63 | I58: Projektant: | J58: =E23 -> Vodohospodářský rozvoj a výstavba s.s. Praha 5
C59: Účastník: | F59: =IF(E20="","",E20) -> Vyplň údaj | I59: Zpracovatel: | J59: =E26
C61: Kód dílu - Popis | J61: Cena celkem [CZK]
C63: Náklady stavby celkem | J63: =J91 -> 0 | AU63: -1
...

Sheet SO 04.5 - Přípojka NN k VDJ
AT2: {8116425a-8c25-457e-b216-b81c5e6926f6}
AT3: 2
D4: KRYCÍ LIST SOUPISU PRACÍ | M4: v --- níže se nacházejí doplnkové a pomocné údaje k sestavám --- v | AT4: False
D6: Stavba:
E7: ='Rekapitulace stavby'!K6 -> Připojení vodovodu Černé Voděrady na SV Region JIH
D8: Objekt:
E9: SO 04 - VDJ Černé Voděrady 2x40m3
D10: Soupis:
E11: SO 04.5 - Přípojka NN k VDJ
D13: KSO: | I13: CC-CZ:
D14: Místo: | F14: K.Ú. černé Voděrady, Zvánovice, Ondřejov u Prahy | I14: Datum: | J14: ='Rekapitulace stavby'!AN8 -> 31. 7. 2025
D16: Zadavatel: | I16: IČ: | J16: 00235318
E17: Obec Černé Voděrady, nám. Lípy Svobody 47, 281 63 | I17: DIČ:
D19: Účastník: | I19: IČ: | J19: ='Rekapitulace stavby'!AN13 -> Vyplň údaj
E20: ='Rekapitulace stavby'!E14 -> Vyplň údaj | I20: DIČ: | J20: ='Rekapitulace stavby'!AN14 -> Vyplň údaj
D22: Projektant: | I22: IČ: | J22: 47116901
E23: Vodohospodářský rozvoj a výstavba s.s. Praha 5 | I23: DIČ:
D25: Zpracovatel: | I25: IČ:
I26: DIČ:
D28: Poznámka:
D32: Cena bez DPH | J32: =ROUND(J86, 2) -> 0
F34: Základ daně | I34: Sazba daně | J34: Výše daně
D35: DPH | E35: základní | F35: =ROUND((SUM(BE86:BE113)), 2) -> 0 | I35: 0.21 | J35: =ROUND(((SUM(BE86:BE113))*I35), 2) -> 0
E36: snížená | F36: =ROUND((SUM(BF86:BF113)), 2) -> 0 | I36: 0.12 | J36: =ROUND(((SUM(BF86:BF113))*I36), 2) -> 0
E37: zákl. přenesená | F37: =ROUND((SUM(BG86:BG113)), 2) -> 0 | I37: 0.21 | J37: =0 -> 0
E38: sníž. přenesená | F38: =ROUND((SUM(BH86:BH113)), 2) -> 0 | I38: 0.12 | J38: =0 -> 0
E39: nulová | F39: =ROUND((SUM(BI86:BI113)), 2) -> 0 | I39: 0 | J39: =0 -> 0
D41: Cena s DPH | G41: v | H41: CZK | J41: =SUM(J32:J39) -> 0
C47: REKAPITULACE ČLENĚNÍ SOUPISU PRACÍ
C49: Stavba:
E50: =E7 -> Připojení vodovodu Černé Voděrady na SV Region JIH
C51: Objekt:
E52: SO 04 - VDJ Černé Voděrady 2x40m3
C53: Soupis:
E54: =E11 -> SO 04.5 - Přípojka NN k VDJ
C56: Místo: | F56: =F14 -> K.Ú. černé Voděrady, Zvánovice, Ondřejov u Prahy | I56: Datum: | J56: =IF(J14="","",J14) -> 31. 7. 2025
C58: Zadavatel: | F58: =E17 -> Obec Černé Voděrady, nám. Lípy Svobody 47, 281 63 | I58: Projektant: | J58: =E23 -> Vodohospodářský rozvoj a výstavba s.s. Praha 5
C59: Účastník: | F59: =IF(E20="","",E20) -> Vyplň údaj | I59: Zpracovatel: | J59: =E26
C61: Kód dílu - Popis | J61: Cena celkem [CZK]
C63: Náklady stavby celkem | J63: =J86 -> 0 | AU63: -1
...

Sheet 1. - Technologická elektr...
AT2: {593d4620-9bbf-401a-b391-bc86e9120b5f}
AT3: 2
D4: KRYCÍ LIST SOUPISU PRACÍ | M4: v --- níže se nacházejí doplnkové a pomocné údaje k sestavám --- v | AT4: False
D6: Stavba:
E7: ='Rekapitulace stavby'!K6 -> Připojení vodovodu Černé Voděrady na SV Region JIH
D8: Objekt:
E9: SO 04 - VDJ Černé Voděrady 2x40m3
D10: Soupis:
E11: SO 04.6 - Systém řízení technologického procesu
D12: Úroveň 3:
E13: 1. - Technologická elektroinstalace, měření a regulace
D15: KSO: | I15: CC-CZ:
D16: Místo: | F16: K.Ú. černé Voděrady, Zvánovice, Ondřejov u Prahy | I16: Datum: | J16: ='Rekapitulace stavby'!AN8 -> 31. 7. 2025
D18: Zadavatel: | I18: IČ: | J18: 00235318
E19: Obec Černé Voděrady, nám. Lípy Svobody 47, 281 63 | I19: DIČ:
D21: Účastník: | I21: IČ: | J21: ='Rekapitulace stavby'!AN13 -> Vyplň údaj
E22: ='Rekapitulace stavby'!E14 -> Vyplň údaj | I22: DIČ: | J22: ='Rekapitulace stavby'!AN14 -> Vyplň údaj
D24: Projektant: | I24: IČ: | J24: 47116901
E25: Vodohospodářský rozvoj a výstavba s.s. Praha 5 | I25: DIČ:
D27: Zpracovatel: | I27: IČ:
I28: DIČ:
D30: Poznámka:
D34: Cena bez DPH | J34: =ROUND(J92, 2) -> 0
F36: Základ daně | I36: Sazba daně | J36: Výše daně
D37: DPH | E37: základní | F37: =ROUND((SUM(BE92:BE159)), 2) -> 0 | I37: 0.21 | J37: =ROUND(((SUM(BE92:BE159))*I37), 2) -> 0
E38: snížená | F38: =ROUND((SUM(BF92:BF159)), 2) -> 0 | I38: 0.12 | J38: =ROUND(((SUM(BF92:BF159))*I38), 2) -> 0
E39: zákl. přenesená | F39: =ROUND((SUM(BG92:BG159)), 2) -> 0 | I39: 0.21 | J39: =0 -> 0
E40: sníž. přenesená | F40: =ROUND((SUM(BH92:BH159)), 2) -> 0 | I40: 0.12 | J40: =0 -> 0
E41: nulová | F41: =ROUND((SUM(BI92:BI159)), 2) -> 0 | I41: 0 | J41: =0 -> 0
D43: Cena s DPH | G43: v | H43: CZK | J43: =SUM(J34:J41) -> 0
C49: REKAPITULACE ČLENĚNÍ SOUPISU PRACÍ
C51: Stavba:
E52: =E7 -> Připojení vodovodu Černé Voděrady na SV Region JIH
C53: Objekt:
E54: SO 04 - VDJ Černé Voděrady 2x40m3
C55: Soupis:
E56: SO 04.6 - Systém řízení technologického procesu
C57: Úroveň 3:
E58: =E13 -> 1. - Technologická elektroinstalace, měření a regulace
C60: Místo: | F60: =F16 -> K.Ú. černé Voděrady, Zvánovice, Ondřejov u Prahy | I60: Datum: | J60: =IF(J16="","",J16) -> 31. 7. 2025
...

Sheet 2. - Rozváděč RM1
AT2: {f3ae2e04-b07b-4061-afcb-0ab7ef81225b}
AT3: 2
D4: KRYCÍ LIST SOUPISU PRACÍ | M4: v --- níže se nacházejí doplnkové a pomocné údaje k sestavám --- v | AT4: False
D6: Stavba:
E7: ='Rekapitulace stavby'!K6 -> Připojení vodovodu Černé Voděrady na SV Region JIH
D8: Objekt:
E9: SO 04 - VDJ Černé Voděrady 2x40m3
D10: Soupis:
E11: SO 04.6 - Systém řízení technologického procesu
D12: Úroveň 3:
E13: 2. - Rozváděč RM1
D15: KSO: | I15: CC-CZ:
D16: Místo: | F16: K.Ú. černé Voděrady, Zvánovice, Ondřejov u Prahy | I16: Datum: | J16: ='Rekapitulace stavby'!AN8 -> 31. 7. 2025
D18: Zadavatel: | I18: IČ: | J18: 00235318
E19: Obec Černé Voděrady, nám. Lípy Svobody 47, 281 63 | I19: DIČ:
D21: Účastník: | I21: IČ: | J21: ='Rekapitulace stavby'!AN13 -> Vyplň údaj
E22: ='Rekapitulace stavby'!E14 -> Vyplň údaj | I22: DIČ: | J22: ='Rekapitulace stavby'!AN14 -> Vyplň údaj
D24: Projektant: | I24: IČ: | J24: 47116901
E25: Vodohospodářský rozvoj a výstavba s.s. Praha 5 | I25: DIČ:
D27: Zpracovatel: | I27: IČ:
I28: DIČ:
D30: Poznámka:
D34: Cena bez DPH | J34: =ROUND(J92, 2) -> 0
F36: Základ daně | I36: Sazba daně | J36: Výše daně
D37: DPH | E37: základní | F37: =ROUND((SUM(BE92:BE153)), 2) -> 0 | I37: 0.21 | J37: =ROUND(((SUM(BE92:BE153))*I37), 2) -> 0
E38: snížená | F38: =ROUND((SUM(BF92:BF153)), 2) -> 0 | I38: 0.12 | J38: =ROUND(((SUM(BF92:BF153))*I38), 2) -> 0
E39: zákl. přenesená | F39: =ROUND((SUM(BG92:BG153)), 2) -> 0 | I39: 0.21 | J39: =0 -> 0
E40: sníž. přenesená | F40: =ROUND((SUM(BH92:BH153)), 2) -> 0 | I40: 0.12 | J40: =0 -> 0
E41: nulová | F41: =ROUND((SUM(BI92:BI153)), 2) -> 0 | I41: 0 | J41: =0 -> 0
D43: Cena s DPH | G43: v | H43: CZK | J43: =SUM(J34:J41) -> 0
C49: REKAPITULACE ČLENĚNÍ SOUPISU PRACÍ
C51: Stavba:
E52: =E7 -> Připojení vodovodu Černé Voděrady na SV Region JIH
C53: Objekt:
E54: SO 04 - VDJ Černé Voděrady 2x40m3
C55: Soupis:
E56: SO 04.6 - Systém řízení technologického procesu
C57: Úroveň 3:
E58: =E13 -> 2. - Rozváděč RM1
C60: Místo: | F60: =F16 -> K.Ú. černé Voděrady, Zvánovice, Ondřejov u Prahy | I60: Datum: | J60: =IF(J16="","",J16) -> 31. 7. 2025
...

Sheet 3. - Stavební elektroinst...
AT2: {6c634c7f-d5ab-40e2-8945-b03a3fefd1a0}
AT3: 2
D4: KRYCÍ LIST SOUPISU PRACÍ | M4: v --- níže se nacházejí doplnkové a pomocné údaje k sestavám --- v | AT4: False
D6: Stavba:
E7: ='Rekapitulace stavby'!K6 -> Připojení vodovodu Černé Voděrady na SV Region JIH
D8: Objekt:
E9: SO 04 - VDJ Černé Voděrady 2x40m3
D10: Soupis:
E11: SO 04.6 - Systém řízení technologického procesu
D12: Úroveň 3:
E13: 3. - Stavební elektroinstalace
D15: KSO: | I15: CC-CZ:
D16: Místo: | F16: K.Ú. černé Voděrady, Zvánovice, Ondřejov u Prahy | I16: Datum: | J16: ='Rekapitulace stavby'!AN8 -> 31. 7. 2025
D18: Zadavatel: | I18: IČ: | J18: 00235318
E19: Obec Černé Voděrady, nám. Lípy Svobody 47, 281 63 | I19: DIČ:
D21: Účastník: | I21: IČ: | J21: ='Rekapitulace stavby'!AN13 -> Vyplň údaj
E22: ='Rekapitulace stavby'!E14 -> Vyplň údaj | I22: DIČ: | J22: ='Rekapitulace stavby'!AN14 -> Vyplň údaj
D24: Projektant: | I24: IČ: | J24: 47116901
E25: Vodohospodářský rozvoj a výstavba s.s. Praha 5 | I25: DIČ:
D27: Zpracovatel: | I27: IČ:
I28: DIČ:
D30: Poznámka:
D34: Cena bez DPH | J34: =ROUND(J92, 2) -> 0
F36: Základ daně | I36: Sazba daně | J36: Výše daně
D37: DPH | E37: základní | F37: =ROUND((SUM(BE92:BE125)), 2) -> 0 | I37: 0.21 | J37: =ROUND(((SUM(BE92:BE125))*I37), 2) -> 0
E38: snížená | F38: =ROUND((SUM(BF92:BF125)), 2) -> 0 | I38: 0.12 | J38: =ROUND(((SUM(BF92:BF125))*I38), 2) -> 0
E39: zákl. přenesená | F39: =ROUND((SUM(BG92:BG125)), 2) -> 0 | I39: 0.21 | J39: =0 -> 0
E40: sníž. přenesená | F40: =ROUND((SUM(BH92:BH125)), 2) -> 0 | I40: 0.12 | J40: =0 -> 0
E41: nulová | F41: =ROUND((SUM(BI92:BI125)), 2) -> 0 | I41: 0 | J41: =0 -> 0
D43: Cena s DPH | G43: v | H43: CZK | J43: =SUM(J34:J41) -> 0
C49: REKAPITULACE ČLENĚNÍ SOUPISU PRACÍ
C51: Stavba:
E52: =E7 -> Připojení vodovodu Černé Voděrady na SV Region JIH
C53: Objekt:
E54: SO 04 - VDJ Černé Voděrady 2x40m3
C55: Soupis:
E56: SO 04.6 - Systém řízení technologického procesu
C57: Úroveň 3:
E58: =E13 -> 3. - Stavební elektroinstalace
C60: Místo: | F60: =F16 -> K.Ú. černé Voděrady, Zvánovice, Ondřejov u Prahy | I60: Datum: | J60: =IF(J16="","",J16) -> 31. 7. 2025
...

Sheet 4. - Uzemnění a hromosvod
AT2: {e2443d69-0c82-410b-9ee2-58d5cc6e8804}
AT3: 2
D4: KRYCÍ LIST SOUPISU PRACÍ | M4: v --- níže se nacházejí doplnkové a pomocné údaje k sestavám --- v | AT4: False
D6: Stavba:
E7: ='Rekapitulace stavby'!K6 -> Připojení vodovodu Černé Voděrady na SV Region JIH
D8: Objekt:
E9: SO 04 - VDJ Černé Voděrady 2x40m3
D10: Soupis:
E11: SO 04.6 - Systém řízení technologického procesu
D12: Úroveň 3:
E13: 4. - Uzemnění a hromosvod
D15: KSO: | I15: CC-CZ:
D16: Místo: | F16: K.Ú. černé Voděrady, Zvánovice, Ondřejov u Prahy | I16: Datum: | J16: ='Rekapitulace stavby'!AN8 -> 31. 7. 2025
D18: Zadavatel: | I18: IČ: | J18: 00235318
E19: Obec Černé Voděrady, nám. Lípy Svobody 47, 281 63 | I19: DIČ:
D21: Účastník: | I21: IČ: | J21: ='Rekapitulace stavby'!AN13 -> Vyplň údaj
E22: ='Rekapitulace stavby'!E14 -> Vyplň údaj | I22: DIČ: | J22: ='Rekapitulace stavby'!AN14 -> Vyplň údaj
D24: Projektant: | I24: IČ: | J24: 47116901
E25: Vodohospodářský rozvoj a výstavba s.s. Praha 5 | I25: DIČ:
D27: Zpracovatel: | I27: IČ:
I28: DIČ:
D30: Poznámka:
D34: Cena bez DPH | J34: =ROUND(J92, 2) -> 0
F36: Základ daně | I36: Sazba daně | J36: Výše daně
D37: DPH | E37: základní | F37: =ROUND((SUM(BE92:BE129)), 2) -> 0 | I37: 0.21 | J37: =ROUND(((SUM(BE92:BE129))*I37), 2) -> 0
E38: snížená | F38: =ROUND((SUM(BF92:BF129)), 2) -> 0 | I38: 0.12 | J38: =ROUND(((SUM(BF92:BF129))*I38), 2) -> 0
E39: zákl. přenesená | F39: =ROUND((SUM(BG92:BG129)), 2) -> 0 | I39: 0.21 | J39: =0 -> 0
E40: sníž. přenesená | F40: =ROUND((SUM(BH92:BH129)), 2) -> 0 | I40: 0.12 | J40: =0 -> 0
E41: nulová | F41: =ROUND((SUM(BI92:BI129)), 2) -> 0 | I41: 0 | J41: =0 -> 0
D43: Cena s DPH | G43: v | H43: CZK | J43: =SUM(J34:J41) -> 0
C49: REKAPITULACE ČLENĚNÍ SOUPISU PRACÍ
C51: Stavba:
E52: =E7 -> Připojení vodovodu Černé Voděrady na SV Region JIH
C53: Objekt:
E54: SO 04 - VDJ Černé Voděrady 2x40m3
C55: Soupis:
E56: SO 04.6 - Systém řízení technologického procesu
C57: Úroveň 3:
E58: =E13 -> 4. - Uzemnění a hromosvod
C60: Místo: | F60: =F16 -> K.Ú. černé Voděrady, Zvánovice, Ondřejov u Prahy | I60: Datum: | J60: =IF(J16="","",J16) -> 31. 7. 2025
...

Sheet SO 05 - Rozváděcí řad 2
AT2: {6271922a-ae37-4c0b-ba53-9902a11dedc5}
AT3: 2
D4: KRYCÍ LIST SOUPISU PRACÍ | M4: v --- níže se nacházejí doplnkové a pomocné údaje k sestavám --- v | AT4: False
D6: Stavba:
E7: ='Rekapitulace stavby'!K6 -> Připojení vodovodu Černé Voděrady na SV Region JIH
D8: Objekt:
E9: SO 05 - Rozváděcí řad 2
D11: KSO: | F11: 827 13 11 | I11: CC-CZ: | J11: 22221
D12: Místo: | F12: K.Ú. černé Voděrady, Zvánovice, Ondřejov u Prahy | I12: Datum: | J12: ='Rekapitulace stavby'!AN8 -> 31. 7. 2025
D13: CZ-CPV: | F13: 45332200-5 | I13: CZ-CPA: | J13: 42.21.23
D14: Zadavatel: | I14: IČ: | J14: 00235318
E15: Obec Černé Voděrady, nám. Lípy Svobody 47, 281 63 | I15: DIČ:
D17: Účastník: | I17: IČ: | J17: ='Rekapitulace stavby'!AN13 -> Vyplň údaj
E18: ='Rekapitulace stavby'!E14 -> Vyplň údaj | I18: DIČ: | J18: ='Rekapitulace stavby'!AN14 -> Vyplň údaj
D20: Projektant: | I20: IČ: | J20: 47116901
E21: Vodohospodářský rozvoj a výstavba s.s. Praha 5 | I21: DIČ:
D23: Zpracovatel: | I23: IČ:
I24: DIČ:
D26: Poznámka:
D30: Cena bez DPH | J30: =ROUND(J85, 2) -> 0
F32: Základ daně | I32: Sazba daně | J32: Výše daně
D33: DPH | E33: základní | F33: =ROUND((SUM(BE85:BE374)), 2) -> 0 | I33: 0.21 | J33: =ROUND(((SUM(BE85:BE374))*I33), 2) -> 0
E34: snížená | F34: =ROUND((SUM(BF85:BF374)), 2) -> 0 | I34: 0.12 | J34: =ROUND(((SUM(BF85:BF374))*I34), 2) -> 0
E35: zákl. přenesená | F35: =ROUND((SUM(BG85:BG374)), 2) -> 0 | I35: 0.21 | J35: =0 -> 0
E36: sníž. přenesená | F36: =ROUND((SUM(BH85:BH374)), 2) -> 0 | I36: 0.12 | J36: =0 -> 0
E37: nulová | F37: =ROUND((SUM(BI85:BI374)), 2) -> 0 | I37: 0 | J37: =0 -> 0
D39: Cena s DPH | G39: v | H39: CZK | J39: =SUM(J30:J37) -> 0
C45: REKAPITULACE ČLENĚNÍ SOUPISU PRACÍ
C47: Stavba:
E48: =E7 -> Připojení vodovodu Černé Voděrady na SV Region JIH
C49: Objekt:
E50: =E9 -> SO 05 - Rozváděcí řad 2
C52: Místo: | F52: =F12 -> K.Ú. černé Voděrady, Zvánovice, Ondřejov u Prahy | I52: Datum: | J52: =IF(J12="","",J12) -> 31. 7. 2025
C54: Zadavatel: | F54: =E15 -> Obec Černé Voděrady, nám. Lípy Svobody 47, 281 63 | I54: Projektant: | J54: =E21 -> Vodohospodářský rozvoj a výstavba s.s. Praha 5
C55: Účastník: | F55: =IF(E18="","",E18) -> Vyplň údaj | I55: Zpracovatel: | J55: =E24
C57: Kód dílu - Popis | J57: Cena celkem [CZK]
C59: Náklady stavby celkem | J59: =J85 -> 0 | AU59: -1
D60: HSV - Práce a dodávky HSV | J60: =J86 -> 0
D61: 1 - Zemní práce | J61: =J87 -> 0
D62: 4 - Vodorovné konstrukce | J62: =J255 -> 0
...

Sheet SO 06 - Rozváděcí řad 3
AT2: {6f2b828e-26a0-4006-96c1-6ef02128fe84}
AT3: 2
D4: KRYCÍ LIST SOUPISU PRACÍ | M4: v --- níže se nacházejí doplnkové a pomocné údaje k sestavám --- v | AT4: False
D6: Stavba:
E7: ='Rekapitulace stavby'!K6 -> Připojení vodovodu Černé Voděrady na SV Region JIH
D8: Objekt:
E9: SO 06 - Rozváděcí řad 3
D11: KSO: | F11: 827 13 11 | I11: CC-CZ: | J11: 22221
D12: Místo: | F12: K.Ú. černé Voděrady, Zvánovice, Ondřejov u Prahy | I12: Datum: | J12: ='Rekapitulace stavby'!AN8 -> 31. 7. 2025
D13: CZ-CPV: | F13: 45332200-5 | I13: CZ-CPA: | J13: 42.21.23
D14: Zadavatel: | I14: IČ: | J14: 00235318
E15: Obec Černé Voděrady, nám. Lípy Svobody 47, 281 63 | I15: DIČ:
D17: Účastník: | I17: IČ: | J17: ='Rekapitulace stavby'!AN13 -> Vyplň údaj
E18: ='Rekapitulace stavby'!E14 -> Vyplň údaj | I18: DIČ: | J18: ='Rekapitulace stavby'!AN14 -> Vyplň údaj
D20: Projektant: | I20: IČ: | J20: 47116901
E21: Vodohospodářský rozvoj a výstavba s.s. Praha 5 | I21: DIČ:
D23: Zpracovatel: | I23: IČ:
I24: DIČ:
D26: Poznámka:
D30: Cena bez DPH | J30: =ROUND(J85, 2) -> 0
F32: Základ daně | I32: Sazba daně | J32: Výše daně
D33: DPH | E33: základní | F33: =ROUND((SUM(BE85:BE352)), 2) -> 0 | I33: 0.21 | J33: =ROUND(((SUM(BE85:BE352))*I33), 2) -> 0
E34: snížená | F34: =ROUND((SUM(BF85:BF352)), 2) -> 0 | I34: 0.12 | J34: =ROUND(((SUM(BF85:BF352))*I34), 2) -> 0
E35: zákl. přenesená | F35: =ROUND((SUM(BG85:BG352)), 2) -> 0 | I35: 0.21 | J35: =0 -> 0
E36: sníž. přenesená | F36: =ROUND((SUM(BH85:BH352)), 2) -> 0 | I36: 0.12 | J36: =0 -> 0
E37: nulová | F37: =ROUND((SUM(BI85:BI352)), 2) -> 0 | I37: 0 | J37: =0 -> 0
D39: Cena s DPH | G39: v | H39: CZK | J39: =SUM(J30:J37) -> 0
C45: REKAPITULACE ČLENĚNÍ SOUPISU PRACÍ
C47: Stavba:
E48: =E7 -> Připojení vodovodu Černé Voděrady na SV Region JIH
C49: Objekt:
E50: =E9 -> SO 06 - Rozváděcí řad 3
C52: Místo: | F52: =F12 -> K.Ú. černé Voděrady, Zvánovice, Ondřejov u Prahy | I52: Datum: | J52: =IF(J12="","",J12) -> 31. 7. 2025
C54: Zadavatel: | F54: =E15 -> Obec Černé Voděrady, nám. Lípy Svobody 47, 281 63 | I54: Projektant: | J54: =E21 -> Vodohospodářský rozvoj a výstavba s.s. Praha 5
C55: Účastník: | F55: =IF(E18="","",E18) -> Vyplň údaj | I55: Zpracovatel: | J55: =E24
C57: Kód dílu - Popis | J57: Cena celkem [CZK]
C59: Náklady stavby celkem | J59: =J85 -> 0 | AU59: -1
D60: HSV - Práce a dodávky HSV | J60: =J86 -> 0
D61: 1 - Zemní práce | J61: =J87 -> 0
D62: 4 - Vodorovné konstrukce | J62: =J240 -> 0
...

Sheet VON - Vedlejší a ostatní ...
AT2: {4c807b73-8742-429b-941d-046f42e74cd1}
AT3: 2
D4: KRYCÍ LIST SOUPISU PRACÍ | M4: v --- níže se nacházejí doplnkové a pomocné údaje k sestavám --- v | AT4: False
D6: Stavba:
E7: ='Rekapitulace stavby'!K6 -> Připojení vodovodu Černé Voděrady na SV Region JIH
D8: Objekt:
E9: VON - Vedlejší a ostatní rozpočtové náklady
D11: KSO: | I11: CC-CZ:
D12: Místo: | F12: K.Ú. černé Voděrady, Zvánovice, Ondřejov u Prahy | I12: Datum: | J12: ='Rekapitulace stavby'!AN8 -> 31. 7. 2025
D14: Zadavatel: | I14: IČ: | J14: 00235318
E15: Obec Černé Voděrady, nám. Lípy Svobody 47, 281 63 | I15: DIČ:
D17: Účastník: | I17: IČ: | J17: ='Rekapitulace stavby'!AN13 -> Vyplň údaj
E18: ='Rekapitulace stavby'!E14 -> Vyplň údaj | I18: DIČ: | J18: ='Rekapitulace stavby'!AN14 -> Vyplň údaj
D20: Projektant: | I20: IČ: | J20: 47116901
E21: Vodohospodářský rozvoj a výstavba s.s. Praha 5 | I21: DIČ:
D23: Zpracovatel: | I23: IČ:
E24: M. Morská | I24: DIČ:
D26: Poznámka:
E27: Soupis prací je sestaven s využitím Cenové soustavy ÚRS. Položky, které pochází z této cenové soustavy, jsou ve sloupci 'Cenová soustava' označeny popisem 'CS ÚRS' a úrovní příslušného kalendářního pololetí. Veškeré další informace vymezující popis a podmínky použití těchto položek z Cenové soustavy, které nejsou uvedeny přímo v soupisu prací, jsou neomezeně dálkově k dispozici na webu podminky.urs.cz. Jednotlivé položky armatur a tvarovek zahrnují těsnění, podložky, šrouby, matice, odmaštění, revizi a opravu poškozených ochranných nátěrů. Součástí dodávky zařízení je uvedení do provozu servisním technikem výrobce. Nedílnou součástí výkazu výměr jsou technické podmínky a požadavky, které jsou součástí textové a výkresové části PD. Všechny navrhované materiály a výrobky musí být v souladu se standardy budoucího provozovatele vodovodního systému a musí být odsouhlaseny provozovatelem před oceňováním rozpočtu.“
D30: Cena bez DPH | J30: =ROUND(J85, 2) -> 0
F32: Základ daně | I32: Sazba daně | J32: Výše daně
D33: DPH | E33: základní | F33: =ROUND((SUM(BE85:BE220)), 2) -> 0 | I33: 0.21 | J33: =ROUND(((SUM(BE85:BE220))*I33), 2) -> 0
E34: snížená | F34: =ROUND((SUM(BF85:BF220)), 2) -> 0 | I34: 0.12 | J34: =ROUND(((SUM(BF85:BF220))*I34), 2) -> 0
E35: zákl. přenesená | F35: =ROUND((SUM(BG85:BG220)), 2) -> 0 | I35: 0.21 | J35: =0 -> 0
E36: sníž. přenesená | F36: =ROUND((SUM(BH85:BH220)), 2) -> 0 | I36: 0.12 | J36: =0 -> 0
E37: nulová | F37: =ROUND((SUM(BI85:BI220)), 2) -> 0 | I37: 0 | J37: =0 -> 0
D39: Cena s DPH | G39: v | H39: CZK | J39: =SUM(J30:J37) -> 0
C45: REKAPITULACE ČLENĚNÍ SOUPISU PRACÍ
C47: Stavba:
E48: =E7 -> Připojení vodovodu Černé Voděrady na SV Region JIH
C49: Objekt:
E50: =E9 -> VON - Vedlejší a ostatní rozpočtové náklady
C52: Místo: | F52: =F12 -> K.Ú. černé Voděrady, Zvánovice, Ondřejov u Prahy | I52: Datum: | J52: =IF(J12="","",J12) -> 31. 7. 2025
C54: Zadavatel: | F54: =E15 -> Obec Černé Voděrady, nám. Lípy Svobody 47, 281 63 | I54: Projektant: | J54: =E21 -> Vodohospodářský rozvoj a výstavba s.s. Praha 5
C55: Účastník: | F55: =IF(E18="","",E18) -> Vyplň údaj | I55: Zpracovatel: | J55: =E24 -> M. Morská
C57: Kód dílu - Popis | J57: Cena celkem [CZK]
C59: Náklady stavby celkem | J59: =J85 -> 0 | AU59: -1
D60: VRN - Vedlejší rozpočtové náklady | J60: =J86 -> 0
D61: VRN1 - Průzkumné, geodetické a projektové práce | J61: =J87 -> 0
D62: VRN3 - Zařízení staveniště | J62: =J118 -> 0
...

Sheet Pokyny pro vyplnění
C3: Struktura údajů, formát souboru a metodika pro zpracování
C4: Struktura
C6: Soubor je složen ze záložky Rekapitulace stavby a záložek s názvem soupisu prací pro jednotlivé objekty ve formátu XLSX. Každá ze záložek přitom obsahuje
C7: ještě samostatné sestavy vymezené orámovaním a nadpisem sestavy.
C9: Rekapitulace stavby obsahuje sestavu Rekapitulace stavby a Rekapitulace objektů stavby a soupisů prací.
D10: V sestavě Rekapitulace stavby jsou uvedeny informace identifikující předmět veřejné zakázky na stavební práce, KSO, CC-CZ, CZ-CPV, CZ-CPA a rekapitulaci
D11: celkové nabídkové ceny účastníka.
D13: Termínem "učastník" (resp. zhotovitel) se myslí "účastník zadávacího řízení" ve smyslu zákona o zadávání veřejných zakázek.
D15: V sestavě Rekapitulace objektů stavby a soupisů prací je uvedena rekapitulace stavebních objektů, inženýrských objektů, provozních souborů,
D16: vedlejších a ostatních nákladů a ostatních nákladů s rekapitulací nabídkové ceny za jednotlivé soupisy prací. Na základě údaje Typ je možné
D17: identifikovat, zda se jedná o objekt nebo soupis prací pro daný objekt:
E18: STA | F18: Stavební objekt pozemní
E19: ING | F19: Stavební objekt inženýrský
E20: PRO | F20: Provozní soubor
E21: VON | F21: Vedlejší a ostatní náklady
E22: OST | F22: Ostatní
E23: Soupis | F23: Soupis prací pro daný typ objektu
C25: Soupis prací pro jednotlivé objekty obsahuje sestavy Krycí list soupisu prací, Rekapitulace členění soupisu prací, Soupis prací. Za soupis prací může být považován
C26: i objekt stavby v případě, že neobsahuje podřízenou zakázku.
D27: Krycí list soupisu obsahuje rekapitulaci informací o předmětu veřejné zakázky ze sestavy Rekapitulace stavby, informaci o zařazení objektu do KSO,
D28: CC-CZ, CZ-CPV, CZ-CPA a rekapitulaci celkové nabídkové ceny účastníka za aktuální soupis prací.
D30: Rekapitulace členění soupisu prací obsahuje rekapitulaci soupisu prací ve všech úrovních členění soupisu tak, jak byla tato členění použita (např.
D31: stavební díly, funkční díly, případně jiné členění) s rekapitulací nabídkové ceny.
D33: Soupis prací obsahuje položky veškerých stavebních nebo montážních prací, dodávek materiálů a služeb nezbytných pro zhotovení stavebního objektu,
D34: inženýrského objektu, provozního souboru, vedlejších a ostatních nákladů.
D35: Pro položky soupisu prací se zobrazují následující informace:
E36: PČ | G36: Pořadové číslo položky v aktuálním soupisu
E37: TYP | G37: Typ položky: K - konstrukce, M - materiál, PP - plný popis, PSC - poznámka k souboru cen, P - poznámka k položce, VV - výkaz výměr, FIG - rozpad figur
E38: Kód | G38: Kód položky
E39: Popis | G39: Zkrácený popis položky
E40: MJ | G40: Měrná jednotka položky
E41: Množství | G41: Množství v měrné jednotce
E42: J.cena | G42: Jednotková cena položky. Zadaní může obsahovat namísto J.ceny sloupce J.materiál a J.montáž, jejichž součet definuje
G43: J.cenu položky.
E44: Cena celkem | G44: Celková cena položky daná jako součin množství a j.ceny
E45: Cenová soustava | G45: Příslušnost položky do cenové soustavy
D47: Ke každé položce soupisu prací se na samostatných řádcích může zobrazovat:
E48: Plný popis položky
E49: Poznámka k souboru cen a poznámka zadavatele
E50: Výkaz výměr
...
