Workbook

Sheet Krycí list
A1: Krycí list soupisu stavebních prací, dodávek a služeb
A3: Název akce: | C3: Rekonstrukce střešní krytiny a adaptace výdejny na školní kuchyni | E3: Objednatel: | F3: Základní škola Tomáše Šobra a Mateřská škola Písek | H3: IČ/DIČ: | I3: 70943168
E4: Dodavatel: | H4: IČ:
A6: Druh nákladů: | C6: Stavební práce, dodávky a služby | E6: Ulice | H6: DIČ:
E7: Město / PSČ
A8: Začátek realizace: | C8: 2026 | E8: Konec realizace: | F8: 2026 | H8: Datum:
A11: Rozpočtové náklady v Kč
A12: A | B12: Rozpočtové náklady pro stavební práce, dodávky a služby
A13: 1. | B13: Rekapitulace | G13: SO 01 - Střecha | I13: =Rekapitulace!E5 -> 0
G14: SO 02 - Přízemí | I14: =Rekapitulace!E6 -> 0
G15: SO 03 - Suterén | I15: =Rekapitulace!E7 -> 0
G16: SO 04 - Vybavení | I16: =Rekapitulace!E8 -> 0
G17: VRN bez dodavatelského úvěru | I17: =Rekapitulace!E9 -> 0
G18: Dodavatelský úvěr | I18: =Rekapitulace!E10 -> 0
A19: 2. | B19: Nabídková cena | G19: Celkem bez DPH | I19: =SUM(I13:I18) -> 0
A21: Základ 0% | C21: =I18 -> 0
A22: Základ 15% | D22: DPH 15% | G22: Celkem bez DPH | I22: =I19 -> 0
A23: Základ 21% | C23: =I22-I18 -> 0 | D23: DPH 21% | F23: =C23*21% -> 0 | G23: Celkem včetně DPH | I23: =C23+F23+C21 -> 0
D25: Objednatel | G25: Dodavatel
D29: Datum a podpis | G29: Datum a podpis

Sheet Rekapitulace
A1: Rekapitulace soupisu stavebních prací, dodávek a služeb
A2: ='Krycí list'!C3 -> Rekonstrukce střešní krytiny a adaptace výdejny na školní kuchyni
A3: Položky dílčích částí soupisu stavebních prací, dodávek a služeb | E3: Kč bez DPH
A5: 1 | B5: SO-01 - střecha | E5: ='SO-01 - střecha'!F71 -> 0
A6: 2 | B6: SO-02 - Přízemí | E6: ='SO-02 - Přízemí'!F141 -> 0
A7: 3 | B7: SO-03 - Suterén | E7: ='SO-03 - Suterén'!F101 -> 0
A8: 4 | B8: SO-04 - Vybavení kuchyně | E8: ='SO 04 - Vybavení kuchyně'!F52 -> 0
A9: 5 | B9: VRN bez dodavatelského úvěru | E9: =VRN!F42-E10 -> 0
A10: 6 | B10: Dodavatelský úvěr | E10: =VRN!F30 -> 0
A11: 7 | B11: Celkem | E11: =SUM(E5:E10) -> 0

Sheet VRN
A1: SOUPIS VEDLEJŠÍCH ROZPOČTOVÝCH NÁKLADŮ – VRN
A2: Projekt: | B2: ='Krycí list'!C3 -> Rekonstrukce střešní krytiny a adaptace výdejny na školní kuchyni
A4: Investor: | B4: Základní škola Tomáše Šobra a Mateřská škola Písek, Šobrova 2070, 397 01 Písek
A5: Datum: | B5: 03/2026
A7: Číslo položky | B7: Název položky | C7: MJ | D7: Množství | E7: Cena / MJ | F7: Celkem | G7: DPH | H7: Cena s DPH
A8: 1 | B8: Vedlejší rozpočtové náklady | F8: =SUM(F9:F26) -> 0 | G8: 21 | H8: =F8*(1+G8/100) -> 0
A9: 1.1. | B9: Technický návrh - dokumentace pro provedení díla včetně projektových dokumentací | C9: kpl. | D9: 1 | F9: =D9*E9 -> 0
A10: 1.2. | B10: Průzkumy pro rekonsrukci střechy | C10: kpl. | D10: 2 | F10: =D10*E10 -> 0
A11: 1.3. | B11: Ostatní průzkumy | C11: kpl. | D11: 1 | F11: =D11*E11 -> 0
A12: 1.4. | B12: Zařízení staveniště a dočasná ochranná oaptření | C12: kpl. | D12: 1 | F12: =D12*E12 -> 0
A13: 1.5. | B13: Provoz zařízení staveniště | C13: kpl. | D13: 1 | F13: =D13*E13 -> 0
A14: 1.6. | B14: Odstranění zařízení staveniště s uvedením prostoru do původního stavu | C14: kpl. | D14: 1 | F14: =D14*E14 -> 0
A15: 1.7. | B15: Koordinační a inženýrské činnosti | C15: kpl. | D15: 1 | F15: =D15*E15 -> 0
A16: 1.8. | B16: Zkoušky a revize | C16: kpl. | D16: 1 | F16: =D16*E16 -> 0
A17: 1.9. | B17: Dílenské dokumentace | C17: kpl. | D17: 1 | F17: =D17*E17 -> 0
A18: 1.10. | B18: Dokumentace skutečného provedění stavby a provozní dokumentace | C18: kpl. | D18: 1 | F18: =D18*E18 -> 0
A19: 1.11. | B19: Provozní vlivy | C19: kpl. | D19: 1 | F19: =D19*E19 -> 0
A20: 1.12. | B20: Bezepečnostní a hygienická opatření na staveništi | C20: kpl. | D20: 1 | F20: =D20*E20 -> 0
... A26: 1.18. | B26: Zaškolení, revize, zkoušky a předání neuvedená v položkách soupisu | C26: kpl. | D26: 1 | F26: =D26*E26 -> 0
A27: 2 | B27: Ostatní náklady | F27: =SUM(F28:F41) -> 0 | G27: 21 | H27: =(F27-F30)*(1+G27/100)+F30 -> 0
A28: 2.1. | B28: Bankovní záruky/zádržné | C28: kpl. | D28: 1 | F28: =D28*E28 -> 0
A29: 2.2. | B29: Pojištění | C29: kpl. | D29: 1 | F29: =D29*E29 -> 0
A30: 2.3. | B30: Dodavatelský úvěr – modelový náklad dle R-HMG | C30: %/rok | E30: ='R-HMG'!G30 -> 0 | F30: =E30 -> 0
A31: 2.4. | B31: Následné závazky dle odst. 1.1.4. písm. b) bodu 1-11 Smlouvy o DÍLO prováděných 1x za rok v trvání dvou let | C31: kpl. | D31: 1 | E31: =SUM(E32:E38) -> 0 | F31: =D31*E31 -> 0
A32: 2.4.1. | B32: servis technologického celku varná technologie včetně servisního spotřebního materiálu (výrobcem předepsané výměny), dopravy a práce sevisního technika; součástí musí být i proškolení obsluhy | C32: kpl. | D32: 1
A33: 2.4.2. | B33: servis technologického celku mycí technologie včetně servisního spotřebního materiálu včetně servisního spotřebního materiálu ((výrobcem předepsané výměny), dopravy a práce sevisního technika; součástí musí být i proškolení obsluhy | C33: kpl. | D33: 1
A34: 2.4.3. | B34: servis technologického celku chladicí a ostatní kuchyňská technologie včetně servisního spotřebního materiálu (výrobcem předepsané výměny), dopravy a práce sevisního technika; součástí musí být i proškolení obsluhy | C34: kpl. | D34: 1
A35: 2.4.4. | B35: servis technologického celku VZT včetně servisního spotřebního materiálu (včetně výměny filtrů), dopravy a práce sevisního technika | C35: kpl. | D35: 1
A36: 2.4.5. | B36: servis technologického celku výtah včetně ostatního servisního spotřebního materiálu (výrobcem předepsané výměny) včetně provedení revize | C36: kpl. | D36: 1
A37: 2.4.6. | B37: provedení revize instalovaných elektrozařízení | C37: kpl. | D37: 1
A38: 2.4.7. | B38: provedení servisu technologického celku MaR včetně aktualizací software/firmware, nastavení, seřízení, dopravy a práce servisního technika a vyškolení obsluhy | C38: kpl. | D38: 1
A39: 2.5. | B39: Následné závazky dle odst. 1.1.4. písm. b) bodu 12-14 Smlouvy o DÍLO | C39: kpl. | D39: 1 | F39: =D39*E39 -> 0
A40: 2.5.1. | B40: provedení školení + provozní asistence dle odst. 1.1.4. písm. b) bodu 12/14 Smlouvy o DÍLO (včetně dopravy do místa školení) | C40: kpl. | D40: 1
A41: 2.5.2. | B41: provedení školení + provozní asistence dle odst. 1.1.4. písm. b) bodu 13/14 Smlouvy o DÍLO (včetně dopravy do místa školení) | C41: kpl. | D41: 1
B42: CELKEM VRN | F42: =F8+F27 -> 0 | G42: 21 | H42: =(F42-E30)*(1+G42/100)+E30 -> 0

Sheet SO-01 - střecha
A1: SOUPIS POŽADOVANÝCH STAVEBNÍCH PRACÍ DODÁVEK A SLUŽEB
A2: Projekt: | B2: =Rekapitulace!A2 -> Rekonstrukce střešní krytiny a adaptace výdejny na školní kuchyni
A4: Investor: | B4: Základní škola Tomáše Šobra a Mateřská škola Písek, Šobrova 2070, 397 01 Písek
A5: Datum: | B5: 03/2026
A7: Číslo položky | B7: Název položky | C7: MJ | D7: Množství | E7: Cena / MJ | F7: Celkem | G7: DPH | H7: Cena s DPH
A8: 1 | B8: Demontáže a bourací práce střecha A a B | F8: =SUM(F9:F21) -> 0 | G8: 21 | H8: =F8*1.21 -> 0
A9: 1.1. | B9: Demontáž a odstranění stávajících vrstev a prvků střešních ploch | C9: kpl. | D9: 1 | F9: =D9*E9 -> 0
B10: demontáž stávající krytiny a asfaltových pásů
B11: demontáž separačních vrstev
B12: demontáž lokálních klempířských prvků
B13: manipulace s vybouranými hmotami, odvoz a likvidace odpadu
A14: 1.2. | B14: Demontáž / bourání stávajících zařízení na střeše, odstranění stávajících střešních prostupů a vpustí | C14: kpl. | D14: 1 | F14: =D14*E14 -> 0
B15: vybourání stávajících zařízení VZT určených k odstranění
B16: vybourání zděného odvětrávacího komínku
B17: odbourání určených atik
B18: odstranění nefunkčních či kolizních prostupů, tj. prostupů zrušených nebo dotčených novým technickým řešením střechy
B19: demontáž stávajících střešních vpustí a souvisejících odvodňovacích prvků
B20: související zapravení dotčených konstrukcí po provedených bouracích pracích
B21: manipulace s vybouranými hmotami, odvoz a likvidace odpadu
A22: 2 | B22: Sanace a vyrovnání podkladu pro novou skladbu střechy A a B | F22: =SUM(F23:F29) -> 0 | G22: 21 | H22: =F22*1.21 -> 0
A23: 2.1. | B23: Příprava, sanace a vyrovnání podkladu pro novou skladbu | C23: kpl. | D23: 1 | F23: =D23*E23 -> 0
B24: očištění odkrytého podkladu po odstranění stávajících vrstev
B25: vizuální kontrola přístupných částí podkladních a nosných konstrukcí po odkrytí střechy v rozsahu umožněném postupem prací, včetně odborného posouzení statikem v případě zjištění zjevných poruch, deformací nebo korozních projevů
B26: místní vyspravení a vyrovnání podkladu
B27: úprava podkladu pro pokládku nové skladby a kotvení
B28: lokální sanace podkladních vrstev v předvídatelném rozsahu
B29: související drobné dokončovací práce a úpravy podkladu před pokládkou nových konstrukcí
A30: 3. | B30: Nová střešní konstrukce (střechy A a střechy B) | F30: =SUM(F31:F69) -> 0 | G30: 21 | H30: =F30*1.21 -> 0
A31: 3.1. | B31: Nová tepelněizolační a spádová vrstva střešních ploch | C31: kpl. | D31: 1 | F31: =D31*E31 -> 0
B32: dodávka a montáž tepelné izolace
B33: dodávka a montáž spádových klínů
B34: vytvoření potřebných spádů
B35: tvarové a výškové přizpůsobení tepelné izolace a spádové vrstvy v návaznosti na atiky, vpusti, prostupy a navazující konstrukce
B36: související řezání, kladení, kotvení, manipulace a doprava materiálu na místo provádění
A37: 3.2. | B37: Nová hydroizolační vrstva střešních ploch | C37: kpl. | D37: 1 | F37: =D37*E37 -> 0
B38: Kompletní nové hydroizolační souvrství musí být provedeno v celé ploše všech řešených střešních ploch nad výdejnou a jídelnou a nad chodbou navazující na jídelnu, tj. v celé ploše střešních ploch A a B podle podkladů Atelieru DEK, včetně všech souvisejících dodávek, montážních prací, manipulace a dokončovacích detailů. (bližší popis rozsahu řešení je uveden v dokumentaci Technické zadání v kapitole 3).
B39: - dodávka vrchní povlakové hydroizolační fólie / membrány
B40: - dodávka podkladních a separačních vrstev
B41: - dodávka systému kotvení
B42: - dodávka tvarovek, manžet, ukončovacích a přítlačných prvků,
B43: - montáž hydroizolačního systému včetně kotvení, spojování a opracování detailů,
B44: - manipulace, přesuny a doprava materiálu na místo provádění
B45: - napojení na vpusti, atiky, prostupy a odvětrání
B46: - provedení všech souvisejících detailů a kompletace systému
A47: 3.3. | B47: Atiky, nadezdívky a související zednické úpravy střechy A a B | C47: kpl. | D47: 1 | F47: =D47*E47 -> 0
B48: nadezdění atik
B49: vyrovnání korun atik
B50: zednické úpravy a zapravení pro navazující vrstvy
B51: příprava podkladu pro navazující oplechování atik
A52: 3.4. | B52: Klempířské konstrukce střechy A a B | C52: kpl. | D52: 1 | F52: =D52*E52 -> 0
B53: nové oplechování atik z titanzinkového plechu
B54: oplechování v návaznosti na sousední obvodový plášť z titanzinkového plechu
B55: přítlačné a ukončovací prvky
B56: řešení ukončení, rohů a napojovacích detailů klempířských konstrukcí
B57: dodávka a montáž klempířských prvků a systémového příslušenství
A58: 3.5. | B58: Střešní odvodnění a návaznost na ZTI | C58: kpl. | D58: 1 | F58: =D58*E58 -> 0
B59: provedení nových střešních vpustí včetně souvisejících napojovacích prostupů
B60: napojení na stávající dešťové svody
B61: úpravy, případně dílčí výměna stávajících dešťových svodů v rozsahu nezbytném pro napojení nových střešních vpustí a zajištění funkčnosti odvodnění
B62: provedení souvisejících těsnicích a konstrukčních opatření pro napojení a zajištění funkčního odvodnění střechy
A63: 3.6. | B63: Prostupy, odvětrání a návaznost na VZT | C63: kpl. | D63: 1 | F63: =D63*E63 -> 0
B64: provedení nových a úprava stávajících prostupů
B65: provedení nových odvětrávacích hlavic
B66: příprava prostupů pro napojení zařízení VZT přízemí (kuchyně, jídelna) a suterenu
B67: provedení vodotěsného utěsnění všech prostupů
A68: 3.7. | B68: Napojení konstrukce nové střechy na konstrukci související stavby přístavby | C68: kpl. | D68: 1 | F68: =D68*E68 -> 0
B69: Kompletní a vodotěsné řešení rozhraní mezi rekonstruovanou částí střechy a navazující střechou realizovanou v rámci související stavby přístavby, včetně všech ukončovacích, napojovacích a dilatačních detailů, návaznosti výšek vrstev a zajištění materiálové a technologické kompatibility v místě napojení. Bližší popis řešení je uveden v čl. 3.5. dokumentace technického zadání
B71: Celkem | F71: =F8+F22+F30 -> 0 | G71: 21 | H71: =H8+H22+H30 -> 0

Sheet SO-02 - Přízemí
A1: SOUPIS POŽADOVANÝCH STAVEBNÍCH PRACÍ, DODÁVEK A SLUŽEB – SO 02
A2: Projekt: | B2: ='SO-01 - střecha'!B2 -> Rekonstrukce střešní krytiny a adaptace výdejny na školní kuchyni
A4: Investor: | B4: Základní škola Tomáše Šobra a Mateřská škola Písek, Šobrova 2070, 397 01 Písek
A5: Datum: | B5: 03/2026
A7: Číslo položky | B7: Název položky | C7: MJ | D7: Množství | E7: Cena / MJ | F7: Celkem | G7: DPH | H7: Cena s DPH
A8: 1 | B8: Demontáže, bourací práce a vyklizení | F8: =SUM(F9,F16,F21,F26,F33,F42) -> 0 | G8: 21 | H8: =F8*(1+G8/100) -> 0
A9: 1.1. | B9: Demontáž a odstranění stávajícího interiérového vybavení a zařizovacích prvků | C9: kpl. | D9: 1 | E9: =SUM(E10,E12,E14) -> 0 | F9: =D9*E9 -> 0
A10: 1.1.1. | B10: Prostory 101–103 – hlavní provozní část nové kuchyně | C10: kpl. | D10: 1 | F10: =D10*E10 -> 0
B11: demontáž a odstranění stávajícího interiérového vybavení a zařizovacích prvků v rozsahu kolidujícím s novým dispozičním, provozním a technologickým řešením hlavní části kuchyně; prvky určené k zachování nebo novému využití budou odborně demontovány, chráněny nebo přemístěny
A12: 1.1.2. | B12: Prostory 104–105,1.45–1.46 | C12: kpl. | D12: 1 | F12: =D12*E12 -> 0
B13: demontáž a odstranění stávajících prvků v rozsahu vyplývajícím z výsledného provozního a dispozičního řešení;
A14: 1.1.3. | B14: Chodba 108, navazující hygienické, obslužné a pomocné prostory a prostor 107 v rozsahu vyvolaném návrhem | C14: kpl. | D14: 1 | F14: =D14*E14 -> 0
B15: demontáž a odstranění stávajících prvků v navazujících komunikacích, hygienických, obslužných a pomocných prostorech v rozsahu vyplývajícím z navrženého dispozičního, provozního a technického řešení; včetně případných zásahů do prostor 106 / 1.43 a 107, pokud si je navržené technické řešení vyžádá a jejich provedení bude technicky přípustné
A16: 1.2. | B16: Demontáž a odstranění stávající technologie a technologických zařízení | C16: kpl. | D16: 1 | E16: =SUM(E17,E19) -> 0 | F16: =D16*E16 -> 0
A17: 1.2.1. | B17: Prostory 101–103 – stávající výdejna a související provoz | C17: kpl. | D17: 1 | F17: =D17*E17 -> 0
B18: demontáž a odstranění stávající výdejní / kuchyňské technologie a souvisejících zařízení v rozsahu kolidujícím s novým provozem
A19: 1.2.2. | B19: Technické prostory 106/1.43, 107 a 113 v rozsahu vyvolaném návrhem technického řešení | C19: kpl. | D19: 1 | F19: =D19*E19 -> 0
B20: demontáž a odstranění stávající technologie VZT a souvisejících zařízení pouze v rozsahu kolidujícím s novým technickým řešením; u prostoru 107 včetně případných zásahů souvisejících s jeho propojením s prostorem 106/1.43, pokud takové řešení vyplyne z návrhu technického řešení a bude technicky přípustné
A21: 1.3. | B21: Bourání stávajících příček, zazdívek, lokálních otvorů a souvisejících konstrukcí | C21: kpl. | D21: 1 | E21: =SUM(E22,E24) -> 0 | F21: =D21*E21 -> 0
A22: 1.3.1. | B22: Prostory 101–103 – hlavní provozní část nové kuchyně | C22: kpl. | D22: 1 | F22: =D22*E22 -> 0
B23: vybourání příček, lokální bourání zděných konstrukcí a úpravy otvorů v závislosti na výsledném dispozičním a provozním řešení nové školní kuchyně
A24: 1.3.2. | B24: Prostory 104–105, prostor výdeje a navazující část jídelny 118, 1.45–1.46 dle návrhu technického řešení | C24: kpl. | D24: 1 | F24: =D24*E24 -> 0
B25: bourání příček, zazdívek, úpravy otvorů, parapetů, výdejních a sběrných míst a další lokální zásahy v rozsahu vyplývajícím z navrženého provozního a dispozičního řešení;
A26: 1.4. | B26: Odstranění stávajících podlah, obkladů, podhledů a povrchů v dotčeném rozsahu | C26: kpl. | D26: 1 | E26: =SUM(E27,E29,E31) -> 0 | F26: =D26*E26 -> 0
A27: 1.4.1. | B27: Prostory 101–103 – hlavní provozní část nové kuchyně | C27: kpl. | D27: 1 | F27: =D27*E27 -> 0
B28: odstranění stávajících nášlapných vrstev, podlahových skladeb dle potřeby, obkladů, podhledů a dalších povrchových úprav v rozsahu nového řešení
A29: 1.4.2. | B29: Prostory 104–105, 1.45–1.46 a technické prostory 106/1.43, 107 a 113 v rozsahu vyvolaném návrhem technického řešení | C29: kpl. | D29: 1 | F29: =D29*E29 -> 0
B30: odstranění stávajících podlah, obkladů, podhledů a povrchů v rozsahu vyvolaném novým provozním a technickým řešením
A31: 1.4.3. | B31: Chodba 108, hygienické, obslužné a pomocné prostory v rozsahu vyvolaném návrhem technického řešení | C31: kpl. | D31: 1 | F31: =D31*E31 -> 0
B32: odstranění stávajících povrchů pouze v rozsahu nezbytném pro provedení navazujících stavebních, instalačních a provozních úprav
A33: 1.5. | B33: Demontáž stávajících rozvodů a zařízení ZTI, VZT, elektro, slaboproudu a MaR v dotčeném rozsahu | C33: kpl. | D33: 1 | E33: =SUM(E34,E36,E38,E40) -> 0 | F33: =D33*E33 -> 0
A34: 1.5.1. | B34: Prostory 101–103 – hlavní provozní část nové kuchyně | C34: kpl. | D34: 1 | F34: =D34*E34 -> 0
B35: odpojení a odstranění stávajících profesních rozvodů a zařízení, které nebudou zachovány v novém provozním a technickém řešení
A36: 1.5.2. | B36: Prostory 104–105, 1.45–1.46 a navazující části přízemí v rozsahu vyvolaném návrhem technického řešení | C36: kpl. | D36: 1 | F36: =D36*E36 -> 0
B37: demontáž stávajících rozvodů a zařízení v rozsahu vyvolaném navrženým dispozičním, provozním a technickým řešením a které nebudou zachovány v novém provozním a technickém řešení
A38: 1.5.3. | B38: Technické prostory 106/1.43, 107 a 113 v rozsahu vyvolaném návrhem technického řešení | C38: kpl. | D38: 1 | F38: =D38*E38 -> 0
B39: demontáž stávajících profesních rozvodů a zařízení v rozsahu dotčeném novým technickým řešením technologických prostor a které nebudou zachovány v novém provozním a technickém řešení
A40: 1.5.4. | B40: Chodba 108, hygienické, obslužné a pomocné prostory v rozsahu vyvolaném návrhem | C40: kpl. | D40: 1 | F40: =D40*E40 -> 0
B41: demontáž stávajících rozvodů a zařízení pouze v místním rozsahu nezbytném pro navázání nového řešení a provedení souvisejících úprav a které nebudou zachovány v novém provozním a technickém řešení
A42: 1.6. | B42: Manipulace s vybouranými hmotami, odvoz a likvidace odpadu | C42: kpl. | D42: 1 | F42: =D42*E42 -> 0
B43: včetně třídění, vnitrostaveništní manipulace, odvozu, zákonné likvidace a poplatků
A45: 2 | B45: Stavební úpravy dispozice a konstrukcí | F45: =SUM(F46,F48,F50,F52) -> 0 | G45: 21 | H45: =F45*(1+G45/100) -> 0
A46: 2.1. | B46: Nové příčky, zazdívky a doplnění dělících konstrukcí | C46: kpl. | D46: 1 | F46: =D46*E46 -> 0
B47: nové nenosné konstrukce, lokální doplnění dělících stěn a zazdívek v hlavní provozní části kuchyně, v navazujících prostorech 104–105 a v dalších dotčených částech přízemí v rozsahu vyplývajícím z dispozičního a provozního návrhu;
A48: 2.2. | B48: Nové otvory a úpravy otvorů ve stávajících konstrukcích | C48: kpl. | D48: 1 | F48: =D48*E48 -> 0
B49: nové nebo upravené dveřní, technologické, výdejní, sběrné a instalační otvory, včetně překladů a lokálních zesílení, v nezbytném rozsahu vyplývajícím z návrhu; zejména v hlavní provozní části kuchyně, v prostoru výdeje a v navazující části jídelny
A50: 2.3. | B50: Lokální sanace, vyspravení a vyrovnání stávajících konstrukcí a podkladů | C50: kpl. | D50: 1 | F50: =D50*E50 -> 0
B51: Lokální sanace a vysprávky podlah, stěn, stropů a podkladů ve všech dotčených místnostech, včetně odstranění stávajících poruch, trhlin, nerovností a lokálních degradací povrchů a podkladních vrstev a přípravy podkladů pro nové vrstvy a konstrukce
A52: 2.4. | B52: Úpravy suterénního vstupu, schodiště a navazujících konstrukcí | C52: kpl. | D52: 1 | F52: =D52*E52 -> 0
B53: ocenit jako samostatný lokální okruh pouze pro skutečně dotčené suterénní návaznosti, zejména ve vazbě na provozní napojení 123 a související komunikace; neoceňovat jako plošnou adaptaci suterénu
A55: 3 | B55: Nové podlahy, povrchy a hygienické úpravy | F55: =SUM(F56,F58,F60,F62) -> 0 | G55: 21 | H55: =F55*(1+G55/100) -> 0
A56: 3.1. | B56: Nové podlahové skladby a nášlapné vrstvy | C56: kpl. | D56: 1 | F56: =D56*E56 -> 0
B57: Nové skladby podlah, vyrovnání, hydroizolační a separační vrstvy a finální nášlapné vrstvy v rozsahu vyvolaném novým řešením. Výsledná výšková úroveň a návaznost podlah musí být sjednocena v prostoru chodby 108 a v dalších dotčených navazujících komunikačních, hygienických, obslužných a technických prostorech přízemí. U místnosti 114 se nová skladba podlahy provede pouze v případě, že to vyplyne z návrhu dodavatele a skutečně potřebného rozsahu úprav.
A58: 3.2. | B58: Nové stěnové povrchy a hygienické obklady | C58: kpl. | D58: 1 | F58: =D58*E58 -> 0
B59: omítky, keramické obklady, ochranné a omyvatelné povrchy pouze v hygienicky a provozně vyžadovaných úsecích; neztotožňovat s plošnými malbami
A60: 3.3. | B60: Nové podhledy a související podkonstrukce | C60: kpl. | D60: 1 | F60: =D60*E60 -> 0
B61: hygienické, akustické, SDK, kazetové nebo jiné podhledy dle navrženého provozu a technického řešení dodavatele v režimu D+B
A62: 3.4. | B62: Malby, nátěry a povrchové dokončovací úpravy | C62: kpl. | D62: 1 | F62: =D62*E62 -> 0
B63: finální malby, nátěry a související dokončovací úpravy napříč všemi dotčenými zónami po dokončení stavebních a instalačních zásahů
A65: 4 | B65: Výplně otvorů, dveře, revizní přístupy a ochranné konstrukce | F65: =SUM(F66,F68,F70) -> 0 | G65: 21 | H65: =F65*(1+G65/100) -> 0
A66: 4.1. | B66: Nové nebo upravené dveře, zárubně a související úpravy otvorů | C66: kpl. | D66: 1 | F66: =D66*E66 -> 0
B67: dodávka a montáž nových dveří, zárubní a souvisejících úprav otvorů, popřípadě úprava nebo náhrada stávajících prvků, v rozsahu vyplývajícím z nového provozního řešení a hygienických požadavků
A68: 4.2. | B68: Vnitřní výplně otvorů, revizní a servisní přístupy, krycí prvky | C68: kpl. | D68: 1 | F68: =D68*E68 -> 0
B69: revizní dvířka, servisní přístupy, zakrytování a další provozní výplně otvorů v rozsahu vyplývajícím z návrhu technologií a instalací
A70: 4.3. | B70: Zámečnické a ochranné konstrukce v dotčeném rozsahu | C70: kpl. | D70: 1 | F70: =D70*E70 -> 0
B71: nerezové, ocelové nebo jiné ochranné a provozní prvky dle návrhu dodavatele a hygienicko-provozních požadavků
A73: 5 | B73: ZTI – voda, kanalizace a zařizovací předměty | F73: =SUM(F74,F76,F78,F80,F82) -> 0 | G73: 21 | H73: =F73*(1+G73/100) -> 0
A74: 5.1. | B74: Nové a upravené rozvody studené, teplé a cirkulační vody v dotčeném rozsahu | C74: kpl. | D74: 1 | F74: =D74*E74 -> 0
B75: nové a upravené rozvody vody pro kuchyňský a související provoz v rozsahu vyplývajícím z výsledného dispozičního a technologického řešení, včetně vyvolaných lokálních návazností na použitelné stávající přípojné body a rozvody
A76: 5.2. | B76: Nové a upravené rozvody vnitřní kanalizace a odvodnění provozu | C76: kpl. | D76: 1 | F76: =D76*E76 -> 0
B77: včetně podlahových vpustí, napojení, úprav a případného odvodu kondenzátu od nové VZT technologie tam, kde to vyplyne z návrhu; s využitím použitelných stávajících návazností v rozsahu technicky vhodném pro nové řešení
A78: 5.3. | B78: Nové zařizovací předměty a provozní ZTI prvky dle návrhu | C78: kpl. | D78: 1 | F78: =D78*E78 -> 0
B79: zařizovací předměty, provozní armatury, nerezové a provozní ZTI prvky podle výsledného řešení dodavatele
A80: 5.4. | B80: Napojení na stávající ZTI a související těsnicí, napojovací a provozní opatření | C80: kpl. | D80: 1 | F80: =D80*E80 -> 0
B81: napojení nových rozvodů a zařízení na stávající systémy v rozsahu nezbytném pro funkční a provozní celek; včetně úprav vyvolaných stavem a kapacitou stávajících systémů
A82: 5.5. | B82: Zkoušky, proplachy a uvedení systému ZTI do provozu | C82: kpl. | D82: 1 | F82: =D82*E82 -> 0
B83: včetně všech provozních zkoušek, proplachů, nastavení a dokladování funkčnosti
A85: 6 | B85: VZT – nové řešení větrání a odvětrání | F85: =SUM(F86,F88,F90,F92,F94) -> 0 | G85: 21 | H85: =F85*(1+G85/100) -> 0
A86: 6.1. | B86: Nový systém VZT pro kuchyňský a související provoz | C86: kpl. | D86: 1 | F86: =D86*E86 -> 0
B87: kompletní návrh a realizace nového VZT řešení pro provoz kuchyně, odvětrání a obsluhu technologií kuchyně a navazující prostory, včetně dodávky a napojení VZT jednotek s rekuperací a technických návazností na stávající části tam, kde to bude podle návrhu účelné a technicky přípustné
A88: 6.2. | B88: Rozvody vzduchu, koncové prvky a související konstrukční opatření dle návrhu | C88: kpl. | D88: 1 | F88: =D88*E88 -> 0
B89: nové potrubí, tvarovky, výústky, mřížky, klapky, izolace, zavěšení a veškeré koncové prvky v dotčeném rozsahu, včetně návazností na zachovávané nebo upravované části systému, pokud to vyplyne z návrhu
A90: 6.3. | B90: Napojení nového řešení VZT na stávající části v dotčeném rozsahu | C90: kpl. | D90: 1 | F90: =D90*E90 -> 0
B91: ocenit samostatně pro případ, že některé stávající části zůstanou zachovány a bude nutné je provozně nebo konstrukčně navázat na nové řešení
A92: 6.4. | B92: Prostupy a stavební návaznosti VZT | C92: kpl. | D92: 1 | F92: =D92*E92 -> 0
B93: zřízení prostupů, včetně vrtaných (i jádrově) a ražených, zapravení, lokální konstrukční úpravy, zavěšení a související stavební návaznosti vyvolané novým VZT řešením
A94: 6.5. | B94: Zkoušky, seřízení a uvedení VZT do provozu | C94: kpl. | D94: 1 | F94: =D94*E94 -> 0
B95: včetně vyvážení, měření, seřízení, funkčních zkoušek a předání provozních dokladů
A97: 7 | B97: Elektro – silnoproud | F97: =SUM(F98,F100,F102,F104,F106,F108) -> 0 | G97: 21 | H97: =F97*(1+G97/100) -> 0
A98: 7.1. | B98: Nové a upravené silnoproudé rozvody v dotčeném rozsahu | C98: kpl. | D98: 1 | F98: =D98*E98 -> 0
B99: nové kabelové trasy, vedení, uložení a související prvky silnoproudé instalace v rozsahu vyplývajícím z nového provozního a technologického řešení, včetně lokálních návazností na zachovávané technicky způsobilé stávající rozvody a napojovací body
A100: 7.2. | B100: Nové a upravené rozvody pro napájení technologie kuchyně a provozu | C100: kpl. | D100: 1 | F100: =D100*E100 -> 0
B101: samostatné napájecí rozvody a napojení technologických zařízení kuchyně a souvisejícího provozu, včetně využití použitelných stávajících kapacit a napojovacích míst, pokud to bude technicky vhodné
A102: 7.3. | B102: Nové osvětlení | C102: kpl. | D102: 1 | F102: =D102*E102 -> 0
B103: nová LED svítidla s vysokou energetickou účinností, s měrným světelným výkonem svítidla nejméně 130 lm/W, životností L80/B10 min. 50 000 h, indexem podání barev CRI min. 80 a v provedení odpovídajícím charakteru jednotlivých prostor
A104: 7.4. | B104: Nové zásuvkové a provozní okruhy | C104: kpl. | D104: 1 | F104: =D104*E104 -> 0
B105: zásuvky, provozní vývody a další koncové silnoproudé prvky potřebné pro nový provoz
A106: 7.5. | B106: Rozvaděče, ochrany, pospojování a související opatření | C106: kpl. | D106: 1 | F106: =D106*E106 -> 0
B107: úpravy a doplnění rozvaděčů, jištění, ochranných prvků, pospojování a souvisejících opatření v rozsahu vyplývajícím z návrhu technického řešení
A108: 7.6. | B108: Revize, zkoušky a uvedení elektro do provozu | C108: kpl. | D108: 1 | F108: =D108*E108 -> 0
...

Sheet SO-03 - Suterén
A1: SOUPIS POŽADOVANÝCH STAVEBNÍCH PRACÍ, DODÁVEK A SLUŽEB – SO 03
A2: Projekt: | B2: ='Krycí list'!C3 -> Rekonstrukce střešní krytiny a adaptace výdejny na školní kuchyni
A4: Investor: | B4: Základní škola Tomáše Šobra a Mateřská škola Písek, Šobrova 2070, 397 01 Písek
A5: Datum: | B5: 03/2026
A7: Číslo položky | B7: Název položky | C7: MJ | D7: Množství | E7: Cena / MJ | F7: Celkem | G7: DPH | H7: Cena s DPH
A8: 1 | B8: Demontáže, bourací práce a vyklizení | F8: =SUM(F9,F12,F15,F18,F21,F24,F27,F30) -> 0 | G8: 21 | H8: =F8*(1+G8/100) -> 0
A9: 1.1. | B9: Vyklizení a odstranění movitých věcí, skladovaného materiálu a volného vybavení | C9: kpl. | D9: 1 | E9: =SUM(E10) -> 0 | F9: =D9*E9 -> 0
A10: 1.1.1. | B10: Prostory suterénu 1–5 dle půdorysu | C10: kpl. | D10: 1 | F10: =D10*E10 -> 0
B11: úplné vyklizení prostor, vytřídění, odnos, odvoz a likvidace movitých věcí, skladovaného materiálu a volného vybavení, které není určeno k zachování
A12: 1.2. | B12: Demontáž a odstranění stávajících vestavěných, technologických a zařizovacích prvků | C12: kpl. | D12: 1 | E12: =SUM(E13) -> 0 | F12: =D12*E12 -> 0
A13: 1.2.1. | B13: Prostory suterénu 1–5 dle půdorysu | C13: kpl. | D13: 1 | F13: =D13*E13 -> 0
B14: včetně starých boxů, kabin, vestavěných skříňových a skladových prvků, mříží, krytů, revizních uzávěrů, polic, vaniček a dalších pevných prvků určených k odstranění v rámci nového řešení
A15: 1.3. | B15: Demontáž a odstranění stávajících rozvodů ZTI a zařizovacích předmětů | C15: kpl. | D15: 1 | E15: =SUM(E16) -> 0 | F15: =D15*E15 -> 0
A16: 1.3.1. | B16: Prostory suterénu 1–5 dle půdorysu | C16: kpl. | D16: 1 | F16: =D16*E16 -> 0
B17: včetně stávajících umyvadel, sprchových a sanitárních prvků, armatur, sifonů, odkrytých napojení, nevyhovujících rozvodů vody a kanalizace a souvisejících instalačních prvků
A18: 1.4. | B18: Demontáž a odstranění stávající elektroinstalace a svítidel | C18: kpl. | D18: 1 | E18: =SUM(E19) -> 0 | F18: =D18*E18 -> 0
A19: 1.4.1. | B19: Prostory suterénu 1–5 dle půdorysu | C19: kpl. | D19: 1 | F19: =D19*E19 -> 0
B20: včetně svítidel, vypínačů, zásuvek, povrchových i zapuštěných rozvodů, nevyhovujících přívodů, instalačních krabic a souvisejících elektroprvků
A21: 1.5. | B21: Odstranění stávajících podlahových vrstev, soklů, lokálních podest, vaniček a souvisejících prvků | C21: kpl. | D21: 1 | E21: =SUM(E22) -> 0 | F21: =D21*E21 -> 0
A22: 1.5.1. | B22: Prostory suterénu 1–5 dle půdorysu | C22: kpl. | D22: 1 | F22: =D22*E22 -> 0
B23: odstranění nášlapných vrstev, starých vyrovnávacích a podkladních vrstev v potřebném rozsahu, soklů, keramických lemů, lokálních zvýšených ploch a dalších podlahových návazností tak, aby byl vytvořen podklad pro nové skladby
A24: 1.6. | B24: Odstranění stávajících obkladů, nesoudržných omítek, nátěrů a lokálně poškozených povrchových vrstev | C24: kpl. | D24: 1 | E24: =SUM(E25) -> 0 | F24: =D24*E24 -> 0
A25: 1.6.1. | B25: Prostory suterénu 1–5 dle půdorysu | C25: kpl. | D25: 1 | F25: =D25*E25 -> 0
B26: včetně lokálního osekání degradovaných vrstev, odstrojení poškozených povrchů stěn a stropů a odstranění pouze těch povrchových vrstev, které jsou poškozené, nesoudržné, degradované nebo nevhodné jako podklad pro nové vrstvy
A27: 1.7. | B27: Lokální bourání nenosných konstrukcí, zazdívek, prostupů, ostění a uzávěrů | C27: kpl. | D27: 1 | E27: =SUM(E28) -> 0 | F27: =D27*E27 -> 0
A28: 1.7.1. | B28: Prostory suterénu 1–5 dle půdorysu | C28: kpl. | D28: 1 | F28: =D28*E28 -> 0
B29: lokální bourací práce a úpravy potřebné k odstranění stávajícího nevyhovujícího stavu, otevření nebo uzavření prostupů a k přípravě prostoru pro nové stavební, ZTI a elektro řešení
A30: 1.8. | B30: Odvoz a ekologická likvidace suti, odpadu a demontovaného materiálu | C30: kpl. | D30: 1 | E30: =SUM(E31) -> 0 | F30: =D30*E30 -> 0
A31: 1.8.1. | B31: Prostory suterénu 1–5 dle půdorysu | C31: kpl. | D31: 1 | F31: =D31*E31 -> 0
B32: průběžný odnos, naložení, odvoz, skládka nebo ekologická likvidace vzniklých odpadů včetně poplatků a související manipulace
A33: 2 | B33: Sanace, stavební opravy a příprava podkladů | F33: =SUM(F34,F37,F40,F43) -> 0 | G33: 21 | H33: =F33*(1+G33/100) -> 0
A34: 2.1. | B34: Lokální sanace a vysprávky podlah, stěn, stropů a podkladů ve všech dotčených místnostech | C34: kpl. | D34: 1 | E34: =SUM(E35) -> 0 | F34: =D34*E34 -> 0
A35: 2.1.1. | B35: Prostory suterénu 1–5 dle půdorysu | C35: kpl. | D35: 1 | F35: =D35*E35 -> 0
B36: včetně lokálních vysprávek, doplnění, vyrovnání a stabilizace podkladů po předchozím odstranění nevyhovujících vrstev, zapravení trhlin, nerovností a lokálních poruch a přípravy podkladů pro nové vrstvy a konstrukce
A37: 2.2. | B37: Lokální stavební opravy vlhkostně a provozně poškozených míst | C37: kpl. | D37: 1 | E37: =SUM(E38) -> 0 | F37: =D37*E37 -> 0
A38: 2.2.1. | B38: Prostory suterénu 1–5 dle půdorysu | C38: kpl. | D38: 1 | F38: =D38*E38 -> 0
B39: lokální stavební opravy a vysprávky v místech s povrchovými projevy vlhkosti, degradací, znečištěním nebo dřívějšími neodbornými zásahy, včetně místního ošetření podkladu a doplnění navazujících vrstev; bez systémového řešení vlhkosti stavby
A40: 2.3. | B40: Opravy otvorů, ostění, nik, kapes, prostupů a lokální zazdívky nebo doplnění konstrukcí | C40: kpl. | D40: 1 | E40: =SUM(E41) -> 0 | F40: =D40*E40 -> 0
A41: 2.3.1. | B41: Prostory suterénu 1–5 dle půdorysu | C41: kpl. | D41: 1 | F41: =D41*E41 -> 0
B42: Opravy otvorů, ostění, nik, kapes, prostupů a lokální zazdívky nebo doplnění konstrukcí – začištění a stavební doplnění po demontážích a bouráních, opravy ostění a hran a lokální doplnění zdiva nebo jiných konstrukcí v potřebném rozsahu. Součástí je stavební oprava stávajících suterénních okenních otvorů a přizpůsobení okenních výplní stávajícím podmínkám pro možnost větrání mikroventilací, bez změny velikosti a polohy otvorů.
A43: 2.4. | B43: Vyrovnání a příprava podkladů pro nové vrstvy, instalace a finální povrchy | C43: kpl. | D43: 1 | E43: =SUM(E44) -> 0 | F43: =D43*E43 -> 0
A44: 2.4.1. | B44: Prostory suterénu 1–5 dle půdorysu | C44: kpl. | D44: 1 | F44: =D44*E44 -> 0
B45: vyrovnání podkladů, penetrační a přípravné práce, doplnění lokálních podkladních vrstev a vytvoření vhodného stavebního základu pro nové skladby a koncové úpravy
A46: 3 | B46: Nové podlahy | F46: =SUM(F47,F50) -> 0 | G46: 21 | H46: =F46*(1+G46/100) -> 0
A47: 3.1. | B47: Nové skladby podlah, hydroizolační a separační vrstvy, vyrovnání a finální nášlapné vrstvy | C47: kpl. | D47: 1 | E47: =SUM(E48) -> 0 | F47: =D47*E47 -> 0
A48: 3.1.1. | B48: Prostory suterénu 1–5 dle půdorysu | C48: kpl. | D48: 1 | F48: =D48*E48 -> 0
B49: kompletní nové podlahové souvrství v rozsahu vyplývajícím z výsledného řešení suterénu, včetně potřebných hydroizolačních, separačních, vyrovnávacích a podkladních vrstev a nové finální nášlapné vrstvy
A50: 3.2. | B50: Nové sokly, ukončení, přechody a začištění podlahových detailů | C50: kpl. | D50: 1 | E50: =SUM(E51) -> 0 | F50: =D50*E50 -> 0
A51: 3.2.1. | B51: Prostory suterénu 1–5 dle půdorysu | C51: kpl. | D51: 1 | F51: =D51*E51 -> 0
B52: včetně soklů, přechodových detailů, lokálních návazností na stěny, ostění, vpusti, prostupy a další prvky podlahového souvrství
A53: 4 | B53: Stěny, stropy, otvory a finální stavební úpravy | F53: =SUM(F54,F57,F60) -> 0 | G53: 21 | H53: =F53*(1+G53/100) -> 0
A54: 4.1. | B54: Nové omítky, stěrky, lokální doplnění podkladů a začištění po bouráních a prostupech | C54: kpl. | D54: 1 | E54: =SUM(E55) -> 0 | F54: =D54*E54 -> 0
A55: 4.1.1. | B55: Prostory suterénu 1–5 dle půdorysu | C55: kpl. | D55: 1 | F55: =D55*E55 -> 0
B56: provedení nových omítek, stěrek, oprav podkladů a začištění stěn a stropů do jednotného stavebního stavu vhodného pro finální povrchové úpravy
A57: 4.2. | B57: Opravy nebo výměna dveří, zárubní, uzávěrů, revizních dvířek a drobných zámečnických doplňků | C57: kpl. | D57: 1 | E57: =SUM(E58) -> 0 | F57: =D57*E57 -> 0
A58: 4.2.1. | B58: Prostory suterénu 1–5 dle půdorysu | C58: kpl. | D58: 1 | F58: =D58*E58 -> 0
B59: opravy, lokální doplnění nebo výměna poškozených či nevyhovujících uzávěrů a otvorových prvků v rozsahu vyplývajícím z nového stavebního řešení
A60: 4.3. | B60: Finální malby, nátěry a povrchové sjednocení stěn a stropů | C60: kpl. | D60: 1 | E60: =SUM(E61) -> 0 | F60: =D60*E60 -> 0
A61: 4.3.1. | B61: Prostory suterénu 1–5 dle půdorysu | C61: kpl. | D61: 1 | F61: =D61*E61 -> 0
B62: kompletní finální povrchová úprava stěn a stropů po provedení sanací a oprav, včetně penetrací a sjednocení vzhledu dotčených prostor
A63: 5 | B63: Zdravotechnické instalace - oprava, úprava, doplnění a částečná výměna ZTI | F63: =SUM(F64,F67,F70) -> 0 | G63: 21 | H63: =F63*(1+G63/100) -> 0
A64: 5.1. | B64: Oprava stávajících rozvodů a provedení nových rozvodů studené vody, odpadů, napojovacích bodů, armatur a veškerých souvisejících instalací potřebných pro nové řešení suterénu | C64: kpl. | D64: 1 | E64: =SUM(E65) -> 0 | F64: =D64*E64 -> 0
A65: 5.1.1. | B65: Prostory suterénu 1–5 dle půdorysu | C65: kpl. | D65: 1 | F65: =D65*E65 -> 0
B66: oprava stávajíích a nové rozvody studené vody, odpady, napojovací body, armatury a veškeré související instalace potřebné pro nové řešení suterénu
A67: 5.2. | B67: Nové zařizovací předměty, armatury, zápachové uzávěry, napojovací a instalační komplety | C67: kpl. | D67: 1 | E67: =SUM(E68) -> 0 | F67: =D67*E67 -> 0
A68: 5.2.1. | B68: Prostory suterénu 1–5 dle půdorysu | C68: kpl. | D68: 1 | F68: =D68*E68 -> 0
B69: dodávka a montáž nových ZTI koncových prvků a jejich kompletní napojení v rozsahu výsledného provozního a dispozičního řešení
A70: 5.3. | B70: Úpravy, opravy, doplnění a případná výměna vpustí, odvodnění a souvisejících prvků v dotčeném rozsahu | C70: kpl. | D70: 1 | E70: =SUM(E71) -> 0 | F70: =D70*E70 -> 0
A71: 5.3.1. | B71: Prostory suterénu 1–5 dle půdorysu | C71: kpl. | D71: 1 | F71: =D71*E71 -> 0
B72: včetně napojení, začištění, revizních a provozních prvků a všech doplňků nutných pro funkční odvodnění suterénních prostor a jejich ochranu proti zpětnému vzdutí z kanalizace (zpětné klapky nebo jiné technicky odpovídající řešení)
A73: 6 | B73: Elektroinstalace | F73: =SUM(F74,F77,F80,F83) -> 0 | G73: 21 | H73: =F73*(1+G73/100) -> 0
A74: 6.1. | B74: Úpravy, opravy, doplnění a částečná výměna napájecích a distribučních silnoproudých rozvodů a napojení | C74: kpl. | D74: 1 | E74: =SUM(E75) -> 0 | F74: =D74*E74 -> 0
A75: 6.1.1. | B75: Prostory suterénu 1–5 dle půdorysu | C75: kpl. | D75: 1 | F75: =D75*E75 -> 0
B76: úpravy, opravy, doplnění a částečná výměna napájecích a distribučních silnoproudých rozvodů, kabelových tras, vedení, uložení, rozbočení a napojení v rozsahu nového řešení suterénních prostor, s napojením na stávající napájecí okruhy objektu v rozsahu technicky vhodném pro nové řešení
A77: 6.2. | B77: Nové osvětlení, svítidla a ovládací prvky | C77: kpl. | D77: 1 | E77: =SUM(E78) -> 0 | F77: =D77*E77 -> 0
A78: 6.2.1. | B78: Prostory suterénu 1–5 dle půdorysu | C78: kpl. | D78: 1 | F78: =D78*E78 -> 0
B79: dodávka a montáž nových svítidel, vypínačů, ovládacích prvků a související montážní a napojovací práce
A80: 6.3. | B80: Nové zásuvkové okruhy, vývody pro zařízení a doplňující elektroinstalace | C80: kpl. | D80: 1 | E80: =SUM(E81) -> 0 | F80: =D80*E80 -> 0
A81: 6.3.1. | B81: Prostory suterénu 1–5 dle půdorysu | C81: kpl. | D81: 1 | F81: =D81*E81 -> 0
B82: včetně zásuvek, vývodů pro zařízení, pomocných napájecích bodů a dalších koncových elektroprvků dle nového využití prostor
A83: 6.4. | B83: Revize, zkoušky a dokumentace elektroinstalace | C83: kpl. | D83: 1 | E83: =SUM(E84) -> 0 | F83: =D83*E83 -> 0
A84: 6.4.1. | B84: Prostory suterénu 1–5 dle půdorysu | C84: kpl. | D84: 1 | F84: =D84*E84 -> 0
B85: včetně výchozí revize, funkčních zkoušek, protokolů a předávací dokumentace v rozsahu provedeného díla
A86: 7 | B86: Rekonstrukce výtahu | F86: =SUM(F87:F89) -> 0 | G86: 21 | H86: =F86*(1+G86/100) -> 0
A87: 7.1. | B87: Demontáž stávající technologie výtahu | C87: kpl. | D87: 1 | F87: =D87*E87 -> 0
A88: 7.2. | B88: Stavební úpravy a vysprávky | C88: kpl. | D88: 1 | F88: =D88*E88 -> 0
A89: 7.3. | B89: Instalace nové technologie výtahu včetně zprovoznění | C89: kpl. | D89: 1 | F89: =D89*E89 -> 0
A90: 8 | B90: Dokončení, zkoušky a předání | F90: =SUM(F91,F94,F97) -> 0 | G90: 21 | H90: =F90*(1+G90/100) -> 0
A91: 8.1. | B91: Kompletační zednické a montážní práce, finální začištění a utěsnění prostupů, napojení a detailů | C91: kpl. | D91: 1 | E91: =SUM(E92) -> 0 | F91: =D91*E91 -> 0
A92: 8.1.1. | B92: Prostory suterénu 1–5 dle půdorysu | C92: kpl. | D92: 1 | F92: =D92*E92 -> 0
B93: veškeré dokončovací stavební a montážní návaznosti nutné k úplnému a funkčnímu dokončení suterénu
A94: 8.2. | B94: Zkoušky, tlakové zkoušky, uvedení ZTI do provozu a související doklady | C94: kpl. | D94: 1 | E94: =SUM(E95) -> 0 | F94: =D94*E94 -> 0
A95: 8.2.1. | B95: Prostory suterénu 1–5 dle půdorysu | C95: kpl. | D95: 1 | F95: =D95*E95 -> 0
B96: provedení potřebných zkoušek, protokolů, seřízení a ověření funkce nových ZTI systémů v rozsahu provedeného díla
A97: 8.3. | B97: Závěrečný úklid a předání stavebně dokončeného suterénu | C97: kpl. | D97: 1 | E97: =SUM(E98) -> 0 | F97: =D97*E97 -> 0
A98: 8.3.1. | B98: Prostory suterénu 1–5 dle půdorysu | C98: kpl. | D98: 1 | F98: =D98*E98 -> 0
B99: finální úklid, odstranění zbytků materiálu, očištění dotčených ploch a předání prostor ve stavebně dokončeném a provozně použitelném stavu
B101: Celkem | F101: =SUM(F8,F33,F46,F53,F63,F73,F86,F90) -> 0 | G101: 21 | H101: =F101*(1+G101/100) -> 0

Sheet SO 04 - Vybavení kuchyně
A1: SOUPIS DODÁVKY A MONTÁŽE VYBAVENÍ KUCHYNĚ – SO 04
A2: Projekt: | B2: ='Krycí list'!C3 -> Rekonstrukce střešní krytiny a adaptace výdejny na školní kuchyni
A4: Investor: | B4: Základní škola Tomáše Šobra a Mateřská škola Písek, Šobrova 2070, 397 01 Písek
A5: Datum: | B5: 03/2026
A7: Číslo položky | B7: Název položky | C7: MJ | D7: Množství | E7: Cena / MJ | F7: Celkem | G7: DPH | H7: Cena s DPH
A8: 1 | B8: Hlavní kuchyňská technologie – hlavní stroje a zařízení | F8: =SUM(F9:F33)+F40+F47 -> 0 | G8: 21 | H8: =F8*(1+G8/100) -> 0
A9: 1.1. | B9: Konvektomat min. 20 zásuvů GN 1/1 | C9: ks | D9: 1 | F9: =D9*E9 -> 0
A10: 1.2. | B10: Konvektomat min. 10 zásuvů GN 1/1 | C10: ks | D10: 2 | F10: =D10*E10 -> 0
A11: 1.3. | B11: sporák el. 4x plotýnka s podestavbou | C11: ks | D11: 1 | F11: =D11*E11 -> 0
A12: 1.4. | B12: Multifunkční pultová pánev | C12: ks | D12: 1 | F12: =D12*E12 -> 0
A13: 1.5. | B13: Multifunkční varný kotel | C13: ks | D13: 1 | F13: =D13*E13 -> 0
A14: 1.6. | B14: Kotel el. s duplikátorem a dig. ovládáním | C14: ks | D14: 2 | F14: =D14*E14 -> 0
A15: 1.7. | B15: Myčka černého a gastro nádobí | C15: ks | D15: 1 | F15: =D15*E15 -> 0
B16: - gastro košů na nádobí | C16: ks | D16: 2
B17: - gastro vložek na tácy a plechy | C17: ks | D17: 2
A18: 1.8. | B18: Tunelová myčka včetně: | C18: ks | D18: 1 | F18: =D18*E18 -> 0
B19: - gastro koše na talíře | C19: ks | D19: 7
B20: - gastro koše na hluboké misky | C20: ks | D20: 9
B21: - gastro koše na sdalátové misky | C21: ks | D21: 7
B22: - gastro koše na sklenice | C22: ks | D22: 6
B23: - gastro koše na tácy | C23: ks | D23: 11
B24: - gastro koše na příbory | C24: ks | D24: 4
A25: 1.9. | B25: kráječ chleba a knedlíků, pevná rozteč řezu 13 mm | C25: ks | D25: 1 | F25: =D25*E25 -> 0
A26: 1.10. | B26: univerzální robot 40 l | C26: ks | D26: 1 | F26: =D26*E26 -> 0
A27: 1.11. | B27: samostatný profesionální kráječ / krouhač zeleniny | C27: ks | D27: 1 | F27: =D27*E27 -> 0
A28: 1.12. | B28: šokový zchlazovač / zmrazovač (šokér) profesionální | C28: ks | D28: 1 | F28: =D28*E28 -> 0
A29: 1.13. | B29: profesionální komorová vakuovačka potravin | C29: ks | D29: 1 | F29: =D29*E29 -> 0
A30: 1.14. | B30: pultový mrazicí box profesionální | C30: ks | D30: 1 | F30: =D30*E30 -> 0
A31: 1.15. | B31: profesionální škrabka brambor | C31: ks | D31: 1 | F31: =D31*E31 -> 0
A32: 1.16. | B32: profesionální lednice velká GN 2/1 | C32: ks | D32: 1 | F32: =D32*E32 -> 0
A33: 1.17. | B33: Gastro nádoby a vozík gastronádob | C33: kpl | D33: 1 | E33: =SUM(F34:F39) -> 0 | F33: =D33*E33 -> 0
A34: 1.17.1 | B34: GN 1/1 plná 530x325, hloubka 40 mm - nerez | C34: ks | D34: 6 | F34: =D34*E34 -> 0
A35: 1.17.2 | B35: GN 1/1 plná 530x325, hloubka 65 mm - nerez | C35: ks | D35: 10 | F35: =D35*E35 -> 0
A36: 1.17.3 | B36: GN 1/1 plná 530x325, hloubka 100 mm - nerez | C36: ks | D36: 8 | F36: =D36*E36 -> 0
A37: 1.17.4 | B37: GN 1/1 děrovaná 530x325, hloubka 65 mm - nerez | C37: ks | D37: 14 | F37: =D37*E37 -> 0
A38: 1.17.6 | B38: GN 1/1 plná hloubka 200 mm včetně víka - polypropylen | C38: ks | D38: 20 | F38: =D38*E38 -> 0
A39: 1,17.6. | B39: Nerezový vozík pro GN 1/1 - 16 pozic | C39: ks | D39: 2 | F39: =D39*E39 -> 0
A40: 1.18. | B40: Nádobí a příbory | C40: kpl | D40: 1 | E40: =SUM(F41:F46) -> 0 | F40: =D40*E40 -> 0
A41: 1.18.1 | B41: Talíř bílý z tvrzeného skla mělký 25 cm | C41: ks | D41: 260 | F41: =D41*E41 -> 0
A42: 1.18.2 | B42: Talíř bílý z tvrzeného skla hluboky (na polévku) 24 cm | C42: ks | D42: 260 | F42: =D42*E42 -> 0
A43: 1.18.3 | B43: Miska salátová průhledná s technického skla 12 cm | C43: ks | D43: 260 | F43: =D43*E43 -> 0
A44: 1.18.4 | B44: Sklenička s technického skla 200 ml | C44: ks | D44: 260 | F44: =D44*E44 -> 0
A45: 1.18.5 | B45: Jídelní tác - polyester se skelným vláknem GN 1/1 | C45: ks | D45: 260 | F45: =D45*E45 -> 0
A46: 1.18.6 | B46: Nerezové příbory sada lžíce, vidlička a nůž | C46: sada | D46: 300 | F46: =D46*E46 -> 0
A47: 1.19. | B47: Provozní výdejové nádoby včetně víka | C47: kpl. | D47: 1 | F47: =D47*E47 -> 0
A48: 2 | B48: Řízení soudobého elektrického příkonu kuchyňské technologie | F48: =SUM(F49:F51) -> 0 | G48: 21 | H48: =F48*(1+G48/100) -> 0
A49: 2.1. | B49: Systém peak-load managementu pro kuchyňskou technologii | C49: kpl. | D49: 1 | F49: =D49*E49 -> 0
A50: 2.2. | B50: Výkonové, komunikační a integrační moduly k vybraným elektrickým strojům | C50: kpl. | D50: 1 | F50: =D50*E50 -> 0
A51: 2.3. | B51: Parametrizace priorit, uvedení do provozu, funkční ověření a zaškolení obsluhy | C51: kpl. | D51: 1 | F51: =D51*E51 -> 0
B52: CELKEM SO 04 | F52: =F8+F48 -> 0 | G52: 21 | H52: =F52*(1+G52/100) -> 0

Sheet PV_SO01
A1: Pomocný výpočet SO-01 – střecha
A3: Pracovní ocenění položek SO-01 (bez DPH)
A5: Položka | B5: Pracovní cena bez DPH (Kč) | C5: Poznámka
A6: 1.1 Demontáž stávajících vrstev a prvků střechy | B6: ='SO-01 - střecha'!F9 -> 0
A7: 1.2 Demontáž zařízení, prostupů a vpustí | B7: ='SO-01 - střecha'!F14 -> 0
A8: 2.1 Sanace a vyrovnání podkladu | B8: ='SO-01 - střecha'!F23 -> 0
A9: 3.1 Nová tepelněizolační a spádová vrstva | B9: ='SO-01 - střecha'!F31 -> 0
A10: 3.2 Nová hydroizolační vrstva | B10: ='SO-01 - střecha'!F37 -> 0
A11: 3.3 Atiky, nadezdívky a zednické úpravy | B11: ='SO-01 - střecha'!F47 -> 0
A12: 3.4 Klempířské konstrukce střechy | B12: ='SO-01 - střecha'!F52 -> 0
A13: 3.5 Střešní odvodnění a návaznost na ZTI | B13: ='SO-01 - střecha'!F58 -> 0
A14: 3.6 Prostupy, odvětrání a návaznost na VZT | B14: ='SO-01 - střecha'!F63 -> 0
A15: 3.7 Napojení na krytinu HCZ | B15: ='SO-01 - střecha'!F68 -> 0
A16: Celkem SO-01 bez DPH | B16: =SUM(B6:B15) -> 0

Sheet PV_SO02
A1: Pomocný výpočet SO-02 – pracovní metodika a kontrolní součet
A3: Sekce | B3: Pracovní odhad (Kč bez DPH) | C3: Poznámka
A4: 1 Demontáže, bourací práce a vyklizení | B4: ='SO-02 - Přízemí'!F8 -> 0
A5: 2 Stavební úpravy dispozice a konstrukcí | B5: ='SO-02 - Přízemí'!F45 -> 0
A6: 3 Nové podlahy, povrchy a hygienické úpravy | B6: ='SO-02 - Přízemí'!F55 -> 0
A7: 4 Výplně otvorů, dveře, revizní přístupy a ochranné konstrukce | B7: ='SO-02 - Přízemí'!F65 -> 0
A8: 5 ZTI – voda, kanalizace a zařizovací předměty | B8: ='SO-02 - Přízemí'!F73 -> 0
A9: 6 VZT – nové řešení větrání a odvětrání | B9: ='SO-02 - Přízemí'!F85 -> 0
A10: 7 Elektro – silnoproud | B10: ='SO-02 - Přízemí'!F97 -> 0
A11: 8 Elektro – slaboproud | B11: ='SO-02 - Přízemí'!F111 -> 0
A12: 9 MaR a návaznosti na řídicí systémy | B12: ='SO-02 - Přízemí'!F121 -> 0
A13: 10 Požární, hygienické a provozní konstrukční návaznosti | B13: ='SO-02 - Přízemí'!F133 -> 0
A15: Celkem SO-02 bez DPH | B15: =SUM(B4:B13) -> 0
A16: Celkem SO-02 vč. 21 % DPH | B16: =B15*1.21 -> 0

Sheet PV_SO03
A1: Pomocný výpočet SO-03 – pracovní metodika a kontrolní součet
A3: Sekce | B3: Pracovní odhad (Kč bez DPH) | C3: Poznámka
A4: 1 Demontáže, vyklizení a bourací práce | B4: ='SO-03 - Suterén'!F8 -> 0
A5: 2 Sanace, stavební opravy a příprava podkladů | B5: ='SO-03 - Suterén'!F33 -> 0
A6: 3 Nové podlahy | B6: ='SO-03 - Suterén'!F46 -> 0
A7: 4 Stěny, stropy, otvory a finální stavební úpravy | B7: ='SO-03 - Suterén'!F53 -> 0
A8: 5 ZTI – nové rozvody a odvodnění | B8: ='SO-03 - Suterén'!F63 -> 0
A9: 6 Elektroinstalace (nové) | B9: ='SO-03 - Suterén'!F73 -> 0
A10: 7 Rekonstrukce výtahu | B10: ='SO-03 - Suterén'!F86 -> 0
A11: 8 Dokončení, zkoušky a předání | B11: ='SO-03 - Suterén'!F90 -> 0
A13: Celkem SO-03 bez DPH | B13: =SUM(B4:B11) -> 0
A14: Celkem SO-03 vč. 21 % DPH | B14: =B13*1.21 -> 0

Sheet PV_VRN
A1: Pomocný výpočezt VRN – pracovní metodika a kontrolní součet
A3: Skupina | B3: Pracovní odhad (Kč bez DPH) | C3: Poznámka
A4: 1 Vedlejší rozpočtové náklady | B4: =VRN!F8 -> 0
A5: 2 Ostatní náklady | B5: =SUM(VRN!F28:F41) -> 0
A7: Celkem VRN bez DPH | B7: =SUM(B4:B5) -> 0
A8: Celkem VRN vč. 21 % DPH | B8: =VRN!H42 -> 0
A10: Poznámka:

Sheet R-HMG
A1: MODELOVÝ HARMONOGRAM (R-HMG)
A3: Projekt: | B3: ='SO-01 - střecha'!B2 -> Rekonstrukce střešní krytiny a adaptace výdejny na školní kuchyni
A4: Poznámka: | B4: Pracovní referenční harmonogram pro model výpočtu položky dodavatelského úvěru.
A6: Předpokládaný start realizace | B6: 46204
A7: Referenční splatnost (dny) | B7: 30
A8: Dodavatelský úvěr nad referenční splatnost pro 1. modelovou fakturu (dny) | B8: 180
A9: Měsíční snížení dnů dodavatelského úvěru (dny) | B9: 30
A10: DPH | B10: 0.21
A11: Roční sazba financování (vazba na VRN!D30) | B11: =VRN!D30 -> 0
A12: Cílové datum úhrady 1. faktury | B12: =C25+$B$7+$B$8 -> 46444
A14: Nákladový celek | B14: Zdroj | C14: Celkem bez DPH (Kč) | D14: Celkem vč. DPH (Kč) | E14: 07/2026 % | F14: 08/2026 % | G14: 09/2026 % | H14: 10/2026 % | J14: 07/2026 bez DPH | K14: 08/2026 bez DPH | L14: 09/2026 bez DPH | M14: 10/2026 bez DPH | O14: 07/2026 vč. DPH | P14: 08/2026 vč. DPH | Q14: 09/2026 vč. DPH | R14: 10/2026 vč. DPH | T14: Součet %
A15: SO-01 – střecha | B15: SO-01 dokončení do 30.9.2026 | C15: =PV_SO01!B16 -> 0 | D15: =C15*(1+$B$10) -> 0 | E15: 0.3 | F15: 0.4 | G15: 0.3 | H15: 0 | J15: =C15*E15 -> 0 | K15: =C15*F15 -> 0 | L15: =C15*G15 -> 0 | M15: =C15*H15 -> 0 | O15: =D15*E15 -> 0 | P15: =D15*F15 -> 0 | Q15: =D15*G15 -> 0 | R15: =D15*H15 -> 0 | T15: =SUM(E15:H15) -> 1
A16: SO-02 – Přízemí | B16: SO-02 dokončení do 31.10.2026 | C16: =PV_SO02!B15 -> 0 | D16: =C16*(1+$B$10) -> 0 | E16: 0.1 | F16: 0.25 | G16: 0.35 | H16: 0.3 | J16: =C16*E16 -> 0 | K16: =C16*F16 -> 0 | L16: =C16*G16 -> 0 | M16: =C16*H16 -> 0 | O16: =D16*E16 -> 0 | P16: =D16*F16 -> 0 | Q16: =D16*G16 -> 0 | R16: =D16*H16 -> 0 | T16: =SUM(E16:H16) -> 1
A17: SO-03 – Suterén | B17: SO-03 dokončení do 31.10.2026 | C17: =PV_SO03!B13 -> 0 | D17: =C17*(1+$B$10) -> 0 | E17: 0.05 | F17: 0.1 | G17: 0.2 | H17: 0.65 | J17: =C17*E17 -> 0 | K17: =C17*F17 -> 0 | L17: =C17*G17 -> 0 | M17: =C17*H17 -> 0 | O17: =D17*E17 -> 0 | P17: =D17*F17 -> 0 | Q17: =D17*G17 -> 0 | R17: =D17*H17 -> 0 | T17: =SUM(E17:H17) -> 1
A18: SO-04 – Vybavení kuchyně | B18: Dodávka a zprovoznění v 10/2026 | C18: ='SO 04 - Vybavení kuchyně'!F52 -> 0 | D18: =C18*(1+$B$10) -> 0 | E18: 0 | F18: 0 | G18: 0 | H18: 1 | J18: =C18*E18 -> 0 | K18: =C18*F18 -> 0 | L18: =C18*G18 -> 0 | M18: =C18*H18 -> 0 | O18: =D18*E18 -> 0 | P18: =D18*F18 -> 0 | Q18: =D18*G18 -> 0 | R18: =D18*H18 -> 0 | T18: =SUM(E18:H18) -> 1
A19: VRN bez dodavatelského úvěru | B19: Průběžné plnění; položka dodavatelského úvěru je počítána samostatně | C19: =VRN!F8+SUM(VRN!F28:F29,VRN!F31:F41) -> 0 | D19: =C19*(1+$B$10) -> 0 | E19: 0.2 | F19: 0.2 | G19: 0.2 | H19: 0.4 | J19: =C19*E19 -> 0 | K19: =C19*F19 -> 0 | L19: =C19*G19 -> 0 | M19: =C19*H19 -> 0 | O19: =D19*E19 -> 0 | P19: =D19*F19 -> 0 | Q19: =D19*G19 -> 0 | R19: =D19*H19 -> 0 | T19: =SUM(E19:H19) -> 1
A20: CELKEM | B20: Součet referenčního finančního plnění | C20: =SUM(C15:C19) -> 0 | D20: =SUM(D15:D19) -> 0 | E20: =O20/$D20 -> #DIV/0! | F20: =P20/$D20 -> #DIV/0! | G20: =Q20/$D20 -> #DIV/0! | H20: =R20/$D20 -> #DIV/0! | J20: =SUM(J15:J19) -> 0 | K20: =SUM(K15:K19) -> 0 | L20: =SUM(L15:L19) -> 0 | M20: =SUM(M15:M19) -> 0 | O20: =SUM(O15:O19) -> 0 | P20: =SUM(P15:P19) -> 0 | Q20: =SUM(Q15:Q19) -> 0 | R20: =SUM(R15:R19) -> 0 | T20: =SUM(E20:H20) -> #DIV/0!
A21: Kumulace vč. DPH | B21: Kumulativní měsíční fakturace | O21: =O20 -> 0 | P21: =O20+P20 -> 0 | Q21: =O20+P20+Q20 -> 0 | R21: =O20+P20+Q20+R20 -> 0
A24: Měsíc | B24: Modelová fakturace vč. DPH (Kč) | C24: Modelové datum fakturace | D24: Referenční datum úhrady (30 dnů) | E24: Dny dodavatelského úvěru nad referenční splatnost | F24: Modelové datum úhrady se smluvním úvěrem | G24: Modelový náklad financování (Kč)
A25: 07/2026 | B25: =O20 -> 0 | C25: =DATE(2026,7,31) -> 46234 | D25: =C25+$B$7 -> 46264 | E25: =MAX(0,$B$12-D25) -> 180 | F25: =$B$12 -> 46444 | G25: =B25*$B$11*E25/365 -> 0
A26: 08/2026 | B26: =P20 -> 0 | C26: =DATE(2026,8,31) -> 46265 | D26: =C26+$B$7 -> 46295 | E26: =MAX(0,$B$12-D26) -> 149 | F26: =$B$12 -> 46444 | G26: =B26*$B$11*E26/365 -> 0
A27: 09/2026 | B27: =Q20 -> 0 | C27: =DATE(2026,9,30) -> 46295 | D27: =C27+$B$7 -> 46325 | E27: =MAX(0,$B$12-D27) -> 119 | F27: =$B$12 -> 46444 | G27: =B27*$B$11*E27/365 -> 0
A28: 10/2026 | B28: =R20 -> 0 | C28: =DATE(2026,10,31) -> 46326 | D28: =C28+$B$7 -> 46356 | E28: =MAX(0,$B$12-D28) -> 88 | F28: =$B$12 -> 46444 | G28: =B28*$B$11*E28/365 -> 0
A30: CELKEM modelový náklad dodavatelského úvěru | G30: =SUM(G25:G28) -> 0
A32: Poznámka: | B32: Do listu VRN, buňka D30, dodavatel vyplní pouze roční sazbu financování. Modelový náklad dodavatelského úvěru se dopočítá po jednotlivých modelových fakturách z listu R-HMG podle referenčního finančního harmonogramu z částek včetně DPH. Cílové datum úhrady se odvozuje od první modelové faktury jako referenční splatnost první faktury zvýšená o 180 dnů dodavatelského úvěru; u dalších faktur se počet dnů dodavatelského úvěru stanoví jako rozdíl mezi tímto cílovým datem a referenční splatností příslušné faktury. Řádek 'VRN bez dodavatelského úvěru' je v R-HMG počítán bez položky VRN 2.3, aby nevznikal cyklický odkaz.
