Workbook
Name CelkemObjekty: Stavba!$F$34
Name CisloStavby: Stavba!$D$5
Name dadresa: Stavba!$D$8
Name DIČ: Stavba!$K$8
Name dmisto: Stavba!$D$9
Name dpsc: Stavba!$C$9
Name IČO: Stavba!$K$7
Name NazevObjektu: Stavba!$C$29
Name NazevStavby: Stavba!$E$5
Name Objednatel: Stavba!$D$11
Name Objekt: Stavba!$B$29
Name odic: Stavba!$K$12
Name oico: Stavba!$K$11
Name omisto: Stavba!$D$13
Name onazev: Stavba!$D$12
Name opsc: Stavba!$C$13
Name SazbaDPH1: Stavba!$D$19
Name SazbaDPH2: Stavba!$D$21
Name SoucetDilu: Stavba!$F$67:$J$67
Name StavbaCelkem: Stavba!$H$34
Name Zhotovitel: Stavba!$D$7

Sheet Stavba
C2: Slepý rozpočet stavby | H2: Datum: | I2: =TODAY() -> 42947
C5: Stavba : | D5: A/03/2016 | E5: Rohatec - bezbariérové chodníky - trasa "A"
C7: Objednatel : | H7: IČO :
H8: DIČ :
C11: Zhotovitel : | H11: IČO :
H12: DIČ :
C14: Za zhotovitele : | H14: Za objednatele :
C16: _______________ | H16: _______________
J18: Rozpočtové náklady
B19: Základ pro DPH | D19: 15 | E19: % | I19: =ROUND(G34,0) -> 0
B20: DPH | D20: =SazbaDPH1 -> 15 | E20: % | I20: =ROUND(I19*D20/100,0) -> 0
B21: Základ pro DPH | D21: 21 | E21: % | I21: =ROUND(H34,0) -> 0
B22: DPH | D22: =SazbaDPH2 -> 21 | E22: % | I22: =ROUND(I21*D21/100,0) -> 0
B23: Cena celkem za stavbu | I23: =SUM(I19:I22) -> 0
B27: Rekapitulace stavebních objektů a provozních souborů
B29: Číslo a název objektu / provozního souboru | F29: Cena celkem | G29: =CONCATENATE("Základ DPH ",SazbaDPH1," %") -> Základ DPH 15 % | H29: =CONCATENATE("Základ DPH ",SazbaDPH2," %") -> Základ DPH 21 % | I29: DPH celkem | J29: %
B30: SO 01.1 | C30: Úsek 1 - uznatelné náklady | F30: =G30+H30+I30 -> 0 | G30: 0 | H30: 0 | I30: =(G30*SazbaDPH1)/100+(H30*SazbaDPH2)/100 -> 0 | J30: =IF(CelkemObjekty=0,"",F30/CelkemObjekty*100)
B31: SO 01.2 | C31: Úsek 2 - neuznatelné náklady stavby | F31: =G31+H31+I31 -> 0 | G31: 0 | H31: 0 | I31: =(G31*SazbaDPH1)/100+(H31*SazbaDPH2)/100 -> 0 | J31: =IF(CelkemObjekty=0,"",F31/CelkemObjekty*100)
B32: SO 02 | C32: Náklady nutné k realizaci stavby | F32: =G32+H32+I32 -> 0 | G32: 0 | H32: 0 | I32: =(G32*SazbaDPH1)/100+(H32*SazbaDPH2)/100 -> 0 | J32: =IF(CelkemObjekty=0,"",F32/CelkemObjekty*100)
B33: SO 03 | C33: Neuznatelné náklady stavby | F33: =G33+H33+I33 -> 0 | G33: 0 | H33: 0 | I33: =(G33*SazbaDPH1)/100+(H33*SazbaDPH2)/100 -> 0 | J33: =IF(CelkemObjekty=0,"",F33/CelkemObjekty*100)
B34: Celkem za stavbu | F34: =SUM(F30:F33) -> 0 | G34: =SUM(G30:G33) -> 0 | H34: =SUM(H30:H33) -> 0 | I34: =SUM(I30:I33) -> 0 | J34: =IF(CelkemObjekty=0,"",F34/CelkemObjekty*100)
B38: Rekapitulace stavebních rozpočtů
B40: Číslo objektu | C40: Číslo a název rozpočtu | F40: Cena celkem | G40: =CONCATENATE("Základ DPH ",SazbaDPH1," %") -> Základ DPH 15 % | H40: =CONCATENATE("Základ DPH ",SazbaDPH2," %") -> Základ DPH 21 % | I40: DPH celkem | J40: %
B41: SO 01.1 | C41: 001 Úsek 1 - uznatelné náklady | F41: =G41+H41+I41 -> 0 | G41: 0 | H41: 0 | I41: =(G41*SazbaDPH1)/100+(H41*SazbaDPH2)/100 -> 0 | J41: =IF(CelkemObjekty=0,"",F41/CelkemObjekty*100)
B42: SO 01.2 | C42: 001 Úsek 2 - neuznatelné náklady stavby | F42: =G42+H42+I42 -> 0 | G42: 0 | H42: 0 | I42: =(G42*SazbaDPH1)/100+(H42*SazbaDPH2)/100 -> 0 | J42: =IF(CelkemObjekty=0,"",F42/CelkemObjekty*100)
B43: SO 02 | C43: 001 Náklady nutné k realizaci stavby | F43: =G43+H43+I43 -> 0 | G43: 0 | H43: 0 | I43: =(G43*SazbaDPH1)/100+(H43*SazbaDPH2)/100 -> 0 | J43: =IF(CelkemObjekty=0,"",F43/CelkemObjekty*100)
B44: SO 03 | C44: 001 Neuznatelné náklady stavby | F44: =G44+H44+I44 -> 0 | G44: 0 | H44: 0 | I44: =(G44*SazbaDPH1)/100+(H44*SazbaDPH2)/100 -> 0 | J44: =IF(CelkemObjekty=0,"",F44/CelkemObjekty*100)
B45: Celkem za stavbu | F45: =SUM(F41:F44) -> 0 | G45: =SUM(G41:G44) -> 0 | H45: =SUM(H41:H44) -> 0 | I45: =SUM(I41:I44) -> 0 | J45: =IF(CelkemObjekty=0,"",F45/CelkemObjekty*100)
B50: Rekapitulace stavebních dílů
B52: Číslo a název dílu | E52: % | F52: HSV | G52: PSV | H52: Dodávka | I52: Montáž | J52: HZS
B53: 0 | C53: Přípravné a pomocné práce | E53: =IF(SUM(SoucetDilu)=0,"",SUM(F53:J53)/SUM(SoucetDilu)*100) | F53: 0 | G53: 0 | H53: 0 | I53: 0 | J53: 0
B54: 1 | C54: Zemní práce | E54: =IF(SUM(SoucetDilu)=0,"",SUM(F54:J54)/SUM(SoucetDilu)*100) | F54: 0 | G54: 0 | H54: 0 | I54: 0 | J54: 0
B55: 2 | C55: Základy a zvláštní zakládání | E55: =IF(SUM(SoucetDilu)=0,"",SUM(F55:J55)/SUM(SoucetDilu)*100) | F55: 0 | G55: 0 | H55: 0 | I55: 0 | J55: 0
B56: 4 | C56: Vodorovné konstrukce | E56: =IF(SUM(SoucetDilu)=0,"",SUM(F56:J56)/SUM(SoucetDilu)*100) | F56: 0 | G56: 0 | H56: 0 | I56: 0 | J56: 0
B57: 5 | C57: Komunikace | E57: =IF(SUM(SoucetDilu)=0,"",SUM(F57:J57)/SUM(SoucetDilu)*100) | F57: 0 | G57: 0 | H57: 0 | I57: 0 | J57: 0
B58: 62 | C58: Úpravy povrchů vnější | E58: =IF(SUM(SoucetDilu)=0,"",SUM(F58:J58)/SUM(SoucetDilu)*100) | F58: 0 | G58: 0 | H58: 0 | I58: 0 | J58: 0
B59: 711 | C59: Izolace proti vodě | E59: =IF(SUM(SoucetDilu)=0,"",SUM(F59:J59)/SUM(SoucetDilu)*100) | F59: 0 | G59: 0 | H59: 0 | I59: 0 | J59: 0
B60: 767 | C60: Konstrukce zámečnické | E60: =IF(SUM(SoucetDilu)=0,"",SUM(F60:J60)/SUM(SoucetDilu)*100) | F60: 0 | G60: 0 | H60: 0 | I60: 0 | J60: 0
B61: 783 | C61: Nátěry | E61: =IF(SUM(SoucetDilu)=0,"",SUM(F61:J61)/SUM(SoucetDilu)*100) | F61: 0 | G61: 0 | H61: 0 | I61: 0 | J61: 0
B62: 8 | C62: Trubní vedení | E62: =IF(SUM(SoucetDilu)=0,"",SUM(F62:J62)/SUM(SoucetDilu)*100) | F62: 0 | G62: 0 | H62: 0 | I62: 0 | J62: 0
B63: 91 | C63: Doplňující práce na komunikaci | E63: =IF(SUM(SoucetDilu)=0,"",SUM(F63:J63)/SUM(SoucetDilu)*100) | F63: 0 | G63: 0 | H63: 0 | I63: 0 | J63: 0
B64: 96 | C64: Bourání konstrukcí | E64: =IF(SUM(SoucetDilu)=0,"",SUM(F64:J64)/SUM(SoucetDilu)*100) | F64: 0 | G64: 0 | H64: 0 | I64: 0 | J64: 0
... B66: D96 | C66: Přesuny suti a vybouraných hmot | E66: =IF(SUM(SoucetDilu)=0,"",SUM(F66:J66)/SUM(SoucetDilu)*100) | F66: 0 | G66: 0 | H66: 0 | I66: 0 | J66: 0
B67: Celkem za stavbu | E67: =IF(SUM(SoucetDilu)=0,"",SUM(F67:J67)/SUM(SoucetDilu)*100) | F67: =SUM(F53:F66) -> 0 | G67: =SUM(G53:G66) -> 0 | H67: =SUM(H53:H66) -> 0 | I67: =SUM(I53:I66) -> 0 | J67: =SUM(J53:J66) -> 0
B74: Rekapitulace vedlejších rozpočtových nákladů
B76: Název vedlejšího nákladu | H76: Cena celkem
B77: Ztížené výrobní podmínky | H77: 0
B78: Oborová přirážka | H78: 0
B79: Přesun stavebních kapacit | H79: 0
B80: Mimostaveništní doprava | H80: 0
B81: Zařízení staveniště | H81: 0
B82: Provoz investora | H82: 0
B83: Kompletační činnost (IČD) | H83: 0
B84: Rezerva rozpočtu | H84: 0
B85: Celkem za stavbu | H85: =SUM(H77:H84) -> 0

Sheet SO 01.1 001 KL
A1: SLEPÝ ROZPOČET
A2: Rozpočet | C2: 001 | D2: Úsek 1 - uznatelné náklady | F2: JKSO
A4: Objekt | F4: SKP
A5: SO 01.1 | C5: Úsek 1 - uznatelné náklady | F5: Měrná jednotka
A6: Stavba | F6: Počet jednotek
A7: A/03/2016 | C7: Rohatec - bezbariérové chodníky - trasa "A" | F7: Náklady na m.j. | G7: =IF(G6=0,,ROUND((F30+F32)/G6,1)) -> 0
A8: Projektant | F8: Typ rozpočtu
A9: Zpracovatel projektu
A10: Objednatel
A11: Dodavatel | F11: Zakázkové číslo
A12: Rozpočtoval | F12: Počet listů
A13: ROZPOČTOVÉ NÁKLADY
A14: Základní rozpočtové náklady | D14: Ostatní rozpočtové náklady
B15: HSV celkem | C15: ='SO 01.1 001 Rek'!E20 -> 0 | D15: ='SO 01.1 001 Rek'!A25 -> Ztížené výrobní podmínky | G15: ='SO 01.1 001 Rek'!I25 -> 0
A16: Z | B16: PSV celkem | C16: ='SO 01.1 001 Rek'!F20 -> 0 | D16: ='SO 01.1 001 Rek'!A26 -> Oborová přirážka | G16: ='SO 01.1 001 Rek'!I26 -> 0
A17: R | B17: M práce celkem | C17: ='SO 01.1 001 Rek'!H20 -> 0 | D17: ='SO 01.1 001 Rek'!A27 -> Přesun stavebních kapacit | G17: ='SO 01.1 001 Rek'!I27 -> 0
A18: N | B18: M dodávky celkem | C18: ='SO 01.1 001 Rek'!G20 -> 0 | D18: ='SO 01.1 001 Rek'!A28 -> Mimostaveništní doprava | G18: ='SO 01.1 001 Rek'!I28 -> 0
A19: ZRN celkem | C19: =SUM(C15:C18) -> 0 | D19: ='SO 01.1 001 Rek'!A29 -> Zařízení staveniště | G19: ='SO 01.1 001 Rek'!I29 -> 0
D20: ='SO 01.1 001 Rek'!A30 -> Provoz investora | G20: ='SO 01.1 001 Rek'!I30 -> 0
A21: HZS | C21: ='SO 01.1 001 Rek'!I20 -> 0 | D21: ='SO 01.1 001 Rek'!A31 -> Kompletační činnost (IČD) | G21: ='SO 01.1 001 Rek'!I31 -> 0
A22: ZRN+HZS | C22: =C19+C21 -> 0 | D22: Ostatní náklady neuvedené | G22: =G23-SUM(G15:G21) -> 0
A23: ZRN+ost.náklady+HZS | C23: =C22+G23 -> 0 | D23: Ostatní náklady celkem | G23: ='SO 01.1 001 Rek'!H33 -> 0
A24: Vypracoval | D24: Za zhotovitele | F24: Za objednatele
A25: Jméno : | D25: Jméno : | F25: Jméno :
A26: Datum : | D26: Datum : | F26: Datum :
A28: Podpis : | D28: Podpis: | F28: Podpis:
A30: Základ pro DPH | C30: 21 | D30: % | F30: =C23-F32 -> 0
A31: DPH | C31: =C30 -> 21 | D31: % | F31: =ROUND(PRODUCT(F30,C31/100),0) -> 0
A32: Základ pro DPH | C32: 0 | D32: % | F32: 0
A33: DPH | C33: =C32 -> 0 | D33: % | F33: =ROUND(PRODUCT(F32,C33/100),0) -> 0
A34: CENA ZA OBJEKT CELKEM | F34: =ROUND(SUM(F30:F33),0) -> 0
A36: Poznámka :

Sheet SO 01.1 001 Rek
A1: Stavba : | C1: A/03/2016 Rohatec - bezbariérové chodníky - trasa "A" | G1: Rozpočet : | H1: 001
A2: Objekt : | C2: SO 01.1 Úsek 1 - uznatelné náklady | G2: Úsek 1 - uznatelné náklady
A4: REKAPITULACE STAVEBNÍCH DÍLŮ
B6: Stavební díl | E6: HSV | F6: PSV | G6: Dodávka | H6: Montáž | I6: HZS
A7: ='SO 01.1 001 Pol'!B7 -> 1 | B7: ='SO 01.1 001 Pol'!C7 -> Zemní práce | E7: ='SO 01.1 001 Pol'!BA84 -> 0 | F7: ='SO 01.1 001 Pol'!BB84 -> 0 | G7: ='SO 01.1 001 Pol'!BC84 -> 0 | H7: ='SO 01.1 001 Pol'!BD84 -> 0 | I7: ='SO 01.1 001 Pol'!BE84 -> 0
A8: ='SO 01.1 001 Pol'!B85 -> 2 | B8: ='SO 01.1 001 Pol'!C85 -> Základy a zvláštní zakládání | E8: ='SO 01.1 001 Pol'!BA94 -> 0 | F8: ='SO 01.1 001 Pol'!BB94 -> 0 | G8: ='SO 01.1 001 Pol'!BC94 -> 0 | H8: ='SO 01.1 001 Pol'!BD94 -> 0 | I8: ='SO 01.1 001 Pol'!BE94 -> 0
A9: ='SO 01.1 001 Pol'!B95 -> 4 | B9: ='SO 01.1 001 Pol'!C95 -> Vodorovné konstrukce | E9: ='SO 01.1 001 Pol'!BA99 -> 0 | F9: ='SO 01.1 001 Pol'!BB99 -> 0 | G9: ='SO 01.1 001 Pol'!BC99 -> 0 | H9: ='SO 01.1 001 Pol'!BD99 -> 0 | I9: ='SO 01.1 001 Pol'!BE99 -> 0
A10: ='SO 01.1 001 Pol'!B100 -> 5 | B10: ='SO 01.1 001 Pol'!C100 -> Komunikace | E10: ='SO 01.1 001 Pol'!BA166 -> 0 | F10: ='SO 01.1 001 Pol'!BB166 -> 0 | G10: ='SO 01.1 001 Pol'!BC166 -> 0 | H10: ='SO 01.1 001 Pol'!BD166 -> 0 | I10: ='SO 01.1 001 Pol'!BE166 -> 0
A11: ='SO 01.1 001 Pol'!B167 -> 62 | B11: ='SO 01.1 001 Pol'!C167 -> Úpravy povrchů vnější | E11: ='SO 01.1 001 Pol'!BA170 -> 0 | F11: ='SO 01.1 001 Pol'!BB170 -> 0 | G11: ='SO 01.1 001 Pol'!BC170 -> 0 | H11: ='SO 01.1 001 Pol'!BD170 -> 0 | I11: ='SO 01.1 001 Pol'!BE170 -> 0
A12: ='SO 01.1 001 Pol'!B171 -> 8 | B12: ='SO 01.1 001 Pol'!C171 -> Trubní vedení | E12: ='SO 01.1 001 Pol'!BA178 -> 0 | F12: ='SO 01.1 001 Pol'!BB178 -> 0 | G12: ='SO 01.1 001 Pol'!BC178 -> 0 | H12: ='SO 01.1 001 Pol'!BD178 -> 0 | I12: ='SO 01.1 001 Pol'!BE178 -> 0
A13: ='SO 01.1 001 Pol'!B179 -> 91 | B13: ='SO 01.1 001 Pol'!C179 -> Doplňující práce na komunikaci | E13: ='SO 01.1 001 Pol'!BA228 -> 0 | F13: ='SO 01.1 001 Pol'!BB228 -> 0 | G13: ='SO 01.1 001 Pol'!BC228 -> 0 | H13: ='SO 01.1 001 Pol'!BD228 -> 0 | I13: ='SO 01.1 001 Pol'!BE228 -> 0
A14: ='SO 01.1 001 Pol'!B229 -> 96 | B14: ='SO 01.1 001 Pol'!C229 -> Bourání konstrukcí | E14: ='SO 01.1 001 Pol'!BA236 -> 0 | F14: ='SO 01.1 001 Pol'!BB236 -> 0 | G14: ='SO 01.1 001 Pol'!BC236 -> 0 | H14: ='SO 01.1 001 Pol'!BD236 -> 0 | I14: ='SO 01.1 001 Pol'!BE236 -> 0
A15: ='SO 01.1 001 Pol'!B237 -> 99 | B15: ='SO 01.1 001 Pol'!C237 -> Staveništní přesun hmot | E15: ='SO 01.1 001 Pol'!BA239 -> 0 | F15: ='SO 01.1 001 Pol'!BB239 -> 0 | G15: ='SO 01.1 001 Pol'!BC239 -> 0 | H15: ='SO 01.1 001 Pol'!BD239 -> 0 | I15: ='SO 01.1 001 Pol'!BE239 -> 0
A16: ='SO 01.1 001 Pol'!B240 -> 711 | B16: ='SO 01.1 001 Pol'!C240 -> Izolace proti vodě | E16: ='SO 01.1 001 Pol'!BA246 -> 0 | F16: ='SO 01.1 001 Pol'!BB246 -> 0 | G16: ='SO 01.1 001 Pol'!BC246 -> 0 | H16: ='SO 01.1 001 Pol'!BD246 -> 0 | I16: ='SO 01.1 001 Pol'!BE246 -> 0
A17: ='SO 01.1 001 Pol'!B247 -> 767 | B17: ='SO 01.1 001 Pol'!C247 -> Konstrukce zámečnické | E17: ='SO 01.1 001 Pol'!BA256 -> 0 | F17: ='SO 01.1 001 Pol'!BB256 -> 0 | G17: ='SO 01.1 001 Pol'!BC256 -> 0 | H17: ='SO 01.1 001 Pol'!BD256 -> 0 | I17: ='SO 01.1 001 Pol'!BE256 -> 0
A18: ='SO 01.1 001 Pol'!B257 -> 783 | B18: ='SO 01.1 001 Pol'!C257 -> Nátěry | E18: ='SO 01.1 001 Pol'!BA259 -> 0 | F18: ='SO 01.1 001 Pol'!BB259 -> 0 | G18: ='SO 01.1 001 Pol'!BC259 -> 0 | H18: ='SO 01.1 001 Pol'!BD259 -> 0 | I18: ='SO 01.1 001 Pol'!BE259 -> 0
A19: ='SO 01.1 001 Pol'!B260 -> D96 | B19: ='SO 01.1 001 Pol'!C260 -> Přesuny suti a vybouraných hmot | E19: ='SO 01.1 001 Pol'!BA264 -> 0 | F19: ='SO 01.1 001 Pol'!BB264 -> 0 | G19: ='SO 01.1 001 Pol'!BC264 -> 0 | H19: ='SO 01.1 001 Pol'!BD264 -> 0 | I19: ='SO 01.1 001 Pol'!BE264 -> 0
B20: CELKEM OBJEKT | E20: =SUM(E7:E19) -> 0 | F20: =SUM(F7:F19) -> 0 | G20: =SUM(G7:G19) -> 0 | H20: =SUM(H7:H19) -> 0 | I20: =SUM(I7:I19) -> 0
A22: VEDLEJŠÍ ROZPOČTOVÉ NÁKLADY
A24: Název VRN | E24: Kč | F24: % | G24: Základna | I24: Kč
A25: Ztížené výrobní podmínky | G25: 0 | I25: =E25+F25*G25/100 -> 0 | BA25: 0
A26: Oborová přirážka | G26: 0 | I26: =E26+F26*G26/100 -> 0 | BA26: 0
A27: Přesun stavebních kapacit | G27: 0 | I27: =E27+F27*G27/100 -> 0 | BA27: 0
A28: Mimostaveništní doprava | G28: 0 | I28: =E28+F28*G28/100 -> 0 | BA28: 0
A29: Zařízení staveniště | G29: 0 | I29: =E29+F29*G29/100 -> 0 | BA29: 1
A30: Provoz investora | G30: 0 | I30: =E30+F30*G30/100 -> 0 | BA30: 1
A31: Kompletační činnost (IČD) | G31: 0 | I31: =E31+F31*G31/100 -> 0 | BA31: 2
A32: Rezerva rozpočtu | G32: 0 | I32: =E32+F32*G32/100 -> 0 | BA32: 2
B33: CELKEM VRN | H33: =SUM(I25:I32) -> 0

Sheet SO 01.1 001 Pol
A1: Slepý rozpočet
A3: Stavba : | C3: A/03/2016 Rohatec - bezbariérové chodníky - trasa "A" | E3: Rozpočet: | F3: ='SO 01.1 001 Rek'!H1 -> 001
A4: Objekt : | C4: SO 01.1 Úsek 1 - uznatelné náklady | E4: ='SO 01.1 001 Rek'!G2 -> Úsek 1 - uznatelné náklady
A6: P.č. | B6: Číslo položky | C6: Název položky | D6: MJ | E6: množství | F6: cena / MJ | G6: celkem (Kč) | H6: Jednotková hmotnost | I6: Celková hmotnost | J6: Jednotková dem.hmot. | K6: Celková dem.hmot.
A7: Díl: | B7: 1 | C7: Zemní práce | O7: 1
A8: 1 | B8: 113106121R00 | C8: Rozebrání dlažeb z betonových dlaždic na sucho | D8: m2 | E8: 706.4 | F8: 0 | G8: =E8*F8 -> 0 | H8: 0 | I8: =E8*H8 -> 0 | J8: -0.138 | K8: =E8*J8 -> -97.4832 | O8: 2 | AA8: 1 | AB8: 1 | AC8: 1 | AZ8: 1 | BA8: =IF(AZ8=1,G8,0) -> 0 | BB8: =IF(AZ8=2,G8,0) -> 0 | BC8: =IF(AZ8=3,G8,0) -> 0 | BD8: =IF(AZ8=4,G8,0) -> 0 | BE8: =IF(AZ8=5,G8,0) -> 0 | CA8: 1 | CB8: 1
C9: 310,0+183,0+340,0 | E9: 833 | M9: 310,0+183,0+340,0
C10: -126,60 | E10: -126.6 | M10: -126,60
A11: 2 | B11: 113106231R00 | C11: Rozebrání dlažeb ze zámkové dlažby v kamenivu | D11: m2 | E11: 2842.7 | F11: 0 | G11: =E11*F11 -> 0 | H11: 0 | I11: =E11*H11 -> 0 | J11: -0.225 | K11: =E11*J11 -> -639.6075 | O11: 2 | AA11: 1 | AB11: 1 | AC11: 1 | AZ11: 1 | BA11: =IF(AZ11=1,G11,0) -> 0 | BB11: =IF(AZ11=2,G11,0) -> 0 | BC11: =IF(AZ11=3,G11,0) -> 0 | BD11: =IF(AZ11=4,G11,0) -> 0 | BE11: =IF(AZ11=5,G11,0) -> 0 | CA11: 1 | CB11: 1
C12: 412,0+17,50+9,0+1773,0+147,0+1008,0 | E12: 3366.5 | M12: 412,0+17,50+9,0+1773,0+147,0+1008,0
C13: -523,80 | E13: -523.8 | M13: -523,80
A14: 3 | B14: 113107132R00 | C14: Odstranění podkladu pl.200 m2, bet.prostý tl.30 cm | D14: m2 | E14: 36.78 | F14: 0 | G14: =E14*F14 -> 0 | H14: 0 | I14: =E14*H14 -> 0 | J14: -0.5 | K14: =E14*J14 -> -18.39 | O14: 2 | AA14: 1 | AB14: 1 | AC14: 1 | AZ14: 1 | BA14: =IF(AZ14=1,G14,0) -> 0 | BB14: =IF(AZ14=2,G14,0) -> 0 | BC14: =IF(AZ14=3,G14,0) -> 0 | BD14: =IF(AZ14=4,G14,0) -> 0 | BE14: =IF(AZ14=5,G14,0) -> 0 | CA14: 1 | CB14: 1
A15: 4 | B15: 113107143R00 | C15: Odstranění podkladu pl.do 200 m2, živice tl. 15 cm | D15: m2 | E15: 116.5 | F15: 0 | G15: =E15*F15 -> 0 | H15: 0 | I15: =E15*H15 -> 0 | J15: -0.316 | K15: =E15*J15 -> -36.814 | O15: 2 | AA15: 1 | AB15: 1 | AC15: 1 | AZ15: 1 | BA15: =IF(AZ15=1,G15,0) -> 0 | BB15: =IF(AZ15=2,G15,0) -> 0 | BC15: =IF(AZ15=3,G15,0) -> 0 | BD15: =IF(AZ15=4,G15,0) -> 0 | BE15: =IF(AZ15=5,G15,0) -> 0 | CA15: 1 | CB15: 1
C16: 113,0+29,00 | E16: 142 | M16: 113,0+29,00
C17: -25,50 | E17: -25.5 | M17: -25,50
A18: 5 | B18: 113107144R00 | C18: Odstranění podkladu pl.do 200 m2, živice tl. 20 cm | D18: m2 | E18: 6 | F18: 0 | G18: =E18*F18 -> 0 | H18: 0 | I18: =E18*H18 -> 0 | J18: -0.45 | K18: =E18*J18 -> -2.7 | O18: 2 | AA18: 1 | AB18: 1 | AC18: 1 | AZ18: 1 | BA18: =IF(AZ18=1,G18,0) -> 0 | BB18: =IF(AZ18=2,G18,0) -> 0 | BC18: =IF(AZ18=3,G18,0) -> 0 | BD18: =IF(AZ18=4,G18,0) -> 0 | BE18: =IF(AZ18=5,G18,0) -> 0 | CA18: 1 | CB18: 1
C19: 10,0*0,6 | E19: 6 | M19: 10,0*0,6
A20: 6 | B20: 113107211R00 | C20: Odstranění podkladu nad 200 m2,kam.těžené tl.10 cm | D20: m2 | E20: 3749.1 | F20: 0 | G20: =E20*F20 -> 0 | H20: 0 | I20: =E20*H20 -> 0 | J20: -0.16 | K20: =E20*J20 -> -599.856 | O20: 2 | AA20: 1 | AB20: 1 | AC20: 1 | AZ20: 1 | BA20: =IF(AZ20=1,G20,0) -> 0 | BB20: =IF(AZ20=2,G20,0) -> 0 | BC20: =IF(AZ20=3,G20,0) -> 0 | BD20: =IF(AZ20=4,G20,0) -> 0 | BE20: =IF(AZ20=5,G20,0) -> 0 | CA20: 1 | CB20: 1
C21: 4399,50 | E21: 4399.5 | M21: 4399,50
C22: -650,40 | E22: -650.4 | M22: -650,40
A23: 7 | B23: 113107221R00 | C23: Odstranění podkladu nad 200 m2,kam.drcené tl.10 cm | D23: m2 | E23: 650.4 | F23: 0 | G23: =E23*F23 -> 0 | H23: 0 | I23: =E23*H23 -> 0 | J23: -0.13 | K23: =E23*J23 -> -84.552 | O23: 2 | AA23: 1 | AB23: 0 | AC23: 0 | AZ23: 1 | BA23: =IF(AZ23=1,G23,0) -> 0 | BB23: =IF(AZ23=2,G23,0) -> 0 | BC23: =IF(AZ23=3,G23,0) -> 0 | BD23: =IF(AZ23=4,G23,0) -> 0 | BE23: =IF(AZ23=5,G23,0) -> 0 | CA23: 1 | CB23: 0
C24: 650,40 | E24: 650.4 | M24: 650,40
A25: 8 | B25: 113202111R00 | C25: Vytrhání obrub z krajníků nebo obrubníků stojatých | D25: m | E25: 2683.8 | F25: 0 | G25: =E25*F25 -> 0 | H25: 0 | I25: =E25*H25 -> 0 | J25: -0.145 | K25: =E25*J25 -> -389.151 | O25: 2 | AA25: 1 | AB25: 1 | AC25: 1 | AZ25: 1 | BA25: =IF(AZ25=1,G25,0) -> 0 | BB25: =IF(AZ25=2,G25,0) -> 0 | BC25: =IF(AZ25=3,G25,0) -> 0 | BD25: =IF(AZ25=4,G25,0) -> 0 | BE25: =IF(AZ25=5,G25,0) -> 0 | CA25: 1 | CB25: 1
C26: 130,0+404,80+18,30+22,50+14,70+10,0+198,70+22,80+1352,0+77,90+110,0 | E26: 2361.7 | M26: 130,0+404,80+18,30+22,50+14,70+10,0+198,70+22,80+1352,0+77,90+110,0
C27: 185,0+180,10+930,50 | E27: 1295.6 | M27: 185,0+180,10+930,50
C28: -973,50 | E28: -973.5 | M28: -973,50
A29: 9 | B29: 122202202R00 | C29: Odkopávky pro silnice v hor. 3 do 1000 m3 | D29: m3 | E29: 1128.163 | F29: 0 | G29: =E29*F29 -> 0 | H29: 0 | I29: =E29*H29 -> 0 | J29: 0 | K29: =E29*J29 -> 0 | O29: 2 | AA29: 1 | AB29: 1 | AC29: 1 | AZ29: 1 | BA29: =IF(AZ29=1,G29,0) -> 0 | BB29: =IF(AZ29=2,G29,0) -> 0 | BC29: =IF(AZ29=3,G29,0) -> 0 | BD29: =IF(AZ29=4,G29,0) -> 0 | BE29: =IF(AZ29=5,G29,0) -> 0 | CA29: 1 | CB29: 1
C30: (139,0+486,30+21,90+11,60+353,0+1981,20+161,70+220,80+335,50)*0,37*0,80 | E30: 1098.456 | M30: (139,0+486,30+21,90+11,60+353,0+1981,20+161,70+220,80+335,50)*0,37*0,80
C31: 1194,50*0,37*0,80 | E31: 353.572 | M31: 1194,50*0,37*0,80
C32: -323,865 | E32: -323.865 | M32: -323865
A33: 10 | B33: 122202209R00 | C33: Příplatek za lepivost - odkop. pro silnice v hor.3 | D33: m3 | E33: 1128.163 | F33: 0 | G33: =E33*F33 -> 0 | H33: 0 | I33: =E33*H33 -> 0 | J33: 0 | K33: =E33*J33 -> 0 | O33: 2 | AA33: 1 | AB33: 1 | AC33: 1 | AZ33: 1 | BA33: =IF(AZ33=1,G33,0) -> 0 | BB33: =IF(AZ33=2,G33,0) -> 0 | BC33: =IF(AZ33=3,G33,0) -> 0 | BD33: =IF(AZ33=4,G33,0) -> 0 | BE33: =IF(AZ33=5,G33,0) -> 0 | CA33: 1 | CB33: 1
C34: (139,0+486,30+21,90+11,60+353,0+1981,20+161,70+220,80+335,50)*0,37*0,80 | E34: 1098.456 | M34: (139,0+486,30+21,90+11,60+353,0+1981,20+161,70+220,80+335,50)*0,37*0,80
C35: 1194,50*0,37*0,80 | E35: 353.572 | M35: 1194,50*0,37*0,80
C36: -323,865 | E36: -323.865 | M36: -323865
A37: 11 | B37: 131201101R00 | C37: Hloubení nezapažených jam v hor.3 do 100 m3 | D37: m3 | E37: 6.75 | F37: 0 | G37: =E37*F37 -> 0 | H37: 0 | I37: =E37*H37 -> 0 | J37: 0 | K37: =E37*J37 -> 0 | O37: 2 | AA37: 1 | AB37: 1 | AC37: 1 | AZ37: 1 | BA37: =IF(AZ37=1,G37,0) -> 0 | BB37: =IF(AZ37=2,G37,0) -> 0 | BC37: =IF(AZ37=3,G37,0) -> 0 | BD37: =IF(AZ37=4,G37,0) -> 0 | BE37: =IF(AZ37=5,G37,0) -> 0 | CA37: 1 | CB37: 1
C38: 1,50*1,50*1,50*2 | E38: 6.75 | M38: 1,50*1,50*1,50*2
A39: 12 | B39: 131201109R00 | C39: Příplatek za lepivost - hloubení nezap.jam v hor.3 | D39: m3 | E39: 6.75 | F39: 0 | G39: =E39*F39 -> 0 | H39: 0 | I39: =E39*H39 -> 0 | J39: 0 | K39: =E39*J39 -> 0 | O39: 2 | AA39: 1 | AB39: 1 | AC39: 1 | AZ39: 1 | BA39: =IF(AZ39=1,G39,0) -> 0 | BB39: =IF(AZ39=2,G39,0) -> 0 | BC39: =IF(AZ39=3,G39,0) -> 0 | BD39: =IF(AZ39=4,G39,0) -> 0 | BE39: =IF(AZ39=5,G39,0) -> 0 | CA39: 1 | CB39: 1
C40: 1,50*1,50*1,50*2 | E40: 6.75 | M40: 1,50*1,50*1,50*2
A41: 13 | B41: 132201101R00 | C41: Hloubení rýh šířky do 60 cm v hor.3 do 100 m3 | D41: m3 | E41: 7.8 | F41: 0 | G41: =E41*F41 -> 0 | H41: 0 | I41: =E41*H41 -> 0 | J41: 0 | K41: =E41*J41 -> 0 | O41: 2 | AA41: 1 | AB41: 1 | AC41: 1 | AZ41: 1 | BA41: =IF(AZ41=1,G41,0) -> 0 | BB41: =IF(AZ41=2,G41,0) -> 0 | BC41: =IF(AZ41=3,G41,0) -> 0 | BD41: =IF(AZ41=4,G41,0) -> 0 | BE41: =IF(AZ41=5,G41,0) -> 0 | CA41: 1 | CB41: 1
C42: 10,0*0,60*1,30 | E42: 7.8 | M42: 10,0*0,60*1,30
A43: 14 | B43: 132201109R00 | C43: Příplatek za lepivost - hloubení rýh 60 cm v hor.3 | D43: m3 | E43: 7.8 | F43: 0 | G43: =E43*F43 -> 0 | H43: 0 | I43: =E43*H43 -> 0 | J43: 0 | K43: =E43*J43 -> 0 | O43: 2 | AA43: 1 | AB43: 1 | AC43: 1 | AZ43: 1 | BA43: =IF(AZ43=1,G43,0) -> 0 | BB43: =IF(AZ43=2,G43,0) -> 0 | BC43: =IF(AZ43=3,G43,0) -> 0 | BD43: =IF(AZ43=4,G43,0) -> 0 | BE43: =IF(AZ43=5,G43,0) -> 0 | CA43: 1 | CB43: 1
C44: 10,0*0,60*1,30 | E44: 7.8 | M44: 10,0*0,60*1,30
A45: 15 | B45: 139601102R00 | C45: Ruční výkop jam, rýh a šachet v hornině tř. 3 | D45: m3 | E45: 8.992 | F45: 0 | G45: =E45*F45 -> 0 | H45: 0 | I45: =E45*H45 -> 0 | J45: 0 | K45: =E45*J45 -> 0 | O45: 2 | AA45: 1 | AB45: 1 | AC45: 1 | AZ45: 1 | BA45: =IF(AZ45=1,G45,0) -> 0 | BB45: =IF(AZ45=2,G45,0) -> 0 | BC45: =IF(AZ45=3,G45,0) -> 0 | BD45: =IF(AZ45=4,G45,0) -> 0 | BE45: =IF(AZ45=5,G45,0) -> 0 | CA45: 1 | CB45: 1
C46: 8*0,30*0,30*0,60 | E46: 0.432 | M46: 8*0,30*0,30*0,60
C47: 25,70*0,40*0,80 | E47: 8.224 | M47: 25,70*0,40*0,80
C48: 3*0,40*0,40*0,70 | E48: 0.336 | M48: 3*0,40*0,40*0,70
A49: 16 | B49: 162401102R00 | C49: Vodorovné přemístění výkopku z hor.1-4 do 2000 m | D49: m3 | E49: 1042.4256 | F49: 0 | G49: =E49*F49 -> 0 | H49: 0 | I49: =E49*H49 -> 0 | J49: 0 | K49: =E49*J49 -> 0 | O49: 2 | AA49: 1 | AB49: 1 | AC49: 1 | AZ49: 1 | BA49: =IF(AZ49=1,G49,0) -> 0 | BB49: =IF(AZ49=2,G49,0) -> 0 | BC49: =IF(AZ49=3,G49,0) -> 0 | BD49: =IF(AZ49=4,G49,0) -> 0 | BE49: =IF(AZ49=5,G49,0) -> 0 | CA49: 1 | CB49: 1
C50: 1042,4256 | E50: 1042.4256 | M50: 10424256
A51: 17 | B51: 167101201R00 | C51: Nakládání výkopku z hor.1 ÷ 4 - ručně | D51: m3 | E51: 8.992 | F51: 0 | G51: =E51*F51 -> 0 | H51: 0 | I51: =E51*H51 -> 0 | J51: 0 | K51: =E51*J51 -> 0 | O51: 2 | AA51: 1 | AB51: 1 | AC51: 1 | AZ51: 1 | BA51: =IF(AZ51=1,G51,0) -> 0 | BB51: =IF(AZ51=2,G51,0) -> 0 | BC51: =IF(AZ51=3,G51,0) -> 0 | BD51: =IF(AZ51=4,G51,0) -> 0 | BE51: =IF(AZ51=5,G51,0) -> 0 | CA51: 1 | CB51: 1
C52: 8*0,30*0,30*0,60 | E52: 0.432 | M52: 8*0,30*0,30*0,60
C53: 25,70*0,40*0,80 | E53: 8.224 | M53: 25,70*0,40*0,80
C54: 3*0,40*0,40*0,70 | E54: 0.336 | M54: 3*0,40*0,40*0,70
A55: 18 | B55: 171101102R00 | C55: Uložení sypaniny do násypů zhutněných na 96% PS | D55: m3 | E55: 68.7 | F55: 0 | G55: =E55*F55 -> 0 | H55: 0 | I55: =E55*H55 -> 0 | J55: 0 | K55: =E55*J55 -> 0 | O55: 2 | AA55: 1 | AB55: 1 | AC55: 1 | AZ55: 1 | BA55: =IF(AZ55=1,G55,0) -> 0 | BB55: =IF(AZ55=2,G55,0) -> 0 | BC55: =IF(AZ55=3,G55,0) -> 0 | BD55: =IF(AZ55=4,G55,0) -> 0 | BE55: =IF(AZ55=5,G55,0) -> 0 | CA55: 1 | CB55: 1
C56: 114,50*0,60 | E56: 68.7 | M56: 114,50*0,60
C57: 2,56*100 | E57: 256 | M57: 2,56*100
C58: -256 | E58: -256 | M58: -256
A59: 19 | B59: 171201101R00 | C59: Uložení sypaniny do násypů nezhutněných | D59: m3 | E59: 32.05 | F59: 0 | G59: =E59*F59 -> 0 | H59: 0 | I59: =E59*H59 -> 0 | J59: 0 | K59: =E59*J59 -> 0 | O59: 2 | AA59: 1 | AB59: 1 | AC59: 1 | AZ59: 1 | BA59: =IF(AZ59=1,G59,0) -> 0 | BB59: =IF(AZ59=2,G59,0) -> 0 | BC59: =IF(AZ59=3,G59,0) -> 0 | BD59: =IF(AZ59=4,G59,0) -> 0 | BE59: =IF(AZ59=5,G59,0) -> 0 | CA59: 1 | CB59: 1
A60: 20 | B60: 174101101R00 | C60: Zásyp jam, rýh, šachet se zhutněním | D60: m3 | E60: 119.7314 | F60: 0 | G60: =E60*F60 -> 0 | H60: 0 | I60: =E60*H60 -> 0 | J60: 0 | K60: =E60*J60 -> 0 | O60: 2 | AA60: 1 | AB60: 1 | AC60: 1 | AZ60: 1 | BA60: =IF(AZ60=1,G60,0) -> 0 | BB60: =IF(AZ60=2,G60,0) -> 0 | BC60: =IF(AZ60=3,G60,0) -> 0 | BD60: =IF(AZ60=4,G60,0) -> 0 | BE60: =IF(AZ60=5,G60,0) -> 0 | CA60: 1 | CB60: 1
C61: 287,88*0,37 | E61: 106.5156 | M61: 287,88*0,37
C62: 299,24*0,37 | E62: 110.7188 | M62: 299,24*0,37
C63: šp. obsyp fr. 0-4mm:25,70*0,60*0,60+10,0*0,60*0,20 | E63: 10.452 | M63: šp. obsyp fr. 0-4mm:25,70*0,60*0,60+10,0*0,60*0,20
C64: -107,955 | E64: -107.955 | M64: -107955
A65: 21 | B65: 180402111R00 | C65: Založení trávníku parkového výsevem v rovině | D65: m2 | E65: 371.21 | F65: 0 | G65: =E65*F65 -> 0 | H65: 0 | I65: =E65*H65 -> 0 | J65: 0 | K65: =E65*J65 -> 0 | O65: 2 | AA65: 1 | AB65: 1 | AC65: 1 | AZ65: 1 | BA65: =IF(AZ65=1,G65,0) -> 0 | BB65: =IF(AZ65=2,G65,0) -> 0 | BC65: =IF(AZ65=3,G65,0) -> 0 | BD65: =IF(AZ65=4,G65,0) -> 0 | BE65: =IF(AZ65=5,G65,0) -> 0 | CA65: 1 | CB65: 1
C66: 587,12 | E66: 587.12 | M66: 587,12
C67: -215,91 | E67: -215.91 | M67: -215,91
A68: 22 | B68: 180402113R00 | C68: Založení trávníku parkového výsevem svah do 1:1 | D68: m2 | E68: 143.125 | F68: 0 | G68: =E68*F68 -> 0 | H68: 0 | I68: =E68*H68 -> 0 | J68: 0 | K68: =E68*J68 -> 0 | O68: 2 | AA68: 1 | AB68: 1 | AC68: 1 | AZ68: 1 | BA68: =IF(AZ68=1,G68,0) -> 0 | BB68: =IF(AZ68=2,G68,0) -> 0 | BC68: =IF(AZ68=3,G68,0) -> 0 | BD68: =IF(AZ68=4,G68,0) -> 0 | BE68: =IF(AZ68=5,G68,0) -> 0 | CA68: 1 | CB68: 1
C69: 114,50*1,25 | E69: 143.125 | M69: 114,50*1,25
A70: 23 | B70: 181101102R00 | C70: Úprava pláně v zářezech v hor. 1-4, se zhutněním | D70: m2 | E70: 3523.59 | F70: 0 | G70: =E70*F70 -> 0 | H70: 0 | I70: =E70*H70 -> 0 | J70: 0 | K70: =E70*J70 -> 0 | O70: 2 | AA70: 1 | AB70: 1 | AC70: 1 | AZ70: 1 | BA70: =IF(AZ70=1,G70,0) -> 0 | BB70: =IF(AZ70=2,G70,0) -> 0 | BC70: =IF(AZ70=3,G70,0) -> 0 | BD70: =IF(AZ70=4,G70,0) -> 0 | BE70: =IF(AZ70=5,G70,0) -> 0 | CA70: 1 | CB70: 1
C71: 139,0+486,30+21,90+11,60+353,0+1981,20+161,70+220,80+335,50 | E71: 3711 | M71: 139,0+486,30+21,90+11,60+353,0+1981,20+161,70+220,80+335,50
C72: 1194,50 | E72: 1194.5 | M72: 1194,50
C73: -1381,91 | E73: -1381.91 | M73: -1381,91
A74: 24 | B74: 171-R-1 | C74: Uložení sypaniny na skl. včetně poplatku za skl. | D74: m3 | E74: 1042.4256 | F74: 0 | G74: =E74*F74 -> 0 | H74: 0 | I74: =E74*H74 -> 0 | K74: =E74*J74 -> 0 | O74: 2 | AA74: 12 | AB74: 0 | AC74: 1 | AZ74: 1 | BA74: =IF(AZ74=1,G74,0) -> 0 | BB74: =IF(AZ74=2,G74,0) -> 0 | BC74: =IF(AZ74=3,G74,0) -> 0 | BD74: =IF(AZ74=4,G74,0) -> 0 | BE74: =IF(AZ74=5,G74,0) -> 0 | CA74: 12 | CB74: 0
C75: 1042,4256 | E75: 1042.4256 | M75: 10424256
A76: 25 | B76: 00572410 | C76: Směs travní parková II. mírná zátěž PROFI | D76: kg | E76: 4.1147 | F76: 0 | G76: =E76*F76 -> 0 | H76: 0.001 | I76: =E76*H76 -> 0.0041147 | K76: =E76*J76 -> 0 | O76: 2 | AA76: 3 | AB76: 1 | AC76: 572410 | AZ76: 1 | BA76: =IF(AZ76=1,G76,0) -> 0 | BB76: =IF(AZ76=2,G76,0) -> 0 | BC76: =IF(AZ76=3,G76,0) -> 0 | BD76: =IF(AZ76=4,G76,0) -> 0 | BE76: =IF(AZ76=5,G76,0) -> 0 | CA76: 3 | CB76: 1
C77: 587,12*0,008 | E77: 4.697 | M77: 587,12*0,008
C78: 114,50*1,25*0,008 | E78: 1.145 | M78: 114,50*1,25*0,008
C79: -1,7273 | E79: -1.7273 | M79: -17273
A80: 26 | B80: 583318004 | C80: Kamenivo těžené frakce 16/32 Jihomor. kraj | D80: T | E80: 70.51 | F80: 0 | G80: =E80*F80 -> 0 | H80: 1 | I80: =E80*H80 -> 70.51 | K80: =E80*J80 -> 0 | O80: 2 | AA80: 3 | AB80: 1 | AC80: 583318004 | AZ80: 1 | BA80: =IF(AZ80=1,G80,0) -> 0 | BB80: =IF(AZ80=2,G80,0) -> 0 | BC80: =IF(AZ80=3,G80,0) -> 0 | BD80: =IF(AZ80=4,G80,0) -> 0 | BE80: =IF(AZ80=5,G80,0) -> 0 | CA80: 3 | CB80: 1
C81: 32,05*2,20 | E81: 70.51 | M81: 32,05*2,20
A82: 27 | B82: 58337310 | C82: Štěrkopísek frakce 0-4 tř.B | D82: T | E82: 20.3814 | F82: 0 | G82: =E82*F82 -> 0 | H82: 1 | I82: =E82*H82 -> 20.3814 | K82: =E82*J82 -> 0 | O82: 2 | AA82: 3 | AB82: 1 | AC82: 58337310 | AZ82: 1 | BA82: =IF(AZ82=1,G82,0) -> 0 | BB82: =IF(AZ82=2,G82,0) -> 0 | BC82: =IF(AZ82=3,G82,0) -> 0 | BD82: =IF(AZ82=4,G82,0) -> 0 | BE82: =IF(AZ82=5,G82,0) -> 0 | CA82: 3 | CB82: 1
C83: šp. obsyp fr. 0-4mm:(25,70*0,60*0,60+10,0*0,60*0,20)*1,95 | E83: 20.3814 | M83: šp. obsyp fr. 0-4mm:(25,70*0,60*0,60+10,0*0,60*0,20)*1,95
B84: Celkem za | C84: 1 Zemní práce | G84: =SUM(G7:G83) -> 0 | I84: =SUM(I7:I83) -> 90.895515 | K84: =SUM(K7:K83) -> -1868.5537 | O84: 4 | BA84: =SUM(BA7:BA83) -> 0 | BB84: =SUM(BB7:BB83) -> 0 | BC84: =SUM(BC7:BC83) -> 0 | BD84: =SUM(BD7:BD83) -> 0 | BE84: =SUM(BE7:BE83) -> 0
A85: Díl: | B85: 2 | C85: Základy a zvláštní zakládání | O85: 1
A86: 28 | B86: 275313611R00 | C86: Beton základových patek prostý C 16/20 | D86: m3 | E86: 2.118 | F86: 0 | G86: =E86*F86 -> 0 | H86: 2.525 | I86: =E86*H86 -> 5.34795 | J86: 0 | K86: =E86*J86 -> 0 | O86: 2 | AA86: 1 | AB86: 1 | AC86: 1 | AZ86: 1 | BA86: =IF(AZ86=1,G86,0) -> 0 | BB86: =IF(AZ86=2,G86,0) -> 0 | BC86: =IF(AZ86=3,G86,0) -> 0 | BD86: =IF(AZ86=4,G86,0) -> 0 | BE86: =IF(AZ86=5,G86,0) -> 0 | CA86: 1 | CB86: 1
C87: 8*0,30*0,30*0,60 | E87: 0.432 | M87: 8*0,30*0,30*0,60
C88: 1,5*1,5*0,30*2 | E88: 1.35 | M88: 1,5*1,5*0,30*2
C89: 3*0,40*0,40*0,70 | E89: 0.336 | M89: 3*0,40*0,40*0,70
A90: 29 | B90: 289971212R00 | C90: Zřízení vrstvy z geotextilie sklon do 1:5 š.do 6 m | D90: m2 | E90: 210.21 | F90: 0 | G90: =E90*F90 -> 0 | H90: 3e-05 | I90: =E90*H90 -> 0.0063063 | J90: 0 | K90: =E90*J90 -> 0 | O90: 2 | AA90: 1 | AB90: 1 | AC90: 1 | AZ90: 1 | BA90: =IF(AZ90=1,G90,0) -> 0 | BB90: =IF(AZ90=2,G90,0) -> 0 | BC90: =IF(AZ90=3,G90,0) -> 0 | BD90: =IF(AZ90=4,G90,0) -> 0 | BE90: =IF(AZ90=5,G90,0) -> 0 | CA90: 1 | CB90: 1
C91: (73,10+118,00)*1,10 | E91: 210.21 | M91: (73,10+118,00)*1,10
A92: 30 | B92: 69370524 | C92: Geotextilie MOKRUTEX HQ PP 600g/m2 do 6 m | D92: m2 | E92: 241.7415 | F92: 0 | G92: =E92*F92 -> 0 | H92: 0.0006 | I92: =E92*H92 -> 0.1450449 | K92: =E92*J92 -> 0 | O92: 2 | AA92: 3 | AB92: 1 | AC92: 69370524 | AZ92: 1 | BA92: =IF(AZ92=1,G92,0) -> 0 | BB92: =IF(AZ92=2,G92,0) -> 0 | BC92: =IF(AZ92=3,G92,0) -> 0 | BD92: =IF(AZ92=4,G92,0) -> 0 | BE92: =IF(AZ92=5,G92,0) -> 0 | CA92: 3 | CB92: 1
C93: (73,10+118,00)*1,10*1,15 | E93: 241.7415 | M93: (73,10+118,00)*1,10*1,15
B94: Celkem za | C94: 2 Základy a zvláštní zakládání | G94: =SUM(G85:G93) -> 0 | I94: =SUM(I85:I93) -> 5.4993012 | K94: =SUM(K85:K93) -> 0 | O94: 4 | BA94: =SUM(BA85:BA93) -> 0 | BB94: =SUM(BB85:BB93) -> 0 | BC94: =SUM(BC85:BC93) -> 0 | BD94: =SUM(BD85:BD93) -> 0 | BE94: =SUM(BE85:BE93) -> 0
A95: Díl: | B95: 4 | C95: Vodorovné konstrukce | O95: 1
A96: 31 | B96: 451313541R00 | C96: Podklad betonový pod dlažbu tl. od 200 do 250 mm | D96: m2 | E96: 9.87 | F96: 0 | G96: =E96*F96 -> 0 | H96: 0.63125 | I96: =E96*H96 -> 6.2304375 | J96: 0 | K96: =E96*J96 -> 0 | O96: 2 | AA96: 1 | AB96: 1 | AC96: 1 | AZ96: 1 | BA96: =IF(AZ96=1,G96,0) -> 0 | BB96: =IF(AZ96=2,G96,0) -> 0 | BC96: =IF(AZ96=3,G96,0) -> 0 | BD96: =IF(AZ96=4,G96,0) -> 0 | BE96: =IF(AZ96=5,G96,0) -> 0 | CA96: 1 | CB96: 1
A97: 32 | B97: 451572111R00 | C97: Lože pod potrubí z kameniva těženého 0 - 4 mm | D97: m3 | E97: 1.542 | F97: 0 | G97: =E97*F97 -> 0 | H97: 1.1322 | I97: =E97*H97 -> 1.7458524 | J97: 0 | K97: =E97*J97 -> 0 | O97: 2 | AA97: 1 | AB97: 1 | AC97: 1 | AZ97: 1 | BA97: =IF(AZ97=1,G97,0) -> 0 | BB97: =IF(AZ97=2,G97,0) -> 0 | BC97: =IF(AZ97=3,G97,0) -> 0 | BD97: =IF(AZ97=4,G97,0) -> 0 | BE97: =IF(AZ97=5,G97,0) -> 0 | CA97: 1 | CB97: 1
C98: 25,70*0,60*0,10 | E98: 1.542 | M98: 25,70*0,60*0,10
B99: Celkem za | C99: 4 Vodorovné konstrukce | G99: =SUM(G95:G98) -> 0 | I99: =SUM(I95:I98) -> 7.9762899 | K99: =SUM(K95:K98) -> 0 | O99: 4 | BA99: =SUM(BA95:BA98) -> 0 | BB99: =SUM(BB95:BB98) -> 0 | BC99: =SUM(BC95:BC98) -> 0 | BD99: =SUM(BD95:BD98) -> 0 | BE99: =SUM(BE95:BE98) -> 0
A100: Díl: | B100: 5 | C100: Komunikace | O100: 1
A101: 33 | B101: 564231111R00 | C101: Podklad ze štěrkopísku po zhutnění tloušťky 10 cm | D101: m2 | E101: 191.1 | F101: 0 | G101: =E101*F101 -> 0 | H101: 0.2024 | I101: =E101*H101 -> 38.67864 | J101: 0 | K101: =E101*J101 -> 0 | O101: 2 | AA101: 1 | AB101: 1 | AC101: 1 | AZ101: 1 | BA101: =IF(AZ101=1,G101,0) -> 0 | BB101: =IF(AZ101=2,G101,0) -> 0 | BC101: =IF(AZ101=3,G101,0) -> 0 | BD101: =IF(AZ101=4,G101,0) -> 0 | BE101: =IF(AZ101=5,G101,0) -> 0 | CA101: 1 | CB101: 1
C102: 73,10+118,0 | E102: 191.1 | M102: 73,10+118,0
...

Sheet SO 01.2 001 KL
A1: SLEPÝ ROZPOČET
A2: Rozpočet | C2: 001 | D2: Úsek 2 - neuznatelné náklady stavby | F2: JKSO
A4: Objekt | F4: SKP
A5: SO 01.2 | C5: Úsek 2 - neuznatelné náklady stavby | F5: Měrná jednotka
A6: Stavba | F6: Počet jednotek
A7: A/03/2016 | C7: Rohatec - bezbariérové chodníky - trasa "A" | F7: Náklady na m.j. | G7: =IF(G6=0,,ROUND((F30+F32)/G6,1)) -> 0
A8: Projektant | F8: Typ rozpočtu
A9: Zpracovatel projektu
A10: Objednatel
A11: Dodavatel | F11: Zakázkové číslo
A12: Rozpočtoval | F12: Počet listů
A13: ROZPOČTOVÉ NÁKLADY
A14: Základní rozpočtové náklady | D14: Ostatní rozpočtové náklady
B15: HSV celkem | C15: ='SO 01.2 001 Rek'!E13 -> 0 | D15: ='SO 01.2 001 Rek'!A18 -> Ztížené výrobní podmínky | G15: ='SO 01.2 001 Rek'!I18 -> 0
A16: Z | B16: PSV celkem | C16: ='SO 01.2 001 Rek'!F13 -> 0 | D16: ='SO 01.2 001 Rek'!A19 -> Oborová přirážka | G16: ='SO 01.2 001 Rek'!I19 -> 0
A17: R | B17: M práce celkem | C17: ='SO 01.2 001 Rek'!H13 -> 0 | D17: ='SO 01.2 001 Rek'!A20 -> Přesun stavebních kapacit | G17: ='SO 01.2 001 Rek'!I20 -> 0
A18: N | B18: M dodávky celkem | C18: ='SO 01.2 001 Rek'!G13 -> 0 | D18: ='SO 01.2 001 Rek'!A21 -> Mimostaveništní doprava | G18: ='SO 01.2 001 Rek'!I21 -> 0
A19: ZRN celkem | C19: =SUM(C15:C18) -> 0 | D19: ='SO 01.2 001 Rek'!A22 -> Zařízení staveniště | G19: ='SO 01.2 001 Rek'!I22 -> 0
D20: ='SO 01.2 001 Rek'!A23 -> Provoz investora | G20: ='SO 01.2 001 Rek'!I23 -> 0
A21: HZS | C21: ='SO 01.2 001 Rek'!I13 -> 0 | D21: ='SO 01.2 001 Rek'!A24 -> Kompletační činnost (IČD) | G21: ='SO 01.2 001 Rek'!I24 -> 0
A22: ZRN+HZS | C22: =C19+C21 -> 0 | D22: Ostatní náklady neuvedené | G22: =G23-SUM(G15:G21) -> 0
A23: ZRN+ost.náklady+HZS | C23: =C22+G23 -> 0 | D23: Ostatní náklady celkem | G23: ='SO 01.2 001 Rek'!H26 -> 0
A24: Vypracoval | D24: Za zhotovitele | F24: Za objednatele
A25: Jméno : | D25: Jméno : | F25: Jméno :
A26: Datum : | D26: Datum : | F26: Datum :
A28: Podpis : | D28: Podpis: | F28: Podpis:
A30: Základ pro DPH | C30: 21 | D30: % | F30: =C23-F32 -> 0
A31: DPH | C31: =C30 -> 21 | D31: % | F31: =ROUND(PRODUCT(F30,C31/100),0) -> 0
A32: Základ pro DPH | C32: 0 | D32: % | F32: 0
A33: DPH | C33: =C32 -> 0 | D33: % | F33: =ROUND(PRODUCT(F32,C33/100),0) -> 0
A34: CENA ZA OBJEKT CELKEM | F34: =ROUND(SUM(F30:F33),0) -> 0
A36: Poznámka :

Sheet SO 01.2 001 Rek
A1: Stavba : | C1: A/03/2016 Rohatec - bezbariérové chodníky - trasa "A" | G1: Rozpočet : | H1: 001
A2: Objekt : | C2: SO 01.2 Úsek 2 - neuznatelné náklady stavby | G2: Úsek 2 - neuznatelné náklady stavby
A4: REKAPITULACE STAVEBNÍCH DÍLŮ
B6: Stavební díl | E6: HSV | F6: PSV | G6: Dodávka | H6: Montáž | I6: HZS
A7: ='SO 01.2 001 Pol'!B7 -> 1 | B7: ='SO 01.2 001 Pol'!C7 -> Zemní práce | E7: ='SO 01.2 001 Pol'!BA54 -> 0 | F7: ='SO 01.2 001 Pol'!BB54 -> 0 | G7: ='SO 01.2 001 Pol'!BC54 -> 0 | H7: ='SO 01.2 001 Pol'!BD54 -> 0 | I7: ='SO 01.2 001 Pol'!BE54 -> 0
A8: ='SO 01.2 001 Pol'!B55 -> 5 | B8: ='SO 01.2 001 Pol'!C55 -> Komunikace | E8: ='SO 01.2 001 Pol'!BA81 -> 0 | F8: ='SO 01.2 001 Pol'!BB81 -> 0 | G8: ='SO 01.2 001 Pol'!BC81 -> 0 | H8: ='SO 01.2 001 Pol'!BD81 -> 0 | I8: ='SO 01.2 001 Pol'!BE81 -> 0
A9: ='SO 01.2 001 Pol'!B82 -> 8 | B9: ='SO 01.2 001 Pol'!C82 -> Trubní vedení | E9: ='SO 01.2 001 Pol'!BA86 -> 0 | F9: ='SO 01.2 001 Pol'!BB86 -> 0 | G9: ='SO 01.2 001 Pol'!BC86 -> 0 | H9: ='SO 01.2 001 Pol'!BD86 -> 0 | I9: ='SO 01.2 001 Pol'!BE86 -> 0
A10: ='SO 01.2 001 Pol'!B87 -> 91 | B10: ='SO 01.2 001 Pol'!C87 -> Doplňující práce na komunikaci | E10: ='SO 01.2 001 Pol'!BA104 -> 0 | F10: ='SO 01.2 001 Pol'!BB104 -> 0 | G10: ='SO 01.2 001 Pol'!BC104 -> 0 | H10: ='SO 01.2 001 Pol'!BD104 -> 0 | I10: ='SO 01.2 001 Pol'!BE104 -> 0
A11: ='SO 01.2 001 Pol'!B105 -> 99 | B11: ='SO 01.2 001 Pol'!C105 -> Staveništní přesun hmot | E11: ='SO 01.2 001 Pol'!BA107 -> 0 | F11: ='SO 01.2 001 Pol'!BB107 -> 0 | G11: ='SO 01.2 001 Pol'!BC107 -> 0 | H11: ='SO 01.2 001 Pol'!BD107 -> 0 | I11: ='SO 01.2 001 Pol'!BE107 -> 0
A12: ='SO 01.2 001 Pol'!B108 -> D96 | B12: ='SO 01.2 001 Pol'!C108 -> Přesuny suti a vybouraných hmot | E12: ='SO 01.2 001 Pol'!BA112 -> 0 | F12: ='SO 01.2 001 Pol'!BB112 -> 0 | G12: ='SO 01.2 001 Pol'!BC112 -> 0 | H12: ='SO 01.2 001 Pol'!BD112 -> 0 | I12: ='SO 01.2 001 Pol'!BE112 -> 0
B13: CELKEM OBJEKT | E13: =SUM(E7:E12) -> 0 | F13: =SUM(F7:F12) -> 0 | G13: =SUM(G7:G12) -> 0 | H13: =SUM(H7:H12) -> 0 | I13: =SUM(I7:I12) -> 0
A15: VEDLEJŠÍ ROZPOČTOVÉ NÁKLADY
A17: Název VRN | E17: Kč | F17: % | G17: Základna | I17: Kč
A18: Ztížené výrobní podmínky | G18: 0 | I18: =E18+F18*G18/100 -> 0 | BA18: 0
A19: Oborová přirážka | G19: 0 | I19: =E19+F19*G19/100 -> 0 | BA19: 0
A20: Přesun stavebních kapacit | G20: 0 | I20: =E20+F20*G20/100 -> 0 | BA20: 0
A21: Mimostaveništní doprava | G21: 0 | I21: =E21+F21*G21/100 -> 0 | BA21: 0
A22: Zařízení staveniště | G22: 0 | I22: =E22+F22*G22/100 -> 0 | BA22: 1
A23: Provoz investora | G23: 0 | I23: =E23+F23*G23/100 -> 0 | BA23: 1
A24: Kompletační činnost (IČD) | G24: 0 | I24: =E24+F24*G24/100 -> 0 | BA24: 2
A25: Rezerva rozpočtu | G25: 0 | I25: =E25+F25*G25/100 -> 0 | BA25: 2
B26: CELKEM VRN | H26: =SUM(I18:I25) -> 0

Sheet SO 01.2 001 Pol
A1: Slepý rozpočet
A3: Stavba : | C3: A/03/2016 Rohatec - bezbariérové chodníky - trasa "A" | E3: Rozpočet: | F3: ='SO 01.2 001 Rek'!H1 -> 001
A4: Objekt : | C4: SO 01.2 Úsek 2 - neuznatelné náklady stavby | E4: ='SO 01.2 001 Rek'!G2 -> Úsek 2 - neuznatelné náklady stavby
A6: P.č. | B6: Číslo položky | C6: Název položky | D6: MJ | E6: množství | F6: cena / MJ | G6: celkem (Kč) | H6: Jednotková hmotnost | I6: Celková hmotnost | J6: Jednotková dem.hmot. | K6: Celková dem.hmot.
A7: Díl: | B7: 1 | C7: Zemní práce | O7: 1
A8: 1 | B8: 111201101R00 | C8: Odstranění křovin i s kořeny na ploše do 1000 m2 | D8: m2 | E8: 35.8 | F8: 0 | G8: =E8*F8 -> 0 | H8: 0 | I8: =E8*H8 -> 0 | J8: 0 | K8: =E8*J8 -> 0 | O8: 2 | AA8: 1 | AB8: 1 | AC8: 1 | AZ8: 1 | BA8: =IF(AZ8=1,G8,0) -> 0 | BB8: =IF(AZ8=2,G8,0) -> 0 | BC8: =IF(AZ8=3,G8,0) -> 0 | BD8: =IF(AZ8=4,G8,0) -> 0 | BE8: =IF(AZ8=5,G8,0) -> 0 | CA8: 1 | CB8: 1
A9: 2 | B9: 111201401R00 | C9: Spálení křovin a stromů o průměru do 100 mm | D9: m2 | E9: 35.8 | F9: 0 | G9: =E9*F9 -> 0 | H9: 5e-05 | I9: =E9*H9 -> 0.00179 | J9: 0 | K9: =E9*J9 -> 0 | O9: 2 | AA9: 1 | AB9: 1 | AC9: 1 | AZ9: 1 | BA9: =IF(AZ9=1,G9,0) -> 0 | BB9: =IF(AZ9=2,G9,0) -> 0 | BC9: =IF(AZ9=3,G9,0) -> 0 | BD9: =IF(AZ9=4,G9,0) -> 0 | BE9: =IF(AZ9=5,G9,0) -> 0 | CA9: 1 | CB9: 1
A10: 3 | B10: 112111111R00 | C10: Spálení větví všech druhů stromů | D10: kus | E10: 8 | F10: 0 | G10: =E10*F10 -> 0 | H10: 0 | I10: =E10*H10 -> 0 | J10: 0 | K10: =E10*J10 -> 0 | O10: 2 | AA10: 1 | AB10: 1 | AC10: 1 | AZ10: 1 | BA10: =IF(AZ10=1,G10,0) -> 0 | BB10: =IF(AZ10=2,G10,0) -> 0 | BC10: =IF(AZ10=3,G10,0) -> 0 | BD10: =IF(AZ10=4,G10,0) -> 0 | BE10: =IF(AZ10=5,G10,0) -> 0 | CA10: 1 | CB10: 1
A11: 4 | B11: 113106121R00 | C11: Rozebrání dlažeb z betonových dlaždic na sucho | D11: m2 | E11: 126.6 | F11: 0 | G11: =E11*F11 -> 0 | H11: 0 | I11: =E11*H11 -> 0 | J11: -0.138 | K11: =E11*J11 -> -17.4708 | O11: 2 | AA11: 1 | AB11: 1 | AC11: 1 | AZ11: 1 | BA11: =IF(AZ11=1,G11,0) -> 0 | BB11: =IF(AZ11=2,G11,0) -> 0 | BC11: =IF(AZ11=3,G11,0) -> 0 | BD11: =IF(AZ11=4,G11,0) -> 0 | BE11: =IF(AZ11=5,G11,0) -> 0 | CA11: 1 | CB11: 1
C12: 84,40*1,50 | E12: 126.6 | M12: 84,40*1,50
A13: 5 | B13: 113106231R00 | C13: Rozebrání dlažeb ze zámkové dlažby v kamenivu | D13: m2 | E13: 523.8 | F13: 0 | G13: =E13*F13 -> 0 | H13: 0 | I13: =E13*H13 -> 0 | J13: -0.225 | K13: =E13*J13 -> -117.855 | O13: 2 | AA13: 1 | AB13: 1 | AC13: 1 | AZ13: 1 | BA13: =IF(AZ13=1,G13,0) -> 0 | BB13: =IF(AZ13=2,G13,0) -> 0 | BC13: =IF(AZ13=3,G13,0) -> 0 | BD13: =IF(AZ13=4,G13,0) -> 0 | BE13: =IF(AZ13=5,G13,0) -> 0 | CA13: 1 | CB13: 1
C14: 214,80*1,50+134,40*1,50 | E14: 523.8 | M14: 214,80*1,50+134,40*1,50
A15: 6 | B15: 113107143R00 | C15: Odstranění podkladu pl.do 200 m2, živice tl. 15 cm | D15: m2 | E15: 25.5 | F15: 0 | G15: =E15*F15 -> 0 | H15: 0 | I15: =E15*H15 -> 0 | J15: -0.316 | K15: =E15*J15 -> -8.058 | O15: 2 | AA15: 1 | AB15: 1 | AC15: 1 | AZ15: 1 | BA15: =IF(AZ15=1,G15,0) -> 0 | BB15: =IF(AZ15=2,G15,0) -> 0 | BC15: =IF(AZ15=3,G15,0) -> 0 | BD15: =IF(AZ15=4,G15,0) -> 0 | BE15: =IF(AZ15=5,G15,0) -> 0 | CA15: 1 | CB15: 1
C16: 17,0*1,5 | E16: 25.5 | M16: 17,0*1,5
A17: 7 | B17: 113107211R00 | C17: Odstranění podkladu nad 200 m2,kam.těžené tl.10 cm | D17: m2 | E17: 650.4 | F17: 0 | G17: =E17*F17 -> 0 | H17: 0 | I17: =E17*H17 -> 0 | J17: -0.16 | K17: =E17*J17 -> -104.064 | O17: 2 | AA17: 1 | AB17: 1 | AC17: 1 | AZ17: 1 | BA17: =IF(AZ17=1,G17,0) -> 0 | BB17: =IF(AZ17=2,G17,0) -> 0 | BC17: =IF(AZ17=3,G17,0) -> 0 | BD17: =IF(AZ17=4,G17,0) -> 0 | BE17: =IF(AZ17=5,G17,0) -> 0 | CA17: 1 | CB17: 1
C18: 84,40*1,5+214,80*1,5+134,40*1,50 | E18: 650.4 | M18: 84,40*1,5+214,80*1,5+134,40*1,50
A19: 8 | B19: 113107221R00 | C19: Odstranění podkladu nad 200 m2,kam.drcené tl.10 cm | D19: m2 | E19: 650.4 | F19: 0 | G19: =E19*F19 -> 0 | H19: 0 | I19: =E19*H19 -> 0 | J19: -0.13 | K19: =E19*J19 -> -84.552 | O19: 2 | AA19: 1 | AB19: 0 | AC19: 0 | AZ19: 1 | BA19: =IF(AZ19=1,G19,0) -> 0 | BB19: =IF(AZ19=2,G19,0) -> 0 | BC19: =IF(AZ19=3,G19,0) -> 0 | BD19: =IF(AZ19=4,G19,0) -> 0 | BE19: =IF(AZ19=5,G19,0) -> 0 | CA19: 1 | CB19: 0
C20: 84,40*1,5+214,80*1,5+134,40*1,50 | E20: 650.4 | M20: 84,40*1,5+214,80*1,5+134,40*1,50
A21: 9 | B21: 113202111R00 | C21: Vytrhání obrub z krajníků nebo obrubníků stojatých | D21: m | E21: 973.5 | F21: 0 | G21: =E21*F21 -> 0 | H21: 0 | I21: =E21*H21 -> 0 | J21: -0.145 | K21: =E21*J21 -> -141.1575 | O21: 2 | AA21: 1 | AB21: 1 | AC21: 1 | AZ21: 1 | BA21: =IF(AZ21=1,G21,0) -> 0 | BB21: =IF(AZ21=2,G21,0) -> 0 | BC21: =IF(AZ21=3,G21,0) -> 0 | BD21: =IF(AZ21=4,G21,0) -> 0 | BE21: =IF(AZ21=5,G21,0) -> 0 | CA21: 1 | CB21: 1
C22: 973,50 | E22: 973.5 | M22: 973,50
A23: 10 | B23: 122202202R00 | C23: Odkopávky pro silnice v hor. 3 do 1000 m3 | D23: m3 | E23: 323.865 | F23: 0 | G23: =E23*F23 -> 0 | H23: 0 | I23: =E23*H23 -> 0 | J23: 0 | K23: =E23*J23 -> 0 | O23: 2 | AA23: 1 | AB23: 1 | AC23: 1 | AZ23: 1 | BA23: =IF(AZ23=1,G23,0) -> 0 | BB23: =IF(AZ23=2,G23,0) -> 0 | BC23: =IF(AZ23=3,G23,0) -> 0 | BD23: =IF(AZ23=4,G23,0) -> 0 | BE23: =IF(AZ23=5,G23,0) -> 0 | CA23: 1 | CB23: 1
C24: 1295,46*0,25 | E24: 323.865 | M24: 1295,46*0,25
A25: 11 | B25: 122202209R00 | C25: Příplatek za lepivost - odkop. pro silnice v hor.3 | D25: m3 | E25: 323.865 | F25: 0 | G25: =E25*F25 -> 0 | H25: 0 | I25: =E25*H25 -> 0 | J25: 0 | K25: =E25*J25 -> 0 | O25: 2 | AA25: 1 | AB25: 1 | AC25: 1 | AZ25: 1 | BA25: =IF(AZ25=1,G25,0) -> 0 | BB25: =IF(AZ25=2,G25,0) -> 0 | BC25: =IF(AZ25=3,G25,0) -> 0 | BD25: =IF(AZ25=4,G25,0) -> 0 | BE25: =IF(AZ25=5,G25,0) -> 0 | CA25: 1 | CB25: 1
C26: 1295,46*0,25 | E26: 323.865 | M26: 1295,46*0,25
A27: 12 | B27: 162201432R00 | C27: Vod.přemístění větví listnatých, D 50 cm do 2000 m | D27: kus | E27: 8 | F27: 0 | G27: =E27*F27 -> 0 | H27: 0 | I27: =E27*H27 -> 0 | J27: 0 | K27: =E27*J27 -> 0 | O27: 2 | AA27: 1 | AB27: 1 | AC27: 1 | AZ27: 1 | BA27: =IF(AZ27=1,G27,0) -> 0 | BB27: =IF(AZ27=2,G27,0) -> 0 | BC27: =IF(AZ27=3,G27,0) -> 0 | BD27: =IF(AZ27=4,G27,0) -> 0 | BE27: =IF(AZ27=5,G27,0) -> 0 | CA27: 1 | CB27: 1
A28: 13 | B28: 162301102R00 | C28: Vodorovné přemístění výkopku z hor.1-4 do 1000 m | D28: m3 | E28: 256 | F28: 0 | G28: =E28*F28 -> 0 | H28: 0 | I28: =E28*H28 -> 0 | J28: 0 | K28: =E28*J28 -> 0 | O28: 2 | AA28: 1 | AB28: 1 | AC28: 1 | AZ28: 1 | BA28: =IF(AZ28=1,G28,0) -> 0 | BB28: =IF(AZ28=2,G28,0) -> 0 | BC28: =IF(AZ28=3,G28,0) -> 0 | BD28: =IF(AZ28=4,G28,0) -> 0 | BE28: =IF(AZ28=5,G28,0) -> 0 | CA28: 1 | CB28: 1
C29: 2,56*100 | E29: 256 | M29: 2,56*100
A30: 14 | B30: 162301501R00 | C30: Vodorovné přemístění křovin do 5000 m | D30: m2 | E30: 35.8 | F30: 0 | G30: =E30*F30 -> 0 | H30: 0 | I30: =E30*H30 -> 0 | J30: 0 | K30: =E30*J30 -> 0 | O30: 2 | AA30: 1 | AB30: 1 | AC30: 1 | AZ30: 1 | BA30: =IF(AZ30=1,G30,0) -> 0 | BB30: =IF(AZ30=2,G30,0) -> 0 | BC30: =IF(AZ30=3,G30,0) -> 0 | BD30: =IF(AZ30=4,G30,0) -> 0 | BE30: =IF(AZ30=5,G30,0) -> 0 | CA30: 1 | CB30: 1
A31: 15 | B31: 162401102R00 | C31: Vodorovné přemístění výkopku z hor.1-4 do 2000 m | D31: m3 | E31: 215.91 | F31: 0 | G31: =E31*F31 -> 0 | H31: 0 | I31: =E31*H31 -> 0 | J31: 0 | K31: =E31*J31 -> 0 | O31: 2 | AA31: 1 | AB31: 1 | AC31: 1 | AZ31: 1 | BA31: =IF(AZ31=1,G31,0) -> 0 | BB31: =IF(AZ31=2,G31,0) -> 0 | BC31: =IF(AZ31=3,G31,0) -> 0 | BD31: =IF(AZ31=4,G31,0) -> 0 | BE31: =IF(AZ31=5,G31,0) -> 0 | CA31: 1 | CB31: 1
C32: 215,91 | E32: 215.91 | M32: 215,91
A33: 16 | B33: 167101102R00 | C33: Nakládání výkopku z hor.1-4 v množství nad 100 m3 | D33: m3 | E33: 256 | F33: 0 | G33: =E33*F33 -> 0 | H33: 0 | I33: =E33*H33 -> 0 | J33: 0 | K33: =E33*J33 -> 0 | O33: 2 | AA33: 1 | AB33: 1 | AC33: 1 | AZ33: 1 | BA33: =IF(AZ33=1,G33,0) -> 0 | BB33: =IF(AZ33=2,G33,0) -> 0 | BC33: =IF(AZ33=3,G33,0) -> 0 | BD33: =IF(AZ33=4,G33,0) -> 0 | BE33: =IF(AZ33=5,G33,0) -> 0 | CA33: 1 | CB33: 1
C34: 2,56*100 | E34: 256 | M34: 2,56*100
A35: 17 | B35: 171101102R00 | C35: Uložení sypaniny do násypů zhutněných na 96% PS | D35: m3 | E35: 256 | F35: 0 | G35: =E35*F35 -> 0 | H35: 0 | I35: =E35*H35 -> 0 | J35: 0 | K35: =E35*J35 -> 0 | O35: 2 | AA35: 1 | AB35: 1 | AC35: 1 | AZ35: 1 | BA35: =IF(AZ35=1,G35,0) -> 0 | BB35: =IF(AZ35=2,G35,0) -> 0 | BC35: =IF(AZ35=3,G35,0) -> 0 | BD35: =IF(AZ35=4,G35,0) -> 0 | BE35: =IF(AZ35=5,G35,0) -> 0 | CA35: 1 | CB35: 1
C36: 2,56*100 | E36: 256 | M36: 2,56*100
A37: 18 | B37: 174101101R00 | C37: Zásyp jam, rýh, šachet se zhutněním | D37: m3 | E37: 107.955 | F37: 0 | G37: =E37*F37 -> 0 | H37: 0 | I37: =E37*H37 -> 0 | J37: 0 | K37: =E37*J37 -> 0 | O37: 2 | AA37: 1 | AB37: 1 | AC37: 1 | AZ37: 1 | BA37: =IF(AZ37=1,G37,0) -> 0 | BB37: =IF(AZ37=2,G37,0) -> 0 | BC37: =IF(AZ37=3,G37,0) -> 0 | BD37: =IF(AZ37=4,G37,0) -> 0 | BE37: =IF(AZ37=5,G37,0) -> 0 | CA37: 1 | CB37: 1
C38: 719,70*0,30*0,25*2 | E38: 107.955 | M38: 719,70*0,30*0,25*2
A39: 19 | B39: 180402111R00 | C39: Založení trávníku parkového výsevem v rovině | D39: m2 | E39: 215.91 | F39: 0 | G39: =E39*F39 -> 0 | H39: 0 | I39: =E39*H39 -> 0 | J39: 0 | K39: =E39*J39 -> 0 | O39: 2 | AA39: 1 | AB39: 1 | AC39: 1 | AZ39: 1 | BA39: =IF(AZ39=1,G39,0) -> 0 | BB39: =IF(AZ39=2,G39,0) -> 0 | BC39: =IF(AZ39=3,G39,0) -> 0 | BD39: =IF(AZ39=4,G39,0) -> 0 | BE39: =IF(AZ39=5,G39,0) -> 0 | CA39: 1 | CB39: 1
C40: 215,91 | E40: 215.91 | M40: 215,91
A41: 20 | B41: 181101102R00 | C41: Úprava pláně v zářezech v hor. 1-4, se zhutněním | D41: m2 | E41: 1381.91 | F41: 0 | G41: =E41*F41 -> 0 | H41: 0 | I41: =E41*H41 -> 0 | J41: 0 | K41: =E41*J41 -> 0 | O41: 2 | AA41: 1 | AB41: 1 | AC41: 1 | AZ41: 1 | BA41: =IF(AZ41=1,G41,0) -> 0 | BB41: =IF(AZ41=2,G41,0) -> 0 | BC41: =IF(AZ41=3,G41,0) -> 0 | BD41: =IF(AZ41=4,G41,0) -> 0 | BE41: =IF(AZ41=5,G41,0) -> 0 | CA41: 1 | CB41: 1
C42: 1381,91 | E42: 1381.91 | M42: 1381,91
A43: 21 | B43: 181201102R00 | C43: Úprava pláně v násypech v hor. 1-4, se zhutněním | D43: m2 | E43: 234.35 | F43: 0 | G43: =E43*F43 -> 0 | H43: 0 | I43: =E43*H43 -> 0 | J43: 0 | K43: =E43*J43 -> 0 | O43: 2 | AA43: 1 | AB43: 1 | AC43: 1 | AZ43: 1 | BA43: =IF(AZ43=1,G43,0) -> 0 | BB43: =IF(AZ43=2,G43,0) -> 0 | BC43: =IF(AZ43=3,G43,0) -> 0 | BD43: =IF(AZ43=4,G43,0) -> 0 | BE43: =IF(AZ43=5,G43,0) -> 0 | CA43: 1 | CB43: 1
C44: 114,50*0,30 | E44: 34.35 | M44: 114,50*0,30
C45: 100*2,0 | E45: 200 | M45: 100*2,0
A46: 22 | B46: 182201101R00 | C46: Svahování násypů | D46: m2 | E46: 291.125 | F46: 0 | G46: =E46*F46 -> 0 | H46: 0 | I46: =E46*H46 -> 0 | J46: 0 | K46: =E46*J46 -> 0 | O46: 2 | AA46: 1 | AB46: 1 | AC46: 1 | AZ46: 1 | BA46: =IF(AZ46=1,G46,0) -> 0 | BB46: =IF(AZ46=2,G46,0) -> 0 | BC46: =IF(AZ46=3,G46,0) -> 0 | BD46: =IF(AZ46=4,G46,0) -> 0 | BE46: =IF(AZ46=5,G46,0) -> 0 | CA46: 1 | CB46: 1
C47: 114,50*1,25 | E47: 143.125 | M47: 114,50*1,25
C48: 1,48*100 | E48: 148 | M48: 1,48*100
A49: 23 | B49: 184806113R00 | C49: Řez průklestem netrnitých stromů D koruny do 6 m | D49: kus | E49: 8 | F49: 0 | G49: =E49*F49 -> 0 | H49: 0 | I49: =E49*H49 -> 0 | J49: 0 | K49: =E49*J49 -> 0 | O49: 2 | AA49: 1 | AB49: 1 | AC49: 1 | AZ49: 1 | BA49: =IF(AZ49=1,G49,0) -> 0 | BB49: =IF(AZ49=2,G49,0) -> 0 | BC49: =IF(AZ49=3,G49,0) -> 0 | BD49: =IF(AZ49=4,G49,0) -> 0 | BE49: =IF(AZ49=5,G49,0) -> 0 | CA49: 1 | CB49: 1
A50: 24 | B50: 171-R-1 | C50: Uložení sypaniny na skl. včetně poplatku za skl. | D50: m3 | E50: 215.91 | F50: 0 | G50: =E50*F50 -> 0 | H50: 0 | I50: =E50*H50 -> 0 | K50: =E50*J50 -> 0 | O50: 2 | AA50: 12 | AB50: 0 | AC50: 1 | AZ50: 1 | BA50: =IF(AZ50=1,G50,0) -> 0 | BB50: =IF(AZ50=2,G50,0) -> 0 | BC50: =IF(AZ50=3,G50,0) -> 0 | BD50: =IF(AZ50=4,G50,0) -> 0 | BE50: =IF(AZ50=5,G50,0) -> 0 | CA50: 12 | CB50: 0
C51: 215,91 | E51: 215.91 | M51: 215,91
A52: 25 | B52: 00572410 | C52: Směs travní parková II. mírná zátěž PROFI | D52: kg | E52: 1.7273 | F52: 0 | G52: =E52*F52 -> 0 | H52: 0.001 | I52: =E52*H52 -> 0.0017273 | K52: =E52*J52 -> 0 | O52: 2 | AA52: 3 | AB52: 1 | AC52: 572410 | AZ52: 1 | BA52: =IF(AZ52=1,G52,0) -> 0 | BB52: =IF(AZ52=2,G52,0) -> 0 | BC52: =IF(AZ52=3,G52,0) -> 0 | BD52: =IF(AZ52=4,G52,0) -> 0 | BE52: =IF(AZ52=5,G52,0) -> 0 | CA52: 3 | CB52: 1
C53: 215,91*0,008 | E53: 1.7273 | M53: 215,91*0,008
B54: Celkem za | C54: 1 Zemní práce | G54: =SUM(G7:G53) -> 0 | I54: =SUM(I7:I53) -> 0.0035173 | K54: =SUM(K7:K53) -> -473.1573 | O54: 4 | BA54: =SUM(BA7:BA53) -> 0 | BB54: =SUM(BB7:BB53) -> 0 | BC54: =SUM(BC7:BC53) -> 0 | BD54: =SUM(BD7:BD53) -> 0 | BE54: =SUM(BE7:BE53) -> 0
A55: Díl: | B55: 5 | C55: Komunikace | O55: 1
A56: 26 | B56: 564861111R00 | C56: Podklad ze štěrkodrti po zhutnění tloušťky 20 cm | D56: m2 | E56: 728.373 | F56: 0 | G56: =E56*F56 -> 0 | H56: 0.3708 | I56: =E56*H56 -> 270.08071 | J56: 0 | K56: =E56*J56 -> 0 | O56: 2 | AA56: 1 | AB56: 1 | AC56: 1 | AZ56: 1 | BA56: =IF(AZ56=1,G56,0) -> 0 | BB56: =IF(AZ56=2,G56,0) -> 0 | BC56: =IF(AZ56=3,G56,0) -> 0 | BD56: =IF(AZ56=4,G56,0) -> 0 | BE56: =IF(AZ56=5,G56,0) -> 0 | CA56: 1 | CB56: 1
C57: 1295,46*0,55 | E57: 712.503 | M57: 1295,46*0,55
C58: 15,87 | E58: 15.87 | M58: 15,87
A59: 27 | B59: 564871111R00 | C59: Podklad ze štěrkodrti po zhutnění tloušťky 25 cm | D59: m2 | E59: 582.957 | F59: 0 | G59: =E59*F59 -> 0 | H59: 0.46166 | I59: =E59*H59 -> 269.12793 | J59: 0 | K59: =E59*J59 -> 0 | O59: 2 | AA59: 1 | AB59: 1 | AC59: 1 | AZ59: 1 | BA59: =IF(AZ59=1,G59,0) -> 0 | BB59: =IF(AZ59=2,G59,0) -> 0 | BC59: =IF(AZ59=3,G59,0) -> 0 | BD59: =IF(AZ59=4,G59,0) -> 0 | BE59: =IF(AZ59=5,G59,0) -> 0 | CA59: 1 | CB59: 1
C60: 1295,46*0,45 | E60: 582.957 | M60: 1295,46*0,45
A61: 28 | B61: 596215020R00 | C61: Kladení zámkové dlažby tl. 6 cm do drtě tl. 3 cm | D61: m2 | E61: 1129.6 | F61: 0 | G61: =E61*F61 -> 0 | H61: 0.05545 | I61: =E61*H61 -> 62.63632 | J61: 0 | K61: =E61*J61 -> 0 | O61: 2 | AA61: 1 | AB61: 0 | AC61: 0 | AZ61: 1 | BA61: =IF(AZ61=1,G61,0) -> 0 | BB61: =IF(AZ61=2,G61,0) -> 0 | BC61: =IF(AZ61=3,G61,0) -> 0 | BD61: =IF(AZ61=4,G61,0) -> 0 | BE61: =IF(AZ61=5,G61,0) -> 0 | CA61: 1 | CB61: 0
C62: 1019,52+10,08 | E62: 1029.6 | M62: 1019,52+10,08
C63: 100 | E63: 100 | M63: 100
A64: 29 | B64: 596215028R00 | C64: Příplatek za více barev dlažby tl. 6 cm, do drtě | D64: m2 | E64: 10.08 | F64: 0 | G64: =E64*F64 -> 0 | H64: 0 | I64: =E64*H64 -> 0 | J64: 0 | K64: =E64*J64 -> 0 | O64: 2 | AA64: 1 | AB64: 1 | AC64: 1 | AZ64: 1 | BA64: =IF(AZ64=1,G64,0) -> 0 | BB64: =IF(AZ64=2,G64,0) -> 0 | BC64: =IF(AZ64=3,G64,0) -> 0 | BD64: =IF(AZ64=4,G64,0) -> 0 | BE64: =IF(AZ64=5,G64,0) -> 0 | CA64: 1 | CB64: 1
C65: 10,08 | E65: 10.08 | M65: 10,08
A66: 30 | B66: 596215040R00 | C66: Kladení zámkové dlažby tl. 8 cm do drtě tl. 4 cm | D66: m2 | E66: 179.8 | F66: 0 | G66: =E66*F66 -> 0 | H66: 0.0739 | I66: =E66*H66 -> 13.28722 | J66: 0 | K66: =E66*J66 -> 0 | O66: 2 | AA66: 1 | AB66: 1 | AC66: 1 | AZ66: 1 | BA66: =IF(AZ66=1,G66,0) -> 0 | BB66: =IF(AZ66=2,G66,0) -> 0 | BC66: =IF(AZ66=3,G66,0) -> 0 | BD66: =IF(AZ66=4,G66,0) -> 0 | BE66: =IF(AZ66=5,G66,0) -> 0 | CA66: 1 | CB66: 1
C67: 179,80 | E67: 179.8 | M67: 179,80
A68: 31 | B68: 596215048R00 | C68: Příplatek za více barev dlažby tl. 8 cm, do drtě | D68: m2 | E68: 43.4 | F68: 0 | G68: =E68*F68 -> 0 | H68: 0 | I68: =E68*H68 -> 0 | J68: 0 | K68: =E68*J68 -> 0 | O68: 2 | AA68: 1 | AB68: 1 | AC68: 1 | AZ68: 1 | BA68: =IF(AZ68=1,G68,0) -> 0 | BB68: =IF(AZ68=2,G68,0) -> 0 | BC68: =IF(AZ68=3,G68,0) -> 0 | BD68: =IF(AZ68=4,G68,0) -> 0 | BE68: =IF(AZ68=5,G68,0) -> 0 | CA68: 1 | CB68: 1
C69: 43,40 | E69: 43.4 | M69: 43,40
A70: 32 | B70: 59242020.5 | C70: Dlažba zámková 20x10x8 cm, vodící linie - trapéz | D70: m2 | E70: 14.5656 | F70: 0 | G70: =E70*F70 -> 0 | H70: 0.1296 | I70: =E70*H70 -> 1.8877018 | K70: =E70*J70 -> 0 | O70: 2 | AA70: 3 | AB70: 1 | AC70: 59242020 | AZ70: 1 | BA70: =IF(AZ70=1,G70,0) -> 0 | BB70: =IF(AZ70=2,G70,0) -> 0 | BC70: =IF(AZ70=3,G70,0) -> 0 | BD70: =IF(AZ70=4,G70,0) -> 0 | BE70: =IF(AZ70=5,G70,0) -> 0 | CA70: 3 | CB70: 1
C71: 14,28*1,02 | E71: 14.5656 | M71: 14,28*1,02
A72: 33 | B72: 59245020.1 | C72: Dlažba zámková 20x10x6 cm přírodní | D72: m2 | E72: 1141.9104 | F72: 0 | G72: =E72*F72 -> 0 | H72: 0.1296 | I72: =E72*H72 -> 147.99159 | K72: =E72*J72 -> 0 | O72: 2 | AA72: 3 | AB72: 1 | AC72: 59245020 | AZ72: 1 | BA72: =IF(AZ72=1,G72,0) -> 0 | BB72: =IF(AZ72=2,G72,0) -> 0 | BC72: =IF(AZ72=3,G72,0) -> 0 | BD72: =IF(AZ72=4,G72,0) -> 0 | BE72: =IF(AZ72=5,G72,0) -> 0 | CA72: 3 | CB72: 1
C73: 1019,52*1,02 | E73: 1039.9104 | M73: 1019,52*1,02
C74: 100*1,02 | E74: 102 | M74: 100*1,02
A75: 34 | B75: 59245020.2 | C75: Dlažba zámková 20x10x6 cm, červená hmatové prvky | D75: m2 | E75: 10.2816 | F75: 0 | G75: =E75*F75 -> 0 | H75: 0.1296 | I75: =E75*H75 -> 1.3324954 | K75: =E75*J75 -> 0 | O75: 2 | AA75: 3 | AB75: 1 | AC75: 59245020 | AZ75: 1 | BA75: =IF(AZ75=1,G75,0) -> 0 | BB75: =IF(AZ75=2,G75,0) -> 0 | BC75: =IF(AZ75=3,G75,0) -> 0 | BD75: =IF(AZ75=4,G75,0) -> 0 | BE75: =IF(AZ75=5,G75,0) -> 0 | CA75: 3 | CB75: 1
C76: 10,08*1,02 | E76: 10.2816 | M76: 10,08*1,02
A77: 35 | B77: 59245020.3 | C77: Dlažba zámková 20x10x8 cm přírodní | D77: m2 | E77: 124.5624 | F77: 0 | G77: =E77*F77 -> 0 | H77: 0.1296 | I77: =E77*H77 -> 16.143287 | K77: =E77*J77 -> 0 | O77: 2 | AA77: 3 | AB77: 1 | AC77: 59245020 | AZ77: 1 | BA77: =IF(AZ77=1,G77,0) -> 0 | BB77: =IF(AZ77=2,G77,0) -> 0 | BC77: =IF(AZ77=3,G77,0) -> 0 | BD77: =IF(AZ77=4,G77,0) -> 0 | BE77: =IF(AZ77=5,G77,0) -> 0 | CA77: 3 | CB77: 1
C78: 122,12*1,02 | E78: 124.5624 | M78: 122,12*1,02
A79: 36 | B79: 59245020.4 | C79: Dlažba zámková 20x10x8 cm, červená hmatové prvky | D79: m2 | E79: 44.268 | F79: 0 | G79: =E79*F79 -> 0 | H79: 0.1296 | I79: =E79*H79 -> 5.7371328 | K79: =E79*J79 -> 0 | O79: 2 | AA79: 3 | AB79: 1 | AC79: 59245020 | AZ79: 1 | BA79: =IF(AZ79=1,G79,0) -> 0 | BB79: =IF(AZ79=2,G79,0) -> 0 | BC79: =IF(AZ79=3,G79,0) -> 0 | BD79: =IF(AZ79=4,G79,0) -> 0 | BE79: =IF(AZ79=5,G79,0) -> 0 | CA79: 3 | CB79: 1
C80: 43,40*1,02 | E80: 44.268 | M80: 43,40*1,02
B81: Celkem za | C81: 5 Komunikace | G81: =SUM(G55:G80) -> 0 | I81: =SUM(I55:I80) -> 788.22438 | K81: =SUM(K55:K80) -> 0 | O81: 4 | BA81: =SUM(BA55:BA80) -> 0 | BB81: =SUM(BB55:BB80) -> 0 | BC81: =SUM(BC55:BC80) -> 0 | BD81: =SUM(BD55:BD80) -> 0 | BE81: =SUM(BE55:BE80) -> 0
A82: Díl: | B82: 8 | C82: Trubní vedení | O82: 1
A83: 37 | B83: 899431111R00 | C83: Výšková úprava do 20 cm, zvýšení krytu šoupěte | D83: kus | E83: 4 | F83: 0 | G83: =E83*F83 -> 0 | H83: 0.31508 | I83: =E83*H83 -> 1.26032 | J83: 0 | K83: =E83*J83 -> 0 | O83: 2 | AA83: 1 | AB83: 1 | AC83: 1 | AZ83: 1 | BA83: =IF(AZ83=1,G83,0) -> 0 | BB83: =IF(AZ83=2,G83,0) -> 0 | BC83: =IF(AZ83=3,G83,0) -> 0 | BD83: =IF(AZ83=4,G83,0) -> 0 | BE83: =IF(AZ83=5,G83,0) -> 0 | CA83: 1 | CB83: 1
A84: 38 | B84: 899432111R00 | C84: Výšková úprava do 20 cm, snížení krytu šoupěte | D84: kus | E84: 4 | F84: 0 | G84: =E84*F84 -> 0 | H84: 0.2647 | I84: =E84*H84 -> 1.0588 | J84: 0 | K84: =E84*J84 -> 0 | O84: 2 | AA84: 1 | AB84: 1 | AC84: 1 | AZ84: 1 | BA84: =IF(AZ84=1,G84,0) -> 0 | BB84: =IF(AZ84=2,G84,0) -> 0 | BC84: =IF(AZ84=3,G84,0) -> 0 | BD84: =IF(AZ84=4,G84,0) -> 0 | BE84: =IF(AZ84=5,G84,0) -> 0 | CA84: 1 | CB84: 1
A85: 39 | B85: 89-R-1 | C85: Výšková úprava hydrantového poklopu | D85: kus | E85: 2 | F85: 0 | G85: =E85*F85 -> 0 | H85: 0.43094 | I85: =E85*H85 -> 0.86188 | K85: =E85*J85 -> 0 | O85: 2 | AA85: 12 | AB85: 0 | AC85: 2 | AZ85: 1 | BA85: =IF(AZ85=1,G85,0) -> 0 | BB85: =IF(AZ85=2,G85,0) -> 0 | BC85: =IF(AZ85=3,G85,0) -> 0 | BD85: =IF(AZ85=4,G85,0) -> 0 | BE85: =IF(AZ85=5,G85,0) -> 0 | CA85: 12 | CB85: 0
B86: Celkem za | C86: 8 Trubní vedení | G86: =SUM(G82:G85) -> 0 | I86: =SUM(I82:I85) -> 3.181 | K86: =SUM(K82:K85) -> 0 | O86: 4 | BA86: =SUM(BA82:BA85) -> 0 | BB86: =SUM(BB82:BB85) -> 0 | BC86: =SUM(BC82:BC85) -> 0 | BD86: =SUM(BD82:BD85) -> 0 | BE86: =SUM(BE82:BE85) -> 0
A87: Díl: | B87: 91 | C87: Doplňující práce na komunikaci | O87: 1
A88: 40 | B88: 916561111R00 | C88: Osazení záhon.obrubníků do lože z B 12,5 s opěrou | D88: m | E88: 998 | F88: 0 | G88: =E88*F88 -> 0 | H88: 0.10598 | I88: =E88*H88 -> 105.76804 | J88: 0 | K88: =E88*J88 -> 0 | O88: 2 | AA88: 1 | AB88: 1 | AC88: 1 | AZ88: 1 | BA88: =IF(AZ88=1,G88,0) -> 0 | BB88: =IF(AZ88=2,G88,0) -> 0 | BC88: =IF(AZ88=3,G88,0) -> 0 | BD88: =IF(AZ88=4,G88,0) -> 0 | BE88: =IF(AZ88=5,G88,0) -> 0 | CA88: 1 | CB88: 1
C89: 998,0 | E89: 998 | M89: 998,0
A90: 41 | B90: 917862111R00 | C90: Osazení stojat. obrub. bet. s opěrou,lože z B 12,5 | D90: m | E90: 290.4 | F90: 0 | G90: =E90*F90 -> 0 | H90: 0.13612 | I90: =E90*H90 -> 39.529248 | J90: 0 | K90: =E90*J90 -> 0 | O90: 2 | AA90: 1 | AB90: 0 | AC90: 0 | AZ90: 1 | BA90: =IF(AZ90=1,G90,0) -> 0 | BB90: =IF(AZ90=2,G90,0) -> 0 | BC90: =IF(AZ90=3,G90,0) -> 0 | BD90: =IF(AZ90=4,G90,0) -> 0 | BE90: =IF(AZ90=5,G90,0) -> 0 | CA90: 1 | CB90: 0
C91: 290,40 | E91: 290.4 | M91: 290,40
A92: 42 | B92: 918101111R00 | C92: Lože pod obrubníky nebo obruby dlažeb z B 12,5 | D92: m3 | E92: 53.3025 | F92: 0 | G92: =E92*F92 -> 0 | H92: 2.37855 | I92: =E92*H92 -> 126.78266 | J92: 0 | K92: =E92*J92 -> 0 | O92: 2 | AA92: 1 | AB92: 1 | AC92: 1 | AZ92: 1 | BA92: =IF(AZ92=1,G92,0) -> 0 | BB92: =IF(AZ92=2,G92,0) -> 0 | BC92: =IF(AZ92=3,G92,0) -> 0 | BD92: =IF(AZ92=4,G92,0) -> 0 | BE92: =IF(AZ92=5,G92,0) -> 0 | CA92: 1 | CB92: 1
C93: 53,3025 | E93: 53.3025 | M93: 533025
A94: 43 | B94: 59217330 | C94: Obrubník záhonový ABO 100-5/25 1000x50x250 mm | D94: kus | E94: 1017.96 | F94: 0 | G94: =E94*F94 -> 0 | H94: 0.027 | I94: =E94*H94 -> 27.48492 | K94: =E94*J94 -> 0 | O94: 2 | AA94: 3 | AB94: 1 | AC94: 59217330 | AZ94: 1 | BA94: =IF(AZ94=1,G94,0) -> 0 | BB94: =IF(AZ94=2,G94,0) -> 0 | BC94: =IF(AZ94=3,G94,0) -> 0 | BD94: =IF(AZ94=4,G94,0) -> 0 | BE94: =IF(AZ94=5,G94,0) -> 0 | CA94: 3 | CB94: 1
C95: 998,0*1,02 | E95: 1017.96 | M95: 998,0*1,02
A96: 44 | B96: 59217472 | C96: Obrubník silniční 1000/150/250 šedý | D96: kus | E96: 156.06 | F96: 0 | G96: =E96*F96 -> 0 | H96: 0.08 | I96: =E96*H96 -> 12.4848 | K96: =E96*J96 -> 0 | O96: 2 | AA96: 3 | AB96: 0 | AC96: 59217472 | AZ96: 1 | BA96: =IF(AZ96=1,G96,0) -> 0 | BB96: =IF(AZ96=2,G96,0) -> 0 | BC96: =IF(AZ96=3,G96,0) -> 0 | BD96: =IF(AZ96=4,G96,0) -> 0 | BE96: =IF(AZ96=5,G96,0) -> 0 | CA96: 3 | CB96: 0
C97: 153,00*1,02 | E97: 156.06 | M97: 153,00*1,02
A98: 45 | B98: 59217476 | C98: Obrubník silniční nájezdový 1000/150/150 šedý | D98: kus | E98: 97.308 | F98: 0 | G98: =E98*F98 -> 0 | H98: 0.048 | I98: =E98*H98 -> 4.670784 | K98: =E98*J98 -> 0 | O98: 2 | AA98: 3 | AB98: 0 | AC98: 59217476 | AZ98: 1 | BA98: =IF(AZ98=1,G98,0) -> 0 | BB98: =IF(AZ98=2,G98,0) -> 0 | BC98: =IF(AZ98=3,G98,0) -> 0 | BD98: =IF(AZ98=4,G98,0) -> 0 | BE98: =IF(AZ98=5,G98,0) -> 0 | CA98: 3 | CB98: 0
C99: 95,40*1,02 | E99: 97.308 | M99: 95,40*1,02
A100: 46 | B100: 59217480 | C100: Obrubník silniční přechodový L 1000/150/150-250 | D100: kus | E100: 21.42 | F100: 0 | G100: =E100*F100 -> 0 | H100: 0.064 | I100: =E100*H100 -> 1.37088 | K100: =E100*J100 -> 0 | O100: 2 | AA100: 3 | AB100: 0 | AC100: 59217480 | AZ100: 1 | BA100: =IF(AZ100=1,G100,0) -> 0 | BB100: =IF(AZ100=2,G100,0) -> 0 | BC100: =IF(AZ100=3,G100,0) -> 0 | BD100: =IF(AZ100=4,G100,0) -> 0 | BE100: =IF(AZ100=5,G100,0) -> 0 | CA100: 3 | CB100: 0
C101: 21*1,02 | E101: 21.42 | M101: 21*1,02
A102: 47 | B102: 59217481 | C102: Obrubník silniční přechodový P 1000/150/150-250 | D102: kus | E102: 21.42 | F102: 0 | G102: =E102*F102 -> 0 | H102: 0.064 | I102: =E102*H102 -> 1.37088 | K102: =E102*J102 -> 0 | O102: 2 | AA102: 3 | AB102: 0 | AC102: 59217481 | AZ102: 1 | BA102: =IF(AZ102=1,G102,0) -> 0 | BB102: =IF(AZ102=2,G102,0) -> 0 | BC102: =IF(AZ102=3,G102,0) -> 0 | BD102: =IF(AZ102=4,G102,0) -> 0 | BE102: =IF(AZ102=5,G102,0) -> 0 | CA102: 3 | CB102: 0
...

Sheet SO 02 001 KL
A1: SLEPÝ ROZPOČET
A2: Rozpočet | C2: 001 | D2: Náklady nutné k realizaci stavby | F2: JKSO
A4: Objekt | F4: SKP
A5: SO 02 | C5: Náklady nutné k realizaci stavby | F5: Měrná jednotka
A6: Stavba | F6: Počet jednotek
A7: A/03/2016 | C7: Rohatec - bezbariérové chodníky - trasa "A" | F7: Náklady na m.j. | G7: =IF(G6=0,,ROUND((F30+F32)/G6,1)) -> 0
A8: Projektant | F8: Typ rozpočtu
A9: Zpracovatel projektu
A10: Objednatel
A11: Dodavatel | F11: Zakázkové číslo
A12: Rozpočtoval | F12: Počet listů
A13: ROZPOČTOVÉ NÁKLADY
A14: Základní rozpočtové náklady | D14: Ostatní rozpočtové náklady
B15: HSV celkem | C15: ='SO 02 001 Rek'!E8 -> 0 | D15: ='SO 02 001 Rek'!A13 -> Ztížené výrobní podmínky | G15: ='SO 02 001 Rek'!I13 -> 0
A16: Z | B16: PSV celkem | C16: ='SO 02 001 Rek'!F8 -> 0 | D16: ='SO 02 001 Rek'!A14 -> Oborová přirážka | G16: ='SO 02 001 Rek'!I14 -> 0
A17: R | B17: M práce celkem | C17: ='SO 02 001 Rek'!H8 -> 0 | D17: ='SO 02 001 Rek'!A15 -> Přesun stavebních kapacit | G17: ='SO 02 001 Rek'!I15 -> 0
A18: N | B18: M dodávky celkem | C18: ='SO 02 001 Rek'!G8 -> 0 | D18: ='SO 02 001 Rek'!A16 -> Mimostaveništní doprava | G18: ='SO 02 001 Rek'!I16 -> 0
A19: ZRN celkem | C19: =SUM(C15:C18) -> 0 | D19: ='SO 02 001 Rek'!A17 -> Zařízení staveniště | G19: ='SO 02 001 Rek'!I17 -> 0
D20: ='SO 02 001 Rek'!A18 -> Provoz investora | G20: ='SO 02 001 Rek'!I18 -> 0
A21: HZS | C21: ='SO 02 001 Rek'!I8 -> 0 | D21: ='SO 02 001 Rek'!A19 -> Kompletační činnost (IČD) | G21: ='SO 02 001 Rek'!I19 -> 0
A22: ZRN+HZS | C22: =C19+C21 -> 0 | D22: Ostatní náklady neuvedené | G22: =G23-SUM(G15:G21) -> 0
A23: ZRN+ost.náklady+HZS | C23: =C22+G23 -> 0 | D23: Ostatní náklady celkem | G23: ='SO 02 001 Rek'!H21 -> 0
A24: Vypracoval | D24: Za zhotovitele | F24: Za objednatele
A25: Jméno : | D25: Jméno : | F25: Jméno :
A26: Datum : | D26: Datum : | F26: Datum :
A28: Podpis : | D28: Podpis: | F28: Podpis:
A30: Základ pro DPH | C30: 21 | D30: % | F30: =C23-F32 -> 0
A31: DPH | C31: =C30 -> 21 | D31: % | F31: =ROUND(PRODUCT(F30,C31/100),0) -> 0
A32: Základ pro DPH | C32: 0 | D32: % | F32: 0
A33: DPH | C33: =C32 -> 0 | D33: % | F33: =ROUND(PRODUCT(F32,C33/100),0) -> 0
A34: CENA ZA OBJEKT CELKEM | F34: =ROUND(SUM(F30:F33),0) -> 0
A36: Poznámka :

Sheet SO 02 001 Rek
A1: Stavba : | C1: A/03/2016 Rohatec - bezbariérové chodníky - trasa "A" | G1: Rozpočet : | H1: 001
A2: Objekt : | C2: SO 02 Náklady nutné k realizaci stavby | G2: Náklady nutné k realizaci stavby
A4: REKAPITULACE STAVEBNÍCH DÍLŮ
B6: Stavební díl | E6: HSV | F6: PSV | G6: Dodávka | H6: Montáž | I6: HZS
A7: ='SO 02 001 Pol'!B7 -> 0 | B7: ='SO 02 001 Pol'!C7 -> Přípravné a pomocné práce | E7: ='SO 02 001 Pol'!BA13 -> 0 | F7: ='SO 02 001 Pol'!BB13 -> 0 | G7: ='SO 02 001 Pol'!BC13 -> 0 | H7: ='SO 02 001 Pol'!BD13 -> 0 | I7: ='SO 02 001 Pol'!BE13 -> 0
B8: CELKEM OBJEKT | E8: =SUM(E7:E7) -> 0 | F8: =SUM(F7:F7) -> 0 | G8: =SUM(G7:G7) -> 0 | H8: =SUM(H7:H7) -> 0 | I8: =SUM(I7:I7) -> 0
A10: VEDLEJŠÍ ROZPOČTOVÉ NÁKLADY
A12: Název VRN | E12: Kč | F12: % | G12: Základna | I12: Kč
A13: Ztížené výrobní podmínky | G13: 0 | I13: =E13+F13*G13/100 -> 0 | BA13: 0
A14: Oborová přirážka | G14: 0 | I14: =E14+F14*G14/100 -> 0 | BA14: 0
A15: Přesun stavebních kapacit | G15: 0 | I15: =E15+F15*G15/100 -> 0 | BA15: 0
A16: Mimostaveništní doprava | G16: 0 | I16: =E16+F16*G16/100 -> 0 | BA16: 0
A17: Zařízení staveniště | G17: 0 | I17: =E17+F17*G17/100 -> 0 | BA17: 1
A18: Provoz investora | G18: 0 | I18: =E18+F18*G18/100 -> 0 | BA18: 1
A19: Kompletační činnost (IČD) | G19: 0 | I19: =E19+F19*G19/100 -> 0 | BA19: 2
A20: Rezerva rozpočtu | G20: 0 | I20: =E20+F20*G20/100 -> 0 | BA20: 2
B21: CELKEM VRN | H21: =SUM(I13:I20) -> 0

Sheet SO 02 001 Pol
A1: Slepý rozpočet
A3: Stavba : | C3: A/03/2016 Rohatec - bezbariérové chodníky - trasa "A" | E3: Rozpočet: | F3: ='SO 02 001 Rek'!H1 -> 001
A4: Objekt : | C4: SO 02 Náklady nutné k realizaci stavby | E4: ='SO 02 001 Rek'!G2 -> Náklady nutné k realizaci stavby
A6: P.č. | B6: Číslo položky | C6: Název položky | D6: MJ | E6: množství | F6: cena / MJ | G6: celkem (Kč) | H6: Jednotková hmotnost | I6: Celková hmotnost | J6: Jednotková dem.hmot. | K6: Celková dem.hmot.
A7: Díl: | B7: 0 | C7: Přípravné a pomocné práce | O7: 1
A8: 1 | B8: 0-R-1 | C8: Zajištění potřebných záborů ploch | D8: soubor | E8: 1 | F8: 0 | G8: =E8*F8 -> 0 | H8: 0 | I8: =E8*H8 -> 0 | K8: =E8*J8 -> 0 | O8: 2 | AA8: 12 | AB8: 0 | AC8: 1 | AZ8: 1 | BA8: =IF(AZ8=1,G8,0) -> 0 | BB8: =IF(AZ8=2,G8,0) -> 0 | BC8: =IF(AZ8=3,G8,0) -> 0 | BD8: =IF(AZ8=4,G8,0) -> 0 | BE8: =IF(AZ8=5,G8,0) -> 0 | CA8: 12 | CB8: 0
A9: 2 | B9: 0-R-2 | C9: Oprava příjezdových komunikací v průběhu stavby | D9: soubor | E9: 1 | F9: 0 | G9: =E9*F9 -> 0 | H9: 0 | I9: =E9*H9 -> 0 | K9: =E9*J9 -> 0 | O9: 2 | AA9: 12 | AB9: 0 | AC9: 2 | AZ9: 1 | BA9: =IF(AZ9=1,G9,0) -> 0 | BB9: =IF(AZ9=2,G9,0) -> 0 | BC9: =IF(AZ9=3,G9,0) -> 0 | BD9: =IF(AZ9=4,G9,0) -> 0 | BE9: =IF(AZ9=5,G9,0) -> 0 | CA9: 12 | CB9: 0
A10: 3 | B10: 0-R-3 | C10: Umístění dopravních značek | D10: soubor | E10: 1 | F10: 0 | G10: =E10*F10 -> 0 | H10: 0 | I10: =E10*H10 -> 0 | K10: =E10*J10 -> 0 | O10: 2 | AA10: 12 | AB10: 0 | AC10: 3 | AZ10: 1 | BA10: =IF(AZ10=1,G10,0) -> 0 | BB10: =IF(AZ10=2,G10,0) -> 0 | BC10: =IF(AZ10=3,G10,0) -> 0 | BD10: =IF(AZ10=4,G10,0) -> 0 | BE10: =IF(AZ10=5,G10,0) -> 0 | CA10: 12 | CB10: 0
A11: 4 | B11: 0-R-4 | C11: Projektová dokumentace skutečného provedení díla | D11: soubor | E11: 1 | F11: 0 | G11: =E11*F11 -> 0 | H11: 0 | I11: =E11*H11 -> 0 | K11: =E11*J11 -> 0 | O11: 2 | AA11: 12 | AB11: 0 | AC11: 4 | AZ11: 1 | BA11: =IF(AZ11=1,G11,0) -> 0 | BB11: =IF(AZ11=2,G11,0) -> 0 | BC11: =IF(AZ11=3,G11,0) -> 0 | BD11: =IF(AZ11=4,G11,0) -> 0 | BE11: =IF(AZ11=5,G11,0) -> 0 | CA11: 12 | CB11: 0
A12: 5 | B12: 0-R-5 | C12: Geodetické práce v průběhu stavby | D12: soubor | E12: 1 | F12: 0 | G12: =E12*F12 -> 0 | H12: 0 | I12: =E12*H12 -> 0 | K12: =E12*J12 -> 0 | O12: 2 | AA12: 12 | AB12: 0 | AC12: 5 | AZ12: 1 | BA12: =IF(AZ12=1,G12,0) -> 0 | BB12: =IF(AZ12=2,G12,0) -> 0 | BC12: =IF(AZ12=3,G12,0) -> 0 | BD12: =IF(AZ12=4,G12,0) -> 0 | BE12: =IF(AZ12=5,G12,0) -> 0 | CA12: 12 | CB12: 0
B13: Celkem za | C13: 0 Přípravné a pomocné práce | G13: =SUM(G7:G12) -> 0 | I13: =SUM(I7:I12) -> 0 | K13: =SUM(K7:K12) -> 0 | O13: 4 | BA13: =SUM(BA7:BA12) -> 0 | BB13: =SUM(BB7:BB12) -> 0 | BC13: =SUM(BC7:BC12) -> 0 | BD13: =SUM(BD7:BD12) -> 0 | BE13: =SUM(BE7:BE12) -> 0

Sheet SO 03 001 KL
A1: SLEPÝ ROZPOČET
A2: Rozpočet | C2: 001 | D2: Neuznatelné náklady stavby | F2: JKSO
A4: Objekt | F4: SKP
A5: SO 03 | C5: Neuznatelné náklady stavby | F5: Měrná jednotka
A6: Stavba | F6: Počet jednotek
A7: A/03/2016 | C7: Rohatec - bezbariérové chodníky - trasa "A" | F7: Náklady na m.j. | G7: =IF(G6=0,,ROUND((F30+F32)/G6,1)) -> 0
A8: Projektant | F8: Typ rozpočtu
A9: Zpracovatel projektu
A10: Objednatel
A11: Dodavatel | F11: Zakázkové číslo
A12: Rozpočtoval | F12: Počet listů
A13: ROZPOČTOVÉ NÁKLADY
A14: Základní rozpočtové náklady | D14: Ostatní rozpočtové náklady
B15: HSV celkem | C15: ='SO 03 001 Rek'!E12 -> 0 | D15: ='SO 03 001 Rek'!A17 -> Ztížené výrobní podmínky | G15: ='SO 03 001 Rek'!I17 -> 0
A16: Z | B16: PSV celkem | C16: ='SO 03 001 Rek'!F12 -> 0 | D16: ='SO 03 001 Rek'!A18 -> Oborová přirážka | G16: ='SO 03 001 Rek'!I18 -> 0
A17: R | B17: M práce celkem | C17: ='SO 03 001 Rek'!H12 -> 0 | D17: ='SO 03 001 Rek'!A19 -> Přesun stavebních kapacit | G17: ='SO 03 001 Rek'!I19 -> 0
A18: N | B18: M dodávky celkem | C18: ='SO 03 001 Rek'!G12 -> 0 | D18: ='SO 03 001 Rek'!A20 -> Mimostaveništní doprava | G18: ='SO 03 001 Rek'!I20 -> 0
A19: ZRN celkem | C19: =SUM(C15:C18) -> 0 | D19: ='SO 03 001 Rek'!A21 -> Zařízení staveniště | G19: ='SO 03 001 Rek'!I21 -> 0
D20: ='SO 03 001 Rek'!A22 -> Provoz investora | G20: ='SO 03 001 Rek'!I22 -> 0
A21: HZS | C21: ='SO 03 001 Rek'!I12 -> 0 | D21: ='SO 03 001 Rek'!A23 -> Kompletační činnost (IČD) | G21: ='SO 03 001 Rek'!I23 -> 0
A22: ZRN+HZS | C22: =C19+C21 -> 0 | D22: Ostatní náklady neuvedené | G22: =G23-SUM(G15:G21) -> 0
A23: ZRN+ost.náklady+HZS | C23: =C22+G23 -> 0 | D23: Ostatní náklady celkem | G23: ='SO 03 001 Rek'!H25 -> 0
A24: Vypracoval | D24: Za zhotovitele | F24: Za objednatele
A25: Jméno : | D25: Jméno : | F25: Jméno :
A26: Datum : | D26: Datum : | F26: Datum :
A28: Podpis : | D28: Podpis: | F28: Podpis:
A30: Základ pro DPH | C30: 21 | D30: % | F30: =C23-F32 -> 0
A31: DPH | C31: =C30 -> 21 | D31: % | F31: =ROUND(PRODUCT(F30,C31/100),0) -> 0
A32: Základ pro DPH | C32: 0 | D32: % | F32: 0
A33: DPH | C33: =C32 -> 0 | D33: % | F33: =ROUND(PRODUCT(F32,C33/100),0) -> 0
A34: CENA ZA OBJEKT CELKEM | F34: =ROUND(SUM(F30:F33),0) -> 0
A36: Poznámka :

Sheet SO 03 001 Rek
A1: Stavba : | C1: A/03/2016 Rohatec - bezbariérové chodníky - trasa "A" | G1: Rozpočet : | H1: 001
A2: Objekt : | C2: SO 03 Neuznatelné náklady stavby | G2: Neuznatelné náklady stavby
A4: REKAPITULACE STAVEBNÍCH DÍLŮ
B6: Stavební díl | E6: HSV | F6: PSV | G6: Dodávka | H6: Montáž | I6: HZS
A7: ='SO 03 001 Pol'!B7 -> 1 | B7: ='SO 03 001 Pol'!C7 -> Zemní práce | E7: ='SO 03 001 Pol'!BA37 -> 0 | F7: ='SO 03 001 Pol'!BB37 -> 0 | G7: ='SO 03 001 Pol'!BC37 -> 0 | H7: ='SO 03 001 Pol'!BD37 -> 0 | I7: ='SO 03 001 Pol'!BE37 -> 0
A8: ='SO 03 001 Pol'!B38 -> 5 | B8: ='SO 03 001 Pol'!C38 -> Komunikace | E8: ='SO 03 001 Pol'!BA48 -> 0 | F8: ='SO 03 001 Pol'!BB48 -> 0 | G8: ='SO 03 001 Pol'!BC48 -> 0 | H8: ='SO 03 001 Pol'!BD48 -> 0 | I8: ='SO 03 001 Pol'!BE48 -> 0
A9: ='SO 03 001 Pol'!B49 -> 91 | B9: ='SO 03 001 Pol'!C49 -> Doplňující práce na komunikaci | E9: ='SO 03 001 Pol'!BA62 -> 0 | F9: ='SO 03 001 Pol'!BB62 -> 0 | G9: ='SO 03 001 Pol'!BC62 -> 0 | H9: ='SO 03 001 Pol'!BD62 -> 0 | I9: ='SO 03 001 Pol'!BE62 -> 0
A10: ='SO 03 001 Pol'!B63 -> 99 | B10: ='SO 03 001 Pol'!C63 -> Staveništní přesun hmot | E10: ='SO 03 001 Pol'!BA65 -> 0 | F10: ='SO 03 001 Pol'!BB65 -> 0 | G10: ='SO 03 001 Pol'!BC65 -> 0 | H10: ='SO 03 001 Pol'!BD65 -> 0 | I10: ='SO 03 001 Pol'!BE65 -> 0
A11: ='SO 03 001 Pol'!B66 -> D96 | B11: ='SO 03 001 Pol'!C66 -> Přesuny suti a vybouraných hmot | E11: ='SO 03 001 Pol'!BA70 -> 0 | F11: ='SO 03 001 Pol'!BB70 -> 0 | G11: ='SO 03 001 Pol'!BC70 -> 0 | H11: ='SO 03 001 Pol'!BD70 -> 0 | I11: ='SO 03 001 Pol'!BE70 -> 0
B12: CELKEM OBJEKT | E12: =SUM(E7:E11) -> 0 | F12: =SUM(F7:F11) -> 0 | G12: =SUM(G7:G11) -> 0 | H12: =SUM(H7:H11) -> 0 | I12: =SUM(I7:I11) -> 0
A14: VEDLEJŠÍ ROZPOČTOVÉ NÁKLADY
A16: Název VRN | E16: Kč | F16: % | G16: Základna | I16: Kč
A17: Ztížené výrobní podmínky | G17: 0 | I17: =E17+F17*G17/100 -> 0 | BA17: 0
A18: Oborová přirážka | G18: 0 | I18: =E18+F18*G18/100 -> 0 | BA18: 0
A19: Přesun stavebních kapacit | G19: 0 | I19: =E19+F19*G19/100 -> 0 | BA19: 0
A20: Mimostaveništní doprava | G20: 0 | I20: =E20+F20*G20/100 -> 0 | BA20: 0
A21: Zařízení staveniště | G21: 0 | I21: =E21+F21*G21/100 -> 0 | BA21: 1
A22: Provoz investora | G22: 0 | I22: =E22+F22*G22/100 -> 0 | BA22: 1
A23: Kompletační činnost (IČD) | G23: 0 | I23: =E23+F23*G23/100 -> 0 | BA23: 2
A24: Rezerva rozpočtu | G24: 0 | I24: =E24+F24*G24/100 -> 0 | BA24: 2
B25: CELKEM VRN | H25: =SUM(I17:I24) -> 0

Sheet SO 03 001 Pol
A1: Slepý rozpočet
A3: Stavba : | C3: A/03/2016 Rohatec - bezbariérové chodníky - trasa "A" | E3: Rozpočet: | F3: ='SO 03 001 Rek'!H1 -> 001
A4: Objekt : | C4: SO 03 Neuznatelné náklady stavby | E4: ='SO 03 001 Rek'!G2 -> Neuznatelné náklady stavby
A6: P.č. | B6: Číslo položky | C6: Název položky | D6: MJ | E6: množství | F6: cena / MJ | G6: celkem (Kč) | H6: Jednotková hmotnost | I6: Celková hmotnost | J6: Jednotková dem.hmot. | K6: Celková dem.hmot.
A7: Díl: | B7: 1 | C7: Zemní práce | O7: 1
A8: 1 | B8: 113106121R00 | C8: Rozebrání dlažeb z betonových dlaždic na sucho | D8: m2 | E8: 142.14 | F8: 0 | G8: =E8*F8 -> 0 | H8: 0 | I8: =E8*H8 -> 0 | J8: -0.138 | K8: =E8*J8 -> -19.61532 | O8: 2 | AA8: 1 | AB8: 1 | AC8: 1 | AZ8: 1 | BA8: =IF(AZ8=1,G8,0) -> 0 | BB8: =IF(AZ8=2,G8,0) -> 0 | BC8: =IF(AZ8=3,G8,0) -> 0 | BD8: =IF(AZ8=4,G8,0) -> 0 | BE8: =IF(AZ8=5,G8,0) -> 0 | CA8: 1 | CB8: 1
C9: 5,20+59,20+77,74 | E9: 142.14 | M9: 5,20+59,20+77,74
A10: 2 | B10: 113107111R00 | C10: Odstranění podkladu pl. 200 m2,kam.těžené tl.10 cm | D10: m2 | E10: 142.14 | F10: 0 | G10: =E10*F10 -> 0 | H10: 0 | I10: =E10*H10 -> 0 | J10: -0.16 | K10: =E10*J10 -> -22.7424 | O10: 2 | AA10: 1 | AB10: 1 | AC10: 1 | AZ10: 1 | BA10: =IF(AZ10=1,G10,0) -> 0 | BB10: =IF(AZ10=2,G10,0) -> 0 | BC10: =IF(AZ10=3,G10,0) -> 0 | BD10: =IF(AZ10=4,G10,0) -> 0 | BE10: =IF(AZ10=5,G10,0) -> 0 | CA10: 1 | CB10: 1
C11: 5,20+59,20+77,74 | E11: 142.14 | M11: 5,20+59,20+77,74
A12: 3 | B12: 113107121R00 | C12: Odstranění podkladu pl. 200 m2,kam.drcené tl.10 cm | D12: m2 | E12: 142.14 | F12: 0 | G12: =E12*F12 -> 0 | H12: 0 | I12: =E12*H12 -> 0 | J12: -0.13 | K12: =E12*J12 -> -18.4782 | O12: 2 | AA12: 1 | AB12: 1 | AC12: 1 | AZ12: 1 | BA12: =IF(AZ12=1,G12,0) -> 0 | BB12: =IF(AZ12=2,G12,0) -> 0 | BC12: =IF(AZ12=3,G12,0) -> 0 | BD12: =IF(AZ12=4,G12,0) -> 0 | BE12: =IF(AZ12=5,G12,0) -> 0 | CA12: 1 | CB12: 1
C13: 5,20+59,20+77,74 | E13: 142.14 | M13: 5,20+59,20+77,74
A14: 4 | B14: 113107132R00 | C14: Odstranění podkladu pl.200 m2, bet.prostý tl.30 cm | D14: m2 | E14: 1.5 | F14: 0 | G14: =E14*F14 -> 0 | H14: 0 | I14: =E14*H14 -> 0 | J14: -0.5 | K14: =E14*J14 -> -0.75 | O14: 2 | AA14: 1 | AB14: 1 | AC14: 1 | AZ14: 1 | BA14: =IF(AZ14=1,G14,0) -> 0 | BB14: =IF(AZ14=2,G14,0) -> 0 | BC14: =IF(AZ14=3,G14,0) -> 0 | BD14: =IF(AZ14=4,G14,0) -> 0 | BE14: =IF(AZ14=5,G14,0) -> 0 | CA14: 1 | CB14: 1
A15: 5 | B15: 113202111R00 | C15: Vytrhání obrub z krajníků nebo obrubníků stojatých | D15: m | E15: 88 | F15: 0 | G15: =E15*F15 -> 0 | H15: 0 | I15: =E15*H15 -> 0 | J15: -0.145 | K15: =E15*J15 -> -12.76 | O15: 2 | AA15: 1 | AB15: 1 | AC15: 1 | AZ15: 1 | BA15: =IF(AZ15=1,G15,0) -> 0 | BB15: =IF(AZ15=2,G15,0) -> 0 | BC15: =IF(AZ15=3,G15,0) -> 0 | BD15: =IF(AZ15=4,G15,0) -> 0 | BE15: =IF(AZ15=5,G15,0) -> 0 | CA15: 1 | CB15: 1
C16: 0+25+0+4+17+42 | E16: 88 | M16: 0+25+0+4+17+42
A17: 6 | B17: 122202202R00 | C17: Odkopávky pro silnice v hor. 3 do 1000 m3 | D17: m3 | E17: 50.031 | F17: 0 | G17: =E17*F17 -> 0 | H17: 0 | I17: =E17*H17 -> 0 | J17: 0 | K17: =E17*J17 -> 0 | O17: 2 | AA17: 1 | AB17: 1 | AC17: 1 | AZ17: 1 | BA17: =IF(AZ17=1,G17,0) -> 0 | BB17: =IF(AZ17=2,G17,0) -> 0 | BC17: =IF(AZ17=3,G17,0) -> 0 | BD17: =IF(AZ17=4,G17,0) -> 0 | BE17: =IF(AZ17=5,G17,0) -> 0 | CA17: 1 | CB17: 1
C18: (7,98+65,24+93,55)*0,30 | E18: 50.031 | M18: (7,98+65,24+93,55)*0,30
A19: 7 | B19: 122202209R00 | C19: Příplatek za lepivost - odkop. pro silnice v hor.3 | D19: m3 | E19: 50.031 | F19: 0 | G19: =E19*F19 -> 0 | H19: 0 | I19: =E19*H19 -> 0 | J19: 0 | K19: =E19*J19 -> 0 | O19: 2 | AA19: 1 | AB19: 1 | AC19: 1 | AZ19: 1 | BA19: =IF(AZ19=1,G19,0) -> 0 | BB19: =IF(AZ19=2,G19,0) -> 0 | BC19: =IF(AZ19=3,G19,0) -> 0 | BD19: =IF(AZ19=4,G19,0) -> 0 | BE19: =IF(AZ19=5,G19,0) -> 0 | CA19: 1 | CB19: 1
C20: (7,98+65,24+93,55)*0,30 | E20: 50.031 | M20: (7,98+65,24+93,55)*0,30
A21: 8 | B21: 162401102R00 | C21: Vodorovné přemístění výkopku z hor.1-4 do 2000 m | D21: m3 | E21: 44.361 | F21: 0 | G21: =E21*F21 -> 0 | H21: 0 | I21: =E21*H21 -> 0 | J21: 0 | K21: =E21*J21 -> 0 | O21: 2 | AA21: 1 | AB21: 1 | AC21: 1 | AZ21: 1 | BA21: =IF(AZ21=1,G21,0) -> 0 | BB21: =IF(AZ21=2,G21,0) -> 0 | BC21: =IF(AZ21=3,G21,0) -> 0 | BD21: =IF(AZ21=4,G21,0) -> 0 | BE21: =IF(AZ21=5,G21,0) -> 0 | CA21: 1 | CB21: 1
C22: (7,98+65,24+93,55)*0,30 | E22: 50.031 | M22: (7,98+65,24+93,55)*0,30
C23: -(4+17+42)*0,30*0,30 | E23: -5.67 | M23: -(4+17+42)*0,30*0,30
A24: 9 | B24: 174101101R00 | C24: Zásyp jam, rýh, šachet se zhutněním | D24: m3 | E24: 5.67 | F24: 0 | G24: =E24*F24 -> 0 | H24: 0 | I24: =E24*H24 -> 0 | J24: 0 | K24: =E24*J24 -> 0 | O24: 2 | AA24: 1 | AB24: 1 | AC24: 1 | AZ24: 1 | BA24: =IF(AZ24=1,G24,0) -> 0 | BB24: =IF(AZ24=2,G24,0) -> 0 | BC24: =IF(AZ24=3,G24,0) -> 0 | BD24: =IF(AZ24=4,G24,0) -> 0 | BE24: =IF(AZ24=5,G24,0) -> 0 | CA24: 1 | CB24: 1
C25: (4+17+42)*0,30*0,30 | E25: 5.67 | M25: (4+17+42)*0,30*0,30
A26: 10 | B26: 180402111R00 | C26: Založení trávníku parkového výsevem v rovině | D26: m2 | E26: 18.9 | F26: 0 | G26: =E26*F26 -> 0 | H26: 0 | I26: =E26*H26 -> 0 | J26: 0 | K26: =E26*J26 -> 0 | O26: 2 | AA26: 1 | AB26: 1 | AC26: 1 | AZ26: 1 | BA26: =IF(AZ26=1,G26,0) -> 0 | BB26: =IF(AZ26=2,G26,0) -> 0 | BC26: =IF(AZ26=3,G26,0) -> 0 | BD26: =IF(AZ26=4,G26,0) -> 0 | BE26: =IF(AZ26=5,G26,0) -> 0 | CA26: 1 | CB26: 1
C27: (4+17+42)*0,30 | E27: 18.9 | M27: (4+17+42)*0,30
A28: 11 | B28: 181101102R00 | C28: Úprava pláně v zářezech v hor. 1-4, se zhutněním | D28: m2 | E28: 166.77 | F28: 0 | G28: =E28*F28 -> 0 | H28: 0 | I28: =E28*H28 -> 0 | J28: 0 | K28: =E28*J28 -> 0 | O28: 2 | AA28: 1 | AB28: 1 | AC28: 1 | AZ28: 1 | BA28: =IF(AZ28=1,G28,0) -> 0 | BB28: =IF(AZ28=2,G28,0) -> 0 | BC28: =IF(AZ28=3,G28,0) -> 0 | BD28: =IF(AZ28=4,G28,0) -> 0 | BE28: =IF(AZ28=5,G28,0) -> 0 | CA28: 1 | CB28: 1
C29: 7,98+65,24+93,55 | E29: 166.77 | M29: 7,98+65,24+93,55
A30: 12 | B30: 181201102R00 | C30: Úprava pláně v násypech v hor. 1-4, se zhutněním | D30: m2 | E30: 18.9 | F30: 0 | G30: =E30*F30 -> 0 | H30: 0 | I30: =E30*H30 -> 0 | J30: 0 | K30: =E30*J30 -> 0 | O30: 2 | AA30: 1 | AB30: 1 | AC30: 1 | AZ30: 1 | BA30: =IF(AZ30=1,G30,0) -> 0 | BB30: =IF(AZ30=2,G30,0) -> 0 | BC30: =IF(AZ30=3,G30,0) -> 0 | BD30: =IF(AZ30=4,G30,0) -> 0 | BE30: =IF(AZ30=5,G30,0) -> 0 | CA30: 1 | CB30: 1
C31: (4+17+42)*0,30 | E31: 18.9 | M31: (4+17+42)*0,30
A32: 13 | B32: 171-R-1 | C32: Uložení sypaniny na skl. včetně poplatku za skl. | D32: m3 | E32: 44.361 | F32: 0 | G32: =E32*F32 -> 0 | H32: 0 | I32: =E32*H32 -> 0 | K32: =E32*J32 -> 0 | O32: 2 | AA32: 12 | AB32: 0 | AC32: 1 | AZ32: 1 | BA32: =IF(AZ32=1,G32,0) -> 0 | BB32: =IF(AZ32=2,G32,0) -> 0 | BC32: =IF(AZ32=3,G32,0) -> 0 | BD32: =IF(AZ32=4,G32,0) -> 0 | BE32: =IF(AZ32=5,G32,0) -> 0 | CA32: 12 | CB32: 0
C33: (7,98+65,24+93,55)*0,30 | E33: 50.031 | M33: (7,98+65,24+93,55)*0,30
C34: -(4+17+42)*0,30*0,30 | E34: -5.67 | M34: -(4+17+42)*0,30*0,30
A35: 14 | B35: 00572410 | C35: Směs travní parková II. mírná zátěž PROFI | D35: kg | E35: 0.189 | F35: 0 | G35: =E35*F35 -> 0 | H35: 0.001 | I35: =E35*H35 -> 0.000189 | K35: =E35*J35 -> 0 | O35: 2 | AA35: 3 | AB35: 1 | AC35: 572410 | AZ35: 1 | BA35: =IF(AZ35=1,G35,0) -> 0 | BB35: =IF(AZ35=2,G35,0) -> 0 | BC35: =IF(AZ35=3,G35,0) -> 0 | BD35: =IF(AZ35=4,G35,0) -> 0 | BE35: =IF(AZ35=5,G35,0) -> 0 | CA35: 3 | CB35: 1
C36: (4+17+42)*0,30*0,01 | E36: 0.189 | M36: (4+17+42)*0,30*0,01
B37: Celkem za | C37: 1 Zemní práce | G37: =SUM(G7:G36) -> 0 | I37: =SUM(I7:I36) -> 0.000189 | K37: =SUM(K7:K36) -> -74.34592 | O37: 4 | BA37: =SUM(BA7:BA36) -> 0 | BB37: =SUM(BB7:BB36) -> 0 | BC37: =SUM(BC7:BC36) -> 0 | BD37: =SUM(BD7:BD36) -> 0 | BE37: =SUM(BE7:BE36) -> 0
A38: Díl: | B38: 5 | C38: Komunikace | O38: 1
A39: 15 | B39: 564861111R00 | C39: Podklad ze štěrkodrti po zhutnění tloušťky 20 cm | D39: m2 | E39: 166.77 | F39: 0 | G39: =E39*F39 -> 0 | H39: 0.3708 | I39: =E39*H39 -> 61.838316 | J39: 0 | K39: =E39*J39 -> 0 | O39: 2 | AA39: 1 | AB39: 1 | AC39: 1 | AZ39: 1 | BA39: =IF(AZ39=1,G39,0) -> 0 | BB39: =IF(AZ39=2,G39,0) -> 0 | BC39: =IF(AZ39=3,G39,0) -> 0 | BD39: =IF(AZ39=4,G39,0) -> 0 | BE39: =IF(AZ39=5,G39,0) -> 0 | CA39: 1 | CB39: 1
C40: 7,98+65,24+93,55 | E40: 166.77 | M40: 7,98+65,24+93,55
A41: 16 | B41: 594511111RT2 | C41: Dlažba z lomového kamene,lože z C -/7,5 do 5 cm včetně dodávky kamene tl.20cm, třída 1 | D41: m2 | E41: 6.25 | F41: 0 | G41: =E41*F41 -> 0 | H41: 0.63 | I41: =E41*H41 -> 3.9375 | J41: 0 | K41: =E41*J41 -> 0 | O41: 2 | AA41: 1 | AB41: 1 | AC41: 1 | AZ41: 1 | BA41: =IF(AZ41=1,G41,0) -> 0 | BB41: =IF(AZ41=2,G41,0) -> 0 | BC41: =IF(AZ41=3,G41,0) -> 0 | BD41: =IF(AZ41=4,G41,0) -> 0 | BE41: =IF(AZ41=5,G41,0) -> 0 | CA41: 1 | CB41: 1
C42: 25,0*0,25 | E42: 6.25 | M42: 25,0*0,25
A43: 17 | B43: 596215020R00 | C43: Kladení zámkové dlažby tl. 6 cm do drtě tl. 3 cm | D43: m2 | E43: 142.14 | F43: 0 | G43: =E43*F43 -> 0 | H43: 0.05545 | I43: =E43*H43 -> 7.881663 | J43: 0 | K43: =E43*J43 -> 0 | O43: 2 | AA43: 1 | AB43: 0 | AC43: 0 | AZ43: 1 | BA43: =IF(AZ43=1,G43,0) -> 0 | BB43: =IF(AZ43=2,G43,0) -> 0 | BC43: =IF(AZ43=3,G43,0) -> 0 | BD43: =IF(AZ43=4,G43,0) -> 0 | BE43: =IF(AZ43=5,G43,0) -> 0 | CA43: 1 | CB43: 0
C44: 5,20+59,20+77,74 | E44: 142.14 | M44: 5,20+59,20+77,74
A45: 18 | B45: 599632111R00 | C45: Výplň spár dlažby z lomového kamene MC se zatřením | D45: m2 | E45: 6.25 | F45: 0 | G45: =E45*F45 -> 0 | H45: 0.14607 | I45: =E45*H45 -> 0.9129375 | J45: 0 | K45: =E45*J45 -> 0 | O45: 2 | AA45: 1 | AB45: 1 | AC45: 1 | AZ45: 1 | BA45: =IF(AZ45=1,G45,0) -> 0 | BB45: =IF(AZ45=2,G45,0) -> 0 | BC45: =IF(AZ45=3,G45,0) -> 0 | BD45: =IF(AZ45=4,G45,0) -> 0 | BE45: =IF(AZ45=5,G45,0) -> 0 | CA45: 1 | CB45: 1
A46: 19 | B46: 59245020.1 | C46: Dlažba zámková 20x10x6 cm přírodní | D46: m2 | E46: 149.247 | F46: 0 | G46: =E46*F46 -> 0 | H46: 0.1296 | I46: =E46*H46 -> 19.342411 | K46: =E46*J46 -> 0 | O46: 2 | AA46: 3 | AB46: 1 | AC46: 59245020 | AZ46: 1 | BA46: =IF(AZ46=1,G46,0) -> 0 | BB46: =IF(AZ46=2,G46,0) -> 0 | BC46: =IF(AZ46=3,G46,0) -> 0 | BD46: =IF(AZ46=4,G46,0) -> 0 | BE46: =IF(AZ46=5,G46,0) -> 0 | CA46: 3 | CB46: 1
C47: (5,20+59,20+77,74)*1,05 | E47: 149.247 | M47: (5,20+59,20+77,74)*1,05
B48: Celkem za | C48: 5 Komunikace | G48: =SUM(G38:G47) -> 0 | I48: =SUM(I38:I47) -> 93.912828 | K48: =SUM(K38:K47) -> 0 | O48: 4 | BA48: =SUM(BA38:BA47) -> 0 | BB48: =SUM(BB38:BB47) -> 0 | BC48: =SUM(BC38:BC47) -> 0 | BD48: =SUM(BD38:BD47) -> 0 | BE48: =SUM(BE38:BE47) -> 0
A49: Díl: | B49: 91 | C49: Doplňující práce na komunikaci | O49: 1
A50: 20 | B50: 916561111R00 | C50: Osazení záhon.obrubníků do lože z B 12,5 s opěrou | D50: m | E50: 63 | F50: 0 | G50: =E50*F50 -> 0 | H50: 0.10598 | I50: =E50*H50 -> 6.67674 | J50: 0 | K50: =E50*J50 -> 0 | O50: 2 | AA50: 1 | AB50: 1 | AC50: 1 | AZ50: 1 | BA50: =IF(AZ50=1,G50,0) -> 0 | BB50: =IF(AZ50=2,G50,0) -> 0 | BC50: =IF(AZ50=3,G50,0) -> 0 | BD50: =IF(AZ50=4,G50,0) -> 0 | BE50: =IF(AZ50=5,G50,0) -> 0 | CA50: 1 | CB50: 1
C51: 4,0+17,0+42,00 | E51: 63 | M51: 4,0+17,0+42,00
A52: 21 | B52: 917862111R00 | C52: Osazení stojat. obrub. bet. s opěrou,lože z B 12,5 | D52: m | E52: 25 | F52: 0 | G52: =E52*F52 -> 0 | H52: 0.13612 | I52: =E52*H52 -> 3.403 | J52: 0 | K52: =E52*J52 -> 0 | O52: 2 | AA52: 1 | AB52: 0 | AC52: 0 | AZ52: 1 | BA52: =IF(AZ52=1,G52,0) -> 0 | BB52: =IF(AZ52=2,G52,0) -> 0 | BC52: =IF(AZ52=3,G52,0) -> 0 | BD52: =IF(AZ52=4,G52,0) -> 0 | BE52: =IF(AZ52=5,G52,0) -> 0 | CA52: 1 | CB52: 0
C53: 25 | E53: 25 | M53: 25
A54: 22 | B54: 918101111R00 | C54: Lože pod obrubníky nebo obruby dlažeb z B 12,5 | D54: m3 | E54: 4.96 | F54: 0 | G54: =E54*F54 -> 0 | H54: 2.37855 | I54: =E54*H54 -> 11.797608 | J54: 0 | K54: =E54*J54 -> 0 | O54: 2 | AA54: 1 | AB54: 1 | AC54: 1 | AZ54: 1 | BA54: =IF(AZ54=1,G54,0) -> 0 | BB54: =IF(AZ54=2,G54,0) -> 0 | BC54: =IF(AZ54=3,G54,0) -> 0 | BD54: =IF(AZ54=4,G54,0) -> 0 | BE54: =IF(AZ54=5,G54,0) -> 0 | CA54: 1 | CB54: 1
C55: 6,25*0,10 | E55: 0.625 | M55: 6,25*0,10
C56: 63*0,045 | E56: 2.835 | M56: 63*0,045
C57: 25*0,06 | E57: 1.5 | M57: 25*0,06
A58: 23 | B58: 59217330 | C58: Obrubník záhonový ABO 100-5/25 1000x50x250 mm | D58: kus | E58: 66.15 | F58: 0 | G58: =E58*F58 -> 0 | H58: 0.027 | I58: =E58*H58 -> 1.78605 | K58: =E58*J58 -> 0 | O58: 2 | AA58: 3 | AB58: 1 | AC58: 59217330 | AZ58: 1 | BA58: =IF(AZ58=1,G58,0) -> 0 | BB58: =IF(AZ58=2,G58,0) -> 0 | BC58: =IF(AZ58=3,G58,0) -> 0 | BD58: =IF(AZ58=4,G58,0) -> 0 | BE58: =IF(AZ58=5,G58,0) -> 0 | CA58: 3 | CB58: 1
C59: 63*1,05 | E59: 66.15 | M59: 63*1,05
A60: 24 | B60: 59217472 | C60: Obrubník silniční 1000/150/250 šedý | D60: kus | E60: 26.25 | F60: 0 | G60: =E60*F60 -> 0 | H60: 0.08 | I60: =E60*H60 -> 2.1 | K60: =E60*J60 -> 0 | O60: 2 | AA60: 3 | AB60: 0 | AC60: 59217472 | AZ60: 1 | BA60: =IF(AZ60=1,G60,0) -> 0 | BB60: =IF(AZ60=2,G60,0) -> 0 | BC60: =IF(AZ60=3,G60,0) -> 0 | BD60: =IF(AZ60=4,G60,0) -> 0 | BE60: =IF(AZ60=5,G60,0) -> 0 | CA60: 3 | CB60: 0
C61: 25*1,05 | E61: 26.25 | M61: 25*1,05
B62: Celkem za | C62: 91 Doplňující práce na komunikaci | G62: =SUM(G49:G61) -> 0 | I62: =SUM(I49:I61) -> 25.763398 | K62: =SUM(K49:K61) -> 0 | O62: 4 | BA62: =SUM(BA49:BA61) -> 0 | BB62: =SUM(BB49:BB61) -> 0 | BC62: =SUM(BC49:BC61) -> 0 | BD62: =SUM(BD49:BD61) -> 0 | BE62: =SUM(BE49:BE61) -> 0
A63: Díl: | B63: 99 | C63: Staveništní přesun hmot | O63: 1
A64: 25 | B64: 998223011R00 | C64: Přesun hmot, pozemní komunikace, kryt dlážděný | D64: t | E64: 119.67641 | F64: 0 | G64: =E64*F64 -> 0 | H64: 0 | I64: =E64*H64 -> 0 | K64: =E64*J64 -> 0 | O64: 2 | AA64: 7 | AB64: 1 | AC64: 2 | AZ64: 1 | BA64: =IF(AZ64=1,G64,0) -> 0 | BB64: =IF(AZ64=2,G64,0) -> 0 | BC64: =IF(AZ64=3,G64,0) -> 0 | BD64: =IF(AZ64=4,G64,0) -> 0 | BE64: =IF(AZ64=5,G64,0) -> 0 | CA64: 7 | CB64: 1
B65: Celkem za | C65: 99 Staveništní přesun hmot | G65: =SUM(G63:G64) -> 0 | I65: =SUM(I63:I64) -> 0 | K65: =SUM(K63:K64) -> 0 | O65: 4 | BA65: =SUM(BA63:BA64) -> 0 | BB65: =SUM(BB63:BB64) -> 0 | BC65: =SUM(BC63:BC64) -> 0 | BD65: =SUM(BD63:BD64) -> 0 | BE65: =SUM(BE63:BE64) -> 0
A66: Díl: | B66: D96 | C66: Přesuny suti a vybouraných hmot | O66: 1
A67: 26 | B67: 979082213R00 | C67: Vodorovná doprava suti po suchu do 1 km | D67: t | E67: 74.34592 | F67: 0 | G67: =E67*F67 -> 0 | H67: 0 | I67: =E67*H67 -> 0 | K67: =E67*J67 -> 0 | O67: 2 | AA67: 8 | AB67: 0 | AC67: 3 | AZ67: 1 | BA67: =IF(AZ67=1,G67,0) -> 0 | BB67: =IF(AZ67=2,G67,0) -> 0 | BC67: =IF(AZ67=3,G67,0) -> 0 | BD67: =IF(AZ67=4,G67,0) -> 0 | BE67: =IF(AZ67=5,G67,0) -> 0 | CA67: 8 | CB67: 0
A68: 27 | B68: 979082219R00 | C68: Příplatek za dopravu suti po suchu za další 1 km | D68: t | E68: 74.34592 | F68: 0 | G68: =E68*F68 -> 0 | H68: 0 | I68: =E68*H68 -> 0 | K68: =E68*J68 -> 0 | O68: 2 | AA68: 8 | AB68: 0 | AC68: 3 | AZ68: 1 | BA68: =IF(AZ68=1,G68,0) -> 0 | BB68: =IF(AZ68=2,G68,0) -> 0 | BC68: =IF(AZ68=3,G68,0) -> 0 | BD68: =IF(AZ68=4,G68,0) -> 0 | BE68: =IF(AZ68=5,G68,0) -> 0 | CA68: 8 | CB68: 0
A69: 28 | B69: 979093111RS1 | C69: Uložení suti na skládku bez zhutnění | D69: t | E69: 74.34592 | F69: 0 | G69: =E69*F69 -> 0 | H69: 0 | I69: =E69*H69 -> 0 | K69: =E69*J69 -> 0 | O69: 2 | AA69: 8 | AB69: 0 | AC69: 3 | AZ69: 1 | BA69: =IF(AZ69=1,G69,0) -> 0 | BB69: =IF(AZ69=2,G69,0) -> 0 | BC69: =IF(AZ69=3,G69,0) -> 0 | BD69: =IF(AZ69=4,G69,0) -> 0 | BE69: =IF(AZ69=5,G69,0) -> 0 | CA69: 8 | CB69: 0
B70: Celkem za | C70: D96 Přesuny suti a vybouraných hmot | G70: =SUM(G66:G69) -> 0 | I70: =SUM(I66:I69) -> 0 | K70: =SUM(K66:K69) -> 0 | O70: 4 | BA70: =SUM(BA66:BA69) -> 0 | BB70: =SUM(BB66:BB69) -> 0 | BC70: =SUM(BC66:BC69) -> 0 | BD70: =SUM(BD66:BD69) -> 0 | BE70: =SUM(BE66:BE69) -> 0
