Workbook

Sheet Rekapitulace stavby
A1: Export VZ | D1: List obsahuje: | BS1: 1.0 | BT1: False | BU1: False | BV1: {68C5B7BF-8FA7-4561-AA18-02075CDF743F}
C2: optimalizováno pro tisk sestav ve formátu A4 - na výšku | AR2: >> skryté sloupce << | BS2: 0,01 | BT2: 21
BS3: 0,01 | BT3: 15
C4: REKAPITULACE STAVBY | AS4: v --- níže se nacházejí doplnkové a pomocné údaje k sestavám --- v | BE4: Návod na vyplnění | BS4: 0,001
BE5: Měnit lze pouze buňky se žlutým podbarvením! 1) v Rekapitulaci stavby vyplňte údaje o Uchazeči (přenesou se do ostatních sestav i v jiných listech) 2) na vybraných listech vyplňte v sestavě Soupis prací ceny u položek Podrobnosti k vyplnění naleznete na poslední záložce s Pokyny pro vyplnění | BS5: 0,01
D6: Stavba: | K6: Srby - Oprava komunikace ul. II Srby | BS6: 0,1
BS7: 1
D8: Místo: | AK8: Datum: | AN8: 46195 | BS8: 10
BS9: 100
D10: Zadavatel: | AK10: IČ: | BS10: 0,1
AK11: DIČ: | BS11: 0,1
BS12: 0,1
D13: Uchazeč: | AK13: IČ: | AN13: Vyplň údaj | BS13: 0,1
E14: Vyplň údaj | AK14: DIČ: | AN14: Vyplň údaj | BS14: 0,1
BS15: False
D16: Projektant: | AK16: IČ: | BS16: False
AK17: DIČ: | BS17: True
BS18: 0,01
D19: Poznámka: | BS19: 0,1
BS20: False
D23: Cena bez DPH | AK23: =AG49 -> 0
D25: DPH | F25: základní | L25: 0.21 | T25: ze | W25: =AK23 -> 0 | AK25: =W25*0.21 -> 0
F26: snížená | L26: 0.15 | T26: ze | W26: =ROUNDUP($BA$49,2) -> 0 | AK26: =ROUNDUP($AW$49,1) -> 0
F27: zákl. přenesená | L27: 0.21 | T27: ze | W27: =ROUNDUP($BB$49,2) -> 0 | AK27: 0
F28: sníž. přenesená | L28: 0.15 | T28: ze | W28: =ROUNDUP($BC$49,2) -> 0 | AK28: 0
F29: nulová | L29: 0 | T29: ze | W29: =ROUNDUP($BD$49,2) -> 0 | AK29: 0
D31: Cena s DPH | T31: v | X31: CZK | AK31: =AK25+AK23 -> 0
C38: REKAPITULACE OBJEKTŮ STAVBY A SOUPISŮ PRACÍ
C40: Stavba: | L40: =$K$6 -> Srby - Oprava komunikace ul. II Srby
C42: Místo: | L42: =IF($K$8="","",$K$8) | AI42: Datum: | AM42: =IF($AN$8="","",$AN$8) -> 46195
C44: Zadavatel: | L44: =IF($E$11="","",$E$11) | AI44: Projektant: | AM44: =IF($E$17="","",$E$17) | AS44: Informatívní údaje z listů zakázek
C45: Uchazeč: | L45: =IF($E$14="Vyplň údaj","",$E$14)
C47: Kód | I47: Objekt, Soupis prací | AG47: Cena bez DPH [CZK] | AN47: Cena s DPH [CZK] | AQ47: Typ | AS47: z toho Ostat. náklady [CZK] | AT47: DPH [CZK] | AU47: Normohodiny [h] | AV47: DPH základní [CZK] | AW47: DPH snížená [CZK] | AX47: DPH základní přenesená [CZK] | AY47: DPH snížená přenesená [CZK] | AZ47: Základna DPH základní | BA47: Základna DPH snížená | BB47: Základna DPH zákl. přenesená | BC47: Základna DPH sníž. přenesená | BD47: Základna DPH nulová
C49: Náklady stavby celkem | AG49: =AG50 -> 0 | AN49: =AN50 -> 0 | AS49: =ROUNDUP($AS$50,2) -> 0 | AT49: =ROUNDUP(SUM($AV$49:$AW$49),1) -> 0 | AU49: =ROUNDUP($AU$50,5) -> #REF! | AV49: =ROUNDUP($AZ$49*$L$25,2) -> 0 | AW49: =ROUNDUP($BA$49*$L$26,2) -> 0 | AX49: =ROUNDUP($BB$49*$L$25,2) -> 0 | AY49: =ROUNDUP($BC$49*$L$26,2) -> 0 | AZ49: =ROUNDUP($AZ$50,2) -> 0 | BA49: =ROUNDUP($BA$50,2) -> 0 | BB49: =ROUNDUP($BB$50,2) -> 0 | BC49: =ROUNDUP($BC$50,2) -> 0 | BD49: =ROUNDUP($BD$50,2) -> 0 | BS49: D | BT49: 0 | BU49: ###NOIMPORT### | BV49: IMPORT | BW49: {68C5B7BF-8FA7-4561-AA18-02075CDF743F} | BX49: {00000000-0000-0000-0000-000000000000}
D50: SO_01 | J50: ='Srby - Oprava komun...'!D79 -> Oprava komunikace | AG50: ='Srby - Oprava komun...'!N52:N52 -> 0 | AN50: =AG50*1.21 -> 0 | AQ50: STA | AS50: 0 | AT50: =ROUNDUP(SUM($AV$50:$AW$50),1) -> 0 | AU50: ='Srby - Oprava komun...'!$W$78 -> #REF! | AV50: ='Srby - Oprava komun...'!$M$27 -> 0 | AW50: ='Srby - Oprava komun...'!$M$28 -> 0 | AX50: ='Srby - Oprava komun...'!$M$29 -> 0 | AY50: ='Srby - Oprava komun...'!$M$30 -> 0 | AZ50: ='Srby - Oprava komun...'!$H$27 -> 0 | BA50: ='Srby - Oprava komun...'!$H$28 -> 0 | BB50: ='Srby - Oprava komun...'!$H$29 -> 0 | BC50: ='Srby - Oprava komun...'!$H$30 -> 0 | BD50: ='Srby - Oprava komun...'!$H$31 -> 0 | BT50: 1 | BV50: IMPORT | BW50: {609B3B61-937F-4E70-944A-D27A25C0F78B} | BX50: {68C5B7BF-8FA7-4561-AA18-02075CDF743F} | CM50: 2

Sheet Srby - Oprava komun...
D1: List obsahuje: | O1: Zpět na list:
C2: optimalizováno pro tisk sestav ve formátu A4 - na výšku | S2: >> skryté sloupce << | AT2: {609B3B61-937F-4E70-944A-D27A25C0F78B}
AT3: 2
C4: KRYCÍ LIST SOUPISU | T4: v --- níže se nacházejí doplnkové a pomocné údaje k sestavám --- v | AT4: False
D6: Stavba: | F6: ='Rekapitulace stavby'!$K$6 -> Srby - Oprava komunikace ul. II Srby
D7: Objekt: | F7: Srby - Oprava komunikace ul. II Srby
D9: KSO:
D10: Místo: | M10: Datum: | O10: ='Rekapitulace stavby'!$AN$8 -> 46195
D12: Zadavatel: | M12: IČ: | O12: =IF('Rekapitulace stavby'!$AN$10="","",'Rekapitulace stavby'!$AN$10)
E13: =IF('Rekapitulace stavby'!$E$11="","",'Rekapitulace stavby'!$E$11) | M13: DIČ: | O13: =IF('Rekapitulace stavby'!$AN$11="","",'Rekapitulace stavby'!$AN$11)
D15: Uchazeč: | M15: IČ: | O15: =IF('Rekapitulace stavby'!$AN$13="","",'Rekapitulace stavby'!$AN$13) -> Vyplň údaj
E16: =IF('Rekapitulace stavby'!$E$14="","",'Rekapitulace stavby'!$E$14) -> Vyplň údaj | M16: DIČ: | O16: =IF('Rekapitulace stavby'!$AN$14="","",'Rekapitulace stavby'!$AN$14) -> Vyplň údaj
D18: Projektant: | M18: IČ: | O18: =IF('Rekapitulace stavby'!$AN$16="","",'Rekapitulace stavby'!$AN$16)
E19: =IF('Rekapitulace stavby'!$E$17="","",'Rekapitulace stavby'!$E$17) | M19: DIČ: | O19: =IF('Rekapitulace stavby'!$AN$17="","",'Rekapitulace stavby'!$AN$17)
D21: Poznámka:
D25: Cena bez DPH | M25: =N51 -> 0
D27: DPH | E27: základní | F27: 0.21 | G27: ze | H27: =M25 -> 0 | M27: =H27*0.21 -> 0
E28: snížená | F28: 0.15 | G28: ze | H28: =SUM($BF$78:$BF$162) -> 0 | M28: =SUM($BF$78:$BF$162)*$F$28 -> 0
E29: zákl. přenesená | F29: 0.21 | G29: ze | H29: =SUM($BG$78:$BG$162) -> 0 | M29: 0
E30: sníž. přenesená | F30: 0.15 | G30: ze | H30: =SUM($BH$78:$BH$162) -> 0 | M30: 0
E31: nulová | F31: 0 | G31: ze | H31: =SUM($BI$78:$BI$162) -> 0 | M31: 0
D33: Cena s DPH | G33: v | H33: CZK | L33: =M27+M25 -> 0
C39: REKAPITULACE ČLENĚNÍ SOUPISU PRACÍ
C41: Stavba: | F41: =$F$6 -> Srby - Oprava komunikace ul. II Srby
C42: Objekt: | F42: =$F$7 -> Srby - Oprava komunikace ul. II Srby
C44: Místo: | F44: =$F$10 | K44: Datum: | M44: =IF($O$10="","",$O$10) -> 46195
C46: Zadavatel: | F46: =$E$13 | K46: Projektant: | M46: =$E$19
C47: Uchazeč: | F47: =IF($E$16="","",$E$16) -> Vyplň údaj
C49: Kód dílu - Popis | N49: Cena celkem [CZK]
C51: Náklady soupisu celkem | N51: =N52 -> 0 | AU51: -1
D52: Oprava komunikace | N52: =SUM(N53:Q60) -> 0
D53: 001 - Zemní práce | N53: =ROUNDUP($N$80,2) -> 0
D54: 005a - Nová konstrukce vozovky | N54: =ROUNDUP($N$101,2) -> 0
D55: 005c - Nová konstrukce vjezdu | N55: =ROUNDUP($N$110,2) -> 0
D56: 008 - Trubní vedení | N56: =ROUNDUP($N$117,2) -> 0
D57: 009 - Ostatní konstrukce a práce | N57: =ROUNDUP($N$126,2) -> 0
D58: 099 - Přesun hmot HSV | N58: =ROUNDUP($N$152,2) -> 0
D59: V01 - Průzkumné, geodetické a projektové práce | N59: =ROUNDUP($N$155,2) -> 0
D60: VRN - Vedlejší rozpočtové náklady | N60: =ROUNDUP($N$158,2) -> 0
C67: SOUPIS PRACÍ
...
