Workbook

Sheet Rekapitulace stavby
A1: Export VZ | D1: List obsahuje: | BS1: 1.0 | BT1: False | BU1: False | BV1: {68C5B7BF-8FA7-4561-AA18-02075CDF743F}
C2: optimalizováno pro tisk sestav ve formátu A4 - na výšku | AR2: >> skryté sloupce << | BS2: 0,01 | BT2: 21
BS3: 0,01 | BT3: 15
C4: REKAPITULACE STAVBY | AS4: v --- níže se nacházejí doplnkové a pomocné údaje k sestavám --- v | BE4: Návod na vyplnění | BS4: 0,001
BE5: Měnit lze pouze buňky se žlutým podbarvením! 1) v Rekapitulaci stavby vyplňte údaje o Uchazeči (přenesou se do ostatních sestav i v jiných listech) 2) na vybraných listech vyplňte v sestavě Soupis prací ceny u položek Podrobnosti k vyplnění naleznete na poslední záložce s Pokyny pro vyplnění | BS5: 0,01
D6: Stavba: | K6: Srby - Oprava komunikace ul. II Srby | BS6: 0,1
BS7: 1
D8: Místo: | AK8: Datum: | AN8: 46195 | BS8: 10
BS9: 100
D10: Zadavatel: | AK10: IČ: | BS10: 0,1
AK11: DIČ: | BS11: 0,1
BS12: 0,1
D13: Uchazeč: | AK13: IČ: | AN13: Vyplň údaj | BS13: 0,1
E14: Vyplň údaj | AK14: DIČ: | AN14: Vyplň údaj | BS14: 0,1
BS15: False
D16: Projektant: | AK16: IČ: | BS16: False
AK17: DIČ: | BS17: True
BS18: 0,01
D19: Poznámka: | BS19: 0,1
BS20: False
D23: Cena bez DPH | AK23: =AG49 -> 0
D25: DPH | F25: základní | L25: 0.21 | T25: ze | W25: =AK23 -> 0 | AK25: =W25*0.21 -> 0
F26: snížená | L26: 0.15 | T26: ze | W26: =ROUNDUP($BA$49,2) -> 0 | AK26: =ROUNDUP($AW$49,1) -> 0
F27: zákl. přenesená | L27: 0.21 | T27: ze | W27: =ROUNDUP($BB$49,2) -> 0 | AK27: 0
F28: sníž. přenesená | L28: 0.15 | T28: ze | W28: =ROUNDUP($BC$49,2) -> 0 | AK28: 0
F29: nulová | L29: 0 | T29: ze | W29: =ROUNDUP($BD$49,2) -> 0 | AK29: 0
D31: Cena s DPH | T31: v | X31: CZK | AK31: =AK25+AK23 -> 0
C38: REKAPITULACE OBJEKTŮ STAVBY A SOUPISŮ PRACÍ
C40: Stavba: | L40: =$K$6 -> Srby - Oprava komunikace ul. II Srby
C42: Místo: | L42: =IF($K$8="","",$K$8) | AI42: Datum: | AM42: =IF($AN$8="","",$AN$8) -> 46195
C44: Zadavatel: | L44: =IF($E$11="","",$E$11) | AI44: Projektant: | AM44: =IF($E$17="","",$E$17) | AS44: Informatívní údaje z listů zakázek
C45: Uchazeč: | L45: =IF($E$14="Vyplň údaj","",$E$14)
C47: Kód | I47: Objekt, Soupis prací | AG47: Cena bez DPH [CZK] | AN47: Cena s DPH [CZK] | AQ47: Typ | AS47: z toho Ostat. náklady [CZK] | AT47: DPH [CZK] | AU47: Normohodiny [h] | AV47: DPH základní [CZK] | AW47: DPH snížená [CZK] | AX47: DPH základní přenesená [CZK] | AY47: DPH snížená přenesená [CZK] | AZ47: Základna DPH základní | BA47: Základna DPH snížená | BB47: Základna DPH zákl. přenesená | BC47: Základna DPH sníž. přenesená | BD47: Základna DPH nulová
C49: Náklady stavby celkem | AG49: =AG50 -> 0 | AN49: =AN50 -> 0 | AS49: =ROUNDUP($AS$50,2) -> 0 | AT49: =ROUNDUP(SUM($AV$49:$AW$49),1) -> 0 | AU49: =ROUNDUP($AU$50,5) -> #REF! | AV49: =ROUNDUP($AZ$49*$L$25,2) -> 0 | AW49: =ROUNDUP($BA$49*$L$26,2) -> 0 | AX49: =ROUNDUP($BB$49*$L$25,2) -> 0 | AY49: =ROUNDUP($BC$49*$L$26,2) -> 0 | AZ49: =ROUNDUP($AZ$50,2) -> 0 | BA49: =ROUNDUP($BA$50,2) -> 0 | BB49: =ROUNDUP($BB$50,2) -> 0 | BC49: =ROUNDUP($BC$50,2) -> 0 | BD49: =ROUNDUP($BD$50,2) -> 0 | BS49: D | BT49: 0 | BU49: ###NOIMPORT### | BV49: IMPORT | BW49: {68C5B7BF-8FA7-4561-AA18-02075CDF743F} | BX49: {00000000-0000-0000-0000-000000000000}
D50: SO_01 | J50: ='Srby - Oprava komun...'!D79 -> Oprava komunikace | AG50: ='Srby - Oprava komun...'!N52:N52 -> 0 | AN50: =AG50*1.21 -> 0 | AQ50: STA | AS50: 0 | AT50: =ROUNDUP(SUM($AV$50:$AW$50),1) -> 0 | AU50: ='Srby - Oprava komun...'!$W$78 -> #REF! | AV50: ='Srby - Oprava komun...'!$M$27 -> 0 | AW50: ='Srby - Oprava komun...'!$M$28 -> 0 | AX50: ='Srby - Oprava komun...'!$M$29 -> 0 | AY50: ='Srby - Oprava komun...'!$M$30 -> 0 | AZ50: ='Srby - Oprava komun...'!$H$27 -> 0 | BA50: ='Srby - Oprava komun...'!$H$28 -> 0 | BB50: ='Srby - Oprava komun...'!$H$29 -> 0 | BC50: ='Srby - Oprava komun...'!$H$30 -> 0 | BD50: ='Srby - Oprava komun...'!$H$31 -> 0 | BT50: 1 | BV50: IMPORT | BW50: {609B3B61-937F-4E70-944A-D27A25C0F78B} | BX50: {68C5B7BF-8FA7-4561-AA18-02075CDF743F} | CM50: 2

Sheet Srby - Oprava komun...
D1: List obsahuje: | O1: Zpět na list:
C2: optimalizováno pro tisk sestav ve formátu A4 - na výšku | S2: >> skryté sloupce << | AT2: {609B3B61-937F-4E70-944A-D27A25C0F78B}
AT3: 2
C4: KRYCÍ LIST SOUPISU | T4: v --- níže se nacházejí doplnkové a pomocné údaje k sestavám --- v | AT4: False
D6: Stavba: | F6: ='Rekapitulace stavby'!$K$6 -> Srby - Oprava komunikace ul. II Srby
D7: Objekt: | F7: Srby - Oprava komunikace ul. II Srby
D9: KSO:
D10: Místo: | M10: Datum: | O10: ='Rekapitulace stavby'!$AN$8 -> 46195
D12: Zadavatel: | M12: IČ: | O12: =IF('Rekapitulace stavby'!$AN$10="","",'Rekapitulace stavby'!$AN$10)
E13: =IF('Rekapitulace stavby'!$E$11="","",'Rekapitulace stavby'!$E$11) | M13: DIČ: | O13: =IF('Rekapitulace stavby'!$AN$11="","",'Rekapitulace stavby'!$AN$11)
D15: Uchazeč: | M15: IČ: | O15: =IF('Rekapitulace stavby'!$AN$13="","",'Rekapitulace stavby'!$AN$13) -> Vyplň údaj
E16: =IF('Rekapitulace stavby'!$E$14="","",'Rekapitulace stavby'!$E$14) -> Vyplň údaj | M16: DIČ: | O16: =IF('Rekapitulace stavby'!$AN$14="","",'Rekapitulace stavby'!$AN$14) -> Vyplň údaj
D18: Projektant: | M18: IČ: | O18: =IF('Rekapitulace stavby'!$AN$16="","",'Rekapitulace stavby'!$AN$16)
E19: =IF('Rekapitulace stavby'!$E$17="","",'Rekapitulace stavby'!$E$17) | M19: DIČ: | O19: =IF('Rekapitulace stavby'!$AN$17="","",'Rekapitulace stavby'!$AN$17)
D21: Poznámka:
D25: Cena bez DPH | M25: =N51 -> 0
D27: DPH | E27: základní | F27: 0.21 | G27: ze | H27: =M25 -> 0 | M27: =H27*0.21 -> 0
E28: snížená | F28: 0.15 | G28: ze | H28: =SUM($BF$78:$BF$162) -> 0 | M28: =SUM($BF$78:$BF$162)*$F$28 -> 0
E29: zákl. přenesená | F29: 0.21 | G29: ze | H29: =SUM($BG$78:$BG$162) -> 0 | M29: 0
E30: sníž. přenesená | F30: 0.15 | G30: ze | H30: =SUM($BH$78:$BH$162) -> 0 | M30: 0
E31: nulová | F31: 0 | G31: ze | H31: =SUM($BI$78:$BI$162) -> 0 | M31: 0
D33: Cena s DPH | G33: v | H33: CZK | L33: =M27+M25 -> 0
C39: REKAPITULACE ČLENĚNÍ SOUPISU PRACÍ
C41: Stavba: | F41: =$F$6 -> Srby - Oprava komunikace ul. II Srby
C42: Objekt: | F42: =$F$7 -> Srby - Oprava komunikace ul. II Srby
C44: Místo: | F44: =$F$10 | K44: Datum: | M44: =IF($O$10="","",$O$10) -> 46195
C46: Zadavatel: | F46: =$E$13 | K46: Projektant: | M46: =$E$19
C47: Uchazeč: | F47: =IF($E$16="","",$E$16) -> Vyplň údaj
C49: Kód dílu - Popis | N49: Cena celkem [CZK]
C51: Náklady soupisu celkem | N51: =N52 -> 0 | AU51: -1
D52: Oprava komunikace | N52: =SUM(N53:Q60) -> 0
D53: 001 - Zemní práce | N53: =ROUNDUP($N$80,2) -> 0
D54: 005a - Nová konstrukce vozovky | N54: =ROUNDUP($N$101,2) -> 0
D55: 005c - Nová konstrukce vjezdu | N55: =ROUNDUP($N$110,2) -> 0
D56: 008 - Trubní vedení | N56: =ROUNDUP($N$117,2) -> 0
D57: 009 - Ostatní konstrukce a práce | N57: =ROUNDUP($N$126,2) -> 0
D58: 099 - Přesun hmot HSV | N58: =ROUNDUP($N$152,2) -> 0
D59: V01 - Průzkumné, geodetické a projektové práce | N59: =ROUNDUP($N$155,2) -> 0
D60: VRN - Vedlejší rozpočtové náklady | N60: =ROUNDUP($N$158,2) -> 0
C67: SOUPIS PRACÍ
C69: Stavba: | F69: =$F$6 -> Srby - Oprava komunikace ul. II Srby
C70: Objekt: | F70: =$F$7 -> Srby - Oprava komunikace ul. II Srby
C72: Místo: | F72: =$F$10 | K72: Datum: | M72: =IF($O$10="","",$O$10) -> 46195
C74: Zadavatel: | F74: =$E$13 | K74: Projektant: | M74: =$E$19
C75: Uchazeč: | F75: =IF($E$16="","",$E$16) -> Vyplň údaj
C77: PČ | D77: Typ | E77: Kód | F77: Popis | J77: MJ | K77: Množství | L77: J.cena [CZK] | N77: Cena celkem [CZK] | R77: Cenová soustava | T77: Poznámka | U77: DPH | V77: J. Nh [h] | W77: Nh celkem [h] | X77: J. hmotnost [t] | Y77: Hmotnost celkem [t] | Z77: J. suť [t] | AA77: Suť Celkem [t]
C78: Náklady soupisu celkem | N78: =N79+#REF!+#REF! -> #REF! | W78: =$W$79+#REF!+#REF! -> #REF! | Y78: =$Y$79+#REF!+#REF! -> #REF! | AA78: =$AA$79+#REF!+#REF! -> #REF! | AT78: D | AU78: -1 | BK78: =$BK$79+#REF!+#REF! -> #REF!
D79: Oprava komunikace | N79: =N101+N110+N117+N126+N152+N155+N158+N80 -> 0 | W79: =$W$80+$W$101+$W$110+$W$117+$W$126+$W$152+$W$155+$W$158 -> 0 | Y79: =$Y$80+$Y$101+$Y$110+$Y$117+$Y$126+$Y$152+$Y$155+$Y$158 -> 1123.2157 | AA79: =$AA$80+$AA$101+$AA$110+$AA$117+$AA$126+$AA$152+$AA$155+$AA$158 -> 448.405 | AR79: 1 | AT79: D | AU79: 0 | AY79: ROZPOCET | BK79: =$BK$80+$BK$101+#REF!+$BK$110+$BK$117+$BK$126+$BK$152+$BK$155+$BK$158 -> #REF!
D80: 001 - Zemní práce | N80: =$BK$80 -> 0 | W80: =SUM($W$81:$W$100) -> 0 | Y80: =SUM($Y$81:$Y$100) -> 59.4396 | AA80: =SUM($AA$81:$AA$100) -> 448.405 | AR80: 1 | AT80: D | AU80: 1 | AY80: ROZPOCET | BK80: =SUM($BK$81:$BK$100) -> 0
C81: 1 | D81: K | E81: 113151214 | F81: Odstranění živičného krytu frézováním pl přes 500 m2 tl 50 mm bez překážek v trase s naložením | J81: m2 | K81: 1980 | N81: =ROUND($L$81*$K$81,2) -> 0 | U81: základní | X81: 0.03002 | Y81: =$X$81*$K$81 -> 59.4396 | Z81: 0.128 | AA81: =$Z$81*$K$81 -> 253.44 | AR81: 4 | AT81: K | AU81: 2 | AY81: ROZPOCET | BE81: =IF($U$81="základní",$N$81,0) -> 0 | BF81: =IF($U$81="snížená",$N$81,0) -> 0 | BG81: =IF($U$81="zákl. přenesená",$N$81,0) -> 0 | BH81: =IF($U$81="sníž. přenesená",$N$81,0) -> 0 | BI81: =IF($U$81="nulová",$N$81,0) -> 0 | BJ81: 1 | BK81: =ROUND($L$81*$K$81,2) -> 0 | BL81: 4 | BM81: 1
F82: Odstranění živičného krytu frézováním pl přes 500 m2 tl 50 mm bez překážek v trase s naložením | AT82: PP | AU82: 2
C83: 2 | D83: K | E83: 113107241 | F83: Odstranění podkladu pl přes 200 m2 živičných tl 50 mm | J83: m2 | K83: =K81 -> 1980 | N83: =ROUND($L$83*$K$83,2) -> 0 | U83: základní | X83: 0 | Y83: =$X$83*$K$83 -> 0 | Z83: 0.098 | AA83: =$Z$83*$K$83 -> 194.04 | AR83: 4 | AT83: K | AU83: 2 | AY83: ROZPOCET | BE83: =IF($U$83="základní",$N$83,0) -> 0 | BF83: =IF($U$83="snížená",$N$83,0) -> 0 | BG83: =IF($U$83="zákl. přenesená",$N$83,0) -> 0 | BH83: =IF($U$83="sníž. přenesená",$N$83,0) -> 0 | BI83: =IF($U$83="nulová",$N$83,0) -> 0 | BJ83: 1 | BK83: =ROUND($L$83*$K$83,2) -> 0 | BL83: 4 | BM83: 2
F84: Odstranění podkladů nebo krytů s přemístěním hmot na skládku na vzdálenost do 20 m nebo s naložením na dopravní prostředek v ploše jednotlivě přes 200 m2 živičných, o tl. vrstvy do 50 mm | AT84: PP | AU84: 2
C85: 7 | D85: K | E85: 113107030 | F85: Odstranění podkladu plochy do 15 m2 z betonu prostého tl 100 mm při překopech inž sítí | J85: m2 | K85: 5 | N85: =ROUND($L$85*$K$85,2) -> 0 | U85: základní | X85: 0 | Y85: =$X$85*$K$85 -> 0 | Z85: 0.185 | AA85: =$Z$85*$K$85 -> 0.925 | AR85: 4 | AT85: K | AU85: 2 | AY85: ROZPOCET | BE85: =IF($U$85="základní",$N$85,0) -> 0 | BF85: =IF($U$85="snížená",$N$85,0) -> 0 | BG85: =IF($U$85="zákl. přenesená",$N$85,0) -> 0 | BH85: =IF($U$85="sníž. přenesená",$N$85,0) -> 0 | BI85: =IF($U$85="nulová",$N$85,0) -> 0 | BJ85: 1 | BK85: =ROUND($L$85*$K$85,2) -> 0 | BL85: 4 | BM85: 7
F86: Odstranění podkladů nebo krytů při překopech inženýrských sítí v ploše jednotlivě do 15 m2 s přemístěním hmot na skládku ve vzdálenosti do 3 m nebo s naložením na dopravní prostředek z betonu prostého, o tl. vrstvy do 100 mm | AT86: PP | AU86: 2
C87: 11 | D87: K | E87: 122202201 | F87: Odkopávky a prokopávky nezapažené pro silnice objemu do 100 m3 v hornině tř. 3 | J87: m3 | K87: 114.2 | N87: =ROUND($L$87*$K$87,2) -> 0 | U87: základní | X87: 0 | Y87: =$X$87*$K$87 -> 0 | Z87: 0 | AA87: =$Z$87*$K$87 -> 0 | AR87: 4 | AT87: K | AU87: 2 | AY87: ROZPOCET | BE87: =IF($U$87="základní",$N$87,0) -> 0 | BF87: =IF($U$87="snížená",$N$87,0) -> 0 | BG87: =IF($U$87="zákl. přenesená",$N$87,0) -> 0 | BH87: =IF($U$87="sníž. přenesená",$N$87,0) -> 0 | BI87: =IF($U$87="nulová",$N$87,0) -> 0 | BJ87: 1 | BK87: =ROUND($L$87*$K$87,2) -> 0 | BL87: 4 | BM87: 11
F88: Odkopávky a prokopávky nezapažené pro silnice s přemístěním výkopku v příčných profilech na vzdálenost do 15 m nebo s naložením na dopravní prostředek v hornině tř. 3 do 100 m3 | AT88: PP | AU88: 2
C89: 12 | D89: K | E89: 162701105 | F89: Vodorovné přemístění do 10000 m výkopku/sypaniny z horniny tř. 1 až 4 | J89: m3 | K89: =K87 -> 114.2 | N89: =ROUND($L$89*$K$89,2) -> 0 | U89: základní | X89: 0 | Y89: =$X$89*$K$89 -> 0 | Z89: 0 | AA89: =$Z$89*$K$89 -> 0 | AR89: 4 | AT89: K | AU89: 2 | AY89: ROZPOCET | BE89: =IF($U$89="základní",$N$89,0) -> 0 | BF89: =IF($U$89="snížená",$N$89,0) -> 0 | BG89: =IF($U$89="zákl. přenesená",$N$89,0) -> 0 | BH89: =IF($U$89="sníž. přenesená",$N$89,0) -> 0 | BI89: =IF($U$89="nulová",$N$89,0) -> 0 | BJ89: 1 | BK89: =ROUND($L$89*$K$89,2) -> 0 | BL89: 4 | BM89: 12
F90: Vodorovné přemístění výkopku nebo sypaniny po suchu na obvyklém dopravním prostředku, bez naložení výkopku, avšak se složením bez rozhrnutí z horniny tř. 1 až 4 na vzdálenost přes 9 000 do 10 000 m | AT90: PP | AU90: 2
C91: 13 | D91: K | E91: 162701109 | F91: Příplatek k vodorovnému přemístění výkopku/sypaniny z horniny tř. 1 až 4 ZKD 1000 m přes 10000 m | J91: m3 | K91: =K89*10 -> 1142 | N91: =ROUND($L$91*$K$91,2) -> 0 | U91: základní | X91: 0 | Y91: =$X$91*$K$91 -> 0 | Z91: 0 | AA91: =$Z$91*$K$91 -> 0 | AR91: 4 | AT91: K | AU91: 2 | AY91: ROZPOCET | BE91: =IF($U$91="základní",$N$91,0) -> 0 | BF91: =IF($U$91="snížená",$N$91,0) -> 0 | BG91: =IF($U$91="zákl. přenesená",$N$91,0) -> 0 | BH91: =IF($U$91="sníž. přenesená",$N$91,0) -> 0 | BI91: =IF($U$91="nulová",$N$91,0) -> 0 | BJ91: 1 | BK91: =ROUND($L$91*$K$91,2) -> 0 | BL91: 4 | BM91: 13
F92: Vodorovné přemístění výkopku nebo sypaniny po suchu na obvyklém dopravním prostředku, bez naložení výkopku, avšak se složením bez rozhrnutí z horniny tř. 1 až 4 na vzdálenost Příplatek k ceně za každých dalších i započatých 1 000 m | AT92: PP | AU92: 2
C93: 14 | D93: K | E93: 171201201 | F93: Uložení sypaniny na skládky | J93: m3 | K93: 29.5 | N93: =ROUND($L$93*$K$93,2) -> 0 | U93: základní | X93: 0 | Y93: =$X$93*$K$93 -> 0 | Z93: 0 | AA93: =$Z$93*$K$93 -> 0 | AR93: 4 | AT93: K | AU93: 2 | AY93: ROZPOCET | BE93: =IF($U$93="základní",$N$93,0) -> 0 | BF93: =IF($U$93="snížená",$N$93,0) -> 0 | BG93: =IF($U$93="zákl. přenesená",$N$93,0) -> 0 | BH93: =IF($U$93="sníž. přenesená",$N$93,0) -> 0 | BI93: =IF($U$93="nulová",$N$93,0) -> 0 | BJ93: 1 | BK93: =ROUND($L$93*$K$93,2) -> 0 | BL93: 4 | BM93: 14
F94: Uložení sypaniny na skládky | AT94: PP | AU94: 2
C95: 15 | D95: K | E95: 171201211 | F95: Poplatek za uložení odpadu ze sypaniny na skládce (skládkovné) | J95: t | K95: =K89*1.8 -> 205.56 | N95: =ROUND($L$95*$K$95,2) -> 0 | U95: základní | X95: 0 | Y95: =$X$95*$K$95 -> 0 | Z95: 0 | AA95: =$Z$95*$K$95 -> 0 | AR95: 4 | AT95: K | AU95: 2 | AY95: ROZPOCET | BE95: =IF($U$95="základní",$N$95,0) -> 0 | BF95: =IF($U$95="snížená",$N$95,0) -> 0 | BG95: =IF($U$95="zákl. přenesená",$N$95,0) -> 0 | BH95: =IF($U$95="sníž. přenesená",$N$95,0) -> 0 | BI95: =IF($U$95="nulová",$N$95,0) -> 0 | BJ95: 1 | BK95: =ROUND($L$95*$K$95,2) -> 0 | BL95: 4 | BM95: 15
F96: Uložení sypaniny poplatek za uložení sypaniny na skládce ( skládkovné ) | AT96: PP | AU96: 2
C97: 23 | D97: K | E97: 181102302 | F97: Úprava pláně v zářezech se zhutněním | J97: m2 | K97: =K81+(40*0.5)+(38*2.5)+(48.5*2.5) -> 2216.25 | N97: =ROUND($L$97*$K$97,2) -> 0 | U97: základní | X97: 0 | Y97: =$X$97*$K$97 -> 0 | Z97: 0 | AA97: =$Z$97*$K$97 -> 0 | AR97: 4 | AT97: K | AU97: 2 | AY97: ROZPOCET | BE97: =IF($U$97="základní",$N$97,0) -> 0 | BF97: =IF($U$97="snížená",$N$97,0) -> 0 | BG97: =IF($U$97="zákl. přenesená",$N$97,0) -> 0 | BH97: =IF($U$97="sníž. přenesená",$N$97,0) -> 0 | BI97: =IF($U$97="nulová",$N$97,0) -> 0 | BJ97: 1 | BK97: =ROUND($L$97*$K$97,2) -> 0 | BL97: 4 | BM97: 23
F98: Úprava pláně na stavbách dálnic v zářezech mimo skalních se zhutněním | AT98: PP | AU98: 2
C99: 24 | D99: K | E99: 181301102 | F99: Rozprostření ornice tl vrstvy do 150 mm pl do 500 m2 v rovině nebo ve svahu do 1:5 | J99: m2 | K99: 140 | N99: =ROUND($L$99*$K$99,2) -> 0 | U99: základní | X99: 0 | Y99: =$X$99*$K$99 -> 0 | Z99: 0 | AA99: =$Z$99*$K$99 -> 0 | AR99: 4 | AT99: K | AU99: 2 | AY99: ROZPOCET | BE99: =IF($U$99="základní",$N$99,0) -> 0 | BF99: =IF($U$99="snížená",$N$99,0) -> 0 | BG99: =IF($U$99="zákl. přenesená",$N$99,0) -> 0 | BH99: =IF($U$99="sníž. přenesená",$N$99,0) -> 0 | BI99: =IF($U$99="nulová",$N$99,0) -> 0 | BJ99: 1 | BK99: =ROUND($L$99*$K$99,2) -> 0 | BL99: 4 | BM99: 24
F100: Rozprostření a urovnání ornice v rovině nebo ve svahu sklonu do 1 : 5 při souvislé ploše do 500 m2, tl. vrstvy přes 100 do 150 mm | AT100: PP | AU100: 2
D101: 005a - Konstrukce vozovky - předpokládáme únosné podloží | N101: =$BK$101 -> 0 | W101: =SUM($W$102:$W$109) -> 0 | Y101: =SUM($Y$102:$Y$109) -> 852.4098 | AA101: =SUM($AA$102:$AA$109) -> 0 | AR101: 1 | AT101: D | AU101: 1 | AY101: ROZPOCET | BK101: =SUM($BK$102:$BK$109) -> 0
C102: 27 | D102: K | E102: 564811111 | F102: Podklad ze štěrkodrtě ŠD plochy přes 100 m2 tl 50 mm | J102: m2 | K102: =K81 -> 1980 | N102: =ROUND($L$102*$K$102,2) -> 0 | U102: základní | X102: 0.115 | Y102: =$X$102*$K$102 -> 227.7 | Z102: 0 | AA102: =$Z$102*$K$102 -> 0 | AR102: 4 | AT102: K | AU102: 2 | AY102: ROZPOCET | BE102: =IF($U$102="základní",$N$102,0) -> 0 | BF102: =IF($U$102="snížená",$N$102,0) -> 0 | BG102: =IF($U$102="zákl. přenesená",$N$102,0) -> 0 | BH102: =IF($U$102="sníž. přenesená",$N$102,0) -> 0 | BI102: =IF($U$102="nulová",$N$102,0) -> 0 | BJ102: 1 | BK102: =ROUND($L$102*$K$102,2) -> 0 | BL102: 4 | BM102: 27
F103: Podklad ze štěrkodrti ŠD s rozprostřením a zhutněním plochy přes 100 m2, po zhutnění tl. 50 mm | AT103: PP | AU103: 2
C104: 28 | D104: K | E104: 565155121 | F104: Asfaltový beton vrstva podkladní ACP 16 (obalované kamenivo OKS) tl 70 mm š přes 3 m | J104: m2 | K104: =K102 -> 1980 | N104: =ROUND($L$104*$K$104,2) -> 0 | U104: základní | X104: 0.18463 | Y104: =$X$104*$K$104 -> 365.5674 | Z104: 0 | AA104: =$Z$104*$K$104 -> 0 | AR104: 4 | AT104: K | AU104: 2 | AY104: ROZPOCET | BE104: =IF($U$104="základní",$N$104,0) -> 0 | BF104: =IF($U$104="snížená",$N$104,0) -> 0 | BG104: =IF($U$104="zákl. přenesená",$N$104,0) -> 0 | BH104: =IF($U$104="sníž. přenesená",$N$104,0) -> 0 | BI104: =IF($U$104="nulová",$N$104,0) -> 0 | BJ104: 1 | BK104: =ROUND($L$104*$K$104,2) -> 0 | BL104: 4 | BM104: 28
F105: Asfaltový beton vrstva podkladní ACP 16 (obalované kamenivo střednězrnné - OKS) s rozprostřením a zhutněním v pruhu šířky přes 3 m, po zhutnění tl. 70 mm | AT105: PP | AU105: 2
C106: 29 | D106: K | E106: 573211111 | F106: Postřik živičný spojovací z asfaltu v množství do 0,70 kg/m2 | J106: m2 | K106: =K104*2 -> 3960 | N106: =ROUND($L$106*$K$106,2) -> 0 | U106: základní | X106: 0.00061 | Y106: =$X$106*$K$106 -> 2.4156 | Z106: 0 | AA106: =$Z$106*$K$106 -> 0 | AR106: 4 | AT106: K | AU106: 2 | AY106: ROZPOCET | BE106: =IF($U$106="základní",$N$106,0) -> 0 | BF106: =IF($U$106="snížená",$N$106,0) -> 0 | BG106: =IF($U$106="zákl. přenesená",$N$106,0) -> 0 | BH106: =IF($U$106="sníž. přenesená",$N$106,0) -> 0 | BI106: =IF($U$106="nulová",$N$106,0) -> 0 | BJ106: 1 | BK106: =ROUND($L$106*$K$106,2) -> 0 | BL106: 4 | BM106: 29
F107: Postřik živičný spojovací bez posypu kamenivem z asfaltu silničního, v množství od 0,50 do 0,70 kg/m2 | AT107: PP | AU107: 2
C108: 30 | D108: K | E108: 577144121 | F108: Asfaltový beton vrstva obrusná ACO 11 (ABS) tř. I tl 50 mm š přes 3 m z nemodifikovaného asfaltu | J108: m2 | K108: =K104 -> 1980 | N108: =ROUND($L$108*$K$108,2) -> 0 | U108: základní | X108: 0.12966 | Y108: =$X$108*$K$108 -> 256.7268 | Z108: 0 | AA108: =$Z$108*$K$108 -> 0 | AR108: 4 | AT108: K | AU108: 2 | AY108: ROZPOCET | BE108: =IF($U$108="základní",$N$108,0) -> 0 | BF108: =IF($U$108="snížená",$N$108,0) -> 0 | BG108: =IF($U$108="zákl. přenesená",$N$108,0) -> 0 | BH108: =IF($U$108="sníž. přenesená",$N$108,0) -> 0 | BI108: =IF($U$108="nulová",$N$108,0) -> 0 | BJ108: 1 | BK108: =ROUND($L$108*$K$108,2) -> 0 | BL108: 4 | BM108: 30
F109: Asfaltový beton vrstva obrusná ACO 11 (ABS) s rozprostřením a se zhutněním z nemodifikovaného asfaltu v pruhu šířky přes 3 m tř. I, po zhutnění tl. 50 mm | AT109: PP | AU109: 2
D110: 005c - Nová konstrukce parkovacího stání | N110: =$BK$110 -> 0 | W110: =SUM($W$111:$W$116) -> 0 | Y110: =SUM($Y$111:$Y$116) -> 137.52851 | AA110: =SUM($AA$111:$AA$116) -> 0 | AR110: 1 | AT110: D | AU110: 1 | AY110: ROZPOCET | BK110: =SUM($BK$111:$BK$116) -> 0
C111: 35 | D111: K | E111: 564861111 | F111: Podklad ze štěrkodrtě ŠD tl 200 mm | J111: m2 | K111: =(38*2.5)+(48.5*2.5) -> 216.25 | N111: =ROUND($L$111*$K$111,2) -> 0 | U111: základní | X111: 0.3708 | Y111: =$X$111*$K$111 -> 80.1855 | Z111: 0 | AA111: =$Z$111*$K$111 -> 0 | AR111: 4 | AT111: K | AU111: 2 | AY111: ROZPOCET | BE111: =IF($U$111="základní",$N$111,0) -> 0 | BF111: =IF($U$111="snížená",$N$111,0) -> 0 | BG111: =IF($U$111="zákl. přenesená",$N$111,0) -> 0 | BH111: =IF($U$111="sníž. přenesená",$N$111,0) -> 0 | BI111: =IF($U$111="nulová",$N$111,0) -> 0 | BJ111: 1 | BK111: =ROUND($L$111*$K$111,2) -> 0 | BL111: 4 | BM111: 35
F112: Podklad ze štěrkodrti ŠD s rozprostřením a zhutněním, po zhutnění tl. 200 mm | AT112: PP | AU112: 2
C113: 36 | D113: K | E113: 596211211 | F113: Kladení zámkové dlažby komunikací pro pěší tl 80 mm skupiny A pl do 100 m2 | J113: m2 | K113: =K111 -> 216.25 | N113: =ROUND($L$113*$K$113,2) -> 0 | U113: základní | X113: 0.08565 | Y113: =$X$113*$K$113 -> 18.521812 | Z113: 0 | AA113: =$Z$113*$K$113 -> 0 | AR113: 4 | AT113: K | AU113: 2 | AY113: ROZPOCET | BE113: =IF($U$113="základní",$N$113,0) -> 0 | BF113: =IF($U$113="snížená",$N$113,0) -> 0 | BG113: =IF($U$113="zákl. přenesená",$N$113,0) -> 0 | BH113: =IF($U$113="sníž. přenesená",$N$113,0) -> 0 | BI113: =IF($U$113="nulová",$N$113,0) -> 0 | BJ113: 1 | BK113: =ROUND($L$113*$K$113,2) -> 0 | BL113: 4 | BM113: 36
F114: Kladení dlažby z betonových zámkových dlaždic komunikací pro pěší s ložem z kameniva těženého nebo drceného tl. do 40 mm, s vyplněním spár s dvojitým hutněním, vibrováním a se smetením přebytečného materiálu na krajnici tl. 80 mm skupiny A, pro plochy přes 50 do 100 m2 | AT114: PP | AU114: 2
C115: 37 | D115: K | E115: 59245311 | F115: Dlažba betonová 20 x 10 x 8 cm přírodní | J115: m2 | K115: =K113*1.02 -> 220.575 | N115: =ROUND($L$115*$K$115,2) -> 0 | U115: základní | X115: 0.176 | Y115: =$X$115*$K$115 -> 38.8212 | Z115: 0 | AA115: =$Z$115*$K$115 -> 0 | AR115: 4 | AT115: K | AU115: 2 | AY115: ROZPOCET | BE115: =IF($U$115="základní",$N$115,0) -> 0 | BF115: =IF($U$115="snížená",$N$115,0) -> 0 | BG115: =IF($U$115="zákl. přenesená",$N$115,0) -> 0 | BH115: =IF($U$115="sníž. přenesená",$N$115,0) -> 0 | BI115: =IF($U$115="nulová",$N$115,0) -> 0 | BJ115: 1 | BK115: =ROUND($L$115*$K$115,2) -> 0 | BL115: 4 | BM115: 37
F116: Dlažba betonová 20 x 10 x 8 cm přírodní | AT116: PP | AU116: 2
D117: 008 - Trubní vedení | N117: =$BK$117+N124 -> 0 | W117: =SUM($W$118:$W$121) -> 0 | Y117: =SUM($Y$118:$Y$121) -> 0 | AA117: =SUM($AA$118:$AA$121) -> 0 | AR117: 1 | AT117: D | AU117: 1 | AY117: ROZPOCET | BK117: =SUM($BK$118:$BK$121) -> 0
C118: 40 | D118: K | E118: 802 | F118: Usazení vpusti do výšky nové vozovky | J118: kus | K118: 10 | N118: =ROUND($L$118*$K$118,2) -> 0 | U118: základní | X118: 0 | Y118: =$X$118*$K$118 -> 0 | Z118: 0 | AA118: =$Z$118*$K$118 -> 0 | AR118: 4 | AT118: K | AU118: 2 | AY118: ROZPOCET | BE118: =IF($U$118="základní",$N$118,0) -> 0 | BF118: =IF($U$118="snížená",$N$118,0) -> 0 | BG118: =IF($U$118="zákl. přenesená",$N$118,0) -> 0 | BH118: =IF($U$118="sníž. přenesená",$N$118,0) -> 0 | BI118: =IF($U$118="nulová",$N$118,0) -> 0 | BJ118: 1 | BK118: =ROUND($L$118*$K$118,2) -> 0 | BL118: 4 | BM118: 40
F119: Usazení vpusti do výšky nové vozovky 1ks včetně odbourání části UV a nového osazení | AT119: PP | AU119: 2
C120: 42 | D120: K | E120: 804 | F120: Usazení kanalizačního poklopu do výšky nové vozovky | J120: kus | K120: 12 | N120: =ROUND($L$120*$K$120,2) -> 0 | U120: základní | X120: 0 | Y120: =$X$120*$K$120 -> 0 | Z120: 0 | AA120: =$Z$120*$K$120 -> 0 | AR120: 4 | AT120: K | AU120: 2 | AY120: ROZPOCET | BE120: =IF($U$120="základní",$N$120,0) -> 0 | BF120: =IF($U$120="snížená",$N$120,0) -> 0 | BG120: =IF($U$120="zákl. přenesená",$N$120,0) -> 0 | BH120: =IF($U$120="sníž. přenesená",$N$120,0) -> 0 | BI120: =IF($U$120="nulová",$N$120,0) -> 0 | BJ120: 1 | BK120: =ROUND($L$120*$K$120,2) -> 0 | BL120: 4 | BM120: 42
F121: Usazení kanalizačního poklopu do výšky nové vozovky 2ks šachtička čtvercový poklop | AT121: PP | AU121: 2
C122: 43 | D122: K | E122: 899431111 | F122: Výšková úprava uličního vstupu nebo vpusti do 200 mm zvýšením krycího hrnce, šoupěte nebo hydrantu | J122: kus | K122: 40 | N122: =L122*K122 -> 0 | U122: základní | X122: 0 | Y122: =$X$120*$K$120 -> 0 | Z122: 0 | AA122: =$Z$120*$K$120 -> 0 | AR122: 4 | AT122: K | AU122: 2 | AY122: ROZPOCET | BE122: =IF($U$120="základní",$N$120,0) -> 0 | BF122: =IF($U$120="snížená",$N$120,0) -> 0 | BG122: =IF($U$120="zákl. přenesená",$N$120,0) -> 0 | BH122: =IF($U$120="sníž. přenesená",$N$120,0) -> 0 | BI122: =IF($U$120="nulová",$N$120,0) -> 0 | BJ122: 1 | BK122: =ROUND($L$120*$K$120,2) -> 0 | BL122: 4 | BM122: 42
F123: Výšková úprava uličního vstupu nebo vpusti do 200 mm zvýšením krycího hrnce, šoupěte nebo hydrantu | AT123: PP | AU123: 2
D124: K | E124: R | F124: Vybourání stávajícího gajgru, osazení plastového vč. Dodávky a napojení do stávající přípojky | J124: kpl | K124: 1 | N124: =L124*K124 -> 0 | U124: základní | X124: 0 | Y124: =$X$120*$K$120 -> 0 | Z124: 0 | AA124: =$Z$120*$K$120 -> 0 | AR124: 4 | AT124: K | AU124: 2 | AY124: ROZPOCET | BE124: =IF($U$120="základní",$N$120,0) -> 0 | BF124: =IF($U$120="snížená",$N$120,0) -> 0 | BG124: =IF($U$120="zákl. přenesená",$N$120,0) -> 0 | BH124: =IF($U$120="sníž. přenesená",$N$120,0) -> 0 | BI124: =IF($U$120="nulová",$N$120,0) -> 0 | BJ124: 1 | BK124: =ROUND($L$120*$K$120,2) -> 0 | BL124: 4 | BM124: 42
AT125: PP | AU125: 2
D126: 009 - Ostatní konstrukce a práce | N126: =$BK$126 -> 0 | W126: =SUM($W$127:$W$151) -> 0 | Y126: =SUM($Y$127:$Y$151) -> 73.837812 | AA126: =SUM($AA$127:$AA$151) -> 0 | AR126: 1 | AT126: D | AU126: 1 | AY126: ROZPOCET | BK126: =SUM($BK$127:$BK$151) -> 0
C127: 43 | D127: K | E127: 979082113 | F127: Vodorovná doprava suti po suchu na vzdálenost do 1000 m | J127: t | K127: =K131 -> 448.405 | N127: =ROUND($L$127*$K$127,2) -> 0 | U127: základní | X127: 0 | Y127: =$X$127*$K$127 -> 0 | Z127: 0 | AA127: =$Z$127*$K$127 -> 0 | AR127: 4 | AT127: K | AU127: 2 | AY127: ROZPOCET | BE127: =IF($U$127="základní",$N$127,0) -> 0 | BF127: =IF($U$127="snížená",$N$127,0) -> 0 | BG127: =IF($U$127="zákl. přenesená",$N$127,0) -> 0 | BH127: =IF($U$127="sníž. přenesená",$N$127,0) -> 0 | BI127: =IF($U$127="nulová",$N$127,0) -> 0 | BJ127: 1 | BK127: =ROUND($L$127*$K$127,2) -> 0 | BL127: 4 | BM127: 43
F128: Vodorovná doprava suti po suchu na vzdálenost do 1000 m | AT128: PP | AU128: 2
C129: 44 | D129: K | E129: 979082119 | F129: Příplatek ZKD 1000 m u vodorovné dopravy suti | J129: t | K129: =K127*19 -> 8519.695 | N129: =ROUND($L$129*$K$129,2) -> 0 | U129: základní | X129: 0 | Y129: =$X$129*$K$129 -> 0 | Z129: 0 | AA129: =$Z$129*$K$129 -> 0 | AR129: 4 | AT129: K | AU129: 2 | AY129: ROZPOCET | BE129: =IF($U$129="základní",$N$129,0) -> 0 | BF129: =IF($U$129="snížená",$N$129,0) -> 0 | BG129: =IF($U$129="zákl. přenesená",$N$129,0) -> 0 | BH129: =IF($U$129="sníž. přenesená",$N$129,0) -> 0 | BI129: =IF($U$129="nulová",$N$129,0) -> 0 | BJ129: 1 | BK129: =ROUND($L$129*$K$129,2) -> 0 | BL129: 4 | BM129: 44
F130: Příplatek ZKD 1000 m u vodorovné dopravy suti | AT130: PP | AU130: 2
C131: 45 | D131: K | E131: 979088212 | F131: Nakládání suti a vybouraných hmot | J131: t | K131: =K133+K135 -> 448.405 | N131: =ROUND($L$131*$K$131,2) -> 0 | U131: základní | X131: 0 | Y131: =$X$131*$K$131 -> 0 | Z131: 0 | AA131: =$Z$131*$K$131 -> 0 | AR131: 4 | AT131: K | AU131: 2 | AY131: ROZPOCET | BE131: =IF($U$131="základní",$N$131,0) -> 0 | BF131: =IF($U$131="snížená",$N$131,0) -> 0 | BG131: =IF($U$131="zákl. přenesená",$N$131,0) -> 0 | BH131: =IF($U$131="sníž. přenesená",$N$131,0) -> 0 | BI131: =IF($U$131="nulová",$N$131,0) -> 0 | BJ131: 1 | BK131: =ROUND($L$131*$K$131,2) -> 0 | BL131: 4 | BM131: 45
...
