Workbook

Sheet Rekapitulace stavby
A1: Export Komplet | AZ1: 2.0 | BS1: False | BT1: False | BU1: {d4abeee0-60db-4c42-8f02-b3bb03ea40b0}
AQ2: >> skryté sloupce << | BR2: 0,01 | BS2: 21
BR3: 0,01 | BS3: 15
D4: REKAPITULACE STAVBY | AR4: v --- níže se nacházejí doplnkové a pomocné údaje k sestavám --- v | BR4: 0,001
D5: Kód: | BR5: 0,01
D6: Stavba: | K6: ZÁKLADNÍ ŠKOLA ZRUČ NAD SÁZAVOU | BR6: 0,01
D7: KSO: | AK7: CC-CZ: | BR7: 0,01
D8: Místo: | AK8: Datum: | AN8: 46062 | BR8: 0,01
BR9: 0,01
D10: Zadavatel: | AK10: IČ: | BR10: 0,01
AK11: DIČ: | BR11: 0,01
BR12: 0,01
D13: Zhotovitel: | AK13: IČ: | BR13: 0,01
AK14: DIČ: | BR14: 0,01
BR15: False
D16: Projektant: | AK16: IČ: | BR16: False
AK17: DIČ: | BR17: True
BR18: 0,01
D19: Zpracovatel: | AK19: IČ: | BR19: 0,01
AK20: DIČ: | BR20: True
D22: Poznámka:
D26: Cena bez DPH | AK26: =ROUND(AG94,2) -> 0
L28: Sazba daně | W28: Základ daně | AK28: Výše daně
D29: DPH | F29: základní | L29: 0.21 | W29: =AK26 -> 0 | AK29: =W29*0.21 -> 0
F30: snížená | L30: 0.15 | W30: 0 | AK30: 0
F31: zákl. přenesená | L31: 0.21 | W31: =ROUND(BA94, 2) -> #REF! | AK31: 0
F32: sníž. přenesená | L32: 0.15 | W32: =ROUND(BB94, 2) -> #REF! | AK32: 0
F33: nulová | L33: 0 | W33: =ROUND(BC94, 2) -> #REF! | AK33: 0
D35: Cena s DPH | T35: v | X35: CZK | AK35: =W29+AK29 -> 0
D49: Projektant | AH49: Zpracovatel
D60: Datum a podpis: | V60: Razítko | AH60: Datum a podpis: | AM60: Razítko
D64: Objednavatel | AH64: Zhotovitel
D75: Datum a podpis: | V75: Razítko | AH75: Datum a podpis: | AM75: Razítko
C82: REKAPITULACE OBJEKTŮ STAVBY A SOUPISŮ PRACÍ
C84: Kód: | L84: =K5 -> 0
C85: Stavba: | L85: =K6 -> ZÁKLADNÍ ŠKOLA ZRUČ NAD SÁZAVOU
C87: Místo: | L87: =IF(K8="","",K8) | AI87: Datum:
C89: Zadavatel: | L89: =IF(E11= "","",E11) | AI89: Projektant: | AM89: =IF(E17="","",E17) | AR89: Informatívní údaje z listů zakázek
C90: Zhotovitel: | L90: =IF(E14="","",E14) | AI90: Zpracovatel:
C92: Kód | I92: Popis | AG92: Cena bez DPH [CZK] | AN92: Cena s DPH [CZK] | AR92: z toho Ostat._x005F_x000D_ náklady [CZK] | AS92: DPH [CZK] | AT92: Normohodiny [h] | AU92: DPH základní [CZK] | AV92: DPH snížená [CZK] | AW92: DPH základní přenesená_x005F_x000D_ [CZK] | AX92: DPH snížená přenesená_x005F_x000D_ [CZK] | AY92: Základna_x005F_x000D_ DPH základní | AZ92: Základna_x005F_x000D_ DPH snížená | BA92: Základna_x005F_x000D_ DPH zákl. přenesená | BB92: Základna_x005F_x000D_ DPH sníž. přenesená | BC92: Základna_x005F_x000D_ DPH nulová
...

Sheet 01 - Multimediální učebna
L2: >> skryté sloupce << | AT2: {d1939390-f3b5-4852-bb6f-59d890b69ab2}
AT3: 2
D4: KRYCÍ LIST SOUPISU PRACÍ | M4: v --- níže se nacházejí doplnkové a pomocné údaje k sestavám --- v | AT4: False
D6: Stavba:
E7: ='Rekapitulace stavby'!K6 -> ZÁKLADNÍ ŠKOLA ZRUČ NAD SÁZAVOU
D8: Objekt:
E9: 01– Multimediální učebna
D11: KSO: | I11: CC-CZ:
D12: Místo: | I12: Datum:
D14: Zadavatel: | I14: IČ: | J14: =IF('Rekapitulace stavby'!AN10="","",'Rekapitulace stavby'!AN10)
E15: =IF('Rekapitulace stavby'!E11="","",'Rekapitulace stavby'!E11) | I15: DIČ: | J15: =IF('Rekapitulace stavby'!AN11="","",'Rekapitulace stavby'!AN11)
D17: Zhotovitel: | I17: IČ:
E18: ='Rekapitulace stavby'!E14 | I18: DIČ:
D20: Projektant: | I20: IČ: | J20: =IF('Rekapitulace stavby'!AN16="","",'Rekapitulace stavby'!AN16)
E21: =IF('Rekapitulace stavby'!E17="","",'Rekapitulace stavby'!E17) | I21: DIČ: | J21: =IF('Rekapitulace stavby'!AN17="","",'Rekapitulace stavby'!AN17)
D23: Zpracovatel: | I23: IČ: | J23: =IF('Rekapitulace stavby'!AN19="","",'Rekapitulace stavby'!AN19)
E24: =IF('Rekapitulace stavby'!E20="","",'Rekapitulace stavby'!E20) | I24: DIČ: | J24: =IF('Rekapitulace stavby'!AN20="","",'Rekapitulace stavby'!AN20)
D26: Poznámka:
D30: Cena bez DPH | J30: =ROUND(J127, 2) -> 0
F32: Základ daně | I32: Sazba daně | J32: Výše daně
D33: DPH | E33: základní | F33: =J30 -> 0 | I33: 0.21 | J33: =F33*0.21 -> 0
E34: snížená | F34: =ROUND((SUM(BF127:BF190)), 2) -> 0 | I34: 0.15 | J34: =ROUND(((SUM(BF127:BF190))*I34), 2) -> 0
E35: zákl. přenesená | F35: =ROUND((SUM(BG127:BG190)), 2) -> 0 | I35: 0.21 | J35: =0 -> 0
E36: sníž. přenesená | F36: =ROUND((SUM(BH127:BH190)), 2) -> 0 | I36: 0.15 | J36: =0 -> 0
E37: nulová | F37: =ROUND((SUM(BI127:BI190)), 2) -> 0 | I37: 0 | J37: =0 -> 0
D39: Cena s DPH | G39: v | H39: CZK | J39: =SUM(J30:J37) -> 0
D50: Projektant | G50: Zpracovatel
D61: Datum a podpis: | F61: Razítko | G61: Datum a podpis: | J61: Razítko
D65: Objednavatel | G65: Zhotovitel
D76: Datum a podpis: | F76: Razítko | G76: Datum a podpis: | J76: Razítko
C82: REKAPITULACE ČLENĚNÍ SOUPISU PRACÍ
C84: Stavba:
E85: =E7 -> ZÁKLADNÍ ŠKOLA ZRUČ NAD SÁZAVOU
C86: Objekt:
E87: =E9 -> 01– Multimediální učebna
C89: Místo: | F89: =F12 | I89: Datum: | J89: =IF(J12="","",J12)
C91: Zadavatel: | F91: =E15 | I91: Projektant: | J91: =E21
C92: Zhotovitel: | F92: =IF(E18="","",E18) | I92: Zpracovatel:
C94: Kód dílu - Popis | J94: Cena celkem [CZK]
C96: Náklady ze soupisu prací | J96: =J97+J103 -> 0 | AU96: -1
...
