Workbook

Sheet Rekapitulace stavby
A1: Export Komplet | AZ1: 2.0 | BS1: False | BT1: False | BU1: {d4abeee0-60db-4c42-8f02-b3bb03ea40b0}
AQ2: >> skryté sloupce << | BR2: 0,01 | BS2: 21
BR3: 0,01 | BS3: 15
D4: REKAPITULACE STAVBY | AR4: v --- níže se nacházejí doplnkové a pomocné údaje k sestavám --- v | BR4: 0,001
D5: Kód: | BR5: 0,01
D6: Stavba: | K6: ZÁKLADNÍ ŠKOLA ZRUČ NAD SÁZAVOU | BR6: 0,01
D7: KSO: | AK7: CC-CZ: | BR7: 0,01
D8: Místo: | AK8: Datum: | AN8: 46062 | BR8: 0,01
BR9: 0,01
D10: Zadavatel: | AK10: IČ: | BR10: 0,01
AK11: DIČ: | BR11: 0,01
BR12: 0,01
D13: Zhotovitel: | AK13: IČ: | BR13: 0,01
AK14: DIČ: | BR14: 0,01
BR15: False
D16: Projektant: | AK16: IČ: | BR16: False
AK17: DIČ: | BR17: True
BR18: 0,01
D19: Zpracovatel: | AK19: IČ: | BR19: 0,01
AK20: DIČ: | BR20: True
D22: Poznámka:
D26: Cena bez DPH | AK26: =ROUND(AG94,2) -> 0
L28: Sazba daně | W28: Základ daně | AK28: Výše daně
D29: DPH | F29: základní | L29: 0.21 | W29: =AK26 -> 0 | AK29: =W29*0.21 -> 0
F30: snížená | L30: 0.15 | W30: 0 | AK30: 0
F31: zákl. přenesená | L31: 0.21 | W31: =ROUND(BA94, 2) -> #REF! | AK31: 0
F32: sníž. přenesená | L32: 0.15 | W32: =ROUND(BB94, 2) -> #REF! | AK32: 0
F33: nulová | L33: 0 | W33: =ROUND(BC94, 2) -> #REF! | AK33: 0
D35: Cena s DPH | T35: v | X35: CZK | AK35: =W29+AK29 -> 0
D49: Projektant | AH49: Zpracovatel
D60: Datum a podpis: | V60: Razítko | AH60: Datum a podpis: | AM60: Razítko
D64: Objednavatel | AH64: Zhotovitel
D75: Datum a podpis: | V75: Razítko | AH75: Datum a podpis: | AM75: Razítko
C82: REKAPITULACE OBJEKTŮ STAVBY A SOUPISŮ PRACÍ
C84: Kód: | L84: =K5 -> 0
C85: Stavba: | L85: =K6 -> ZÁKLADNÍ ŠKOLA ZRUČ NAD SÁZAVOU
C87: Místo: | L87: =IF(K8="","",K8) | AI87: Datum:
C89: Zadavatel: | L89: =IF(E11= "","",E11) | AI89: Projektant: | AM89: =IF(E17="","",E17) | AR89: Informatívní údaje z listů zakázek
C90: Zhotovitel: | L90: =IF(E14="","",E14) | AI90: Zpracovatel:
C92: Kód | I92: Popis | AG92: Cena bez DPH [CZK] | AN92: Cena s DPH [CZK] | AR92: z toho Ostat._x005F_x000D_ náklady [CZK] | AS92: DPH [CZK] | AT92: Normohodiny [h] | AU92: DPH základní [CZK] | AV92: DPH snížená [CZK] | AW92: DPH základní přenesená_x005F_x000D_ [CZK] | AX92: DPH snížená přenesená_x005F_x000D_ [CZK] | AY92: Základna_x005F_x000D_ DPH základní | AZ92: Základna_x005F_x000D_ DPH snížená | BA92: Základna_x005F_x000D_ DPH zákl. přenesená | BB92: Základna_x005F_x000D_ DPH sníž. přenesená | BC92: Základna_x005F_x000D_ DPH nulová
C94: Náklady z rozpočtů | AG94: =AG95 -> 0 | AN94: =AN95 -> 0 | AR94: =ROUND(SUM(#REF!),2) -> #REF! | AS94: =ROUND(SUM(AU94:AV94),2) -> #REF! | AT94: =ROUND(SUM(#REF!),5) -> #REF! | AU94: =ROUND(AY94*L29,2) -> #REF! | AV94: =ROUND(AZ94*L30,2) -> #REF! | AW94: =ROUND(BA94*L29,2) -> #REF! | AX94: =ROUND(BB94*L30,2) -> #REF! | AY94: =ROUND(SUM(#REF!),2) -> #REF! | AZ94: =ROUND(SUM(#REF!),2) -> #REF! | BA94: =ROUND(SUM(#REF!),2) -> #REF! | BB94: =ROUND(SUM(#REF!),2) -> #REF! | BC94: =ROUND(SUM(#REF!),2) -> #REF! | BR94: D | BS94: 0 | BT94: ###NOIMPORT### | BU94: IMPORT | BV94: {d4abeee0-60db-4c42-8f02-b3bb03ea40b0} | BW94: {00000000-0000-0000-0000-000000000000}
D95: 1 | J95: Multimediální učebna | AG95: ='01 - Multimediální učebna'!J96 -> 0 | AN95: =AG95*1.21 -> 0

Sheet 01 - Multimediální učebna
L2: >> skryté sloupce << | AT2: {d1939390-f3b5-4852-bb6f-59d890b69ab2}
AT3: 2
D4: KRYCÍ LIST SOUPISU PRACÍ | M4: v --- níže se nacházejí doplnkové a pomocné údaje k sestavám --- v | AT4: False
D6: Stavba:
E7: ='Rekapitulace stavby'!K6 -> ZÁKLADNÍ ŠKOLA ZRUČ NAD SÁZAVOU
D8: Objekt:
E9: 01– Multimediální učebna
D11: KSO: | I11: CC-CZ:
D12: Místo: | I12: Datum:
D14: Zadavatel: | I14: IČ: | J14: =IF('Rekapitulace stavby'!AN10="","",'Rekapitulace stavby'!AN10)
E15: =IF('Rekapitulace stavby'!E11="","",'Rekapitulace stavby'!E11) | I15: DIČ: | J15: =IF('Rekapitulace stavby'!AN11="","",'Rekapitulace stavby'!AN11)
D17: Zhotovitel: | I17: IČ:
E18: ='Rekapitulace stavby'!E14 | I18: DIČ:
D20: Projektant: | I20: IČ: | J20: =IF('Rekapitulace stavby'!AN16="","",'Rekapitulace stavby'!AN16)
E21: =IF('Rekapitulace stavby'!E17="","",'Rekapitulace stavby'!E17) | I21: DIČ: | J21: =IF('Rekapitulace stavby'!AN17="","",'Rekapitulace stavby'!AN17)
D23: Zpracovatel: | I23: IČ: | J23: =IF('Rekapitulace stavby'!AN19="","",'Rekapitulace stavby'!AN19)
E24: =IF('Rekapitulace stavby'!E20="","",'Rekapitulace stavby'!E20) | I24: DIČ: | J24: =IF('Rekapitulace stavby'!AN20="","",'Rekapitulace stavby'!AN20)
D26: Poznámka:
D30: Cena bez DPH | J30: =ROUND(J127, 2) -> 0
F32: Základ daně | I32: Sazba daně | J32: Výše daně
D33: DPH | E33: základní | F33: =J30 -> 0 | I33: 0.21 | J33: =F33*0.21 -> 0
E34: snížená | F34: =ROUND((SUM(BF127:BF190)), 2) -> 0 | I34: 0.15 | J34: =ROUND(((SUM(BF127:BF190))*I34), 2) -> 0
E35: zákl. přenesená | F35: =ROUND((SUM(BG127:BG190)), 2) -> 0 | I35: 0.21 | J35: =0 -> 0
E36: sníž. přenesená | F36: =ROUND((SUM(BH127:BH190)), 2) -> 0 | I36: 0.15 | J36: =0 -> 0
E37: nulová | F37: =ROUND((SUM(BI127:BI190)), 2) -> 0 | I37: 0 | J37: =0 -> 0
D39: Cena s DPH | G39: v | H39: CZK | J39: =SUM(J30:J37) -> 0
D50: Projektant | G50: Zpracovatel
D61: Datum a podpis: | F61: Razítko | G61: Datum a podpis: | J61: Razítko
D65: Objednavatel | G65: Zhotovitel
D76: Datum a podpis: | F76: Razítko | G76: Datum a podpis: | J76: Razítko
C82: REKAPITULACE ČLENĚNÍ SOUPISU PRACÍ
C84: Stavba:
E85: =E7 -> ZÁKLADNÍ ŠKOLA ZRUČ NAD SÁZAVOU
C86: Objekt:
E87: =E9 -> 01– Multimediální učebna
C89: Místo: | F89: =F12 | I89: Datum: | J89: =IF(J12="","",J12)
C91: Zadavatel: | F91: =E15 | I91: Projektant: | J91: =E21
C92: Zhotovitel: | F92: =IF(E18="","",E18) | I92: Zpracovatel:
C94: Kód dílu - Popis | J94: Cena celkem [CZK]
C96: Náklady ze soupisu prací | J96: =J97+J103 -> 0 | AU96: -1
D97: HSV - Práce a dodávky HSV | J97: =SUM(J98:J102) -> 0
D98: 3 - Svislé a kompletní konstrukce | J98: =J129 -> 0
D99: 6 - Úpravy povrchů, podlahy a osazování výplní | J99: =J131 -> 0
D100: 9 - Ostatní konstrukce a práce, bourání | J100: =J140 -> 0
D101: 997 - Přesun sutě | J101: =J148 -> 0
D102: 998 - Přesun hmot | J102: =J155 -> 0
D103: PSV - Práce a dodávky PSV | J103: =SUM(J104:J107) -> 0
D104: 741 - Elektroinstalace - silnoproud | J104: =J158 -> 0
D105: 763 - Konstrukce suché výstavby | J105: =J171 -> 0
D106: 776 - Podlahy povlakové | J106: =J176 -> 0
D107: 784 - Dokončovací práce - malby a tapety | J107: =J186 -> 0
C114: SOUPIS PRACÍ
C116: Stavba:
E117: =E7 -> ZÁKLADNÍ ŠKOLA ZRUČ NAD SÁZAVOU
C118: Objekt:
E119: =E9 -> 01– Multimediální učebna
C121: Místo: | F121: =F12 | I121: Datum: | J121: =IF(J12="","",J12)
C123: Zadavatel: | F123: =E15 | I123: Projektant: | J123: =E21
C124: Zhotovitel: | F124: =IF(E18="","",E18) | I124: Zpracovatel:
C126: PČ | D126: Typ | E126: Kód | F126: Popis | G126: MJ | H126: Množství | I126: J.cena [CZK] | J126: Cena celkem [CZK] | K126: Cenová soustava | N126: DPH | O126: J. Nh [h] | P126: Nh celkem [h] | Q126: J. hmotnost [t] | R126: Hmotnost celkem [t] | S126: J. suť [t] | T126: Suť Celkem [t]
C127: Náklady soupisu celkem | J127: =J128+J157 -> 0 | P127: =P128+P157 -> #REF! | R127: =R128+R157 -> #REF! | T127: =T128+T157 -> #REF! | AT127: D | AU127: -1 | BK127: =BK128+BK157 -> #REF!
D128: D | E128: HSV | F128: Práce a dodávky HSV | J128: =J129+J131+J140+J155+J148 -> 0 | P128: =#REF!+P131+P140+P141+P155 -> #REF! | R128: =#REF!+R131+R140+R141+R155 -> #REF! | T128: =#REF!+T131+T140+T141+T155 -> #REF! | AR128: 1 | AT128: D | AU128: 0 | AY128: ROZPOCET | BK128: =#REF!+BK131+BK140+BK141+BK155 -> #REF!
D129: D | E129: 3 | F129: Svislé a kompletní konstrukce | J129: =SUM(J130:J130) -> 0
C130: 1 | D130: K | E130: 3.01 | F130: Úprava prahu pro bezbariérovost ve vstupu do učebny – demontáž, zapravení | G130: kus | H130: 1 | J130: =ROUND(I130*H130,2) -> 0 | K130: CS ÚRS 2025 01
D131: D | E131: 6 | F131: Úpravy povrchů, podlahy a osazování výplní | J131: =SUM(J132:J139) -> 0 | P131: =SUM(P132:P132) -> 13.52 | R131: =SUM(R132:R132) -> 0.0338 | T131: =SUM(T132:T132) -> 0 | AR131: 1 | AT131: D | AU131: 1 | AY131: ROZPOCET | BK131: =SUM(BK132:BK132) -> 0
C132: 2 | D132: K | E132: 612325422 | F132: Oprava vnitřní vápenocemen. omítky stěn plochy do 30% - štukové | G132: m2 | H132: 130 | J132: =ROUND(I132*H132,2) -> 0 | K132: CS ÚRS 2025 01 | N132: základní | O132: 0.104 | P132: =O132*H132 -> 13.52 | Q132: 0.00026 | R132: =Q132*H132 -> 0.0338 | S132: 0 | T132: =S132*H132 -> 0 | AR132: 4 | AT132: K | AU132: 2 | AY132: ROZPOCET | BE132: =IF(N132="základní",J132,0) -> 0 | BF132: =IF(N132="snížená",J132,0) -> 0 | BG132: =IF(N132="zákl. přenesená",J132,0) -> 0 | BH132: =IF(N132="sníž. přenesená",J132,0) -> 0 | BI132: =IF(N132="nulová",J132,0) -> 0 | BJ132: 1 | BK132: =ROUND(I132*H132,2) -> 0 | BL132: 4 | BM132: 1617502017
C133: 3 | D133: K | E133: 6.01 | F133: Repase stávaj.ocelových zárubní šíře do 90/1970 mm – obroušení , nový nátěr | G133: ks | H133: 2 | J133: =ROUND(I133*H133,2) -> 0 | K133: CS ÚRS 2025 01
C134: 4 | D134: K | E134: 766660002 | F134: Montáž dveřních křídel otvíravých jednokřídlových š přes 0,8 m do ocelové zárubně | G134: kus | H134: 1 | J134: =ROUND(I134*H134,2) -> 0 | K134: CS ÚRS 2025 01
C135: 5 | D135: M | E135: 61164073 | F135: dveře jednokřídlé voštinové profilované lakované plné 800x1970mm | G135: kus | H135: 1 | J135: =ROUND(I135*H135,2) -> 0 | K135: CS ÚRS 2025 01
C136: 6 | D136: K | E136: 642942111 | F136: Osazování zárubní nebo rámů dveřních kovových do 2,5 m2 na MC | G136: kus | H136: 1 | J136: =ROUND(I136*H136,2) -> 0 | K136: CS ÚRS 2025 01
C137: 7 | D137: M | E137: 55331482 | F137: zárubeň jednokřídlá ocelová pro zdění tl stěny 75-100mm rozměru 800/1970, 2100mm | G137: kus | H137: 1 | J137: =ROUND(I137*H137,2) -> 0 | K137: CS ÚRS 2025 01
C138: 8 | D138: K | E138: 612403380 | F138: Hrubá výplň rýh ve stěnách do 3x3 cm maltou ze SMS | G138: m | H138: 30 | J138: =ROUND(I138*H138,2) -> 0 | K138: CS ÚRS 2025 01
C139: 9 | D139: K | E139: 619991005 | F139: Zakrytí okenních výplní fólií | G139: m2 | H139: 20 | J139: =ROUND(I139*H139,2) -> 0 | K139: CS ÚRS 2025 01
D140: D | E140: 9 | F140: Ostatní konstrukce a práce, bourání | J140: =SUM(J141:J147) -> 0 | P140: =SUM(P141:P141) -> 16.38 | R140: =SUM(R141:R141) -> 0.0273 | T140: =SUM(T141:T141) -> 0 | AR140: 1 | AT140: D | AU140: 1 | AY140: ROZPOCET | BK140: =SUM(BK141:BK141) -> 0
C141: 10 | D141: K | E141: 949101112 | F141: Lešení pomocné pro objekty pozemních staveb s lešeňovou podlahou v přes 1,9 do 3,5 m zatížení do 150 kg/m2 | G141: m2 | H141: 130 | J141: =ROUND(I141*H141,2) -> 0 | K141: CS ÚRS 2025 01 | N141: základní | O141: 0.126 | P141: =O141*H141 -> 16.38 | Q141: 0.00021 | R141: =Q141*H141 -> 0.0273 | S141: 0 | T141: =S141*H141 -> 0 | AR141: 4 | AT141: K | AU141: 2 | AY141: ROZPOCET | BE141: =IF(N141="základní",J141,0) -> 0 | BF141: =IF(N141="snížená",J141,0) -> 0 | BG141: =IF(N141="zákl. přenesená",J141,0) -> 0 | BH141: =IF(N141="sníž. přenesená",J141,0) -> 0 | BI141: =IF(N141="nulová",J141,0) -> 0 | BJ141: 1 | BK141: =ROUND(I141*H141,2) -> 0 | BL141: 4 | BM141: 745471375
C142: 11 | D142: K | E142: 952901111 | F142: Vyčištění budov o výšce podlaží do 4 m | G142: m2 | H142: 90 | J142: =ROUND(I142*H142,2) -> 0 | K142: CS ÚRS 2025 01
C143: 12 | D143: K | E143: 9.01 | F143: Demontáž stávajícího dřev. pódia včetně dřev. roštu a likvidace dřeva | G143: m2 | H143: 10 | J143: =ROUND(I143*H143,2) -> 0 | K143: CS ÚRS 2025 01
C144: 13 | D144: R | E144: 9.02 | F144: Vybourání otvoru ve zdivu cihelném z tvárnic tl. 300 mm do suti | G144: m3 | H144: 2 | J144: =ROUND(I144*H144,2) -> 0 | K144: CS ÚRS 2025 01
C145: 14 | D145: R | E145: 9.03 | F145: D+M překladu PTH nosný dl. 1250 mm včetně zednického zapravení | G145: kpl | H145: 4 | J145: =ROUND(I145*H145,2) -> 0 | K145: CS ÚRS 2025 01
C146: 15 | D146: K | E146: 974031121 | F146: Vysekání rýh ve zdi cihelné 3 x 3 cm | G146: m | H146: 30 | J146: =ROUND(I146*H146,2) -> 0 | K146: CS ÚRS 2025 01
C147: 16 | D147: K | E147: 978013141 | F147: Otlučení vápenocement. omítek vnitřních ploch stěn plochy do 30% | G147: m2 | H147: 130 | J147: =ROUND(I147*H147,2) -> 0 | K147: CS ÚRS 2025 01
D148: D | E148: 997 | F148: Přesun sutě | J148: =SUM(J149:J154) -> 0
C149: 17 | D149: K | E149: 997013217 | F149: Vnitrostaveništní doprava suti a vybouraných hmot pro budovy do 24 m ručně | G149: t | H149: 5 | J149: =ROUND(I149*H149,2) -> 0 | K149: CS ÚRS 2025 01
C150: 18 | D150: K | E150: 997013219 | F150: Příplatek k vnitrostaveništní dopravě suti a vybouraných hmot ZKD 10 m | G150: t | H150: 50 | J150: =ROUND(I150*H150,2) -> 0 | K150: CS ÚRS 2025 01
C151: 19 | D151: K | E151: 997013509 | F151: Příplatek k odvozu suti a vybouraných hmot na skládku ZKD 1 km přes 1 km | G151: t | H151: 50 | J151: =ROUND(I151*H151,2) -> 0 | K151: CS ÚRS 2025 01
C152: 20 | D152: K | E152: 997013511 | F152: Odvoz suti a vybouraných hmot na skládku do 1 km s naložením a se složením | G152: t | H152: 5 | J152: =ROUND(I152*H152,2) -> 0 | K152: CS ÚRS 2025 01
C153: 21 | D153: K | E153: 997013635 | F153: Poplatek za uložení na skládce (skládkovné) objemného směsného odpadu kód 20 03 07 | G153: t | H153: 0.8 | J153: =ROUND(I153*H153,2) -> 0 | K153: CS ÚRS 2025 01
C154: 22 | D154: K | E154: 997013631 | F154: Poplatek za uložení na skládce (skládkovné) stavebního odpadu kód 17 01 02 | G154: t | H154: 4.2 | J154: =ROUND(I154*H154,2) -> 0 | K154: CS ÚRS 2025 01
E155: 998 | F155: Přesun hmot | J155: =BK155 -> 0 | P155: =SUM(P156:P156) -> 14.297 | R155: =SUM(R156:R156) -> 0 | T155: =SUM(T156:T156) -> 0 | AR155: 1 | AT155: D | AU155: 1 | AY155: ROZPOCET | BK155: =SUM(BK156:BK156) -> 0
C156: 23 | D156: K | E156: 998018003 | F156: Přesun hmot ruční pro budovy v přes 12 do 24 m | G156: t | H156: 2.9 | J156: =ROUND(I156*H156,2) -> 0 | K156: CS ÚRS 2025 01 | N156: základní | O156: 4.93 | P156: =O156*H156 -> 14.297 | Q156: 0 | S156: 0 | AR156: 4 | AT156: K | AU156: 2 | AY156: ROZPOCET | BE156: =IF(N156="základní",J156,0) -> 0 | BF156: =IF(N156="snížená",J156,0) -> 0 | BG156: =IF(N156="zákl. přenesená",J156,0) -> 0 | BH156: =IF(N156="sníž. přenesená",J156,0) -> 0 | BI156: =IF(N156="nulová",J156,0) -> 0 | BJ156: 1 | BK156: =ROUND(I156*H156,2) -> 0 | BL156: 4 | BM156: -928566599
D157: D | E157: PSV | F157: Práce a dodávky PSV | J157: =J158+J171+J176+J186 -> 0 | P157: =#REF!+#REF!+P158+P170+P171+#REF!+P175+P176+P185+#REF!+P186 -> #REF! | R157: =#REF!+#REF!+R158+R170+R171+#REF!+R175+R176+R185+#REF!+R186 -> #REF! | T157: =#REF!+#REF!+T158+T170+T171+#REF!+T175+T176+T185+#REF!+T186 -> #REF! | AR157: 2 | AT157: D | AU157: 0 | AY157: ROZPOCET | BK157: =#REF!+#REF!+BK158+BK170+BK171+#REF!+BK175+BK176+BK185+#REF!+BK186 -> #REF!
D158: D | E158: 741 | F158: Elektroinstalace - silnoproud | J158: =SUM(J159:J170) -> 0 | P158: =SUM(P159:P170) -> 7.901 | R158: =SUM(R159:R170) -> 0 | T158: =SUM(T159:T170) -> 0.003 | AR158: 2 | AT158: D | AU158: 1 | AY158: ROZPOCET | BK158: =SUM(BK159:BK170) -> 0
C159: 24 | D159: K | E159: 741.01 | F159: Demontáž stávající elektroinstalace a příslušenství | G159: NH | H159: 8 | J159: =ROUND(I159*H159,2) -> 0 | K159: CS ÚRS 2025 01 | N159: základní | O159: 0.07 | P159: =O159*H159 -> 0.56 | Q159: 0 | R159: =Q159*H159 -> 0 | S159: 0 | T159: =S159*H159 -> 0 | AR159: 16 | AT159: K | AU159: 2 | AY159: ROZPOCET | BE159: =IF(N159="základní",J159,0) -> 0 | BF159: =IF(N159="snížená",J159,0) -> 0 | BG159: =IF(N159="zákl. přenesená",J159,0) -> 0 | BH159: =IF(N159="sníž. přenesená",J159,0) -> 0 | BI159: =IF(N159="nulová",J159,0) -> 0 | BJ159: 1 | BK159: =ROUND(I159*H159,2) -> 0 | BL159: 16 | BM159: -2126512371
C160: 25 | D160: K | E160: 741370001 | F160: Montáž svítidlo stropní | G160: kus | H160: 17 | J160: =ROUND(I160*H160,2) -> 0 | K160: CS ÚRS 2025 01 | N160: základní | O160: 0.348 | P160: =O160*H160 -> 5.916 | Q160: 0 | R160: =Q160*H160 -> 0 | S160: 0 | T160: =S160*H160 -> 0 | AR160: 16 | AT160: K | AU160: 2 | AY160: ROZPOCET | BE160: =IF(N160="základní",J160,0) -> 0 | BF160: =IF(N160="snížená",J160,0) -> 0 | BG160: =IF(N160="zákl. přenesená",J160,0) -> 0 | BH160: =IF(N160="sníž. přenesená",J160,0) -> 0 | BI160: =IF(N160="nulová",J160,0) -> 0 | BJ160: 1 | BK160: =ROUND(I160*H160,2) -> 0 | BL160: 16 | BM160: 1934953397
C161: 26 | D161: K | E161: 741.02 | F161: Svítidlo – Quadra Backlit 48W 3400 lm 4000 K, bílé, vč.recyklace | G161: kus | H161: 15 | J161: =ROUND(I161*H161,2) -> 0 | K161: CS ÚRS 2025 01 | N161: základní | O161: 0.095 | P161: =O161*H161 -> 1.425 | Q161: 0 | R161: =Q161*H161 -> 0 | S161: 0.0002 | T161: =S161*H161 -> 0.003 | AR161: 16 | AT161: K | AU161: 2 | AY161: ROZPOCET | BE161: =IF(N161="základní",J161,0) -> 0 | BF161: =IF(N161="snížená",J161,0) -> 0 | BG161: =IF(N161="zákl. přenesená",J161,0) -> 0 | BH161: =IF(N161="sníž. přenesená",J161,0) -> 0 | BI161: =IF(N161="nulová",J161,0) -> 0 | BJ161: 1 | BK161: =ROUND(I161*H161,2) -> 0 | BL161: 16 | BM161: 348235839
C162: 27 | D162: K | E162: 741.03 | F162: Svítidlo – Look 29W 3182 lm, MB závěs, polohovatelné, vč.recyklace | G162: kus | H162: 2 | J162: =ROUND(I162*H162,2) -> 0 | K162: CS ÚRS 2025 01
C163: 28 | D163: K | E163: 741.04 | F163: Vypínač 4p, 32A, 12,5kA EATON IS-32/4 | G163: kus | H163: 4 | J163: =ROUND(I163*H163,2) -> 0 | K163: CS ÚRS 2025 01
C164: 29 | D164: K | E164: 741.05 | F164: Rámeček dvojnásobný bílý, vodorovný ABB Tango 3901A-B20B | G164: kus | H164: 4 | J164: =ROUND(I164*H164,2) -> 0 | K164: CS ÚRS 2025 01
C165: 30 | D165: K | E165: 741.06 | F165: Kabelová lišta 15x30 mm , bílá | G165: m | H165: 30 | J165: =ROUND(I165*H165,2) -> 0 | K165: CS ÚRS 2025 01
C166: 31 | D166: K | E166: 741.07 | F166: Zásuvka jedn. s clonkami, bílá, bezšroubová ABB Tango 5519A-A02357B | G166: kus | H166: 8 | J166: =ROUND(I166*H166,2) -> 0 | K166: CS ÚRS 2025 01
...
