Workbook

Sheet Rekapitulace stavby
A1: Export Komplet | BA1: 2.0 | BT1: False | BU1: False | BV1: {7433fc32-c581-4b59-8d0f-cc083151d8b1}
AR2: >> skryté sloupce << | BS2: 0,01 | BT2: 21
BS3: 0,01 | BT3: 12
D4: REKAPITULACE STAVBY | AS4: v --- níže se nacházejí doplnkové a pomocné údaje k sestavám --- v | BE4: Návod na vyplnění | BS4: 0,001
D5: Kód: | K5: 2024-11 | BE5: Měnit lze pouze buňky se žlutým podbarvením!_x000D_ _x000D_ 1) na prvním listu Rekapitulace stavby vyplňte v sestavě_x000D_ _x000D_ a) Souhrnný list_x000D_ - údaje o Uchazeči_x000D_ (přenesou se do ostatních sestav i v jiných listech)_x000D_ _x000D_ b) Rekapitulace objektů_x000D_ - potřebné Ostatní náklady_x000D_ _x000D_ 2) na vybraných listech vyplňte v sestavě_x000D_ _x000D_ a) Krycí list_x000D_ - údaje o Uchazeči, pokud se liší od údajů o Uchazeči na Souhrnném listu_x000D_ (údaje se přenesou do ostatních sestav v daném listu)_x000D_ _x000D_ b) Rekapitulace rozpočtu_x000D_ - potřebné Ostatní náklady_x000D_ _x000D_ c) Celkové náklady za stavbu_x000D_ - ceny u položek_x000D_ - množství, pokud má žluté podbarvení_x000D_ - a v případě potřeby poznámku (ta je ve skrytém sloupci) | BS5: 0,01
D6: Stavba: | K6: MĚSTO RTYNĚ V PODKRKONOŠÍ - REKONSTRUKCE VODOJEMU NÁMĚRKA | BS6: 0,01
D7: KSO: | AK7: CC-CZ: | BS7: 0,01
D8: Místo: | K8: NÁMĚRKA, RTYNĚ V PODKRKONOŠÍ | AK8: Datum: | AN8: 14. 10. 2024 | BS8: 0,01
BS9: 0,01
D10: Zadavatel: | AK10: IČ: | AN10: 00278238 | BS10: 0,01
E11: město Rtyně v Podkrkonoší, Hronovská 431, 542 33 | AK11: DIČ: | AN11: CZ00278238 | BS11: 0,01
BS12: 0,01
D13: Uchazeč: | AK13: IČ: | AN13: Vyplň údaj | BS13: 0,01
E14: Vyplň údaj | AK14: DIČ: | AN14: Vyplň údaj | BS14: 0,01
BS15: False
D16: Projektant: | AK16: IČ: | AN16: 14561859 | BS16: False
E17: Ing. Novotný, Vodohospod. kancelář Trutnov | AK17: DIČ: | AN17: CZ5906260701 | BS17: True
BS18: 0,01
D19: Zpracovatel: | AK19: IČ: | BS19: 0,01
E20: Lenka Benešová | AK20: DIČ: | BS20: True
D22: Poznámka:
D26: Cena bez DPH | AK26: =ROUND(AG94,2) -> 0
L28: Sazba daně | W28: Základ daně | AK28: Výše daně
D29: DPH | F29: základní | L29: 0.21 | W29: =ROUND(AZ94, 2) -> 0 | AK29: =ROUND(AV94, 2) -> 0
F30: snížená | L30: 0.12 | W30: =ROUND(BA94, 2) -> 0 | AK30: =ROUND(AW94, 2) -> 0
F31: zákl. přenesená | L31: 0.21 | W31: =ROUND(BB94, 2) -> 0 | AK31: 0
F32: sníž. přenesená | L32: 0.12 | W32: =ROUND(BC94, 2) -> 0 | AK32: 0
F33: nulová | L33: 0 | W33: =ROUND(BD94, 2) -> 0 | AK33: 0
D35: Cena s DPH | T35: v | X35: CZK | AK35: =SUM(AK26:AK33) -> 0
D49: Projektant | AH49: Zpracovatel
D60: Datum a podpis: | V60: Razítko | AH60: Datum a podpis: | AM60: Razítko
D64: Objednavatel | AH64: Uchazeč
D75: Datum a podpis: | V75: Razítko | AH75: Datum a podpis: | AM75: Razítko
C82: REKAPITULACE OBJEKTŮ STAVBY A SOUPISŮ PRACÍ
C84: Kód: | L84: =K5 -> 2024-11
C85: Stavba: | L85: =K6 -> MĚSTO RTYNĚ V PODKRKONOŠÍ - REKONSTRUKCE VODOJEMU NÁMĚRKA
C87: Místo: | L87: =IF(K8="","",K8) -> NÁMĚRKA, RTYNĚ V PODKRKONOŠÍ | AI87: Datum: | AM87: =IF(AN8= "","",AN8) -> 14. 10. 2024
C89: Zadavatel: | L89: =IF(E11= "","",E11) -> město Rtyně v Podkrkonoší, Hronovská 431, 542 33 | AI89: Projektant: | AM89: =IF(E17="","",E17) -> Ing. Novotný, Vodohospod. kancelář Trutnov | AS89: Informatívní údaje z listů zakázek
C90: Uchazeč: | L90: =IF(E14= "Vyplň údaj","",E14) | AI90: Zpracovatel: | AM90: =IF(E20="","",E20) -> Lenka Benešová
C92: Kód | I92: Popis | AG92: Cena bez DPH [CZK] | AN92: Cena s DPH [CZK] | AQ92: Typ | AS92: z toho Ostat._x000D_ náklady [CZK] | AT92: DPH [CZK] | AU92: Normohodiny [h] | AV92: DPH základní [CZK] | AW92: DPH snížená [CZK] | AX92: DPH základní přenesená_x000D_ [CZK] | AY92: DPH snížená přenesená_x000D_ [CZK] | AZ92: Základna_x000D_ DPH základní | BA92: Základna_x000D_ DPH snížená | BB92: Základna_x000D_ DPH zákl. přenesená | BC92: Základna_x000D_ DPH sníž. přenesená | BD92: Základna_x000D_ DPH nulová
C94: Náklady z rozpočtů | AG94: =ROUND(AG95,2) -> 0 | AN94: =SUM(AG94,AT94) -> 0 | AS94: =ROUND(AS95,2) -> 0 | AT94: =ROUND(SUM(AV94:AW94),2) -> 0 | AU94: =ROUND(AU95,5) -> 0 | AV94: =ROUND(AZ94*L29,2) -> 0 | AW94: =ROUND(BA94*L30,2) -> 0 | AX94: =ROUND(BB94*L29,2) -> 0 | AY94: =ROUND(BC94*L30,2) -> 0 | AZ94: =ROUND(AZ95,2) -> 0 | BA94: =ROUND(BA95,2) -> 0 | BB94: =ROUND(BB95,2) -> 0 | BC94: =ROUND(BC95,2) -> 0 | BD94: =ROUND(BD95,2) -> 0 | BS94: D | BT94: 0 | BU94: ###NOIMPORT### | BV94: IMPORT | BW94: {7433fc32-c581-4b59-8d0f-cc083151d8b1} | BX94: {00000000-0000-0000-0000-000000000000}
A95: / | D95: 1 | J95: REKONSTRUKCE VODOJEMU NÁMĚRKA | AG95: ='1 - REKONSTRUKCE VODOJEMU...'!J30 -> 0 | AN95: =SUM(AG95,AT95) -> 0 | AQ95: STA | AS95: 0 | AT95: =ROUND(SUM(AV95:AW95),2) -> 0 | AU95: ='1 - REKONSTRUKCE VODOJEMU...'!P147 -> 0 | AV95: ='1 - REKONSTRUKCE VODOJEMU...'!J33 -> 0 | AW95: ='1 - REKONSTRUKCE VODOJEMU...'!J34 -> 0 | AX95: ='1 - REKONSTRUKCE VODOJEMU...'!J35 -> 0 | AY95: ='1 - REKONSTRUKCE VODOJEMU...'!J36 -> 0 | AZ95: ='1 - REKONSTRUKCE VODOJEMU...'!F33 -> 0 | BA95: ='1 - REKONSTRUKCE VODOJEMU...'!F34 -> 0 | BB95: ='1 - REKONSTRUKCE VODOJEMU...'!F35 -> 0 | BC95: ='1 - REKONSTRUKCE VODOJEMU...'!F36 -> 0 | BD95: ='1 - REKONSTRUKCE VODOJEMU...'!F37 -> 0 | BT95: 1 | BV95: IMPORT | BW95: {01b730c2-a24a-4d5e-8f33-546153c0c1c1} | BX95: {7433fc32-c581-4b59-8d0f-cc083151d8b1} | CM95: 2

Sheet 1 - REKONSTRUKCE VODOJEMU...
L2: >> skryté sloupce << | AT2: {01b730c2-a24a-4d5e-8f33-546153c0c1c1}
AT3: 2
D4: KRYCÍ LIST SOUPISU PRACÍ | M4: v --- níže se nacházejí doplnkové a pomocné údaje k sestavám --- v | AT4: False
D6: Stavba:
E7: ='Rekapitulace stavby'!K6 -> MĚSTO RTYNĚ V PODKRKONOŠÍ - REKONSTRUKCE VODOJEMU NÁMĚRKA
D8: Objekt:
E9: 1 - REKONSTRUKCE VODOJEMU NÁMĚRKA
D11: KSO: | I11: CC-CZ:
D12: Místo: | F12: NÁMĚRKA, RTYNĚ V PODKRKONOŠÍ | I12: Datum: | J12: ='Rekapitulace stavby'!AN8 -> 14. 10. 2024
D14: Zadavatel: | I14: IČ: | J14: 00278238
E15: město Rtyně v Podkrkonoší, Hronovská 431, 542 33 | I15: DIČ: | J15: CZ00278238
D17: Uchazeč: | I17: IČ: | J17: ='Rekapitulace stavby'!AN13 -> Vyplň údaj
E18: ='Rekapitulace stavby'!E14 -> Vyplň údaj | I18: DIČ: | J18: ='Rekapitulace stavby'!AN14 -> Vyplň údaj
D20: Projektant: | I20: IČ: | J20: 14561859
E21: Ing. Novotný, Vodohospod. kancelář, Trutnov | I21: DIČ: | J21: CZ5906260701
D23: Zpracovatel: | I23: IČ:
E24: Lenka Benešová | I24: DIČ:
D26: Poznámka:
D30: Cena bez DPH | J30: =ROUND(J147, 2) -> 0
F32: Základ daně | I32: Sazba daně | J32: Výše daně
D33: DPH | E33: základní | F33: =ROUND((SUM(BE147:BE1077)), 2) -> 0 | I33: 0.21 | J33: =ROUND(((SUM(BE147:BE1077))*I33), 2) -> 0
E34: snížená | F34: =ROUND((SUM(BF147:BF1077)), 2) -> 0 | I34: 0.12 | J34: =ROUND(((SUM(BF147:BF1077))*I34), 2) -> 0
E35: zákl. přenesená | F35: =ROUND((SUM(BG147:BG1077)), 2) -> 0 | I35: 0.21 | J35: =0 -> 0
E36: sníž. přenesená | F36: =ROUND((SUM(BH147:BH1077)), 2) -> 0 | I36: 0.12 | J36: =0 -> 0
E37: nulová | F37: =ROUND((SUM(BI147:BI1077)), 2) -> 0 | I37: 0 | J37: =0 -> 0
D39: Cena s DPH | G39: v | H39: CZK | J39: =SUM(J30:J37) -> 0
D50: Projektant | G50: Zpracovatel
D61: Datum a podpis: | F61: Razítko | G61: Datum a podpis: | J61: Razítko
D65: Objednavatel | G65: Uchazeč
D76: Datum a podpis: | F76: Razítko | G76: Datum a podpis: | J76: Razítko
C82: REKAPITULACE ČLENĚNÍ SOUPISU PRACÍ
C84: Stavba:
E85: =E7 -> MĚSTO RTYNĚ V PODKRKONOŠÍ - REKONSTRUKCE VODOJEMU NÁMĚRKA
C86: Objekt:
E87: =E9 -> 1 - REKONSTRUKCE VODOJEMU NÁMĚRKA
C89: Místo: | F89: =F12 -> NÁMĚRKA, RTYNĚ V PODKRKONOŠÍ | I89: Datum: | J89: =IF(J12="","",J12) -> 14. 10. 2024
C91: Zadavatel: | F91: =E15 -> město Rtyně v Podkrkonoší, Hronovská 431, 542 33 | I91: Projektant: | J91: =E21 -> Ing. Novotný, Vodohospod. kancelář, Trutnov
C92: Uchazeč: | F92: =IF(E18="","",E18) -> Vyplň údaj | I92: Zpracovatel: | J92: =E24 -> Lenka Benešová
C94: Kód dílu - Popis | J94: Cena celkem [CZK]
C96: Náklady ze soupisu prací | J96: =J147 -> 0 | AU96: -1
D97: HSV - Práce a dodávky HSV | J97: =J148 -> 0
D98: 1 - Zemní práce | J98: =J149 -> 0
D99: 2 - Zakládání | J99: =J291 -> 0
D100: 3 - Svislé a kompletní konstrukce | J100: =J309 -> 0
D101: 4 - Vodorovné konstrukce | J101: =J343 -> 0
D102: 5 - Komunikace pozemní | J102: =J354 -> 0
D103: 6 - Úpravy povrchů, podlahy a osazování výplní | J103: =J362 -> 0
D104: 8 - Trubní vedení | J104: =J436 -> 0
D105: 9 - Ostatní konstrukce a práce, bourání | J105: =J511 -> 0
D106: 997 - Přesun sutě | J106: =J833 -> 0
D107: 998 - Přesun hmot | J107: =J843 -> 0
D108: PSV - Práce a dodávky PSV | J108: =J845 -> 0
D109: 711 - Izolace proti vodě, vlhkosti a plynům | J109: =J846 -> 0
D110: 713 - Izolace tepelné | J110: =J902 -> 0
D111: 722 - Zdravotechnika - vnitřní vodovod | J111: =J909 -> 0
D112: 764 - Konstrukce klempířské | J112: =J940 -> 0
D113: 767 - Konstrukce zámečnické | J113: =J943 -> 0
D114: 771 - Podlahy z dlaždic | J114: =J961 -> 0
D115: 781 - Dokončovací práce - obklady | J115: =J992 -> 0
D116: 782 - Dokončovací práce - obklady z kamene | J116: =J1017 -> 0
D117: 783 - Dokončovací práce - nátěry | J117: =J1029 -> 0
D118: 784 - Dokončovací práce - malby a tapety | J118: =J1031 -> 0
D119: M - Práce a dodávky M | J119: =J1040 -> 0
D120: 21-M - Elektromontáže | J120: =J1041 -> 0
D121: HZS - Hodinové zúčtovací sazby | J121: =J1050 -> 0
D122: VRN - Vedlejší rozpočtové náklady | J122: =J1057 -> 0
D123: VRN1 - Průzkumné, geodetické a projektové práce | J123: =J1058 -> 0
D124: VRN3 - Zařízení staveniště | J124: =J1065 -> 0
D125: VRN4 - Inženýrská činnost | J125: =J1068 -> 0
D126: VRN7 - Provozní vlivy | J126: =J1074 -> 0
D127: VRN8 - Přesun stavebních kapacit | J127: =J1076 -> 0
C134: SOUPIS PRACÍ
C136: Stavba:
E137: =E7 -> MĚSTO RTYNĚ V PODKRKONOŠÍ - REKONSTRUKCE VODOJEMU NÁMĚRKA
C138: Objekt:
E139: =E9 -> 1 - REKONSTRUKCE VODOJEMU NÁMĚRKA
C141: Místo: | F141: =F12 -> NÁMĚRKA, RTYNĚ V PODKRKONOŠÍ | I141: Datum: | J141: =IF(J12="","",J12) -> 14. 10. 2024
C143: Zadavatel: | F143: =E15 -> město Rtyně v Podkrkonoší, Hronovská 431, 542 33 | I143: Projektant: | J143: =E21 -> Ing. Novotný, Vodohospod. kancelář, Trutnov
C144: Uchazeč: | F144: =IF(E18="","",E18) -> Vyplň údaj | I144: Zpracovatel: | J144: =E24 -> Lenka Benešová
C146: PČ | D146: Typ | E146: Kód | F146: Popis | G146: MJ | H146: Množství | I146: J.cena [CZK] | J146: Cena celkem [CZK] | K146: Cenová soustava | N146: DPH | O146: J. Nh [h] | P146: Nh celkem [h] | Q146: J. hmotnost [t] | R146: Hmotnost celkem [t] | S146: J. suť [t] | T146: Suť Celkem [t]
C147: Náklady soupisu celkem | J147: =BK147 -> 0 | P147: =P148+P845+P1040+P1050+P1057 -> 0 | R147: =R148+R845+R1040+R1050+R1057 -> 29.343309 | T147: =T148+T845+T1040+T1050+T1057 -> 9.4446304 | AT147: D | AU147: -1 | BK147: =BK148+BK845+BK1040+BK1050+BK1057 -> 0
D148: D | E148: HSV | F148: Práce a dodávky HSV | J148: =BK148 -> 0 | P148: =P149+P291+P309+P343+P354+P362+P436+P511+P833+P843 -> 0 | R148: =R149+R291+R309+R343+R354+R362+R436+R511+R833+R843 -> 26.421185 | T148: =T149+T291+T309+T343+T354+T362+T436+T511+T833+T843 -> 8.9861834 | AR148: 1 | AT148: D | AU148: 0 | AY148: ROZPOCET | BK148: =BK149+BK291+BK309+BK343+BK354+BK362+BK436+BK511+BK833+BK843 -> 0
D149: D | E149: 1 | F149: Zemní práce | J149: =BK149 -> 0 | P149: =SUM(P150:P290) -> 0 | R149: =SUM(R150:R290) -> 0.00135 | T149: =SUM(T150:T290) -> 0 | AR149: 1 | AT149: D | AU149: 1 | AY149: ROZPOCET | BK149: =SUM(BK150:BK290) -> 0
C150: 1 | D150: K | E150: 112211111 | F150: Spálení pařezu D do 0,3 m | G150: kus | H150: 5 | J150: =ROUND(I150*H150,2) -> 0 | K150: CS ÚRS 2024 02 | N150: základní | P150: =O150*H150 -> 0 | Q150: 9e-05 | R150: =Q150*H150 -> 0.00045 | S150: 0 | T150: =S150*H150 -> 0 | AR150: 4 | AT150: K | AU150: 2 | AY150: ROZPOCET | BE150: =IF(N150="základní",J150,0) -> 0 | BF150: =IF(N150="snížená",J150,0) -> 0 | BG150: =IF(N150="zákl. přenesená",J150,0) -> 0 | BH150: =IF(N150="sníž. přenesená",J150,0) -> 0 | BI150: =IF(N150="nulová",J150,0) -> 0 | BJ150: 1 | BK150: =ROUND(I150*H150,2) -> 0 | BL150: 4 | BM150: -1914620767
D151: VV | F151: " počet pařezů odhad " | AT151: VV | AU151: 2 | AV151: 1 | AW151: True | AX151: 0 | AY151: ROZPOCET
D152: VV | F152: 5 | H152: 5 | AT152: VV | AU152: 2 | AV152: 2 | AW152: True | AX152: 0 | AY152: ROZPOCET
D153: VV | F153: Součet | H153: 5 | AT153: VV | AU153: 2 | AV153: 4 | AW153: True | AX153: 1 | AY153: ROZPOCET
C154: 2 | D154: K | E154: 112211112 | F154: Spálení pařezu D do 0,5 m | G154: kus | H154: 5 | J154: =ROUND(I154*H154,2) -> 0 | K154: CS ÚRS 2024 02 | N154: základní | P154: =O154*H154 -> 0 | Q154: 0.00018 | R154: =Q154*H154 -> 0.0009 | S154: 0 | T154: =S154*H154 -> 0 | AR154: 4 | AT154: K | AU154: 2 | AY154: ROZPOCET | BE154: =IF(N154="základní",J154,0) -> 0 | BF154: =IF(N154="snížená",J154,0) -> 0 | BG154: =IF(N154="zákl. přenesená",J154,0) -> 0 | BH154: =IF(N154="sníž. přenesená",J154,0) -> 0 | BI154: =IF(N154="nulová",J154,0) -> 0 | BJ154: 1 | BK154: =ROUND(I154*H154,2) -> 0 | BL154: 4 | BM154: 1973032392
D155: VV | F155: " kusy odhad " | AT155: VV | AU155: 2 | AV155: 1 | AW155: True | AX155: 0 | AY155: ROZPOCET
D156: VV | F156: 5 | H156: 5 | AT156: VV | AU156: 2 | AV156: 2 | AW156: True | AX156: 0 | AY156: ROZPOCET
D157: VV | F157: Součet | H157: 5 | AT157: VV | AU157: 2 | AV157: 4 | AW157: True | AX157: 1 | AY157: ROZPOCET
C158: 3 | D158: K | E158: 112251101 | F158: Odstranění pařezů průměru přes 100 do 300 mm | G158: kus | H158: 5 | J158: =ROUND(I158*H158,2) -> 0 | K158: CS ÚRS 2024 02 | N158: základní | P158: =O158*H158 -> 0 | Q158: 0 | R158: =Q158*H158 -> 0 | S158: 0 | T158: =S158*H158 -> 0 | AR158: 4 | AT158: K | AU158: 2 | AY158: ROZPOCET | BE158: =IF(N158="základní",J158,0) -> 0 | BF158: =IF(N158="snížená",J158,0) -> 0 | BG158: =IF(N158="zákl. přenesená",J158,0) -> 0 | BH158: =IF(N158="sníž. přenesená",J158,0) -> 0 | BI158: =IF(N158="nulová",J158,0) -> 0 | BJ158: 1 | BK158: =ROUND(I158*H158,2) -> 0 | BL158: 4 | BM158: -2045988668
C159: 4 | D159: K | E159: 112251102 | F159: Odstranění pařezů průměru přes 300 do 500 mm | G159: kus | H159: 5 | J159: =ROUND(I159*H159,2) -> 0 | K159: CS ÚRS 2024 02 | N159: základní | P159: =O159*H159 -> 0 | Q159: 0 | R159: =Q159*H159 -> 0 | S159: 0 | T159: =S159*H159 -> 0 | AR159: 4 | AT159: K | AU159: 2 | AY159: ROZPOCET | BE159: =IF(N159="základní",J159,0) -> 0 | BF159: =IF(N159="snížená",J159,0) -> 0 | BG159: =IF(N159="zákl. přenesená",J159,0) -> 0 | BH159: =IF(N159="sníž. přenesená",J159,0) -> 0 | BI159: =IF(N159="nulová",J159,0) -> 0 | BJ159: 1 | BK159: =ROUND(I159*H159,2) -> 0 | BL159: 4 | BM159: 5176971
C160: 5 | D160: K | E160: 115101201 | F160: Čerpání vody na dopravní výšku do 10 m průměrný přítok do 500 l/min | G160: hod | H160: 40 | J160: =ROUND(I160*H160,2) -> 0 | N160: základní | P160: =O160*H160 -> 0 | Q160: 0 | R160: =Q160*H160 -> 0 | S160: 0 | T160: =S160*H160 -> 0 | AR160: 4 | AT160: K | AU160: 2 | AY160: ROZPOCET | BE160: =IF(N160="základní",J160,0) -> 0 | BF160: =IF(N160="snížená",J160,0) -> 0 | BG160: =IF(N160="zákl. přenesená",J160,0) -> 0 | BH160: =IF(N160="sníž. přenesená",J160,0) -> 0 | BI160: =IF(N160="nulová",J160,0) -> 0 | BJ160: 1 | BK160: =ROUND(I160*H160,2) -> 0 | BL160: 4 | BM160: 2
D161: VV | F161: " V případě nutnosti " | AT161: VV | AU161: 2 | AV161: 1 | AW161: True | AX161: 0 | AY161: ROZPOCET
D162: VV | F162: " Odhad " | AT162: VV | AU162: 2 | AV162: 1 | AW162: True | AX162: 0 | AY162: ROZPOCET
D163: VV | F163: " 5 dní 8 hodin " | AT163: VV | AU163: 2 | AV163: 1 | AW163: True | AX163: 0 | AY163: ROZPOCET
D164: VV | F164: 5*8 | H164: 40 | AT164: VV | AU164: 2 | AV164: 2 | AW164: True | AX164: 0 | AY164: ROZPOCET
D165: VV | F165: Součet | H165: 40 | AT165: VV | AU165: 2 | AV165: 4 | AW165: True | AX165: 1 | AY165: ROZPOCET
C166: 6 | D166: K | E166: 115101301 | F166: Pohotovost čerpací soupravy pro dopravní výšku do 10 m přítok do 500 l/min | G166: den | H166: 5 | J166: =ROUND(I166*H166,2) -> 0 | N166: základní | P166: =O166*H166 -> 0 | Q166: 0 | R166: =Q166*H166 -> 0 | S166: 0 | T166: =S166*H166 -> 0 | AR166: 4 | AT166: K | AU166: 2 | AY166: ROZPOCET | BE166: =IF(N166="základní",J166,0) -> 0 | BF166: =IF(N166="snížená",J166,0) -> 0 | BG166: =IF(N166="zákl. přenesená",J166,0) -> 0 | BH166: =IF(N166="sníž. přenesená",J166,0) -> 0 | BI166: =IF(N166="nulová",J166,0) -> 0 | BJ166: 1 | BK166: =ROUND(I166*H166,2) -> 0 | BL166: 4 | BM166: 4
...
