Workbook
Name CelkemDPHVypocet: Stavba!$H$43
Name CenaCelkem: Stavba!$G$29
Name CenaCelkemBezDPH: Stavba!$G$28
Name CenaCelkemVypocet: Stavba!$I$43
Name cisloobjektu: Stavba!$D$3
Name CisloRozpoctu: '[1]Krycí list'!$C$2
Name CisloStavby: Stavba!$D$2
Name cislostavby: '[1]Krycí list'!$A$7
Name CisloStavebnihoRozpoctu: Stavba!$D$4
Name dadresa: Stavba!$D$12:$G$12
Name DIČ: Stavba!$I$12
Name dmisto: Stavba!$E$13:$G$13
Name DPHSni: Stavba!$G$24
Name DPHZakl: Stavba!$G$26
Name dpsc: Stavba!$D$13
Name IČO: Stavba!$I$11
Name Mena: Stavba!$J$29
Name MistoStavby: Stavba!$D$4
Name nazevobjektu: Stavba!$E$3
Name NazevRozpoctu: '[1]Krycí list'!$D$2
Name NazevStavby: Stavba!$E$2
Name nazevstavby: '[1]Krycí list'!$C$7
Name NazevStavebnihoRozpoctu: Stavba!$E$4
Name oadresa: Stavba!$D$6
Name Objednatel: Stavba!$D$5
Name Objekt: Stavba!$B$38
Name odic: Stavba!$I$6
Name oico: Stavba!$I$5
Name omisto: Stavba!$E$7
Name onazev: Stavba!$D$6
Name opsc: Stavba!$D$7
Name padresa: Stavba!$D$9
Name pdic: Stavba!$I$9
Name pico: Stavba!$I$8
Name pmisto: Stavba!$E$10
Name PocetMJ: #REF!
Name PoptavkaID: Stavba!$A$1
Name pPSC: Stavba!$D$10
Name Projektant: Stavba!$D$8
Name SazbaDPH1: Stavba!$E$23
Name SazbaDPH1: '[1]Krycí list'!$C$30
Name SazbaDPH2: Stavba!$E$25
Name SazbaDPH2: '[1]Krycí list'!$C$32
Name SloupecCC: #REF!
Name SloupecCisloPol: #REF!
Name SloupecJC: #REF!
Name SloupecMJ: #REF!
Name SloupecMnozstvi: #REF!
Name SloupecNazPol: #REF!
Name SloupecPC: #REF!
Name Vypracoval: Stavba!$D$14
Name ZakladDPHSni: Stavba!$G$23
Name ZakladDPHSniVypocet: Stavba!$F$43
Name ZakladDPHZakl: Stavba!$G$25
Name ZakladDPHZaklVypocet: Stavba!$G$43
Name ZaObjednatele: Stavba!$G$34
Name Zaokrouhleni: Stavba!$G$27
Name ZaZhotovitele: Stavba!$D$34
Name Zhotovitel: Stavba!$D$11:$G$11

Sheet Pokyny pro vyplnění
A1: Pokyny pro vyplnění
A2: Ve všech listech tohoto souboru můžete měnit pouze buňky s modrým pozadím. Jedná se o tyto údaje : - údaje o firmě - jednotkové ceny položek zadané na maximálně dvě desetinná místa

Sheet Stavba
A1: #RTSROZP# | B1: Soupis stavebních prací, dodávek a služeb
B2: Stavba: | D2: 008 | E2: Choceň - Revitalizace Doskočilovy vyhlídky
B3: Objekt: | D3: SO-01 | E3: Doskočilova vyhlídka
A4: 283 | B4: Rozpočet: | D4: SO-01a | E4: Stavba (2024)
B5: Zadavatel | H5: IČO:
H6: DIČ:
B8: Projektant: | H8: IČO:
H9: DIČ:
B11: Zhotovitel: | H11: IČO:
H12: DIČ:
B14: Vypracoval:
B15: Rozpis ceny | I15: Celkem
A16: HSV | B16: HSV | I16: =SUMIF(F53:F61,A16,I53:I61)+SUMIF(F53:F61,"PSU",I53:I61) -> 0
A17: PSV | B17: PSV | I17: =SUMIF(F53:F61,A17,I53:I61) -> 0
A18: MON | B18: MON | I18: =SUMIF(F53:F61,A18,I53:I61) -> 0
A19: VN | B19: Vedlejší náklady | I19: =SUMIF(F53:F61,A19,I53:I61) -> 0
A20: ON | B20: Ostatní náklady | I20: =SUMIF(F53:F61,A20,I53:I61) -> 0
B21: Celkem | I21: =SUM(I16:J20) -> 0
B22: Rekapitulace daní
B23: Základ pro sníženou DPH | E23: 15 | F23: % | G23: =ZakladDPHSniVypocet -> 0 | J23: =Mena -> CZK
B24: Snížená DPH | E24: =SazbaDPH1 -> 15 | F24: % | G24: =I23*E23/100 -> 0 | J24: =Mena -> CZK
B25: Základ pro základní DPH | E25: 21 | F25: % | G25: =ZakladDPHZaklVypocet -> 0 | J25: =Mena -> CZK
B26: Základní DPH | E26: =SazbaDPH2 -> 21 | F26: % | G26: =I25*E25/100 -> 0 | J26: =Mena -> CZK
A27: =ZakladDPHSni+ZakladDPHZakl -> 0 | B27: Zaokrouhlení | G27: =CenaCelkemBezDPH-(ZakladDPHSni+ZakladDPHZakl) -> 0 | J27: =Mena -> CZK
A28: =(A27-INT(A27))*100 -> 0 | B28: Cena celkem bez DPH | G28: =A27 -> 0 | J28: =Mena -> CZK
B29: Cena celkem s DPH | G29: =ZakladDPHSni+DPHSni+ZakladDPHZakl+DPHZakl+Zaokrouhleni -> 0 | J29: CZK
C32: v | F32: dne
D35: Za zhotovitele | H35: Za objednatele
B37: Rekapitulace dílčích částí
A38: #CASTI>> | B38: Číslo | C38: Název | F38: =B23 -> Základ pro sníženou DPH | G38: =B25 -> Základ pro základní DPH | H38: DPH celkem | I38: Cena celkem | J38: %
A39: 1 | B39: Stavba | F39: ='SO-01 SO-01a Pol'!AE130 -> 0 | G39: ='SO-01 SO-01a Pol'!AF130 -> 0 | I39: =F39+G39+H39 -> 0 | J39: =IF(CenaCelkemVypocet=0,"",I39/CenaCelkemVypocet*100)
A40: 2 | C40: Stavební objekt
A41: 2 | B41: SO-01 | C41: Doskočilova vyhlídka | F41: ='SO-01 SO-01a Pol'!AE130 -> 0 | G41: ='SO-01 SO-01a Pol'!AF130 -> 0 | I41: =F41+G41+H41 -> 0 | J41: =IF(CenaCelkemVypocet=0,"",I41/CenaCelkemVypocet*100)
A42: 3 | B42: SO-01a | C42: Stavba (2024) | F42: ='SO-01 SO-01a Pol'!AE130 -> 0 | G42: ='SO-01 SO-01a Pol'!AF130 -> 0 | I42: =F42+G42+H42 -> 0 | J42: =IF(CenaCelkemVypocet=0,"",I42/CenaCelkemVypocet*100)
B43: Celkem za stavbu | F43: =SUMIF(A39:A42,"=1",F39:F42) -> 0 | G43: =SUMIF(A39:A42,"=1",G39:G42) -> 0 | H43: =SUMIF(A39:A42,"=1",H39:H42) -> 0 | I43: =SUMIF(A39:A42,"=1",I39:I42) -> 0 | J43: =SUMIF(A39:A42,"=1",J39:J42) -> 0
A45: #POPS | B45: Popis stavby: 008 - Choceň - Revitalizace Doskočilovy vyhlídky
A46: #POPO | B46: Popis objektu: SO-01 - Doskočilova vyhlídka
A47: #POPR | B47: Popis rozpočtu: SO-01a - Stavba (2024)
B50: Rekapitulace dílů
B52: Číslo | C52: Název | F52: Typ dílu | I52: Celkem | J52: %
...

Sheet VzorPolozky
A1: Položkový rozpočet
A2: S:
A3: O:
A4: R:

Sheet SO-01 SO-01a Pol
A1: Položkový soupis prací a dodávek | AG1: #TypZaznamu#
A2: S: | B2: 008 | C2: Choceň - Revitalizace Doskočilovy vyhlídky | AG2: STA
A3: O: | B3: SO-01 | C3: Doskočilova vyhlídka | AC3: STA | AG3: OBJ
A4: R: | B4: SO-01a | C4: Stavba (2024) | AG4: ROZ
A6: P.č. | B6: Číslo položky | C6: Název položky | D6: MJ | E6: Množství | F6: Cena / MJ | G6: Celkem | H6: Dodávka | I6: Dodávka celk. | J6: Montáž | K6: Montáž celk. | L6: DPH | M6: Cena s DPH | N6: Hmotnost / MJ | O6: Hmotnost celk.(t) | P6: Dem. hmotnost / MJ | Q6: Dem. hmotnost celk.(t) | R6: Ceník | S6: Cen. soustava / platnost | T6: Cenová úroveň | U6: Nhod / MJ | V6: Nhod celk. | W6: Dodavatel | X6: Typ položky | Y6: Stav položky
A8: Díl: | B8: 1 | C8: Zemní práce | G8: =SUMIF(AG9:AG28,"<>NOR",G9:G28) -> 0 | I8: =SUM(I9:I28) -> 0 | K8: =SUM(K9:K28) -> 0 | M8: =SUM(M9:M28) -> 0 | O8: =SUM(O9:O28) -> 0.13 | Q8: =SUM(Q9:Q28) -> 0 | V8: =SUM(V9:V28) -> 48.72 | AG8: DIL
A9: 1 | B9: 122601101R00 | C9: Odkopávky a prokopávky nezapažené v hornině 7 do 100 m3 | D9: m3 | E9: 6.97 | G9: =ROUND(E9*F9,2) -> 0 | I9: =ROUND(E9*H9,2) -> 0 | K9: =ROUND(E9*J9,2) -> 0 | L9: 21 | M9: =G9*(1+L9/100) -> 0 | N9: 0.01753 | O9: =ROUND(E9*N9,2) -> 0.12 | P9: 0 | Q9: =ROUND(E9*P9,2) -> 0 | R9: 800-1 | S9: RTS 24/ I | T9: RTS 24/ I | U9: 0.767 | V9: =ROUND(E9*U9,2) -> 5.35 | X9: Práce | Y9: Běžná | AG9: POL1_
C10: s přehozením výkopku na vzdálenost do 3 m nebo s naložením na dopravní prostředek, | AG10: SPI
C11: 69,7*0,10 | E11: 6.97 | AG11: VV | AH11: 0
A12: 2 | B12: 133601101R00 | C12: Hloubení šachet v hornině 7 pro jakýkoliv objem výkopu | D12: m3 | E12: 0.688 | G12: =ROUND(E12*F12,2) -> 0 | I12: =ROUND(E12*H12,2) -> 0 | K12: =ROUND(E12*J12,2) -> 0 | L12: 21 | M12: =G12*(1+L12/100) -> 0 | N12: 0.01749 | O12: =ROUND(E12*N12,2) -> 0.01 | P12: 0 | Q12: =ROUND(E12*P12,2) -> 0 | R12: 800-1 | S12: RTS 24/ I | T12: RTS 24/ I | U12: 3.26 | V12: =ROUND(E12*U12,2) -> 2.24 | X12: Práce | Y12: Běžná | AG12: POL1_
C13: zapažených i nezapažených se svislým přemístění výkopku a urovnáním dna do předepsaného profilu a spádu, s případným nutným přemístěním výkopku ve výkopišti, s přehozením výkopku na přilehlém terénu na vzdálenost do 5 m od hrany šachty nebo s naložením na dopravní prostředek, | AG13: SPI | BA13: =C13 -> zapažených i nezapažených se svislým přemístění výkopku a urovnáním dna do předepsaného profilu a spádu, s případným nutným přemístěním výkopku ve výkopišti, s přehozením výkopku na přilehlém terénu na vzdálenost do 5 m od hrany šachty nebo s naložením na dopravní prostředek,
C14: 0,30*0,30*0,80*4 | E14: 0.288 | AG14: VV | AH14: 0
C15: 0,5*0,50*0,80*2 | E15: 0.4 | AG15: VV | AH15: 0
A16: 3 | B16: 162601152R00 | C16: Vodorovné přemístění výkopku z horniny 5 až 7, na vzdálenost přes 4 000 do 5 000 m | D16: m3 | E16: 7.658 | G16: =ROUND(E16*F16,2) -> 0 | I16: =ROUND(E16*H16,2) -> 0 | K16: =ROUND(E16*J16,2) -> 0 | L16: 21 | M16: =G16*(1+L16/100) -> 0 | N16: 0 | O16: =ROUND(E16*N16,2) -> 0 | P16: 0 | Q16: =ROUND(E16*P16,2) -> 0 | R16: 800-1 | S16: RTS 24/ I | T16: RTS 24/ I | U16: 0.01 | V16: =ROUND(E16*U16,2) -> 0.08 | X16: Práce | Y16: Běžná | AG16: POL1_
C17: po suchu, bez naložení výkopku, avšak se složením bez rozhrnutí, zpáteční cesta vozidla. | AG17: SPI
C18: Odkaz na mn. položky pořadí 1 : 6,97000 | E18: 6.97 | AG18: VV | AH18: 5
C19: Odkaz na mn. položky pořadí 2 : 0,68800 | E19: 0.688 | AG19: VV | AH19: 5
A20: 4 | B20: 162201253R00 | C20: Vodorovné přemístění výkopku nošením z horniny 5 až 7, kolečkem, na vzdálenost do 10 m | D20: m3 | E20: 6.97 | G20: =ROUND(E20*F20,2) -> 0 | I20: =ROUND(E20*H20,2) -> 0 | K20: =ROUND(E20*J20,2) -> 0 | L20: 21 | M20: =G20*(1+L20/100) -> 0 | N20: 0 | O20: =ROUND(E20*N20,2) -> 0 | P20: 0 | Q20: =ROUND(E20*P20,2) -> 0 | R20: 800-1 | S20: RTS 24/ I | T20: RTS 24/ I | U20: 0.91 | V20: =ROUND(E20*U20,2) -> 6.34 | X20: Práce | Y20: Běžná | AG20: POL1_
C21: bez naložení, avšak s vyprázdněním nádoby na hromadu nebo do dopravního prostředku, | AG21: SPI
C22: Odkaz na mn. položky pořadí 1 : 6,97000 | E22: 6.97 | AG22: VV | AH22: 5
A23: 5 | B23: 162201260R00-1 | C23: Příplatek za dalších 10 m,kolečko výkop. z hor.5-7 | D23: m3 | E23: 41.82 | G23: =ROUND(E23*F23,2) -> 0 | I23: =ROUND(E23*H23,2) -> 0 | K23: =ROUND(E23*J23,2) -> 0 | L23: 21 | M23: =G23*(1+L23/100) -> 0 | N23: 0 | O23: =ROUND(E23*N23,2) -> 0 | P23: 0 | Q23: =ROUND(E23*P23,2) -> 0 | S23: Vlastní | T23: Indiv | U23: 0.83 | V23: =ROUND(E23*U23,2) -> 34.71 | X23: Práce | Y23: Běžná | AG23: POL1_
C24: Nutno počítat se zvýšenou pracností! | AG24: POP
C25: Odkaz na mn. položky pořadí 4 : 6,97000*6 | E25: 41.82 | AG25: VV | AH25: 5
A26: 6 | B26: 199000003R00 | C26: Poplatky za skládku horniny 5 - 7, skupina 17 05 04 z Katalogu odpadů | D26: m3 | E26: 15.316 | G26: =ROUND(E26*F26,2) -> 0 | I26: =ROUND(E26*H26,2) -> 0 | K26: =ROUND(E26*J26,2) -> 0 | L26: 21 | M26: =G26*(1+L26/100) -> 0 | N26: 0 | O26: =ROUND(E26*N26,2) -> 0 | P26: 0 | Q26: =ROUND(E26*P26,2) -> 0 | R26: 800-1 | S26: RTS 24/ I | T26: RTS 24/ I | U26: 0 | V26: =ROUND(E26*U26,2) -> 0 | X26: Práce | Y26: Běžná | AG26: POL1_
C27: Odkaz na mn. položky pořadí 3 : 7,65800 | E27: 7.658 | AG27: VV | AH27: 0
C28: Odkaz na mn. položky pořadí 3 : 7,65800 | E28: 7.658 | AG28: VV | AH28: 5
A29: Díl: | B29: 2 | C29: Základy a zvláštní zakládání | G29: =SUMIF(AG30:AG43,"<>NOR",G30:G43) -> 0 | I29: =SUM(I30:I43) -> 0 | K29: =SUM(K30:K43) -> 0 | M29: =SUM(M30:M43) -> 0 | O29: =SUM(O30:O43) -> 1.74 | Q29: =SUM(Q30:Q43) -> 0 | V29: =SUM(V30:V43) -> 6.08 | AG29: DIL
A30: 7 | B30: 275321411R00 | C30: Beton základových patek železový třídy C 25/30 | D30: m3 | E30: 0.65016 | G30: =ROUND(E30*F30,2) -> 0 | I30: =ROUND(E30*H30,2) -> 0 | K30: =ROUND(E30*J30,2) -> 0 | L30: 21 | M30: =G30*(1+L30/100) -> 0 | N30: 2.525 | O30: =ROUND(E30*N30,2) -> 1.64 | P30: 0 | Q30: =ROUND(E30*P30,2) -> 0 | R30: 801-1 | S30: RTS 24/ I | T30: RTS 24/ I | U30: 0.48 | V30: =ROUND(E30*U30,2) -> 0.31 | X30: Práce | Y30: Běžná | AG30: POL1_
C31: bez dodávky a uložení výztuže | AG31: SPI
C32: - vliv prostředí XC4 XF3 | AG32: POP
C33: - betonováno částečně do výkopu : (0,30*0,3*0,7*4+0,5*0,5*0,7*2)*1,08 | E33: 0.65016 | AG33: VV | AH33: 0
A34: 8 | B34: 275351215R00 | C34: Bednění stěn základových patek zřízení | D34: m2 | E34: 2.64 | G34: =ROUND(E34*F34,2) -> 0 | I34: =ROUND(E34*H34,2) -> 0 | K34: =ROUND(E34*J34,2) -> 0 | L34: 21 | M34: =G34*(1+L34/100) -> 0 | N34: 0.0392 | O34: =ROUND(E34*N34,2) -> 0.1 | P34: 0 | Q34: =ROUND(E34*P34,2) -> 0 | R34: 801-1 | S34: RTS 24/ I | T34: RTS 24/ I | U34: 1.05 | V34: =ROUND(E34*U34,2) -> 2.77 | X34: Práce | Y34: Běžná | AG34: POL1_
C35: bednění svislé nebo šikmé (odkloněné), půdorysně přímé nebo zalomené, stěn základových patek ve volných nebo zapažených jámách, rýhách, šachtách, včetně případných vzpěr, | AG35: SPI | BA35: =C35 -> bednění svislé nebo šikmé (odkloněné), půdorysně přímé nebo zalomené, stěn základových patek ve volných nebo zapažených jámách, rýhách, šachtách, včetně případných vzpěr,
C36: (0,30*4)*0,30*4+(0,50*4)*0,30*2 | E36: 2.64 | AG36: VV | AH36: 0
A37: 9 | B37: 275351216R00 | C37: Bednění stěn základových patek odstranění | D37: m2 | E37: 2.64 | G37: =ROUND(E37*F37,2) -> 0 | I37: =ROUND(E37*H37,2) -> 0 | K37: =ROUND(E37*J37,2) -> 0 | L37: 21 | M37: =G37*(1+L37/100) -> 0 | N37: 0 | O37: =ROUND(E37*N37,2) -> 0 | P37: 0 | Q37: =ROUND(E37*P37,2) -> 0 | R37: 801-1 | S37: RTS 24/ I | T37: RTS 24/ I | U37: 0.32 | V37: =ROUND(E37*U37,2) -> 0.84 | X37: Práce | Y37: Běžná | AG37: POL1_
C38: bednění svislé nebo šikmé (odkloněné), půdorysně přímé nebo zalomené, stěn základových patek ve volných nebo zapažených jámách, rýhách, šachtách, včetně případných vzpěr, | AG38: SPI | BA38: =C38 -> bednění svislé nebo šikmé (odkloněné), půdorysně přímé nebo zalomené, stěn základových patek ve volných nebo zapažených jámách, rýhách, šachtách, včetně případných vzpěr,
C39: Včetně očištění, vytřídění a uložení bednícího materiálu. | AG39: POP
C40: Odkaz na mn. položky pořadí 8 : 2,64000 | E40: 2.64 | AG40: VV | AH40: 5
A41: 10 | B41: 953943124R00 | C41: Osazování jiných kovových výrobků do betonu (např. kotev) se zajištěním polohy k bednění nebo k výztuži před zabetonováním přes 15 kg do 30 kg/kus | D41: kus | E41: 2 | G41: =ROUND(E41*F41,2) -> 0 | I41: =ROUND(E41*H41,2) -> 0 | K41: =ROUND(E41*J41,2) -> 0 | L41: 21 | M41: =G41*(1+L41/100) -> 0 | N41: 0.00044 | O41: =ROUND(E41*N41,2) -> 0 | P41: 0 | Q41: =ROUND(E41*P41,2) -> 0 | R41: 801-1 | S41: RTS 24/ I | T41: RTS 24/ I | U41: 1.08 | V41: =ROUND(E41*U41,2) -> 2.16 | X41: Práce | Y41: Běžná | AG41: POL1_
C42: osazování výrobků ostatních jinde neuvedených, bez dodání | AG42: SPI
...
