Workbook
Name CelkemDPHVypocet: Stavba!$H$43
Name CenaCelkem: Stavba!$G$29
Name CenaCelkemBezDPH: Stavba!$G$28
Name CenaCelkemVypocet: Stavba!$I$43
Name cisloobjektu: Stavba!$D$3
Name CisloRozpoctu: '[1]Krycí list'!$C$2
Name CisloStavby: Stavba!$D$2
Name cislostavby: '[1]Krycí list'!$A$7
Name CisloStavebnihoRozpoctu: Stavba!$D$4
Name dadresa: Stavba!$D$12:$G$12
Name DIČ: Stavba!$I$12
Name dmisto: Stavba!$E$13:$G$13
Name DPHSni: Stavba!$G$24
Name DPHZakl: Stavba!$G$26
Name dpsc: Stavba!$D$13
Name IČO: Stavba!$I$11
Name Mena: Stavba!$J$29
Name MistoStavby: Stavba!$D$4
Name nazevobjektu: Stavba!$E$3
Name NazevRozpoctu: '[1]Krycí list'!$D$2
Name NazevStavby: Stavba!$E$2
Name nazevstavby: '[1]Krycí list'!$C$7
Name NazevStavebnihoRozpoctu: Stavba!$E$4
Name oadresa: Stavba!$D$6
Name Objednatel: Stavba!$D$5
Name Objekt: Stavba!$B$38
Name odic: Stavba!$I$6
Name oico: Stavba!$I$5
Name omisto: Stavba!$E$7
Name onazev: Stavba!$D$6
Name opsc: Stavba!$D$7
Name padresa: Stavba!$D$9
Name pdic: Stavba!$I$9
Name pico: Stavba!$I$8
Name pmisto: Stavba!$E$10
Name PocetMJ: #REF!
Name PoptavkaID: Stavba!$A$1
Name pPSC: Stavba!$D$10
Name Projektant: Stavba!$D$8
Name SazbaDPH1: Stavba!$E$23
Name SazbaDPH1: '[1]Krycí list'!$C$30
Name SazbaDPH2: Stavba!$E$25
Name SazbaDPH2: '[1]Krycí list'!$C$32
Name SloupecCC: #REF!
Name SloupecCisloPol: #REF!
Name SloupecJC: #REF!
Name SloupecMJ: #REF!
Name SloupecMnozstvi: #REF!
Name SloupecNazPol: #REF!
Name SloupecPC: #REF!
Name Vypracoval: Stavba!$D$14
Name ZakladDPHSni: Stavba!$G$23
Name ZakladDPHSniVypocet: Stavba!$F$43
Name ZakladDPHZakl: Stavba!$G$25
Name ZakladDPHZaklVypocet: Stavba!$G$43
Name ZaObjednatele: Stavba!$G$34
Name Zaokrouhleni: Stavba!$G$27
Name ZaZhotovitele: Stavba!$D$34
Name Zhotovitel: Stavba!$D$11:$G$11

Sheet Pokyny pro vyplnění
A1: Pokyny pro vyplnění
A2: Ve všech listech tohoto souboru můžete měnit pouze buňky s modrým pozadím. Jedná se o tyto údaje : - údaje o firmě - jednotkové ceny položek zadané na maximálně dvě desetinná místa

Sheet Stavba
A1: #RTSROZP# | B1: Soupis stavebních prací, dodávek a služeb
B2: Stavba: | D2: 008 | E2: Choceň - Revitalizace Doskočilovy vyhlídky
B3: Objekt: | D3: SO-01 | E3: Doskočilova vyhlídka
A4: 283 | B4: Rozpočet: | D4: SO-01a | E4: Stavba (2024)
B5: Zadavatel | H5: IČO:
H6: DIČ:
B8: Projektant: | H8: IČO:
H9: DIČ:
B11: Zhotovitel: | H11: IČO:
H12: DIČ:
B14: Vypracoval:
B15: Rozpis ceny | I15: Celkem
A16: HSV | B16: HSV | I16: =SUMIF(F53:F61,A16,I53:I61)+SUMIF(F53:F61,"PSU",I53:I61) -> 0
A17: PSV | B17: PSV | I17: =SUMIF(F53:F61,A17,I53:I61) -> 0
A18: MON | B18: MON | I18: =SUMIF(F53:F61,A18,I53:I61) -> 0
A19: VN | B19: Vedlejší náklady | I19: =SUMIF(F53:F61,A19,I53:I61) -> 0
A20: ON | B20: Ostatní náklady | I20: =SUMIF(F53:F61,A20,I53:I61) -> 0
B21: Celkem | I21: =SUM(I16:J20) -> 0
B22: Rekapitulace daní
B23: Základ pro sníženou DPH | E23: 15 | F23: % | G23: =ZakladDPHSniVypocet -> 0 | J23: =Mena -> CZK
B24: Snížená DPH | E24: =SazbaDPH1 -> 15 | F24: % | G24: =I23*E23/100 -> 0 | J24: =Mena -> CZK
B25: Základ pro základní DPH | E25: 21 | F25: % | G25: =ZakladDPHZaklVypocet -> 0 | J25: =Mena -> CZK
B26: Základní DPH | E26: =SazbaDPH2 -> 21 | F26: % | G26: =I25*E25/100 -> 0 | J26: =Mena -> CZK
A27: =ZakladDPHSni+ZakladDPHZakl -> 0 | B27: Zaokrouhlení | G27: =CenaCelkemBezDPH-(ZakladDPHSni+ZakladDPHZakl) -> 0 | J27: =Mena -> CZK
A28: =(A27-INT(A27))*100 -> 0 | B28: Cena celkem bez DPH | G28: =A27 -> 0 | J28: =Mena -> CZK
B29: Cena celkem s DPH | G29: =ZakladDPHSni+DPHSni+ZakladDPHZakl+DPHZakl+Zaokrouhleni -> 0 | J29: CZK
C32: v | F32: dne
D35: Za zhotovitele | H35: Za objednatele
B37: Rekapitulace dílčích částí
A38: #CASTI>> | B38: Číslo | C38: Název | F38: =B23 -> Základ pro sníženou DPH | G38: =B25 -> Základ pro základní DPH | H38: DPH celkem | I38: Cena celkem | J38: %
A39: 1 | B39: Stavba | F39: ='SO-01 SO-01a Pol'!AE130 -> 0 | G39: ='SO-01 SO-01a Pol'!AF130 -> 0 | I39: =F39+G39+H39 -> 0 | J39: =IF(CenaCelkemVypocet=0,"",I39/CenaCelkemVypocet*100)
A40: 2 | C40: Stavební objekt
A41: 2 | B41: SO-01 | C41: Doskočilova vyhlídka | F41: ='SO-01 SO-01a Pol'!AE130 -> 0 | G41: ='SO-01 SO-01a Pol'!AF130 -> 0 | I41: =F41+G41+H41 -> 0 | J41: =IF(CenaCelkemVypocet=0,"",I41/CenaCelkemVypocet*100)
A42: 3 | B42: SO-01a | C42: Stavba (2024) | F42: ='SO-01 SO-01a Pol'!AE130 -> 0 | G42: ='SO-01 SO-01a Pol'!AF130 -> 0 | I42: =F42+G42+H42 -> 0 | J42: =IF(CenaCelkemVypocet=0,"",I42/CenaCelkemVypocet*100)
B43: Celkem za stavbu | F43: =SUMIF(A39:A42,"=1",F39:F42) -> 0 | G43: =SUMIF(A39:A42,"=1",G39:G42) -> 0 | H43: =SUMIF(A39:A42,"=1",H39:H42) -> 0 | I43: =SUMIF(A39:A42,"=1",I39:I42) -> 0 | J43: =SUMIF(A39:A42,"=1",J39:J42) -> 0
A45: #POPS | B45: Popis stavby: 008 - Choceň - Revitalizace Doskočilovy vyhlídky
A46: #POPO | B46: Popis objektu: SO-01 - Doskočilova vyhlídka
A47: #POPR | B47: Popis rozpočtu: SO-01a - Stavba (2024)
B50: Rekapitulace dílů
B52: Číslo | C52: Název | F52: Typ dílu | I52: Celkem | J52: %
B53: 1 | C53: Zemní práce | F53: HSV | I53: ='SO-01 SO-01a Pol'!G8 -> 0 | J53: =IF(I62=0,"",I53/I62*100)
B54: 11 | C54: Přípravné a přidružené práce | F54: HSV | I54: ='SO-01 SO-01a Pol'!G50 -> 0 | J54: =IF(I62=0,"",I54/I62*100)
B55: 2 | C55: Základy a zvláštní zakládání | F55: HSV | I55: ='SO-01 SO-01a Pol'!G29 -> 0 | J55: =IF(I62=0,"",I55/I62*100)
B56: 96 | C56: Bourání konstrukcí | F56: HSV | I56: ='SO-01 SO-01a Pol'!G44+'SO-01 SO-01a Pol'!G53 -> 0 | J56: =IF(I62=0,"",I56/I62*100)
B57: 99 | C57: Staveništní přesun hmot | F57: HSV | I57: ='SO-01 SO-01a Pol'!G64 -> 0 | J57: =IF(I62=0,"",I57/I62*100)
B58: 766 | C58: Konstrukce truhlářské | F58: PSV | I58: ='SO-01 SO-01a Pol'!G68 -> 0 | J58: =IF(I62=0,"",I58/I62*100)
B59: 767 | C59: Konstrukce zámečnické | F59: PSV | I59: ='SO-01 SO-01a Pol'!G105 -> 0 | J59: =IF(I62=0,"",I59/I62*100)
B60: 783 | C60: Nátěry | F60: PSV | I60: ='SO-01 SO-01a Pol'!G94 -> 0 | J60: =IF(I62=0,"",I60/I62*100)
B61: D96 | C61: Přesuny suti a vybouraných hmot | F61: PSU | I61: ='SO-01 SO-01a Pol'!G117 -> 0 | J61: =IF(I62=0,"",I61/I62*100)
B62: Cena celkem | I62: =SUM(I53:I61) -> 0 | J62: =SUM(J53:J61) -> 0

Sheet VzorPolozky
A1: Položkový rozpočet
A2: S:
A3: O:
A4: R:

Sheet SO-01 SO-01a Pol
A1: Položkový soupis prací a dodávek | AG1: #TypZaznamu#
A2: S: | B2: 008 | C2: Choceň - Revitalizace Doskočilovy vyhlídky | AG2: STA
A3: O: | B3: SO-01 | C3: Doskočilova vyhlídka | AC3: STA | AG3: OBJ
A4: R: | B4: SO-01a | C4: Stavba (2024) | AG4: ROZ
A6: P.č. | B6: Číslo položky | C6: Název položky | D6: MJ | E6: Množství | F6: Cena / MJ | G6: Celkem | H6: Dodávka | I6: Dodávka celk. | J6: Montáž | K6: Montáž celk. | L6: DPH | M6: Cena s DPH | N6: Hmotnost / MJ | O6: Hmotnost celk.(t) | P6: Dem. hmotnost / MJ | Q6: Dem. hmotnost celk.(t) | R6: Ceník | S6: Cen. soustava / platnost | T6: Cenová úroveň | U6: Nhod / MJ | V6: Nhod celk. | W6: Dodavatel | X6: Typ položky | Y6: Stav položky
A8: Díl: | B8: 1 | C8: Zemní práce | G8: =SUMIF(AG9:AG28,"<>NOR",G9:G28) -> 0 | I8: =SUM(I9:I28) -> 0 | K8: =SUM(K9:K28) -> 0 | M8: =SUM(M9:M28) -> 0 | O8: =SUM(O9:O28) -> 0.13 | Q8: =SUM(Q9:Q28) -> 0 | V8: =SUM(V9:V28) -> 48.72 | AG8: DIL
A9: 1 | B9: 122601101R00 | C9: Odkopávky a prokopávky nezapažené v hornině 7 do 100 m3 | D9: m3 | E9: 6.97 | G9: =ROUND(E9*F9,2) -> 0 | I9: =ROUND(E9*H9,2) -> 0 | K9: =ROUND(E9*J9,2) -> 0 | L9: 21 | M9: =G9*(1+L9/100) -> 0 | N9: 0.01753 | O9: =ROUND(E9*N9,2) -> 0.12 | P9: 0 | Q9: =ROUND(E9*P9,2) -> 0 | R9: 800-1 | S9: RTS 24/ I | T9: RTS 24/ I | U9: 0.767 | V9: =ROUND(E9*U9,2) -> 5.35 | X9: Práce | Y9: Běžná | AG9: POL1_
C10: s přehozením výkopku na vzdálenost do 3 m nebo s naložením na dopravní prostředek, | AG10: SPI
C11: 69,7*0,10 | E11: 6.97 | AG11: VV | AH11: 0
A12: 2 | B12: 133601101R00 | C12: Hloubení šachet v hornině 7 pro jakýkoliv objem výkopu | D12: m3 | E12: 0.688 | G12: =ROUND(E12*F12,2) -> 0 | I12: =ROUND(E12*H12,2) -> 0 | K12: =ROUND(E12*J12,2) -> 0 | L12: 21 | M12: =G12*(1+L12/100) -> 0 | N12: 0.01749 | O12: =ROUND(E12*N12,2) -> 0.01 | P12: 0 | Q12: =ROUND(E12*P12,2) -> 0 | R12: 800-1 | S12: RTS 24/ I | T12: RTS 24/ I | U12: 3.26 | V12: =ROUND(E12*U12,2) -> 2.24 | X12: Práce | Y12: Běžná | AG12: POL1_
C13: zapažených i nezapažených se svislým přemístění výkopku a urovnáním dna do předepsaného profilu a spádu, s případným nutným přemístěním výkopku ve výkopišti, s přehozením výkopku na přilehlém terénu na vzdálenost do 5 m od hrany šachty nebo s naložením na dopravní prostředek, | AG13: SPI | BA13: =C13 -> zapažených i nezapažených se svislým přemístění výkopku a urovnáním dna do předepsaného profilu a spádu, s případným nutným přemístěním výkopku ve výkopišti, s přehozením výkopku na přilehlém terénu na vzdálenost do 5 m od hrany šachty nebo s naložením na dopravní prostředek,
C14: 0,30*0,30*0,80*4 | E14: 0.288 | AG14: VV | AH14: 0
C15: 0,5*0,50*0,80*2 | E15: 0.4 | AG15: VV | AH15: 0
A16: 3 | B16: 162601152R00 | C16: Vodorovné přemístění výkopku z horniny 5 až 7, na vzdálenost přes 4 000 do 5 000 m | D16: m3 | E16: 7.658 | G16: =ROUND(E16*F16,2) -> 0 | I16: =ROUND(E16*H16,2) -> 0 | K16: =ROUND(E16*J16,2) -> 0 | L16: 21 | M16: =G16*(1+L16/100) -> 0 | N16: 0 | O16: =ROUND(E16*N16,2) -> 0 | P16: 0 | Q16: =ROUND(E16*P16,2) -> 0 | R16: 800-1 | S16: RTS 24/ I | T16: RTS 24/ I | U16: 0.01 | V16: =ROUND(E16*U16,2) -> 0.08 | X16: Práce | Y16: Běžná | AG16: POL1_
C17: po suchu, bez naložení výkopku, avšak se složením bez rozhrnutí, zpáteční cesta vozidla. | AG17: SPI
C18: Odkaz na mn. položky pořadí 1 : 6,97000 | E18: 6.97 | AG18: VV | AH18: 5
C19: Odkaz na mn. položky pořadí 2 : 0,68800 | E19: 0.688 | AG19: VV | AH19: 5
A20: 4 | B20: 162201253R00 | C20: Vodorovné přemístění výkopku nošením z horniny 5 až 7, kolečkem, na vzdálenost do 10 m | D20: m3 | E20: 6.97 | G20: =ROUND(E20*F20,2) -> 0 | I20: =ROUND(E20*H20,2) -> 0 | K20: =ROUND(E20*J20,2) -> 0 | L20: 21 | M20: =G20*(1+L20/100) -> 0 | N20: 0 | O20: =ROUND(E20*N20,2) -> 0 | P20: 0 | Q20: =ROUND(E20*P20,2) -> 0 | R20: 800-1 | S20: RTS 24/ I | T20: RTS 24/ I | U20: 0.91 | V20: =ROUND(E20*U20,2) -> 6.34 | X20: Práce | Y20: Běžná | AG20: POL1_
C21: bez naložení, avšak s vyprázdněním nádoby na hromadu nebo do dopravního prostředku, | AG21: SPI
C22: Odkaz na mn. položky pořadí 1 : 6,97000 | E22: 6.97 | AG22: VV | AH22: 5
A23: 5 | B23: 162201260R00-1 | C23: Příplatek za dalších 10 m,kolečko výkop. z hor.5-7 | D23: m3 | E23: 41.82 | G23: =ROUND(E23*F23,2) -> 0 | I23: =ROUND(E23*H23,2) -> 0 | K23: =ROUND(E23*J23,2) -> 0 | L23: 21 | M23: =G23*(1+L23/100) -> 0 | N23: 0 | O23: =ROUND(E23*N23,2) -> 0 | P23: 0 | Q23: =ROUND(E23*P23,2) -> 0 | S23: Vlastní | T23: Indiv | U23: 0.83 | V23: =ROUND(E23*U23,2) -> 34.71 | X23: Práce | Y23: Běžná | AG23: POL1_
C24: Nutno počítat se zvýšenou pracností! | AG24: POP
C25: Odkaz na mn. položky pořadí 4 : 6,97000*6 | E25: 41.82 | AG25: VV | AH25: 5
A26: 6 | B26: 199000003R00 | C26: Poplatky za skládku horniny 5 - 7, skupina 17 05 04 z Katalogu odpadů | D26: m3 | E26: 15.316 | G26: =ROUND(E26*F26,2) -> 0 | I26: =ROUND(E26*H26,2) -> 0 | K26: =ROUND(E26*J26,2) -> 0 | L26: 21 | M26: =G26*(1+L26/100) -> 0 | N26: 0 | O26: =ROUND(E26*N26,2) -> 0 | P26: 0 | Q26: =ROUND(E26*P26,2) -> 0 | R26: 800-1 | S26: RTS 24/ I | T26: RTS 24/ I | U26: 0 | V26: =ROUND(E26*U26,2) -> 0 | X26: Práce | Y26: Běžná | AG26: POL1_
C27: Odkaz na mn. položky pořadí 3 : 7,65800 | E27: 7.658 | AG27: VV | AH27: 0
C28: Odkaz na mn. položky pořadí 3 : 7,65800 | E28: 7.658 | AG28: VV | AH28: 5
A29: Díl: | B29: 2 | C29: Základy a zvláštní zakládání | G29: =SUMIF(AG30:AG43,"<>NOR",G30:G43) -> 0 | I29: =SUM(I30:I43) -> 0 | K29: =SUM(K30:K43) -> 0 | M29: =SUM(M30:M43) -> 0 | O29: =SUM(O30:O43) -> 1.74 | Q29: =SUM(Q30:Q43) -> 0 | V29: =SUM(V30:V43) -> 6.08 | AG29: DIL
A30: 7 | B30: 275321411R00 | C30: Beton základových patek železový třídy C 25/30 | D30: m3 | E30: 0.65016 | G30: =ROUND(E30*F30,2) -> 0 | I30: =ROUND(E30*H30,2) -> 0 | K30: =ROUND(E30*J30,2) -> 0 | L30: 21 | M30: =G30*(1+L30/100) -> 0 | N30: 2.525 | O30: =ROUND(E30*N30,2) -> 1.64 | P30: 0 | Q30: =ROUND(E30*P30,2) -> 0 | R30: 801-1 | S30: RTS 24/ I | T30: RTS 24/ I | U30: 0.48 | V30: =ROUND(E30*U30,2) -> 0.31 | X30: Práce | Y30: Běžná | AG30: POL1_
C31: bez dodávky a uložení výztuže | AG31: SPI
C32: - vliv prostředí XC4 XF3 | AG32: POP
C33: - betonováno částečně do výkopu : (0,30*0,3*0,7*4+0,5*0,5*0,7*2)*1,08 | E33: 0.65016 | AG33: VV | AH33: 0
A34: 8 | B34: 275351215R00 | C34: Bednění stěn základových patek zřízení | D34: m2 | E34: 2.64 | G34: =ROUND(E34*F34,2) -> 0 | I34: =ROUND(E34*H34,2) -> 0 | K34: =ROUND(E34*J34,2) -> 0 | L34: 21 | M34: =G34*(1+L34/100) -> 0 | N34: 0.0392 | O34: =ROUND(E34*N34,2) -> 0.1 | P34: 0 | Q34: =ROUND(E34*P34,2) -> 0 | R34: 801-1 | S34: RTS 24/ I | T34: RTS 24/ I | U34: 1.05 | V34: =ROUND(E34*U34,2) -> 2.77 | X34: Práce | Y34: Běžná | AG34: POL1_
C35: bednění svislé nebo šikmé (odkloněné), půdorysně přímé nebo zalomené, stěn základových patek ve volných nebo zapažených jámách, rýhách, šachtách, včetně případných vzpěr, | AG35: SPI | BA35: =C35 -> bednění svislé nebo šikmé (odkloněné), půdorysně přímé nebo zalomené, stěn základových patek ve volných nebo zapažených jámách, rýhách, šachtách, včetně případných vzpěr,
C36: (0,30*4)*0,30*4+(0,50*4)*0,30*2 | E36: 2.64 | AG36: VV | AH36: 0
A37: 9 | B37: 275351216R00 | C37: Bednění stěn základových patek odstranění | D37: m2 | E37: 2.64 | G37: =ROUND(E37*F37,2) -> 0 | I37: =ROUND(E37*H37,2) -> 0 | K37: =ROUND(E37*J37,2) -> 0 | L37: 21 | M37: =G37*(1+L37/100) -> 0 | N37: 0 | O37: =ROUND(E37*N37,2) -> 0 | P37: 0 | Q37: =ROUND(E37*P37,2) -> 0 | R37: 801-1 | S37: RTS 24/ I | T37: RTS 24/ I | U37: 0.32 | V37: =ROUND(E37*U37,2) -> 0.84 | X37: Práce | Y37: Běžná | AG37: POL1_
C38: bednění svislé nebo šikmé (odkloněné), půdorysně přímé nebo zalomené, stěn základových patek ve volných nebo zapažených jámách, rýhách, šachtách, včetně případných vzpěr, | AG38: SPI | BA38: =C38 -> bednění svislé nebo šikmé (odkloněné), půdorysně přímé nebo zalomené, stěn základových patek ve volných nebo zapažených jámách, rýhách, šachtách, včetně případných vzpěr,
C39: Včetně očištění, vytřídění a uložení bednícího materiálu. | AG39: POP
C40: Odkaz na mn. položky pořadí 8 : 2,64000 | E40: 2.64 | AG40: VV | AH40: 5
A41: 10 | B41: 953943124R00 | C41: Osazování jiných kovových výrobků do betonu (např. kotev) se zajištěním polohy k bednění nebo k výztuži před zabetonováním přes 15 kg do 30 kg/kus | D41: kus | E41: 2 | G41: =ROUND(E41*F41,2) -> 0 | I41: =ROUND(E41*H41,2) -> 0 | K41: =ROUND(E41*J41,2) -> 0 | L41: 21 | M41: =G41*(1+L41/100) -> 0 | N41: 0.00044 | O41: =ROUND(E41*N41,2) -> 0 | P41: 0 | Q41: =ROUND(E41*P41,2) -> 0 | R41: 801-1 | S41: RTS 24/ I | T41: RTS 24/ I | U41: 1.08 | V41: =ROUND(E41*U41,2) -> 2.16 | X41: Práce | Y41: Běžná | AG41: POL1_
C42: osazování výrobků ostatních jinde neuvedených, bez dodání | AG42: SPI
C43: - prvky zábradlí : 2 | E43: 2 | AG43: VV | AH43: 0
A44: Díl: | B44: 96 | C44: Bourání konstrukcí | G44: =SUMIF(AG45:AG49,"<>NOR",G45:G49) -> 0 | I44: =SUM(I45:I49) -> 0 | K44: =SUM(K45:K49) -> 0 | M44: =SUM(M45:M49) -> 0 | O44: =SUM(O45:O49) -> 0 | Q44: =SUM(Q45:Q49) -> 0.24 | V44: =SUM(V45:V49) -> 2.71 | AG44: DIL
A45: 11 | B45: 963022819R00-1 | C45: Bourání kamenných.schodišťových stupňů | D45: m | E45: 2.1 | G45: =ROUND(E45*F45,2) -> 0 | I45: =ROUND(E45*H45,2) -> 0 | K45: =ROUND(E45*J45,2) -> 0 | L45: 21 | M45: =G45*(1+L45/100) -> 0 | N45: 0 | O45: =ROUND(E45*N45,2) -> 0 | P45: 0.112 | Q45: =ROUND(E45*P45,2) -> 0.24 | S45: Vlastní | T45: Indiv | U45: 0.29 | V45: =ROUND(E45*U45,2) -> 0.61 | X45: Práce | Y45: Běžná | AG45: POL1_
C46: Nutno počítat se zvýšenou pracností! | AG46: POP
C47: 0,8+1,3 | E47: 2.1 | AG47: VV | AH47: 0
A48: 12 | B48: 966079881R00-1 | C48: Přerušení ocelových profilů průřezu do 7 cm2 | D48: kus | E48: 7 | G48: =ROUND(E48*F48,2) -> 0 | I48: =ROUND(E48*H48,2) -> 0 | K48: =ROUND(E48*J48,2) -> 0 | L48: 21 | M48: =G48*(1+L48/100) -> 0 | N48: 0 | O48: =ROUND(E48*N48,2) -> 0 | P48: 0 | Q48: =ROUND(E48*P48,2) -> 0 | S48: Vlastní | T48: Indiv | U48: 0.3 | V48: =ROUND(E48*U48,2) -> 2.1 | X48: Práce | Y48: Běžná | AG48: POL1_
C49: Nutno počítat se zvýšenou pracností! | AG49: POP
A50: Díl: | B50: 11 | C50: Přípravné a přidružené práce | G50: =SUMIF(AG51:AG52,"<>NOR",G51:G52) -> 0 | I50: =SUM(I51:I52) -> 0 | K50: =SUM(K51:K52) -> 0 | M50: =SUM(M51:M52) -> 0 | O50: =SUM(O51:O52) -> 0 | Q50: =SUM(Q51:Q52) -> 0 | V50: =SUM(V51:V52) -> 0 | AG50: DIL
A51: 13 | B51: 03100 | C51: ZAŘÍZENÍ STAVENIŠTĚ - ZŘÍZENÍ, PROVOZ, DEMONTÁŽ | D51: KPL | E51: 1 | G51: =ROUND(E51*F51,2) -> 0 | I51: =ROUND(E51*H51,2) -> 0 | K51: =ROUND(E51*J51,2) -> 0 | L51: 21 | M51: =G51*(1+L51/100) -> 0 | N51: 0 | O51: =ROUND(E51*N51,2) -> 0 | P51: 0 | Q51: =ROUND(E51*P51,2) -> 0 | S51: OTSKP 23 | T51: Indiv | U51: 0 | V51: =ROUND(E51*U51,2) -> 0 | X51: Agregovaná položka | Y51: Běžná | AG51: POL2_
A52: 14 | B52: 02945 | C52: OSTAT POŽADAVKY - GEOMETRICKÝ PLÁN | D52: sada | E52: 1 | G52: =ROUND(E52*F52,2) -> 0 | I52: =ROUND(E52*H52,2) -> 0 | K52: =ROUND(E52*J52,2) -> 0 | L52: 21 | M52: =G52*(1+L52/100) -> 0 | N52: 0 | O52: =ROUND(E52*N52,2) -> 0 | P52: 0 | Q52: =ROUND(E52*P52,2) -> 0 | S52: OTSKP 23 | T52: Indiv | U52: 0 | V52: =ROUND(E52*U52,2) -> 0 | X52: Agregovaná položka | Y52: Běžná | AG52: POL2_
A53: Díl: | B53: 96 | C53: Bourání konstrukcí | G53: =SUMIF(AG54:AG63,"<>NOR",G54:G63) -> 0 | I53: =SUM(I54:I63) -> 0 | K53: =SUM(K54:K63) -> 0 | M53: =SUM(M54:M63) -> 0 | O53: =SUM(O54:O63) -> 0.02 | Q53: =SUM(Q54:Q63) -> 0.49 | V53: =SUM(V54:V63) -> 61.04 | AG53: DIL
A54: 15 | B54: 966079991R00-1 | C54: Příplatek za každých dalších 5 cm2 průřezu | D54: kus | E54: 70 | G54: =ROUND(E54*F54,2) -> 0 | I54: =ROUND(E54*H54,2) -> 0 | K54: =ROUND(E54*J54,2) -> 0 | L54: 21 | M54: =G54*(1+L54/100) -> 0 | N54: 0 | O54: =ROUND(E54*N54,2) -> 0 | P54: 0 | Q54: =ROUND(E54*P54,2) -> 0 | S54: Vlastní | T54: Indiv | U54: 0.2 | V54: =ROUND(E54*U54,2) -> 14 | X54: Práce | Y54: Běžná | AG54: POL1_
C55: Nutno počítat se zvýšenou pracností! | AG55: POP
C56: Odkaz na mn. položky pořadí 12 : 7,00000*10 | E56: 70 | AG56: VV | AH56: 0
A57: 16 | B57: 762812811R00 | C57: Demontáž záklopů stropů vrchních, zapuštěných z hoblovaných prken s olištováním tloušťky do 32 mm | D57: m2 | E57: 1.2 | G57: =ROUND(E57*F57,2) -> 0 | I57: =ROUND(E57*H57,2) -> 0 | K57: =ROUND(E57*J57,2) -> 0 | L57: 21 | M57: =G57*(1+L57/100) -> 0 | N57: 0 | O57: =ROUND(E57*N57,2) -> 0 | P57: 0.014 | Q57: =ROUND(E57*P57,2) -> 0.02 | R57: 800-762 | S57: RTS 24/ I | T57: RTS 24/ I | U57: 0.1 | V57: =ROUND(E57*U57,2) -> 0.12 | X57: Práce | Y57: Běžná | AG57: POL1_
C58: 1,5*0,80 | E58: 1.2 | AG58: VV | AH58: 0
A59: 17 | B59: 767996801R00-1 | C59: Demontáž atypických ocelových konstr. do 50 kg | D59: kg | E59: 469.23 | G59: =ROUND(E59*F59,2) -> 0 | I59: =ROUND(E59*H59,2) -> 0 | K59: =ROUND(E59*J59,2) -> 0 | L59: 21 | M59: =G59*(1+L59/100) -> 0 | N59: 5e-05 | O59: =ROUND(E59*N59,2) -> 0.02 | P59: 0.001 | Q59: =ROUND(E59*P59,2) -> 0.47 | S59: Vlastní | T59: Indiv | U59: 0.1 | V59: =ROUND(E59*U59,2) -> 46.92 | X59: Práce | Y59: Běžná | AG59: POL1_
C60: - demontáž zábradlí | AG60: POP
C61: zábradlí : 5,77*(8,7+2,0+4,5)*2 | E61: 175.408 | AG61: VV | AH61: 0
C62: 5,77*1,0*2 | E62: 11.54 | AG62: VV | AH62: 0
C63: kolejnice : 60,06*(0,50*5+1,1*2) | E63: 282.282 | AG63: VV | AH63: 0
A64: Díl: | B64: 99 | C64: Staveništní přesun hmot | G64: =SUMIF(AG65:AG67,"<>NOR",G65:G67) -> 0 | I64: =SUM(I65:I67) -> 0 | K64: =SUM(K65:K67) -> 0 | M64: =SUM(M65:M67) -> 0 | O64: =SUM(O65:O67) -> 0 | Q64: =SUM(Q65:Q67) -> 0 | V64: =SUM(V65:V67) -> 0.82 | AG64: DIL
A65: 18 | B65: 998214111R00 | C65: Přesun hmot pro mosty montované želbet. výška do 20 m, | D65: t | E65: 1.9037 | G65: =ROUND(E65*F65,2) -> 0 | I65: =ROUND(E65*H65,2) -> 0 | K65: =ROUND(E65*J65,2) -> 0 | L65: 21 | M65: =G65*(1+L65/100) -> 0 | N65: 0 | O65: =ROUND(E65*N65,2) -> 0 | P65: 0 | Q65: =ROUND(E65*P65,2) -> 0 | R65: 821-1 | S65: RTS 24/ I | T65: RTS 24/ I | U65: 0.43 | V65: =ROUND(E65*U65,2) -> 0.82 | X65: Přesun hmot | Y65: Běžná | AG65: POL7_
C66: z dílců železobetonových nebo předpjatých na novostavbách, včetně příplatku za zvětšený přesun přes vymezenou dopravní vzdálenost, | AG66: SPI | BA66: =C66 -> z dílců železobetonových nebo předpjatých na novostavbách, včetně příplatku za zvětšený přesun přes vymezenou dopravní vzdálenost,
C67: Je třeba počítat se ztíženým přístupem ke staveništi! Posledních cca 60m je nutno dopravovat ručně, kolečkem apod. vzhledem k poloze objektu. Nutné tomuto uzpůsobit dopravu materiálu, suti atd. | AG67: POP | BA67: =C67 -> Je třeba počítat se ztíženým přístupem ke staveništi! Posledních cca 60m je nutno dopravovat ručně, kolečkem apod. vzhledem k poloze objektu. Nutné tomuto uzpůsobit dopravu materiálu, suti atd.
A68: Díl: | B68: 766 | C68: Konstrukce truhlářské | G68: =SUMIF(AG69:AG93,"<>NOR",G69:G93) -> 0 | I68: =SUM(I69:I93) -> 0 | K68: =SUM(K69:K93) -> 0 | M68: =SUM(M69:M93) -> 0 | O68: =SUM(O69:O93) -> 2.79 | Q68: =SUM(Q69:Q93) -> 0 | V68: =SUM(V69:V93) -> 25.15 | AG68: DIL
A69: 19 | B69: 762595000R00-1 | C69: Spojovací a ochranné prostředky k položení podlah | D69: m3 | E69: 0.8388 | G69: =ROUND(E69*F69,2) -> 0 | I69: =ROUND(E69*H69,2) -> 0 | K69: =ROUND(E69*J69,2) -> 0 | L69: 21 | M69: =G69*(1+L69/100) -> 0 | N69: 0.00295 | O69: =ROUND(E69*N69,2) -> 0 | P69: 0 | Q69: =ROUND(E69*P69,2) -> 0 | S69: Vlastní | T69: Indiv | U69: 0 | V69: =ROUND(E69*U69,2) -> 0 | X69: Práce | Y69: Běžná | AG69: POL1_
C70: Nutno počítat se zvýšenou pracností! | AG70: POP
C71: podlaha : ((0,05*0,12)*1,1*(32+7)+(0,05*0,12)*2,55*38) | E71: 0.8388 | AG71: VV | AH71: 0
A72: 20 | B72: 342951111R00-1 | C72: Stěny dřevěné svis./šik.pláště z prken klad.svisle | D72: m2 | E72: 32.1 | G72: =ROUND(E72*F72,2) -> 0 | I72: =ROUND(E72*H72,2) -> 0 | K72: =ROUND(E72*J72,2) -> 0 | L72: 21 | M72: =G72*(1+L72/100) -> 0 | N72: 0.01582 | O72: =ROUND(E72*N72,2) -> 0.51 | P72: 0 | Q72: =ROUND(E72*P72,2) -> 0 | S72: Vlastní | T72: Indiv | U72: 0.39 | V72: =ROUND(E72*U72,2) -> 12.52 | X72: Práce | Y72: Běžná | AG72: POL1_
C73: Nutno počítat se zvýšenou pracností! | AG73: POP
C74: zábradlí : 15,5+7,1+9,5 | E74: 32.1 | AG74: VV | AH74: 0
A75: 21 | B75: 762085151R00-1 | C75: Hoblování řeziva strojní | D75: m3 | E75: 4 | G75: =ROUND(E75*F75,2) -> 0 | I75: =ROUND(E75*H75,2) -> 0 | K75: =ROUND(E75*J75,2) -> 0 | L75: 21 | M75: =G75*(1+L75/100) -> 0 | N75: 0 | O75: =ROUND(E75*N75,2) -> 0 | P75: 0 | Q75: =ROUND(E75*P75,2) -> 0 | S75: Vlastní | T75: Indiv | U75: 0 | V75: =ROUND(E75*U75,2) -> 0 | X75: Práce | Y75: Běžná | AG75: POL1_
A76: 22 | B76: R76252310800-1 | C76: Montáž podlah fošen tl. 50 mm - mezera mezi fošnami 10mm | D76: m2 | E76: 17.255 | G76: =ROUND(E76*F76,2) -> 0 | I76: =ROUND(E76*H76,2) -> 0 | K76: =ROUND(E76*J76,2) -> 0 | L76: 21 | M76: =G76*(1+L76/100) -> 0 | N76: 0 | O76: =ROUND(E76*N76,2) -> 0 | P76: 0 | Q76: =ROUND(E76*P76,2) -> 0 | S76: Vlastní | T76: Indiv | U76: 0.34 | V76: =ROUND(E76*U76,2) -> 5.87 | X76: Práce | Y76: Běžná | AG76: POL1_
C77: - přikotvení fošen do podkladní OK | AG77: POP
C78: Nutno počítat se zvýšenou pracností! | AG78: POP
C79: 16,1+0,15*1,1*7 | E79: 17.255 | AG79: VV | AH79: 0
A80: 23 | B80: PC60516012 | C80: Řezivo sušené modřín sibiřský tl. 50 mm, š. 200mm | D80: m3 | E80: 3.04497 | G80: =ROUND(E80*F80,2) -> 0 | I80: =ROUND(E80*H80,2) -> 0 | K80: =ROUND(E80*J80,2) -> 0 | L80: 21 | M80: =G80*(1+L80/100) -> 0 | N80: 0.75 | O80: =ROUND(E80*N80,2) -> 2.28 | P80: 0 | Q80: =ROUND(E80*P80,2) -> 0 | S80: Vlastní | T80: Kalkul | U80: 0 | V80: =ROUND(E80*U80,2) -> 0 | X80: Specifikace | Y80: Běžná | AG80: POL3_
C81: zábradlí : | AG81: VV | AH81: 0
C82: Začátek provozního součtu | AG82: VV
C83: 0,05*0,20*1,37*16 | E83: 0.2192 | AG83: VV | AH83: 2
C84: 0,05*0,20*1,37*10+(0,05*0,20*(1,65-1,37))*10/2 | E84: 0.151 | AG84: VV | AH84: 2
C85: 0,05*0,20*1,65*27*2+(0,05*0,20*(2,31-1,65))*27*2/2 | E85: 1.0692 | AG85: VV | AH85: 2
C86: 0,05*0,20*2,31*16 | E86: 0.3696 | AG86: VV | AH86: 2
C87: Mezisoučet | E87: 1.809 | AG87: VV | AH87: 3
C88: Konec provozního součtu | AG88: VV
C89: 1,809*1,15 | E89: 2.08035 | AG89: VV | AH89: 0
C90: podlaha : ((0,05*0,12)*1,1*(32+7)+(0,05*0,12)*2,55*38)*1,15 | E90: 0.96462 | AG90: VV | AH90: 0
A91: 24 | B91: 998766102R00 | C91: Přesun hmot pro konstrukce truhlářské v objektech výšky do 12 m | D91: t | E91: 2.79402 | G91: =ROUND(E91*F91,2) -> 0 | I91: =ROUND(E91*H91,2) -> 0 | K91: =ROUND(E91*J91,2) -> 0 | L91: 21 | M91: =G91*(1+L91/100) -> 0 | N91: 0 | O91: =ROUND(E91*N91,2) -> 0 | P91: 0 | Q91: =ROUND(E91*P91,2) -> 0 | R91: 800-766 | S91: RTS 24/ I | T91: RTS 24/ I | U91: 2.42 | V91: =ROUND(E91*U91,2) -> 6.76 | X91: Přesun hmot | Y91: Běžná | AG91: POL7_7
C92: 50 m vodorovně | AG92: SPI
C93: Nutno počítat se zvýšenou pracností! | AG93: POP
A94: Díl: | B94: 783 | C94: Nátěry | G94: =SUMIF(AG95:AG104,"<>NOR",G95:G104) -> 0 | I94: =SUM(I95:I104) -> 0 | K94: =SUM(K95:K104) -> 0 | M94: =SUM(M95:M104) -> 0 | O94: =SUM(O95:O104) -> 0.04 | Q94: =SUM(Q95:Q104) -> 0 | V94: =SUM(V95:V104) -> 40.01 | AG94: DIL
A95: 25 | B95: 783612100R00 | C95: Nátěry truhlářských výrobků olejové dvojnásobné | D95: m2 | E95: 137.982 | G95: =ROUND(E95*F95,2) -> 0 | I95: =ROUND(E95*H95,2) -> 0 | K95: =ROUND(E95*J95,2) -> 0 | L95: 21 | M95: =G95*(1+L95/100) -> 0 | N95: 0.00027 | O95: =ROUND(E95*N95,2) -> 0.04 | P95: 0 | Q95: =ROUND(E95*P95,2) -> 0 | R95: 800-783 | S95: RTS 24/ I | T95: RTS 24/ I | U95: 0.29 | V95: =ROUND(E95*U95,2) -> 40.01 | X95: Práce | Y95: Běžná | AG95: POL1_
C96: Začátek provozního součtu | AG96: VV
C97: (0,05*2+0,20*2)*1,37*16 | E97: 10.96 | AG97: VV | AH97: 2
C98: (0,05*2+0,20*2)*1,37*10+((0,05*2+0,20*2)*(1,65-1,37))*10/2 | E98: 7.55 | AG98: VV | AH98: 2
C99: (0,05*2+0,20*2)*1,65*27*2+((0,05*2+0,20*2)*(2,31-1,65))*27*2/2 | E99: 53.46 | AG99: VV | AH99: 2
C100: (0,05*2+0,20*2)*2,31*16 | E100: 18.48 | AG100: VV | AH100: 2
C101: Mezisoučet | E101: 90.45 | AG101: VV | AH101: 3
C102: Konec provozního součtu | AG102: VV
...
