Workbook
Name CelkemObjekty: Stavba!$F$31
Name CisloStavby: Stavba!$D$5
Name dadresa: Stavba!$D$8
Name DIČ: Stavba!$K$8
Name dmisto: Stavba!$D$9
Name dpsc: Stavba!$C$9
Name IČO: Stavba!$K$7
Name NazevObjektu: Stavba!$C$29
Name NazevStavby: Stavba!$E$5
Name Objednatel: Stavba!$D$11
Name Objekt: Stavba!$B$29
Name odic: Stavba!$K$12
Name oico: Stavba!$K$11
Name omisto: Stavba!$D$13
Name onazev: Stavba!$D$12
Name opsc: Stavba!$C$13
Name SazbaDPH1: Stavba!$D$19
Name SazbaDPH2: Stavba!$D$21
Name SoucetDilu: Stavba!$F$79:$J$79
Name StavbaCelkem: Stavba!$H$31
Name Zhotovitel: Stavba!$D$7

Sheet Stavba
C2: Slepý rozpočet stavby | H2: Datum: | I2: =TODAY() -> 42475
C5: Stavba : | D5: 2016/05 | E5: 446 B.J. 23PB KODUS Veselí nad Moravou, budova CD
C7: Objednatel : | H7: IČO :
H8: DIČ :
C11: Zhotovitel : | H11: IČO :
H12: DIČ :
C14: Za zhotovitele : | H14: Za objednatele :
C16: _______________ | H16: _______________
J18: Rozpočtové náklady
B19: Základ pro DPH | D19: 15 | E19: % | I19: =ROUND(G31,0) -> 0
B20: DPH | D20: =SazbaDPH1 -> 15 | E20: % | I20: =ROUND(I19*D20/100,0) -> 0
B21: Základ pro DPH | D21: 21 | E21: % | I21: =ROUND(H31,0) -> 0
B22: DPH | D22: =SazbaDPH2 -> 21 | E22: % | I22: =ROUND(I21*D21/100,0) -> 0
B23: Cena celkem za stavbu | I23: =SUM(I19:I22) -> 0
B27: Rekapitulace stavebních objektů a provozních souborů
B29: Číslo a název objektu / provozního souboru | F29: Cena celkem | G29: =CONCATENATE("Základ DPH ",SazbaDPH1," %") -> Základ DPH 15 % | H29: =CONCATENATE("Základ DPH ",SazbaDPH2," %") -> Základ DPH 21 % | I29: DPH celkem | J29: %
B30: SO01 | C30: Stavební rozpočet | F30: =G30+H30+I30 -> 0 | G30: 0 | H30: 0 | I30: =(G30*SazbaDPH1)/100+(H30*SazbaDPH2)/100 -> 0 | J30: =IF(CelkemObjekty=0,"",F30/CelkemObjekty*100)
B31: Celkem za stavbu | F31: =SUM(F30:F30) -> 0 | G31: =SUM(G30:G30) -> 0 | H31: =SUM(H30:H30) -> 0 | I31: =SUM(I30:I30) -> 0 | J31: =IF(CelkemObjekty=0,"",F31/CelkemObjekty*100)
B35: Rekapitulace stavebních rozpočtů
B37: Číslo objektu | C37: Číslo a název rozpočtu | F37: Cena celkem | G37: =CONCATENATE("Základ DPH ",SazbaDPH1," %") -> Základ DPH 15 % | H37: =CONCATENATE("Základ DPH ",SazbaDPH2," %") -> Základ DPH 21 % | I37: DPH celkem | J37: %
B38: SO01 | C38: SO01A Vedlejší a ostatní náklady | F38: =G38+H38+I38 -> 0 | G38: 0 | H38: 0 | I38: =(G38*SazbaDPH1)/100+(H38*SazbaDPH2)/100 -> 0 | J38: =IF(CelkemObjekty=0,"",F38/CelkemObjekty*100)
B39: SO01 | C39: RO01 Stavební rozpočet | F39: =G39+H39+I39 -> 0 | G39: 0 | H39: 0 | I39: =(G39*SazbaDPH1)/100+(H39*SazbaDPH2)/100 -> 0 | J39: =IF(CelkemObjekty=0,"",F39/CelkemObjekty*100)
B40: SO01 | C40: SO01A Vedlejší a ostatní náklady | F40: =G40+H40+I40 -> 0 | G40: 0 | H40: 0 | I40: =(G40*SazbaDPH1)/100+(H40*SazbaDPH2)/100 -> 0 | J40: =IF(CelkemObjekty=0,"",F40/CelkemObjekty*100)
B41: Celkem za stavbu | F41: =SUM(F38:F40) -> 0 | G41: =SUM(G38:G40) -> 0 | H41: =SUM(H38:H40) -> 0 | I41: =SUM(I38:I40) -> 0 | J41: =IF(CelkemObjekty=0,"",F41/CelkemObjekty*100)
B46: Rekapitulace stavebních dílů
B48: Číslo a název dílu | E48: % | F48: HSV | G48: PSV | H48: Dodávka | I48: Montáž | J48: HZS
B49: 1 | C49: Vedlejší náklady | E49: =IF(SUM(SoucetDilu)=0,"",SUM(F49:J49)/SUM(SoucetDilu)*100) | F49: 0 | G49: 0 | H49: 0 | I49: 0 | J49: 0
B50: 11 | C50: Vedlejší náklady | E50: =IF(SUM(SoucetDilu)=0,"",SUM(F50:J50)/SUM(SoucetDilu)*100) | F50: 0 | G50: 0 | H50: 0 | I50: 0 | J50: 0
B51: 3 | C51: Svislé a kompletní konstrukce | E51: =IF(SUM(SoucetDilu)=0,"",SUM(F51:J51)/SUM(SoucetDilu)*100) | F51: 0 | G51: 0 | H51: 0 | I51: 0 | J51: 0
B52: 4 | C52: Vodorovné konstrukce | E52: =IF(SUM(SoucetDilu)=0,"",SUM(F52:J52)/SUM(SoucetDilu)*100) | F52: 0 | G52: 0 | H52: 0 | I52: 0 | J52: 0
B53: 61 | C53: Upravy povrchů vnitřní | E53: =IF(SUM(SoucetDilu)=0,"",SUM(F53:J53)/SUM(SoucetDilu)*100) | F53: 0 | G53: 0 | H53: 0 | I53: 0 | J53: 0
B54: 62 | C54: Úpravy povrchů vnější | E54: =IF(SUM(SoucetDilu)=0,"",SUM(F54:J54)/SUM(SoucetDilu)*100) | F54: 0 | G54: 0 | H54: 0 | I54: 0 | J54: 0
B55: 63 | C55: Podlahy a podlahové konstrukce | E55: =IF(SUM(SoucetDilu)=0,"",SUM(F55:J55)/SUM(SoucetDilu)*100) | F55: 0 | G55: 0 | H55: 0 | I55: 0 | J55: 0
B56: 711 | C56: Izolace proti vodě | E56: =IF(SUM(SoucetDilu)=0,"",SUM(F56:J56)/SUM(SoucetDilu)*100) | F56: 0 | G56: 0 | H56: 0 | I56: 0 | J56: 0
B57: 713 | C57: Izolace tepelné | E57: =IF(SUM(SoucetDilu)=0,"",SUM(F57:J57)/SUM(SoucetDilu)*100) | F57: 0 | G57: 0 | H57: 0 | I57: 0 | J57: 0
B58: 720 | C58: Zdravotechnická instalace | E58: =IF(SUM(SoucetDilu)=0,"",SUM(F58:J58)/SUM(SoucetDilu)*100) | F58: 0 | G58: 0 | H58: 0 | I58: 0 | J58: 0
B59: 721 | C59: Vnitřní kanalizace | E59: =IF(SUM(SoucetDilu)=0,"",SUM(F59:J59)/SUM(SoucetDilu)*100) | F59: 0 | G59: 0 | H59: 0 | I59: 0 | J59: 0
B60: 762 | C60: Konstrukce tesařské | E60: =IF(SUM(SoucetDilu)=0,"",SUM(F60:J60)/SUM(SoucetDilu)*100) | F60: 0 | G60: 0 | H60: 0 | I60: 0 | J60: 0
... B78: M33 | C78: Montáže dopravních zařízení a vah-výtahy | E78: =IF(SUM(SoucetDilu)=0,"",SUM(F78:J78)/SUM(SoucetDilu)*100) | F78: 0 | G78: 0 | H78: 0 | I78: 0 | J78: 0
B79: Celkem za stavbu | E79: =IF(SUM(SoucetDilu)=0,"",SUM(F79:J79)/SUM(SoucetDilu)*100) | F79: =SUM(F49:F78) -> 0 | G79: =SUM(G49:G78) -> 0 | H79: =SUM(H49:H78) -> 0 | I79: =SUM(I49:I78) -> 0 | J79: =SUM(J49:J78) -> 0
B86: Rekapitulace vedlejších rozpočtových nákladů
B88: Název vedlejšího nákladu | H88: Cena celkem
B89: Ztížené výrobní podmínky | H89: 0
B90: Oborová přirážka | H90: 0
B91: Přesun stavebních kapacit | H91: 0
B92: Mimostaveništní doprava | H92: 0
B93: Zařízení staveniště | H93: 0
B94: Provoz investora | H94: 0
B95: Kompletační činnost (IČD) | H95: 0
B96: Rezerva rozpočtu | H96: 0
B97: Celkem za stavbu | H97: =SUM(H89:H96) -> 0

Sheet SO01 SO01A KL
A1: SLEPÝ ROZPOČET
A2: Rozpočet | C2: SO01A | D2: Vedlejší a ostatní náklady | F2: JKSO
A4: Objekt | F4: SKP
A5: SO01 | C5: Stavební rozpočet | F5: Měrná jednotka
A6: Stavba | F6: Počet jednotek
A7: 2016/05 | C7: 446 B.J. 23PB KODUS Veselí nad Moravou, budova CD | F7: Náklady na m.j. | G7: =IF(G6=0,,ROUND((F30+F32)/G6,1)) -> 0
A8: Projektant | F8: Typ rozpočtu
A9: Zpracovatel projektu
A10: Objednatel
A11: Dodavatel | F11: Zakázkové číslo
A12: Rozpočtoval | F12: Počet listů
A13: ROZPOČTOVÉ NÁKLADY
A14: Základní rozpočtové náklady | D14: Ostatní rozpočtové náklady
B15: HSV celkem | C15: ='SO01 SO01A Rek'!E9 -> 0 | D15: ='SO01 SO01A Rek'!A14 -> Ztížené výrobní podmínky | G15: ='SO01 SO01A Rek'!I14 -> 0
A16: Z | B16: PSV celkem | C16: ='SO01 SO01A Rek'!F9 -> 0 | D16: ='SO01 SO01A Rek'!A15 -> Oborová přirážka | G16: ='SO01 SO01A Rek'!I15 -> 0
A17: R | B17: M práce celkem | C17: ='SO01 SO01A Rek'!H9 -> 0 | D17: ='SO01 SO01A Rek'!A16 -> Přesun stavebních kapacit | G17: ='SO01 SO01A Rek'!I16 -> 0
A18: N | B18: M dodávky celkem | C18: ='SO01 SO01A Rek'!G9 -> 0 | D18: ='SO01 SO01A Rek'!A17 -> Mimostaveništní doprava | G18: ='SO01 SO01A Rek'!I17 -> 0
A19: ZRN celkem | C19: =SUM(C15:C18) -> 0 | D19: ='SO01 SO01A Rek'!A18 -> Zařízení staveniště | G19: ='SO01 SO01A Rek'!I18 -> 0
D20: ='SO01 SO01A Rek'!A19 -> Provoz investora | G20: ='SO01 SO01A Rek'!I19 -> 0
A21: HZS | C21: ='SO01 SO01A Rek'!I9 -> 0 | D21: ='SO01 SO01A Rek'!A20 -> Kompletační činnost (IČD) | G21: ='SO01 SO01A Rek'!I20 -> 0
A22: ZRN+HZS | C22: =C19+C21 -> 0 | D22: Ostatní náklady neuvedené | G22: =G23-SUM(G15:G21) -> 0
A23: ZRN+ost.náklady+HZS | C23: =C22+G23 -> 0 | D23: Ostatní náklady celkem | G23: ='SO01 SO01A Rek'!H22 -> 0
A24: Vypracoval | D24: Za zhotovitele | F24: Za objednatele
A25: Jméno : | D25: Jméno : | F25: Jméno :
A26: Datum : | D26: Datum : | F26: Datum :
A28: Podpis : | D28: Podpis: | F28: Podpis:
A30: Základ pro DPH | C30: 15 | D30: % | F30: =C23-F32 -> 0
A31: DPH | C31: =C30 -> 15 | D31: % | F31: =ROUND(PRODUCT(F30,C31/100),0) -> 0
A32: Základ pro DPH | C32: 0 | D32: % | F32: 0
A33: DPH | C33: =C32 -> 0 | D33: % | F33: =ROUND(PRODUCT(F32,C33/100),0) -> 0
A34: CENA ZA OBJEKT CELKEM | F34: =ROUND(SUM(F30:F33),0) -> 0
A36: Poznámka :

Sheet SO01 SO01A Rek
A1: Stavba : | C1: 2016/05 446 B.J. 23PB KODUS Veselí nad Moravou, budova CD | G1: Rozpočet : | H1: SO01A
A2: Objekt : | C2: SO01 Stavební rozpočet | G2: Vedlejší a ostatní náklady
A4: REKAPITULACE STAVEBNÍCH DÍLŮ
B6: Stavební díl | E6: HSV | F6: PSV | G6: Dodávka | H6: Montáž | I6: HZS
A7: ='SO01 SO01A Pol'!B7 -> 1 | B7: ='SO01 SO01A Pol'!C7 -> Vedlejší náklady | E7: ='SO01 SO01A Pol'!BA11 -> 0 | F7: ='SO01 SO01A Pol'!BB11 -> 0 | G7: ='SO01 SO01A Pol'!BC11 -> 0 | H7: ='SO01 SO01A Pol'!BD11 -> 0 | I7: ='SO01 SO01A Pol'!BE11 -> 0
A8: ='SO01 SO01A Pol'!B12 -> 11 | B8: ='SO01 SO01A Pol'!C12 -> Vedlejší náklady | E8: ='SO01 SO01A Pol'!BA14 -> 0 | F8: ='SO01 SO01A Pol'!BB14 -> 0 | G8: ='SO01 SO01A Pol'!BC14 -> 0 | H8: ='SO01 SO01A Pol'!BD14 -> 0 | I8: ='SO01 SO01A Pol'!BE14 -> 0
B9: CELKEM OBJEKT | E9: =SUM(E7:E8) -> 0 | F9: =SUM(F7:F8) -> 0 | G9: =SUM(G7:G8) -> 0 | H9: =SUM(H7:H8) -> 0 | I9: =SUM(I7:I8) -> 0
A11: VEDLEJŠÍ ROZPOČTOVÉ NÁKLADY
A13: Název VRN | E13: Kč | F13: % | G13: Základna | I13: Kč
A14: Ztížené výrobní podmínky | G14: 0 | I14: =E14+F14*G14/100 -> 0 | BA14: 0
A15: Oborová přirážka | G15: 0 | I15: =E15+F15*G15/100 -> 0 | BA15: 0
A16: Přesun stavebních kapacit | G16: 0 | I16: =E16+F16*G16/100 -> 0 | BA16: 0
A17: Mimostaveništní doprava | G17: 0 | I17: =E17+F17*G17/100 -> 0 | BA17: 0
A18: Zařízení staveniště | G18: 0 | I18: =E18+F18*G18/100 -> 0 | BA18: 1
A19: Provoz investora | G19: 0 | I19: =E19+F19*G19/100 -> 0 | BA19: 1
A20: Kompletační činnost (IČD) | G20: 0 | I20: =E20+F20*G20/100 -> 0 | BA20: 2
A21: Rezerva rozpočtu | G21: 0 | I21: =E21+F21*G21/100 -> 0 | BA21: 2
B22: CELKEM VRN | H22: =SUM(I14:I21) -> 0

Sheet SO01 SO01A Pol
A1: Slepý rozpočet
A3: Stavba : | C3: 2016/05 446 B.J. 23PB KODUS Veselí nad Moravou, budova CD | E3: Rozpočet: | F3: ='SO01 SO01A Rek'!H1 -> SO01A
A4: Objekt : | C4: SO01 Stavební rozpočet | E4: ='SO01 SO01A Rek'!G2 -> Vedlejší a ostatní náklady
A6: P.č. | B6: Číslo položky | C6: Název položky | D6: MJ | E6: množství | F6: cena / MJ | G6: celkem (Kč) | H6: Jednotková hmotnost | I6: Celková hmotnost | J6: Jednotková dem.hmot. | K6: Celková dem.hmot.
A7: Díl: | B7: 1 | C7: Vedlejší náklady | O7: 1
A8: 1 | B8: 0/1 | C8: Projekt skutečného vyhotovení "viz Zadávací podmínky a dokumenty" | D8: soubor | E8: 1 | F8: 0 | G8: =E8*F8 -> 0 | H8: 0 | I8: =E8*H8 -> 0 | K8: =E8*J8 -> 0 | O8: 2 | AA8: 12 | AB8: 0 | AC8: 1 | AZ8: 1 | BA8: =IF(AZ8=1,G8,0) -> 0 | BB8: =IF(AZ8=2,G8,0) -> 0 | BC8: =IF(AZ8=3,G8,0) -> 0 | BD8: =IF(AZ8=4,G8,0) -> 0 | BE8: =IF(AZ8=5,G8,0) -> 0 | CA8: 12 | CB8: 0
A9: 2 | B9: 0/2 | C9: Reklamní billboard 4x2m "viz Zadávací podmínky a další dokumenty " | D9: soubor | E9: 1 | F9: 0 | G9: =E9*F9 -> 0 | H9: 0 | I9: =E9*H9 -> 0 | K9: =E9*J9 -> 0 | O9: 2 | AA9: 12 | AB9: 0 | AC9: 2 | AZ9: 1 | BA9: =IF(AZ9=1,G9,0) -> 0 | BB9: =IF(AZ9=2,G9,0) -> 0 | BC9: =IF(AZ9=3,G9,0) -> 0 | BD9: =IF(AZ9=4,G9,0) -> 0 | BE9: =IF(AZ9=5,G9,0) -> 0 | CA9: 12 | CB9: 0
A10: 3 | B10: 0/3 | C10: Pamštní deska 0,6/0,5m "viz Zadávací podmínky a další dokumenty " | D10: soubor | E10: 1 | F10: 0 | G10: =E10*F10 -> 0 | H10: 0 | I10: =E10*H10 -> 0 | K10: =E10*J10 -> 0 | O10: 2 | AA10: 12 | AB10: 0 | AC10: 3 | AZ10: 1 | BA10: =IF(AZ10=1,G10,0) -> 0 | BB10: =IF(AZ10=2,G10,0) -> 0 | BC10: =IF(AZ10=3,G10,0) -> 0 | BD10: =IF(AZ10=4,G10,0) -> 0 | BE10: =IF(AZ10=5,G10,0) -> 0 | CA10: 12 | CB10: 0
B11: Celkem za | C11: 1 Vedlejší náklady | G11: =SUM(G7:G10) -> 0 | I11: =SUM(I7:I10) -> 0 | K11: =SUM(K7:K10) -> 0 | O11: 4 | BA11: =SUM(BA7:BA10) -> 0 | BB11: =SUM(BB7:BB10) -> 0 | BC11: =SUM(BC7:BC10) -> 0 | BD11: =SUM(BD7:BD10) -> 0 | BE11: =SUM(BE7:BE10) -> 0
A12: Díl: | B12: 11 | C12: Vedlejší náklady | O12: 1
A13: 4 | B13: V/1 | C13: Zařízení staveniště "viz Zadávací podmínky a další dokumenty | D13: soubor | E13: 1 | F13: 0 | G13: =E13*F13 -> 0 | H13: 0 | I13: =E13*H13 -> 0 | K13: =E13*J13 -> 0 | O13: 2 | AA13: 12 | AB13: 0 | AC13: 4 | AZ13: 1 | BA13: =IF(AZ13=1,G13,0) -> 0 | BB13: =IF(AZ13=2,G13,0) -> 0 | BC13: =IF(AZ13=3,G13,0) -> 0 | BD13: =IF(AZ13=4,G13,0) -> 0 | BE13: =IF(AZ13=5,G13,0) -> 0 | CA13: 12 | CB13: 0
B14: Celkem za | C14: 11 Vedlejší náklady | G14: =SUM(G12:G13) -> 0 | I14: =SUM(I12:I13) -> 0 | K14: =SUM(K12:K13) -> 0 | O14: 4 | BA14: =SUM(BA12:BA13) -> 0 | BB14: =SUM(BB12:BB13) -> 0 | BC14: =SUM(BC12:BC13) -> 0 | BD14: =SUM(BD12:BD13) -> 0 | BE14: =SUM(BE12:BE13) -> 0

Sheet SO01 RO01 KL
A1: SLEPÝ ROZPOČET
A2: Rozpočet | C2: RO01 | D2: Stavební rozpočet | F2: JKSO
A4: Objekt | F4: SKP
A5: SO01 | C5: Stavební rozpočet | F5: Měrná jednotka
A6: Stavba | F6: Počet jednotek
A7: 2016/05 | C7: 446 B.J. 23PB KODUS Veselí nad Moravou, budova CD | F7: Náklady na m.j. | G7: =IF(G6=0,,ROUND((F30+F32)/G6,1)) -> 0
A8: Projektant | F8: Typ rozpočtu
A9: Zpracovatel projektu
A10: Objednatel
A11: Dodavatel | F11: Zakázkové číslo
A12: Rozpočtoval | F12: Počet listů
A13: ROZPOČTOVÉ NÁKLADY
A14: Základní rozpočtové náklady | D14: Ostatní rozpočtové náklady
B15: HSV celkem | C15: ='SO01 RO01 Rek'!E36 -> 0 | D15: ='SO01 RO01 Rek'!A44 -> 0 | G15: ='SO01 RO01 Rek'!I44 -> 0
A16: Z | B16: PSV celkem | C16: ='SO01 RO01 Rek'!F36 -> 0
A17: R | B17: M práce celkem | C17: ='SO01 RO01 Rek'!H36 -> 0
A18: N | B18: M dodávky celkem | C18: ='SO01 RO01 Rek'!G36 -> 0
A19: ZRN celkem | C19: =SUM(C15:C18) -> 0
A21: HZS | C21: ='SO01 RO01 Rek'!I36 -> 0
A22: ZRN+HZS | C22: =C19+C21 -> 0 | D22: Ostatní náklady neuvedené | G22: =G23-SUM(G15:G21) -> 0
A23: ZRN+ost.náklady+HZS | C23: =C22+G23 -> 0 | D23: Ostatní náklady celkem | G23: ='SO01 RO01 Rek'!H42 -> 0
A24: Vypracoval | D24: Za zhotovitele | F24: Za objednatele
A25: Jméno : | D25: Jméno : | F25: Jméno :
A26: Datum : | D26: Datum : | F26: Datum :
A28: Podpis : | D28: Podpis: | F28: Podpis:
A30: Základ pro DPH | C30: 15 | D30: % | F30: =C23-F32 -> 0
A31: DPH | C31: =C30 -> 15 | D31: % | F31: =ROUND(PRODUCT(F30,C31/100),0) -> 0
A32: Základ pro DPH | C32: 0 | D32: % | F32: 0
A33: DPH | C33: =C32 -> 0 | D33: % | F33: =ROUND(PRODUCT(F32,C33/100),0) -> 0
A34: CENA ZA OBJEKT CELKEM | F34: =ROUND(SUM(F30:F33),0) -> 0
A36: Poznámka :

Sheet SO01 RO01 Rek
A1: Stavba : | C1: 2016/05 446 B.J. 23PB KODUS Veselí nad Moravou, budova CD | G1: Rozpočet : | H1: RO01
A2: Objekt : | C2: SO01 Stavební rozpočet | G2: Stavební rozpočet
A4: REKAPITULACE STAVEBNÍCH DÍLŮ
B6: Stavební díl | E6: HSV | F6: PSV | G6: Dodávka | H6: Montáž | I6: HZS
A7: ='SO01 RO01 Pol'!B7 -> 1 | B7: ='SO01 RO01 Pol'!C7 -> Zemní práce | E7: ='SO01 RO01 Pol'!BA23 -> 0 | F7: ='SO01 RO01 Pol'!BB23 -> 0 | G7: ='SO01 RO01 Pol'!BC23 -> 0 | H7: ='SO01 RO01 Pol'!BD23 -> 0 | I7: ='SO01 RO01 Pol'!BE23 -> 0
A8: ='SO01 RO01 Pol'!B24 -> 3 | B8: ='SO01 RO01 Pol'!C24 -> Svislé a kompletní konstrukce | E8: ='SO01 RO01 Pol'!BA260 -> 0 | F8: ='SO01 RO01 Pol'!BB260 -> 0 | G8: ='SO01 RO01 Pol'!BC260 -> 0 | H8: ='SO01 RO01 Pol'!BD260 -> 0 | I8: ='SO01 RO01 Pol'!BE260 -> 0
A9: ='SO01 RO01 Pol'!B261 -> 4 | B9: ='SO01 RO01 Pol'!C261 -> Vodorovné konstrukce | E9: ='SO01 RO01 Pol'!BA279 -> 0 | F9: ='SO01 RO01 Pol'!BB279 -> 0 | G9: ='SO01 RO01 Pol'!BC279 -> 0 | H9: ='SO01 RO01 Pol'!BD279 -> 0 | I9: ='SO01 RO01 Pol'!BE279 -> 0
A10: ='SO01 RO01 Pol'!B280 -> 61 | B10: ='SO01 RO01 Pol'!C280 -> Upravy povrchů vnitřní | E10: ='SO01 RO01 Pol'!BA334 -> 0 | F10: ='SO01 RO01 Pol'!BB334 -> 0 | G10: ='SO01 RO01 Pol'!BC334 -> 0 | H10: ='SO01 RO01 Pol'!BD334 -> 0 | I10: ='SO01 RO01 Pol'!BE334 -> 0
A11: ='SO01 RO01 Pol'!B335 -> 62 | B11: ='SO01 RO01 Pol'!C335 -> Úpravy povrchů vnější | E11: ='SO01 RO01 Pol'!BA432 -> 0 | F11: ='SO01 RO01 Pol'!BB432 -> 0 | G11: ='SO01 RO01 Pol'!BC432 -> 0 | H11: ='SO01 RO01 Pol'!BD432 -> 0 | I11: ='SO01 RO01 Pol'!BE432 -> 0
A12: ='SO01 RO01 Pol'!B433 -> 63 | B12: ='SO01 RO01 Pol'!C433 -> Podlahy a podlahové konstrukce | E12: ='SO01 RO01 Pol'!BA457 -> 0 | F12: ='SO01 RO01 Pol'!BB457 -> 0 | G12: ='SO01 RO01 Pol'!BC457 -> 0 | H12: ='SO01 RO01 Pol'!BD457 -> 0 | I12: ='SO01 RO01 Pol'!BE457 -> 0
A13: ='SO01 RO01 Pol'!B458 -> 94 | B13: ='SO01 RO01 Pol'!C458 -> Lešení a stavební výtahy | E13: ='SO01 RO01 Pol'!BA467 -> 0 | F13: ='SO01 RO01 Pol'!BB467 -> 0 | G13: ='SO01 RO01 Pol'!BC467 -> 0 | H13: ='SO01 RO01 Pol'!BD467 -> 0 | I13: ='SO01 RO01 Pol'!BE467 -> 0
A14: ='SO01 RO01 Pol'!B468 -> 95 | B14: ='SO01 RO01 Pol'!C468 -> Dokončovací konstrukce na pozemních stavbách | E14: ='SO01 RO01 Pol'!BA475 -> 0 | F14: ='SO01 RO01 Pol'!BB475 -> 0 | G14: ='SO01 RO01 Pol'!BC475 -> 0 | H14: ='SO01 RO01 Pol'!BD475 -> 0 | I14: ='SO01 RO01 Pol'!BE475 -> 0
A15: ='SO01 RO01 Pol'!B476 -> 96 | B15: ='SO01 RO01 Pol'!C476 -> Bourání konstrukcí | E15: ='SO01 RO01 Pol'!BA543 -> 0 | F15: ='SO01 RO01 Pol'!BB543 -> 0 | G15: ='SO01 RO01 Pol'!BC543 -> 0 | H15: ='SO01 RO01 Pol'!BD543 -> 0 | I15: ='SO01 RO01 Pol'!BE543 -> 0
A16: ='SO01 RO01 Pol'!B544 -> 97 | B16: ='SO01 RO01 Pol'!C544 -> Prorážení otvorů | E16: ='SO01 RO01 Pol'!BA604 -> 0 | F16: ='SO01 RO01 Pol'!BB604 -> 0 | G16: ='SO01 RO01 Pol'!BC604 -> 0 | H16: ='SO01 RO01 Pol'!BD604 -> 0 | I16: ='SO01 RO01 Pol'!BE604 -> 0
A17: ='SO01 RO01 Pol'!B605 -> 99 | B17: ='SO01 RO01 Pol'!C605 -> Staveništní přesun hmot | E17: ='SO01 RO01 Pol'!BA607 -> 0 | F17: ='SO01 RO01 Pol'!BB607 -> 0 | G17: ='SO01 RO01 Pol'!BC607 -> 0 | H17: ='SO01 RO01 Pol'!BD607 -> 0 | I17: ='SO01 RO01 Pol'!BE607 -> 0
A18: ='SO01 RO01 Pol'!B608 -> 711 | B18: ='SO01 RO01 Pol'!C608 -> Izolace proti vodě | E18: ='SO01 RO01 Pol'!BA621 -> 0 | F18: ='SO01 RO01 Pol'!BB621 -> 0 | G18: ='SO01 RO01 Pol'!BC621 -> 0 | H18: ='SO01 RO01 Pol'!BD621 -> 0 | I18: ='SO01 RO01 Pol'!BE621 -> 0
A19: ='SO01 RO01 Pol'!B622 -> 713 | B19: ='SO01 RO01 Pol'!C622 -> Izolace tepelné | E19: ='SO01 RO01 Pol'!BA677 -> 0 | F19: ='SO01 RO01 Pol'!BB677 -> 0 | G19: ='SO01 RO01 Pol'!BC677 -> 0 | H19: ='SO01 RO01 Pol'!BD677 -> 0 | I19: ='SO01 RO01 Pol'!BE677 -> 0
A20: ='SO01 RO01 Pol'!B678 -> 720 | B20: ='SO01 RO01 Pol'!C678 -> Zdravotechnická instalace | E20: ='SO01 RO01 Pol'!BA681 -> 0 | F20: ='SO01 RO01 Pol'!BB681 -> 0 | G20: ='SO01 RO01 Pol'!BC681 -> 0 | H20: ='SO01 RO01 Pol'!BD681 -> 0 | I20: ='SO01 RO01 Pol'!BE681 -> 0
A21: ='SO01 RO01 Pol'!B682 -> 721 | B21: ='SO01 RO01 Pol'!C682 -> Vnitřní kanalizace | E21: ='SO01 RO01 Pol'!BA684 -> 0 | F21: ='SO01 RO01 Pol'!BB684 -> 0 | G21: ='SO01 RO01 Pol'!BC684 -> 0 | H21: ='SO01 RO01 Pol'!BD684 -> 0 | I21: ='SO01 RO01 Pol'!BE684 -> 0
A22: ='SO01 RO01 Pol'!B685 -> 762 | B22: ='SO01 RO01 Pol'!C685 -> Konstrukce tesařské | E22: ='SO01 RO01 Pol'!BA723 -> 0 | F22: ='SO01 RO01 Pol'!BB723 -> 0 | G22: ='SO01 RO01 Pol'!BC723 -> 0 | H22: ='SO01 RO01 Pol'!BD723 -> 0 | I22: ='SO01 RO01 Pol'!BE723 -> 0
A23: ='SO01 RO01 Pol'!B724 -> 763 | B23: ='SO01 RO01 Pol'!C724 -> Dřevostavby | E23: ='SO01 RO01 Pol'!BA728 -> 0 | F23: ='SO01 RO01 Pol'!BB728 -> 0 | G23: ='SO01 RO01 Pol'!BC728 -> 0 | H23: ='SO01 RO01 Pol'!BD728 -> 0 | I23: ='SO01 RO01 Pol'!BE728 -> 0
A24: ='SO01 RO01 Pol'!B729 -> 764 | B24: ='SO01 RO01 Pol'!C729 -> Konstrukce klempířské | E24: ='SO01 RO01 Pol'!BA751 -> 0 | F24: ='SO01 RO01 Pol'!BB751 -> 0 | G24: ='SO01 RO01 Pol'!BC751 -> 0 | H24: ='SO01 RO01 Pol'!BD751 -> 0 | I24: ='SO01 RO01 Pol'!BE751 -> 0
A25: ='SO01 RO01 Pol'!B752 -> 766 | B25: ='SO01 RO01 Pol'!C752 -> Konstrukce truhlářské | E25: ='SO01 RO01 Pol'!BA763 -> 0 | F25: ='SO01 RO01 Pol'!BB763 -> 0 | G25: ='SO01 RO01 Pol'!BC763 -> 0 | H25: ='SO01 RO01 Pol'!BD763 -> 0 | I25: ='SO01 RO01 Pol'!BE763 -> 0
A26: ='SO01 RO01 Pol'!B764 -> 767 | B26: ='SO01 RO01 Pol'!C764 -> Konstrukce zámečnické | E26: ='SO01 RO01 Pol'!BA778 -> 0 | F26: ='SO01 RO01 Pol'!BB778 -> 0 | G26: ='SO01 RO01 Pol'!BC778 -> 0 | H26: ='SO01 RO01 Pol'!BD778 -> 0 | I26: ='SO01 RO01 Pol'!BE778 -> 0
A27: ='SO01 RO01 Pol'!B779 -> 769 | B27: ='SO01 RO01 Pol'!C779 -> Otvorové prvky z plastu | E27: ='SO01 RO01 Pol'!BA785 -> 0 | F27: ='SO01 RO01 Pol'!BB785 -> 0 | G27: ='SO01 RO01 Pol'!BC785 -> 0 | H27: ='SO01 RO01 Pol'!BD785 -> 0 | I27: ='SO01 RO01 Pol'!BE785 -> 0
A28: ='SO01 RO01 Pol'!B786 -> 771 | B28: ='SO01 RO01 Pol'!C786 -> Podlahy z dlaždic a obklady | E28: ='SO01 RO01 Pol'!BA802 -> 0 | F28: ='SO01 RO01 Pol'!BB802 -> 0 | G28: ='SO01 RO01 Pol'!BC802 -> 0 | H28: ='SO01 RO01 Pol'!BD802 -> 0 | I28: ='SO01 RO01 Pol'!BE802 -> 0
A29: ='SO01 RO01 Pol'!B803 -> 776 | B29: ='SO01 RO01 Pol'!C803 -> Podlahy povlakové | E29: ='SO01 RO01 Pol'!BA811 -> 0 | F29: ='SO01 RO01 Pol'!BB811 -> 0 | G29: ='SO01 RO01 Pol'!BC811 -> 0 | H29: ='SO01 RO01 Pol'!BD811 -> 0 | I29: ='SO01 RO01 Pol'!BE811 -> 0
A30: ='SO01 RO01 Pol'!B812 -> 781 | B30: ='SO01 RO01 Pol'!C812 -> Obklady keramické | E30: ='SO01 RO01 Pol'!BA842 -> 0 | F30: ='SO01 RO01 Pol'!BB842 -> 0 | G30: ='SO01 RO01 Pol'!BC842 -> 0 | H30: ='SO01 RO01 Pol'!BD842 -> 0 | I30: ='SO01 RO01 Pol'!BE842 -> 0
A31: ='SO01 RO01 Pol'!B843 -> 784 | B31: ='SO01 RO01 Pol'!C843 -> Malby | E31: ='SO01 RO01 Pol'!BA870 -> 0 | F31: ='SO01 RO01 Pol'!BB870 -> 0 | G31: ='SO01 RO01 Pol'!BC870 -> 0 | H31: ='SO01 RO01 Pol'!BD870 -> 0 | I31: ='SO01 RO01 Pol'!BE870 -> 0
A32: ='SO01 RO01 Pol'!B871 -> M21 | B32: ='SO01 RO01 Pol'!C871 -> Elektromontáže | E32: ='SO01 RO01 Pol'!BA874 -> 0 | F32: ='SO01 RO01 Pol'!BB874 -> 0 | G32: ='SO01 RO01 Pol'!BC874 -> 0 | H32: ='SO01 RO01 Pol'!BD874 -> 0 | I32: ='SO01 RO01 Pol'!BE874 -> 0
A33: ='SO01 RO01 Pol'!B875 -> M24 | B33: ='SO01 RO01 Pol'!C875 -> Montáže vzduchotechnických zařízení | E33: ='SO01 RO01 Pol'!BA877 -> 0 | F33: ='SO01 RO01 Pol'!BB877 -> 0 | G33: ='SO01 RO01 Pol'!BC877 -> 0 | H33: ='SO01 RO01 Pol'!BD877 -> 0 | I33: ='SO01 RO01 Pol'!BE877 -> 0
A34: ='SO01 RO01 Pol'!B878 -> M33 | B34: ='SO01 RO01 Pol'!C878 -> Montáže dopravních zařízení a vah-výtahy | E34: ='SO01 RO01 Pol'!BA880 -> 0 | F34: ='SO01 RO01 Pol'!BB880 -> 0 | G34: ='SO01 RO01 Pol'!BC880 -> 0 | H34: ='SO01 RO01 Pol'!BD880 -> 0 | I34: ='SO01 RO01 Pol'!BE880 -> 0
A35: ='SO01 RO01 Pol'!B881 -> D96 | B35: ='SO01 RO01 Pol'!C881 -> Přesuny suti a vybouraných hmot | E35: ='SO01 RO01 Pol'!BA888 -> 0 | F35: ='SO01 RO01 Pol'!BB888 -> 0 | G35: ='SO01 RO01 Pol'!BC888 -> 0 | H35: ='SO01 RO01 Pol'!BD888 -> 0 | I35: ='SO01 RO01 Pol'!BE888 -> 0
B36: CELKEM OBJEKT | E36: =SUM(E7:E35) -> 0 | F36: =SUM(F7:F35) -> 0 | G36: =SUM(G7:G35) -> 0 | H36: =SUM(H7:H35) -> 0 | I36: =SUM(I7:I35) -> 0
A38: VEDLEJŠÍ ROZPOČTOVÉ NÁKLADY
A40: Název VRN | E40: Kč | F40: % | G40: Základna | I40: Kč
G41: =CHOOSE(BA41+1,E36+F36,E36+F36+H36,E36+F36+G36+H36,E36,F36,H36,G36,H36+G36,0) -> 0 | I41: =E41+F41*G41/100 -> 0 | BA41: 8
B42: CELKEM VRN | H42: =SUM(I41:I41) -> 0

Sheet SO01 RO01 Pol
A1: Slepý rozpočet
A3: Stavba : | C3: 2016/05 446 B.J. 23PB KODUS Veselí nad Moravou, budova CD | E3: Rozpočet: | F3: ='SO01 RO01 Rek'!H1 -> RO01
A4: Objekt : | C4: SO01 Stavební rozpočet | E4: ='SO01 RO01 Rek'!G2 -> Stavební rozpočet
A6: P.č. | B6: Číslo položky | C6: Název položky | D6: MJ | E6: množství | F6: cena / MJ | G6: celkem (Kč) | H6: Jednotková hmotnost | I6: Celková hmotnost | J6: Jednotková dem.hmot. | K6: Celková dem.hmot.
A7: Díl: | B7: 1 | C7: Zemní práce | O7: 1
A8: 1 | B8: 139601102R00 | C8: Ruční výkop jam, rýh a šachet v hornině tř. 3 | D8: m3 | E8: 15.2256 | F8: 0 | G8: =E8*F8 -> 0 | H8: 0 | I8: =E8*H8 -> 0 | J8: 0 | K8: =E8*J8 -> 0 | O8: 2 | AA8: 1 | AB8: 1 | AC8: 1 | AZ8: 1 | BA8: =IF(AZ8=1,G8,0) -> 0 | BB8: =IF(AZ8=2,G8,0) -> 0 | BC8: =IF(AZ8=3,G8,0) -> 0 | BD8: =IF(AZ8=4,G8,0) -> 0 | BE8: =IF(AZ8=5,G8,0) -> 0 | CA8: 1 | CB8: 1
C9: 0,8*34,63*0,3 | E9: 8.3112 | M9: 0,8*34,63*0,3
C10: 7,6*0,8*0,3 | E10: 1.824 | M10: 7,6*0,8*0,3
C11: 1,26*0,8*0,3 | E11: 0.3024 | M11: 1,26*0,8*0,3
C12: 19,95*0,8*0,3 | E12: 4.788 | M12: 19,95*0,8*0,3
A13: 2 | B13: 162701105R00 | C13: Vodorovné přemístění výkopku z hor.1-4 do 10000 m | D13: m3 | E13: 2.145 | F13: 0 | G13: =E13*F13 -> 0 | H13: 0 | I13: =E13*H13 -> 0 | J13: 0 | K13: =E13*J13 -> 0 | O13: 2 | AA13: 1 | AB13: 1 | AC13: 1 | AZ13: 1 | BA13: =IF(AZ13=1,G13,0) -> 0 | BB13: =IF(AZ13=2,G13,0) -> 0 | BC13: =IF(AZ13=3,G13,0) -> 0 | BD13: =IF(AZ13=4,G13,0) -> 0 | BE13: =IF(AZ13=5,G13,0) -> 0 | CA13: 1 | CB13: 1
C14: 1,5*1,3*1,1 | E14: 2.145 | M14: 1,5*1,3*1,1
A15: 3 | B15: 174101102R00 | C15: Zásyp ruční se zhutněním | D15: m3 | E15: 17.3706 | F15: 0 | G15: =E15*F15 -> 0 | H15: 0 | I15: =E15*H15 -> 0 | J15: 0 | K15: =E15*J15 -> 0 | O15: 2 | AA15: 1 | AB15: 1 | AC15: 1 | AZ15: 1 | BA15: =IF(AZ15=1,G15,0) -> 0 | BB15: =IF(AZ15=2,G15,0) -> 0 | BC15: =IF(AZ15=3,G15,0) -> 0 | BD15: =IF(AZ15=4,G15,0) -> 0 | BE15: =IF(AZ15=5,G15,0) -> 0 | CA15: 1 | CB15: 1
C16: 0,8*34,63*0,3 | E16: 8.3112 | M16: 0,8*34,63*0,3
C17: 7,6*0,8*0,3 | E17: 1.824 | M17: 7,6*0,8*0,3
C18: 1,26*0,8*0,3 | E18: 0.3024 | M18: 1,26*0,8*0,3
C19: 19,95*0,8*0,3 | E19: 4.788 | M19: 19,95*0,8*0,3
C20: 1,3*1,5*1,1 | E20: 2.145 | M20: 1,3*1,5*1,1
A21: 4 | B21: 59691019.A | C21: Recyklovaná zemina | D21: T | E21: 3.432 | F21: 0 | G21: =E21*F21 -> 0 | H21: 1 | I21: =E21*H21 -> 3.432 | K21: =E21*J21 -> 0 | O21: 2 | AA21: 3 | AB21: 1 | AC21: 59691019.A | AZ21: 1 | BA21: =IF(AZ21=1,G21,0) -> 0 | BB21: =IF(AZ21=2,G21,0) -> 0 | BC21: =IF(AZ21=3,G21,0) -> 0 | BD21: =IF(AZ21=4,G21,0) -> 0 | BE21: =IF(AZ21=5,G21,0) -> 0 | CA21: 3 | CB21: 1
C22: 1,3*1,5*1,1*1,6 | E22: 3.432 | M22: 1,3*1,5*1,1*1,6
B23: Celkem za | C23: 1 Zemní práce | G23: =SUM(G7:G22) -> 0 | I23: =SUM(I7:I22) -> 3.432 | K23: =SUM(K7:K22) -> 0 | O23: 4 | BA23: =SUM(BA7:BA22) -> 0 | BB23: =SUM(BB7:BB22) -> 0 | BC23: =SUM(BC7:BC22) -> 0 | BD23: =SUM(BD7:BD22) -> 0 | BE23: =SUM(BE7:BE22) -> 0
A24: Díl: | B24: 3 | C24: Svislé a kompletní konstrukce | O24: 1
A25: 5 | B25: 310279841R00 | C25: Zazdívka otvorů pl.do 4 m2 tvárnicemi-mimo obv zdí | D25: m3 | E25: 11.452 | F25: 0 | G25: =E25*F25 -> 0 | H25: 0 | I25: =E25*H25 -> 0 | J25: 0 | K25: =E25*J25 -> 0 | O25: 2 | AA25: 1 | AB25: 1 | AC25: 1 | AZ25: 1 | BA25: =IF(AZ25=1,G25,0) -> 0 | BB25: =IF(AZ25=2,G25,0) -> 0 | BC25: =IF(AZ25=3,G25,0) -> 0 | BD25: =IF(AZ25=4,G25,0) -> 0 | BE25: =IF(AZ25=5,G25,0) -> 0 | CA25: 1 | CB25: 1
C26: 0,8*1,97*0,35*8 | E26: 4.4128 | M26: 0,8*1,97*0,35*8
C27: 0,6*1,97*0,35*6 | E27: 2.4822 | M27: 0,6*1,97*0,35*6
C28: 0,8*0,76*0,35*8 | E28: 1.7024 | M28: 0,8*0,76*0,35*8
C29: 0,6*0,76*0,35*6 | E29: 0.9576 | M29: 0,6*0,76*0,35*6
C30: 0,8*0,52*0,76*6 | E30: 1.897 | M30: 0,8*0,52*0,76*6
A31: 6 | B31: 311238115R00 | C31: Zdivo tvárnice ker. P+D P 10 na MVC 5 tl. 30 cm | D31: m2 | E31: 475.1533 | F31: 0 | G31: =E31*F31 -> 0 | H31: 0 | I31: =E31*H31 -> 0 | J31: 0 | K31: =E31*J31 -> 0 | O31: 2 | AA31: 1 | AB31: 1 | AC31: 1 | AZ31: 1 | BA31: =IF(AZ31=1,G31,0) -> 0 | BB31: =IF(AZ31=2,G31,0) -> 0 | BC31: =IF(AZ31=3,G31,0) -> 0 | BD31: =IF(AZ31=4,G31,0) -> 0 | BE31: =IF(AZ31=5,G31,0) -> 0 | CA31: 1 | CB31: 1
C32: 2,43*3,25 | E32: 7.8975 | M32: 2,43*3,25
C33: 9,93*3,25 | E33: 32.2725 | M33: 9,93*3,25
C34: -0,9*(1,97+0,48) | E34: -2.205 | M34: -0,9*(1,97+0,48)
C35: -1,55*1,55*2 | E35: -4.805 | M35: -1,55*1,55*2
C36: -0,55*1,55 | E36: -0.8525 | M36: -0,55*1,55
C37: 12,52*3,1 | E37: 38.812 | M37: 12,52*3,1
C38: -1,5*2 | E38: -3 | M38: -1,5*2
C39: -1*2 | E39: -2 | M39: -1*2
C40: -1*2 | E40: -2 | M40: -1*2
C41: -2,25*3,1 | E41: -6.975 | M41: -2,25*3,1
C42: 15*3,1 | E42: 46.5 | M42: 15*3,1
C43: -1,55*1,55*3 | E43: -7.2075 | M43: -1,55*1,55*3
... C85: -1*2 | E85: -2 | M85: -1*2
A86: 7 | B86: 311238131R00 | C86: Zdivo tvárnice ker. 25 AKU P+D P 10 na MVC 5 | D86: m2 | E86: 164.117 | F86: 0 | G86: =E86*F86 -> 0 | H86: 0 | I86: =E86*H86 -> 0 | J86: 0 | K86: =E86*J86 -> 0 | O86: 2 | AA86: 1 | AB86: 1 | AC86: 1 | AZ86: 1 | BA86: =IF(AZ86=1,G86,0) -> 0 | BB86: =IF(AZ86=2,G86,0) -> 0 | BC86: =IF(AZ86=3,G86,0) -> 0 | BD86: =IF(AZ86=4,G86,0) -> 0 | BE86: =IF(AZ86=5,G86,0) -> 0 | CA86: 1 | CB86: 1
C87: 9,405*3,1 | E87: 29.1555 | M87: 9,405*3,1
C88: 1,25*2*3,1 | E88: 7.75 | M88: 1,25*2*3,1
C89: -1,135*2,4 | E89: -2.724 | M89: -1,135*2,4
C90: 4,89*3,1 | E90: 15.159 | M90: 4,89*3,1
C91: 1,8*3,1 | E91: 5.58 | M91: 1,8*3,1
C92: 1,85*3,1 | E92: 5.735 | M92: 1,85*3,1
C93: 9,685*3,1 | E93: 30.0235 | M93: 9,685*3,1
C94: -1,135*2,4 | E94: -2.724 | M94: -1,135*2,4
C95: 5,04*3,1 | E95: 15.624 | M95: 5,04*3,1
C96: 1,8*3,1 | E96: 5.58 | M96: 1,8*3,1
C97: 1,85*3,1 | E97: 5.735 | M97: 1,85*3,1
C98: 9,68*2,9 | E98: 28.072 | M98: 9,68*2,9
... C102: 1,8*2,9 | E102: 5.22 | M102: 1,8*2,9
A103: 8 | B103: 311238212R00 | C103: Zdivo tvárnice ker. P+D P 10 na MVC 5 tl. 36,5 cm | D103: m2 | E103: 36.975 | F103: 0 | G103: =E103*F103 -> 0 | H103: 0 | I103: =E103*H103 -> 0 | J103: 0 | K103: =E103*J103 -> 0 | O103: 2 | AA103: 1 | AB103: 1 | AC103: 1 | AZ103: 1 | BA103: =IF(AZ103=1,G103,0) -> 0 | BB103: =IF(AZ103=2,G103,0) -> 0 | BC103: =IF(AZ103=3,G103,0) -> 0 | BD103: =IF(AZ103=4,G103,0) -> 0 | BE103: =IF(AZ103=5,G103,0) -> 0 | CA103: 1 | CB103: 1
C104: (1,3+1,5)*3 | E104: 8.4 | M104: (1,3+1,5)*3
C105: 11,25*2,9 | E105: 32.625 | M105: 11,25*2,9
C106: -1,5*2,7 | E106: -4.05 | M106: -1,5*2,7
A107: 9 | B107: 311238215R00 | C107: Zdivo tvárnice ker. P+D P 10 na MVC 5 tl. 40 cm | D107: m2 | E107: 29.3434 | F107: 0 | G107: =E107*F107 -> 0 | H107: 0 | I107: =E107*H107 -> 0 | J107: 0 | K107: =E107*J107 -> 0 | O107: 2 | AA107: 1 | AB107: 1 | AC107: 1 | AZ107: 1 | BA107: =IF(AZ107=1,G107,0) -> 0 | BB107: =IF(AZ107=2,G107,0) -> 0 | BC107: =IF(AZ107=3,G107,0) -> 0 | BD107: =IF(AZ107=4,G107,0) -> 0 | BE107: =IF(AZ107=5,G107,0) -> 0 | CA107: 1 | CB107: 1
C108: 0,9*1,785*6 | E108: 9.639 | M108: 0,9*1,785*6
C109: 0,53*2,085 | E109: 1.1051 | M109: 0,53*2,085
C110: 0,745*2,085 | E110: 1.5533 | M110: 0,745*2,085
C111: 0,44*2,085 | E111: 0.9174 | M111: 0,44*2,085
C112: 0,46*1,785 | E112: 0.8211 | M112: 0,46*1,785
C113: 0,96*1,785 | E113: 1.7136 | M113: 0,96*1,785
C114: 0,45*1,785 | E114: 0.8033 | M114: 0,45*1,785
C115: 0,405*1,785 | E115: 0.7229 | M115: 0,405*1,785
C116: 0,57*0,88*2 | E116: 1.0032 | M116: 0,57*0,88*2
C117: 0,2*2,085 | E117: 0.417 | M117: 0,2*2,085
C118: 0,9*1,785*4 | E118: 6.426 | M118: 0,9*1,785*4
C119: 0,155*1,785 | E119: 0.2767 | M119: 0,155*1,785
... C123: 0,575*1,785 | E123: 1.0264 | M123: 0,575*1,785
A124: 10 | B124: 311238218R00 | C124: Zdivo tvárnice ker. P+D P 10 na MVC 5 tl. 44 cm | D124: m2 | E124: 5.7634 | F124: 0 | G124: =E124*F124 -> 0 | H124: 0 | I124: =E124*H124 -> 0 | J124: 0 | K124: =E124*J124 -> 0 | O124: 2 | AA124: 1 | AB124: 1 | AC124: 1 | AZ124: 1 | BA124: =IF(AZ124=1,G124,0) -> 0 | BB124: =IF(AZ124=2,G124,0) -> 0 | BC124: =IF(AZ124=3,G124,0) -> 0 | BD124: =IF(AZ124=4,G124,0) -> 0 | BE124: =IF(AZ124=5,G124,0) -> 0 | CA124: 1 | CB124: 1
C125: 0,9*1,785 | E125: 1.6065 | M125: 0,9*1,785
C126: 0,36*1,785 | E126: 0.6426 | M126: 0,36*1,785
C127: 0,5*1,785 | E127: 0.8925 | M127: 0,5*1,785
C128: 0,96*1,1785 | E128: 1.1314 | M128: 0,96*1,1785
C129: 0,385*1,785 | E129: 0.6872 | M129: 0,385*1,785
C130: 0,45*1,785 | E130: 0.8033 | M130: 0,45*1,785
A131: 11 | B131: 317168122R00 | C131: Překlad plochý 14,5/7,1/125 cm | D131: kus | E131: 11 | F131: 0 | G131: =E131*F131 -> 0 | H131: 0 | I131: =E131*H131 -> 0 | J131: 0 | K131: =E131*J131 -> 0 | O131: 2 | AA131: 1 | AB131: 1 | AC131: 1 | AZ131: 1 | BA131: =IF(AZ131=1,G131,0) -> 0 | BB131: =IF(AZ131=2,G131,0) -> 0 | BC131: =IF(AZ131=3,G131,0) -> 0 | BD131: =IF(AZ131=4,G131,0) -> 0 | BE131: =IF(AZ131=5,G131,0) -> 0 | CA131: 1 | CB131: 1
A132: 12 | B132: 317168130R00 | C132: Překlad vysoký 23,8/7/100 cm | D132: kus | E132: 18 | F132: 0 | G132: =E132*F132 -> 0 | H132: 0 | I132: =E132*H132 -> 0 | J132: 0 | K132: =E132*J132 -> 0 | O132: 2 | AA132: 1 | AB132: 1 | AC132: 1 | AZ132: 1 | BA132: =IF(AZ132=1,G132,0) -> 0 | BB132: =IF(AZ132=2,G132,0) -> 0 | BC132: =IF(AZ132=3,G132,0) -> 0 | BD132: =IF(AZ132=4,G132,0) -> 0 | BE132: =IF(AZ132=5,G132,0) -> 0 | CA132: 1 | CB132: 1
C133: 6*1 | E133: 6 | M133: 6*1
C134: 4*3 | E134: 12 | M134: 4*3
A135: 13 | B135: 317168131R00 | C135: Překlad vysoký 23,8/7/125 cm | D135: kus | E135: 36 | F135: 0 | G135: =E135*F135 -> 0 | H135: 0 | I135: =E135*H135 -> 0 | J135: 0 | K135: =E135*J135 -> 0 | O135: 2 | AA135: 1 | AB135: 1 | AC135: 1 | AZ135: 1 | BA135: =IF(AZ135=1,G135,0) -> 0 | BB135: =IF(AZ135=2,G135,0) -> 0 | BC135: =IF(AZ135=3,G135,0) -> 0 | BD135: =IF(AZ135=4,G135,0) -> 0 | BE135: =IF(AZ135=5,G135,0) -> 0 | CA135: 1 | CB135: 1
C136: 4*9 | E136: 36 | M136: 4*9
A137: 14 | B137: 317168132R00 | C137: Překlad vysoký 23,8/7/150 cm | D137: kus | E137: 10 | F137: 0 | G137: =E137*F137 -> 0 | H137: 0 | I137: =E137*H137 -> 0 | J137: 0 | K137: =E137*J137 -> 0 | O137: 2 | AA137: 1 | AB137: 1 | AC137: 1 | AZ137: 1 | BA137: =IF(AZ137=1,G137,0) -> 0 | BB137: =IF(AZ137=2,G137,0) -> 0 | BC137: =IF(AZ137=3,G137,0) -> 0 | BD137: =IF(AZ137=4,G137,0) -> 0 | BE137: =IF(AZ137=5,G137,0) -> 0 | CA137: 1 | CB137: 1
C138: 4*1 | E138: 4 | M138: 4*1
C139: 3*2 | E139: 6 | M139: 3*2
A140: 15 | B140: 317168133R00 | C140: Překlad vysoký 23,8/7/175 cm | D140: kus | E140: 15 | F140: 0 | G140: =E140*F140 -> 0 | H140: 0 | I140: =E140*H140 -> 0 | J140: 0 | K140: =E140*J140 -> 0 | O140: 2 | AA140: 1 | AB140: 1 | AC140: 1 | AZ140: 1 | BA140: =IF(AZ140=1,G140,0) -> 0 | BB140: =IF(AZ140=2,G140,0) -> 0 | BC140: =IF(AZ140=3,G140,0) -> 0 | BD140: =IF(AZ140=4,G140,0) -> 0 | BE140: =IF(AZ140=5,G140,0) -> 0 | CA140: 1 | CB140: 1
C141: 4*2 | E141: 8 | M141: 4*2
C142: 7*1 | E142: 7 | M142: 7*1
A143: 16 | B143: 317168134R00 | C143: Překlad vysoký 23,8/7/200 cm | D143: kus | E143: 65 | F143: 0 | G143: =E143*F143 -> 0 | H143: 0 | I143: =E143*H143 -> 0 | J143: 0 | K143: =E143*J143 -> 0 | O143: 2 | AA143: 1 | AB143: 1 | AC143: 1 | AZ143: 1 | BA143: =IF(AZ143=1,G143,0) -> 0 | BB143: =IF(AZ143=2,G143,0) -> 0 | BC143: =IF(AZ143=3,G143,0) -> 0 | BD143: =IF(AZ143=4,G143,0) -> 0 | BE143: =IF(AZ143=5,G143,0) -> 0 | CA143: 1 | CB143: 1
C144: 6*3 | E144: 18 | M144: 6*3
C145: 7*1 | E145: 7 | M145: 7*1
C146: 4*10 | E146: 40 | M146: 4*10
A147: 17 | B147: 317168136R00 | C147: Překlad vysoký 23,8/7/250 cm | D147: kus | E147: 12 | F147: 0 | G147: =E147*F147 -> 0 | H147: 0 | I147: =E147*H147 -> 0 | J147: 0 | K147: =E147*J147 -> 0 | O147: 2 | AA147: 1 | AB147: 1 | AC147: 1 | AZ147: 1 | BA147: =IF(AZ147=1,G147,0) -> 0 | BB147: =IF(AZ147=2,G147,0) -> 0 | BC147: =IF(AZ147=3,G147,0) -> 0 | BD147: =IF(AZ147=4,G147,0) -> 0 | BE147: =IF(AZ147=5,G147,0) -> 0 | CA147: 1 | CB147: 1
C148: 4*3 | E148: 12 | M148: 4*3
A149: 18 | B149: 317168139R00 | C149: Překlad vysoký 23,8/7/325 cm | D149: kus | E149: 8 | F149: 0 | G149: =E149*F149 -> 0 | H149: 0 | I149: =E149*H149 -> 0 | J149: 0 | K149: =E149*J149 -> 0 | O149: 2 | AA149: 1 | AB149: 1 | AC149: 1 | AZ149: 1 | BA149: =IF(AZ149=1,G149,0) -> 0 | BB149: =IF(AZ149=2,G149,0) -> 0 | BC149: =IF(AZ149=3,G149,0) -> 0 | BD149: =IF(AZ149=4,G149,0) -> 0 | BE149: =IF(AZ149=5,G149,0) -> 0 | CA149: 1 | CB149: 1
...

Sheet SO01 SO01A KL-1
A1: SLEPÝ ROZPOČET
A2: Rozpočet | C2: SO01A | D2: Vedlejší a ostatní náklady | F2: JKSO
A4: Objekt | F4: SKP
A5: SO01 | C5: Stavební rozpočet | F5: Měrná jednotka
A6: Stavba | F6: Počet jednotek
A7: 2016/05 | C7: 446 B.J. 23PB KODUS Veselí nad Moravou, budova CD | F7: Náklady na m.j. | G7: =IF(G6=0,,ROUND((F30+F32)/G6,1)) -> 0
A8: Projektant | F8: Typ rozpočtu
A9: Zpracovatel projektu
A10: Objednatel
A11: Dodavatel | F11: Zakázkové číslo
A12: Rozpočtoval | F12: Počet listů
A13: ROZPOČTOVÉ NÁKLADY
A14: Základní rozpočtové náklady | D14: Ostatní rozpočtové náklady
B15: HSV celkem | C15: ='SO01 SO01A Rek-1'!E9 -> 0 | D15: ='SO01 SO01A Rek-1'!A14 -> Ztížené výrobní podmínky | G15: ='SO01 SO01A Rek-1'!I14 -> 0
A16: Z | B16: PSV celkem | C16: ='SO01 SO01A Rek-1'!F9 -> 0 | D16: ='SO01 SO01A Rek-1'!A15 -> Oborová přirážka | G16: ='SO01 SO01A Rek-1'!I15 -> 0
A17: R | B17: M práce celkem | C17: ='SO01 SO01A Rek-1'!H9 -> 0 | D17: ='SO01 SO01A Rek-1'!A16 -> Přesun stavebních kapacit | G17: ='SO01 SO01A Rek-1'!I16 -> 0
A18: N | B18: M dodávky celkem | C18: ='SO01 SO01A Rek-1'!G9 -> 0 | D18: ='SO01 SO01A Rek-1'!A17 -> Mimostaveništní doprava | G18: ='SO01 SO01A Rek-1'!I17 -> 0
A19: ZRN celkem | C19: =SUM(C15:C18) -> 0 | D19: ='SO01 SO01A Rek-1'!A18 -> Zařízení staveniště | G19: ='SO01 SO01A Rek-1'!I18 -> 0
D20: ='SO01 SO01A Rek-1'!A19 -> Provoz investora | G20: ='SO01 SO01A Rek-1'!I19 -> 0
A21: HZS | C21: ='SO01 SO01A Rek-1'!I9 -> 0 | D21: ='SO01 SO01A Rek-1'!A20 -> Kompletační činnost (IČD) | G21: ='SO01 SO01A Rek-1'!I20 -> 0
A22: ZRN+HZS | C22: =C19+C21 -> 0 | D22: Ostatní náklady neuvedené | G22: =G23-SUM(G15:G21) -> 0
A23: ZRN+ost.náklady+HZS | C23: =C22+G23 -> 0 | D23: Ostatní náklady celkem | G23: ='SO01 SO01A Rek-1'!H22 -> 0
A24: Vypracoval | D24: Za zhotovitele | F24: Za objednatele
A25: Jméno : | D25: Jméno : | F25: Jméno :
A26: Datum : | D26: Datum : | F26: Datum :
A28: Podpis : | D28: Podpis: | F28: Podpis:
A30: Základ pro DPH | C30: 21 | D30: % | F30: =C23-F32 -> 0
A31: DPH | C31: =C30 -> 21 | D31: % | F31: =ROUND(PRODUCT(F30,C31/100),0) -> 0
A32: Základ pro DPH | C32: 0 | D32: % | F32: 0
A33: DPH | C33: =C32 -> 0 | D33: % | F33: =ROUND(PRODUCT(F32,C33/100),0) -> 0
A34: CENA ZA OBJEKT CELKEM | F34: =ROUND(SUM(F30:F33),0) -> 0
A36: Poznámka :

Sheet SO01 SO01A Rek-1
A1: Stavba : | C1: 2016/05 446 B.J. 23PB KODUS Veselí nad Moravou, budova CD | G1: Rozpočet : | H1: SO01A
A2: Objekt : | C2: SO01 Stavební rozpočet | G2: Vedlejší a ostatní náklady
A4: REKAPITULACE STAVEBNÍCH DÍLŮ
B6: Stavební díl | E6: HSV | F6: PSV | G6: Dodávka | H6: Montáž | I6: HZS
A7: ='SO01 SO01A Pol-1'!B7 -> 1 | B7: ='SO01 SO01A Pol-1'!C7 -> Vedlejší náklady | E7: ='SO01 SO01A Pol-1'!BA11 -> 0 | F7: ='SO01 SO01A Pol-1'!BB11 -> 0 | G7: ='SO01 SO01A Pol-1'!BC11 -> 0 | H7: ='SO01 SO01A Pol-1'!BD11 -> 0 | I7: ='SO01 SO01A Pol-1'!BE11 -> 0
A8: ='SO01 SO01A Pol-1'!B12 -> 11 | B8: ='SO01 SO01A Pol-1'!C12 -> Vedlejší náklady | E8: ='SO01 SO01A Pol-1'!BA14 -> 0 | F8: ='SO01 SO01A Pol-1'!BB14 -> 0 | G8: ='SO01 SO01A Pol-1'!BC14 -> 0 | H8: ='SO01 SO01A Pol-1'!BD14 -> 0 | I8: ='SO01 SO01A Pol-1'!BE14 -> 0
B9: CELKEM OBJEKT | E9: =SUM(E7:E8) -> 0 | F9: =SUM(F7:F8) -> 0 | G9: =SUM(G7:G8) -> 0 | H9: =SUM(H7:H8) -> 0 | I9: =SUM(I7:I8) -> 0
A11: VEDLEJŠÍ ROZPOČTOVÉ NÁKLADY
A13: Název VRN | E13: Kč | F13: % | G13: Základna | I13: Kč
A14: Ztížené výrobní podmínky | G14: 0 | I14: =E14+F14*G14/100 -> 0 | BA14: 0
A15: Oborová přirážka | G15: 0 | I15: =E15+F15*G15/100 -> 0 | BA15: 0
A16: Přesun stavebních kapacit | G16: 0 | I16: =E16+F16*G16/100 -> 0 | BA16: 0
A17: Mimostaveništní doprava | G17: 0 | I17: =E17+F17*G17/100 -> 0 | BA17: 0
A18: Zařízení staveniště | G18: 0 | I18: =E18+F18*G18/100 -> 0 | BA18: 1
A19: Provoz investora | G19: 0 | I19: =E19+F19*G19/100 -> 0 | BA19: 1
A20: Kompletační činnost (IČD) | G20: 0 | I20: =E20+F20*G20/100 -> 0 | BA20: 2
A21: Rezerva rozpočtu | G21: 0 | I21: =E21+F21*G21/100 -> 0 | BA21: 2
B22: CELKEM VRN | H22: =SUM(I14:I21) -> 0

Sheet SO01 SO01A Pol-1
A1: Slepý rozpočet
A3: Stavba : | C3: 2016/05 446 B.J. 23PB KODUS Veselí nad Moravou, budova CD | E3: Rozpočet: | F3: ='SO01 SO01A Rek-1'!H1 -> SO01A
A4: Objekt : | C4: SO01 Stavební rozpočet | E4: ='SO01 SO01A Rek-1'!G2 -> Vedlejší a ostatní náklady
A6: P.č. | B6: Číslo položky | C6: Název položky | D6: MJ | E6: množství | F6: cena / MJ | G6: celkem (Kč) | H6: Jednotková hmotnost | I6: Celková hmotnost | J6: Jednotková dem.hmot. | K6: Celková dem.hmot.
A7: Díl: | B7: 1 | C7: Vedlejší náklady | O7: 1
A8: 1 | B8: 0/1 | C8: Projekt skutečného vyhotovení "viz Zadávací podmínky a dokumenty" | D8: soubor | E8: 1 | F8: 0 | G8: =E8*F8 -> 0 | H8: 0 | I8: =E8*H8 -> 0 | K8: =E8*J8 -> 0 | O8: 2 | AA8: 12 | AB8: 0 | AC8: 1 | AZ8: 1 | BA8: =IF(AZ8=1,G8,0) -> 0 | BB8: =IF(AZ8=2,G8,0) -> 0 | BC8: =IF(AZ8=3,G8,0) -> 0 | BD8: =IF(AZ8=4,G8,0) -> 0 | BE8: =IF(AZ8=5,G8,0) -> 0 | CA8: 12 | CB8: 0
A9: 2 | B9: 0/2 | C9: Reklamní billboard 4x2m "viz Zadávací podmínky a další dokumenty " | D9: soubor | E9: 1 | F9: 0 | G9: =E9*F9 -> 0 | H9: 0 | I9: =E9*H9 -> 0 | K9: =E9*J9 -> 0 | O9: 2 | AA9: 12 | AB9: 0 | AC9: 2 | AZ9: 1 | BA9: =IF(AZ9=1,G9,0) -> 0 | BB9: =IF(AZ9=2,G9,0) -> 0 | BC9: =IF(AZ9=3,G9,0) -> 0 | BD9: =IF(AZ9=4,G9,0) -> 0 | BE9: =IF(AZ9=5,G9,0) -> 0 | CA9: 12 | CB9: 0
A10: 3 | B10: 0/3 | C10: Pamštní deska 0,6/0,5m "viz Zadávací podmínky a další dokumenty " | D10: soubor | E10: 1 | F10: 0 | G10: =E10*F10 -> 0 | H10: 0 | I10: =E10*H10 -> 0 | K10: =E10*J10 -> 0 | O10: 2 | AA10: 12 | AB10: 0 | AC10: 3 | AZ10: 1 | BA10: =IF(AZ10=1,G10,0) -> 0 | BB10: =IF(AZ10=2,G10,0) -> 0 | BC10: =IF(AZ10=3,G10,0) -> 0 | BD10: =IF(AZ10=4,G10,0) -> 0 | BE10: =IF(AZ10=5,G10,0) -> 0 | CA10: 12 | CB10: 0
B11: Celkem za | C11: 1 Vedlejší náklady | G11: =SUM(G7:G10) -> 0 | I11: =SUM(I7:I10) -> 0 | K11: =SUM(K7:K10) -> 0 | O11: 4 | BA11: =SUM(BA7:BA10) -> 0 | BB11: =SUM(BB7:BB10) -> 0 | BC11: =SUM(BC7:BC10) -> 0 | BD11: =SUM(BD7:BD10) -> 0 | BE11: =SUM(BE7:BE10) -> 0
A12: Díl: | B12: 11 | C12: Vedlejší náklady | O12: 1
A13: 4 | B13: V/1 | C13: Zařízení staveniště "viz Zadávací podmínky a další dokumenty | D13: soubor | E13: 1 | F13: 0 | G13: =E13*F13 -> 0 | H13: 0 | I13: =E13*H13 -> 0 | K13: =E13*J13 -> 0 | O13: 2 | AA13: 12 | AB13: 0 | AC13: 4 | AZ13: 1 | BA13: =IF(AZ13=1,G13,0) -> 0 | BB13: =IF(AZ13=2,G13,0) -> 0 | BC13: =IF(AZ13=3,G13,0) -> 0 | BD13: =IF(AZ13=4,G13,0) -> 0 | BE13: =IF(AZ13=5,G13,0) -> 0 | CA13: 12 | CB13: 0
B14: Celkem za | C14: 11 Vedlejší náklady | G14: =SUM(G12:G13) -> 0 | I14: =SUM(I12:I13) -> 0 | K14: =SUM(K12:K13) -> 0 | O14: 4 | BA14: =SUM(BA12:BA13) -> 0 | BB14: =SUM(BB12:BB13) -> 0 | BC14: =SUM(BC12:BC13) -> 0 | BD14: =SUM(BD12:BD13) -> 0 | BE14: =SUM(BE12:BE13) -> 0
