{"text_format":"1","workbook":"xlsx","n_sheets":46,"sheets":["Stavba","301 301.1RD KL","301 301.1RD Rek","301 301.1RD Pol","301 301.2RD KL","301 301.2RD Rek","301 301.2RD Pol","302 302.1RD KL","302 302.1RD Rek","302 302.1RD Pol","302 302.2RD KL","302 302.2RD Rek","302 302.2RD Pol","303 303.1RD KL","303 303.1RD Rek","303 303.1RD Pol","303 303.2RD KL","303 303.2RD Rek","303 303.2RD Pol","304 304RD KL","304 304RD Rek","304 304RD Pol","304RD M21.6 Elektro ČSOV A","304RD M21.6 Elektro ČSOV C","304RD M35.5 Technologie ČSOV A","304RD M35.5 Technologie ČSOV C","305 305RD KL","305 305RD Rek","305 305RD Pol","305RD M21 Rek. elektro ČSOV A","305RD M21 elektro ČSOV A","305RS M21 Rek. elektro ČSOV C","305RD M21 elektro ČSOV C","306 306RD KL","306 306RD Rek","306 306RD Pol","307 307RD KL","307 307RD Rek","307 307RD Pol","308 308.1RD KL","308 308.1RD Rek","308 308.1RD Pol","308 308.2RD KL","308 308.2RD Rek","308 308.2RD Pol","ONS"],"not_rendered":{"charts":0,"images":0,"macros":0,"external_links":0,"defined_names":143,"comments":0,"pivot_tables":0},"unopened":[],"bounds":{"document_bytes":16777216,"sheet_cells":100000,"rows_first":2000,"rows_last":500,"rows_between":2000,"halvings":0,"cell_chars":16384,"cell_head_chars":4096},"cells_cut":0,"cells_raw":0,"read":"whole","date_system":"1900"}

{"sheet":"Stavba","index":0,"n_rows":55,"n_cols":10,"rows_kept":55,"cut":false,"hidden":false,"merged":[[18,8,18,9],[19,8,19,9],[20,8,20,9],[21,8,21,9],[22,8,22,9]]}
[]
[null,null,"Položkový rozpočet stavby",null,null,null,null,"Datum: "]
[null,null,null," "]
[]
[null,null,"Stavba :","3232","Horní Slivno - Splašková kanalizace"]
[]
[null,null,"Objednatel : ","Obec Horní Slivno",null,null,null,"IČO :"]
[null,null,null,"Horní Slivno 107",null,null,null,"DIČ :"]
[null,null,"29479","Horní Slivno"]
[]
[null,null,"Zhotovitel : ",".",null,null,null,"IČO :"]
[null,null,null,null,null,null,null,"DIČ :"]
[]
[null,null,"Za zhotovitele :",null,null,null,null,"Za objednatele :"]
[]
[null,null,"_______________",null,null,null,null,"_______________"]
[]
[null,null,null,null,null,null,null,null,null,"Rozpočtové náklady"]
[null,"Základ pro DPH",null,15,"%",null,null,null,{"$f":"ROUND(G38,0)","v":0}]
[null,"DPH ",null,{"$f":"SazbaDPH1","v":15},"%",null,null,null,{"$f":"ROUND(I19*D20/100,0)","v":0}]
[null,"Základ pro DPH",null,21,"%",null,null,null,{"$f":"ROUND(H38,0)","v":0}]
[null,"DPH ",null,{"$f":"SazbaDPH2","v":21},"%",null,null,null,{"$f":"ROUND(I21*D21/100,0)","v":0}]
[null,"Cena celkem za stavbu",null,null,null,null,null,null,{"$f":"SUM(I19:I22)","v":0}]
[]
[]
[null,"Rekapitulace stavebních objektů a provozních souborů"]
[]
[null,"Číslo a název objektu / provozního souboru",null,null,null,"Cena celkem",{"$f":"CONCATENATE(\"Základ DPH \",SazbaDPH1,\" %\")","v":"Základ DPH 15 %"},{"$f":"CONCATENATE(\"Základ DPH \",SazbaDPH2,\" %\")","v":"Základ DPH 21 %"},"DPH celkem","%"]
[null,"301","Splašková kanalizace",null,null,{"$f":"G29+H29+I29","v":0},0,{"$f":"SUM(H43:H44)","v":0},{"$f":"(G29*SazbaDPH1)/100+(H29*SazbaDPH2)/100","v":0},{"$f":"IF(CelkemObjekty=0,\"\",F29/CelkemObjekty*100)","v":""}]
[null,"302","Kanalizační výtlaky",null,null,{"$f":"G30+H30+I30","v":0},0,{"$f":"SUM(H45:H46)","v":0},0,""]
[null,"303","Kanalizační přípojky",null,null,0,0,{"$f":"SUM(H47:H48)","v":0},0,""]
[null,"304","Čerpací stanice",null,null,0,0,{"$f":"SUM(H49)","v":0},0,""]
[null,"305","Kabelové přípojky NN",null,null,0,0,{"$f":"SUM(H50)","v":0},0,""]
[null,"306","Přeložky vodovodu",null,null,0,0,{"$f":"SUM(H51)","v":0},0,""]
[null,"307","Přeložky sdělovacích vedení",null,null,0,0,{"$f":"SUM(H52)","v":0},0,""]
[null,"308","Opravy povrchů",null,null,0,0,{"$f":"SUM(H53:H54)","v":0},0,""]
[null,"ONS","Ostatní náklady stavby",null,null,0,0,{"$f":"SUM(ONS!G28)","v":0},0,""]
[null,"Celkem za stavbu",null,null,null,{"$f":"SUM(F29:F37)","v":0},{"$f":"SUM(G29:G37)","v":0},{"$f":"SUM(H29:H37)","v":0},{"$f":"SUM(I29:I37)","v":0},{"$f":"IF(CelkemObjekty=0,\"\",F38/CelkemObjekty*100)","v":""}]
[]
[null,"Rekapitulace stavebních rozpočtů"]
[]
[null,"Číslo objektu","Číslo a název rozpočtu",null,null,"Cena celkem",{"$f":"CONCATENATE(\"Základ DPH \",SazbaDPH1,\" %\")","v":"Základ DPH 15 %"},{"$f":"CONCATENATE(\"Základ DPH \",SazbaDPH2,\" %\")","v":"Základ DPH 21 %"},"DPH celkem","%"]
[null,"301","301.1RD Splašková kanalizace",null,null,{"$f":"G43+H43+I43","v":0},0,{"$f":"SUM('301 301.1RD KL'!C23)","v":0},{"$f":"(G43*SazbaDPH1)/100+(H43*SazbaDPH2)/100","v":0},{"$f":"IF(CelkemObjekty=0,\"\",F43/CelkemObjekty*100)","v":""}]
[null,"301","301.2RD Splašková kanalizace - neuznatelné náklady",null,null,{"$f":"G44+H44+I44","v":0},0,{"$f":"SUM('301 301.2RD KL'!C23)","v":0},0,""]
[null,"302","302.1RD Kanalizační výtlaky - km 0,000-1,618.79",null,null,0,0,{"$f":"SUM('302 302.1RD KL'!C23)","v":0},0,""]
[null,"302","302.2RD Kanalizační výtlaky - km 1,618.79 - 4,197.00",null,null,0,0,{"$f":"SUM('302 302.2RD KL'!C23)","v":0},0,""]
[null,"303","303.1RD Kanalizační přípojky",null,null,0,0,{"$f":"SUM('303 303.1RD KL'!C23)","v":0},0,""]
[null,"303","303.2RD Kanalizační přípojky - neuznatelné náklady",null,null,0,0,{"$f":"SUM('303 303.2RD KL'!C23)","v":0},0,""]
[null,"304","304RD Čerpací stanice",null,null,0,0,{"$f":"SUM('304 304RD KL'!C23)","v":0},0,""]
[null,"305","305RD Kabelové přípojky NN",null,null,0,0,{"$f":"SUM('305 305RD KL'!C23)","v":0},0,""]
[null,"306","306RD Přeložky vodovodu",null,null,0,0,{"$f":"SUM('306 306RD KL'!C23)","v":0},0,""]
[null,"307","307RD Přeložky sdělovacích vedení",null,null,0,0,{"$f":"SUM('307 307RD KL'!C23)","v":0},0,""]
[null,"308","308.1RD Opravy povrchů",null,null,0,0,{"$f":"SUM('308 308.1RD KL'!C23)","v":0},0,""]
[null,"308","308.2RD Příjezdové komunikace k ČSOV \"A\" a \"C\"",null,null,0,0,{"$f":"SUM('308 308.2RD KL'!C23)","v":0},0,""]
[null,"Celkem za stavbu",null,null,null,{"$f":"SUM(F43:F54)","v":0},{"$f":"SUM(G43:G54)","v":0},{"$f":"SUM(H43:H54)","v":0},{"$f":"SUM(I43:I54)","v":0},{"$f":"IF(CelkemObjekty=0,\"\",F55/CelkemObjekty*100)","v":""}]

{"sheet":"301 301.1RD KL","index":1,"n_rows":45,"n_cols":8,"rows_kept":45,"cut":false,"hidden":false,"merged":[[22,0,22,1],[7,2,7,4],[8,2,8,4],[9,2,9,4],[10,2,10,4],[11,2,11,4],[50,1,50,6],[29,5,29,6],[30,5,30,6],[31,5,31,6],[32,5,32,6],[33,5,33,6],[36,1,44,6],[45,1,45,6],[46,1,46,6],[47,1,47,6],[48,1,48,6],[49,1,49,6]]}
["POLOŽKOVÝ ROZPOČET"]
["Rozpočet",null,"301.1RD","Splašková kanalizace",null,"JKSO ","827.21.A5"]
[]
["Objekt",null,null,null,null,"SKP "]
["301",null,"Splašková kanalizace",null,null,"Měrná jednotka","m"]
["Stavba",null,null,null,null,"Počet jednotek",0]
["3232",null,"Horní Slivno - Splašková kanalizace",null,null,"Náklady na m.j.",{"$f":"IF(G6=0,,ROUND((F30+F32)/G6,1))","v":0}]
["Projektant",null,"Radek Hnát - VAK PROJEKT",null,null,"Typ rozpočtu"]
["Zpracovatel projektu"]
["Objednatel",null,"Obec Horní Slivno"]
["Dodavatel",null,".",null,null,"Zakázkové číslo "]
["Rozpočtoval",null,null,null,null,"Počet listů"]
["ROZPOČTOVÉ NÁKLADY"]
["Základní rozpočtové náklady"]
[null,"HSV celkem",{"$f":"'301 301.1RD Rek'!E12","v":0}]
["Z","PSV celkem",{"$f":"'301 301.1RD Rek'!F12","v":0}]
["R","M práce celkem",{"$f":"'301 301.1RD Rek'!H12","v":0}]
["N","M dodávky celkem",{"$f":"'301 301.1RD Rek'!G12","v":0}]
["ZRN celkem",null,{"$f":"SUM(C15:C18)","v":0}]
[]
["HZS",null,{"$f":"'301 301.1RD Rek'!I12","v":0}]
["ZRN+HZS",null,{"$f":"C19+C21","v":0}]
["ZRN+ost.náklady+HZS",null,{"$f":"C22+G23","v":0}]
["Vypracoval",null,null,"Za zhotovitele",null,"Za objednatele"]
["Jméno :",null,null,"Jméno :",null,"Jméno :"]
["Datum :",null,null,"Datum :",null,"Datum :"]
[]
["Podpis :",null,null,"Podpis:",null,"Podpis:"]
[]
["Základ pro DPH",null,21,"%  ",null,{"$f":"C23-F32","v":0}]
["DPH",null,{"$f":"C30","v":21},"% ",null,{"$f":"ROUND(PRODUCT(F30,C31/100),0)","v":0}]
["Základ pro DPH",null,0,"% ",null,0]
["DPH",null,{"$f":"C32","v":0},"% ",null,{"$f":"ROUND(PRODUCT(F32,C33/100),0)","v":0}]
["CENA ZA OBJEKT CELKEM",null,null,null,null,{"$f":"ROUND(SUM(F30:F33),0)","v":0}]
[]
["Poznámka :",null,null,null,null,null,null," "]
[null,null,null,null,null,null,null," "]
[null,null,null,null,null,null,null," "]
[null,null,null,null,null,null,null," "]
[null,null,null,null,null,null,null," "]
[null,null,null,null,null,null,null," "]
[null,null,null,null,null,null,null," "]
[null,null,null,null,null,null,null," "]
[null,null,null,null,null,null,null," "]
[null,null,null,null,null,null,null," "]

{"sheet":"301 301.1RD Rek","index":2,"n_rows":12,"n_cols":9,"rows_kept":12,"cut":false,"hidden":false,"merged":[[0,0,0,1],[1,0,1,1],[1,6,1,8]]}
["Stavba :",null,"3232 Horní Slivno - Splašková kanalizace",null,null,null,"Rozpočet :","301.1RD"]
["Objekt :",null,"301 Splašková kanalizace",null,null,null,"Splašková kanalizace"]
[]
["REKAPITULACE  STAVEBNÍCH  DÍLŮ"]
[]
[null,"Stavební díl",null,null,"HSV","PSV","Dodávka","Montáž","HZS"]
[{"$f":"'301 301.1RD Pol'!B7","v":"1"},{"$f":"'301 301.1RD Pol'!C7","v":"Zemní práce"},null,null,{"$f":"'301 301.1RD Pol'!BA306","v":0},{"$f":"'301 301.1RD Pol'!BB306","v":0},{"$f":"'301 301.1RD Pol'!BC306","v":0},{"$f":"'301 301.1RD Pol'!BD306","v":0},{"$f":"'301 301.1RD Pol'!BE306","v":0}]
[{"$f":"'301 301.1RD Pol'!B307","v":"2"},{"$f":"'301 301.1RD Pol'!C307","v":"Základy a zvláštní zakládání"},null,null,{"$f":"'301 301.1RD Pol'!BA328","v":0},{"$f":"'301 301.1RD Pol'!BB328","v":0},{"$f":"'301 301.1RD Pol'!BC328","v":0},{"$f":"'301 301.1RD Pol'!BD328","v":0},{"$f":"'301 301.1RD Pol'!BE328","v":0}]
[{"$f":"'301 301.1RD Pol'!B329","v":"45"},{"$f":"'301 301.1RD Pol'!C329","v":"Podkladní a vedlejší konstrukce"},null,null,{"$f":"'301 301.1RD Pol'!BA373","v":0},{"$f":"'301 301.1RD Pol'!BB373","v":0},{"$f":"'301 301.1RD Pol'!BC373","v":0},{"$f":"'301 301.1RD Pol'!BD373","v":0},{"$f":"'301 301.1RD Pol'!BE373","v":0}]
[{"$f":"'301 301.1RD Pol'!B374","v":"8"},{"$f":"'301 301.1RD Pol'!C374","v":"Trubní vedení"},null,null,{"$f":"'301 301.1RD Pol'!BA665","v":0},{"$f":"'301 301.1RD Pol'!BB665","v":0},{"$f":"'301 301.1RD Pol'!BC665","v":0},{"$f":"'301 301.1RD Pol'!BD665","v":0},{"$f":"'301 301.1RD Pol'!BE665","v":0}]
[{"$f":"'301 301.1RD Pol'!B666","v":"99"},{"$f":"'301 301.1RD Pol'!C666","v":"Staveništní přesun hmot"},null,null,{"$f":"'301 301.1RD Pol'!BA668","v":0},{"$f":"'301 301.1RD Pol'!BB668","v":0},{"$f":"'301 301.1RD Pol'!BC668","v":0},{"$f":"'301 301.1RD Pol'!BD668","v":0},{"$f":"'301 301.1RD Pol'!BE668","v":0}]
[null,"CELKEM  OBJEKT",null,null,{"$f":"SUM(E7:E11)","v":0},{"$f":"SUM(F7:F11)","v":0},{"$f":"SUM(G7:G11)","v":0},{"$f":"SUM(H7:H11)","v":0},{"$f":"SUM(I7:I11)","v":0}]

{"sheet":"301 301.1RD Pol","index":3,"n_rows":668,"n_cols":80,"rows_kept":668,"cut":false,"hidden":false,"merged":[[0,0,0,6],[2,0,2,1],[3,0,3,1],[3,4,3,6],[8,2,8,6],[9,2,9,6],[10,2,10,3],[11,2,11,3],[18,2,18,3],[19,2,19,3],[20,2,20,3],[21,2,21,3],[22,2,22,3],[23,2,23,3],[12,2,12,3],[13,2,13,3],[14,2,14,3],[15,2,15,3],[16,2,16,3],[17,2,17,3],[31,2,31,6],[32,2,32,3],[33,2,33,3],[34,2,34,3],[35,2,35,3],[36,2,36,3],[24,2,24,3],[25,2,25,3],[26,2,26,3],[27,2,27,3],[28,2,28,3],[30,2,30,6],[43,2,43,3],[44,2,44,3],[45,2,45,3],[46,2,46,3],[47,2,47,3],[48,2,48,3],[37,2,37,3],[38,2,38,3],[39,2,39,3],[40,2,40,3],[41,2,41,3],[42,2,42,3],[56,2,56,3],[57,2,57,3],[58,2,58,3],[59,2,59,3],[60,2,60,3],[61,2,61,3],[50,2,50,6],[51,2,51,6],[52,2,52,3],[53,2,53,3],[54,2,54,3],[55,2,55,3],[68,2,68,3],[70,2,70,3],[71,2,71,3],[72,2,72,3],[73,2,73,3],[74,2,74,3],[62,2,62,3],[63,2,63,3],[64,2,64,3],[65,2,65,3],[66,2,66,3],[67,2,67,3],[81,2,81,3],[82,2,82,3],[83,2,83,3],[84,2,84,3],[85,2,85,3],[86,2,86,3],[75,2,75,3],[76,2,76,3],[77,2,77,3],[78,2,78,3],[79,2,79,3],[80,2,80,3],[94,2,94,3],[95,2,95,3],[96,2,96,3],[97,2,97,3],[98,2,98,3],[99,2,99,3],[88,2,88,6],[89,2,89,6],[90,2,90,3],[91,2,91,3],[92,2,92,3],[93,2,93,3],[106,2,106,3],[108,2,108,3],[109,2,109,3],[110,2,110,3],[111,2,111,3],[112,2,112,3],[100,2,100,3],[101,2,101,3],[102,2,102,3],[103,2,103,3],[104,2,104,3],[105,2,105,3],[119,2,119,3],[120,2,120,3],[121,2,121,3],[122,2,122,3],[123,2,123,3],[124,2,124,3],[113,2,113,3],[114,2,114,3],[115,2,115,3],[116,2,116,3],[117,2,117,3],[118,2,118,3],[132,2,132,3],[133,2,133,3],[134,2,134,3],[135,2,135,3],[136,2,136,3],[137,2,137,3],[126,2,126,6],[127,2,127,6],[128,2,128,6],[129,2,129,3],[130,2,130,3],[131,2,131,3],[144,2,144,3],[145,2,145,3],[147,2,147,6],[148,2,148,6],[149,2,149,6],[150,2,150,3],[138,2,138,3],[139,2,139,3],[140,2,140,3],[141,2,141,3],[142,2,142,3],[143,2,143,3],[157,2,157,3],[158,2,158,3],[159,2,159,3],[160,2,160,3],[161,2,161,3],[162,2,162,3],[151,2,151,3],[152,2,152,3],[153,2,153,3],[154,2,154,3],[155,2,155,3],[156,2,156,3],[170,2,170,3],[171,2,171,3],[172,2,172,3],[173,2,173,3],[174,2,174,3],[175,2,175,3],[163,2,163,3],[164,2,164,3],[165,2,165,3],[166,2,166,3],[168,2,168,3],[169,2,169,3],[182,2,182,3],[183,2,183,3],[184,2,184,3],[185,2,185,3],[186,2,186,3],[187,2,187,3],[176,2,176,3],[177,2,177,3],[178,2,178,3],[179,2,179,3],[180,2,180,3],[181,2,181,3],[195,2,195,3],[196,2,196,3],[197,2,197,3],[198,2,198,3],[199,2,199,3],[200,2,200,3],[188,2,188,3],[190,2,190,3],[191,2,191,3],[192,2,192,3],[193,2,193,3],[194,2,194,3],[207,2,207,3],[208,2,208,3],[209,2,209,3],[210,2,210,3],[211,2,211,3],[212,2,212,3],[201,2,201,3],[202,2,202,3],[203,2,203,3],[204,2,204,3],[205,2,205,3],[206,2,206,3],[219,2,219,3],[220,2,220,3],[221,2,221,3],[222,2,222,3],[223,2,223,3],[224,2,224,3],[213,2,213,3],[214,2,214,3],[215,2,215,3],[216,2,216,3],[217,2,217,3],[218,2,218,3],[232,2,232,3],[233,2,233,3],[234,2,234,3],[235,2,235,3],[236,2,236,3],[237,2,237,3],[225,2,225,3],[226,2,226,3],[228,2,228,6],[229,2,229,3],[230,2,230,3],[231,2,231,3],[244,2,244,3],[245,2,245,3],[246,2,246,3],[247,2,247,3],[248,2,248,3],[249,2,249,3],[238,2,238,3],[239,2,239,3],[240,2,240,3],[241,2,241,3],[242,2,242,3],[243,2,243,3],[256,2,256,3],[257,2,257,3],[258,2,258,3],[259,2,259,3],[260,2,260,3],[261,2,261,3],[250,2,250,3],[251,2,251,3],[252,2,252,3],[253,2,253,3],[254,2,254,3],[255,2,255,3],[269,2,269,3],[270,2,270,3],[271,2,271,3],[272,2,272,3],[273,2,273,3],[274,2,274,3],[262,2,262,3],[263,2,263,3],[264,2,264,3],[265,2,265,3],[267,2,267,3],[268,2,268,3],[281,2,281,3],[282,2,282,3],[284,2,284,3],[285,2,285,3],[286,2,286,3],[287,2,287,3],[275,2,275,3],[276,2,276,3],[277,2,277,3],[278,2,278,3],[279,2,279,3],[280,2,280,3],[294,2,294,3],[295,2,295,3],[296,2,296,3],[297,2,297,3],[298,2,298,3],[299,2,299,3],[288,2,288,3],[289,2,289,3],[290,2,290,3],[291,2,291,3],[292,2,292,3],[293,2,293,3],[300,2,300,3],[301,2,301,3],[302,2,302,3],[303,2,303,3],[304,2,304,3],[317,2,317,3],[318,2,318,3],[319,2,319,3],[320,2,320,3],[308,2,308,3],[309,2,309,3],[310,2,310,3],[311,2,311,3],[312,2,312,3],[313,2,313,3],[314,2,314,3],[315,2,315,3],[316,2,316,3],[330,2,330,6],[331,2,331,3],[332,2,332,3],[333,2,333,3],[334,2,334,3],[335,2,335,3],[337,2,337,6],[338,2,338,3],[321,2,321,3],[322,2,322,3],[323,2,323,3],[324,2,324,3],[325,2,325,3],[326,2,326,3],[346,2,346,3],[347,2,347,3],[348,2,348,3],[349,2,349,3],[350,2,350,3],[351,2,351,3],[339,2,339,3],[341,2,341,3],[342,2,342,3],[343,2,343,3],[344,2,344,3],[345,2,345,3],[359,2,359,3],[361,2,361,3],[362,2,362,3],[364,2,364,3],[365,2,365,3],[367,2,367,3],[352,2,352,3],[353,2,353,3],[354,2,354,3],[355,2,355,3],[356,2,356,3],[358,2,358,3],[380,2,380,3],[381,2,381,3],[382,2,382,3],[383,2,383,3],[384,2,384,3],[385,2,385,3],[368,2,368,3],[370,2,370,3],[371,2,371,3],[375,2,375,6],[376,2,376,6],[377,2,377,3],[378,2,378,3],[379,2,379,3],[393,2,393,6],[394,2,394,3],[396,2,396,6],[397,2,397,6],[398,2,398,3],[400,2,400,6],[386,2,386,3],[387,2,387,3],[388,2,388,3],[389,2,389,3],[390,2,390,3],[392,2,392,6],[407,2,407,3],[408,2,408,3],[409,2,409,3],[410,2,410,3],[411,2,411,3],[412,2,412,3],[401,2,401,6],[402,2,402,3],[403,2,403,3],[404,2,404,3],[405,2,405,3],[406,2,406,3],[421,2,421,3],[422,2,422,3],[423,2,423,3],[424,2,424,3],[425,2,425,3],[426,2,426,3],[413,2,413,3],[414,2,414,3],[415,2,415,3],[417,2,417,3],[419,2,419,6],[420,2,420,3],[433,2,433,3],[434,2,434,3],[436,2,436,3],[437,2,437,3],[438,2,438,3],[439,2,439,3],[427,2,427,3],[428,2,428,3],[429,2,429,3],[430,2,430,3],[431,2,431,3],[432,2,432,3],[446,2,446,3],[447,2,447,3],[448,2,448,3],[449,2,449,3],[450,2,450,3],[451,2,451,3],[440,2,440,3],[441,2,441,3],[442,2,442,3],[443,2,443,3],[444,2,444,3],[445,2,445,3],[460,2,460,3],[461,2,461,3],[462,2,462,3],[463,2,463,3],[464,2,464,3],[465,2,465,3],[453,2,453,6],[454,2,454,3],[456,2,456,3],[457,2,457,3],[458,2,458,3],[459,2,459,3],[473,2,473,6],[474,2,474,6],[475,2,475,3],[476,2,476,3],[477,2,477,3],[478,2,478,3],[466,2,466,3],[467,2,467,3],[468,2,468,3],[469,2,469,3],[470,2,470,3],[471,2,471,3],[485,2,485,3],[486,2,486,3],[487,2,487,3],[488,2,488,3],[489,2,489,3],[491,2,491,6],[479,2,479,3],[480,2,480,3],[481,2,481,3],[482,2,482,3],[483,2,483,3],[484,2,484,3],[498,2,498,3],[499,2,499,3],[500,2,500,3],[501,2,501,3],[502,2,502,3],[503,2,503,3],[492,2,492,6],[493,2,493,3],[494,2,494,3],[495,2,495,3],[496,2,496,3],[497,2,497,3],[510,2,510,3],[511,2,511,3],[512,2,512,3],[513,2,513,3],[514,2,514,3],[515,2,515,3],[504,2,504,3],[505,2,505,3],[506,2,506,3],[507,2,507,3],[508,2,508,3],[509,2,509,3],[522,2,522,3],[524,2,524,6],[525,2,525,6],[526,2,526,3],[527,2,527,3],[528,2,528,3],[516,2,516,3],[517,2,517,3],[518,2,518,3],[519,2,519,3],[520,2,520,3],[521,2,521,3],[535,2,535,3],[536,2,536,3],[537,2,537,3],[538,2,538,3],[539,2,539,3],[540,2,540,3],[529,2,529,3],[530,2,530,3],[531,2,531,3],[532,2,532,3],[533,2,533,3],[534,2,534,3],[548,2,548,3],[549,2,549,3],[550,2,550,3],[551,2,551,3],[552,2,552,3],[553,2,553,3],[542,2,542,6],[543,2,543,6],[544,2,544,3],[545,2,545,3],[546,2,546,3],[547,2,547,3],[560,2,560,3],[562,2,562,6],[563,2,563,3],[564,2,564,3],[566,2,566,6],[567,2,567,3],[554,2,554,3],[555,2,555,3],[556,2,556,3],[557,2,557,3],[558,2,558,3],[559,2,559,3],[575,2,575,3],[576,2,576,3],[577,2,577,3],[578,2,578,3],[579,2,579,3],[580,2,580,3],[568,2,568,3],[570,2,570,6],[571,2,571,6],[572,2,572,6],[573,2,573,3],[574,2,574,3],[587,2,587,3],[589,2,589,6],[590,2,590,6],[591,2,591,6],[592,2,592,3],[593,2,593,3],[581,2,581,3],[582,2,582,3],[583,2,583,3],[584,2,584,3],[585,2,585,3],[586,2,586,3],[600,2,600,3],[601,2,601,3],[602,2,602,3],[603,2,603,3],[604,2,604,3],[605,2,605,3],[594,2,594,3],[595,2,595,3],[596,2,596,3],[597,2,597,3],[598,2,598,3],[599,2,599,3],[613,2,613,3],[614,2,614,3],[615,2,615,3],[616,2,616,3],[617,2,617,3],[618,2,618,3],[606,2,606,3],[608,2,608,3],[609,2,609,3],[610,2,610,3],[611,2,611,3],[612,2,612,3],[626,2,626,3],[628,2,628,3],[629,2,629,3],[631,2,631,3],[632,2,632,3],[634,2,634,3],[619,2,619,3],[620,2,620,3],[621,2,621,3],[622,2,622,3],[623,2,623,3],[625,2,625,3],[644,2,644,3],[646,2,646,3],[647,2,647,3],[649,2,649,3],[650,2,650,3],[651,2,651,3],[635,2,635,3],[637,2,637,3],[638,2,638,3],[640,2,640,3],[641,2,641,3],[643,2,643,3],[658,2,658,3],[659,2,659,3],[660,2,660,3],[661,2,661,3],[662,2,662,3],[663,2,663,3],[652,2,652,3],[653,2,653,3],[654,2,654,3],[655,2,655,3],[656,2,656,3],[657,2,657,3]]}
["Položkový rozpočet "]
[]
["Stavba :",null,"3232 Horní Slivno - Splašková kanalizace",null,"Rozpočet:",{"$f":"'301 301.1RD Rek'!H1","v":"301.1RD"}]
["Objekt :",null,"301 Splašková kanalizace",null,{"$f":"'301 301.1RD Rek'!G2","v":"Splašková kanalizace"}]
[]
["P.č.","Číslo položky","Název položky","MJ","množství","cena / MJ","celkem (Kč)","Jednotková hmotnost","Celková hmotnost","Jednotková dem.hmot.","Celková dem.hmot."]
["Díl:","1","Zemní práce",null,null,null,null,null,null,null,null,null,null,null,1]
[1,"130001101RRX","Příplatek za ztížené hloubení v blízkosti vedení ","m3",2912.9176000000002,null,{"$f":"E8*F8","v":0},0,{"$f":"E8*H8","v":0},0,{"$f":"E8*J8","v":0},null,null,null,2,null,null,null,null,null,null,null,null,null,null,null,1,1,1,null,null,null,null,null,null,null,null,null,null,null,null,null,null,null,null,null,null,null,null,null,null,1,{"$f":"IF(AZ8=1,G8,0)","v":0},{"$f":"IF(AZ8=2,G8,0)","v":0},{"$f":"IF(AZ8=3,G8,0)","v":0},{"$f":"IF(AZ8=4,G8,0)","v":0},{"$f":"IF(AZ8=5,G8,0)","v":0},null,null,null,null,null,null,null,null,null,null,null,null,null,null,null,null,null,null,null,null,null,1,1]
[null,null,"Včetně ruční dokopávky a ručního výkopu.",null,null,null,null,null,null,null,null,"Včetně ruční dokopávky a ručního výkopu.",null,null,3]
[null,null,"Součástí položky je i případná potřeba dočasnéhon zajištění potrubí a kabelových vedení ve výkopu.",null,null,null,null,null,null,null,null,"Součástí položky je i případná potřeba dočasnéhon zajištění potrubí a kabelových vedení ve výkopu.",null,null,3]
[null,null,"Začátek provozního součtu",null,0,null,null,null,null,null,null,null,"Začátek provozního součtu"]
[null,null,"Kmenová stoka A KT DN250:843,2424",null,843.24239999999998,null,null,null,null,null,null,null,"Kmenová stoka A KT DN250:843,2424"]
[null,null,"Kmenová stoka A KT DN300:4649,5350",null,4649.5349999999999,null,null,null,null,null,null,null,"Kmenová stoka A KT DN300:4649,5350"]
[null,null,"Kmenová stoka A KT DN500:555,0277",null,555.02769999999998,null,null,null,null,null,null,null,"Kmenová stoka A KT DN500:555,0277"]
[null,null,"Stoka AA KT DN250:592,8530",null,592.85299999999995,null,null,null,null,null,null,null,"Stoka AA KT DN250:592,8530"]
[null,null,"Stoka AB KT DN250:111,7935",null,111.79349999999999,null,null,null,null,null,null,null,"Stoka AB KT DN250:111,7935"]
[null,null,"Stoka AC KT DN250:494,3531",null,494.35309999999998,null,null,null,null,null,null,null,"Stoka AC KT DN250:494,3531"]
[null,null,"Stoka AD KT DN250:209,8512-52,4628",null,157.38839999999999,null,null,null,null,null,null,null,"Stoka AD KT DN250:209,8512-52,4628"]
[null,null,"Stoka AE KT DN250:654,6992",null,654.69920000000002,null,null,null,null,null,null,null,"Stoka AE KT DN250:654,6992"]
[null,null,"Stoka AE-1 KT DN250:374,4468",null,374.4468,null,null,null,null,null,null,null,"Stoka AE-1 KT DN250:374,4468"]
[null,null,"Stoka AF KT DN250:485,7840-50,5440",null,435.24,null,null,null,null,null,null,null,"Stoka AF KT DN250:485,7840-50,5440"]
[null,null,"Stoka AG KT DN250:191,7232",null,191.72319999999999,null,null,null,null,null,null,null,"Stoka AG KT DN250:191,7232"]
[null,null,"Stoka AH KT DN250:255,3525",null,255.35249999999999,null,null,null,null,null,null,null,"Stoka AH KT DN250:255,3525"]
[null,null,"Sběrač B KT DN250:2317,1148",null,2317.1147999999998,null,null,null,null,null,null,null,"Sběrač B KT DN250:2317,1148"]
[null,null,"Stoka BA KT DN250:322,8498",null,322.84980000000002,null,null,null,null,null,null,null,"Stoka BA KT DN250:322,8498"]
[null,null,"Sběrač C KT DN250:851,5471",null,851.5471,null,null,null,null,null,null,null,"Sběrač C KT DN250:851,5471"]
[null,null,"Stoka CA KT DN250:495,6647-62,2966",null,433.36810000000003,null,null,null,null,null,null,null,"Stoka CA KT DN250:495,6647-62,2966"]
[null,null,"Konec provozního součtu",null,13240.534599999999,null,null,null,null,null,null,null,"Konec provozního součtu"]
[null,null,"V hornině tř. 2 - 6 - 22%:13240,5346*0,22",null,2912.9176000000002,null,null,null,null,null,null,null,"V hornině tř. 2 - 6 - 22%:13240,5346*0,22"]
[2,"132101213RRX","Hloubení rýh š.do 200 cm hor.2 do 10000 m3,STROJNĚ ","m3",1545.578,null,{"$f":"E30*F30","v":0},0,{"$f":"E30*H30","v":0},0,{"$f":"E30*J30","v":0},null,null,null,2,null,null,null,null,null,null,null,null,null,null,null,1,1,1,null,null,null,null,null,null,null,null,null,null,null,null,null,null,null,null,null,null,null,null,null,null,1,{"$f":"IF(AZ30=1,G30,0)","v":0},{"$f":"IF(AZ30=2,G30,0)","v":0},{"$f":"IF(AZ30=3,G30,0)","v":0},{"$f":"IF(AZ30=4,G30,0)","v":0},{"$f":"IF(AZ30=5,G30,0)","v":0},null,null,null,null,null,null,null,null,null,null,null,null,null,null,null,null,null,null,null,null,null,1,1]
[null,null,"Položka obsahuje hloubení rýh traktorbagrem, naložení výkopku na dopravní prostředek pro svislé, nebo vodorovné přemístění, popř. přemístění výkopku do 3 m (po povrchu území), případné zajištění rypadel polštáři, udržování pracoviště a ochranu výkopiště proti stékání srážkové vody z okolního terénu i s jejím odvodněním, nebo odvedením, přesekání a odstranění kořenů ve výkopišti, odstranění napadávek, urovnání dna výkopu.",null,null,null,null,null,null,null,null,"Položka obsahuje hloubení rýh traktorbagrem, naložení výkopku na dopravní prostředek pro svislé, nebo vodorovné přemístění, popř. přemístění výkopku do 3 m (po povrchu území), případné zajištění rypadel polštáři, udržování pracoviště a ochranu výkopiště proti stékání srážkové vody z okolního terénu i s jejím odvodněním, nebo odvedením, přesekání a odstranění kořenů ve výkopišti, odstranění napadávek, urovnání dna výkopu.",null,null,3]
[null,null,"Součástí položky je i pažení výkopů dle zvolené technologie zhotovitelem a v souladu s předpisy BOZP.",null,null,null,null,null,null,null,null,"Součástí položky je i pažení výkopů dle zvolené technologie zhotovitelem a v souladu s předpisy BOZP.",null,null,3]
[null,null,"V hornině tř. 2:",null,0,null,null,null,null,null,null,null,"V hornině tř. 2:"]
[null,null,"Kmenová stoka A KT DN250:843,2424*0,11",null,92.756699999999995,null,null,null,null,null,null,null,"Kmenová stoka A KT DN250:843,2424*0,11"]
[null,null,"Kmenová stoka A KT DN300:4649,5350*0,11",null,511.44880000000001,null,null,null,null,null,null,null,"Kmenová stoka A KT DN300:4649,5350*0,11"]
[null,null,"Kmenová stoka A KT DN500:555,0277*0,11",null,61.052999999999997,null,null,null,null,null,null,null,"Kmenová stoka A KT DN500:555,0277*0,11"]
[null,null,"Stoka AA KT DN250:592,8530*0,11",null,65.213800000000006,null,null,null,null,null,null,null,"Stoka AA KT DN250:592,8530*0,11"]
[null,null,"Stoka AB KT DN250:111,7935*0,15",null,16.768999999999998,null,null,null,null,null,null,null,"Stoka AB KT DN250:111,7935*0,15"]
[null,null,"Stoka AC KT DN250:494,3531*0,12",null,59.322400000000002,null,null,null,null,null,null,null,"Stoka AC KT DN250:494,3531*0,12"]
[null,null,"Stoka AD KT DN250:(209,8512-52,4328)*0,12",null,18.8902,null,null,null,null,null,null,null,"Stoka AD KT DN250:(209,8512-52,4328)*0,12"]
[null,null,"Stoka AE KT DN250:654,6992*0,10",null,65.469899999999996,null,null,null,null,null,null,null,"Stoka AE KT DN250:654,6992*0,10"]
[null,null,"Stoka AE-1 KT DN250:374,4468*0,13",null,48.678100000000001,null,null,null,null,null,null,null,"Stoka AE-1 KT DN250:374,4468*0,13"]
[null,null,"Stoka AF KT DN250:(485,7840-50,5440)*0,10",null,43.524000000000001,null,null,null,null,null,null,null,"Stoka AF KT DN250:(485,7840-50,5440)*0,10"]
[null,null,"Stoka AG KT DN250:191,7232*0,12",null,23.006799999999998,null,null,null,null,null,null,null,"Stoka AG KT DN250:191,7232*0,12"]
[null,null,"Stoka AH KT DN250:255,3525*0,19",null,48.517000000000003,null,null,null,null,null,null,null,"Stoka AH KT DN250:255,3525*0,19"]
[null,null,"Sběrač B KT DN250:2317,1148*0,13",null,301.22489999999999,null,null,null,null,null,null,null,"Sběrač B KT DN250:2317,1148*0,13"]
[null,null,"Stoka BA KT DN250:322,8498*0,11",null,35.513500000000001,null,null,null,null,null,null,null,"Stoka BA KT DN250:322,8498*0,11"]
[null,null,"Sběrač C KT DN250:851,5471*0,12",null,102.1857,null,null,null,null,null,null,null,"Sběrač C KT DN250:851,5471*0,12"]
[null,null,"Stoka CA KT DN250:(495,6647-62,2966)*0,12",null,52.004199999999997,null,null,null,null,null,null,null,"Stoka CA KT DN250:(495,6647-62,2966)*0,12"]
[3,"132201213RRX","Hloubení rýh š.do 200 cm hor.3 do 10000 m3,STROJNĚ ","m3",3815.7399,null,{"$f":"E50*F50","v":0},0,{"$f":"E50*H50","v":0},0,{"$f":"E50*J50","v":0},null,null,null,2,null,null,null,null,null,null,null,null,null,null,null,1,1,1,null,null,null,null,null,null,null,null,null,null,null,null,null,null,null,null,null,null,null,null,null,null,1,{"$f":"IF(AZ50=1,G50,0)","v":0},{"$f":"IF(AZ50=2,G50,0)","v":0},{"$f":"IF(AZ50=3,G50,0)","v":0},{"$f":"IF(AZ50=4,G50,0)","v":0},{"$f":"IF(AZ50=5,G50,0)","v":0},null,null,null,null,null,null,null,null,null,null,null,null,null,null,null,null,null,null,null,null,null,1,1]
[null,null,"Položka obsahuje hloubení rýh traktorbagrem, naložení výkopku na dopravní prostředek pro svislé, nebo vodorovné přemístění, popř. přemístění výkopku do 3 m (po povrchu území), případné zajištění rypadel polštáři, udržování pracoviště a ochranu výkopiště proti stékání srážkové vody z okolního terénu i s jejím odvodněním, nebo odvedením, přesekání a odstranění kořenů ve výkopišti, odstranění napadávek, urovnání dna výkopu.",null,null,null,null,null,null,null,null,"Položka obsahuje hloubení rýh traktorbagrem, naložení výkopku na dopravní prostředek pro svislé, nebo vodorovné přemístění, popř. přemístění výkopku do 3 m (po povrchu území), případné zajištění rypadel polštáři, udržování pracoviště a ochranu výkopiště proti stékání srážkové vody z okolního terénu i s jejím odvodněním, nebo odvedením, přesekání a odstranění kořenů ve výkopišti, odstranění napadávek, urovnání dna výkopu.",null,null,3]
[null,null,"Součástí položky je i pažení výkopů dle zvolené technologie zhotovitelem a v souladu s předpisy BOZP.",null,null,null,null,null,null,null,null,"Součástí položky je i pažení výkopů dle zvolené technologie zhotovitelem a v souladu s předpisy BOZP.",null,null,3]
[null,null,"V hornině tř. 3:",null,0,null,null,null,null,null,null,null,"V hornině tř. 3:"]
[null,null,"Kmenová stoka A KT DN250:843,2424*0,26",null,219.24299999999999,null,null,null,null,null,null,null,"Kmenová stoka A KT DN250:843,2424*0,26"]
[null,null,"Kmenová stoka A KT DN300:4649,5350*0,26",null,1208.8791000000001,null,null,null,null,null,null,null,"Kmenová stoka A KT DN300:4649,5350*0,26"]
[null,null,"Kmenová stoka A KT DN500:555,0277*0,26",null,144.30719999999999,null,null,null,null,null,null,null,"Kmenová stoka A KT DN500:555,0277*0,26"]
[null,null,"Stoka AA KT DN250:592,8530*0,28",null,165.99879999999999,null,null,null,null,null,null,null,"Stoka AA KT DN250:592,8530*0,28"]
[null,null,"Stoka AB KT DN250:111,7935*0,37",null,41.363599999999998,null,null,null,null,null,null,null,"Stoka AB KT DN250:111,7935*0,37"]
[null,null,"Stoka AC KT DN250:494,3531*0,31",null,153.24950000000001,null,null,null,null,null,null,null,"Stoka AC KT DN250:494,3531*0,31"]
[null,null,"Stoka AD KT DN250:(209,8512-52,4328)*0,31",null,48.799700000000001,null,null,null,null,null,null,null,"Stoka AD KT DN250:(209,8512-52,4328)*0,31"]
[null,null,"Stoka AE KT DN250:654,6992*0,25",null,163.6748,null,null,null,null,null,null,null,"Stoka AE KT DN250:654,6992*0,25"]
[null,null,"Stoka AE-1 KT DN250:374,4468*0,33",null,123.56740000000001,null,null,null,null,null,null,null,"Stoka AE-1 KT DN250:374,4468*0,33"]
[null,null,"Stoka AF KT DN250:(485,7840-50,5440)*0,26",null,113.16240000000001,null,null,null,null,null,null,null,"Stoka AF KT DN250:(485,7840-50,5440)*0,26"]
[null,null,"Stoka AG KT DN250:191,7232*0,31",null,59.434199999999997,null,null,null,null,null,null,null,"Stoka AG KT DN250:191,7232*0,31"]
[null,null,"Stoka AH KT DN250:255,3525*0,46",null,117.4622,null,null,null,null,null,null,null,"Stoka AH KT DN250:255,3525*0,46"]
[null,null,"Sběrač B KT DN250:2317,1148*0,33",null,764.64790000000005,null,null,null,null,null,null,null,"Sběrač B KT DN250:2317,1148*0,33"]
[null,null,"Stoka BA KT DN250:322,8498*0,29",null,93.626400000000004,null,null,null,null,null,null,null,"Stoka BA KT DN250:322,8498*0,29"]
[null,null,"Sběrač C KT DN250:851,5471*0,31",null,263.9796,null,null,null,null,null,null,null,"Sběrač C KT DN250:851,5471*0,31"]
[null,null,"Stoka CA KT DN250:(495,6647-62,2966)*0,31",null,134.3441,null,null,null,null,null,null,null,"Stoka CA KT DN250:(495,6647-62,2966)*0,31"]
[4,"132201219R00","Přípl.za lepivost,hloubení rýh 200cm,hor.3,STROJNĚ ","m3",1907.87,null,{"$f":"E70*F70","v":0},0,{"$f":"E70*H70","v":0},0,{"$f":"E70*J70","v":0},null,null,null,2,null,null,null,null,null,null,null,null,null,null,null,1,1,1,null,null,null,null,null,null,null,null,null,null,null,null,null,null,null,null,null,null,null,null,null,null,1,{"$f":"IF(AZ70=1,G70,0)","v":0},{"$f":"IF(AZ70=2,G70,0)","v":0},{"$f":"IF(AZ70=3,G70,0)","v":0},{"$f":"IF(AZ70=4,G70,0)","v":0},{"$f":"IF(AZ70=5,G70,0)","v":0},null,null,null,null,null,null,null,null,null,null,null,null,null,null,null,null,null,null,null,null,null,1,1]
[null,null,"V hornině tř. 3:",null,0,null,null,null,null,null,null,null,"V hornině tř. 3:"]
[null,null,"Kmenová stoka A KT DN250:843,2424*0,26*0,5",null,109.6215,null,null,null,null,null,null,null,"Kmenová stoka A KT DN250:843,2424*0,26*0,5"]
[null,null,"Kmenová stoka A KT DN300:4649,5350*0,26*0,5",null,604.43960000000004,null,null,null,null,null,null,null,"Kmenová stoka A KT DN300:4649,5350*0,26*0,5"]
[null,null,"Kmenová stoka A KT DN500:555,0277*0,26*0,5",null,72.153599999999997,null,null,null,null,null,null,null,"Kmenová stoka A KT DN500:555,0277*0,26*0,5"]
[null,null,"Stoka AA KT DN250:592,8530*0,28*0,5",null,82.999399999999994,null,null,null,null,null,null,null,"Stoka AA KT DN250:592,8530*0,28*0,5"]
[null,null,"Stoka AB KT DN250:111,7935*0,37*0,5",null,20.681799999999999,null,null,null,null,null,null,null,"Stoka AB KT DN250:111,7935*0,37*0,5"]
[null,null,"Stoka AC KT DN250:494,3531*0,31*0,5",null,76.624700000000004,null,null,null,null,null,null,null,"Stoka AC KT DN250:494,3531*0,31*0,5"]
[null,null,"Stoka AD KT DN250:(209,8512-52,4328)*0,31*0,5",null,24.399899999999999,null,null,null,null,null,null,null,"Stoka AD KT DN250:(209,8512-52,4328)*0,31*0,5"]
[null,null,"Stoka AE KT DN250:654,6992*0,25*0,5",null,81.837400000000002,null,null,null,null,null,null,null,"Stoka AE KT DN250:654,6992*0,25*0,5"]
[null,null,"Stoka AE-1 KT DN250:374,4468*0,33*0,5",null,61.783700000000003,null,null,null,null,null,null,null,"Stoka AE-1 KT DN250:374,4468*0,33*0,5"]
[null,null,"Stoka AF KT DN250:(485,7840-50,5440)*0,26*0,5",null,56.581200000000003,null,null,null,null,null,null,null,"Stoka AF KT DN250:(485,7840-50,5440)*0,26*0,5"]
[null,null,"Stoka AG KT DN250:191,7232*0,31*0,5",null,29.717099999999999,null,null,null,null,null,null,null,"Stoka AG KT DN250:191,7232*0,31*0,5"]
[null,null,"Stoka AH KT DN250:255,3525*0,46*0,5",null,58.731099999999998,null,null,null,null,null,null,null,"Stoka AH KT DN250:255,3525*0,46*0,5"]
[null,null,"Sběrač B KT DN250:2317,1148*0,33*0,5",null,382.32389999999998,null,null,null,null,null,null,null,"Sběrač B KT DN250:2317,1148*0,33*0,5"]
[null,null,"Stoka BA KT DN250:322,8498*0,29*0,5",null,46.813200000000002,null,null,null,null,null,null,null,"Stoka BA KT DN250:322,8498*0,29*0,5"]
[null,null,"Sběrač C KT DN250:851,5471*0,31*0,5",null,131.9898,null,null,null,null,null,null,null,"Sběrač C KT DN250:851,5471*0,31*0,5"]
[null,null,"Stoka CA KT DN250:(495,6647-62,2966)*0,31*0,5",null,67.1721,null,null,null,null,null,null,null,"Stoka CA KT DN250:(495,6647-62,2966)*0,31*0,5"]
[5,"132301213RRX","Hloubení rýh š.do 200 cm hor.4 do 10000 m3,STROJNĚ ","m3",4509.5628999999999,null,{"$f":"E88*F88","v":0},0,{"$f":"E88*H88","v":0},0,{"$f":"E88*J88","v":0},null,null,null,2,null,null,null,null,null,null,null,null,null,null,null,1,1,1,null,null,null,null,null,null,null,null,null,null,null,null,null,null,null,null,null,null,null,null,null,null,1,{"$f":"IF(AZ88=1,G88,0)","v":0},{"$f":"IF(AZ88=2,G88,0)","v":0},{"$f":"IF(AZ88=3,G88,0)","v":0},{"$f":"IF(AZ88=4,G88,0)","v":0},{"$f":"IF(AZ88=5,G88,0)","v":0},null,null,null,null,null,null,null,null,null,null,null,null,null,null,null,null,null,null,null,null,null,1,1]
[null,null,"Položka obsahuje hloubení rýh traktorbagrem, naložení výkopku na dopravní prostředek pro svislé, nebo vodorovné přemístění, popř. přemístění výkopku do 3 m (po povrchu území), případné zajištění rypadel polštáři, udržování pracoviště a ochranu výkopiště proti stékání srážkové vody z okolního terénu i s jejím odvodněním, nebo odvedením, přesekání a odstranění kořenů ve výkopišti, odstranění napadávek, urovnání dna výkopu.",null,null,null,null,null,null,null,null,"Položka obsahuje hloubení rýh traktorbagrem, naložení výkopku na dopravní prostředek pro svislé, nebo vodorovné přemístění, popř. přemístění výkopku do 3 m (po povrchu území), případné zajištění rypadel polštáři, udržování pracoviště a ochranu výkopiště proti stékání srážkové vody z okolního terénu i s jejím odvodněním, nebo odvedením, přesekání a odstranění kořenů ve výkopišti, odstranění napadávek, urovnání dna výkopu.",null,null,3]
[null,null,"Součástí položky je i pažení výkopů dle zvolené technologie zhotovitelem a v souladu s předpisy BOZP.",null,null,null,null,null,null,null,null,"Součástí položky je i pažení výkopů dle zvolené technologie zhotovitelem a v souladu s předpisy BOZP.",null,null,3]
[null,null,"V hornině tř. 4:",null,0,null,null,null,null,null,null,null,"V hornině tř. 4:"]
[null,null,"Kmenová stoka A KT DN250:843,2424*0,33",null,278.27,null,null,null,null,null,null,null,"Kmenová stoka A KT DN250:843,2424*0,33"]
[null,null,"Kmenová stoka A KT DN300:4649,5350*0,33",null,1534.3465000000001,null,null,null,null,null,null,null,"Kmenová stoka A KT DN300:4649,5350*0,33"]
[null,null,"Kmenová stoka A KT DN500:555,0277*0,33",null,183.1591,null,null,null,null,null,null,null,"Kmenová stoka A KT DN500:555,0277*0,33"]
[null,null,"Stoka AA KT DN250:592,8530*0,26",null,154.14179999999999,null,null,null,null,null,null,null,"Stoka AA KT DN250:592,8530*0,26"]
[null,null,"Stoka AB KT DN250:111,7935*0,37",null,41.363599999999998,null,null,null,null,null,null,null,"Stoka AB KT DN250:111,7935*0,37"]
[null,null,"Stoka AC KT DN250:494,3531*0,26",null,128.5318,null,null,null,null,null,null,null,"Stoka AC KT DN250:494,3531*0,26"]
[null,null,"Stoka AD KT DN250:(209,8512-52,4328)*0,29",null,45.651299999999999,null,null,null,null,null,null,null,"Stoka AD KT DN250:(209,8512-52,4328)*0,29"]
[null,null,"Stoka AE KT DN250:654,6992*0,44",null,288.06760000000003,null,null,null,null,null,null,null,"Stoka AE KT DN250:654,6992*0,44"]
[null,null,"Stoka AE-1 KT DN250:374,4468*0,38",null,142.28980000000001,null,null,null,null,null,null,null,"Stoka AE-1 KT DN250:374,4468*0,38"]
[null,null,"Stoka AF KT DN250:(485,7840-50,5440)*0,38",null,165.3912,null,null,null,null,null,null,null,"Stoka AF KT DN250:(485,7840-50,5440)*0,38"]
[null,null,"Stoka AG KT DN250:191,7232*0,29",null,55.599699999999999,null,null,null,null,null,null,null,"Stoka AG KT DN250:191,7232*0,29"]
[null,null,"Stoka AH KT DN250:255,3525*0,26",null,66.391599999999997,null,null,null,null,null,null,null,"Stoka AH KT DN250:255,3525*0,26"]
[null,null,"Sběrač B KT DN250:2317,1148*0,32",null,741.47670000000005,null,null,null,null,null,null,null,"Sběrač B KT DN250:2317,1148*0,32"]
[null,null,"Stoka BA KT DN250:322,8498*0,41",null,132.36840000000001,null,null,null,null,null,null,null,"Stoka BA KT DN250:322,8498*0,41"]
[null,null,"Sběrač C KT DN250:851,5471*0,43",null,366.1653,null,null,null,null,null,null,null,"Sběrač C KT DN250:851,5471*0,43"]
[null,null,"Stoka CA KT DN250:(495,6647-62,2966)*0,43",null,186.34829999999999,null,null,null,null,null,null,null,"Stoka CA KT DN250:(495,6647-62,2966)*0,43"]
[6,"132301219R00","Přípl.za lepivost,hloubení rýh 200cm,hor.4,STROJNĚ ","m3",2254.7815000000001,null,{"$f":"E108*F108","v":0},0,{"$f":"E108*H108","v":0},0,{"$f":"E108*J108","v":0},null,null,null,2,null,null,null,null,null,null,null,null,null,null,null,1,1,1,null,null,null,null,null,null,null,null,null,null,null,null,null,null,null,null,null,null,null,null,null,null,1,{"$f":"IF(AZ108=1,G108,0)","v":0},{"$f":"IF(AZ108=2,G108,0)","v":0},{"$f":"IF(AZ108=3,G108,0)","v":0},{"$f":"IF(AZ108=4,G108,0)","v":0},{"$f":"IF(AZ108=5,G108,0)","v":0},null,null,null,null,null,null,null,null,null,null,null,null,null,null,null,null,null,null,null,null,null,1,1]
[null,null,"V hornině tř. 4:",null,0,null,null,null,null,null,null,null,"V hornině tř. 4:"]
[null,null,"Kmenová stoka A KT DN250:843,2424*0,33*0,5",null,139.13499999999999,null,null,null,null,null,null,null,"Kmenová stoka A KT DN250:843,2424*0,33*0,5"]
[null,null,"Kmenová stoka A KT DN300:4649,5350*0,33*0,5",null,767.17330000000004,null,null,null,null,null,null,null,"Kmenová stoka A KT DN300:4649,5350*0,33*0,5"]
[null,null,"Kmenová stoka A KT DN500:555,0277*0,33*0,5",null,91.579599999999999,null,null,null,null,null,null,null,"Kmenová stoka A KT DN500:555,0277*0,33*0,5"]
[null,null,"Stoka AA KT DN250:592,8530*0,26*0,5",null,77.070899999999995,null,null,null,null,null,null,null,"Stoka AA KT DN250:592,8530*0,26*0,5"]
[null,null,"Stoka AB KT DN250:111,7935*0,37*0,5",null,20.681799999999999,null,null,null,null,null,null,null,"Stoka AB KT DN250:111,7935*0,37*0,5"]
[null,null,"Stoka AC KT DN250:494,3531*0,26*0,5",null,64.265900000000002,null,null,null,null,null,null,null,"Stoka AC KT DN250:494,3531*0,26*0,5"]
[null,null,"Stoka AD KT DN250:(209,8512-52,4328)*0,29*0,5",null,22.825700000000001,null,null,null,null,null,null,null,"Stoka AD KT DN250:(209,8512-52,4328)*0,29*0,5"]
[null,null,"Stoka AE KT DN250:654,6992*0,44*0,5",null,144.03380000000001,null,null,null,null,null,null,null,"Stoka AE KT DN250:654,6992*0,44*0,5"]
[null,null,"Stoka AE-1 KT DN250:374,4468*0,38*0,5",null,71.144900000000007,null,null,null,null,null,null,null,"Stoka AE-1 KT DN250:374,4468*0,38*0,5"]
[null,null,"Stoka AF KT DN250:(485,7840-50,5440)*0,38*0,5",null,82.695599999999999,null,null,null,null,null,null,null,"Stoka AF KT DN250:(485,7840-50,5440)*0,38*0,5"]
[null,null,"Stoka AG KT DN250:191,7232*0,29*0,5",null,27.799900000000001,null,null,null,null,null,null,null,"Stoka AG KT DN250:191,7232*0,29*0,5"]
[null,null,"Stoka AH KT DN250:255,3525*0,26*0,5",null,33.195799999999998,null,null,null,null,null,null,null,"Stoka AH KT DN250:255,3525*0,26*0,5"]
[null,null,"Sběrač B KT DN250:2317,1148*0,32*0,5",null,370.73840000000001,null,null,null,null,null,null,null,"Sběrač B KT DN250:2317,1148*0,32*0,5"]
[null,null,"Stoka BA KT DN250:322,8498*0,41*0,5",null,66.184200000000004,null,null,null,null,null,null,null,"Stoka BA KT DN250:322,8498*0,41*0,5"]
[null,null,"Sběrač C KT DN250:851,5471*0,43*0,5",null,183.08260000000001,null,null,null,null,null,null,null,"Sběrač C KT DN250:851,5471*0,43*0,5"]
[null,null,"Stoka CA KT DN250:(495,6647-62,2966)*0,43*0,5",null,93.174099999999996,null,null,null,null,null,null,null,"Stoka CA KT DN250:(495,6647-62,2966)*0,43*0,5"]
[7,"132401211RRX","Hloubení rýh šířky do 200 cm v hor.5, STROJNĚ ","m3",2862.0210000000002,null,{"$f":"E126*F126","v":0},0,{"$f":"E126*H126","v":0},0,{"$f":"E126*J126","v":0},null,null,null,2,null,null,null,null,null,null,null,null,null,null,null,1,1,1,null,null,null,null,null,null,null,null,null,null,null,null,null,null,null,null,null,null,null,null,null,null,1,{"$f":"IF(AZ126=1,G126,0)","v":0},{"$f":"IF(AZ126=2,G126,0)","v":0},{"$f":"IF(AZ126=3,G126,0)","v":0},{"$f":"IF(AZ126=4,G126,0)","v":0},{"$f":"IF(AZ126=5,G126,0)","v":0},null,null,null,null,null,null,null,null,null,null,null,null,null,null,null,null,null,null,null,null,null,1,1]
[null,null,"Položka obsahuje hloubení rýh traktorbagrem, naložení výkopku na dopravní prostředek pro svislé, nebo vodorovné přemístění, popř. přemístění výkopku do 3 m (po povrchu území), případné zajištění rypadel polštáři, udržování pracoviště a ochranu výkopiště proti stékání srážkové vody z okolního terénu i s jejím odvodněním, nebo odvedením, přesekání a odstranění kořenů ve výkopišti, odstranění napadávek, urovnání dna výkopu.",null,null,null,null,null,null,null,null,"Položka obsahuje hloubení rýh traktorbagrem, naložení výkopku na dopravní prostředek pro svislé, nebo vodorovné přemístění, popř. přemístění výkopku do 3 m (po povrchu území), případné zajištění rypadel polštáři, udržování pracoviště a ochranu výkopiště proti stékání srážkové vody z okolního terénu i s jejím odvodněním, nebo odvedením, přesekání a odstranění kořenů ve výkopišti, odstranění napadávek, urovnání dna výkopu.",null,null,3]
[null,null,"Součástí položky je i pažení výkopů dle zvolené technologie zhotovitelem a v souladu s předpisy BOZP.",null,null,null,null,null,null,null,null,"Součástí položky je i pažení výkopů dle zvolené technologie zhotovitelem a v souladu s předpisy BOZP.",null,null,3]
[null,null,"Součástí položky je i případné dolamování horniny v prostoru rýhy.",null,null,null,null,null,null,null,null,"Součástí položky je i případné dolamování horniny v prostoru rýhy.",null,null,3]
[null,null,"V hornině tř. 5:",null,0,null,null,null,null,null,null,null,"V hornině tř. 5:"]
[null,null,"Kmenová stoka A KT DN250:843,2424*0,25",null,210.81059999999999,null,null,null,null,null,null,null,"Kmenová stoka A KT DN250:843,2424*0,25"]
[null,null,"Kmenová stoka A KT DN300:4649,5350*0,25",null,1162.3837000000001,null,null,null,null,null,null,null,"Kmenová stoka A KT DN300:4649,5350*0,25"]
[null,null,"Kmenová stoka A KT DN500:555,0277*0,25",null,138.7569,null,null,null,null,null,null,null,"Kmenová stoka A KT DN500:555,0277*0,25"]
[null,null,"Stoka AA KT DN250:592,8530*0,35",null,207.49850000000001,null,null,null,null,null,null,null,"Stoka AA KT DN250:592,8530*0,35"]
[null,null,"Stoka AB KT DN250:111,7935*0,11",null,12.2973,null,null,null,null,null,null,null,"Stoka AB KT DN250:111,7935*0,11"]
[null,null,"Stoka AC KT DN250:494,3531*0,25",null,123.5883,null,null,null,null,null,null,null,"Stoka AC KT DN250:494,3531*0,25"]
[null,null,"Stoka AD KT DN250:(209,8512-52,4328)*0,19",null,29.909500000000001,null,null,null,null,null,null,null,"Stoka AD KT DN250:(209,8512-52,4328)*0,19"]
[null,null,"Stoka AE KT DN250:654,6992*0,14",null,91.657899999999998,null,null,null,null,null,null,null,"Stoka AE KT DN250:654,6992*0,14"]
[null,null,"Stoka AE-1 KT DN250:374,4468*0,14",null,52.422600000000003,null,null,null,null,null,null,null,"Stoka AE-1 KT DN250:374,4468*0,14"]
[null,null,"Stoka AF KT DN250:(485,7840-50,5440)*0,26",null,113.16240000000001,null,null,null,null,null,null,null,"Stoka AF KT DN250:(485,7840-50,5440)*0,26"]
[null,null,"Stoka AG KT DN250:191,7232*0,28",null,53.682499999999997,null,null,null,null,null,null,null,"Stoka AG KT DN250:191,7232*0,28"]
[null,null,"Stoka AH KT DN250:255,3525*0,09",null,22.9817,null,null,null,null,null,null,null,"Stoka AH KT DN250:255,3525*0,09"]
[null,null,"Sběrač B KT DN250:2317,1148*0,19",null,440.2518,null,null,null,null,null,null,null,"Sběrač B KT DN250:2317,1148*0,19"]
[null,null,"Stoka BA KT DN250:322,8498*0,15",null,48.427500000000002,null,null,null,null,null,null,null,"Stoka BA KT DN250:322,8498*0,15"]
[null,null,"Sběrač C KT DN250:851,5471*0,12",null,102.1857,null,null,null,null,null,null,null,"Sběrač C KT DN250:851,5471*0,12"]
[null,null,"Stoka CA KT DN250:(495,6647-62,2966)*0,12",null,52.004199999999997,null,null,null,null,null,null,null,"Stoka CA KT DN250:(495,6647-62,2966)*0,12"]
[8,"132501211RRX","Hloubení rýh šířky do 200 cm v hor.6, STROJNĚ ","m3",433.017,null,{"$f":"E147*F147","v":0},0,{"$f":"E147*H147","v":0},0,{"$f":"E147*J147","v":0},null,null,null,2,null,null,null,null,null,null,null,null,null,null,null,1,1,1,null,null,null,null,null,null,null,null,null,null,null,null,null,null,null,null,null,null,null,null,null,null,1,{"$f":"IF(AZ147=1,G147,0)","v":0},{"$f":"IF(AZ147=2,G147,0)","v":0},{"$f":"IF(AZ147=3,G147,0)","v":0},{"$f":"IF(AZ147=4,G147,0)","v":0},{"$f":"IF(AZ147=5,G147,0)","v":0},null,null,null,null,null,null,null,null,null,null,null,null,null,null,null,null,null,null,null,null,null,1,1]
[null,null,"Položka obsahuje hloubení rýh traktorbagrem, naložení výkopku na dopravní prostředek pro svislé, nebo vodorovné přemístění, popř. přemístění výkopku do 3 m (po povrchu území), případné zajištění rypadel polštáři, udržování pracoviště a ochranu výkopiště proti stékání srážkové vody z okolního terénu i s jejím odvodněním, nebo odvedením, přesekání a odstranění kořenů ve výkopišti, odstranění napadávek, urovnání dna výkopu.",null,null,null,null,null,null,null,null,"Položka obsahuje hloubení rýh traktorbagrem, naložení výkopku na dopravní prostředek pro svislé, nebo vodorovné přemístění, popř. přemístění výkopku do 3 m (po povrchu území), případné zajištění rypadel polštáři, udržování pracoviště a ochranu výkopiště proti stékání srážkové vody z okolního terénu i s jejím odvodněním, nebo odvedením, přesekání a odstranění kořenů ve výkopišti, odstranění napadávek, urovnání dna výkopu.",null,null,3]
[null,null,"Součástí položky je i pažení výkopů dle zvolené technologie zhotovitelem a v souladu s předpisy BOZP.",null,null,null,null,null,null,null,null,"Součástí položky je i pažení výkopů dle zvolené technologie zhotovitelem a v souladu s předpisy BOZP.",null,null,3]
[null,null,"Součástí položky je i případné dolamování horniny v prostoru rýhy.",null,null,null,null,null,null,null,null,"Součástí položky je i případné dolamování horniny v prostoru rýhy.",null,null,3]
[null,null,"V hornině tř. 6:",null,0,null,null,null,null,null,null,null,"V hornině tř. 6:"]
[null,null,"Kmenová stoka A KT DN250:843,2424*0,04",null,33.729700000000001,null,null,null,null,null,null,null,"Kmenová stoka A KT DN250:843,2424*0,04"]
[null,null,"Kmenová stoka A KT DN300:4649,5350*0,04",null,185.98140000000001,null,null,null,null,null,null,null,"Kmenová stoka A KT DN300:4649,5350*0,04"]
[null,null,"Kmenová stoka A KT DN500:555,0277*0,04",null,22.2011,null,null,null,null,null,null,null,"Kmenová stoka A KT DN500:555,0277*0,04"]
[null,null,"Stoka AA KT DN250:592,8530*0,0",null,0,null,null,null,null,null,null,null,"Stoka AA KT DN250:592,8530*0,0"]
[null,null,"Stoka AB KT DN250:111,7935*0,0",null,0,null,null,null,null,null,null,null,"Stoka AB KT DN250:111,7935*0,0"]
[null,null,"Stoka AC KT DN250:494,3531*0,06",null,29.661200000000001,null,null,null,null,null,null,null,"Stoka AC KT DN250:494,3531*0,06"]
[null,null,"Stoka AD KT DN250:(209,8512-52,4328)*0,0",null,0,null,null,null,null,null,null,null,"Stoka AD KT DN250:(209,8512-52,4328)*0,0"]
[null,null,"Stoka AE KT DN250:654,6992*0,07",null,45.828899999999997,null,null,null,null,null,null,null,"Stoka AE KT DN250:654,6992*0,07"]
[null,null,"Stoka AE-1 KT DN250:374,4468*0,02",null,7.4889000000000001,null,null,null,null,null,null,null,"Stoka AE-1 KT DN250:374,4468*0,02"]
[null,null,"Stoka AF KT DN250:(485,7840-50,5440)*0,0",null,0,null,null,null,null,null,null,null,"Stoka AF KT DN250:(485,7840-50,5440)*0,0"]
[null,null,"Stoka AG KT DN250:191,7232*0,0",null,0,null,null,null,null,null,null,null,"Stoka AG KT DN250:191,7232*0,0"]
[null,null,"Stoka AH KT DN250:255,3525*0,0",null,0,null,null,null,null,null,null,null,"Stoka AH KT DN250:255,3525*0,0"]
[null,null,"Sběrač B KT DN250:2317,1148*0,03",null,69.513400000000004,null,null,null,null,null,null,null,"Sběrač B KT DN250:2317,1148*0,03"]
[null,null,"Stoka BA KT DN250:322,8498*0,04",null,12.914,null,null,null,null,null,null,null,"Stoka BA KT DN250:322,8498*0,04"]
[null,null,"Sběrač C KT DN250:851,5471*0,02",null,17.030899999999999,null,null,null,null,null,null,null,"Sběrač C KT DN250:851,5471*0,02"]
[null,null,"Stoka CA KT DN250:(495,6647-62,2966)*0,02",null,8.6674000000000007,null,null,null,null,null,null,null,"Stoka CA KT DN250:(495,6647-62,2966)*0,02"]
[9,"162601102RX0","Vodorovné přemístění výkopku z hor.1-7 na skládku zhotovitele","m3",10356.645699999999,null,{"$f":"E168*F168","v":0},0,{"$f":"E168*H168","v":0},0,{"$f":"E168*J168","v":0},null,null,null,2,null,null,null,null,null,null,null,null,null,null,null,1,1,1,null,null,null,null,null,null,null,null,null,null,null,null,null,null,null,null,null,null,null,null,null,null,1,{"$f":"IF(AZ168=1,G168,0)","v":0},{"$f":"IF(AZ168=2,G168,0)","v":0},{"$f":"IF(AZ168=3,G168,0)","v":0},{"$f":"IF(AZ168=4,G168,0)","v":0},{"$f":"IF(AZ168=5,G168,0)","v":0},null,null,null,null,null,null,null,null,null,null,null,null,null,null,null,null,null,null,null,null,null,1,1]
[null,null,"Výkopy:",null,0,null,null,null,null,null,null,null,"Výkopy:"]
[null,null,"Začátek provozního součtu",null,0,null,null,null,null,null,null,null,"Začátek provozního součtu"]
[null,null,"Kmenová stoka A KT DN250:843,2424",null,843.24239999999998,null,null,null,null,null,null,null,"Kmenová stoka A KT DN250:843,2424"]
[null,null,"Kmenová stoka A KT DN300:4649,5350",null,4649.5349999999999,null,null,null,null,null,null,null,"Kmenová stoka A KT DN300:4649,5350"]
[null,null,"Kmenová stoka A KT DN500:555,0277",null,555.02769999999998,null,null,null,null,null,null,null,"Kmenová stoka A KT DN500:555,0277"]
[null,null,"Stoka AA KT DN250:592,8530",null,592.85299999999995,null,null,null,null,null,null,null,"Stoka AA KT DN250:592,8530"]
[null,null,"Stoka AB KT DN250:111,7935",null,111.79349999999999,null,null,null,null,null,null,null,"Stoka AB KT DN250:111,7935"]
[null,null,"Stoka AC KT DN250:494,3531",null,494.35309999999998,null,null,null,null,null,null,null,"Stoka AC KT DN250:494,3531"]
[null,null,"Stoka AD KT DN250:209,8512-52,4628",null,157.38839999999999,null,null,null,null,null,null,null,"Stoka AD KT DN250:209,8512-52,4628"]
[null,null,"Stoka AE KT DN250:654,6992",null,654.69920000000002,null,null,null,null,null,null,null,"Stoka AE KT DN250:654,6992"]
[null,null,"Stoka AE-1 KT DN250:374,4468",null,374.4468,null,null,null,null,null,null,null,"Stoka AE-1 KT DN250:374,4468"]
[null,null,"Stoka AF KT DN250:485,7840-50,5440",null,435.24,null,null,null,null,null,null,null,"Stoka AF KT DN250:485,7840-50,5440"]
[null,null,"Stoka AG KT DN250:191,7232",null,191.72319999999999,null,null,null,null,null,null,null,"Stoka AG KT DN250:191,7232"]
[null,null,"Stoka AH KT DN250:255,3525",null,255.35249999999999,null,null,null,null,null,null,null,"Stoka AH KT DN250:255,3525"]
[null,null,"Sběrač B KT DN250:2317,1148",null,2317.1147999999998,null,null,null,null,null,null,null,"Sběrač B KT DN250:2317,1148"]
[null,null,"Stoka BA KT DN250:322,8498",null,322.84980000000002,null,null,null,null,null,null,null,"Stoka BA KT DN250:322,8498"]
[null,null,"Sběrač C KT DN250:851,5471",null,851.5471,null,null,null,null,null,null,null,"Sběrač C KT DN250:851,5471"]
[null,null,"Stoka CA KT DN250:495,6647-62,2966",null,433.36810000000003,null,null,null,null,null,null,null,"Stoka CA KT DN250:495,6647-62,2966"]
[null,null,"Konec provozního součtu",null,13240.534599999999,null,null,null,null,null,null,null,"Konec provozního součtu"]
[null,null,"V hornině tř. 2 - 6:13240,5346",null,13240.534600000001,null,null,null,null,null,null,null,"V hornině tř. 2 - 6:13240,5346"]
[null,null,"Odpočet zásypů zeminou:-2883,8889",null,-2883.8888999999999,null,null,null,null,null,null,null,"Odpočet zásypů zeminou:-2883,8889"]
[10,"174100050RAB","Zásyp jam,rýh a šachet štěrkodrtí fr. 0-63 mm včetně dodávky štěrkodrtě","m3",6128.2638999999999,null,{"$f":"E190*F190","v":0},0,{"$f":"E190*H190","v":0},0,{"$f":"E190*J190","v":0},null,null,null,2,null,null,null,null,null,null,null,null,null,null,null,1,1,1,null,null,null,null,null,null,null,null,null,null,null,null,null,null,null,null,null,null,null,null,null,null,1,{"$f":"IF(AZ190=1,G190,0)","v":0},{"$f":"IF(AZ190=2,G190,0)","v":0},{"$f":"IF(AZ190=3,G190,0)","v":0},{"$f":"IF(AZ190=4,G190,0)","v":0},{"$f":"IF(AZ190=5,G190,0)","v":0},null,null,null,null,null,null,null,null,null,null,null,null,null,null,null,null,null,null,null,null,null,1,1]
[null,null,"Začátek provozního součtu",null,0,null,null,null,null,null,null,null,"Začátek provozního součtu"]
[null,null,"Výkopy v hornině tř. 2 - 5:",null,0,null,null,null,null,null,null,null,"Výkopy v hornině tř. 2 - 5:"]
[null,null,"Kmenová stoka A KT DN250:843,2424",null,843.24239999999998,null,null,null,null,null,null,null,"Kmenová stoka A KT DN250:843,2424"]
[null,null,"Kmenová stoka A KT DN300:4649,5350",null,4649.5349999999999,null,null,null,null,null,null,null,"Kmenová stoka A KT DN300:4649,5350"]
[null,null,"Kmenová stoka A KT DN500:555,0277",null,555.02769999999998,null,null,null,null,null,null,null,"Kmenová stoka A KT DN500:555,0277"]
[null,null,"Stoka AA KT DN250:592,8530",null,592.85299999999995,null,null,null,null,null,null,null,"Stoka AA KT DN250:592,8530"]
[null,null,"Stoka AB KT DN250:111,7935",null,111.79349999999999,null,null,null,null,null,null,null,"Stoka AB KT DN250:111,7935"]
[null,null,"Stoka AC KT DN250:494,3531",null,494.35309999999998,null,null,null,null,null,null,null,"Stoka AC KT DN250:494,3531"]
[null,null,"Stoka AD KT DN250:209,8512-52,4628",null,157.38839999999999,null,null,null,null,null,null,null,"Stoka AD KT DN250:209,8512-52,4628"]
[null,null,"Stoka AE KT DN250:654,6992",null,654.69920000000002,null,null,null,null,null,null,null,"Stoka AE KT DN250:654,6992"]
[null,null,"Stoka AE-1 KT DN250:374,4468",null,374.4468,null,null,null,null,null,null,null,"Stoka AE-1 KT DN250:374,4468"]
[null,null,"Stoka AF KT DN250:485,7840-50,5440",null,435.24,null,null,null,null,null,null,null,"Stoka AF KT DN250:485,7840-50,5440"]
[null,null,"Stoka AG KT DN250:191,7232",null,191.72319999999999,null,null,null,null,null,null,null,"Stoka AG KT DN250:191,7232"]
[null,null,"Stoka AH KT DN250:255,3525",null,255.35249999999999,null,null,null,null,null,null,null,"Stoka AH KT DN250:255,3525"]
[null,null,"Sběrač B KT DN250:2317,1148",null,2317.1147999999998,null,null,null,null,null,null,null,"Sběrač B KT DN250:2317,1148"]
[null,null,"Stoka BA KT DN250:322,8498",null,322.84980000000002,null,null,null,null,null,null,null,"Stoka BA KT DN250:322,8498"]
[null,null,"Sběrač C KT DN250:851,5471",null,851.5471,null,null,null,null,null,null,null,"Sběrač C KT DN250:851,5471"]
[null,null,"Stoka CA KT DN250:495,6647-62,2966",null,433.36810000000003,null,null,null,null,null,null,null,"Stoka CA KT DN250:495,6647-62,2966"]
[null,null,"Odpočet lože, potrubí a obsypů:",null,0,null,null,null,null,null,null,null,"Odpočet lože, potrubí a obsypů:"]
[null,null,"Kmenová stoka A KT DN250:-286,00*0,9737",null,-278.47820000000002,null,null,null,null,null,null,null,"Kmenová stoka A KT DN250:-286,00*0,9737"]
[null,null,"Kmenová stoka A KT DN300:-1111,00*1,2477",null,-1386.1947,null,null,null,null,null,null,null,"Kmenová stoka A KT DN300:-1111,00*1,2477"]
[null,null,"Kmenová stoka A KT DN500:-113,00*1,8867",null,-213.19710000000001,null,null,null,null,null,null,null,"Kmenová stoka A KT DN500:-113,00*1,8867"]
[null,null,"Stoka AA KT DN250:-172,00*0,9737",null,-167.47640000000001,null,null,null,null,null,null,null,"Stoka AA KT DN250:-172,00*0,9737"]
[null,null,"Stoka AB KT DN250:-49,00*0,9737",null,-47.711300000000001,null,null,null,null,null,null,null,"Stoka AB KT DN250:-49,00*0,9737"]
[null,null,"Stoka AC KT DN250:-146,00*0,9737",null,-142.1602,null,null,null,null,null,null,null,"Stoka AC KT DN250:-146,00*0,9737"]
[null,null,"Stoka AD KT DN250:-(76,00-19,00)*0,9737",null,-55.500900000000001,null,null,null,null,null,null,null,"Stoka AD KT DN250:-(76,00-19,00)*0,9737"]
[null,null,"Stoka AE KT DN250:-221,00*0,9737",null,-215.18770000000001,null,null,null,null,null,null,null,"Stoka AE KT DN250:-221,00*0,9737"]
[null,null,"Stoka AE-1 KT DN250:-144,00*0,9737",null,-140.21279999999999,null,null,null,null,null,null,null,"Stoka AE-1 KT DN250:-144,00*0,9737"]
[null,null,"Stoka AF KT DN250:-(173,00-18,00)*0,9737",null,-150.92349999999999,null,null,null,null,null,null,null,"Stoka AF KT DN250:-(173,00-18,00)*0,9737"]
[null,null,"Stoka AG KT DN250:-62,00*0,9737",null,-60.369399999999999,null,null,null,null,null,null,null,"Stoka AG KT DN250:-62,00*0,9737"]
[null,null,"Stoka AH KT DN250:-97,00*0,9737",null,-94.448899999999995,null,null,null,null,null,null,null,"Stoka AH KT DN250:-97,00*0,9737"]
[null,null,"Sběrač B KT DN250:-770,00*0,9737",null,-749.74900000000002,null,null,null,null,null,null,null,"Sběrač B KT DN250:-770,00*0,9737"]
[null,null,"Stoka BA KT DN250:-108,00*0,9737",null,-105.1596,null,null,null,null,null,null,null,"Stoka BA KT DN250:-108,00*0,9737"]
[null,null,"Sběrač C KT DN250:-273,00*0,9737",null,-265.82010000000002,null,null,null,null,null,null,null,"Sběrač C KT DN250:-273,00*0,9737"]
[null,null,"Stoka CA KT DN250:-(183,00-23,00)*0,9737",null,-155.792,null,null,null,null,null,null,null,"Stoka CA KT DN250:-(183,00-23,00)*0,9737"]
[null,null,"Konec provozního součtu",null,9012.1527999999998,null,null,null,null,null,null,null,"Konec provozního součtu"]
[null,null,"Zásyp ŠD z 68% objemu zásypů:9012,1528*0,68",null,6128.2638999999999,null,null,null,null,null,null,null,"Zásyp ŠD z 68% objemu zásypů:9012,1528*0,68"]
[11,"174101101R00","Zásyp jam, rýh, šachet se zhutněním ","m3",2883.8888999999999,null,{"$f":"E228*F228","v":0},0,{"$f":"E228*H228","v":0},0,{"$f":"E228*J228","v":0},null,null,null,2,null,null,null,null,null,null,null,null,null,null,null,1,1,1,null,null,null,null,null,null,null,null,null,null,null,null,null,null,null,null,null,null,null,null,null,null,1,{"$f":"IF(AZ228=1,G228,0)","v":0},{"$f":"IF(AZ228=2,G228,0)","v":0},{"$f":"IF(AZ228=3,G228,0)","v":0},{"$f":"IF(AZ228=4,G228,0)","v":0},{"$f":"IF(AZ228=5,G228,0)","v":0},null,null,null,null,null,null,null,null,null,null,null,null,null,null,null,null,null,null,null,null,null,1,1]
[null,null,"Položka obsahuje strojní přemístění materiálu pro zásyp ze vzdálenosti do 10 m od okraje zásypu.",null,null,null,null,null,null,null,null,"Položka obsahuje strojní přemístění materiálu pro zásyp ze vzdálenosti do 10 m od okraje zásypu.",null,null,3]
[null,null,"Začátek provozního součtu",null,0,null,null,null,null,null,null,null,"Začátek provozního součtu"]
[null,null,"Výkopy v hornině tř. 2 - 5:",null,0,null,null,null,null,null,null,null,"Výkopy v hornině tř. 2 - 5:"]
[null,null,"Kmenová stoka A KT DN250:843,2424",null,843.24239999999998,null,null,null,null,null,null,null,"Kmenová stoka A KT DN250:843,2424"]
[null,null,"Kmenová stoka A KT DN300:4649,5350",null,4649.5349999999999,null,null,null,null,null,null,null,"Kmenová stoka A KT DN300:4649,5350"]
[null,null,"Kmenová stoka A KT DN500:555,0277",null,555.02769999999998,null,null,null,null,null,null,null,"Kmenová stoka A KT DN500:555,0277"]
[null,null,"Stoka AA KT DN250:592,8530",null,592.85299999999995,null,null,null,null,null,null,null,"Stoka AA KT DN250:592,8530"]
[null,null,"Stoka AB KT DN250:111,7935",null,111.79349999999999,null,null,null,null,null,null,null,"Stoka AB KT DN250:111,7935"]
[null,null,"Stoka AC KT DN250:494,3531",null,494.35309999999998,null,null,null,null,null,null,null,"Stoka AC KT DN250:494,3531"]
[null,null,"Stoka AD KT DN250:209,8512-52,4628",null,157.38839999999999,null,null,null,null,null,null,null,"Stoka AD KT DN250:209,8512-52,4628"]
[null,null,"Stoka AE KT DN250:654,6992",null,654.69920000000002,null,null,null,null,null,null,null,"Stoka AE KT DN250:654,6992"]
[null,null,"Stoka AE-1 KT DN250:374,4468",null,374.4468,null,null,null,null,null,null,null,"Stoka AE-1 KT DN250:374,4468"]
[null,null,"Stoka AF KT DN250:485,7840-50,5440",null,435.24,null,null,null,null,null,null,null,"Stoka AF KT DN250:485,7840-50,5440"]
[null,null,"Stoka AG KT DN250:191,7232",null,191.72319999999999,null,null,null,null,null,null,null,"Stoka AG KT DN250:191,7232"]
[null,null,"Stoka AH KT DN250:255,3525",null,255.35249999999999,null,null,null,null,null,null,null,"Stoka AH KT DN250:255,3525"]
[null,null,"Sběrač B KT DN250:2317,1148",null,2317.1147999999998,null,null,null,null,null,null,null,"Sběrač B KT DN250:2317,1148"]
[null,null,"Stoka BA KT DN250:322,8498",null,322.84980000000002,null,null,null,null,null,null,null,"Stoka BA KT DN250:322,8498"]
[null,null,"Sběrač C KT DN250:851,5471",null,851.5471,null,null,null,null,null,null,null,"Sběrač C KT DN250:851,5471"]
[null,null,"Stoka CA KT DN250:495,6647-62,2966",null,433.36810000000003,null,null,null,null,null,null,null,"Stoka CA KT DN250:495,6647-62,2966"]
[null,null,"Odpočet lože, potrubí a obsypů:",null,0,null,null,null,null,null,null,null,"Odpočet lože, potrubí a obsypů:"]
[null,null,"Kmenová stoka A KT DN250:-286,00*0,9737",null,-278.47820000000002,null,null,null,null,null,null,null,"Kmenová stoka A KT DN250:-286,00*0,9737"]
[null,null,"Kmenová stoka A KT DN300:-1111,00*1,2477",null,-1386.1947,null,null,null,null,null,null,null,"Kmenová stoka A KT DN300:-1111,00*1,2477"]
[null,null,"Kmenová stoka A KT DN500:-113,00*1,8867",null,-213.19710000000001,null,null,null,null,null,null,null,"Kmenová stoka A KT DN500:-113,00*1,8867"]
[null,null,"Stoka AA KT DN250:-172,00*0,9737",null,-167.47640000000001,null,null,null,null,null,null,null,"Stoka AA KT DN250:-172,00*0,9737"]
[null,null,"Stoka AB KT DN250:-49,00*0,9737",null,-47.711300000000001,null,null,null,null,null,null,null,"Stoka AB KT DN250:-49,00*0,9737"]
[null,null,"Stoka AC KT DN250:-146,00*0,9737",null,-142.1602,null,null,null,null,null,null,null,"Stoka AC KT DN250:-146,00*0,9737"]
[null,null,"Stoka AD KT DN250:-(76,00-19,00)*0,9737",null,-55.500900000000001,null,null,null,null,null,null,null,"Stoka AD KT DN250:-(76,00-19,00)*0,9737"]
[null,null,"Stoka AE KT DN250:-221,00*0,9737",null,-215.18770000000001,null,null,null,null,null,null,null,"Stoka AE KT DN250:-221,00*0,9737"]
[null,null,"Stoka AE-1 KT DN250:-144,00*0,9737",null,-140.21279999999999,null,null,null,null,null,null,null,"Stoka AE-1 KT DN250:-144,00*0,9737"]
[null,null,"Stoka AF KT DN250:-(173,00-18,00)*0,9737",null,-150.92349999999999,null,null,null,null,null,null,null,"Stoka AF KT DN250:-(173,00-18,00)*0,9737"]
[null,null,"Stoka AG KT DN250:-62,00*0,9737",null,-60.369399999999999,null,null,null,null,null,null,null,"Stoka AG KT DN250:-62,00*0,9737"]
[null,null,"Stoka AH KT DN250:-97,00*0,9737",null,-94.448899999999995,null,null,null,null,null,null,null,"Stoka AH KT DN250:-97,00*0,9737"]
[null,null,"Sběrač B KT DN250:-770,00*0,9737",null,-749.74900000000002,null,null,null,null,null,null,null,"Sběrač B KT DN250:-770,00*0,9737"]
[null,null,"Stoka BA KT DN250:-108,00*0,9737",null,-105.1596,null,null,null,null,null,null,null,"Stoka BA KT DN250:-108,00*0,9737"]
[null,null,"Sběrač C KT DN250:-273,00*0,9737",null,-265.82010000000002,null,null,null,null,null,null,null,"Sběrač C KT DN250:-273,00*0,9737"]
[null,null,"Stoka CA KT DN250:-(183,00-23,00)*0,9737",null,-155.792,null,null,null,null,null,null,null,"Stoka CA KT DN250:-(183,00-23,00)*0,9737"]
[null,null,"Konec provozního součtu",null,9012.1527999999998,null,null,null,null,null,null,null,"Konec provozního součtu"]
[null,null,"Zásyp zeminou z 32% objemu zásypů:9012,1528*0,32",null,2883.8888999999999,null,null,null,null,null,null,null,"Zásyp zeminou z 32% objemu zásypů:9012,1528*0,32"]
[12,"175100020RAB","Obsyp potrubí štěrkopískem včetně dodávka štěrkopísku","m3",2657.8352,null,{"$f":"E267*F267","v":0},0,{"$f":"E267*H267","v":0},0,{"$f":"E267*J267","v":0},null,null,null,2,null,null,null,null,null,null,null,null,null,null,null,1,1,1,null,null,null,null,null,null,null,null,null,null,null,null,null,null,null,null,null,null,null,null,null,null,1,{"$f":"IF(AZ267=1,G267,0)","v":0},{"$f":"IF(AZ267=2,G267,0)","v":0},{"$f":"IF(AZ267=3,G267,0)","v":0},{"$f":"IF(AZ267=4,G267,0)","v":0},{"$f":"IF(AZ267=5,G267,0)","v":0},null,null,null,null,null,null,null,null,null,null,null,null,null,null,null,null,null,null,null,null,null,1,1]
[null,null,"Kmenová stoka A KT DN250:286,00*0,61705",null,176.47630000000001,null,null,null,null,null,null,null,"Kmenová stoka A KT DN250:286,00*0,61705"]
[null,null,"Kmenová stoka A KT DN300:1111,00*0,7845",null,871.57950000000005,null,null,null,null,null,null,null,"Kmenová stoka A KT DN300:1111,00*0,7845"]
[null,null,"Kmenová stoka A KT DN500:113,00*1,0639",null,120.22069999999999,null,null,null,null,null,null,null,"Kmenová stoka A KT DN500:113,00*1,0639"]
[null,null,"Stoka AA KT DN250:172,00*0,61705",null,106.1326,null,null,null,null,null,null,null,"Stoka AA KT DN250:172,00*0,61705"]
[null,null,"Stoka AB KT DN250:49,00*0,61705",null,30.235499999999998,null,null,null,null,null,null,null,"Stoka AB KT DN250:49,00*0,61705"]
[null,null,"Stoka AC KT DN250:146,00*0,61705",null,90.089299999999994,null,null,null,null,null,null,null,"Stoka AC KT DN250:146,00*0,61705"]
[null,null,"Stoka AD KT DN250:(76,00-19,00)*0,61705",null,35.171799999999998,null,null,null,null,null,null,null,"Stoka AD KT DN250:(76,00-19,00)*0,61705"]
[null,null,"Stoka AE KT DN250:221,00*0,61705",null,136.3681,null,null,null,null,null,null,null,"Stoka AE KT DN250:221,00*0,61705"]
[null,null,"Stoka AE-1 KT DN250:144,00*0,61705",null,88.855199999999996,null,null,null,null,null,null,null,"Stoka AE-1 KT DN250:144,00*0,61705"]
[null,null,"Stoka AF KT DN250:(173,00-18,00)*0,61705",null,95.642700000000005,null,null,null,null,null,null,null,"Stoka AF KT DN250:(173,00-18,00)*0,61705"]
[null,null,"Stoka AG KT DN250:62,00*0,61705",null,38.257100000000001,null,null,null,null,null,null,null,"Stoka AG KT DN250:62,00*0,61705"]
[null,null,"Stoka AH KT DN250:97,00*0,61705",null,59.853900000000003,null,null,null,null,null,null,null,"Stoka AH KT DN250:97,00*0,61705"]
[null,null,"Sběrač B KT DN250:770,00*0,61705",null,475.12849999999997,null,null,null,null,null,null,null,"Sběrač B KT DN250:770,00*0,61705"]
[null,null,"Stoka BA KT DN250:108,00*0,61705",null,66.641400000000004,null,null,null,null,null,null,null,"Stoka BA KT DN250:108,00*0,61705"]
[null,null,"Sběrač C KT DN250:273,00*0,61705",null,168.4546,null,null,null,null,null,null,null,"Sběrač C KT DN250:273,00*0,61705"]
[null,null,"Stoka CA KT DN250:(183,00-23,00)*0,61705",null,98.727999999999994,null,null,null,null,null,null,null,"Stoka CA KT DN250:(183,00-23,00)*0,61705"]
[13,"199000002RX0","Poplatek za skládku horniny 1- 7 ","m3",10356.645699999999,null,{"$f":"E284*F284","v":0},0,{"$f":"E284*H284","v":0},0,{"$f":"E284*J284","v":0},null,null,null,2,null,null,null,null,null,null,null,null,null,null,null,1,1,1,null,null,null,null,null,null,null,null,null,null,null,null,null,null,null,null,null,null,null,null,null,null,1,{"$f":"IF(AZ284=1,G284,0)","v":0},{"$f":"IF(AZ284=2,G284,0)","v":0},{"$f":"IF(AZ284=3,G284,0)","v":0},{"$f":"IF(AZ284=4,G284,0)","v":0},{"$f":"IF(AZ284=5,G284,0)","v":0},null,null,null,null,null,null,null,null,null,null,null,null,null,null,null,null,null,null,null,null,null,1,1]
[null,null,"Výkopy:",null,0,null,null,null,null,null,null,null,"Výkopy:"]
[null,null,"Začátek provozního součtu",null,0,null,null,null,null,null,null,null,"Začátek provozního součtu"]
[null,null,"Kmenová stoka A KT DN250:843,2424",null,843.24239999999998,null,null,null,null,null,null,null,"Kmenová stoka A KT DN250:843,2424"]
[null,null,"Kmenová stoka A KT DN300:4649,5350",null,4649.5349999999999,null,null,null,null,null,null,null,"Kmenová stoka A KT DN300:4649,5350"]
[null,null,"Kmenová stoka A KT DN500:555,0277",null,555.02769999999998,null,null,null,null,null,null,null,"Kmenová stoka A KT DN500:555,0277"]
[null,null,"Stoka AA KT DN250:592,8530",null,592.85299999999995,null,null,null,null,null,null,null,"Stoka AA KT DN250:592,8530"]
[null,null,"Stoka AB KT DN250:111,7935",null,111.79349999999999,null,null,null,null,null,null,null,"Stoka AB KT DN250:111,7935"]
[null,null,"Stoka AC KT DN250:494,3531",null,494.35309999999998,null,null,null,null,null,null,null,"Stoka AC KT DN250:494,3531"]
[null,null,"Stoka AD KT DN250:209,8512-52,4628",null,157.38839999999999,null,null,null,null,null,null,null,"Stoka AD KT DN250:209,8512-52,4628"]
[null,null,"Stoka AE KT DN250:654,6992",null,654.69920000000002,null,null,null,null,null,null,null,"Stoka AE KT DN250:654,6992"]
[null,null,"Stoka AE-1 KT DN250:374,4468",null,374.4468,null,null,null,null,null,null,null,"Stoka AE-1 KT DN250:374,4468"]
[null,null,"Stoka AF KT DN250:485,7840-50,5440",null,435.24,null,null,null,null,null,null,null,"Stoka AF KT DN250:485,7840-50,5440"]
[null,null,"Stoka AG KT DN250:191,7232",null,191.72319999999999,null,null,null,null,null,null,null,"Stoka AG KT DN250:191,7232"]
[null,null,"Stoka AH KT DN250:255,3525",null,255.35249999999999,null,null,null,null,null,null,null,"Stoka AH KT DN250:255,3525"]
[null,null,"Sběrač B KT DN250:2317,1148",null,2317.1147999999998,null,null,null,null,null,null,null,"Sběrač B KT DN250:2317,1148"]
[null,null,"Stoka BA KT DN250:322,8498",null,322.84980000000002,null,null,null,null,null,null,null,"Stoka BA KT DN250:322,8498"]
[null,null,"Sběrač C KT DN250:851,5471",null,851.5471,null,null,null,null,null,null,null,"Sběrač C KT DN250:851,5471"]
[null,null,"Stoka CA KT DN250:495,6647-62,2966",null,433.36810000000003,null,null,null,null,null,null,null,"Stoka CA KT DN250:495,6647-62,2966"]
[null,null,"Konec provozního součtu",null,13240.534599999999,null,null,null,null,null,null,null,"Konec provozního součtu"]
[null,null,"V hornině tř. 2 - 6:13240,5346",null,13240.534600000001,null,null,null,null,null,null,null,"V hornině tř. 2 - 6:13240,5346"]
[null,null,"Odpočet zásypů zeminou:-2883,8889",null,-2883.8888999999999,null,null,null,null,null,null,null,"Odpočet zásypů zeminou:-2883,8889"]
[null,"Celkem za","1 Zemní práce",null,null,null,{"$f":"SUM(G7:G305)","v":0},null,{"$f":"SUM(I7:I305)","v":0},null,{"$f":"SUM(K7:K305)","v":0},null,null,null,4,null,null,null,null,null,null,null,null,null,null,null,null,null,null,null,null,null,null,null,null,null,null,null,null,null,null,null,null,null,null,null,null,null,null,null,null,null,{"$f":"SUM(BA7:BA305)","v":0},{"$f":"SUM(BB7:BB305)","v":0},{"$f":"SUM(BC7:BC305)","v":0},{"$f":"SUM(BD7:BD305)","v":0},{"$f":"SUM(BE7:BE305)","v":0}]
["Díl:","2","Základy a zvláštní zakládání",null,null,null,null,null,null,null,null,null,null,null,1]
[14,"212810010RAC","Trativody z PVC drenážních flexibilních trubek lože štěrkopísek a obsyp kamenivo, trubky d 100 mm","m",2943,null,{"$f":"E308*F308","v":0},0.43651000000000001,{"$f":"E308*H308","v":1284.6489300000001},0,{"$f":"E308*J308","v":0},null,null,null,2,null,null,null,null,null,null,null,null,null,null,null,1,1,1,null,null,null,null,null,null,null,null,null,null,null,null,null,null,null,null,null,null,null,null,null,null,1,{"$f":"IF(AZ308=1,G308,0)","v":0},{"$f":"IF(AZ308=2,G308,0)","v":0},{"$f":"IF(AZ308=3,G308,0)","v":0},{"$f":"IF(AZ308=4,G308,0)","v":0},{"$f":"IF(AZ308=5,G308,0)","v":0},null,null,null,null,null,null,null,null,null,null,null,null,null,null,null,null,null,null,null,null,null,1,1]
[null,null,"Začátek provozního součtu",null,0,null,null,null,null,null,null,null,"Začátek provozního součtu"]
[null,null,"Kmenová stoka A KT DN250:286,00",null,286,null,null,null,null,null,null,null,"Kmenová stoka A KT DN250:286,00"]
[null,null,"Kmenová stoka A KT DN300:1111,00",null,1111,null,null,null,null,null,null,null,"Kmenová stoka A KT DN300:1111,00"]
[null,null,"Kmenová stoka A KT DN500:113,00",null,113,null,null,null,null,null,null,null,"Kmenová stoka A KT DN500:113,00"]
[null,null,"Stoka AA KT DN250:172,00",null,172,null,null,null,null,null,null,null,"Stoka AA KT DN250:172,00"]
[null,null,"Stoka AB KT DN250:49,00",null,49,null,null,null,null,null,null,null,"Stoka AB KT DN250:49,00"]
[null,null,"Stoka AC KT DN250:146,00",null,146,null,null,null,null,null,null,null,"Stoka AC KT DN250:146,00"]
[null,null,"Stoka AD KT DN250:76,00-19,00",null,57,null,null,null,null,null,null,null,"Stoka AD KT DN250:76,00-19,00"]
[null,null,"Stoka AE KT DN250:221,00",null,221,null,null,null,null,null,null,null,"Stoka AE KT DN250:221,00"]
[null,null,"Stoka AE-1 KT DN250:144,00",null,144,null,null,null,null,null,null,null,"Stoka AE-1 KT DN250:144,00"]
[null,null,"Stoka AF KT DN250:173,00-18,00",null,155,null,null,null,null,null,null,null,"Stoka AF KT DN250:173,00-18,00"]
[null,null,"Stoka AG KT DN250:62,00",null,62,null,null,null,null,null,null,null,"Stoka AG KT DN250:62,00"]
[null,null,"Stoka AH KT DN250:97,00",null,97,null,null,null,null,null,null,null,"Stoka AH KT DN250:97,00"]
[null,null,"Sběrač B KT DN250:770,00",null,770,null,null,null,null,null,null,null,"Sběrač B KT DN250:770,00"]
[null,null,"Stoka BA KT DN250:108,00",null,108,null,null,null,null,null,null,null,"Stoka BA KT DN250:108,00"]
[null,null,"Sběrač C KT DN250:273,00",null,273,null,null,null,null,null,null,null,"Sběrač C KT DN250:273,00"]
[null,null,"Stoka CA KT DN250:183,00-23,00",null,160,null,null,null,null,null,null,null,"Stoka CA KT DN250:183,00-23,00"]
[null,null,"Konec provozního součtu",null,3924,null,null,null,null,null,null,null,"Konec provozního součtu"]
[null,null,"Drenáž na 75% celkové délky rýh:3924,00*0,75",null,2943,null,null,null,null,null,null,null,"Drenáž na 75% celkové délky rýh:3924,00*0,75"]
[null,"Celkem za","2 Základy a zvláštní zakládání",null,null,null,{"$f":"SUM(G307:G327)","v":0},null,{"$f":"SUM(I307:I327)","v":1284.6489300000001},null,{"$f":"SUM(K307:K327)","v":0},null,null,null,4,null,null,null,null,null,null,null,null,null,null,null,null,null,null,null,null,null,null,null,null,null,null,null,null,null,null,null,null,null,null,null,null,null,null,null,null,null,{"$f":"SUM(BA307:BA327)","v":0},{"$f":"SUM(BB307:BB327)","v":0},{"$f":"SUM(BC307:BC327)","v":0},{"$f":"SUM(BD307:BD327)","v":0},{"$f":"SUM(BE307:BE327)","v":0}]
["Díl:","45","Podkladní a vedlejší konstrukce",null,null,null,null,null,null,null,null,null,null,null,1]
[15,"452112111R00","Osazení beton. prstenců pod poklopy,výšky do100 mm ","kus",120,null,{"$f":"E330*F330","v":0},6.6E-3,{"$f":"E330*H330","v":0.79200000000000004},0,{"$f":"E330*J330","v":0},null,null,null,2,null,null,null,null,null,null,null,null,null,null,null,1,1,1,null,null,null,null,null,null,null,null,null,null,null,null,null,null,null,null,null,null,null,null,null,null,1,{"$f":"IF(AZ330=1,G330,0)","v":0},{"$f":"IF(AZ330=2,G330,0)","v":0},{"$f":"IF(AZ330=3,G330,0)","v":0},{"$f":"IF(AZ330=4,G330,0)","v":0},{"$f":"IF(AZ330=5,G330,0)","v":0},null,null,null,null,null,null,null,null,null,null,null,null,null,null,null,null,null,null,null,null,null,1,1]
[null,null,"Volba položky se řídí výškou prstence nebo rámu. V položkách nejsou zakalkulovány náklady na dodávku betonových výrobků;",null,null,null,null,null,null,null,null,"Volba položky se řídí výškou prstence nebo rámu. V položkách nejsou zakalkulovány náklady na dodávku betonových výrobků;",null,null,3]
[null,null,"Stoky:",null,0,null,null,null,null,null,null,null,"Stoky:"]
[null,null,"VP H4:35-3",null,32,null,null,null,null,null,null,null,"VP H4:35-3"]
[null,null,"VP H6:15",null,15,null,null,null,null,null,null,null,"VP H6:15"]
[null,null,"VP H8:16",null,16,null,null,null,null,null,null,null,"VP H8:16"]
[null,null,"VP H10:57",null,57,null,null,null,null,null,null,null,"VP H10:57"]
[16,"452112121R00","Osazení beton. prstenců pod poklopy,výšky do200 mm ","kus",32,null,{"$f":"E337*F337","v":0},6.6E-3,{"$f":"E337*H337","v":0.2112},0,{"$f":"E337*J337","v":0},null,null,null,2,null,null,null,null,null,null,null,null,null,null,null,1,1,1,null,null,null,null,null,null,null,null,null,null,null,null,null,null,null,null,null,null,null,null,null,null,1,{"$f":"IF(AZ337=1,G337,0)","v":0},{"$f":"IF(AZ337=2,G337,0)","v":0},{"$f":"IF(AZ337=3,G337,0)","v":0},{"$f":"IF(AZ337=4,G337,0)","v":0},{"$f":"IF(AZ337=5,G337,0)","v":0},null,null,null,null,null,null,null,null,null,null,null,null,null,null,null,null,null,null,null,null,null,1,1]
[null,null,"Volba položky se řídí výškou prstence nebo rámu. V položkách nejsou zakalkulovány náklady na dodávku betonových výrobků;",null,null,null,null,null,null,null,null,"Volba položky se řídí výškou prstence nebo rámu. V položkách nejsou zakalkulovány náklady na dodávku betonových výrobků;",null,null,3]
[null,null,"Stoky :",null,0,null,null,null,null,null,null,null,"Stoky :"]
[null,null,"VP H12:32",null,32,null,null,null,null,null,null,null,"VP H12:32"]
[17,"452312131R00","Sedlové lože pod potrubí z betonu C 12/15 ","m3",1236.7953,null,{"$f":"E341*F341","v":0},2.5,{"$f":"E341*H341","v":3091.9882499999999},0,{"$f":"E341*J341","v":0},null,null,null,2,null,null,null,null,null,null,null,null,null,null,null,1,1,1,null,null,null,null,null,null,null,null,null,null,null,null,null,null,null,null,null,null,null,null,null,null,1,{"$f":"IF(AZ341=1,G341,0)","v":0},{"$f":"IF(AZ341=2,G341,0)","v":0},{"$f":"IF(AZ341=3,G341,0)","v":0},{"$f":"IF(AZ341=4,G341,0)","v":0},{"$f":"IF(AZ341=5,G341,0)","v":0},null,null,null,null,null,null,null,null,null,null,null,null,null,null,null,null,null,null,null,null,null,1,1]
[null,null,"Kmenová stoka A KT DN250:286,00*0,2860",null,81.796000000000006,null,null,null,null,null,null,null,"Kmenová stoka A KT DN250:286,00*0,2860"]
[null,null,"Kmenová stoka A KT DN300:1111,00*0,3642",null,404.62619999999998,null,null,null,null,null,null,null,"Kmenová stoka A KT DN300:1111,00*0,3642"]
[null,null,"Kmenová stoka A KT DN500:113,00*0,5307",null,59.969099999999997,null,null,null,null,null,null,null,"Kmenová stoka A KT DN500:113,00*0,5307"]
[null,null,"Stoka AA KT DN250:172,00*0,2860",null,49.192,null,null,null,null,null,null,null,"Stoka AA KT DN250:172,00*0,2860"]
[null,null,"Stoka AB KT DN250:49,00*0,2860",null,14.013999999999999,null,null,null,null,null,null,null,"Stoka AB KT DN250:49,00*0,2860"]
[null,null,"Stoka AC KT DN250:146,00*0,2860",null,41.756,null,null,null,null,null,null,null,"Stoka AC KT DN250:146,00*0,2860"]
[null,null,"Stoka AD KT DN250:(76,00-19,00)*0,2860",null,16.302,null,null,null,null,null,null,null,"Stoka AD KT DN250:(76,00-19,00)*0,2860"]
[null,null,"Stoka AE KT DN250:221,00*0,2860",null,63.206000000000003,null,null,null,null,null,null,null,"Stoka AE KT DN250:221,00*0,2860"]
[null,null,"Stoka AE-1 KT DN250:144,00*0,2860",null,41.183999999999997,null,null,null,null,null,null,null,"Stoka AE-1 KT DN250:144,00*0,2860"]
[null,null,"Stoka AF KT DN250:(173,00-18,00)*0,2860",null,44.33,null,null,null,null,null,null,null,"Stoka AF KT DN250:(173,00-18,00)*0,2860"]
[null,null,"Stoka AG KT DN250:62,00*0,2860",null,17.731999999999999,null,null,null,null,null,null,null,"Stoka AG KT DN250:62,00*0,2860"]
[null,null,"Stoka AH KT DN250:97,00*0,2860",null,27.742000000000001,null,null,null,null,null,null,null,"Stoka AH KT DN250:97,00*0,2860"]
[null,null,"Sběrač B KT DN250:770,00*0,2860",null,220.22,null,null,null,null,null,null,null,"Sběrač B KT DN250:770,00*0,2860"]
[null,null,"Stoka BA KT DN250:108,00*0,2860",null,30.888000000000002,null,null,null,null,null,null,null,"Stoka BA KT DN250:108,00*0,2860"]
[null,null,"Sběrač C KT DN250:273,00*0,2860",null,78.078000000000003,null,null,null,null,null,null,null,"Sběrač C KT DN250:273,00*0,2860"]
[null,null,"Stoka CA KT DN250:(183,00-23,00)*0,2860",null,45.76,null,null,null,null,null,null,null,"Stoka CA KT DN250:(183,00-23,00)*0,2860"]
[18,"59224345.R","Prstenec vyrovn šachetní TBW-Q 40/625/120","kus",32.32,null,{"$f":"E358*F358","v":0},2.8000000000000001E-2,{"$f":"E358*H358","v":0.90495999999999999},null,{"$f":"E358*J358","v":0},null,null,null,2,null,null,null,null,null,null,null,null,null,null,null,3,1,"59224345.R",null,null,null,null,null,null,null,null,null,null,null,null,null,null,null,null,null,null,null,null,null,null,1,{"$f":"IF(AZ358=1,G358,0)","v":0},{"$f":"IF(AZ358=2,G358,0)","v":0},{"$f":"IF(AZ358=3,G358,0)","v":0},{"$f":"IF(AZ358=4,G358,0)","v":0},{"$f":"IF(AZ358=5,G358,0)","v":0},null,null,null,null,null,null,null,null,null,null,null,null,null,null,null,null,null,null,null,null,null,3,1]
[null,null,"Stoky:",null,0,null,null,null,null,null,null,null,"Stoky:"]
[null,null,"VP H4:(35-3)*1,01",null,32.32,null,null,null,null,null,null,null,"VP H4:(35-3)*1,01"]
[19,"59224346.R","Prstenec vyrovn šachetní TBW-Q 60/625/120","kus",15.15,null,{"$f":"E361*F361","v":0},0.04,{"$f":"E361*H361","v":0.60599999999999998},null,{"$f":"E361*J361","v":0},null,null,null,2,null,null,null,null,null,null,null,null,null,null,null,3,1,"59224346.R",null,null,null,null,null,null,null,null,null,null,null,null,null,null,null,null,null,null,null,null,null,null,1,{"$f":"IF(AZ361=1,G361,0)","v":0},{"$f":"IF(AZ361=2,G361,0)","v":0},{"$f":"IF(AZ361=3,G361,0)","v":0},{"$f":"IF(AZ361=4,G361,0)","v":0},{"$f":"IF(AZ361=5,G361,0)","v":0},null,null,null,null,null,null,null,null,null,null,null,null,null,null,null,null,null,null,null,null,null,3,1]
[null,null,"Stoky:",null,0,null,null,null,null,null,null,null,"Stoky:"]
[null,null,"VP H6:15*1,01",null,15.15,null,null,null,null,null,null,null,"VP H6:15*1,01"]
[20,"59224347.R","Prstenec vyrovn šachetní TBW-Q 80/625/120","kus",16.16,null,{"$f":"E364*F364","v":0},0.05,{"$f":"E364*H364","v":0.80800000000000005},null,{"$f":"E364*J364","v":0},null,null,null,2,null,null,null,null,null,null,null,null,null,null,null,3,1,"59224347.R",null,null,null,null,null,null,null,null,null,null,null,null,null,null,null,null,null,null,null,null,null,null,1,{"$f":"IF(AZ364=1,G364,0)","v":0},{"$f":"IF(AZ364=2,G364,0)","v":0},{"$f":"IF(AZ364=3,G364,0)","v":0},{"$f":"IF(AZ364=4,G364,0)","v":0},{"$f":"IF(AZ364=5,G364,0)","v":0},null,null,null,null,null,null,null,null,null,null,null,null,null,null,null,null,null,null,null,null,null,3,1]
[null,null,"Stoky:",null,0,null,null,null,null,null,null,null,"Stoky:"]
[null,null,"VP H8:16*1,01",null,16.16,null,null,null,null,null,null,null,"VP H8:16*1,01"]
[21,"59224348.R","Prstenec vyrovn šachetní TBW-Q 100/625/120","kus",57.57,null,{"$f":"E367*F367","v":0},6.8000000000000005E-2,{"$f":"E367*H367","v":3.9147600000000002},null,{"$f":"E367*J367","v":0},null,null,null,2,null,null,null,null,null,null,null,null,null,null,null,3,1,"59224348.R",null,null,null,null,null,null,null,null,null,null,null,null,null,null,null,null,null,null,null,null,null,null,1,{"$f":"IF(AZ367=1,G367,0)","v":0},{"$f":"IF(AZ367=2,G367,0)","v":0},{"$f":"IF(AZ367=3,G367,0)","v":0},{"$f":"IF(AZ367=4,G367,0)","v":0},{"$f":"IF(AZ367=5,G367,0)","v":0},null,null,null,null,null,null,null,null,null,null,null,null,null,null,null,null,null,null,null,null,null,3,1]
[null,null,"Stoky:",null,0,null,null,null,null,null,null,null,"Stoky:"]
[null,null,"VP H10:57*1,01",null,57.57,null,null,null,null,null,null,null,"VP H10:57*1,01"]
[22,"59224349.R","Prstenec vyrovn šachetní TBW-Q 120/625/120","kus",32.32,null,{"$f":"E370*F370","v":0},8.1000000000000003E-2,{"$f":"E370*H370","v":2.6179200000000002},null,{"$f":"E370*J370","v":0},null,null,null,2,null,null,null,null,null,null,null,null,null,null,null,3,1,"59224349.R",null,null,null,null,null,null,null,null,null,null,null,null,null,null,null,null,null,null,null,null,null,null,1,{"$f":"IF(AZ370=1,G370,0)","v":0},{"$f":"IF(AZ370=2,G370,0)","v":0},{"$f":"IF(AZ370=3,G370,0)","v":0},{"$f":"IF(AZ370=4,G370,0)","v":0},{"$f":"IF(AZ370=5,G370,0)","v":0},null,null,null,null,null,null,null,null,null,null,null,null,null,null,null,null,null,null,null,null,null,3,1]
[null,null,"Stoky :",null,0,null,null,null,null,null,null,null,"Stoky :"]
[null,null,"VP H12:32*1,01",null,32.32,null,null,null,null,null,null,null,"VP H12:32*1,01"]
[null,"Celkem za","45 Podkladní a vedlejší konstrukce",null,null,null,{"$f":"SUM(G329:G372)","v":0},null,{"$f":"SUM(I329:I372)","v":3101.8430900000003},null,{"$f":"SUM(K329:K372)","v":0},null,null,null,4,null,null,null,null,null,null,null,null,null,null,null,null,null,null,null,null,null,null,null,null,null,null,null,null,null,null,null,null,null,null,null,null,null,null,null,null,null,{"$f":"SUM(BA329:BA372)","v":0},{"$f":"SUM(BB329:BB372)","v":0},{"$f":"SUM(BC329:BC372)","v":0},{"$f":"SUM(BD329:BD372)","v":0},{"$f":"SUM(BE329:BE372)","v":0}]
["Díl:","8","Trubní vedení",null,null,null,null,null,null,null,null,null,null,null,1]
[23,"831362121RT3","Montáž trub kameninových, pryž. kroužek, DN 250 včetně dodávky trub kamenin. DN 250 dl. 2500 mm","m",2700,null,{"$f":"E375*F375","v":0},5.3830000000000003E-2,{"$f":"E375*H375","v":145.34100000000001},0,{"$f":"E375*J375","v":0},null,null,null,2,null,null,null,null,null,null,null,null,null,null,null,1,1,1,null,null,null,null,null,null,null,null,null,null,null,null,null,null,null,null,null,null,null,null,null,null,1,{"$f":"IF(AZ375=1,G375,0)","v":0},{"$f":"IF(AZ375=2,G375,0)","v":0},{"$f":"IF(AZ375=3,G375,0)","v":0},{"$f":"IF(AZ375=4,G375,0)","v":0},{"$f":"IF(AZ375=5,G375,0)","v":0},null,null,null,null,null,null,null,null,null,null,null,null,null,null,null,null,null,null,null,null,null,1,1]
[null,null,"Položka je určena pro montáž potrubí z trub kameninových těsněných pryžovým kroužkem v otevřeném výkopu ve sklonu do 20 %.",null,null,null,null,null,null,null,null,"Položka je určena pro montáž potrubí z trub kameninových těsněných pryžovým kroužkem v otevřeném výkopu ve sklonu do 20 %.",null,null,3]
[null,null,"V položce jsou zakalkulovány i náklady na dodání trub.",null,null,null,null,null,null,null,null,"V položce jsou zakalkulovány i náklady na dodání trub.",null,null,3]
[null,null,"Kmenová stoka A KT DN250:286,00",null,286,null,null,null,null,null,null,null,"Kmenová stoka A KT DN250:286,00"]
[null,null,"Stoka AA KT DN250:172,00",null,172,null,null,null,null,null,null,null,"Stoka AA KT DN250:172,00"]
[null,null,"Stoka AB KT DN250:49,00",null,49,null,null,null,null,null,null,null,"Stoka AB KT DN250:49,00"]
[null,null,"Stoka AC KT DN250:146,00",null,146,null,null,null,null,null,null,null,"Stoka AC KT DN250:146,00"]
[null,null,"Stoka AD KT DN250:76,00-19,00",null,57,null,null,null,null,null,null,null,"Stoka AD KT DN250:76,00-19,00"]
[null,null,"Stoka AE KT DN250:221,00",null,221,null,null,null,null,null,null,null,"Stoka AE KT DN250:221,00"]
[null,null,"Stoka AE-1 KT DN250:144,00",null,144,null,null,null,null,null,null,null,"Stoka AE-1 KT DN250:144,00"]
[null,null,"Stoka AF KT DN250:173,00-18,00",null,155,null,null,null,null,null,null,null,"Stoka AF KT DN250:173,00-18,00"]
[null,null,"Stoka AG KT DN250:62,00",null,62,null,null,null,null,null,null,null,"Stoka AG KT DN250:62,00"]
[null,null,"Stoka AH KT DN250:97,00",null,97,null,null,null,null,null,null,null,"Stoka AH KT DN250:97,00"]
[null,null,"Sběrač B KT DN250:770,00",null,770,null,null,null,null,null,null,null,"Sběrač B KT DN250:770,00"]
[null,null,"Stoka BA KT DN250:108,00",null,108,null,null,null,null,null,null,null,"Stoka BA KT DN250:108,00"]
[null,null,"Sběrač C KT DN250:273,00",null,273,null,null,null,null,null,null,null,"Sběrač C KT DN250:273,00"]
[null,null,"Stoka CA KT DN250:183,00-23,00",null,160,null,null,null,null,null,null,null,"Stoka CA KT DN250:183,00-23,00"]
[24,"831372121RT3","Montáž trub kameninových, pryž. kroužek, DN 300 včetně dodávky trub kamenin. DN 300 dl. 2500 mm","m",1111,null,{"$f":"E392*F392","v":0},7.3120000000000004E-2,{"$f":"E392*H392","v":81.236320000000006},0,{"$f":"E392*J392","v":0},null,null,null,2,null,null,null,null,null,null,null,null,null,null,null,1,1,1,null,null,null,null,null,null,null,null,null,null,null,null,null,null,null,null,null,null,null,null,null,null,1,{"$f":"IF(AZ392=1,G392,0)","v":0},{"$f":"IF(AZ392=2,G392,0)","v":0},{"$f":"IF(AZ392=3,G392,0)","v":0},{"$f":"IF(AZ392=4,G392,0)","v":0},{"$f":"IF(AZ392=5,G392,0)","v":0},null,null,null,null,null,null,null,null,null,null,null,null,null,null,null,null,null,null,null,null,null,1,1]
[null,null,"Položka je určena pro montáž potrubí z trub kameninových s polyuretanovým spojem v otevřeném výkopu ve sklonu do 20 %.",null,null,null,null,null,null,null,null,"Položka je určena pro montáž potrubí z trub kameninových s polyuretanovým spojem v otevřeném výkopu ve sklonu do 20 %.",null,null,3]
[null,null,"V položce jsou zakalkulovány i náklady na dodání trub.",null,null,null,null,null,null,null,null,"V položce jsou zakalkulovány i náklady na dodání trub.",null,null,3]
[null,null,"Kmenová stoka A KT DN300:1111,00",null,1111,null,null,null,null,null,null,null,"Kmenová stoka A KT DN300:1111,00"]
[25,"831422121RT2","Montáž trub kameninových, pryž  kroužek, DN 500 včetně dodávky trub kamenin. DN 500 dl. 2500 mm","m",113,null,{"$f":"E396*F396","v":0},0.17668,{"$f":"E396*H396","v":19.964839999999999},0,{"$f":"E396*J396","v":0},null,null,null,2,null,null,null,null,null,null,null,null,null,null,null,1,1,1,null,null,null,null,null,null,null,null,null,null,null,null,null,null,null,null,null,null,null,null,null,null,1,{"$f":"IF(AZ396=1,G396,0)","v":0},{"$f":"IF(AZ396=2,G396,0)","v":0},{"$f":"IF(AZ396=3,G396,0)","v":0},{"$f":"IF(AZ396=4,G396,0)","v":0},{"$f":"IF(AZ396=5,G396,0)","v":0},null,null,null,null,null,null,null,null,null,null,null,null,null,null,null,null,null,null,null,null,null,1,1]
[null,null,"Položka je určena pro montáž potrubí z trub kameninových těsněných pryžovým kroužkem v otevřeném výkopu ve sklonu do 20 %.",null,null,null,null,null,null,null,null,"Položka je určena pro montáž potrubí z trub kameninových těsněných pryžovým kroužkem v otevřeném výkopu ve sklonu do 20 %.",null,null,3]
[null,null,"V položce jsou zakalkulovány i náklady na dodání trub.",null,null,null,null,null,null,null,null,"V položce jsou zakalkulovány i náklady na dodání trub.",null,null,3]
[null,null,"Kmenová stoka A KT DN500:113,00",null,113,null,null,null,null,null,null,null,"Kmenová stoka A KT DN500:113,00"]
[26,"837361221T00","Montáž tvarov. kamenin. odboč. pryž. krouž. DN 250 včetně dodávky šikmé odbočky DN 250/150","kus",68,null,{"$f":"E400*F400","v":0},6.0970000000000003E-2,{"$f":"E400*H400","v":4.1459600000000005},0,{"$f":"E400*J400","v":0},null,null,null,2,null,null,null,null,null,null,null,null,null,null,null,1,1,1,null,null,null,null,null,null,null,null,null,null,null,null,null,null,null,null,null,null,null,null,null,null,1,{"$f":"IF(AZ400=1,G400,0)","v":0},{"$f":"IF(AZ400=2,G400,0)","v":0},{"$f":"IF(AZ400=3,G400,0)","v":0},{"$f":"IF(AZ400=4,G400,0)","v":0},{"$f":"IF(AZ400=5,G400,0)","v":0},null,null,null,null,null,null,null,null,null,null,null,null,null,null,null,null,null,null,null,null,null,1,1]
[null,null,"Položka je určena pro montáž odbočné tvarovky z trub kameninových těsněných pryžovým kroužkem v otevřeném výkopu ve sklonu do 20 %.",null,null,null,null,null,null,null,null,"Položka je určena pro montáž odbočné tvarovky z trub kameninových těsněných pryžovým kroužkem v otevřeném výkopu ve sklonu do 20 %.",null,null,3]
[null,null,"V položce jsou zakalkulovány i náklady na dodání tvarovky.",null,null,null,null,null,null,null,null,"V položce jsou zakalkulovány i náklady na dodání tvarovky.",null,null,3]
[null,null,"Kmenová stoka A KT DN250:10",null,10,null,null,null,null,null,null,null,"Kmenová stoka A KT DN250:10"]
[null,null,"Stoka AA KT DN250:7",null,7,null,null,null,null,null,null,null,"Stoka AA KT DN250:7"]
[null,null,"Stoka AB KT DN250:0",null,0,null,null,null,null,null,null,null,"Stoka AB KT DN250:0"]
[null,null,"Stoka AC KT DN250:4",null,4,null,null,null,null,null,null,null,"Stoka AC KT DN250:4"]
[null,null,"Stoka AD KT DN250:2",null,2,null,null,null,null,null,null,null,"Stoka AD KT DN250:2"]
[null,null,"Stoka AE KT DN250:13",null,13,null,null,null,null,null,null,null,"Stoka AE KT DN250:13"]
[null,null,"Stoka AE-1 KT DN250:5",null,5,null,null,null,null,null,null,null,"Stoka AE-1 KT DN250:5"]
[null,null,"Stoka AF KT DN250:1",null,1,null,null,null,null,null,null,null,"Stoka AF KT DN250:1"]
[null,null,"Stoka AG KT DN250:1",null,1,null,null,null,null,null,null,null,"Stoka AG KT DN250:1"]
[null,null,"Stoka AH KT DN250:4",null,4,null,null,null,null,null,null,null,"Stoka AH KT DN250:4"]
[null,null,"Sběrač B KT DN250:8",null,8,null,null,null,null,null,null,null,"Sběrač B KT DN250:8"]
[null,null,"Stoka BA KT DN250:7",null,7,null,null,null,null,null,null,null,"Stoka BA KT DN250:7"]
[null,null,"Sběrač C KT DN250:3",null,3,null,null,null,null,null,null,null,"Sběrač C KT DN250:3"]
[null,null,"Stoka CA KT DN250:5-2",null,3,null,null,null,null,null,null,null,"Stoka CA KT DN250:5-2"]
[27,"837371221RT2","Montáž tvarov. kamenin. odboč. pryž. krouž. DN 300 včetně dodávky šikmé odbočky DN 300/150","kus",37,null,{"$f":"E417*F417","v":0},4.981E-2,{"$f":"E417*H417","v":1.84297},0,{"$f":"E417*J417","v":0},null,null,null,2,null,null,null,null,null,null,null,null,null,null,null,1,1,1,null,null,null,null,null,null,null,null,null,null,null,null,null,null,null,null,null,null,null,null,null,null,1,{"$f":"IF(AZ417=1,G417,0)","v":0},{"$f":"IF(AZ417=2,G417,0)","v":0},{"$f":"IF(AZ417=3,G417,0)","v":0},{"$f":"IF(AZ417=4,G417,0)","v":0},{"$f":"IF(AZ417=5,G417,0)","v":0},null,null,null,null,null,null,null,null,null,null,null,null,null,null,null,null,null,null,null,null,null,1,1]
[null,null,"Kmenová stoka A KT DN300:37",null,37,null,null,null,null,null,null,null,"Kmenová stoka A KT DN300:37"]
[28,"892581111R00","Zkouška těsnosti kanalizace DN do 300, vodou ","m",3811,null,{"$f":"E419*F419","v":0},0,{"$f":"E419*H419","v":0},0,{"$f":"E419*J419","v":0},null,null,null,2,null,null,null,null,null,null,null,null,null,null,null,1,1,1,null,null,null,null,null,null,null,null,null,null,null,null,null,null,null,null,null,null,null,null,null,null,1,{"$f":"IF(AZ419=1,G419,0)","v":0},{"$f":"IF(AZ419=2,G419,0)","v":0},{"$f":"IF(AZ419=3,G419,0)","v":0},{"$f":"IF(AZ419=4,G419,0)","v":0},{"$f":"IF(AZ419=5,G419,0)","v":0},null,null,null,null,null,null,null,null,null,null,null,null,null,null,null,null,null,null,null,null,null,1,1]
[null,null,"V položce jsou zakalkulovány náklady na napuštění vodou a dodání vody pro zkoušku těsnosti včetně zavakování potrubí dle zvolené technologie zhotovitele.",null,null,null,null,null,null,null,null,"V položce jsou zakalkulovány náklady na napuštění vodou a dodání vody pro zkoušku těsnosti včetně zavakování potrubí dle zvolené technologie zhotovitele.",null,null,3]
[null,null,"Kmenová stoka A KT DN250:286,00",null,286,null,null,null,null,null,null,null,"Kmenová stoka A KT DN250:286,00"]
[null,null,"Kmenová stoka A KT DN300:1111,00",null,1111,null,null,null,null,null,null,null,"Kmenová stoka A KT DN300:1111,00"]
[null,null,"Stoka AA KT DN250:172,00",null,172,null,null,null,null,null,null,null,"Stoka AA KT DN250:172,00"]
[null,null,"Stoka AB KT DN250:49,00",null,49,null,null,null,null,null,null,null,"Stoka AB KT DN250:49,00"]
[null,null,"Stoka AC KT DN250:146,00",null,146,null,null,null,null,null,null,null,"Stoka AC KT DN250:146,00"]
[null,null,"Stoka AD KT DN250:76,00-19,00",null,57,null,null,null,null,null,null,null,"Stoka AD KT DN250:76,00-19,00"]
[null,null,"Stoka AE KT DN250:221,00",null,221,null,null,null,null,null,null,null,"Stoka AE KT DN250:221,00"]
[null,null,"Stoka AE-1 KT DN250:144,00",null,144,null,null,null,null,null,null,null,"Stoka AE-1 KT DN250:144,00"]
[null,null,"Stoka AF KT DN250:173,00-18,00",null,155,null,null,null,null,null,null,null,"Stoka AF KT DN250:173,00-18,00"]
[null,null,"Stoka AG KT DN250:62,00",null,62,null,null,null,null,null,null,null,"Stoka AG KT DN250:62,00"]
[null,null,"Stoka AH KT DN250:97,00",null,97,null,null,null,null,null,null,null,"Stoka AH KT DN250:97,00"]
[null,null,"Sběrač B KT DN250:770,00",null,770,null,null,null,null,null,null,null,"Sběrač B KT DN250:770,00"]
[null,null,"Stoka BA KT DN250:108,00",null,108,null,null,null,null,null,null,null,"Stoka BA KT DN250:108,00"]
[null,null,"Sběrač C KT DN250:273,00",null,273,null,null,null,null,null,null,null,"Sběrač C KT DN250:273,00"]
[null,null,"Stoka CA KT DN250:183,00-23,00",null,160,null,null,null,null,null,null,null,"Stoka CA KT DN250:183,00-23,00"]
[29,"892601154R00","Čištění kanalizační stoky do DN 500, nad 100 m ","m",3924,null,{"$f":"E436*F436","v":0},0,{"$f":"E436*H436","v":0},0,{"$f":"E436*J436","v":0},null,null,null,2,null,null,null,null,null,null,null,null,null,null,null,1,1,1,null,null,null,null,null,null,null,null,null,null,null,null,null,null,null,null,null,null,null,null,null,null,1,{"$f":"IF(AZ436=1,G436,0)","v":0},{"$f":"IF(AZ436=2,G436,0)","v":0},{"$f":"IF(AZ436=3,G436,0)","v":0},{"$f":"IF(AZ436=4,G436,0)","v":0},{"$f":"IF(AZ436=5,G436,0)","v":0},null,null,null,null,null,null,null,null,null,null,null,null,null,null,null,null,null,null,null,null,null,1,1]
[null,null,"Kmenová stoka A KT DN250:286,00",null,286,null,null,null,null,null,null,null,"Kmenová stoka A KT DN250:286,00"]
[null,null,"Kmenová stoka A KT DN300:1111,00",null,1111,null,null,null,null,null,null,null,"Kmenová stoka A KT DN300:1111,00"]
[null,null,"Kmenová stoka A KT DN500:113,00",null,113,null,null,null,null,null,null,null,"Kmenová stoka A KT DN500:113,00"]
[null,null,"Stoka AA KT DN250:172,00",null,172,null,null,null,null,null,null,null,"Stoka AA KT DN250:172,00"]
[null,null,"Stoka AB KT DN250:49,00",null,49,null,null,null,null,null,null,null,"Stoka AB KT DN250:49,00"]
[null,null,"Stoka AC KT DN250:146,00",null,146,null,null,null,null,null,null,null,"Stoka AC KT DN250:146,00"]
[null,null,"Stoka AD KT DN250:76,00-19,00",null,57,null,null,null,null,null,null,null,"Stoka AD KT DN250:76,00-19,00"]
[null,null,"Stoka AE KT DN250:221,00",null,221,null,null,null,null,null,null,null,"Stoka AE KT DN250:221,00"]
[null,null,"Stoka AE-1 KT DN250:144,00",null,144,null,null,null,null,null,null,null,"Stoka AE-1 KT DN250:144,00"]
[null,null,"Stoka AF KT DN250:173,00-18,00",null,155,null,null,null,null,null,null,null,"Stoka AF KT DN250:173,00-18,00"]
[null,null,"Stoka AG KT DN250:62,00",null,62,null,null,null,null,null,null,null,"Stoka AG KT DN250:62,00"]
[null,null,"Stoka AH KT DN250:97,00",null,97,null,null,null,null,null,null,null,"Stoka AH KT DN250:97,00"]
[null,null,"Sběrač B KT DN250:770,00",null,770,null,null,null,null,null,null,null,"Sběrač B KT DN250:770,00"]
[null,null,"Stoka BA KT DN250:108,00",null,108,null,null,null,null,null,null,null,"Stoka BA KT DN250:108,00"]
[null,null,"Sběrač C KT DN250:273,00",null,273,null,null,null,null,null,null,null,"Sběrač C KT DN250:273,00"]
[null,null,"Stoka CA KT DN250:183,00-23,00",null,160,null,null,null,null,null,null,null,"Stoka CA KT DN250:183,00-23,00"]
[30,"892661111R00","Zkouška těsnosti kanalizace DN do 600, vodou ","m",113,null,{"$f":"E453*F453","v":0},0,{"$f":"E453*H453","v":0},0,{"$f":"E453*J453","v":0},null,null,null,2,null,null,null,null,null,null,null,null,null,null,null,1,1,1,null,null,null,null,null,null,null,null,null,null,null,null,null,null,null,null,null,null,null,null,null,null,1,{"$f":"IF(AZ453=1,G453,0)","v":0},{"$f":"IF(AZ453=2,G453,0)","v":0},{"$f":"IF(AZ453=3,G453,0)","v":0},{"$f":"IF(AZ453=4,G453,0)","v":0},{"$f":"IF(AZ453=5,G453,0)","v":0},null,null,null,null,null,null,null,null,null,null,null,null,null,null,null,null,null,null,null,null,null,1,1]
[null,null,"V položce jsou zakalkulovány náklady na napuštění vodou a dodání vody pro zkoušku těsnosti včetně zavakování potrubí dle zvolené technologie zhotovitele.",null,null,null,null,null,null,null,null,"V položce jsou zakalkulovány náklady na napuštění vodou a dodání vody pro zkoušku těsnosti včetně zavakování potrubí dle zvolené technologie zhotovitele.",null,null,3]
[null,null,"Kmenová stoka A KT DN500:113,00",null,113,null,null,null,null,null,null,null,"Kmenová stoka A KT DN500:113,00"]
[31,"892855116R00","Kontrola kanalizace TV kamerou nad 500 m ","m",3924,null,{"$f":"E456*F456","v":0},0,{"$f":"E456*H456","v":0},0,{"$f":"E456*J456","v":0},null,null,null,2,null,null,null,null,null,null,null,null,null,null,null,1,1,1,null,null,null,null,null,null,null,null,null,null,null,null,null,null,null,null,null,null,null,null,null,null,1,{"$f":"IF(AZ456=1,G456,0)","v":0},{"$f":"IF(AZ456=2,G456,0)","v":0},{"$f":"IF(AZ456=3,G456,0)","v":0},{"$f":"IF(AZ456=4,G456,0)","v":0},{"$f":"IF(AZ456=5,G456,0)","v":0},null,null,null,null,null,null,null,null,null,null,null,null,null,null,null,null,null,null,null,null,null,1,1]
[null,null,"Kmenová stoka A KT DN250:286,00",null,286,null,null,null,null,null,null,null,"Kmenová stoka A KT DN250:286,00"]
[null,null,"Kmenová stoka A KT DN300:1111,00",null,1111,null,null,null,null,null,null,null,"Kmenová stoka A KT DN300:1111,00"]
[null,null,"Kmenová stoka A KT DN500:113,00",null,113,null,null,null,null,null,null,null,"Kmenová stoka A KT DN500:113,00"]
[null,null,"Stoka AA KT DN250:172,00",null,172,null,null,null,null,null,null,null,"Stoka AA KT DN250:172,00"]
[null,null,"Stoka AB KT DN250:49,00",null,49,null,null,null,null,null,null,null,"Stoka AB KT DN250:49,00"]
[null,null,"Stoka AC KT DN250:146,00",null,146,null,null,null,null,null,null,null,"Stoka AC KT DN250:146,00"]
[null,null,"Stoka AD KT DN250:76,00-19,00",null,57,null,null,null,null,null,null,null,"Stoka AD KT DN250:76,00-19,00"]
[null,null,"Stoka AE KT DN250:221,00",null,221,null,null,null,null,null,null,null,"Stoka AE KT DN250:221,00"]
[null,null,"Stoka AE-1 KT DN250:144,00",null,144,null,null,null,null,null,null,null,"Stoka AE-1 KT DN250:144,00"]
[null,null,"Stoka AF KT DN250:173,00-18,00",null,155,null,null,null,null,null,null,null,"Stoka AF KT DN250:173,00-18,00"]
[null,null,"Stoka AG KT DN250:62,00",null,62,null,null,null,null,null,null,null,"Stoka AG KT DN250:62,00"]
[null,null,"Stoka AH KT DN250:97,00",null,97,null,null,null,null,null,null,null,"Stoka AH KT DN250:97,00"]
[null,null,"Sběrač B KT DN250:770,00",null,770,null,null,null,null,null,null,null,"Sběrač B KT DN250:770,00"]
[null,null,"Stoka BA KT DN250:108,00",null,108,null,null,null,null,null,null,null,"Stoka BA KT DN250:108,00"]
[null,null,"Sběrač C KT DN250:273,00",null,273,null,null,null,null,null,null,null,"Sběrač C KT DN250:273,00"]
[null,null,"Stoka CA KT DN250:183,00-23,00",null,160,null,null,null,null,null,null,null,"Stoka CA KT DN250:183,00-23,00"]
[32,"894421111RT1","Osazení betonových dílců šachet skruže rovné, na kroužek, do 0,5 t","kus",73,null,{"$f":"E473*F473","v":0},0,{"$f":"E473*H473","v":0},0,{"$f":"E473*J473","v":0},null,null,null,2,null,null,null,null,null,null,null,null,null,null,null,1,1,1,null,null,null,null,null,null,null,null,null,null,null,null,null,null,null,null,null,null,null,null,null,null,1,{"$f":"IF(AZ473=1,G473,0)","v":0},{"$f":"IF(AZ473=2,G473,0)","v":0},{"$f":"IF(AZ473=3,G473,0)","v":0},{"$f":"IF(AZ473=4,G473,0)","v":0},{"$f":"IF(AZ473=5,G473,0)","v":0},null,null,null,null,null,null,null,null,null,null,null,null,null,null,null,null,null,null,null,null,null,1,1]
[null,null,"Položka je určena pro osazení betonových dílců šachet dle DIN 4034, skruže rovné na kroužek, hmotnost do 0,5 t.",null,null,null,null,null,null,null,null,"Položka je určena pro osazení betonových dílců šachet dle DIN 4034, skruže rovné na kroužek, hmotnost do 0,5 t.",null,null,3]
[null,null,"V položce nejsou zakalkulovány náklady na dodání betonových dílců; dílce se oceňují ve specifikaci.",null,null,null,null,null,null,null,null,"V položce nejsou zakalkulovány náklady na dodání betonových dílců; dílce se oceňují ve specifikaci.",null,null,3]
[null,null,"Skruž H25:",null,0,null,null,null,null,null,null,null,"Skruž H25:"]
[null,null,"Stoka \"A\":21",null,21,null,null,null,null,null,null,null,"Stoka \"A\":21"]
[null,null,"Stoka \"AA\":4",null,4,null,null,null,null,null,null,null,"Stoka \"AA\":4"]
[null,null,"Stoka \"AB\":0",null,0,null,null,null,null,null,null,null,"Stoka \"AB\":0"]
[null,null,"Stoka \"AC\":3",null,3,null,null,null,null,null,null,null,"Stoka \"AC\":3"]
[null,null,"Stoka \"AD\":1-1",null,0,null,null,null,null,null,null,null,"Stoka \"AD\":1-1"]
[null,null,"Stoka \"AE\":4",null,4,null,null,null,null,null,null,null,"Stoka \"AE\":4"]
[null,null,"Stoka \"AE-1\":4",null,4,null,null,null,null,null,null,null,"Stoka \"AE-1\":4"]
[null,null,"Stoka \"AF\":6-1",null,5,null,null,null,null,null,null,null,"Stoka \"AF\":6-1"]
[null,null,"Stoka \"AG\":1",null,1,null,null,null,null,null,null,null,"Stoka \"AG\":1"]
[null,null,"Stoka \"AH\":2",null,2,null,null,null,null,null,null,null,"Stoka \"AH\":2"]
[null,null,"Stoka \"B\":18",null,18,null,null,null,null,null,null,null,"Stoka \"B\":18"]
[null,null,"Stoka \"BA\":2",null,2,null,null,null,null,null,null,null,"Stoka \"BA\":2"]
[null,null,"Stoka \"C\":5",null,5,null,null,null,null,null,null,null,"Stoka \"C\":5"]
[null,null,"Stoka \"CA\":5-1",null,4,null,null,null,null,null,null,null,"Stoka \"CA\":5-1"]
[33,"894421112RT1","Osazení betonových dílců šachet skruže rovné, na kroužek, do 1,4 t","kus",154,null,{"$f":"E491*F491","v":0},0,{"$f":"E491*H491","v":0},0,{"$f":"E491*J491","v":0},null,null,null,2,null,null,null,null,null,null,null,null,null,null,null,1,1,1,null,null,null,null,null,null,null,null,null,null,null,null,null,null,null,null,null,null,null,null,null,null,1,{"$f":"IF(AZ491=1,G491,0)","v":0},{"$f":"IF(AZ491=2,G491,0)","v":0},{"$f":"IF(AZ491=3,G491,0)","v":0},{"$f":"IF(AZ491=4,G491,0)","v":0},{"$f":"IF(AZ491=5,G491,0)","v":0},null,null,null,null,null,null,null,null,null,null,null,null,null,null,null,null,null,null,null,null,null,1,1]
[null,null,"Položka je určena pro osazení betonových dílců šachet dle DIN 4034, skruže rovné na kroužek, hmotnost přes 0,5 do 1,4 t.",null,null,null,null,null,null,null,null,"Položka je určena pro osazení betonových dílců šachet dle DIN 4034, skruže rovné na kroužek, hmotnost přes 0,5 do 1,4 t.",null,null,3]
[null,null,"V položce nejsou zakalkulovány náklady na dodání betonových dílců; dílce se oceňují ve specifikaci.",null,null,null,null,null,null,null,null,"V položce nejsou zakalkulovány náklady na dodání betonových dílců; dílce se oceňují ve specifikaci.",null,null,3]
[null,null,"Skruž H50:",null,0,null,null,null,null,null,null,null,"Skruž H50:"]
[null,null,"Stoka \"A\":25",null,25,null,null,null,null,null,null,null,"Stoka \"A\":25"]
[null,null,"Stoka \"AA\":2",null,2,null,null,null,null,null,null,null,"Stoka \"AA\":2"]
[null,null,"Stoka \"AB\":0",null,0,null,null,null,null,null,null,null,"Stoka \"AB\":0"]
[null,null,"Stoka \"AC\":2",null,2,null,null,null,null,null,null,null,"Stoka \"AC\":2"]
[null,null,"Stoka \"AD\":1-1",null,0,null,null,null,null,null,null,null,"Stoka \"AD\":1-1"]
[null,null,"Stoka \"AE\":6",null,6,null,null,null,null,null,null,null,"Stoka \"AE\":6"]
[null,null,"Stoka \"AE-1\":5",null,5,null,null,null,null,null,null,null,"Stoka \"AE-1\":5"]
[null,null,"Stoka \"AF\":5-1",null,4,null,null,null,null,null,null,null,"Stoka \"AF\":5-1"]
[null,null,"Stoka \"AG\":0",null,0,null,null,null,null,null,null,null,"Stoka \"AG\":0"]
[null,null,"Stoka \"AH\":3",null,3,null,null,null,null,null,null,null,"Stoka \"AH\":3"]
[null,null,"Stoka \"B\":22",null,22,null,null,null,null,null,null,null,"Stoka \"B\":22"]
[null,null,"Stoka \"BA\":3",null,3,null,null,null,null,null,null,null,"Stoka \"BA\":3"]
[null,null,"Stoka \"C\":2",null,2,null,null,null,null,null,null,null,"Stoka \"C\":2"]
[null,null,"Stoka \"CA\":4-1",null,3,null,null,null,null,null,null,null,"Stoka \"CA\":4-1"]
[null,null,"Skruž H100:",null,0,null,null,null,null,null,null,null,"Skruž H100:"]
[null,null,"Stoka \"A\":35",null,35,null,null,null,null,null,null,null,"Stoka \"A\":35"]
[null,null,"Stoka \"AA\":3",null,3,null,null,null,null,null,null,null,"Stoka \"AA\":3"]
[null,null,"Stoka \"AB\":0",null,0,null,null,null,null,null,null,null,"Stoka \"AB\":0"]
[null,null,"Stoka \"AC\":5",null,5,null,null,null,null,null,null,null,"Stoka \"AC\":5"]
[null,null,"Stoka \"AD\":1",null,1,null,null,null,null,null,null,null,"Stoka \"AD\":1"]
[null,null,"Stoka \"AE\":2",null,2,null,null,null,null,null,null,null,"Stoka \"AE\":2"]
[null,null,"Stoka \"AE-1\":0",null,0,null,null,null,null,null,null,null,"Stoka \"AE-1\":0"]
[null,null,"Stoka \"AF\":2",null,2,null,null,null,null,null,null,null,"Stoka \"AF\":2"]
[null,null,"Stoka \"AG\":3",null,3,null,null,null,null,null,null,null,"Stoka \"AG\":3"]
[null,null,"Stoka \"AH\":0",null,0,null,null,null,null,null,null,null,"Stoka \"AH\":0"]
[null,null,"Stoka \"B\":13",null,13,null,null,null,null,null,null,null,"Stoka \"B\":13"]
[null,null,"Stoka \"BA\":2",null,2,null,null,null,null,null,null,null,"Stoka \"BA\":2"]
[null,null,"Stoka \"C\":8",null,8,null,null,null,null,null,null,null,"Stoka \"C\":8"]
[null,null,"Stoka \"CA\":3",null,3,null,null,null,null,null,null,null,"Stoka \"CA\":3"]
[34,"894422111RT1","Osazení betonových dílců šachet skruže přechodové, na kroužek","kus",123,null,{"$f":"E524*F524","v":0},0,{"$f":"E524*H524","v":0},0,{"$f":"E524*J524","v":0},null,null,null,2,null,null,null,null,null,null,null,null,null,null,null,1,1,1,null,null,null,null,null,null,null,null,null,null,null,null,null,null,null,null,null,null,null,null,null,null,1,{"$f":"IF(AZ524=1,G524,0)","v":0},{"$f":"IF(AZ524=2,G524,0)","v":0},{"$f":"IF(AZ524=3,G524,0)","v":0},{"$f":"IF(AZ524=4,G524,0)","v":0},{"$f":"IF(AZ524=5,G524,0)","v":0},null,null,null,null,null,null,null,null,null,null,null,null,null,null,null,null,null,null,null,null,null,1,1]
[null,null,"Položka je určena pro osazení betonových dílců šachet dle DIN 4034, skruže přechodové na kroužek.",null,null,null,null,null,null,null,null,"Položka je určena pro osazení betonových dílců šachet dle DIN 4034, skruže přechodové na kroužek.",null,null,3]
[null,null,"V položce nejsou zakalkulovány náklady na dodání betonových dílců",null,null,null,null,null,null,null,null,"V položce nejsou zakalkulovány náklady na dodání betonových dílců",null,null,3]
[null,null,"Kónus H60 nebo ZD:",null,0,null,null,null,null,null,null,null,"Kónus H60 nebo ZD:"]
[null,null,"Stoka \"A\":41",null,41,null,null,null,null,null,null,null,"Stoka \"A\":41"]
[null,null,"Stoka \"AA\":4",null,4,null,null,null,null,null,null,null,"Stoka \"AA\":4"]
[null,null,"Stoka \"AB\":1",null,1,null,null,null,null,null,null,null,"Stoka \"AB\":1"]
[null,null,"Stoka \"AC\":4+1",null,5,null,null,null,null,null,null,null,"Stoka \"AC\":4+1"]
[null,null,"Stoka \"AD\":3-1",null,2,null,null,null,null,null,null,null,"Stoka \"AD\":3-1"]
[null,null,"Stoka \"AE\":6",null,6,null,null,null,null,null,null,null,"Stoka \"AE\":6"]
[null,null,"Stoka \"AE-1\":5",null,5,null,null,null,null,null,null,null,"Stoka \"AE-1\":5"]
[null,null,"Stoka \"AF\":7-1",null,6,null,null,null,null,null,null,null,"Stoka \"AF\":7-1"]
[null,null,"Stoka \"AG\":3",null,3,null,null,null,null,null,null,null,"Stoka \"AG\":3"]
[null,null,"Stoka \"AH\":3",null,3,null,null,null,null,null,null,null,"Stoka \"AH\":3"]
[null,null,"Stoka \"B\":27",null,27,null,null,null,null,null,null,null,"Stoka \"B\":27"]
[null,null,"Stoka \"BA\":4",null,4,null,null,null,null,null,null,null,"Stoka \"BA\":4"]
[null,null,"Stoka \"C\":9",null,9,null,null,null,null,null,null,null,"Stoka \"C\":9"]
[null,null,"Stoka \"CA\":8-1",null,7,null,null,null,null,null,null,null,"Stoka \"CA\":8-1"]
[35,"894423111RT1","Osazení betonových dílců šachet šachtová dna, na kroužek, do 2,0 t","kus",118,null,{"$f":"E542*F542","v":0},0,{"$f":"E542*H542","v":0},0,{"$f":"E542*J542","v":0},null,null,null,2,null,null,null,null,null,null,null,null,null,null,null,1,1,1,null,null,null,null,null,null,null,null,null,null,null,null,null,null,null,null,null,null,null,null,null,null,1,{"$f":"IF(AZ542=1,G542,0)","v":0},{"$f":"IF(AZ542=2,G542,0)","v":0},{"$f":"IF(AZ542=3,G542,0)","v":0},{"$f":"IF(AZ542=4,G542,0)","v":0},{"$f":"IF(AZ542=5,G542,0)","v":0},null,null,null,null,null,null,null,null,null,null,null,null,null,null,null,null,null,null,null,null,null,1,1]
[null,null,"Položka je určena pro osazení betonových dílců šachet dle DIN 4034, šachtová dna na kroužek, hmotnost do 2,0 t.",null,null,null,null,null,null,null,null,"Položka je určena pro osazení betonových dílců šachet dle DIN 4034, šachtová dna na kroužek, hmotnost do 2,0 t.",null,null,3]
[null,null,"V položce nejsou zakalkulovány náklady na dodání betonových dílců;",null,null,null,null,null,null,null,null,"V položce nejsou zakalkulovány náklady na dodání betonových dílců;",null,null,3]
[null,null,"ŠD 250-735:",null,0,null,null,null,null,null,null,null,"ŠD 250-735:"]
[null,null,"Stoka \"A\":7",null,7,null,null,null,null,null,null,null,"Stoka \"A\":7"]
[null,null,"Stoka \"AA\":4",null,4,null,null,null,null,null,null,null,"Stoka \"AA\":4"]
[null,null,"Stoka \"AB\":1",null,1,null,null,null,null,null,null,null,"Stoka \"AB\":1"]
[null,null,"Stoka \"AC\":5",null,5,null,null,null,null,null,null,null,"Stoka \"AC\":5"]
[null,null,"Stoka \"AD\":3-1",null,2,null,null,null,null,null,null,null,"Stoka \"AD\":3-1"]
[null,null,"Stoka \"AE\":6",null,6,null,null,null,null,null,null,null,"Stoka \"AE\":6"]
[null,null,"Stoka \"AE-1\":5",null,5,null,null,null,null,null,null,null,"Stoka \"AE-1\":5"]
[null,null,"Stoka \"AF\":7-1",null,6,null,null,null,null,null,null,null,"Stoka \"AF\":7-1"]
[null,null,"Stoka \"AG\":3",null,3,null,null,null,null,null,null,null,"Stoka \"AG\":3"]
[null,null,"Stoka \"AH\":3",null,3,null,null,null,null,null,null,null,"Stoka \"AH\":3"]
[null,null,"Stoka \"B\":27",null,27,null,null,null,null,null,null,null,"Stoka \"B\":27"]
[null,null,"Stoka \"BA\":4",null,4,null,null,null,null,null,null,null,"Stoka \"BA\":4"]
[null,null,"Stoka \"C\":9",null,9,null,null,null,null,null,null,null,"Stoka \"C\":9"]
[null,null,"Stoka \"CA\":8-1",null,7,null,null,null,null,null,null,null,"Stoka \"CA\":8-1"]
[null,null,"ŠD 300-785:",null,0,null,null,null,null,null,null,null,"ŠD 300-785:"]
[null,null,"Stoka \"A\":29",null,29,null,null,null,null,null,null,null,"Stoka \"A\":29"]
[36,"894423112RT1","Osazení betonových dílců šachet do 3,0 t šachtová dna, na kroužek, do 3,0 t","kus",5,null,{"$f":"E562*F562","v":0},0,{"$f":"E562*H562","v":0},0,{"$f":"E562*J562","v":0},null,null,null,2,null,null,null,null,null,null,null,null,null,null,null,1,1,1,null,null,null,null,null,null,null,null,null,null,null,null,null,null,null,null,null,null,null,null,null,null,1,{"$f":"IF(AZ562=1,G562,0)","v":0},{"$f":"IF(AZ562=2,G562,0)","v":0},{"$f":"IF(AZ562=3,G562,0)","v":0},{"$f":"IF(AZ562=4,G562,0)","v":0},{"$f":"IF(AZ562=5,G562,0)","v":0},null,null,null,null,null,null,null,null,null,null,null,null,null,null,null,null,null,null,null,null,null,1,1]
[null,null,"Položka je určena pro osazení betonových dílců šachet dle DIN 4034, šachtová dna na kroužek, hmotnost do 3,0 t.",null,null,null,null,null,null,null,null,"Položka je určena pro osazení betonových dílců šachet dle DIN 4034, šachtová dna na kroužek, hmotnost do 3,0 t.",null,null,3]
[null,null,"ŠD 500-1085:",null,0,null,null,null,null,null,null,null,"ŠD 500-1085:"]
[null,null,"Stoka \"A\":5",null,5,null,null,null,null,null,null,null,"Stoka \"A\":5"]
[37,"896290115TRR","Příplatek za vytvoření spadiště pro DN 250-500 ","soubor",4,null,{"$f":"E566*F566","v":0},1.1185099999999999,{"$f":"E566*H566","v":4.4740399999999996},0,{"$f":"E566*J566","v":0},null,null,null,2,null,null,null,null,null,null,null,null,null,null,null,1,1,1,null,null,null,null,null,null,null,null,null,null,null,null,null,null,null,null,null,null,null,null,null,null,1,{"$f":"IF(AZ566=1,G566,0)","v":0},{"$f":"IF(AZ566=2,G566,0)","v":0},{"$f":"IF(AZ566=3,G566,0)","v":0},{"$f":"IF(AZ566=4,G566,0)","v":0},{"$f":"IF(AZ566=5,G566,0)","v":0},null,null,null,null,null,null,null,null,null,null,null,null,null,null,null,null,null,null,null,null,null,1,1]
[null,null,"Součástí položky je i dodávaka příslušných tvarovek a potrubí",null,null,null,null,null,null,null,null,"Součástí položky je i dodávaka příslušných tvarovek a potrubí",null,null,3]
[null,null,"Spadiště:",null,0,null,null,null,null,null,null,null,"Spadiště:"]
[null,null,"Stoka \"A\":4",null,4,null,null,null,null,null,null,null,"Stoka \"A\":4"]
[38,"899103111RR1","Osazení poklopu s rámem do 150 kg s odvětráním včetně dodávky poklopu lit. kruhového D 400 dle PD","kus",27,null,{"$f":"E570*F570","v":0},0.13102,{"$f":"E570*H570","v":3.5375399999999999},0,{"$f":"E570*J570","v":0},null,null,null,2,null,null,null,null,null,null,null,null,null,null,null,1,1,1,null,null,null,null,null,null,null,null,null,null,null,null,null,null,null,null,null,null,null,null,null,null,1,{"$f":"IF(AZ570=1,G570,0)","v":0},{"$f":"IF(AZ570=2,G570,0)","v":0},{"$f":"IF(AZ570=3,G570,0)","v":0},{"$f":"IF(AZ570=4,G570,0)","v":0},{"$f":"IF(AZ570=5,G570,0)","v":0},null,null,null,null,null,null,null,null,null,null,null,null,null,null,null,null,null,null,null,null,null,1,1]
[null,null,"Poklop se znakem a nápisem názvu obce. ",null,null,null,null,null,null,null,null,"Poklop se znakem a nápisem názvu obce. ",null,null,3]
[null,null,"Poznámka :",null,null,null,null,null,null,null,null,"Poznámka :",null,null,3]
[null,null,"Platí pro všechny objekty stavby.",null,null,null,null,null,null,null,null,"Platí pro všechny objekty stavby.",null,null,3]
[null,null,"Poklop dle PD s odvětráním:",null,0,null,null,null,null,null,null,null,"Poklop dle PD s odvětráním:"]
[null,null,"Stoka \"A\":11",null,11,null,null,null,null,null,null,null,"Stoka \"A\":11"]
[null,null,"Stoka \"AA\":1",null,1,null,null,null,null,null,null,null,"Stoka \"AA\":1"]
[null,null,"Stoka \"AB\":1",null,1,null,null,null,null,null,null,null,"Stoka \"AB\":1"]
[null,null,"Stoka \"AC\":2",null,2,null,null,null,null,null,null,null,"Stoka \"AC\":2"]
[null,null,"Stoka \"AD\":1-1",null,0,null,null,null,null,null,null,null,"Stoka \"AD\":1-1"]
[null,null,"Stoka \"AE\":1",null,1,null,null,null,null,null,null,null,"Stoka \"AE\":1"]
[null,null,"Stoka \"AE-1\":1",null,1,null,null,null,null,null,null,null,"Stoka \"AE-1\":1"]
[null,null,"Stoka \"AF\":1-1",null,0,null,null,null,null,null,null,null,"Stoka \"AF\":1-1"]
[null,null,"Stoka \"AG\":1",null,1,null,null,null,null,null,null,null,"Stoka \"AG\":1"]
[null,null,"Stoka \"AH\":1",null,1,null,null,null,null,null,null,null,"Stoka \"AH\":1"]
[null,null,"Stoka \"B\":5",null,5,null,null,null,null,null,null,null,"Stoka \"B\":5"]
[null,null,"Stoka \"BA\":1",null,1,null,null,null,null,null,null,null,"Stoka \"BA\":1"]
[null,null,"Stoka \"C\":2",null,2,null,null,null,null,null,null,null,"Stoka \"C\":2"]
[null,null,"Stoka \"CA\":1-1",null,0,null,null,null,null,null,null,null,"Stoka \"CA\":1-1"]
[39,"899103111RR2","Osazení poklopu s rámem do 150 kg bez odvětrání včetně dodávky poklopu lit. kruhového D 400 dle PD","kus",96,null,{"$f":"E589*F589","v":0},0.13102,{"$f":"E589*H589","v":12.577919999999999},0,{"$f":"E589*J589","v":0},null,null,null,2,null,null,null,null,null,null,null,null,null,null,null,1,1,1,null,null,null,null,null,null,null,null,null,null,null,null,null,null,null,null,null,null,null,null,null,null,1,{"$f":"IF(AZ589=1,G589,0)","v":0},{"$f":"IF(AZ589=2,G589,0)","v":0},{"$f":"IF(AZ589=3,G589,0)","v":0},{"$f":"IF(AZ589=4,G589,0)","v":0},{"$f":"IF(AZ589=5,G589,0)","v":0},null,null,null,null,null,null,null,null,null,null,null,null,null,null,null,null,null,null,null,null,null,1,1]
[null,null,"Poklop se znakem a nápisem názvu obce. ",null,null,null,null,null,null,null,null,"Poklop se znakem a nápisem názvu obce. ",null,null,3]
[null,null,"Poznámka :",null,null,null,null,null,null,null,null,"Poznámka :",null,null,3]
[null,null,"Platí pro všechny objekty stavby.",null,null,null,null,null,null,null,null,"Platí pro všechny objekty stavby.",null,null,3]
[null,null,"Poklop dle PD bez odvětrání:",null,0,null,null,null,null,null,null,null,"Poklop dle PD bez odvětrání:"]
[null,null,"Stoka \"A\":30",null,30,null,null,null,null,null,null,null,"Stoka \"A\":30"]
[null,null,"Stoka \"AA\":3",null,3,null,null,null,null,null,null,null,"Stoka \"AA\":3"]
[null,null,"Stoka \"AB\":0",null,0,null,null,null,null,null,null,null,"Stoka \"AB\":0"]
[null,null,"Stoka \"AC\":3",null,3,null,null,null,null,null,null,null,"Stoka \"AC\":3"]
[null,null,"Stoka \"AD\":2",null,2,null,null,null,null,null,null,null,"Stoka \"AD\":2"]
[null,null,"Stoka \"AE\":5",null,5,null,null,null,null,null,null,null,"Stoka \"AE\":5"]
[null,null,"Stoka \"AE-1\":4",null,4,null,null,null,null,null,null,null,"Stoka \"AE-1\":4"]
[null,null,"Stoka \"AF\":6",null,6,null,null,null,null,null,null,null,"Stoka \"AF\":6"]
[null,null,"Stoka \"AG\":2",null,2,null,null,null,null,null,null,null,"Stoka \"AG\":2"]
[null,null,"Stoka \"AH\":2",null,2,null,null,null,null,null,null,null,"Stoka \"AH\":2"]
[null,null,"Stoka \"B\":22",null,22,null,null,null,null,null,null,null,"Stoka \"B\":22"]
[null,null,"Stoka \"BA\":3",null,3,null,null,null,null,null,null,null,"Stoka \"BA\":3"]
[null,null,"Stoka \"C\":7",null,7,null,null,null,null,null,null,null,"Stoka \"C\":7"]
[null,null,"Stoka \"CA\":7",null,7,null,null,null,null,null,null,null,"Stoka \"CA\":7"]
[40,"899721112R00","Fólie výstražná z PVC, šířka 30 cm ","m",3924,null,{"$f":"E608*F608","v":0},0,{"$f":"E608*H608","v":0},0,{"$f":"E608*J608","v":0},null,null,null,2,null,null,null,null,null,null,null,null,null,null,null,1,1,1,null,null,null,null,null,null,null,null,null,null,null,null,null,null,null,null,null,null,null,null,null,null,1,{"$f":"IF(AZ608=1,G608,0)","v":0},{"$f":"IF(AZ608=2,G608,0)","v":0},{"$f":"IF(AZ608=3,G608,0)","v":0},{"$f":"IF(AZ608=4,G608,0)","v":0},{"$f":"IF(AZ608=5,G608,0)","v":0},null,null,null,null,null,null,null,null,null,null,null,null,null,null,null,null,null,null,null,null,null,1,1]
[null,null,"Kmenová stoka A KT DN250:286,00",null,286,null,null,null,null,null,null,null,"Kmenová stoka A KT DN250:286,00"]
[null,null,"Kmenová stoka A KT DN300:1111,00",null,1111,null,null,null,null,null,null,null,"Kmenová stoka A KT DN300:1111,00"]
[null,null,"Kmenová stoka A KT DN500:113,00",null,113,null,null,null,null,null,null,null,"Kmenová stoka A KT DN500:113,00"]
[null,null,"Stoka AA KT DN250:172,00",null,172,null,null,null,null,null,null,null,"Stoka AA KT DN250:172,00"]
[null,null,"Stoka AB KT DN250:49,00",null,49,null,null,null,null,null,null,null,"Stoka AB KT DN250:49,00"]
[null,null,"Stoka AC KT DN250:146,00",null,146,null,null,null,null,null,null,null,"Stoka AC KT DN250:146,00"]
[null,null,"Stoka AD KT DN250:76,00-19,00",null,57,null,null,null,null,null,null,null,"Stoka AD KT DN250:76,00-19,00"]
[null,null,"Stoka AE KT DN250:221,00",null,221,null,null,null,null,null,null,null,"Stoka AE KT DN250:221,00"]
[null,null,"Stoka AE-1 KT DN250:144,00",null,144,null,null,null,null,null,null,null,"Stoka AE-1 KT DN250:144,00"]
[null,null,"Stoka AF KT DN250:173,00-18,00",null,155,null,null,null,null,null,null,null,"Stoka AF KT DN250:173,00-18,00"]
[null,null,"Stoka AG KT DN250:62,00",null,62,null,null,null,null,null,null,null,"Stoka AG KT DN250:62,00"]
[null,null,"Stoka AH KT DN250:97,00",null,97,null,null,null,null,null,null,null,"Stoka AH KT DN250:97,00"]
[null,null,"Sběrač B KT DN250:770,00",null,770,null,null,null,null,null,null,null,"Sběrač B KT DN250:770,00"]
[null,null,"Stoka BA KT DN250:108,00",null,108,null,null,null,null,null,null,null,"Stoka BA KT DN250:108,00"]
[null,null,"Sběrač C KT DN250:273,00",null,273,null,null,null,null,null,null,null,"Sběrač C KT DN250:273,00"]
[null,null,"Stoka CA KT DN250:183,00-23,00",null,160,null,null,null,null,null,null,null,"Stoka CA KT DN250:183,00-23,00"]
[41,"59224350.R","Zákrytová deska TZK-Q 200/120 T s integrovaným poklopem dle PD","kus",1.01,null,{"$f":"E625*F625","v":0},0.435,{"$f":"E625*H625","v":0.43935000000000002},null,{"$f":"E625*J625","v":0},null,null,null,2,null,null,null,null,null,null,null,null,null,null,null,3,1,"59224350.R",null,null,null,null,null,null,null,null,null,null,null,null,null,null,null,null,null,null,null,null,null,null,1,{"$f":"IF(AZ625=1,G625,0)","v":0},{"$f":"IF(AZ625=2,G625,0)","v":0},{"$f":"IF(AZ625=3,G625,0)","v":0},{"$f":"IF(AZ625=4,G625,0)","v":0},{"$f":"IF(AZ625=5,G625,0)","v":0},null,null,null,null,null,null,null,null,null,null,null,null,null,null,null,null,null,null,null,null,null,3,1]
[null,null,"Stoky:",null,0,null,null,null,null,null,null,null,"Stoky:"]
[null,null,"ZD:1*1,01",null,1.01,null,null,null,null,null,null,null,"ZD:1*1,01"]
[42,"59224353.R","Konus šachetní TBR-Q 600/1000x625/120 SPK","kus",123.22,null,{"$f":"E628*F628","v":0},0.59499999999999997,{"$f":"E628*H628","v":73.315899999999999},null,{"$f":"E628*J628","v":0},null,null,null,2,null,null,null,null,null,null,null,null,null,null,null,3,1,"59224353.R",null,null,null,null,null,null,null,null,null,null,null,null,null,null,null,null,null,null,null,null,null,null,1,{"$f":"IF(AZ628=1,G628,0)","v":0},{"$f":"IF(AZ628=2,G628,0)","v":0},{"$f":"IF(AZ628=3,G628,0)","v":0},{"$f":"IF(AZ628=4,G628,0)","v":0},{"$f":"IF(AZ628=5,G628,0)","v":0},null,null,null,null,null,null,null,null,null,null,null,null,null,null,null,null,null,null,null,null,null,3,1]
[null,null,"Stoky:",null,0,null,null,null,null,null,null,null,"Stoky:"]
[null,null,"Kónus H60:(125-3)*1,01",null,123.22,null,null,null,null,null,null,null,"Kónus H60:(125-3)*1,01"]
[43,"592243554.R","Skruž šachetní TBS-Q 1000/250/120 SP","kus",73.73,null,{"$f":"E631*F631","v":0},0.24,{"$f":"E631*H631","v":17.6952},null,{"$f":"E631*J631","v":0},null,null,null,2,null,null,null,null,null,null,null,null,null,null,null,3,1,"592243554.R",null,null,null,null,null,null,null,null,null,null,null,null,null,null,null,null,null,null,null,null,null,null,1,{"$f":"IF(AZ631=1,G631,0)","v":0},{"$f":"IF(AZ631=2,G631,0)","v":0},{"$f":"IF(AZ631=3,G631,0)","v":0},{"$f":"IF(AZ631=4,G631,0)","v":0},{"$f":"IF(AZ631=5,G631,0)","v":0},null,null,null,null,null,null,null,null,null,null,null,null,null,null,null,null,null,null,null,null,null,3,1]
[null,null,"Stoky:",null,0,null,null,null,null,null,null,null,"Stoky:"]
[null,null,"Skruž H25:(76-3)*1,01",null,73.73,null,null,null,null,null,null,null,"Skruž H25:(76-3)*1,01"]
[44,"592243555.R","Skruž šachetní TBS-Q 1000/500/120 SP","kus",77.77,null,{"$f":"E634*F634","v":0},0.51,{"$f":"E634*H634","v":39.662700000000001},null,{"$f":"E634*J634","v":0},null,null,null,2,null,null,null,null,null,null,null,null,null,null,null,3,1,"592243555.R",null,null,null,null,null,null,null,null,null,null,null,null,null,null,null,null,null,null,null,null,null,null,1,{"$f":"IF(AZ634=1,G634,0)","v":0},{"$f":"IF(AZ634=2,G634,0)","v":0},{"$f":"IF(AZ634=3,G634,0)","v":0},{"$f":"IF(AZ634=4,G634,0)","v":0},{"$f":"IF(AZ634=5,G634,0)","v":0},null,null,null,null,null,null,null,null,null,null,null,null,null,null,null,null,null,null,null,null,null,3,1]
[null,null,"Stoky:",null,0,null,null,null,null,null,null,null,"Stoky:"]
[null,null,"Skruž H50:(80-3)*1,01",null,77.77,null,null,null,null,null,null,null,"Skruž H50:(80-3)*1,01"]
[45,"592243605.R","Skruž šachetní TBS-Q 1000/1000/120 SP","kus",77.77,null,{"$f":"E637*F637","v":0},1.0149999999999999,{"$f":"E637*H637","v":78.936549999999983},null,{"$f":"E637*J637","v":0},null,null,null,2,null,null,null,null,null,null,null,null,null,null,null,3,1,"592243605.R",null,null,null,null,null,null,null,null,null,null,null,null,null,null,null,null,null,null,null,null,null,null,1,{"$f":"IF(AZ637=1,G637,0)","v":0},{"$f":"IF(AZ637=2,G637,0)","v":0},{"$f":"IF(AZ637=3,G637,0)","v":0},{"$f":"IF(AZ637=4,G637,0)","v":0},{"$f":"IF(AZ637=5,G637,0)","v":0},null,null,null,null,null,null,null,null,null,null,null,null,null,null,null,null,null,null,null,null,null,3,1]
[null,null,"Stoky:",null,0,null,null,null,null,null,null,null,"Stoky:"]
[null,null,"Skruž H100:77*1,01",null,77.77,null,null,null,null,null,null,null,"Skruž H100:77*1,01"]
[46,"59224367.R","Dno šachetní TBZ-Q pro DN 250 včetně kynety dle PD","kus",89.89,null,{"$f":"E640*F640","v":0},1.31,{"$f":"E640*H640","v":117.75590000000001},null,{"$f":"E640*J640","v":0},null,null,null,2,null,null,null,null,null,null,null,null,null,null,null,3,1,"59224367.R",null,null,null,null,null,null,null,null,null,null,null,null,null,null,null,null,null,null,null,null,null,null,1,{"$f":"IF(AZ640=1,G640,0)","v":0},{"$f":"IF(AZ640=2,G640,0)","v":0},{"$f":"IF(AZ640=3,G640,0)","v":0},{"$f":"IF(AZ640=4,G640,0)","v":0},{"$f":"IF(AZ640=5,G640,0)","v":0},null,null,null,null,null,null,null,null,null,null,null,null,null,null,null,null,null,null,null,null,null,3,1]
[null,null,"Stoky:",null,0,null,null,null,null,null,null,null,"Stoky:"]
[null,null,"ŠD 250-735:(92-3)*1,01",null,89.89,null,null,null,null,null,null,null,"ŠD 250-735:(92-3)*1,01"]
[47,"59224368.R","Dno šachetní TBZ-Q pro DN 300 včetně kynety dle PD","kus",29.29,null,{"$f":"E643*F643","v":0},1.83,{"$f":"E643*H643","v":53.600700000000003},null,{"$f":"E643*J643","v":0},null,null,null,2,null,null,null,null,null,null,null,null,null,null,null,3,1,"59224368.R",null,null,null,null,null,null,null,null,null,null,null,null,null,null,null,null,null,null,null,null,null,null,1,{"$f":"IF(AZ643=1,G643,0)","v":0},{"$f":"IF(AZ643=2,G643,0)","v":0},{"$f":"IF(AZ643=3,G643,0)","v":0},{"$f":"IF(AZ643=4,G643,0)","v":0},{"$f":"IF(AZ643=5,G643,0)","v":0},null,null,null,null,null,null,null,null,null,null,null,null,null,null,null,null,null,null,null,null,null,3,1]
[null,null,"Stoky:",null,0,null,null,null,null,null,null,null,"Stoky:"]
[null,null,"ŠD 300-785:29*1,01",null,29.29,null,null,null,null,null,null,null,"ŠD 300-785:29*1,01"]
[48,"59224370.R","Dno šachetní TBZ-Q pro DN 500 včetně kynety dle PD","kus",5.05,null,{"$f":"E646*F646","v":0},2.4900000000000002,{"$f":"E646*H646","v":12.5745},null,{"$f":"E646*J646","v":0},null,null,null,2,null,null,null,null,null,null,null,null,null,null,null,3,1,"59224370.R",null,null,null,null,null,null,null,null,null,null,null,null,null,null,null,null,null,null,null,null,null,null,1,{"$f":"IF(AZ646=1,G646,0)","v":0},{"$f":"IF(AZ646=2,G646,0)","v":0},{"$f":"IF(AZ646=3,G646,0)","v":0},{"$f":"IF(AZ646=4,G646,0)","v":0},{"$f":"IF(AZ646=5,G646,0)","v":0},null,null,null,null,null,null,null,null,null,null,null,null,null,null,null,null,null,null,null,null,null,3,1]
[null,null,"Stoky:",null,0,null,null,null,null,null,null,null,"Stoky:"]
[null,null,"ŠD 500-1085:5*1,01",null,5.05,null,null,null,null,null,null,null,"ŠD 500-1085:5*1,01"]
[49,"59224373.R","Těsnění elastom pro šach díly EMT 100/1.7 - DN1000","kus",350,null,{"$f":"E649*F649","v":0},2E-3,{"$f":"E649*H649","v":0.70000000000000007},null,{"$f":"E649*J649","v":0},null,null,null,2,null,null,null,null,null,null,null,null,null,null,null,3,1,"59224373.R",null,null,null,null,null,null,null,null,null,null,null,null,null,null,null,null,null,null,null,null,null,null,1,{"$f":"IF(AZ649=1,G649,0)","v":0},{"$f":"IF(AZ649=2,G649,0)","v":0},{"$f":"IF(AZ649=3,G649,0)","v":0},{"$f":"IF(AZ649=4,G649,0)","v":0},{"$f":"IF(AZ649=5,G649,0)","v":0},null,null,null,null,null,null,null,null,null,null,null,null,null,null,null,null,null,null,null,null,null,3,1]
[null,null,"Těsnění:",null,0,null,null,null,null,null,null,null,"Těsnění:"]
[null,null,"Stoka \"A\":122",null,122,null,null,null,null,null,null,null,"Stoka \"A\":122"]
[null,null,"Stoka \"AA\":13",null,13,null,null,null,null,null,null,null,"Stoka \"AA\":13"]
[null,null,"Stoka \"AB\":1",null,1,null,null,null,null,null,null,null,"Stoka \"AB\":1"]
[null,null,"Stoka \"AC\":15",null,15,null,null,null,null,null,null,null,"Stoka \"AC\":15"]
[null,null,"Stoka \"AD\":6-3",null,3,null,null,null,null,null,null,null,"Stoka \"AD\":6-3"]
[null,null,"Stoka \"AE\":18",null,18,null,null,null,null,null,null,null,"Stoka \"AE\":18"]
[null,null,"Stoka \"AE-1\":14",null,14,null,null,null,null,null,null,null,"Stoka \"AE-1\":14"]
[null,null,"Stoka \"AF\":20-3",null,17,null,null,null,null,null,null,null,"Stoka \"AF\":20-3"]
[null,null,"Stoka \"AG\":7",null,7,null,null,null,null,null,null,null,"Stoka \"AG\":7"]
[null,null,"Stoka \"AH\":8",null,8,null,null,null,null,null,null,null,"Stoka \"AH\":8"]
[null,null,"Stoka \"B\":80",null,80,null,null,null,null,null,null,null,"Stoka \"B\":80"]
[null,null,"Stoka \"BA\":11",null,11,null,null,null,null,null,null,null,"Stoka \"BA\":11"]
[null,null,"Stoka \"C\":24",null,24,null,null,null,null,null,null,null,"Stoka \"C\":24"]
[null,null,"Stoka \"CA\":20-3",null,17,null,null,null,null,null,null,null,"Stoka \"CA\":20-3"]
[null,"Celkem za","8 Trubní vedení",null,null,null,{"$f":"SUM(G374:G664)","v":0},null,{"$f":"SUM(I374:I664)","v":667.80139000000008},null,{"$f":"SUM(K374:K664)","v":0},null,null,null,4,null,null,null,null,null,null,null,null,null,null,null,null,null,null,null,null,null,null,null,null,null,null,null,null,null,null,null,null,null,null,null,null,null,null,null,null,null,{"$f":"SUM(BA374:BA664)","v":0},{"$f":"SUM(BB374:BB664)","v":0},{"$f":"SUM(BC374:BC664)","v":0},{"$f":"SUM(BD374:BD664)","v":0},{"$f":"SUM(BE374:BE664)","v":0}]
["Díl:","99","Staveništní přesun hmot",null,null,null,null,null,null,null,null,null,null,null,1]
[50,"998275101R00","Přesun hmot, kanalizace kameninové, otevřený výkop ","t",5054.2934100000002,null,{"$f":"E667*F667","v":0},0,{"$f":"E667*H667","v":0},null,{"$f":"E667*J667","v":0},null,null,null,2,null,null,null,null,null,null,null,null,null,null,null,7,1,2,null,null,null,null,null,null,null,null,null,null,null,null,null,null,null,null,null,null,null,null,null,null,1,{"$f":"IF(AZ667=1,G667,0)","v":0},{"$f":"IF(AZ667=2,G667,0)","v":0},{"$f":"IF(AZ667=3,G667,0)","v":0},{"$f":"IF(AZ667=4,G667,0)","v":0},{"$f":"IF(AZ667=5,G667,0)","v":0},null,null,null,null,null,null,null,null,null,null,null,null,null,null,null,null,null,null,null,null,null,7,1]
[null,"Celkem za","99 Staveništní přesun hmot",null,null,null,{"$f":"SUM(G666:G667)","v":0},null,{"$f":"SUM(I666:I667)","v":0},null,{"$f":"SUM(K666:K667)","v":0},null,null,null,4,null,null,null,null,null,null,null,null,null,null,null,null,null,null,null,null,null,null,null,null,null,null,null,null,null,null,null,null,null,null,null,null,null,null,null,null,null,{"$f":"SUM(BA666:BA667)","v":0},{"$f":"SUM(BB666:BB667)","v":0},{"$f":"SUM(BC666:BC667)","v":0},{"$f":"SUM(BD666:BD667)","v":0},{"$f":"SUM(BE666:BE667)","v":0}]

{"sheet":"301 301.2RD KL","index":4,"n_rows":45,"n_cols":8,"rows_kept":45,"cut":false,"hidden":false,"merged":[[22,0,22,1],[7,2,7,4],[8,2,8,4],[9,2,9,4],[10,2,10,4],[11,2,11,4],[50,1,50,6],[29,5,29,6],[30,5,30,6],[31,5,31,6],[32,5,32,6],[33,5,33,6],[36,1,44,6],[45,1,45,6],[46,1,46,6],[47,1,47,6],[48,1,48,6],[49,1,49,6]]}
["POLOŽKOVÝ ROZPOČET"]
["Rozpočet",null,"301.2RD","Splašková kanalizace - neuznatelné náklady",null,"JKSO ","827.21.A5"]
[]
["Objekt",null,null,null,null,"SKP "]
["301",null,"Splašková kanalizace",null,null,"Měrná jednotka","m"]
["Stavba",null,null,null,null,"Počet jednotek",0]
["3232",null,"Horní Slivno - Splašková kanalizace",null,null,"Náklady na m.j.",{"$f":"IF(G6=0,,ROUND((F30+F32)/G6,1))","v":0}]
["Projektant",null,"Radek Hnát - VAK PROJEKT",null,null,"Typ rozpočtu"]
["Zpracovatel projektu"]
["Objednatel",null,"Obec Horní Slivno"]
["Dodavatel",null,".",null,null,"Zakázkové číslo "]
["Rozpočtoval",null,null,null,null,"Počet listů"]
["ROZPOČTOVÉ NÁKLADY"]
["Základní rozpočtové náklady"]
[null,"HSV celkem",{"$f":"'301 301.2RD Rek'!E12","v":0}]
["Z","PSV celkem",{"$f":"'301 301.2RD Rek'!F12","v":0}]
["R","M práce celkem",{"$f":"'301 301.2RD Rek'!H12","v":0}]
["N","M dodávky celkem",{"$f":"'301 301.2RD Rek'!G12","v":0}]
["ZRN celkem",null,{"$f":"SUM(C15:C18)","v":0}]
[]
["HZS",null,{"$f":"'301 301.2RD Rek'!I12","v":0}]
["ZRN+HZS",null,{"$f":"C19+C21","v":0}]
["ZRN+ost.náklady+HZS",null,{"$f":"C22+G23","v":0}]
["Vypracoval",null,null,"Za zhotovitele",null,"Za objednatele"]
["Jméno :",null,null,"Jméno :",null,"Jméno :"]
["Datum :",null,null,"Datum :",null,"Datum :"]
[]
["Podpis :",null,null,"Podpis:",null,"Podpis:"]
[]
["Základ pro DPH",null,21,"%  ",null,{"$f":"C23-F32","v":0}]
["DPH",null,{"$f":"C30","v":21},"% ",null,{"$f":"ROUND(PRODUCT(F30,C31/100),0)","v":0}]
["Základ pro DPH",null,0,"% ",null,0]
["DPH",null,{"$f":"C32","v":0},"% ",null,{"$f":"ROUND(PRODUCT(F32,C33/100),0)","v":0}]
["CENA ZA OBJEKT CELKEM",null,null,null,null,{"$f":"ROUND(SUM(F30:F33),0)","v":0}]
[]
["Poznámka :",null,null,null,null,null,null," "]
[null,null,null,null,null,null,null," "]
[null,null,null,null,null,null,null," "]
[null,null,null,null,null,null,null," "]
[null,null,null,null,null,null,null," "]
[null,null,null,null,null,null,null," "]
[null,null,null,null,null,null,null," "]
[null,null,null,null,null,null,null," "]
[null,null,null,null,null,null,null," "]
[null,null,null,null,null,null,null," "]

{"sheet":"301 301.2RD Rek","index":5,"n_rows":12,"n_cols":9,"rows_kept":12,"cut":false,"hidden":false,"merged":[[0,0,0,1],[1,0,1,1],[1,6,1,8]]}
["Stavba :",null,"3232 Horní Slivno - Splašková kanalizace",null,null,null,"Rozpočet :","301.2RD"]
["Objekt :",null,"301 Splašková kanalizace",null,null,null,"Splašková kanalizace - neuznatelné náklady"]
[]
["REKAPITULACE  STAVEBNÍCH  DÍLŮ"]
[]
[null,"Stavební díl",null,null,"HSV","PSV","Dodávka","Montáž","HZS"]
[{"$f":"'301 301.2RD Pol'!B7","v":"1"},{"$f":"'301 301.2RD Pol'!C7","v":"Zemní práce"},null,null,{"$f":"'301 301.2RD Pol'!BA111","v":0},{"$f":"'301 301.2RD Pol'!BB111","v":0},{"$f":"'301 301.2RD Pol'!BC111","v":0},{"$f":"'301 301.2RD Pol'!BD111","v":0},{"$f":"'301 301.2RD Pol'!BE111","v":0}]
[{"$f":"'301 301.2RD Pol'!B112","v":"2"},{"$f":"'301 301.2RD Pol'!C112","v":"Základy a zvláštní zakládání"},null,null,{"$f":"'301 301.2RD Pol'!BA120","v":0},{"$f":"'301 301.2RD Pol'!BB120","v":0},{"$f":"'301 301.2RD Pol'!BC120","v":0},{"$f":"'301 301.2RD Pol'!BD120","v":0},{"$f":"'301 301.2RD Pol'!BE120","v":0}]
[{"$f":"'301 301.2RD Pol'!B121","v":"45"},{"$f":"'301 301.2RD Pol'!C121","v":"Podkladní a vedlejší konstrukce"},null,null,{"$f":"'301 301.2RD Pol'!BA133","v":0},{"$f":"'301 301.2RD Pol'!BB133","v":0},{"$f":"'301 301.2RD Pol'!BC133","v":0},{"$f":"'301 301.2RD Pol'!BD133","v":0},{"$f":"'301 301.2RD Pol'!BE133","v":0}]
[{"$f":"'301 301.2RD Pol'!B134","v":"8"},{"$f":"'301 301.2RD Pol'!C134","v":"Trubní vedení"},null,null,{"$f":"'301 301.2RD Pol'!BA213","v":0},{"$f":"'301 301.2RD Pol'!BB213","v":0},{"$f":"'301 301.2RD Pol'!BC213","v":0},{"$f":"'301 301.2RD Pol'!BD213","v":0},{"$f":"'301 301.2RD Pol'!BE213","v":0}]
[{"$f":"'301 301.2RD Pol'!B214","v":"99"},{"$f":"'301 301.2RD Pol'!C214","v":"Staveništní přesun hmot"},null,null,{"$f":"'301 301.2RD Pol'!BA216","v":0},{"$f":"'301 301.2RD Pol'!BB216","v":0},{"$f":"'301 301.2RD Pol'!BC216","v":0},{"$f":"'301 301.2RD Pol'!BD216","v":0},{"$f":"'301 301.2RD Pol'!BE216","v":0}]
[null,"CELKEM  OBJEKT",null,null,{"$f":"SUM(E7:E11)","v":0},{"$f":"SUM(F7:F11)","v":0},{"$f":"SUM(G7:G11)","v":0},{"$f":"SUM(H7:H11)","v":0},{"$f":"SUM(I7:I11)","v":0}]

{"sheet":"301 301.2RD Pol","index":6,"n_rows":216,"n_cols":80,"rows_kept":216,"cut":false,"hidden":false,"merged":[[0,0,0,6],[2,0,2,1],[3,0,3,1],[3,4,3,6],[8,2,8,6],[9,2,9,6],[10,2,10,3],[11,2,11,3],[19,2,19,3],[20,2,20,3],[21,2,21,3],[22,2,22,3],[24,2,24,6],[25,2,25,6],[12,2,12,3],[13,2,13,3],[14,2,14,3],[15,2,15,3],[17,2,17,6],[18,2,18,6],[33,2,33,3],[34,2,34,3],[36,2,36,6],[37,2,37,6],[38,2,38,3],[39,2,39,3],[26,2,26,3],[27,2,27,3],[28,2,28,3],[29,2,29,3],[31,2,31,3],[32,2,32,3],[48,2,48,6],[49,2,49,6],[50,2,50,6],[51,2,51,3],[52,2,52,3],[53,2,53,3],[40,2,40,3],[41,2,41,3],[43,2,43,3],[44,2,44,3],[45,2,45,3],[46,2,46,3],[61,2,61,3],[62,2,62,3],[64,2,64,3],[65,2,65,3],[66,2,66,3],[67,2,67,3],[54,2,54,3],[56,2,56,6],[57,2,57,6],[58,2,58,6],[59,2,59,3],[60,2,60,3],[75,2,75,3],[76,2,76,3],[77,2,77,3],[78,2,78,3],[79,2,79,3],[80,2,80,3],[68,2,68,3],[69,2,69,3],[70,2,70,3],[71,2,71,3],[73,2,73,3],[74,2,74,3],[88,2,88,3],[89,2,89,3],[90,2,90,3],[91,2,91,3],[92,2,92,3],[93,2,93,3],[81,2,81,3],[82,2,82,3],[83,2,83,3],[85,2,85,6],[86,2,86,3],[87,2,87,3],[102,2,102,3],[103,2,103,3],[104,2,104,3],[105,2,105,3],[106,2,106,3],[107,2,107,3],[94,2,94,3],[95,2,95,3],[96,2,96,3],[98,2,98,3],[99,2,99,3],[100,2,100,3],[122,2,122,6],[123,2,123,3],[124,2,124,3],[126,2,126,3],[127,2,127,3],[128,2,128,3],[130,2,130,3],[131,2,131,3],[108,2,108,3],[109,2,109,3],[113,2,113,3],[114,2,114,3],[115,2,115,3],[116,2,116,3],[117,2,117,3],[118,2,118,3],[145,2,145,6],[146,2,146,3],[147,2,147,3],[148,2,148,3],[150,2,150,3],[151,2,151,3],[135,2,135,6],[136,2,136,6],[137,2,137,3],[138,2,138,3],[139,2,139,3],[141,2,141,6],[142,2,142,6],[143,2,143,3],[160,2,160,3],[161,2,161,3],[162,2,162,3],[163,2,163,3],[165,2,165,6],[166,2,166,6],[152,2,152,3],[154,2,154,3],[155,2,155,3],[156,2,156,3],[158,2,158,6],[159,2,159,6],[174,2,174,3],[175,2,175,3],[176,2,176,3],[177,2,177,3],[179,2,179,6],[180,2,180,6],[167,2,167,3],[168,2,168,3],[169,2,169,3],[170,2,170,3],[172,2,172,6],[173,2,173,6],[188,2,188,6],[189,2,189,3],[190,2,190,3],[191,2,191,3],[192,2,192,3],[194,2,194,3],[181,2,181,3],[182,2,182,3],[183,2,183,3],[184,2,184,3],[186,2,186,6],[187,2,187,6],[204,2,204,3],[205,2,205,3],[207,2,207,3],[208,2,208,3],[210,2,210,3],[211,2,211,3],[195,2,195,3],[196,2,196,3],[198,2,198,3],[199,2,199,3],[201,2,201,3],[202,2,202,3]]}
["Položkový rozpočet "]
[]
["Stavba :",null,"3232 Horní Slivno - Splašková kanalizace",null,"Rozpočet:",{"$f":"'301 301.2RD Rek'!H1","v":"301.2RD"}]
["Objekt :",null,"301 Splašková kanalizace",null,{"$f":"'301 301.2RD Rek'!G2","v":"Splašková kanalizace - neuznatelné náklady"}]
[]
["P.č.","Číslo položky","Název položky","MJ","množství","cena / MJ","celkem (Kč)","Jednotková hmotnost","Celková hmotnost","Jednotková dem.hmot.","Celková dem.hmot."]
["Díl:","1","Zemní práce",null,null,null,null,null,null,null,null,null,null,null,1]
[1,"130001101RRX","Příplatek za ztížené hloubení v blízkosti vedení ","m3",36.366700000000002,null,{"$f":"E8*F8","v":0},0,{"$f":"E8*H8","v":0},0,{"$f":"E8*J8","v":0},null,null,null,2,null,null,null,null,null,null,null,null,null,null,null,1,1,1,null,null,null,null,null,null,null,null,null,null,null,null,null,null,null,null,null,null,null,null,null,null,1,{"$f":"IF(AZ8=1,G8,0)","v":0},{"$f":"IF(AZ8=2,G8,0)","v":0},{"$f":"IF(AZ8=3,G8,0)","v":0},{"$f":"IF(AZ8=4,G8,0)","v":0},{"$f":"IF(AZ8=5,G8,0)","v":0},null,null,null,null,null,null,null,null,null,null,null,null,null,null,null,null,null,null,null,null,null,1,1]
[null,null,"Včetně ruční dokopávky a ručního výkopu.",null,null,null,null,null,null,null,null,"Včetně ruční dokopávky a ručního výkopu.",null,null,3]
[null,null,"Součástí položky je i případná potřeba dočasnéhon zajištění potrubí a kabelových vedení ve výkopu.",null,null,null,null,null,null,null,null,"Součástí položky je i případná potřeba dočasnéhon zajištění potrubí a kabelových vedení ve výkopu.",null,null,3]
[null,null,"Začátek provozního součtu",null,0,null,null,null,null,null,null,null,"Začátek provozního součtu"]
[null,null,"Stoka AD KT DN250:52,4628",null,52.462800000000001,null,null,null,null,null,null,null,"Stoka AD KT DN250:52,4628"]
[null,null,"Stoka AF KT DN250:50,5440",null,50.543999999999997,null,null,null,null,null,null,null,"Stoka AF KT DN250:50,5440"]
[null,null,"Stoka CA KT DN250:62,2966",null,62.296599999999998,null,null,null,null,null,null,null,"Stoka CA KT DN250:62,2966"]
[null,null,"Konec provozního součtu",null,165.30340000000001,null,null,null,null,null,null,null,"Konec provozního součtu"]
[null,null,"V hornině tř. 2 - 6 - 22%:165,3034*0,22",null,36.366700000000002,null,null,null,null,null,null,null,"V hornině tř. 2 - 6 - 22%:165,3034*0,22"]
[2,"132101213RRX","Hloubení rýh š.do 200 cm hor.2 do 10000 m3,STROJNĚ ","m3",18.825500000000002,null,{"$f":"E17*F17","v":0},0,{"$f":"E17*H17","v":0},0,{"$f":"E17*J17","v":0},null,null,null,2,null,null,null,null,null,null,null,null,null,null,null,1,1,1,null,null,null,null,null,null,null,null,null,null,null,null,null,null,null,null,null,null,null,null,null,null,1,{"$f":"IF(AZ17=1,G17,0)","v":0},{"$f":"IF(AZ17=2,G17,0)","v":0},{"$f":"IF(AZ17=3,G17,0)","v":0},{"$f":"IF(AZ17=4,G17,0)","v":0},{"$f":"IF(AZ17=5,G17,0)","v":0},null,null,null,null,null,null,null,null,null,null,null,null,null,null,null,null,null,null,null,null,null,1,1]
[null,null,"Položka obsahuje hloubení rýh traktorbagrem, naložení výkopku na dopravní prostředek pro svislé, nebo vodorovné přemístění, popř. přemístění výkopku do 3 m (po povrchu území), případné zajištění rypadel polštáři, udržování pracoviště a ochranu výkopiště proti stékání srážkové vody z okolního terénu i s jejím odvodněním, nebo odvedením, přesekání a odstranění kořenů ve výkopišti, odstranění napadávek, urovnání dna výkopu.",null,null,null,null,null,null,null,null,"Položka obsahuje hloubení rýh traktorbagrem, naložení výkopku na dopravní prostředek pro svislé, nebo vodorovné přemístění, popř. přemístění výkopku do 3 m (po povrchu území), případné zajištění rypadel polštáři, udržování pracoviště a ochranu výkopiště proti stékání srážkové vody z okolního terénu i s jejím odvodněním, nebo odvedením, přesekání a odstranění kořenů ve výkopišti, odstranění napadávek, urovnání dna výkopu.",null,null,3]
[null,null,"Součástí položky je i pažení výkopů dle zvolené technologie zhotovitelem a v souladu s předpisy BOZP.",null,null,null,null,null,null,null,null,"Součástí položky je i pažení výkopů dle zvolené technologie zhotovitelem a v souladu s předpisy BOZP.",null,null,3]
[null,null,"V hornině tř. 2:",null,0,null,null,null,null,null,null,null,"V hornině tř. 2:"]
[null,null,"Stoka AD KT DN250:52,4628*0,12",null,6.2954999999999997,null,null,null,null,null,null,null,"Stoka AD KT DN250:52,4628*0,12"]
[null,null,"Stoka AF KT DN250:50,5440*0,10",null,5.0544000000000002,null,null,null,null,null,null,null,"Stoka AF KT DN250:50,5440*0,10"]
[null,null,"Stoka CA KT DN250:62,2966*0,12",null,7.4756,null,null,null,null,null,null,null,"Stoka CA KT DN250:62,2966*0,12"]
[3,"132201213RRX","Hloubení rýh š.do 200 cm hor.3 do 10000 m3,STROJNĚ ","m3",48.716900000000003,null,{"$f":"E24*F24","v":0},0,{"$f":"E24*H24","v":0},0,{"$f":"E24*J24","v":0},null,null,null,2,null,null,null,null,null,null,null,null,null,null,null,1,1,1,null,null,null,null,null,null,null,null,null,null,null,null,null,null,null,null,null,null,null,null,null,null,1,{"$f":"IF(AZ24=1,G24,0)","v":0},{"$f":"IF(AZ24=2,G24,0)","v":0},{"$f":"IF(AZ24=3,G24,0)","v":0},{"$f":"IF(AZ24=4,G24,0)","v":0},{"$f":"IF(AZ24=5,G24,0)","v":0},null,null,null,null,null,null,null,null,null,null,null,null,null,null,null,null,null,null,null,null,null,1,1]
[null,null,"Položka obsahuje hloubení rýh traktorbagrem, naložení výkopku na dopravní prostředek pro svislé, nebo vodorovné přemístění, popř. přemístění výkopku do 3 m (po povrchu území), případné zajištění rypadel polštáři, udržování pracoviště a ochranu výkopiště proti stékání srážkové vody z okolního terénu i s jejím odvodněním, nebo odvedením, přesekání a odstranění kořenů ve výkopišti, odstranění napadávek, urovnání dna výkopu.",null,null,null,null,null,null,null,null,"Položka obsahuje hloubení rýh traktorbagrem, naložení výkopku na dopravní prostředek pro svislé, nebo vodorovné přemístění, popř. přemístění výkopku do 3 m (po povrchu území), případné zajištění rypadel polštáři, udržování pracoviště a ochranu výkopiště proti stékání srážkové vody z okolního terénu i s jejím odvodněním, nebo odvedením, přesekání a odstranění kořenů ve výkopišti, odstranění napadávek, urovnání dna výkopu.",null,null,3]
[null,null,"Součástí položky je i pažení výkopů dle zvolené technologie zhotovitelem a v souladu s předpisy BOZP.",null,null,null,null,null,null,null,null,"Součástí položky je i pažení výkopů dle zvolené technologie zhotovitelem a v souladu s předpisy BOZP.",null,null,3]
[null,null,"V hornině tř. 3:",null,0,null,null,null,null,null,null,null,"V hornině tř. 3:"]
[null,null,"Stoka AD KT DN250:52,4628*0,31",null,16.263500000000001,null,null,null,null,null,null,null,"Stoka AD KT DN250:52,4628*0,31"]
[null,null,"Stoka AF KT DN250:50,5440*0,26",null,13.141400000000001,null,null,null,null,null,null,null,"Stoka AF KT DN250:50,5440*0,26"]
[null,null,"Stoka CA KT DN250:62,2966*0,31",null,19.311900000000001,null,null,null,null,null,null,null,"Stoka CA KT DN250:62,2966*0,31"]
[4,"132201219R00","Přípl.za lepivost,hloubení rýh 200cm,hor.3,STROJNĚ ","m3",24.3584,null,{"$f":"E31*F31","v":0},0,{"$f":"E31*H31","v":0},0,{"$f":"E31*J31","v":0},null,null,null,2,null,null,null,null,null,null,null,null,null,null,null,1,1,1,null,null,null,null,null,null,null,null,null,null,null,null,null,null,null,null,null,null,null,null,null,null,1,{"$f":"IF(AZ31=1,G31,0)","v":0},{"$f":"IF(AZ31=2,G31,0)","v":0},{"$f":"IF(AZ31=3,G31,0)","v":0},{"$f":"IF(AZ31=4,G31,0)","v":0},{"$f":"IF(AZ31=5,G31,0)","v":0},null,null,null,null,null,null,null,null,null,null,null,null,null,null,null,null,null,null,null,null,null,1,1]
[null,null,"V hornině tř. 3:",null,0,null,null,null,null,null,null,null,"V hornině tř. 3:"]
[null,null,"Stoka AD KT DN250:52,4628*0,31*0,5",null,8.1317000000000004,null,null,null,null,null,null,null,"Stoka AD KT DN250:52,4628*0,31*0,5"]
[null,null,"Stoka AF KT DN250:50,5440*0,26*0,5",null,6.5707000000000004,null,null,null,null,null,null,null,"Stoka AF KT DN250:50,5440*0,26*0,5"]
[null,null,"Stoka CA KT DN250:62,2966*0,31*0,5",null,9.6560000000000006,null,null,null,null,null,null,null,"Stoka CA KT DN250:62,2966*0,31*0,5"]
[5,"132301213RRX","Hloubení rýh š.do 200 cm hor.4 do 10000 m3,STROJNĚ ","m3",61.208500000000001,null,{"$f":"E36*F36","v":0},0,{"$f":"E36*H36","v":0},0,{"$f":"E36*J36","v":0},null,null,null,2,null,null,null,null,null,null,null,null,null,null,null,1,1,1,null,null,null,null,null,null,null,null,null,null,null,null,null,null,null,null,null,null,null,null,null,null,1,{"$f":"IF(AZ36=1,G36,0)","v":0},{"$f":"IF(AZ36=2,G36,0)","v":0},{"$f":"IF(AZ36=3,G36,0)","v":0},{"$f":"IF(AZ36=4,G36,0)","v":0},{"$f":"IF(AZ36=5,G36,0)","v":0},null,null,null,null,null,null,null,null,null,null,null,null,null,null,null,null,null,null,null,null,null,1,1]
[null,null,"Položka obsahuje hloubení rýh traktorbagrem, naložení výkopku na dopravní prostředek pro svislé, nebo vodorovné přemístění, popř. přemístění výkopku do 3 m (po povrchu území), případné zajištění rypadel polštáři, udržování pracoviště a ochranu výkopiště proti stékání srážkové vody z okolního terénu i s jejím odvodněním, nebo odvedením, přesekání a odstranění kořenů ve výkopišti, odstranění napadávek, urovnání dna výkopu.",null,null,null,null,null,null,null,null,"Položka obsahuje hloubení rýh traktorbagrem, naložení výkopku na dopravní prostředek pro svislé, nebo vodorovné přemístění, popř. přemístění výkopku do 3 m (po povrchu území), případné zajištění rypadel polštáři, udržování pracoviště a ochranu výkopiště proti stékání srážkové vody z okolního terénu i s jejím odvodněním, nebo odvedením, přesekání a odstranění kořenů ve výkopišti, odstranění napadávek, urovnání dna výkopu.",null,null,3]
[null,null,"Součástí položky je i pažení výkopů dle zvolené technologie zhotovitelem a v souladu s předpisy BOZP.",null,null,null,null,null,null,null,null,"Součástí položky je i pažení výkopů dle zvolené technologie zhotovitelem a v souladu s předpisy BOZP.",null,null,3]
[null,null,"V hornině tř. 4:",null,0,null,null,null,null,null,null,null,"V hornině tř. 4:"]
[null,null,"Stoka AD KT DN250:52,4628*0,29",null,15.2142,null,null,null,null,null,null,null,"Stoka AD KT DN250:52,4628*0,29"]
[null,null,"Stoka AF KT DN250:50,5440*0,38",null,19.206700000000001,null,null,null,null,null,null,null,"Stoka AF KT DN250:50,5440*0,38"]
[null,null,"Stoka CA KT DN250:62,2966*0,43",null,26.787500000000001,null,null,null,null,null,null,null,"Stoka CA KT DN250:62,2966*0,43"]
[6,"132301219R00","Přípl.za lepivost,hloubení rýh 200cm,hor.4,STROJNĚ ","m3",30.604199999999999,null,{"$f":"E43*F43","v":0},0,{"$f":"E43*H43","v":0},0,{"$f":"E43*J43","v":0},null,null,null,2,null,null,null,null,null,null,null,null,null,null,null,1,1,1,null,null,null,null,null,null,null,null,null,null,null,null,null,null,null,null,null,null,null,null,null,null,1,{"$f":"IF(AZ43=1,G43,0)","v":0},{"$f":"IF(AZ43=2,G43,0)","v":0},{"$f":"IF(AZ43=3,G43,0)","v":0},{"$f":"IF(AZ43=4,G43,0)","v":0},{"$f":"IF(AZ43=5,G43,0)","v":0},null,null,null,null,null,null,null,null,null,null,null,null,null,null,null,null,null,null,null,null,null,1,1]
[null,null,"V hornině tř. 4:",null,0,null,null,null,null,null,null,null,"V hornině tř. 4:"]
[null,null,"Stoka AD KT DN250:52,4628*0,29*0,5",null,7.6071,null,null,null,null,null,null,null,"Stoka AD KT DN250:52,4628*0,29*0,5"]
[null,null,"Stoka AF KT DN250:50,5440*0,38*0,5",null,9.6034000000000006,null,null,null,null,null,null,null,"Stoka AF KT DN250:50,5440*0,38*0,5"]
[null,null,"Stoka CA KT DN250:62,2966*0,43*0,5",null,13.393800000000001,null,null,null,null,null,null,null,"Stoka CA KT DN250:62,2966*0,43*0,5"]
[7,"132401211RRX","Hloubení rýh šířky do 200 cm v hor.5, STROJNĚ ","m3",30.585000000000001,null,{"$f":"E48*F48","v":0},0,{"$f":"E48*H48","v":0},0,{"$f":"E48*J48","v":0},null,null,null,2,null,null,null,null,null,null,null,null,null,null,null,1,1,1,null,null,null,null,null,null,null,null,null,null,null,null,null,null,null,null,null,null,null,null,null,null,1,{"$f":"IF(AZ48=1,G48,0)","v":0},{"$f":"IF(AZ48=2,G48,0)","v":0},{"$f":"IF(AZ48=3,G48,0)","v":0},{"$f":"IF(AZ48=4,G48,0)","v":0},{"$f":"IF(AZ48=5,G48,0)","v":0},null,null,null,null,null,null,null,null,null,null,null,null,null,null,null,null,null,null,null,null,null,1,1]
[null,null,"Položka obsahuje hloubení rýh traktorbagrem, naložení výkopku na dopravní prostředek pro svislé, nebo vodorovné přemístění, popř. přemístění výkopku do 3 m (po povrchu území), případné zajištění rypadel polštáři, udržování pracoviště a ochranu výkopiště proti stékání srážkové vody z okolního terénu i s jejím odvodněním, nebo odvedením, přesekání a odstranění kořenů ve výkopišti, odstranění napadávek, urovnání dna výkopu.",null,null,null,null,null,null,null,null,"Položka obsahuje hloubení rýh traktorbagrem, naložení výkopku na dopravní prostředek pro svislé, nebo vodorovné přemístění, popř. přemístění výkopku do 3 m (po povrchu území), případné zajištění rypadel polštáři, udržování pracoviště a ochranu výkopiště proti stékání srážkové vody z okolního terénu i s jejím odvodněním, nebo odvedením, přesekání a odstranění kořenů ve výkopišti, odstranění napadávek, urovnání dna výkopu.",null,null,3]
[null,null,"Součástí položky je i pažení výkopů dle zvolené technologie zhotovitelem a v souladu s předpisy BOZP.",null,null,null,null,null,null,null,null,"Součástí položky je i pažení výkopů dle zvolené technologie zhotovitelem a v souladu s předpisy BOZP.",null,null,3]
[null,null,"Součástí položky je i případné dolamování horniny v prostoru rýhy.",null,null,null,null,null,null,null,null,"Součástí položky je i případné dolamování horniny v prostoru rýhy.",null,null,3]
[null,null,"V hornině tř. 4:",null,0,null,null,null,null,null,null,null,"V hornině tř. 4:"]
[null,null,"Stoka AD KT DN250:52,4628*0,19",null,9.9679000000000002,null,null,null,null,null,null,null,"Stoka AD KT DN250:52,4628*0,19"]
[null,null,"Stoka AF KT DN250:50,5440*0,26",null,13.141400000000001,null,null,null,null,null,null,null,"Stoka AF KT DN250:50,5440*0,26"]
[null,null,"Stoka CA KT DN250:62,2966*0,12",null,7.4756,null,null,null,null,null,null,null,"Stoka CA KT DN250:62,2966*0,12"]
[8,"132501211RRX","Hloubení rýh šířky do 200 cm v hor.6, STROJNĚ ","m3",1.2459,null,{"$f":"E56*F56","v":0},0,{"$f":"E56*H56","v":0},0,{"$f":"E56*J56","v":0},null,null,null,2,null,null,null,null,null,null,null,null,null,null,null,1,1,1,null,null,null,null,null,null,null,null,null,null,null,null,null,null,null,null,null,null,null,null,null,null,1,{"$f":"IF(AZ56=1,G56,0)","v":0},{"$f":"IF(AZ56=2,G56,0)","v":0},{"$f":"IF(AZ56=3,G56,0)","v":0},{"$f":"IF(AZ56=4,G56,0)","v":0},{"$f":"IF(AZ56=5,G56,0)","v":0},null,null,null,null,null,null,null,null,null,null,null,null,null,null,null,null,null,null,null,null,null,1,1]
[null,null,"Položka obsahuje hloubení rýh traktorbagrem, naložení výkopku na dopravní prostředek pro svislé, nebo vodorovné přemístění, popř. přemístění výkopku do 3 m (po povrchu území), případné zajištění rypadel polštáři, udržování pracoviště a ochranu výkopiště proti stékání srážkové vody z okolního terénu i s jejím odvodněním, nebo odvedením, přesekání a odstranění kořenů ve výkopišti, odstranění napadávek, urovnání dna výkopu.",null,null,null,null,null,null,null,null,"Položka obsahuje hloubení rýh traktorbagrem, naložení výkopku na dopravní prostředek pro svislé, nebo vodorovné přemístění, popř. přemístění výkopku do 3 m (po povrchu území), případné zajištění rypadel polštáři, udržování pracoviště a ochranu výkopiště proti stékání srážkové vody z okolního terénu i s jejím odvodněním, nebo odvedením, přesekání a odstranění kořenů ve výkopišti, odstranění napadávek, urovnání dna výkopu.",null,null,3]
[null,null,"Součástí položky je i pažení výkopů dle zvolené technologie zhotovitelem a v souladu s předpisy BOZP.",null,null,null,null,null,null,null,null,"Součástí položky je i pažení výkopů dle zvolené technologie zhotovitelem a v souladu s předpisy BOZP.",null,null,3]
[null,null,"Součástí položky je i případné dolamování horniny v prostoru rýhy.",null,null,null,null,null,null,null,null,"Součástí položky je i případné dolamování horniny v prostoru rýhy.",null,null,3]
[null,null,"V hornině tř. 4:",null,0,null,null,null,null,null,null,null,"V hornině tř. 4:"]
[null,null,"Stoka AD KT DN250:52,4628*0,0",null,0,null,null,null,null,null,null,null,"Stoka AD KT DN250:52,4628*0,0"]
[null,null,"Stoka AF KT DN250:50,5440*0,0",null,0,null,null,null,null,null,null,null,"Stoka AF KT DN250:50,5440*0,0"]
[null,null,"Stoka CA KT DN250:62,2966*0,02",null,1.2459,null,null,null,null,null,null,null,"Stoka CA KT DN250:62,2966*0,02"]
[9,"162601102RX0","Vodorovné přemístění výkopku z hor.1-7 na skládku zhotovitele","m3",131.10140000000001,null,{"$f":"E64*F64","v":0},0,{"$f":"E64*H64","v":0},0,{"$f":"E64*J64","v":0},null,null,null,2,null,null,null,null,null,null,null,null,null,null,null,1,1,1,null,null,null,null,null,null,null,null,null,null,null,null,null,null,null,null,null,null,null,null,null,null,1,{"$f":"IF(AZ64=1,G64,0)","v":0},{"$f":"IF(AZ64=2,G64,0)","v":0},{"$f":"IF(AZ64=3,G64,0)","v":0},{"$f":"IF(AZ64=4,G64,0)","v":0},{"$f":"IF(AZ64=5,G64,0)","v":0},null,null,null,null,null,null,null,null,null,null,null,null,null,null,null,null,null,null,null,null,null,1,1]
[null,null,"Výkopy:",null,0,null,null,null,null,null,null,null,"Výkopy:"]
[null,null,"Začátek provozního součtu",null,0,null,null,null,null,null,null,null,"Začátek provozního součtu"]
[null,null,"Stoka AD KT DN250:52,4628",null,52.462800000000001,null,null,null,null,null,null,null,"Stoka AD KT DN250:52,4628"]
[null,null,"Stoka AF KT DN250:50,5440",null,50.543999999999997,null,null,null,null,null,null,null,"Stoka AF KT DN250:50,5440"]
[null,null,"Stoka CA KT DN250:62,2966",null,62.296599999999998,null,null,null,null,null,null,null,"Stoka CA KT DN250:62,2966"]
[null,null,"Konec provozního součtu",null,165.30340000000001,null,null,null,null,null,null,null,"Konec provozního součtu"]
[null,null,"V hornině tř. 2 - 6:165,3034",null,165.30340000000001,null,null,null,null,null,null,null,"V hornině tř. 2 - 6:165,3034"]
[null,null,"Odpočet zásypů zeminou:-34,2020",null,-34.201999999999998,null,null,null,null,null,null,null,"Odpočet zásypů zeminou:-34,2020"]
[10,"174100050RAB","Zásyp jam,rýh a šachet štěrkodrtí fr. 0-63 mm včetně dodávky štěrkodrtě","m3",83.367500000000007,null,{"$f":"E73*F73","v":0},0,{"$f":"E73*H73","v":0},0,{"$f":"E73*J73","v":0},null,null,null,2,null,null,null,null,null,null,null,null,null,null,null,1,1,1,null,null,null,null,null,null,null,null,null,null,null,null,null,null,null,null,null,null,null,null,null,null,1,{"$f":"IF(AZ73=1,G73,0)","v":0},{"$f":"IF(AZ73=2,G73,0)","v":0},{"$f":"IF(AZ73=3,G73,0)","v":0},{"$f":"IF(AZ73=4,G73,0)","v":0},{"$f":"IF(AZ73=5,G73,0)","v":0},null,null,null,null,null,null,null,null,null,null,null,null,null,null,null,null,null,null,null,null,null,1,1]
[null,null,"Začátek provozního součtu",null,0,null,null,null,null,null,null,null,"Začátek provozního součtu"]
[null,null,"Výkopy v hornině tř. 2 - 5:",null,0,null,null,null,null,null,null,null,"Výkopy v hornině tř. 2 - 5:"]
[null,null,"Stoka AD KT DN250:52,4628",null,52.462800000000001,null,null,null,null,null,null,null,"Stoka AD KT DN250:52,4628"]
[null,null,"Stoka AF KT DN250:50,5440",null,50.543999999999997,null,null,null,null,null,null,null,"Stoka AF KT DN250:50,5440"]
[null,null,"Stoka CA KT DN250:62,2966",null,62.296599999999998,null,null,null,null,null,null,null,"Stoka CA KT DN250:62,2966"]
[null,null,"Odpočet lože, potrubí a obsypů:",null,0,null,null,null,null,null,null,null,"Odpočet lože, potrubí a obsypů:"]
[null,null,"Stoka AD KT DN250:-19,00*0,9737",null,-18.500299999999999,null,null,null,null,null,null,null,"Stoka AD KT DN250:-19,00*0,9737"]
[null,null,"Stoka AF KT DN250:-18,00*0,9737",null,-17.526599999999998,null,null,null,null,null,null,null,"Stoka AF KT DN250:-18,00*0,9737"]
[null,null,"Stoka CA KT DN250:-23,00*0,9737",null,-22.395099999999999,null,null,null,null,null,null,null,"Stoka CA KT DN250:-23,00*0,9737"]
[null,null,"Konec provozního součtu",null,106.8814,null,null,null,null,null,null,null,"Konec provozního součtu"]
[null,null,"Zásyp ŠD z 68% objemu zásypů:106,8814*0,78",null,83.367500000000007,null,null,null,null,null,null,null,"Zásyp ŠD z 68% objemu zásypů:106,8814*0,78"]
[11,"174101101R00","Zásyp jam, rýh, šachet se zhutněním ","m3",34.201999999999998,null,{"$f":"E85*F85","v":0},0,{"$f":"E85*H85","v":0},0,{"$f":"E85*J85","v":0},null,null,null,2,null,null,null,null,null,null,null,null,null,null,null,1,1,1,null,null,null,null,null,null,null,null,null,null,null,null,null,null,null,null,null,null,null,null,null,null,1,{"$f":"IF(AZ85=1,G85,0)","v":0},{"$f":"IF(AZ85=2,G85,0)","v":0},{"$f":"IF(AZ85=3,G85,0)","v":0},{"$f":"IF(AZ85=4,G85,0)","v":0},{"$f":"IF(AZ85=5,G85,0)","v":0},null,null,null,null,null,null,null,null,null,null,null,null,null,null,null,null,null,null,null,null,null,1,1]
[null,null,"Položka obsahuje strojní přemístění materiálu pro zásyp ze vzdálenosti do 10 m od okraje zásypu.",null,null,null,null,null,null,null,null,"Položka obsahuje strojní přemístění materiálu pro zásyp ze vzdálenosti do 10 m od okraje zásypu.",null,null,3]
[null,null,"Začátek provozního součtu",null,0,null,null,null,null,null,null,null,"Začátek provozního součtu"]
[null,null,"Výkopy v hornině tř. 2 - 5:",null,0,null,null,null,null,null,null,null,"Výkopy v hornině tř. 2 - 5:"]
[null,null,"Stoka AD KT DN250:52,4628",null,52.462800000000001,null,null,null,null,null,null,null,"Stoka AD KT DN250:52,4628"]
[null,null,"Stoka AF KT DN250:50,5440",null,50.543999999999997,null,null,null,null,null,null,null,"Stoka AF KT DN250:50,5440"]
[null,null,"Stoka CA KT DN250:62,2966",null,62.296599999999998,null,null,null,null,null,null,null,"Stoka CA KT DN250:62,2966"]
[null,null,"Odpočet lože, potrubí a obsypů:",null,0,null,null,null,null,null,null,null,"Odpočet lože, potrubí a obsypů:"]
[null,null,"Stoka AD KT DN250:-19,00*0,9737",null,-18.500299999999999,null,null,null,null,null,null,null,"Stoka AD KT DN250:-19,00*0,9737"]
[null,null,"Stoka AF KT DN250:-18,00*0,9737",null,-17.526599999999998,null,null,null,null,null,null,null,"Stoka AF KT DN250:-18,00*0,9737"]
[null,null,"Stoka CA KT DN250:-23,00*0,9737",null,-22.395099999999999,null,null,null,null,null,null,null,"Stoka CA KT DN250:-23,00*0,9737"]
[null,null,"Konec provozního součtu",null,106.8814,null,null,null,null,null,null,null,"Konec provozního součtu"]
[null,null,"Zásyp zeminou z 32% objemu zásypů:106,8814*0,32",null,34.201999999999998,null,null,null,null,null,null,null,"Zásyp zeminou z 32% objemu zásypů:106,8814*0,32"]
[12,"175100020RAB","Obsyp potrubí štěrkopískem včetně dodávka štěrkopísku","m3",37.023000000000003,null,{"$f":"E98*F98","v":0},0,{"$f":"E98*H98","v":0},0,{"$f":"E98*J98","v":0},null,null,null,2,null,null,null,null,null,null,null,null,null,null,null,1,1,1,null,null,null,null,null,null,null,null,null,null,null,null,null,null,null,null,null,null,null,null,null,null,1,{"$f":"IF(AZ98=1,G98,0)","v":0},{"$f":"IF(AZ98=2,G98,0)","v":0},{"$f":"IF(AZ98=3,G98,0)","v":0},{"$f":"IF(AZ98=4,G98,0)","v":0},{"$f":"IF(AZ98=5,G98,0)","v":0},null,null,null,null,null,null,null,null,null,null,null,null,null,null,null,null,null,null,null,null,null,1,1]
[null,null,"Stoka AD KT DN250:19,00*0,61705",null,11.724,null,null,null,null,null,null,null,"Stoka AD KT DN250:19,00*0,61705"]
[null,null,"Stoka AF KT DN250:18,00*0,61705",null,11.1069,null,null,null,null,null,null,null,"Stoka AF KT DN250:18,00*0,61705"]
[null,null,"Stoka CA KT DN250:23,00*0,61705",null,14.1921,null,null,null,null,null,null,null,"Stoka CA KT DN250:23,00*0,61705"]
[13,"199000002RX0","Poplatek za skládku horniny 1- 7 ","m3",131.10140000000001,null,{"$f":"E102*F102","v":0},0,{"$f":"E102*H102","v":0},0,{"$f":"E102*J102","v":0},null,null,null,2,null,null,null,null,null,null,null,null,null,null,null,1,1,1,null,null,null,null,null,null,null,null,null,null,null,null,null,null,null,null,null,null,null,null,null,null,1,{"$f":"IF(AZ102=1,G102,0)","v":0},{"$f":"IF(AZ102=2,G102,0)","v":0},{"$f":"IF(AZ102=3,G102,0)","v":0},{"$f":"IF(AZ102=4,G102,0)","v":0},{"$f":"IF(AZ102=5,G102,0)","v":0},null,null,null,null,null,null,null,null,null,null,null,null,null,null,null,null,null,null,null,null,null,1,1]
[null,null,"Výkopy:",null,0,null,null,null,null,null,null,null,"Výkopy:"]
[null,null,"Začátek provozního součtu",null,0,null,null,null,null,null,null,null,"Začátek provozního součtu"]
[null,null,"Stoka AD KT DN250:52,4628",null,52.462800000000001,null,null,null,null,null,null,null,"Stoka AD KT DN250:52,4628"]
[null,null,"Stoka AF KT DN250:50,5440",null,50.543999999999997,null,null,null,null,null,null,null,"Stoka AF KT DN250:50,5440"]
[null,null,"Stoka CA KT DN250:62,2966",null,62.296599999999998,null,null,null,null,null,null,null,"Stoka CA KT DN250:62,2966"]
[null,null,"Konec provozního součtu",null,165.30340000000001,null,null,null,null,null,null,null,"Konec provozního součtu"]
[null,null,"V hornině tř. 2 - 6:165,3034",null,165.30340000000001,null,null,null,null,null,null,null,"V hornině tř. 2 - 6:165,3034"]
[null,null,"Odpočet zásypů zeminou:-34,2020",null,-34.201999999999998,null,null,null,null,null,null,null,"Odpočet zásypů zeminou:-34,2020"]
[null,"Celkem za","1 Zemní práce",null,null,null,{"$f":"SUM(G7:G110)","v":0},null,{"$f":"SUM(I7:I110)","v":0},null,{"$f":"SUM(K7:K110)","v":0},null,null,null,4,null,null,null,null,null,null,null,null,null,null,null,null,null,null,null,null,null,null,null,null,null,null,null,null,null,null,null,null,null,null,null,null,null,null,null,null,null,{"$f":"SUM(BA7:BA110)","v":0},{"$f":"SUM(BB7:BB110)","v":0},{"$f":"SUM(BC7:BC110)","v":0},{"$f":"SUM(BD7:BD110)","v":0},{"$f":"SUM(BE7:BE110)","v":0}]
["Díl:","2","Základy a zvláštní zakládání",null,null,null,null,null,null,null,null,null,null,null,1]
[14,"212810010RAC","Trativody z PVC drenážních flexibilních trubek lože štěrkopísek a obsyp kamenivo, trubky d 100 mm","m",45,null,{"$f":"E113*F113","v":0},0.43651000000000001,{"$f":"E113*H113","v":19.642949999999999},0,{"$f":"E113*J113","v":0},null,null,null,2,null,null,null,null,null,null,null,null,null,null,null,2,1,1,null,null,null,null,null,null,null,null,null,null,null,null,null,null,null,null,null,null,null,null,null,null,1,{"$f":"IF(AZ113=1,G113,0)","v":0},{"$f":"IF(AZ113=2,G113,0)","v":0},{"$f":"IF(AZ113=3,G113,0)","v":0},{"$f":"IF(AZ113=4,G113,0)","v":0},{"$f":"IF(AZ113=5,G113,0)","v":0},null,null,null,null,null,null,null,null,null,null,null,null,null,null,null,null,null,null,null,null,null,2,1]
[null,null,"Začátek provozního součtu",null,0,null,null,null,null,null,null,null,"Začátek provozního součtu"]
[null,null,"Stoka AD KT DN250:19,00",null,19,null,null,null,null,null,null,null,"Stoka AD KT DN250:19,00"]
[null,null,"Stoka AF KT DN250:18,00",null,18,null,null,null,null,null,null,null,"Stoka AF KT DN250:18,00"]
[null,null,"Stoka CA KT DN250:23,00",null,23,null,null,null,null,null,null,null,"Stoka CA KT DN250:23,00"]
[null,null,"Konec provozního součtu",null,60,null,null,null,null,null,null,null,"Konec provozního součtu"]
[null,null,"Drenáž na 75% celkové délky rýh:60,00*0,75",null,45,null,null,null,null,null,null,null,"Drenáž na 75% celkové délky rýh:60,00*0,75"]
[null,"Celkem za","2 Základy a zvláštní zakládání",null,null,null,{"$f":"SUM(G112:G119)","v":0},null,{"$f":"SUM(I112:I119)","v":19.642949999999999},null,{"$f":"SUM(K112:K119)","v":0},null,null,null,4,null,null,null,null,null,null,null,null,null,null,null,null,null,null,null,null,null,null,null,null,null,null,null,null,null,null,null,null,null,null,null,null,null,null,null,null,null,{"$f":"SUM(BA112:BA119)","v":0},{"$f":"SUM(BB112:BB119)","v":0},{"$f":"SUM(BC112:BC119)","v":0},{"$f":"SUM(BD112:BD119)","v":0},{"$f":"SUM(BE112:BE119)","v":0}]
["Díl:","45","Podkladní a vedlejší konstrukce",null,null,null,null,null,null,null,null,null,null,null,1]
[15,"452112111R00","Osazení beton. prstenců pod poklopy,výšky do100 mm ","kus",3,null,{"$f":"E122*F122","v":0},6.6E-3,{"$f":"E122*H122","v":1.9799999999999998E-2},0,{"$f":"E122*J122","v":0},null,null,null,2,null,null,null,null,null,null,null,null,null,null,null,1,1,1,null,null,null,null,null,null,null,null,null,null,null,null,null,null,null,null,null,null,null,null,null,null,1,{"$f":"IF(AZ122=1,G122,0)","v":0},{"$f":"IF(AZ122=2,G122,0)","v":0},{"$f":"IF(AZ122=3,G122,0)","v":0},{"$f":"IF(AZ122=4,G122,0)","v":0},{"$f":"IF(AZ122=5,G122,0)","v":0},null,null,null,null,null,null,null,null,null,null,null,null,null,null,null,null,null,null,null,null,null,1,1]
[null,null,"Volba položky se řídí výškou prstence nebo rámu. V položkách nejsou zakalkulovány náklady na dodávku betonových výrobků;",null,null,null,null,null,null,null,null,"Volba položky se řídí výškou prstence nebo rámu. V položkách nejsou zakalkulovány náklady na dodávku betonových výrobků;",null,null,3]
[null,null,"Stoky:",null,0,null,null,null,null,null,null,null,"Stoky:"]
[null,null,"VP H4:3",null,3,null,null,null,null,null,null,null,"VP H4:3"]
[16,"452312131R00","Sedlové lože pod potrubí z betonu C 12/15 ","m3",17.16,null,{"$f":"E126*F126","v":0},2.5,{"$f":"E126*H126","v":42.9},0,{"$f":"E126*J126","v":0},null,null,null,2,null,null,null,null,null,null,null,null,null,null,null,1,1,1,null,null,null,null,null,null,null,null,null,null,null,null,null,null,null,null,null,null,null,null,null,null,1,{"$f":"IF(AZ126=1,G126,0)","v":0},{"$f":"IF(AZ126=2,G126,0)","v":0},{"$f":"IF(AZ126=3,G126,0)","v":0},{"$f":"IF(AZ126=4,G126,0)","v":0},{"$f":"IF(AZ126=5,G126,0)","v":0},null,null,null,null,null,null,null,null,null,null,null,null,null,null,null,null,null,null,null,null,null,1,1]
[null,null,"Stoka AD KT DN250:19,00*0,2860",null,5.4340000000000002,null,null,null,null,null,null,null,"Stoka AD KT DN250:19,00*0,2860"]
[null,null,"Stoka AF KT DN250:18,00*0,2860",null,5.1479999999999997,null,null,null,null,null,null,null,"Stoka AF KT DN250:18,00*0,2860"]
[null,null,"Stoka CA KT DN250:23,00*0,2860",null,6.5780000000000003,null,null,null,null,null,null,null,"Stoka CA KT DN250:23,00*0,2860"]
[17,"59224345.R","Prstenec vyrovn šachetní TBW-Q 40/625/120","kus",3.03,null,{"$f":"E130*F130","v":0},2.8000000000000001E-2,{"$f":"E130*H130","v":8.4839999999999999E-2},null,{"$f":"E130*J130","v":0},null,null,null,2,null,null,null,null,null,null,null,null,null,null,null,3,1,"59224345.R",null,null,null,null,null,null,null,null,null,null,null,null,null,null,null,null,null,null,null,null,null,null,1,{"$f":"IF(AZ130=1,G130,0)","v":0},{"$f":"IF(AZ130=2,G130,0)","v":0},{"$f":"IF(AZ130=3,G130,0)","v":0},{"$f":"IF(AZ130=4,G130,0)","v":0},{"$f":"IF(AZ130=5,G130,0)","v":0},null,null,null,null,null,null,null,null,null,null,null,null,null,null,null,null,null,null,null,null,null,3,1]
[null,null,"Stoky:",null,0,null,null,null,null,null,null,null,"Stoky:"]
[null,null,"VP H4:3*1,01",null,3.03,null,null,null,null,null,null,null,"VP H4:3*1,01"]
[null,"Celkem za","45 Podkladní a vedlejší konstrukce",null,null,null,{"$f":"SUM(G121:G132)","v":0},null,{"$f":"SUM(I121:I132)","v":43.004639999999995},null,{"$f":"SUM(K121:K132)","v":0},null,null,null,4,null,null,null,null,null,null,null,null,null,null,null,null,null,null,null,null,null,null,null,null,null,null,null,null,null,null,null,null,null,null,null,null,null,null,null,null,null,{"$f":"SUM(BA121:BA132)","v":0},{"$f":"SUM(BB121:BB132)","v":0},{"$f":"SUM(BC121:BC132)","v":0},{"$f":"SUM(BD121:BD132)","v":0},{"$f":"SUM(BE121:BE132)","v":0}]
["Díl:","8","Trubní vedení",null,null,null,null,null,null,null,null,null,null,null,1]
[18,"831362121RT3","Montáž trub kameninových, pryž. kroužek, DN 250 včetně dodávky trub kamenin. DN 250 dl. 2500 mm","m",60,null,{"$f":"E135*F135","v":0},5.3830000000000003E-2,{"$f":"E135*H135","v":3.2298},0,{"$f":"E135*J135","v":0},null,null,null,2,null,null,null,null,null,null,null,null,null,null,null,1,1,1,null,null,null,null,null,null,null,null,null,null,null,null,null,null,null,null,null,null,null,null,null,null,1,{"$f":"IF(AZ135=1,G135,0)","v":0},{"$f":"IF(AZ135=2,G135,0)","v":0},{"$f":"IF(AZ135=3,G135,0)","v":0},{"$f":"IF(AZ135=4,G135,0)","v":0},{"$f":"IF(AZ135=5,G135,0)","v":0},null,null,null,null,null,null,null,null,null,null,null,null,null,null,null,null,null,null,null,null,null,1,1]
[null,null,"Položka je určena pro montáž potrubí z trub kameninových těsněných pryžovým kroužkem v otevřeném výkopu ve sklonu do 20 %.",null,null,null,null,null,null,null,null,"Položka je určena pro montáž potrubí z trub kameninových těsněných pryžovým kroužkem v otevřeném výkopu ve sklonu do 20 %.",null,null,3]
[null,null,"V položce jsou zakalkulovány i náklady na dodání trub.",null,null,null,null,null,null,null,null,"V položce jsou zakalkulovány i náklady na dodání trub.",null,null,3]
[null,null,"Stoka AD KT DN250:19,00",null,19,null,null,null,null,null,null,null,"Stoka AD KT DN250:19,00"]
[null,null,"Stoka AF KT DN250:18,00",null,18,null,null,null,null,null,null,null,"Stoka AF KT DN250:18,00"]
[null,null,"Stoka CA KT DN250:23,00",null,23,null,null,null,null,null,null,null,"Stoka CA KT DN250:23,00"]
[19,"837361221T00","Montáž tvarov. kamenin. odboč. pryž. krouž. DN 250 včetně dodávky šikmé odbočky DN 250/150","kus",2,null,{"$f":"E141*F141","v":0},6.0970000000000003E-2,{"$f":"E141*H141","v":0.12194000000000001},0,{"$f":"E141*J141","v":0},null,null,null,2,null,null,null,null,null,null,null,null,null,null,null,1,1,1,null,null,null,null,null,null,null,null,null,null,null,null,null,null,null,null,null,null,null,null,null,null,1,{"$f":"IF(AZ141=1,G141,0)","v":0},{"$f":"IF(AZ141=2,G141,0)","v":0},{"$f":"IF(AZ141=3,G141,0)","v":0},{"$f":"IF(AZ141=4,G141,0)","v":0},{"$f":"IF(AZ141=5,G141,0)","v":0},null,null,null,null,null,null,null,null,null,null,null,null,null,null,null,null,null,null,null,null,null,1,1]
[null,null,"Položka je určena pro montáž odbočné tvarovky z trub kameninových těsněných pryžovým kroužkem v otevřeném výkopu ve sklonu do 20 %.",null,null,null,null,null,null,null,null,"Položka je určena pro montáž odbočné tvarovky z trub kameninových těsněných pryžovým kroužkem v otevřeném výkopu ve sklonu do 20 %.",null,null,3]
[null,null,"V položce jsou zakalkulovány i náklady na dodání tvarovky.",null,null,null,null,null,null,null,null,"V položce jsou zakalkulovány i náklady na dodání tvarovky.",null,null,3]
[null,null,"Stoka CA KT DN250:2",null,2,null,null,null,null,null,null,null,"Stoka CA KT DN250:2"]
[20,"892581111R00","Zkouška těsnosti kanalizace DN do 300, vodou ","m",60,null,{"$f":"E145*F145","v":0},0,{"$f":"E145*H145","v":0},0,{"$f":"E145*J145","v":0},null,null,null,2,null,null,null,null,null,null,null,null,null,null,null,1,1,1,null,null,null,null,null,null,null,null,null,null,null,null,null,null,null,null,null,null,null,null,null,null,1,{"$f":"IF(AZ145=1,G145,0)","v":0},{"$f":"IF(AZ145=2,G145,0)","v":0},{"$f":"IF(AZ145=3,G145,0)","v":0},{"$f":"IF(AZ145=4,G145,0)","v":0},{"$f":"IF(AZ145=5,G145,0)","v":0},null,null,null,null,null,null,null,null,null,null,null,null,null,null,null,null,null,null,null,null,null,1,1]
[null,null,"V položce jsou zakalkulovány náklady na napuštění vodou a dodání vody pro zkoušku těsnosti včetně zavakování potrubí dle zvolené technologie zhotovitele.",null,null,null,null,null,null,null,null,"V položce jsou zakalkulovány náklady na napuštění vodou a dodání vody pro zkoušku těsnosti včetně zavakování potrubí dle zvolené technologie zhotovitele.",null,null,3]
[null,null,"Stoka AD KT DN250:19,00",null,19,null,null,null,null,null,null,null,"Stoka AD KT DN250:19,00"]
[null,null,"Stoka AF KT DN250:18,00",null,18,null,null,null,null,null,null,null,"Stoka AF KT DN250:18,00"]
[null,null,"Stoka CA KT DN250:23,00",null,23,null,null,null,null,null,null,null,"Stoka CA KT DN250:23,00"]
[21,"892601154R00","Čištění kanalizační stoky do DN 500, nad 100 m ","m",60,null,{"$f":"E150*F150","v":0},0,{"$f":"E150*H150","v":0},0,{"$f":"E150*J150","v":0},null,null,null,2,null,null,null,null,null,null,null,null,null,null,null,1,1,1,null,null,null,null,null,null,null,null,null,null,null,null,null,null,null,null,null,null,null,null,null,null,1,{"$f":"IF(AZ150=1,G150,0)","v":0},{"$f":"IF(AZ150=2,G150,0)","v":0},{"$f":"IF(AZ150=3,G150,0)","v":0},{"$f":"IF(AZ150=4,G150,0)","v":0},{"$f":"IF(AZ150=5,G150,0)","v":0},null,null,null,null,null,null,null,null,null,null,null,null,null,null,null,null,null,null,null,null,null,1,1]
[null,null,"Stoka AD KT DN250:19,00",null,19,null,null,null,null,null,null,null,"Stoka AD KT DN250:19,00"]
[null,null,"Stoka AF KT DN250:18,00",null,18,null,null,null,null,null,null,null,"Stoka AF KT DN250:18,00"]
[null,null,"Stoka CA KT DN250:23,00",null,23,null,null,null,null,null,null,null,"Stoka CA KT DN250:23,00"]
[22,"892855116R00","Kontrola kanalizace TV kamerou nad 500 m ","m",60,null,{"$f":"E154*F154","v":0},0,{"$f":"E154*H154","v":0},0,{"$f":"E154*J154","v":0},null,null,null,2,null,null,null,null,null,null,null,null,null,null,null,1,1,1,null,null,null,null,null,null,null,null,null,null,null,null,null,null,null,null,null,null,null,null,null,null,1,{"$f":"IF(AZ154=1,G154,0)","v":0},{"$f":"IF(AZ154=2,G154,0)","v":0},{"$f":"IF(AZ154=3,G154,0)","v":0},{"$f":"IF(AZ154=4,G154,0)","v":0},{"$f":"IF(AZ154=5,G154,0)","v":0},null,null,null,null,null,null,null,null,null,null,null,null,null,null,null,null,null,null,null,null,null,1,1]
[null,null,"Stoka AD KT DN250:19,00",null,19,null,null,null,null,null,null,null,"Stoka AD KT DN250:19,00"]
[null,null,"Stoka AF KT DN250:18,00",null,18,null,null,null,null,null,null,null,"Stoka AF KT DN250:18,00"]
[null,null,"Stoka CA KT DN250:23,00",null,23,null,null,null,null,null,null,null,"Stoka CA KT DN250:23,00"]
[23,"894421111RT1","Osazení betonových dílců šachet skruže rovné, na kroužek, do 0,5 t","kus",3,null,{"$f":"E158*F158","v":0},0,{"$f":"E158*H158","v":0},0,{"$f":"E158*J158","v":0},null,null,null,2,null,null,null,null,null,null,null,null,null,null,null,1,1,1,null,null,null,null,null,null,null,null,null,null,null,null,null,null,null,null,null,null,null,null,null,null,1,{"$f":"IF(AZ158=1,G158,0)","v":0},{"$f":"IF(AZ158=2,G158,0)","v":0},{"$f":"IF(AZ158=3,G158,0)","v":0},{"$f":"IF(AZ158=4,G158,0)","v":0},{"$f":"IF(AZ158=5,G158,0)","v":0},null,null,null,null,null,null,null,null,null,null,null,null,null,null,null,null,null,null,null,null,null,1,1]
[null,null,"Položka je určena pro osazení betonových dílců šachet dle DIN 4034, skruže rovné na kroužek, hmotnost do 0,5 t.",null,null,null,null,null,null,null,null,"Položka je určena pro osazení betonových dílců šachet dle DIN 4034, skruže rovné na kroužek, hmotnost do 0,5 t.",null,null,3]
[null,null,"V položce nejsou zakalkulovány náklady na dodání betonových dílců; dílce se oceňují ve specifikaci.",null,null,null,null,null,null,null,null,"V položce nejsou zakalkulovány náklady na dodání betonových dílců; dílce se oceňují ve specifikaci.",null,null,3]
[null,null,"Skruž H25:",null,0,null,null,null,null,null,null,null,"Skruž H25:"]
[null,null,"Stoka \"AD\":1",null,1,null,null,null,null,null,null,null,"Stoka \"AD\":1"]
[null,null,"Stoka \"AF\":1",null,1,null,null,null,null,null,null,null,"Stoka \"AF\":1"]
[null,null,"Stoka \"CA\":1",null,1,null,null,null,null,null,null,null,"Stoka \"CA\":1"]
[24,"894421112RT1","Osazení betonových dílců šachet skruže rovné, na kroužek, do 1,4 t","kus",3,null,{"$f":"E165*F165","v":0},0,{"$f":"E165*H165","v":0},0,{"$f":"E165*J165","v":0},null,null,null,2,null,null,null,null,null,null,null,null,null,null,null,1,1,1,null,null,null,null,null,null,null,null,null,null,null,null,null,null,null,null,null,null,null,null,null,null,1,{"$f":"IF(AZ165=1,G165,0)","v":0},{"$f":"IF(AZ165=2,G165,0)","v":0},{"$f":"IF(AZ165=3,G165,0)","v":0},{"$f":"IF(AZ165=4,G165,0)","v":0},{"$f":"IF(AZ165=5,G165,0)","v":0},null,null,null,null,null,null,null,null,null,null,null,null,null,null,null,null,null,null,null,null,null,1,1]
[null,null,"Položka je určena pro osazení betonových dílců šachet dle DIN 4034, skruže rovné na kroužek, hmotnost přes 0,5 do 1,4 t.",null,null,null,null,null,null,null,null,"Položka je určena pro osazení betonových dílců šachet dle DIN 4034, skruže rovné na kroužek, hmotnost přes 0,5 do 1,4 t.",null,null,3]
[null,null,"V položce nejsou zakalkulovány náklady na dodání betonových dílců; dílce se oceňují ve specifikaci.",null,null,null,null,null,null,null,null,"V položce nejsou zakalkulovány náklady na dodání betonových dílců; dílce se oceňují ve specifikaci.",null,null,3]
[null,null,"Skruž H50:",null,0,null,null,null,null,null,null,null,"Skruž H50:"]
[null,null,"Stoka \"AD\":1",null,1,null,null,null,null,null,null,null,"Stoka \"AD\":1"]
[null,null,"Stoka \"AF\":1",null,1,null,null,null,null,null,null,null,"Stoka \"AF\":1"]
[null,null,"Stoka \"CA\":1",null,1,null,null,null,null,null,null,null,"Stoka \"CA\":1"]
[25,"894422111RT1","Osazení betonových dílců šachet skruže přechodové, na kroužek","kus",3,null,{"$f":"E172*F172","v":0},0,{"$f":"E172*H172","v":0},0,{"$f":"E172*J172","v":0},null,null,null,2,null,null,null,null,null,null,null,null,null,null,null,1,1,1,null,null,null,null,null,null,null,null,null,null,null,null,null,null,null,null,null,null,null,null,null,null,1,{"$f":"IF(AZ172=1,G172,0)","v":0},{"$f":"IF(AZ172=2,G172,0)","v":0},{"$f":"IF(AZ172=3,G172,0)","v":0},{"$f":"IF(AZ172=4,G172,0)","v":0},{"$f":"IF(AZ172=5,G172,0)","v":0},null,null,null,null,null,null,null,null,null,null,null,null,null,null,null,null,null,null,null,null,null,1,1]
[null,null,"Položka je určena pro osazení betonových dílců šachet dle DIN 4034, skruže přechodové na kroužek.",null,null,null,null,null,null,null,null,"Položka je určena pro osazení betonových dílců šachet dle DIN 4034, skruže přechodové na kroužek.",null,null,3]
[null,null,"V položce nejsou zakalkulovány náklady na dodání betonových dílců",null,null,null,null,null,null,null,null,"V položce nejsou zakalkulovány náklady na dodání betonových dílců",null,null,3]
[null,null,"Kónus H60:",null,0,null,null,null,null,null,null,null,"Kónus H60:"]
[null,null,"Stoka \"AD\":1",null,1,null,null,null,null,null,null,null,"Stoka \"AD\":1"]
[null,null,"Stoka \"AF\":1",null,1,null,null,null,null,null,null,null,"Stoka \"AF\":1"]
[null,null,"Stoka \"CA\":1",null,1,null,null,null,null,null,null,null,"Stoka \"CA\":1"]
[26,"894423111RT1","Osazení betonových dílců šachet šachtová dna, na kroužek, do 2,0 t","kus",3,null,{"$f":"E179*F179","v":0},0,{"$f":"E179*H179","v":0},0,{"$f":"E179*J179","v":0},null,null,null,2,null,null,null,null,null,null,null,null,null,null,null,1,1,1,null,null,null,null,null,null,null,null,null,null,null,null,null,null,null,null,null,null,null,null,null,null,1,{"$f":"IF(AZ179=1,G179,0)","v":0},{"$f":"IF(AZ179=2,G179,0)","v":0},{"$f":"IF(AZ179=3,G179,0)","v":0},{"$f":"IF(AZ179=4,G179,0)","v":0},{"$f":"IF(AZ179=5,G179,0)","v":0},null,null,null,null,null,null,null,null,null,null,null,null,null,null,null,null,null,null,null,null,null,1,1]
[null,null,"Položka je určena pro osazení betonových dílců šachet dle DIN 4034, šachtová dna na kroužek, hmotnost do 2,0 t.",null,null,null,null,null,null,null,null,"Položka je určena pro osazení betonových dílců šachet dle DIN 4034, šachtová dna na kroužek, hmotnost do 2,0 t.",null,null,3]
[null,null,"V položce nejsou zakalkulovány náklady na dodání betonových dílců;",null,null,null,null,null,null,null,null,"V položce nejsou zakalkulovány náklady na dodání betonových dílců;",null,null,3]
[null,null,"ŠD 250-735:",null,0,null,null,null,null,null,null,null,"ŠD 250-735:"]
[null,null,"Stoka \"AD\":1",null,1,null,null,null,null,null,null,null,"Stoka \"AD\":1"]
[null,null,"Stoka \"AF\":1",null,1,null,null,null,null,null,null,null,"Stoka \"AF\":1"]
[null,null,"Stoka \"CA\":1",null,1,null,null,null,null,null,null,null,"Stoka \"CA\":1"]
[27,"899103111RR1","Osazení poklopu s rámem do 150 kg s odvětráním včetně dodávky poklopu lit. kruhového D 400 dle PD","kus",3,null,{"$f":"E186*F186","v":0},0.13102,{"$f":"E186*H186","v":0.39305999999999996},0,{"$f":"E186*J186","v":0},null,null,null,2,null,null,null,null,null,null,null,null,null,null,null,1,1,1,null,null,null,null,null,null,null,null,null,null,null,null,null,null,null,null,null,null,null,null,null,null,1,{"$f":"IF(AZ186=1,G186,0)","v":0},{"$f":"IF(AZ186=2,G186,0)","v":0},{"$f":"IF(AZ186=3,G186,0)","v":0},{"$f":"IF(AZ186=4,G186,0)","v":0},{"$f":"IF(AZ186=5,G186,0)","v":0},null,null,null,null,null,null,null,null,null,null,null,null,null,null,null,null,null,null,null,null,null,1,1]
[null,null,"Poklop se znakem a nápisem názvu obce. ",null,null,null,null,null,null,null,null,"Poklop se znakem a nápisem názvu obce. ",null,null,3]
[null,null,"Poznámka :",null,null,null,null,null,null,null,null,"Poznámka :",null,null,3]
[null,null,"Platí pro všechny objekty stavby.",null,null,null,null,null,null,null,null,"Platí pro všechny objekty stavby.",null,null,3]
[null,null,"Poklop s odvětráním:",null,0,null,null,null,null,null,null,null,"Poklop s odvětráním:"]
[null,null,"Stoka \"AD\":1",null,1,null,null,null,null,null,null,null,"Stoka \"AD\":1"]
[null,null,"Stoka \"AF\":1",null,1,null,null,null,null,null,null,null,"Stoka \"AF\":1"]
[null,null,"Stoka \"CA\":1",null,1,null,null,null,null,null,null,null,"Stoka \"CA\":1"]
[28,"899721112R00","Fólie výstražná z PVC, šířka 30 cm ","m",60,null,{"$f":"E194*F194","v":0},0,{"$f":"E194*H194","v":0},0,{"$f":"E194*J194","v":0},null,null,null,2,null,null,null,null,null,null,null,null,null,null,null,1,1,1,null,null,null,null,null,null,null,null,null,null,null,null,null,null,null,null,null,null,null,null,null,null,1,{"$f":"IF(AZ194=1,G194,0)","v":0},{"$f":"IF(AZ194=2,G194,0)","v":0},{"$f":"IF(AZ194=3,G194,0)","v":0},{"$f":"IF(AZ194=4,G194,0)","v":0},{"$f":"IF(AZ194=5,G194,0)","v":0},null,null,null,null,null,null,null,null,null,null,null,null,null,null,null,null,null,null,null,null,null,1,1]
[null,null,"Stoka AD KT DN250:19,00",null,19,null,null,null,null,null,null,null,"Stoka AD KT DN250:19,00"]
[null,null,"Stoka AF KT DN250:18,00",null,18,null,null,null,null,null,null,null,"Stoka AF KT DN250:18,00"]
[null,null,"Stoka CA KT DN250:23,00",null,23,null,null,null,null,null,null,null,"Stoka CA KT DN250:23,00"]
[29,"59224353.R","Konus šachetní TBR-Q 600/1000x625/120 SPK","kus",3.03,null,{"$f":"E198*F198","v":0},0.59499999999999997,{"$f":"E198*H198","v":1.8028499999999998},null,{"$f":"E198*J198","v":0},null,null,null,2,null,null,null,null,null,null,null,null,null,null,null,3,1,"59224353.R",null,null,null,null,null,null,null,null,null,null,null,null,null,null,null,null,null,null,null,null,null,null,1,{"$f":"IF(AZ198=1,G198,0)","v":0},{"$f":"IF(AZ198=2,G198,0)","v":0},{"$f":"IF(AZ198=3,G198,0)","v":0},{"$f":"IF(AZ198=4,G198,0)","v":0},{"$f":"IF(AZ198=5,G198,0)","v":0},null,null,null,null,null,null,null,null,null,null,null,null,null,null,null,null,null,null,null,null,null,3,1]
[null,null,"Stoky:",null,0,null,null,null,null,null,null,null,"Stoky:"]
[null,null,"Kónus H60:3*1,01",null,3.03,null,null,null,null,null,null,null,"Kónus H60:3*1,01"]
[30,"592243554.R","Skruž šachetní TBS-Q 1000/250/120 SP","kus",3.03,null,{"$f":"E201*F201","v":0},0.24,{"$f":"E201*H201","v":0.72719999999999996},null,{"$f":"E201*J201","v":0},null,null,null,2,null,null,null,null,null,null,null,null,null,null,null,3,1,"592243554.R",null,null,null,null,null,null,null,null,null,null,null,null,null,null,null,null,null,null,null,null,null,null,1,{"$f":"IF(AZ201=1,G201,0)","v":0},{"$f":"IF(AZ201=2,G201,0)","v":0},{"$f":"IF(AZ201=3,G201,0)","v":0},{"$f":"IF(AZ201=4,G201,0)","v":0},{"$f":"IF(AZ201=5,G201,0)","v":0},null,null,null,null,null,null,null,null,null,null,null,null,null,null,null,null,null,null,null,null,null,3,1]
[null,null,"Stoky:",null,0,null,null,null,null,null,null,null,"Stoky:"]
[null,null,"Skruž H25:3*1,01",null,3.03,null,null,null,null,null,null,null,"Skruž H25:3*1,01"]
[31,"592243555.R","Skruž šachetní TBS-Q 1000/500/120 SP","kus",3.03,null,{"$f":"E204*F204","v":0},0.51,{"$f":"E204*H204","v":1.5452999999999999},null,{"$f":"E204*J204","v":0},null,null,null,2,null,null,null,null,null,null,null,null,null,null,null,3,1,"592243555.R",null,null,null,null,null,null,null,null,null,null,null,null,null,null,null,null,null,null,null,null,null,null,1,{"$f":"IF(AZ204=1,G204,0)","v":0},{"$f":"IF(AZ204=2,G204,0)","v":0},{"$f":"IF(AZ204=3,G204,0)","v":0},{"$f":"IF(AZ204=4,G204,0)","v":0},{"$f":"IF(AZ204=5,G204,0)","v":0},null,null,null,null,null,null,null,null,null,null,null,null,null,null,null,null,null,null,null,null,null,3,1]
[null,null,"Stoky:",null,0,null,null,null,null,null,null,null,"Stoky:"]
[null,null,"Skruž H50:3*1,01",null,3.03,null,null,null,null,null,null,null,"Skruž H50:3*1,01"]
[32,"59224367.R","Dno šachetní TBZ-Q pro DN 250 včetně kynety dle PD","kus",3.03,null,{"$f":"E207*F207","v":0},1.31,{"$f":"E207*H207","v":3.9693000000000001},null,{"$f":"E207*J207","v":0},null,null,null,2,null,null,null,null,null,null,null,null,null,null,null,3,1,"59224367.R",null,null,null,null,null,null,null,null,null,null,null,null,null,null,null,null,null,null,null,null,null,null,1,{"$f":"IF(AZ207=1,G207,0)","v":0},{"$f":"IF(AZ207=2,G207,0)","v":0},{"$f":"IF(AZ207=3,G207,0)","v":0},{"$f":"IF(AZ207=4,G207,0)","v":0},{"$f":"IF(AZ207=5,G207,0)","v":0},null,null,null,null,null,null,null,null,null,null,null,null,null,null,null,null,null,null,null,null,null,3,1]
[null,null,"Stoky:",null,0,null,null,null,null,null,null,null,"Stoky:"]
[null,null,"ŠD 250-735:3*1,01",null,3.03,null,null,null,null,null,null,null,"ŠD 250-735:3*1,01"]
[33,"59224373.R","Těsnění elastom pro šach díly EMT 100/1.7 - DN1000","kus",9.09,null,{"$f":"E210*F210","v":0},2E-3,{"$f":"E210*H210","v":1.8180000000000002E-2},null,{"$f":"E210*J210","v":0},null,null,null,2,null,null,null,null,null,null,null,null,null,null,null,3,1,"59224373.R",null,null,null,null,null,null,null,null,null,null,null,null,null,null,null,null,null,null,null,null,null,null,1,{"$f":"IF(AZ210=1,G210,0)","v":0},{"$f":"IF(AZ210=2,G210,0)","v":0},{"$f":"IF(AZ210=3,G210,0)","v":0},{"$f":"IF(AZ210=4,G210,0)","v":0},{"$f":"IF(AZ210=5,G210,0)","v":0},null,null,null,null,null,null,null,null,null,null,null,null,null,null,null,null,null,null,null,null,null,3,1]
[null,null,"Stoky:",null,0,null,null,null,null,null,null,null,"Stoky:"]
[null,null,"Těsnění:9*1,01",null,9.09,null,null,null,null,null,null,null,"Těsnění:9*1,01"]
[null,"Celkem za","8 Trubní vedení",null,null,null,{"$f":"SUM(G134:G212)","v":0},null,{"$f":"SUM(I134:I212)","v":11.807629999999998},null,{"$f":"SUM(K134:K212)","v":0},null,null,null,4,null,null,null,null,null,null,null,null,null,null,null,null,null,null,null,null,null,null,null,null,null,null,null,null,null,null,null,null,null,null,null,null,null,null,null,null,null,{"$f":"SUM(BA134:BA212)","v":0},{"$f":"SUM(BB134:BB212)","v":0},{"$f":"SUM(BC134:BC212)","v":0},{"$f":"SUM(BD134:BD212)","v":0},{"$f":"SUM(BE134:BE212)","v":0}]
["Díl:","99","Staveništní přesun hmot",null,null,null,null,null,null,null,null,null,null,null,1]
[34,"998275101R00","Přesun hmot, kanalizace kameninové, otevřený výkop ","t",54.812269999999998,null,{"$f":"E215*F215","v":0},0,{"$f":"E215*H215","v":0},null,{"$f":"E215*J215","v":0},null,null,null,2,null,null,null,null,null,null,null,null,null,null,null,7,1,2,null,null,null,null,null,null,null,null,null,null,null,null,null,null,null,null,null,null,null,null,null,null,1,{"$f":"IF(AZ215=1,G215,0)","v":0},{"$f":"IF(AZ215=2,G215,0)","v":0},{"$f":"IF(AZ215=3,G215,0)","v":0},{"$f":"IF(AZ215=4,G215,0)","v":0},{"$f":"IF(AZ215=5,G215,0)","v":0},null,null,null,null,null,null,null,null,null,null,null,null,null,null,null,null,null,null,null,null,null,7,1]
[null,"Celkem za","99 Staveništní přesun hmot",null,null,null,{"$f":"SUM(G214:G215)","v":0},null,{"$f":"SUM(I214:I215)","v":0},null,{"$f":"SUM(K214:K215)","v":0},null,null,null,4,null,null,null,null,null,null,null,null,null,null,null,null,null,null,null,null,null,null,null,null,null,null,null,null,null,null,null,null,null,null,null,null,null,null,null,null,null,{"$f":"SUM(BA214:BA215)","v":0},{"$f":"SUM(BB214:BB215)","v":0},{"$f":"SUM(BC214:BC215)","v":0},{"$f":"SUM(BD214:BD215)","v":0},{"$f":"SUM(BE214:BE215)","v":0}]

{"sheet":"302 302.1RD KL","index":7,"n_rows":45,"n_cols":8,"rows_kept":45,"cut":false,"hidden":false,"merged":[[22,0,22,1],[7,2,7,4],[8,2,8,4],[9,2,9,4],[10,2,10,4],[11,2,11,4],[50,1,50,6],[29,5,29,6],[30,5,30,6],[31,5,31,6],[32,5,32,6],[33,5,33,6],[36,1,44,6],[45,1,45,6],[46,1,46,6],[47,1,47,6],[48,1,48,6],[49,1,49,6]]}
["POLOŽKOVÝ ROZPOČET"]
["Rozpočet",null,"302.1RD","Kanalizační výtlaky - km 0,000-1,618.79",null,"JKSO ","827.21.A1"]
[]
["Objekt",null,null,null,null,"SKP "]
["302",null,"Kanalizační výtlaky",null,null,"Měrná jednotka","m"]
["Stavba",null,null,null,null,"Počet jednotek",0]
["3232",null,"Horní Slivno - Splašková kanalizace",null,null,"Náklady na m.j.",{"$f":"IF(G6=0,,ROUND((F30+F32)/G6,1))","v":0}]
["Projektant",null,"Radek Hnát - VAK PROJEKT",null,null,"Typ rozpočtu"]
["Zpracovatel projektu"]
["Objednatel",null,"Obec Horní Slivno"]
["Dodavatel",null,".",null,null,"Zakázkové číslo "]
["Rozpočtoval",null,null,null,null,"Počet listů"]
["ROZPOČTOVÉ NÁKLADY"]
["Základní rozpočtové náklady"]
[null,"HSV celkem",{"$f":"'302 302.1RD Rek'!E11","v":0}]
["Z","PSV celkem",{"$f":"'302 302.1RD Rek'!F11","v":0}]
["R","M práce celkem",{"$f":"'302 302.1RD Rek'!H11","v":0}]
["N","M dodávky celkem",{"$f":"'302 302.1RD Rek'!G11","v":0}]
["ZRN celkem",null,{"$f":"SUM(C15:C18)","v":0}]
[]
["HZS",null,{"$f":"'302 302.1RD Rek'!I11","v":0}]
["ZRN+HZS",null,{"$f":"C19+C21","v":0}]
["ZRN+ost.náklady+HZS",null,{"$f":"C22+G23","v":0}]
["Vypracoval",null,null,"Za zhotovitele",null,"Za objednatele"]
["Jméno :",null,null,"Jméno :",null,"Jméno :"]
["Datum :",null,null,"Datum :",null,"Datum :"]
[]
["Podpis :",null,null,"Podpis:",null,"Podpis:"]
[]
["Základ pro DPH",null,21,"%  ",null,{"$f":"C23-F32","v":0}]
["DPH",null,{"$f":"C30","v":21},"% ",null,{"$f":"ROUND(PRODUCT(F30,C31/100),0)","v":0}]
["Základ pro DPH",null,0,"% ",null,0]
["DPH",null,{"$f":"C32","v":0},"% ",null,{"$f":"ROUND(PRODUCT(F32,C33/100),0)","v":0}]
["CENA ZA OBJEKT CELKEM",null,null,null,null,{"$f":"ROUND(SUM(F30:F33),0)","v":0}]
[]
["Poznámka :",null,null,null,null,null,null," "]
[null,null,null,null,null,null,null," "]
[null,null,null,null,null,null,null," "]
[null,null,null,null,null,null,null," "]
[null,null,null,null,null,null,null," "]
[null,null,null,null,null,null,null," "]
[null,null,null,null,null,null,null," "]
[null,null,null,null,null,null,null," "]
[null,null,null,null,null,null,null," "]
[null,null,null,null,null,null,null," "]

{"sheet":"302 302.1RD Rek","index":8,"n_rows":11,"n_cols":9,"rows_kept":11,"cut":false,"hidden":false,"merged":[[0,0,0,1],[1,0,1,1],[1,6,1,8]]}
["Stavba :",null,"3232 Horní Slivno - Splašková kanalizace",null,null,null,"Rozpočet :","302.1RD"]
["Objekt :",null,"302 Kanalizační výtlaky",null,null,null,"Kanalizační výtlaky - km 0,000-1,618.79"]
[]
["REKAPITULACE  STAVEBNÍCH  DÍLŮ"]
[]
[null,"Stavební díl",null,null,"HSV","PSV","Dodávka","Montáž","HZS"]
[{"$f":"'302 302.1RD Pol'!B7","v":"1"},{"$f":"'302 302.1RD Pol'!C7","v":"Zemní práce"},null,null,{"$f":"'302 302.1RD Pol'!BA137","v":0},{"$f":"'302 302.1RD Pol'!BB137","v":0},{"$f":"'302 302.1RD Pol'!BC137","v":0},{"$f":"'302 302.1RD Pol'!BD137","v":0},{"$f":"'302 302.1RD Pol'!BE137","v":0}]
[{"$f":"'302 302.1RD Pol'!B138","v":"45"},{"$f":"'302 302.1RD Pol'!C138","v":"Podkladní a vedlejší konstrukce"},null,null,{"$f":"'302 302.1RD Pol'!BA145","v":0},{"$f":"'302 302.1RD Pol'!BB145","v":0},{"$f":"'302 302.1RD Pol'!BC145","v":0},{"$f":"'302 302.1RD Pol'!BD145","v":0},{"$f":"'302 302.1RD Pol'!BE145","v":0}]
[{"$f":"'302 302.1RD Pol'!B146","v":"8"},{"$f":"'302 302.1RD Pol'!C146","v":"Trubní vedení"},null,null,{"$f":"'302 302.1RD Pol'!BA395","v":0},{"$f":"'302 302.1RD Pol'!BB395","v":0},{"$f":"'302 302.1RD Pol'!BC395","v":0},{"$f":"'302 302.1RD Pol'!BD395","v":0},{"$f":"'302 302.1RD Pol'!BE395","v":0}]
[{"$f":"'302 302.1RD Pol'!B396","v":"99"},{"$f":"'302 302.1RD Pol'!C396","v":"Staveništní přesun hmot"},null,null,{"$f":"'302 302.1RD Pol'!BA398","v":0},{"$f":"'302 302.1RD Pol'!BB398","v":0},{"$f":"'302 302.1RD Pol'!BC398","v":0},{"$f":"'302 302.1RD Pol'!BD398","v":0},{"$f":"'302 302.1RD Pol'!BE398","v":0}]
[null,"CELKEM  OBJEKT",null,null,{"$f":"SUM(E7:E10)","v":0},{"$f":"SUM(F7:F10)","v":0},{"$f":"SUM(G7:G10)","v":0},{"$f":"SUM(H7:H10)","v":0},{"$f":"SUM(I7:I10)","v":0}]

{"sheet":"302 302.1RD Pol","index":9,"n_rows":398,"n_cols":80,"rows_kept":398,"cut":false,"hidden":false,"merged":[[12,2,12,3],[13,2,13,3],[14,2,14,3],[15,2,15,3],[16,2,16,3],[18,2,18,6],[0,0,0,6],[2,0,2,1],[3,0,3,1],[3,4,3,6],[8,2,8,6],[9,2,9,6],[10,2,10,3],[11,2,11,3],[26,2,26,6],[27,2,27,6],[28,2,28,3],[29,2,29,3],[30,2,30,3],[31,2,31,3],[19,2,19,6],[20,2,20,3],[21,2,21,3],[22,2,22,3],[23,2,23,3],[24,2,24,3],[40,2,40,6],[41,2,41,6],[42,2,42,3],[43,2,43,3],[44,2,44,3],[45,2,45,3],[32,2,32,3],[34,2,34,3],[35,2,35,3],[36,2,36,3],[37,2,37,3],[38,2,38,3],[54,2,54,6],[55,2,55,6],[56,2,56,6],[57,2,57,3],[58,2,58,3],[59,2,59,3],[46,2,46,3],[48,2,48,3],[49,2,49,3],[50,2,50,3],[51,2,51,3],[52,2,52,3],[67,2,67,3],[68,2,68,3],[69,2,69,3],[70,2,70,3],[72,2,72,6],[73,2,73,3],[60,2,60,3],[61,2,61,3],[63,2,63,6],[64,2,64,6],[65,2,65,6],[66,2,66,3],[81,2,81,6],[82,2,82,6],[83,2,83,6],[84,2,84,6],[85,2,85,3],[87,2,87,3],[74,2,74,3],[76,2,76,6],[77,2,77,6],[78,2,78,6],[79,2,79,6],[80,2,80,6],[94,2,94,3],[95,2,95,3],[97,2,97,3],[98,2,98,3],[99,2,99,3],[100,2,100,3],[88,2,88,3],[89,2,89,3],[90,2,90,3],[91,2,91,3],[92,2,92,3],[93,2,93,3],[107,2,107,3],[109,2,109,6],[110,2,110,3],[112,2,112,3],[113,2,113,3],[114,2,114,3],[101,2,101,3],[102,2,102,3],[103,2,103,3],[104,2,104,3],[105,2,105,3],[106,2,106,3],[122,2,122,3],[123,2,123,3],[124,2,124,3],[125,2,125,3],[127,2,127,6],[128,2,128,3],[115,2,115,3],[117,2,117,3],[118,2,118,3],[119,2,119,3],[120,2,120,3],[121,2,121,3],[139,2,139,3],[140,2,140,3],[141,2,141,3],[142,2,142,3],[129,2,129,3],[131,2,131,6],[132,2,132,6],[133,2,133,6],[134,2,134,6],[135,2,135,3],[156,2,156,3],[158,2,158,6],[159,2,159,3],[160,2,160,3],[161,2,161,3],[163,2,163,6],[147,2,147,6],[148,2,148,3],[149,2,149,3],[150,2,150,3],[151,2,151,3],[152,2,152,3],[154,2,154,6],[155,2,155,3],[172,2,172,6],[173,2,173,3],[175,2,175,3],[177,2,177,3],[179,2,179,3],[180,2,180,3],[164,2,164,3],[165,2,165,3],[166,2,166,3],[168,2,168,6],[169,2,169,3],[170,2,170,3],[188,2,188,3],[189,2,189,3],[192,2,192,3],[193,2,193,3],[195,2,195,6],[196,2,196,3],[181,2,181,3],[182,2,182,3],[183,2,183,3],[185,2,185,3],[186,2,186,3],[187,2,187,3],[206,2,206,6],[207,2,207,3],[208,2,208,3],[210,2,210,3],[211,2,211,3],[213,2,213,3],[197,2,197,3],[199,2,199,3],[200,2,200,3],[202,2,202,6],[203,2,203,3],[204,2,204,3],[221,2,221,3],[223,2,223,6],[224,2,224,6],[225,2,225,3],[226,2,226,3],[228,2,228,6],[214,2,214,3],[215,2,215,3],[216,2,216,3],[218,2,218,6],[219,2,219,6],[220,2,220,3],[236,2,236,3],[238,2,238,6],[239,2,239,6],[240,2,240,3],[241,2,241,3],[243,2,243,6],[229,2,229,6],[230,2,230,3],[231,2,231,3],[233,2,233,6],[234,2,234,6],[235,2,235,3],[251,2,251,3],[252,2,252,3],[254,2,254,6],[255,2,255,3],[256,2,256,3],[258,2,258,3],[244,2,244,3],[246,2,246,6],[247,2,247,6],[248,2,248,6],[250,2,250,6],[267,2,267,3],[268,2,268,3],[269,2,269,3],[270,2,270,3],[272,2,272,3],[273,2,273,3],[259,2,259,3],[260,2,260,3],[262,2,262,3],[263,2,263,3],[264,2,264,3],[265,2,265,3],[284,2,284,3],[285,2,285,3],[287,2,287,3],[288,2,288,3],[290,2,290,3],[291,2,291,3],[275,2,275,3],[276,2,276,3],[278,2,278,3],[279,2,279,3],[281,2,281,3],[282,2,282,3],[299,2,299,3],[300,2,300,3],[302,2,302,6],[293,2,293,3],[294,2,294,3],[296,2,296,6],[297,2,297,6],[298,2,298,6],[305,2,305,3],[307,2,307,3],[308,2,308,3],[310,2,310,3],[311,2,311,3],[313,2,313,3],[303,2,303,6],[304,2,304,6],[323,2,323,6],[324,2,324,6],[325,2,325,6],[326,2,326,6],[327,2,327,6],[328,2,328,3],[314,2,314,3],[316,2,316,3],[317,2,317,3],[319,2,319,3],[320,2,320,3],[322,2,322,6],[336,2,336,6],[337,2,337,3],[338,2,338,3],[340,2,340,6],[341,2,341,6],[342,2,342,3],[329,2,329,3],[331,2,331,6],[332,2,332,6],[333,2,333,6],[334,2,334,6],[335,2,335,6],[350,2,350,3],[351,2,351,3],[353,2,353,3],[354,2,354,3],[356,2,356,3],[357,2,357,3],[343,2,343,3],[345,2,345,6],[346,2,346,6],[347,2,347,3],[348,2,348,3],[368,2,368,3],[369,2,369,3],[371,2,371,3],[372,2,372,3],[374,2,374,3],[375,2,375,3],[359,2,359,3],[360,2,360,3],[362,2,362,3],[363,2,363,3],[365,2,365,3],[366,2,366,3],[386,2,386,3],[387,2,387,3],[389,2,389,3],[390,2,390,3],[392,2,392,3],[393,2,393,3],[377,2,377,3],[378,2,378,3],[380,2,380,3],[381,2,381,3],[383,2,383,3],[384,2,384,3]]}
["Položkový rozpočet "]
[]
["Stavba :",null,"3232 Horní Slivno - Splašková kanalizace",null,"Rozpočet:",{"$f":"'302 302.1RD Rek'!H1","v":"302.1RD"}]
["Objekt :",null,"302 Kanalizační výtlaky",null,{"$f":"'302 302.1RD Rek'!G2","v":"Kanalizační výtlaky - km 0,000-1,618.79"}]
[]
["P.č.","Číslo položky","Název položky","MJ","množství","cena / MJ","celkem (Kč)","Jednotková hmotnost","Celková hmotnost","Jednotková dem.hmot.","Celková dem.hmot."]
["Díl:","1","Zemní práce",null,null,null,null,null,null,null,null,null,null,null,1]
[1,"130001101RRX","Příplatek za ztížené hloubení v blízkosti vedení ","m3",109.52800000000001,null,{"$f":"E8*F8","v":0},0,{"$f":"E8*H8","v":0},0,{"$f":"E8*J8","v":0},null,null,null,2,null,null,null,null,null,null,null,null,null,null,null,1,1,1,null,null,null,null,null,null,null,null,null,null,null,null,null,null,null,null,null,null,null,null,null,null,1,{"$f":"IF(AZ8=1,G8,0)","v":0},{"$f":"IF(AZ8=2,G8,0)","v":0},{"$f":"IF(AZ8=3,G8,0)","v":0},{"$f":"IF(AZ8=4,G8,0)","v":0},{"$f":"IF(AZ8=5,G8,0)","v":0},null,null,null,null,null,null,null,null,null,null,null,null,null,null,null,null,null,null,null,null,null,1,1]
[null,null,"Včetně ruční dokopávky a ručního výkopu.",null,null,null,null,null,null,null,null,"Včetně ruční dokopávky a ručního výkopu.",null,null,3]
[null,null,"Součástí položky je i případná potřeba dočasnéhon zajištění potrubí a kabelových vedení ve výkopu.",null,null,null,null,null,null,null,null,"Součástí položky je i případná potřeba dočasnéhon zajištění potrubí a kabelových vedení ve výkopu.",null,null,3]
[null,null,"Začátek provozního součtu",null,0,null,null,null,null,null,null,null,"Začátek provozního součtu"]
[null,null,"Výtlak VA PE D 110x10,0 mm - řízený protlak:62,70",null,62.7,null,null,null,null,null,null,null,"Výtlak VA PE D 110x10,0 mm - řízený protlak:62,70"]
[null,null,"Výtlak VA PE D 110x10,0 mm - rýha - souběh s kanalizační stokou:944,80",null,944.8,null,null,null,null,null,null,null,"Výtlak VA PE D 110x10,0 mm - rýha - souběh s kanalizační stokou:944,80"]
[null,null,"Výtlak VC PE D 90x8,2 mm - rýha:227,2000",null,227.2,null,null,null,null,null,null,null,"Výtlak VC PE D 90x8,2 mm - rýha:227,2000"]
[null,null,"Výtlak V-AE PE D 90x8,2 mm - rýha:134,4000",null,134.4,null,null,null,null,null,null,null,"Výtlak V-AE PE D 90x8,2 mm - rýha:134,4000"]
[null,null,"Konec provozního součtu",null,1369.1000000000001,null,null,null,null,null,null,null,"Konec provozního součtu"]
[null,null,"V hornině tř. 2 - 6 - 8%:1369,1000*0,08",null,109.52800000000001,null,null,null,null,null,null,null,"V hornině tř. 2 - 6 - 8%:1369,1000*0,08"]
[2,"132101213RRX","Hloubení rýh š.do 200 cm hor.2 do 10000 m3,STROJNĚ ","m3",151.529,null,{"$f":"E18*F18","v":0},0,{"$f":"E18*H18","v":0},0,{"$f":"E18*J18","v":0},null,null,null,2,null,null,null,null,null,null,null,null,null,null,null,1,1,1,null,null,null,null,null,null,null,null,null,null,null,null,null,null,null,null,null,null,null,null,null,null,1,{"$f":"IF(AZ18=1,G18,0)","v":0},{"$f":"IF(AZ18=2,G18,0)","v":0},{"$f":"IF(AZ18=3,G18,0)","v":0},{"$f":"IF(AZ18=4,G18,0)","v":0},{"$f":"IF(AZ18=5,G18,0)","v":0},null,null,null,null,null,null,null,null,null,null,null,null,null,null,null,null,null,null,null,null,null,1,1]
[null,null,"Položka obsahuje hloubení rýh traktorbagrem, naložení výkopku na dopravní prostředek pro svislé, nebo vodorovné přemístění, popř. přemístění výkopku do 3 m (po povrchu území), případné zajištění rypadel polštáři, udržování pracoviště a ochranu výkopiště proti stékání srážkové vody z okolního terénu i s jejím odvodněním, nebo odvedením, přesekání a odstranění kořenů ve výkopišti, odstranění napadávek, urovnání dna výkopu.",null,null,null,null,null,null,null,null,"Položka obsahuje hloubení rýh traktorbagrem, naložení výkopku na dopravní prostředek pro svislé, nebo vodorovné přemístění, popř. přemístění výkopku do 3 m (po povrchu území), případné zajištění rypadel polštáři, udržování pracoviště a ochranu výkopiště proti stékání srážkové vody z okolního terénu i s jejím odvodněním, nebo odvedením, přesekání a odstranění kořenů ve výkopišti, odstranění napadávek, urovnání dna výkopu.",null,null,3]
[null,null,"Součástí položky je i pažení výkopů dle zvolené technologie zhotovitelem a v souladu s předpisy BOZP.",null,null,null,null,null,null,null,null,"Součástí položky je i pažení výkopů dle zvolené technologie zhotovitelem a v souladu s předpisy BOZP.",null,null,3]
[null,null,"V hornině tř. 2:",null,0,null,null,null,null,null,null,null,"V hornině tř. 2:"]
[null,null,"Výtlak VA PE D 110x10,0 mm - řízený protlak:62,700*0,11",null,6.8970000000000002,null,null,null,null,null,null,null,"Výtlak VA PE D 110x10,0 mm - řízený protlak:62,700*0,11"]
[null,null,"Výtlak VA PE D 110x10,0 mm - rýha - souběh s kanalizační stokou:944,80*0,11",null,103.928,null,null,null,null,null,null,null,"Výtlak VA PE D 110x10,0 mm - rýha - souběh s kanalizační stokou:944,80*0,11"]
[null,null,"Výtlak VC PE D 90x8,2 mm - rýha:227,2000*0,12",null,27.263999999999999,null,null,null,null,null,null,null,"Výtlak VC PE D 90x8,2 mm - rýha:227,2000*0,12"]
[null,null,"Výtlak V-AE PE D 90x8,2 mm - rýha:134,4000*0,10",null,13.44,null,null,null,null,null,null,null,"Výtlak V-AE PE D 90x8,2 mm - rýha:134,4000*0,10"]
[3,"132201213RRX","Hloubení rýh š.do 200 cm hor.3 do 10000 m3,STROJNĚ ","m3",365.98200000000003,null,{"$f":"E26*F26","v":0},0,{"$f":"E26*H26","v":0},0,{"$f":"E26*J26","v":0},null,null,null,2,null,null,null,null,null,null,null,null,null,null,null,1,1,1,null,null,null,null,null,null,null,null,null,null,null,null,null,null,null,null,null,null,null,null,null,null,1,{"$f":"IF(AZ26=1,G26,0)","v":0},{"$f":"IF(AZ26=2,G26,0)","v":0},{"$f":"IF(AZ26=3,G26,0)","v":0},{"$f":"IF(AZ26=4,G26,0)","v":0},{"$f":"IF(AZ26=5,G26,0)","v":0},null,null,null,null,null,null,null,null,null,null,null,null,null,null,null,null,null,null,null,null,null,1,1]
[null,null,"Položka obsahuje hloubení rýh traktorbagrem, naložení výkopku na dopravní prostředek pro svislé, nebo vodorovné přemístění, popř. přemístění výkopku do 3 m (po povrchu území), případné zajištění rypadel polštáři, udržování pracoviště a ochranu výkopiště proti stékání srážkové vody z okolního terénu i s jejím odvodněním, nebo odvedením, přesekání a odstranění kořenů ve výkopišti, odstranění napadávek, urovnání dna výkopu.",null,null,null,null,null,null,null,null,"Položka obsahuje hloubení rýh traktorbagrem, naložení výkopku na dopravní prostředek pro svislé, nebo vodorovné přemístění, popř. přemístění výkopku do 3 m (po povrchu území), případné zajištění rypadel polštáři, udržování pracoviště a ochranu výkopiště proti stékání srážkové vody z okolního terénu i s jejím odvodněním, nebo odvedením, přesekání a odstranění kořenů ve výkopišti, odstranění napadávek, urovnání dna výkopu.",null,null,3]
[null,null,"Součástí položky je i pažení výkopů dle zvolené technologie zhotovitelem a v souladu s předpisy BOZP.",null,null,null,null,null,null,null,null,"Součástí položky je i pažení výkopů dle zvolené technologie zhotovitelem a v souladu s předpisy BOZP.",null,null,3]
[null,null,"V hornině tř. 3:",null,0,null,null,null,null,null,null,null,"V hornině tř. 3:"]
[null,null,"Výtlak VA PE D 110x10,0 mm - řízený protlak:62,700*0,26",null,16.302,null,null,null,null,null,null,null,"Výtlak VA PE D 110x10,0 mm - řízený protlak:62,700*0,26"]
[null,null,"Výtlak VA PE D 110x10,0 mm - rýha - souběh s kanalizační stokou:944,80*0,26",null,245.648,null,null,null,null,null,null,null,"Výtlak VA PE D 110x10,0 mm - rýha - souběh s kanalizační stokou:944,80*0,26"]
[null,null,"Výtlak VC PE D 90x8,2 mm - rýha:227,2000*0,31",null,70.432000000000002,null,null,null,null,null,null,null,"Výtlak VC PE D 90x8,2 mm - rýha:227,2000*0,31"]
[null,null,"Výtlak V-AE PE D 90x8,2 mm - rýha:134,4000*0,25",null,33.6,null,null,null,null,null,null,null,"Výtlak V-AE PE D 90x8,2 mm - rýha:134,4000*0,25"]
[4,"132201219R00","Přípl.za lepivost,hloubení rýh 200cm,hor.3,STROJNĚ ","m3",182.99100000000001,null,{"$f":"E34*F34","v":0},0,{"$f":"E34*H34","v":0},0,{"$f":"E34*J34","v":0},null,null,null,2,null,null,null,null,null,null,null,null,null,null,null,1,1,1,null,null,null,null,null,null,null,null,null,null,null,null,null,null,null,null,null,null,null,null,null,null,1,{"$f":"IF(AZ34=1,G34,0)","v":0},{"$f":"IF(AZ34=2,G34,0)","v":0},{"$f":"IF(AZ34=3,G34,0)","v":0},{"$f":"IF(AZ34=4,G34,0)","v":0},{"$f":"IF(AZ34=5,G34,0)","v":0},null,null,null,null,null,null,null,null,null,null,null,null,null,null,null,null,null,null,null,null,null,1,1]
[null,null,"V hornině tř. 3:",null,0,null,null,null,null,null,null,null,"V hornině tř. 3:"]
[null,null,"Výtlak VA PE D 110x10,0 mm - řízený protlak:62,700*0,26*0,5",null,8.1509999999999998,null,null,null,null,null,null,null,"Výtlak VA PE D 110x10,0 mm - řízený protlak:62,700*0,26*0,5"]
[null,null,"Výtlak VA PE D 110x10,0 mm - rýha - souběh s kanalizační stokou:944,80*0,26*0,5",null,122.824,null,null,null,null,null,null,null,"Výtlak VA PE D 110x10,0 mm - rýha - souběh s kanalizační stokou:944,80*0,26*0,5"]
[null,null,"Výtlak VC PE D 90x8,2 mm - rýha:227,2000*0,31*0,5",null,35.216000000000001,null,null,null,null,null,null,null,"Výtlak VC PE D 90x8,2 mm - rýha:227,2000*0,31*0,5"]
[null,null,"Výtlak V-AE PE D 90x8,2 mm - rýha:134,4000*0,25*0,5",null,16.8,null,null,null,null,null,null,null,"Výtlak V-AE PE D 90x8,2 mm - rýha:134,4000*0,25*0,5"]
[5,"132301213RRX","Hloubení rýh š.do 200 cm hor.4 do 10000 m3,STROJNĚ ","m3",460.75799999999998,null,{"$f":"E40*F40","v":0},0,{"$f":"E40*H40","v":0},0,{"$f":"E40*J40","v":0},null,null,null,2,null,null,null,null,null,null,null,null,null,null,null,1,1,1,null,null,null,null,null,null,null,null,null,null,null,null,null,null,null,null,null,null,null,null,null,null,1,{"$f":"IF(AZ40=1,G40,0)","v":0},{"$f":"IF(AZ40=2,G40,0)","v":0},{"$f":"IF(AZ40=3,G40,0)","v":0},{"$f":"IF(AZ40=4,G40,0)","v":0},{"$f":"IF(AZ40=5,G40,0)","v":0},null,null,null,null,null,null,null,null,null,null,null,null,null,null,null,null,null,null,null,null,null,1,1]
[null,null,"Položka obsahuje hloubení rýh traktorbagrem, naložení výkopku na dopravní prostředek pro svislé, nebo vodorovné přemístění, popř. přemístění výkopku do 3 m (po povrchu území), případné zajištění rypadel polštáři, udržování pracoviště a ochranu výkopiště proti stékání srážkové vody z okolního terénu i s jejím odvodněním, nebo odvedením, přesekání a odstranění kořenů ve výkopišti, odstranění napadávek, urovnání dna výkopu.",null,null,null,null,null,null,null,null,"Položka obsahuje hloubení rýh traktorbagrem, naložení výkopku na dopravní prostředek pro svislé, nebo vodorovné přemístění, popř. přemístění výkopku do 3 m (po povrchu území), případné zajištění rypadel polštáři, udržování pracoviště a ochranu výkopiště proti stékání srážkové vody z okolního terénu i s jejím odvodněním, nebo odvedením, přesekání a odstranění kořenů ve výkopišti, odstranění napadávek, urovnání dna výkopu.",null,null,3]
[null,null,"Součástí položky je i pažení výkopů dle zvolené technologie zhotovitelem a v souladu s předpisy BOZP.",null,null,null,null,null,null,null,null,"Součástí položky je i pažení výkopů dle zvolené technologie zhotovitelem a v souladu s předpisy BOZP.",null,null,3]
[null,null,"V hornině tř. 4:",null,0,null,null,null,null,null,null,null,"V hornině tř. 4:"]
[null,null,"Výtlak VA PE D 110x10,0 mm - řízený protlak:62,700*0,34",null,21.318000000000001,null,null,null,null,null,null,null,"Výtlak VA PE D 110x10,0 mm - řízený protlak:62,700*0,34"]
[null,null,"Výtlak VA PE D 110x10,0 mm - rýha - souběh s kanalizační stokou:944,80*0,34",null,321.23200000000003,null,null,null,null,null,null,null,"Výtlak VA PE D 110x10,0 mm - rýha - souběh s kanalizační stokou:944,80*0,34"]
[null,null,"Výtlak VC PE D 90x8,2 mm - rýha:227,2000*0,26",null,59.072000000000003,null,null,null,null,null,null,null,"Výtlak VC PE D 90x8,2 mm - rýha:227,2000*0,26"]
[null,null,"Výtlak V-AE PE D 90x8,2 mm - rýha:134,4000*0,44",null,59.136000000000003,null,null,null,null,null,null,null,"Výtlak V-AE PE D 90x8,2 mm - rýha:134,4000*0,44"]
[6,"132301219R00","Přípl.za lepivost,hloubení rýh 200cm,hor.4,STROJNĚ ","m3",230.37899999999999,null,{"$f":"E48*F48","v":0},0,{"$f":"E48*H48","v":0},0,{"$f":"E48*J48","v":0},null,null,null,2,null,null,null,null,null,null,null,null,null,null,null,1,1,1,null,null,null,null,null,null,null,null,null,null,null,null,null,null,null,null,null,null,null,null,null,null,1,{"$f":"IF(AZ48=1,G48,0)","v":0},{"$f":"IF(AZ48=2,G48,0)","v":0},{"$f":"IF(AZ48=3,G48,0)","v":0},{"$f":"IF(AZ48=4,G48,0)","v":0},{"$f":"IF(AZ48=5,G48,0)","v":0},null,null,null,null,null,null,null,null,null,null,null,null,null,null,null,null,null,null,null,null,null,1,1]
[null,null,"V hornině tř. 4:",null,0,null,null,null,null,null,null,null,"V hornině tř. 4:"]
[null,null,"Výtlak VA PE D 110x10,0 mm - řízený protlak:62,700*0,34*0,5",null,10.659000000000001,null,null,null,null,null,null,null,"Výtlak VA PE D 110x10,0 mm - řízený protlak:62,700*0,34*0,5"]
[null,null,"Výtlak VA PE D 110x10,0 mm - rýha - souběh s kanalizační stokou:944,80*0,34*0,5",null,160.61600000000001,null,null,null,null,null,null,null,"Výtlak VA PE D 110x10,0 mm - rýha - souběh s kanalizační stokou:944,80*0,34*0,5"]
[null,null,"Výtlak VC PE D 90x8,2 mm - rýha:227,2000*0,26*0,5",null,29.536000000000001,null,null,null,null,null,null,null,"Výtlak VC PE D 90x8,2 mm - rýha:227,2000*0,26*0,5"]
[null,null,"Výtlak V-AE PE D 90x8,2 mm - rýha:134,4000*0,44*0,5",null,29.568000000000001,null,null,null,null,null,null,null,"Výtlak V-AE PE D 90x8,2 mm - rýha:134,4000*0,44*0,5"]
[7,"132401211RRX","Hloubení rýh šířky do 200 cm v hor.5, STROJNĚ ","m3",327.49099999999999,null,{"$f":"E54*F54","v":0},0,{"$f":"E54*H54","v":0},0,{"$f":"E54*J54","v":0},null,null,null,2,null,null,null,null,null,null,null,null,null,null,null,1,1,1,null,null,null,null,null,null,null,null,null,null,null,null,null,null,null,null,null,null,null,null,null,null,1,{"$f":"IF(AZ54=1,G54,0)","v":0},{"$f":"IF(AZ54=2,G54,0)","v":0},{"$f":"IF(AZ54=3,G54,0)","v":0},{"$f":"IF(AZ54=4,G54,0)","v":0},{"$f":"IF(AZ54=5,G54,0)","v":0},null,null,null,null,null,null,null,null,null,null,null,null,null,null,null,null,null,null,null,null,null,1,1]
[null,null,"Položka obsahuje hloubení rýh traktorbagrem, naložení výkopku na dopravní prostředek pro svislé, nebo vodorovné přemístění, popř. přemístění výkopku do 3 m (po povrchu území), případné zajištění rypadel polštáři, udržování pracoviště a ochranu výkopiště proti stékání srážkové vody z okolního terénu i s jejím odvodněním, nebo odvedením, přesekání a odstranění kořenů ve výkopišti, odstranění napadávek, urovnání dna výkopu.",null,null,null,null,null,null,null,null,"Položka obsahuje hloubení rýh traktorbagrem, naložení výkopku na dopravní prostředek pro svislé, nebo vodorovné přemístění, popř. přemístění výkopku do 3 m (po povrchu území), případné zajištění rypadel polštáři, udržování pracoviště a ochranu výkopiště proti stékání srážkové vody z okolního terénu i s jejím odvodněním, nebo odvedením, přesekání a odstranění kořenů ve výkopišti, odstranění napadávek, urovnání dna výkopu.",null,null,3]
[null,null,"Součástí položky je i pažení výkopů dle zvolené technologie zhotovitelem a v souladu s předpisy BOZP.",null,null,null,null,null,null,null,null,"Součástí položky je i pažení výkopů dle zvolené technologie zhotovitelem a v souladu s předpisy BOZP.",null,null,3]
[null,null,"Součástí položky je i případné dolamování horniny v prostoru rýhy.",null,null,null,null,null,null,null,null,"Součástí položky je i případné dolamování horniny v prostoru rýhy.",null,null,3]
[null,null,"V hornině tř. 5:",null,0,null,null,null,null,null,null,null,"V hornině tř. 5:"]
[null,null,"Výtlak VA PE D 110x10,0 mm - řízený protlak:62,700*0,25",null,15.675000000000001,null,null,null,null,null,null,null,"Výtlak VA PE D 110x10,0 mm - řízený protlak:62,700*0,25"]
[null,null,"Výtlak VA PE D 110x10,0 mm - rýha - souběh s kanalizační stokou:944,80*0,25",null,236.2,null,null,null,null,null,null,null,"Výtlak VA PE D 110x10,0 mm - rýha - souběh s kanalizační stokou:944,80*0,25"]
[null,null,"Výtlak VC PE D 90x8,2 mm - rýha:227,2000*0,25",null,56.8,null,null,null,null,null,null,null,"Výtlak VC PE D 90x8,2 mm - rýha:227,2000*0,25"]
[null,null,"Výtlak V-AE PE D 90x8,2 mm - rýha:134,4000*0,14",null,18.815999999999999,null,null,null,null,null,null,null,"Výtlak V-AE PE D 90x8,2 mm - rýha:134,4000*0,14"]
[8,"132501211RRX","Hloubení rýh šířky do 200 cm v hor.6, STROJNĚ ","m3",63.34,null,{"$f":"E63*F63","v":0},0,{"$f":"E63*H63","v":0},0,{"$f":"E63*J63","v":0},null,null,null,2,null,null,null,null,null,null,null,null,null,null,null,1,1,1,null,null,null,null,null,null,null,null,null,null,null,null,null,null,null,null,null,null,null,null,null,null,1,{"$f":"IF(AZ63=1,G63,0)","v":0},{"$f":"IF(AZ63=2,G63,0)","v":0},{"$f":"IF(AZ63=3,G63,0)","v":0},{"$f":"IF(AZ63=4,G63,0)","v":0},{"$f":"IF(AZ63=5,G63,0)","v":0},null,null,null,null,null,null,null,null,null,null,null,null,null,null,null,null,null,null,null,null,null,1,1]
[null,null,"Položka obsahuje hloubení rýh traktorbagrem, naložení výkopku na dopravní prostředek pro svislé, nebo vodorovné přemístění, popř. přemístění výkopku do 3 m (po povrchu území), případné zajištění rypadel polštáři, udržování pracoviště a ochranu výkopiště proti stékání srážkové vody z okolního terénu i s jejím odvodněním, nebo odvedením, přesekání a odstranění kořenů ve výkopišti, odstranění napadávek, urovnání dna výkopu.",null,null,null,null,null,null,null,null,"Položka obsahuje hloubení rýh traktorbagrem, naložení výkopku na dopravní prostředek pro svislé, nebo vodorovné přemístění, popř. přemístění výkopku do 3 m (po povrchu území), případné zajištění rypadel polštáři, udržování pracoviště a ochranu výkopiště proti stékání srážkové vody z okolního terénu i s jejím odvodněním, nebo odvedením, přesekání a odstranění kořenů ve výkopišti, odstranění napadávek, urovnání dna výkopu.",null,null,3]
[null,null,"Součástí položky je i pažení výkopů dle zvolené technologie zhotovitelem a v souladu s předpisy BOZP.",null,null,null,null,null,null,null,null,"Součástí položky je i pažení výkopů dle zvolené technologie zhotovitelem a v souladu s předpisy BOZP.",null,null,3]
[null,null,"Součástí položky je i případné dolamování horniny v prostoru rýhy.",null,null,null,null,null,null,null,null,"Součástí položky je i případné dolamování horniny v prostoru rýhy.",null,null,3]
[null,null,"V hornině tř. 6:",null,0,null,null,null,null,null,null,null,"V hornině tř. 6:"]
[null,null,"Výtlak VA PE D 110x10,0 mm - řízený protlak:62,700*0,04",null,2.508,null,null,null,null,null,null,null,"Výtlak VA PE D 110x10,0 mm - řízený protlak:62,700*0,04"]
[null,null,"Výtlak VA PE D 110x10,0 mm - rýha - souběh s kanalizační stokou:944,80*0,04",null,37.792000000000002,null,null,null,null,null,null,null,"Výtlak VA PE D 110x10,0 mm - rýha - souběh s kanalizační stokou:944,80*0,04"]
[null,null,"Výtlak VC PE D 90x8,2 mm - rýha:227,2000*0,06",null,13.632,null,null,null,null,null,null,null,"Výtlak VC PE D 90x8,2 mm - rýha:227,2000*0,06"]
[null,null,"Výtlak V-AE PE D 90x8,2 mm - rýha:134,4000*0,07",null,9.4079999999999995,null,null,null,null,null,null,null,"Výtlak V-AE PE D 90x8,2 mm - rýha:134,4000*0,07"]
[9,"141700106RRX","Protlak neřízený z trub D 200 mm v hor.1 - 6 ","m",9.6,null,{"$f":"E72*F72","v":0},7.26E-3,{"$f":"E72*H72","v":6.9695999999999994E-2},0,{"$f":"E72*J72","v":0},null,null,null,2,null,null,null,null,null,null,null,null,null,null,null,1,1,1,null,null,null,null,null,null,null,null,null,null,null,null,null,null,null,null,null,null,null,null,null,null,1,{"$f":"IF(AZ72=1,G72,0)","v":0},{"$f":"IF(AZ72=2,G72,0)","v":0},{"$f":"IF(AZ72=3,G72,0)","v":0},{"$f":"IF(AZ72=4,G72,0)","v":0},{"$f":"IF(AZ72=5,G72,0)","v":0},null,null,null,null,null,null,null,null,null,null,null,null,null,null,null,null,null,null,null,null,null,1,1]
[null,null,"Položka obsahuje náklady na spojování protlačovaných trub, zřízení a odstranění podlahy a podpěrné konstrukce pro protlačovací zařízení, úpravu čela potrubí pro protlačení, případně vodorovné přemístění výkopku z protlačovaného potrubí a svislé přemístění výkopku z montážní jámy na přilehlé území.",null,null,null,null,null,null,null,null,"Položka obsahuje náklady na spojování protlačovaných trub, zřízení a odstranění podlahy a podpěrné konstrukce pro protlačovací zařízení, úpravu čela potrubí pro protlačení, případně vodorovné přemístění výkopku z protlačovaného potrubí a svislé přemístění výkopku z montážní jámy na přilehlé území.",null,null,3]
[null,null,"Výtlak VC PE D 90x8,2 mm:",null,0,null,null,null,null,null,null,null,"Výtlak VC PE D 90x8,2 mm:"]
[null,null,"Chránička OC D 194/10:9,60",null,9.6,null,null,null,null,null,null,null,"Chránička OC D 194/10:9,60"]
[10,"141721101RRX","Řízené protlačení (vrtání) a vtažení PE d 110 mm v hor.1 - 6","m",428.85,null,{"$f":"E76*F76","v":0},3.48E-3,{"$f":"E76*H76","v":1.4923980000000001},0,{"$f":"E76*J76","v":0},null,null,null,2,null,null,null,null,null,null,null,null,null,null,null,1,1,1,null,null,null,null,null,null,null,null,null,null,null,null,null,null,null,null,null,null,null,null,null,null,1,{"$f":"IF(AZ76=1,G76,0)","v":0},{"$f":"IF(AZ76=2,G76,0)","v":0},{"$f":"IF(AZ76=3,G76,0)","v":0},{"$f":"IF(AZ76=4,G76,0)","v":0},{"$f":"IF(AZ76=5,G76,0)","v":0},null,null,null,null,null,null,null,null,null,null,null,null,null,null,null,null,null,null,null,null,null,1,1]
[null,null,"Jedná se o bezvýkopovou technologii horizontálně řízeného vrtání a vtažení potrubí na principu rozplavování a rozrušování zeminy pomocí vysokotlaké směsi vody a bentonitu.",null,null,null,null,null,null,null,null,"Jedná se o bezvýkopovou technologii horizontálně řízeného vrtání a vtažení potrubí na principu rozplavování a rozrušování zeminy pomocí vysokotlaké směsi vody a bentonitu.",null,null,3]
[null,null,"V položce je započteno : - provedení pilotního vrtu,",null,null,null,null,null,null,null,null,"V položce je započteno : - provedení pilotního vrtu,",null,null,3]
[null,null,"                                        - potřebné rozšíření vrtu,",null,null,null,null,null,null,null,null,"                                        - potřebné rozšíření vrtu,",null,null,3]
[null,null,"                                        - vtažení potrubí,",null,null,null,null,null,null,null,null,"                                        - vtažení potrubí,",null,null,3]
[null,null,"                                        - svařování vtahovaného potrubí.",null,null,null,null,null,null,null,null,"                                        - svařování vtahovaného potrubí.",null,null,3]
[null,null,"V položce není započteno: - zemní práce nutné pro provedení prací,",null,null,null,null,null,null,null,null,"V položce není započteno: - zemní práce nutné pro provedení prací,",null,null,3]
[null,null,"                                           - případné čerpání vody,",null,null,null,null,null,null,null,null,"                                           - případné čerpání vody,",null,null,3]
[null,null,"                                           - montáž vedení, slouží-li vtahovaná trubka jako ochranné potrubí,",null,null,null,null,null,null,null,null,"                                           - montáž vedení, slouží-li vtahovaná trubka jako ochranné potrubí,",null,null,3]
[null,null,"                                           - dodání vtahovaných trubek.",null,null,null,null,null,null,null,null,"                                           - dodání vtahovaných trubek.",null,null,3]
[null,null,"Výtlak VA D 110x10,0 mm:428,85",null,428.85,null,null,null,null,null,null,null,"Výtlak VA D 110x10,0 mm:428,85"]
[11,"162601102RX0","Vodorovné přemístění výkopku z hor.1-7 na skládku zhotovitele","m3",1332.35,null,{"$f":"E87*F87","v":0},0,{"$f":"E87*H87","v":0},0,{"$f":"E87*J87","v":0},null,null,null,2,null,null,null,null,null,null,null,null,null,null,null,1,1,1,null,null,null,null,null,null,null,null,null,null,null,null,null,null,null,null,null,null,null,null,null,null,1,{"$f":"IF(AZ87=1,G87,0)","v":0},{"$f":"IF(AZ87=2,G87,0)","v":0},{"$f":"IF(AZ87=3,G87,0)","v":0},{"$f":"IF(AZ87=4,G87,0)","v":0},{"$f":"IF(AZ87=5,G87,0)","v":0},null,null,null,null,null,null,null,null,null,null,null,null,null,null,null,null,null,null,null,null,null,1,1]
[null,null,"Výkopy:",null,0,null,null,null,null,null,null,null,"Výkopy:"]
[null,null,"Začátek provozního součtu",null,0,null,null,null,null,null,null,null,"Začátek provozního součtu"]
[null,null,"Výtlak VA PE D 110x10,0 mm - řízený protlak:62,70",null,62.7,null,null,null,null,null,null,null,"Výtlak VA PE D 110x10,0 mm - řízený protlak:62,70"]
[null,null,"Výtlak VA PE D 110x10,0 mm - rýha - souběh s kanalizační stokou:944,80",null,944.8,null,null,null,null,null,null,null,"Výtlak VA PE D 110x10,0 mm - rýha - souběh s kanalizační stokou:944,80"]
[null,null,"Výtlak VC PE D 90x8,2 mm - rýha:227,2000",null,227.2,null,null,null,null,null,null,null,"Výtlak VC PE D 90x8,2 mm - rýha:227,2000"]
[null,null,"Výtlak VE PE D 90x8,2 mm - rýha:134,4000",null,134.4,null,null,null,null,null,null,null,"Výtlak VE PE D 90x8,2 mm - rýha:134,4000"]
[null,null,"Konec provozního součtu",null,1369.1000000000001,null,null,null,null,null,null,null,"Konec provozního součtu"]
[null,null,"V hornině tř. 2 - 6:1369,1000",null,1369.1,null,null,null,null,null,null,null,"V hornině tř. 2 - 6:1369,1000"]
[null,null,"Odpočet zásypů zeminou:-36,7500",null,-36.75,null,null,null,null,null,null,null,"Odpočet zásypů zeminou:-36,7500"]
[12,"174100050RAB","Zásyp jam,rýh a šachet štěrkodrtí fr. 0-63 mm včetně dodávky štěrkodrtě","m3",728.09209999999996,null,{"$f":"E97*F97","v":0},0,{"$f":"E97*H97","v":0},0,{"$f":"E97*J97","v":0},null,null,null,2,null,null,null,null,null,null,null,null,null,null,null,1,1,1,null,null,null,null,null,null,null,null,null,null,null,null,null,null,null,null,null,null,null,null,null,null,1,{"$f":"IF(AZ97=1,G97,0)","v":0},{"$f":"IF(AZ97=2,G97,0)","v":0},{"$f":"IF(AZ97=3,G97,0)","v":0},{"$f":"IF(AZ97=4,G97,0)","v":0},{"$f":"IF(AZ97=5,G97,0)","v":0},null,null,null,null,null,null,null,null,null,null,null,null,null,null,null,null,null,null,null,null,null,1,1]
[null,null,"Výkopy:",null,0,null,null,null,null,null,null,null,"Výkopy:"]
[null,null,"Začátek provozního součtu",null,0,null,null,null,null,null,null,null,"Začátek provozního součtu"]
[null,null,"Výtlak VA PE D 110x10,0 mm - rýha - souběh s kanalizační stokou:944,8000",null,944.8,null,null,null,null,null,null,null,"Výtlak VA PE D 110x10,0 mm - rýha - souběh s kanalizační stokou:944,8000"]
[null,null,"Výtlak VC PE D 90x8,2 mm - rýha:227,2000",null,227.2,null,null,null,null,null,null,null,"Výtlak VC PE D 90x8,2 mm - rýha:227,2000"]
[null,null,"Výtlak VE PE D 90x8,2 mm - rýha:134,4000",null,134.4,null,null,null,null,null,null,null,"Výtlak VE PE D 90x8,2 mm - rýha:134,4000"]
[null,null,"Konec provozního součtu",null,1306.4000000000001,null,null,null,null,null,null,null,"Konec provozního součtu"]
[null,null,"V hornině tř. 2 - 6:1306,4000",null,1306.4000000000001,null,null,null,null,null,null,null,"V hornině tř. 2 - 6:1306,4000"]
[null,null,"Odpočet lože, potrubí a obsypů:-125,6187",null,-125.6187,null,null,null,null,null,null,null,"Odpočet lože, potrubí a obsypů:-125,6187"]
[null,null,"Výtlak VA PE D 110x10,0 mm - rýha - souběh s kanalizační stokou:-1180,89*0,50*(0,15+0,11+0,30)",null,-330.64920000000001,null,null,null,null,null,null,null,"Výtlak VA PE D 110x10,0 mm - rýha - souběh s kanalizační stokou:-1180,89*0,50*(0,15+0,11+0,30)"]
[null,null,"Výtlak VC PE D 90x8,2 mm - rýha:-177,50*0,80*(0,15+0,09+0,30)",null,-76.680000000000007,null,null,null,null,null,null,null,"Výtlak VC PE D 90x8,2 mm - rýha:-177,50*0,80*(0,15+0,09+0,30)"]
[null,null,"Výtlak VE PE D 90x8,2 mm - rýha:-105,00*0,80*(0,15+0,09+0,30)",null,-45.36,null,null,null,null,null,null,null,"Výtlak VE PE D 90x8,2 mm - rýha:-105,00*0,80*(0,15+0,09+0,30)"]
[13,"174101101R00","Zásyp jam, rýh, šachet se zhutněním ","m3",36.75,null,{"$f":"E109*F109","v":0},0,{"$f":"E109*H109","v":0},0,{"$f":"E109*J109","v":0},null,null,null,2,null,null,null,null,null,null,null,null,null,null,null,1,1,1,null,null,null,null,null,null,null,null,null,null,null,null,null,null,null,null,null,null,null,null,null,null,1,{"$f":"IF(AZ109=1,G109,0)","v":0},{"$f":"IF(AZ109=2,G109,0)","v":0},{"$f":"IF(AZ109=3,G109,0)","v":0},{"$f":"IF(AZ109=4,G109,0)","v":0},{"$f":"IF(AZ109=5,G109,0)","v":0},null,null,null,null,null,null,null,null,null,null,null,null,null,null,null,null,null,null,null,null,null,1,1]
[null,null,"Položka obsahuje strojní přemístění materiálu pro zásyp ze vzdálenosti do 10 m od okraje zásypu.",null,null,null,null,null,null,null,null,"Položka obsahuje strojní přemístění materiálu pro zásyp ze vzdálenosti do 10 m od okraje zásypu.",null,null,3]
[null,null,"Výtlak VA PE D 110x10,0 mm - řízený protlak:36,7500",null,36.75,null,null,null,null,null,null,null,"Výtlak VA PE D 110x10,0 mm - řízený protlak:36,7500"]
[14,"175100020RAB","Obsyp potrubí štěrkopískem včetně dodávka štěrkopísku","m3",330.53289999999998,null,{"$f":"E112*F112","v":0},0,{"$f":"E112*H112","v":0},0,{"$f":"E112*J112","v":0},null,null,null,2,null,null,null,null,null,null,null,null,null,null,null,1,1,1,null,null,null,null,null,null,null,null,null,null,null,null,null,null,null,null,null,null,null,null,null,null,1,{"$f":"IF(AZ112=1,G112,0)","v":0},{"$f":"IF(AZ112=2,G112,0)","v":0},{"$f":"IF(AZ112=3,G112,0)","v":0},{"$f":"IF(AZ112=4,G112,0)","v":0},{"$f":"IF(AZ112=5,G112,0)","v":0},null,null,null,null,null,null,null,null,null,null,null,null,null,null,null,null,null,null,null,null,null,1,1]
[null,null,"Výtlak VA PE D 110x10,0 mm - řízený protlak:13,3300",null,13.33,null,null,null,null,null,null,null,"Výtlak VA PE D 110x10,0 mm - řízený protlak:13,3300"]
[null,null,"Výtlak VA PE D 110x10,0 mm - rýha - souběh s kanalizační stokou:1180,89*(0,50*(0,11+0,30)-0,055^2*Pi)",null,230.86009999999999,null,null,null,null,null,null,null,"Výtlak VA PE D 110x10,0 mm - rýha - souběh s kanalizační stokou:1180,89*(0,50*(0,11+0,30)-0,055^2*Pi)"]
[null,null,"Výtlak VC PE D 90x8,2 mm - rýha:177,50*(0,80*(0,09+0,30)-0,045^2*Pi)",null,54.250799999999998,null,null,null,null,null,null,null,"Výtlak VC PE D 90x8,2 mm - rýha:177,50*(0,80*(0,09+0,30)-0,045^2*Pi)"]
[null,null,"Výtlak VE PE D 90x8,2 mm - rýha:105,00*(0,80*(0,09+0,30)-0,045^2*Pi)",null,32.091999999999999,null,null,null,null,null,null,null,"Výtlak VE PE D 90x8,2 mm - rýha:105,00*(0,80*(0,09+0,30)-0,045^2*Pi)"]
[15,"199000002RX0","Poplatek za skládku horniny 1- 7 ","m3",1332.35,null,{"$f":"E117*F117","v":0},0,{"$f":"E117*H117","v":0},0,{"$f":"E117*J117","v":0},null,null,null,2,null,null,null,null,null,null,null,null,null,null,null,1,1,1,null,null,null,null,null,null,null,null,null,null,null,null,null,null,null,null,null,null,null,null,null,null,1,{"$f":"IF(AZ117=1,G117,0)","v":0},{"$f":"IF(AZ117=2,G117,0)","v":0},{"$f":"IF(AZ117=3,G117,0)","v":0},{"$f":"IF(AZ117=4,G117,0)","v":0},{"$f":"IF(AZ117=5,G117,0)","v":0},null,null,null,null,null,null,null,null,null,null,null,null,null,null,null,null,null,null,null,null,null,1,1]
[null,null,"Výkopy:",null,0,null,null,null,null,null,null,null,"Výkopy:"]
[null,null,"Začátek provozního součtu",null,0,null,null,null,null,null,null,null,"Začátek provozního součtu"]
[null,null,"Výtlak VA PE D 110x10,0 mm - řízený protlak:62,70",null,62.7,null,null,null,null,null,null,null,"Výtlak VA PE D 110x10,0 mm - řízený protlak:62,70"]
[null,null,"Výtlak VA PE D 110x10,0 mm - rýha - souběh s kanalizační stokou:944,80",null,944.8,null,null,null,null,null,null,null,"Výtlak VA PE D 110x10,0 mm - rýha - souběh s kanalizační stokou:944,80"]
[null,null,"Výtlak VC PE D 90x8,2 mm - rýha:227,2000",null,227.2,null,null,null,null,null,null,null,"Výtlak VC PE D 90x8,2 mm - rýha:227,2000"]
[null,null,"Výtlak VE PE D 90x8,2 mm - rýha:134,4000",null,134.4,null,null,null,null,null,null,null,"Výtlak VE PE D 90x8,2 mm - rýha:134,4000"]
[null,null,"Konec provozního součtu",null,1369.1000000000001,null,null,null,null,null,null,null,"Konec provozního součtu"]
[null,null,"V hornině tř. 2 - 6:1369,1000",null,1369.1,null,null,null,null,null,null,null,"V hornině tř. 2 - 6:1369,1000"]
[null,null,"Odpočet zásypů zeminou:-36,7500",null,-36.75,null,null,null,null,null,null,null,"Odpočet zásypů zeminou:-36,7500"]
[16,"14221224.R","Trubka bezešvá hladká 11353.1  D 194x10,0 mm","m",10.56,null,{"$f":"E127*F127","v":0},4.5400000000000003E-2,{"$f":"E127*H127","v":0.47942400000000007},null,{"$f":"E127*J127","v":0},null,null,null,2,null,null,null,null,null,null,null,null,null,null,null,3,1,"14221224.R",null,null,null,null,null,null,null,null,null,null,null,null,null,null,null,null,null,null,null,null,null,null,1,{"$f":"IF(AZ127=1,G127,0)","v":0},{"$f":"IF(AZ127=2,G127,0)","v":0},{"$f":"IF(AZ127=3,G127,0)","v":0},{"$f":"IF(AZ127=4,G127,0)","v":0},{"$f":"IF(AZ127=5,G127,0)","v":0},null,null,null,null,null,null,null,null,null,null,null,null,null,null,null,null,null,null,null,null,null,3,1]
[null,null,"Součástí položky je dodávka a montář těsnících manžet a kluzných vymezovacích objímek RACI v počtu dle PD",null,null,null,null,null,null,null,null,"Součástí položky je dodávka a montář těsnících manžet a kluzných vymezovacích objímek RACI v počtu dle PD",null,null,3]
[null,null,"Výtlak VC PE D 90x8,2 mm:",null,0,null,null,null,null,null,null,null,"Výtlak VC PE D 90x8,2 mm:"]
[null,null,"Chránička OC D 194/10:9,60*1,1",null,10.56,null,null,null,null,null,null,null,"Chránička OC D 194/10:9,60*1,1"]
[17,"286134456.R","Trubka tlaková PE100RC D.SDR11 110x10 mm návin kanalizace","m",435.28269999999998,null,{"$f":"E131*F131","v":0},2.1199999999999999E-3,{"$f":"E131*H131","v":0.92279932399999987},null,{"$f":"E131*J131","v":0},null,null,null,2,null,null,null,null,null,null,null,null,null,null,null,3,1,"286134456.R",null,null,null,null,null,null,null,null,null,null,null,null,null,null,null,null,null,null,null,null,null,null,1,{"$f":"IF(AZ131=1,G131,0)","v":0},{"$f":"IF(AZ131=2,G131,0)","v":0},{"$f":"IF(AZ131=3,G131,0)","v":0},{"$f":"IF(AZ131=4,G131,0)","v":0},{"$f":"IF(AZ131=5,G131,0)","v":0},null,null,null,null,null,null,null,null,null,null,null,null,null,null,null,null,null,null,null,null,null,3,1]
[null,null,"Trubky kanalizační z PE100 K  podle ČSN EN 12201 s ochranným pláštěm",null,null,null,null,null,null,null,null,"Trubky kanalizační z PE100 K  podle ČSN EN 12201 s ochranným pláštěm",null,null,3]
[null,null,"K vnitřní trubka černá s hnědými pruhy",null,null,null,null,null,null,null,null,"K vnitřní trubka černá s hnědými pruhy",null,null,3]
[null,null,"vnější ochranná vrstva z modifikovaného PE barvy hnědé s integrovaným vodičem.",null,null,null,null,null,null,null,null,"vnější ochranná vrstva z modifikovaného PE barvy hnědé s integrovaným vodičem.",null,null,3]
[null,null,null,null,null,null,null,null,null,null,null,null,null,null,3]
[null,null,"Výtlak VA D 110x10,0 mm:428,85*1,015",null,435.28269999999998,null,null,null,null,null,null,null,"Výtlak VA D 110x10,0 mm:428,85*1,015"]
[null,"Celkem za","1 Zemní práce",null,null,null,{"$f":"SUM(G7:G136)","v":0},null,{"$f":"SUM(I7:I136)","v":2.9643173239999996},null,{"$f":"SUM(K7:K136)","v":0},null,null,null,4,null,null,null,null,null,null,null,null,null,null,null,null,null,null,null,null,null,null,null,null,null,null,null,null,null,null,null,null,null,null,null,null,null,null,null,null,null,{"$f":"SUM(BA7:BA136)","v":0},{"$f":"SUM(BB7:BB136)","v":0},{"$f":"SUM(BC7:BC136)","v":0},{"$f":"SUM(BD7:BD136)","v":0},{"$f":"SUM(BE7:BE136)","v":0}]
["Díl:","45","Podkladní a vedlejší konstrukce",null,null,null,null,null,null,null,null,null,null,null,1]
[18,"451572111R00","Lože pod potrubí z kameniva těženého 0 - 4 mm ","m3",127.4667,null,{"$f":"E139*F139","v":0},1.873,{"$f":"E139*H139","v":238.74512910000001},0,{"$f":"E139*J139","v":0},null,null,null,2,null,null,null,null,null,null,null,null,null,null,null,1,1,1,null,null,null,null,null,null,null,null,null,null,null,null,null,null,null,null,null,null,null,null,null,null,1,{"$f":"IF(AZ139=1,G139,0)","v":0},{"$f":"IF(AZ139=2,G139,0)","v":0},{"$f":"IF(AZ139=3,G139,0)","v":0},{"$f":"IF(AZ139=4,G139,0)","v":0},{"$f":"IF(AZ139=5,G139,0)","v":0},null,null,null,null,null,null,null,null,null,null,null,null,null,null,null,null,null,null,null,null,null,1,1]
[null,null,"Výtlak VA PE D 110x10,0 mm - řízený protlak:5,00",null,5,null,null,null,null,null,null,null,"Výtlak VA PE D 110x10,0 mm - řízený protlak:5,00"]
[null,null,"Výtlak VA PE D 110x10,0 mm - rýha - souběh s kanalizační stokou:1180,89*0,50*0,15",null,88.566699999999997,null,null,null,null,null,null,null,"Výtlak VA PE D 110x10,0 mm - rýha - souběh s kanalizační stokou:1180,89*0,50*0,15"]
[null,null,"Výtlak VC PE D 90x8,2 mm - rýha:177,50*0,80*0,15",null,21.3,null,null,null,null,null,null,null,"Výtlak VC PE D 90x8,2 mm - rýha:177,50*0,80*0,15"]
[null,null,"Výtlak V-AE PE D 90x8,2 mm - rýha:105,00*0,80*0,15",null,12.6,null,null,null,null,null,null,null,"Výtlak V-AE PE D 90x8,2 mm - rýha:105,00*0,80*0,15"]
[19,"452313131RRX","Bloky pro potrubí z betonu C 12/15 včetně nutného bednění","m3",1.6679999999999999,null,{"$f":"E144*F144","v":0},2.355,{"$f":"E144*H144","v":3.92814},0,{"$f":"E144*J144","v":0},null,null,null,2,null,null,null,null,null,null,null,null,null,null,null,1,1,1,null,null,null,null,null,null,null,null,null,null,null,null,null,null,null,null,null,null,null,null,null,null,1,{"$f":"IF(AZ144=1,G144,0)","v":0},{"$f":"IF(AZ144=2,G144,0)","v":0},{"$f":"IF(AZ144=3,G144,0)","v":0},{"$f":"IF(AZ144=4,G144,0)","v":0},{"$f":"IF(AZ144=5,G144,0)","v":0},null,null,null,null,null,null,null,null,null,null,null,null,null,null,null,null,null,null,null,null,null,1,1]
[null,"Celkem za","45 Podkladní a vedlejší konstrukce",null,null,null,{"$f":"SUM(G138:G144)","v":0},null,{"$f":"SUM(I138:I144)","v":242.67326910000003},null,{"$f":"SUM(K138:K144)","v":0},null,null,null,4,null,null,null,null,null,null,null,null,null,null,null,null,null,null,null,null,null,null,null,null,null,null,null,null,null,null,null,null,null,null,null,null,null,null,null,null,null,{"$f":"SUM(BA138:BA144)","v":0},{"$f":"SUM(BB138:BB144)","v":0},{"$f":"SUM(BC138:BC144)","v":0},{"$f":"SUM(BD138:BD144)","v":0},{"$f":"SUM(BE138:BE144)","v":0}]
["Díl:","8","Trubní vedení",null,null,null,null,null,null,null,null,null,null,null,1]
[20,"857242121R00","Montáž tvarovek litin. jednoos.přír. výkop DN 80 včetně nerezových spoj. prvků a obandážování spoje","kus",7,null,{"$f":"E147*F147","v":0},2.2000000000000001E-4,{"$f":"E147*H147","v":1.5400000000000001E-3},0,{"$f":"E147*J147","v":0},null,null,null,2,null,null,null,null,null,null,null,null,null,null,null,1,1,1,null,null,null,null,null,null,null,null,null,null,null,null,null,null,null,null,null,null,null,null,null,null,1,{"$f":"IF(AZ147=1,G147,0)","v":0},{"$f":"IF(AZ147=2,G147,0)","v":0},{"$f":"IF(AZ147=3,G147,0)","v":0},{"$f":"IF(AZ147=4,G147,0)","v":0},{"$f":"IF(AZ147=5,G147,0)","v":0},null,null,null,null,null,null,null,null,null,null,null,null,null,null,null,null,null,null,null,null,null,1,1]
[null,null,"Položka je určena pro montáž litinových tvarovek na potrubí litinovém tlakovém přírubovém jednoosých v otevřeném výkopu, v otevřeném kanálu nebo v šachtě.",null,null,null,null,null,null,null,null,"Položka je určena pro montáž litinových tvarovek na potrubí litinovém tlakovém přírubovém jednoosých v otevřeném výkopu, v otevřeném kanálu nebo v šachtě.",null,null,3]
[null,null,"Výtlaky VA, VC a V-AE:",null,0,null,null,null,null,null,null,null,"Výtlaky VA, VC a V-AE:"]
[null,null,"Jištěná příruba DN80:3",null,3,null,null,null,null,null,null,null,"Jištěná příruba DN80:3"]
[null,null,"FF DN80/250:2",null,2,null,null,null,null,null,null,null,"FF DN80/250:2"]
[null,null,"FF DN80/600:1",null,1,null,null,null,null,null,null,null,"FF DN80/600:1"]
[null,null,"N DN80:1",null,1,null,null,null,null,null,null,null,"N DN80:1"]
[21,"857244121R00","Montáž tvarovek litin. odboč. přír. výkop DN 80 včetně nerezových spoj. prvků a obandážování spoje","kus",1,null,{"$f":"E154*F154","v":0},3.2000000000000003E-4,{"$f":"E154*H154","v":3.2000000000000003E-4},0,{"$f":"E154*J154","v":0},null,null,null,2,null,null,null,null,null,null,null,null,null,null,null,1,1,1,null,null,null,null,null,null,null,null,null,null,null,null,null,null,null,null,null,null,null,null,null,null,1,{"$f":"IF(AZ154=1,G154,0)","v":0},{"$f":"IF(AZ154=2,G154,0)","v":0},{"$f":"IF(AZ154=3,G154,0)","v":0},{"$f":"IF(AZ154=4,G154,0)","v":0},{"$f":"IF(AZ154=5,G154,0)","v":0},null,null,null,null,null,null,null,null,null,null,null,null,null,null,null,null,null,null,null,null,null,1,1]
[null,null,"Položka je určena pro montáž litinových tvarovek na potrubí litinovém tlakovém přírubovém odbočných v otevřeném výkopu, v otevřeném kanálu nebo v šachtě.",null,null,null,null,null,null,null,null,"Položka je určena pro montáž litinových tvarovek na potrubí litinovém tlakovém přírubovém odbočných v otevřeném výkopu, v otevřeném kanálu nebo v šachtě.",null,null,3]
[null,null,"Výtlaky VA, VC a V-AE:",null,0,null,null,null,null,null,null,null,"Výtlaky VA, VC a V-AE:"]
[null,null,"T DN80/50:1",null,1,null,null,null,null,null,null,null,"T DN80/50:1"]
[22,"857262121R00","Montáž tvarovek litin. jednoos. přír. výkop DN 100 včetně nerezových spoj. prvků a obandážování spoje","kus",5,null,{"$f":"E158*F158","v":0},4.0999999999999999E-4,{"$f":"E158*H158","v":2.0499999999999997E-3},0,{"$f":"E158*J158","v":0},null,null,null,2,null,null,null,null,null,null,null,null,null,null,null,1,1,1,null,null,null,null,null,null,null,null,null,null,null,null,null,null,null,null,null,null,null,null,null,null,1,{"$f":"IF(AZ158=1,G158,0)","v":0},{"$f":"IF(AZ158=2,G158,0)","v":0},{"$f":"IF(AZ158=3,G158,0)","v":0},{"$f":"IF(AZ158=4,G158,0)","v":0},{"$f":"IF(AZ158=5,G158,0)","v":0},null,null,null,null,null,null,null,null,null,null,null,null,null,null,null,null,null,null,null,null,null,1,1]
[null,null,"Položka je určena pro montáž litinových tvarovek na potrubí litinovém tlakovém přírubovém jednoosých v otevřeném výkopu, v otevřeném kanálu nebo v šachtě.",null,null,null,null,null,null,null,null,"Položka je určena pro montáž litinových tvarovek na potrubí litinovém tlakovém přírubovém jednoosých v otevřeném výkopu, v otevřeném kanálu nebo v šachtě.",null,null,3]
[null,null,"Výtlaky VA, VC a V-AE:",null,0,null,null,null,null,null,null,null,"Výtlaky VA, VC a V-AE:"]
[null,null,"Jištěná příruba DN100:2",null,2,null,null,null,null,null,null,null,"Jištěná příruba DN100:2"]
[null,null,"FF DN100/600:3",null,3,null,null,null,null,null,null,null,"FF DN100/600:3"]
[23,"857264121R00","Montáž tvarovek litin. odboč. přír. výkop DN 100 včetně nerezových spoj. prvků a obandážování spoje","kus",2,null,{"$f":"E163*F163","v":0},6.2E-4,{"$f":"E163*H163","v":1.24E-3},0,{"$f":"E163*J163","v":0},null,null,null,2,null,null,null,null,null,null,null,null,null,null,null,1,1,1,null,null,null,null,null,null,null,null,null,null,null,null,null,null,null,null,null,null,null,null,null,null,1,{"$f":"IF(AZ163=1,G163,0)","v":0},{"$f":"IF(AZ163=2,G163,0)","v":0},{"$f":"IF(AZ163=3,G163,0)","v":0},{"$f":"IF(AZ163=4,G163,0)","v":0},{"$f":"IF(AZ163=5,G163,0)","v":0},null,null,null,null,null,null,null,null,null,null,null,null,null,null,null,null,null,null,null,null,null,1,1]
[null,null,"Položka je určena pro montáž litinových tvarovek na potrubí litinovém tlakovém přírubovém odbočných v otevřeném výkopu, v otevřeném kanálu nebo v šachtě.",null,null,null,null,null,null,null,null,"Položka je určena pro montáž litinových tvarovek na potrubí litinovém tlakovém přírubovém odbočných v otevřeném výkopu, v otevřeném kanálu nebo v šachtě.",null,null,3]
[null,null,"Výtlaky VA, VC a V-AE:",null,0,null,null,null,null,null,null,null,"Výtlaky VA, VC a V-AE:"]
[null,null,"T DN100/50:1",null,1,null,null,null,null,null,null,null,"T DN100/50:1"]
[null,null,"T DN100/80:1",null,1,null,null,null,null,null,null,null,"T DN100/80:1"]
[24,"871241121R00","Montáž potrubí polyetylenového ve výkopu d 90 mm ","m",282.5,null,{"$f":"E168*F168","v":0},0,{"$f":"E168*H168","v":0},0,{"$f":"E168*J168","v":0},null,null,null,2,null,null,null,null,null,null,null,null,null,null,null,1,1,1,null,null,null,null,null,null,null,null,null,null,null,null,null,null,null,null,null,null,null,null,null,null,1,{"$f":"IF(AZ168=1,G168,0)","v":0},{"$f":"IF(AZ168=2,G168,0)","v":0},{"$f":"IF(AZ168=3,G168,0)","v":0},{"$f":"IF(AZ168=4,G168,0)","v":0},{"$f":"IF(AZ168=5,G168,0)","v":0},null,null,null,null,null,null,null,null,null,null,null,null,null,null,null,null,null,null,null,null,null,1,1]
[null,null,"V položce je uvažováno s jedním spojem na 6 m potrubí. ",null,null,null,null,null,null,null,null,"V položce je uvažováno s jedním spojem na 6 m potrubí. ",null,null,3]
[null,null,"Výtlak VC PE D 90x8,2 mm:177,50",null,177.5,null,null,null,null,null,null,null,"Výtlak VC PE D 90x8,2 mm:177,50"]
[null,null,"Výtlak V-AE PE D 90x8,2 mm:105,00",null,105,null,null,null,null,null,null,null,"Výtlak V-AE PE D 90x8,2 mm:105,00"]
[25,"871251121R00","Montáž trubek polyetylenových ve výkopu d 110 mm ","m",1180.8900000000001,null,{"$f":"E172*F172","v":0},0,{"$f":"E172*H172","v":0},0,{"$f":"E172*J172","v":0},null,null,null,2,null,null,null,null,null,null,null,null,null,null,null,1,1,1,null,null,null,null,null,null,null,null,null,null,null,null,null,null,null,null,null,null,null,null,null,null,1,{"$f":"IF(AZ172=1,G172,0)","v":0},{"$f":"IF(AZ172=2,G172,0)","v":0},{"$f":"IF(AZ172=3,G172,0)","v":0},{"$f":"IF(AZ172=4,G172,0)","v":0},{"$f":"IF(AZ172=5,G172,0)","v":0},null,null,null,null,null,null,null,null,null,null,null,null,null,null,null,null,null,null,null,null,null,1,1]
[null,null,"V položce je uvažováno s jedním spojem na 6 m potrubí včetně montáže elektrotvarovek.",null,null,null,null,null,null,null,null,"V položce je uvažováno s jedním spojem na 6 m potrubí včetně montáže elektrotvarovek.",null,null,3]
[null,null,"Výtlak VA PE D 110x10,0 mm:1180,89",null,1180.8900000000001,null,null,null,null,null,null,null,"Výtlak VA PE D 110x10,0 mm:1180,89"]
[26,"871812111R00","Příplatek za zaměření GPS během pokládky ","m",428.85,null,{"$f":"E175*F175","v":0},0,{"$f":"E175*H175","v":0},0,{"$f":"E175*J175","v":0},null,null,null,2,null,null,null,null,null,null,null,null,null,null,null,1,1,1,null,null,null,null,null,null,null,null,null,null,null,null,null,null,null,null,null,null,null,null,null,null,1,{"$f":"IF(AZ175=1,G175,0)","v":0},{"$f":"IF(AZ175=2,G175,0)","v":0},{"$f":"IF(AZ175=3,G175,0)","v":0},{"$f":"IF(AZ175=4,G175,0)","v":0},{"$f":"IF(AZ175=5,G175,0)","v":0},null,null,null,null,null,null,null,null,null,null,null,null,null,null,null,null,null,null,null,null,null,1,1]
[null,null,"Výtlak VA PE D 110x10,0 mm - řízený protlak:428,85",null,428.85,null,null,null,null,null,null,null,"Výtlak VA PE D 110x10,0 mm - řízený protlak:428,85"]
[27,"871812112R00","Příplatek za položení signalizačního vodiče ","m",428.85,null,{"$f":"E177*F177","v":0},0,{"$f":"E177*H177","v":0},0,{"$f":"E177*J177","v":0},null,null,null,2,null,null,null,null,null,null,null,null,null,null,null,1,1,1,null,null,null,null,null,null,null,null,null,null,null,null,null,null,null,null,null,null,null,null,null,null,1,{"$f":"IF(AZ177=1,G177,0)","v":0},{"$f":"IF(AZ177=2,G177,0)","v":0},{"$f":"IF(AZ177=3,G177,0)","v":0},{"$f":"IF(AZ177=4,G177,0)","v":0},{"$f":"IF(AZ177=5,G177,0)","v":0},null,null,null,null,null,null,null,null,null,null,null,null,null,null,null,null,null,null,null,null,null,1,1]
[null,null,"Výtlak VA PE D 110x10,0 mm - řízený protlak:428,85",null,428.85,null,null,null,null,null,null,null,"Výtlak VA PE D 110x10,0 mm - řízený protlak:428,85"]
[28,"877242121R00","Přirážka za 1 spoj elektrotvarovky d 90 mm ","kus",16,null,{"$f":"E179*F179","v":0},0,{"$f":"E179*H179","v":0},0,{"$f":"E179*J179","v":0},null,null,null,2,null,null,null,null,null,null,null,null,null,null,null,1,1,1,null,null,null,null,null,null,null,null,null,null,null,null,null,null,null,null,null,null,null,null,null,null,1,{"$f":"IF(AZ179=1,G179,0)","v":0},{"$f":"IF(AZ179=2,G179,0)","v":0},{"$f":"IF(AZ179=3,G179,0)","v":0},{"$f":"IF(AZ179=4,G179,0)","v":0},{"$f":"IF(AZ179=5,G179,0)","v":0},null,null,null,null,null,null,null,null,null,null,null,null,null,null,null,null,null,null,null,null,null,1,1]
[null,null,"Výtlaky VA, VC a V-AE:",null,0,null,null,null,null,null,null,null,"Výtlaky VA, VC a V-AE:"]
[null,null,"Elektrospojka d 90:7",null,7,null,null,null,null,null,null,null,"Elektrospojka d 90:7"]
[null,null,"Oblouk 11° d 90:3",null,3,null,null,null,null,null,null,null,"Oblouk 11° d 90:3"]
[null,null,"Elektrokoleno 30° d 90:1",null,1,null,null,null,null,null,null,null,"Elektrokoleno 30° d 90:1"]
[null,null,"Elektrokoleno 45° d 90:5",null,5,null,null,null,null,null,null,null,"Elektrokoleno 45° d 90:5"]
[29,"877252121R00","Přirážka za 1 spoj elektrotvarovky d 110 mm ","kus",33,null,{"$f":"E185*F185","v":0},0,{"$f":"E185*H185","v":0},0,{"$f":"E185*J185","v":0},null,null,null,2,null,null,null,null,null,null,null,null,null,null,null,1,1,1,null,null,null,null,null,null,null,null,null,null,null,null,null,null,null,null,null,null,null,null,null,null,1,{"$f":"IF(AZ185=1,G185,0)","v":0},{"$f":"IF(AZ185=2,G185,0)","v":0},{"$f":"IF(AZ185=3,G185,0)","v":0},{"$f":"IF(AZ185=4,G185,0)","v":0},{"$f":"IF(AZ185=5,G185,0)","v":0},null,null,null,null,null,null,null,null,null,null,null,null,null,null,null,null,null,null,null,null,null,1,1]
[null,null,"Výtlaky VA, VC a V-AE:",null,0,null,null,null,null,null,null,null,"Výtlaky VA, VC a V-AE:"]
[null,null,"Elektrospojka d 110:",null,0,null,null,null,null,null,null,null,"Elektrospojka d 110:"]
[null,null,"Elektrokoleno 11° d 110:21",null,21,null,null,null,null,null,null,null,"Elektrokoleno 11° d 110:21"]
[null,null,"Elektrokoleno 30° d 110:2",null,2,null,null,null,null,null,null,null,"Elektrokoleno 30° d 110:2"]
[null,null,"Elektrokoleno 45° d 110:10",null,10,null,null,null,null,null,null,null,"Elektrokoleno 45° d 110:10"]
[30,"891213321R00","Montáž ventilů odvzdušňovacích přírub. DN 50 ","kus",2,null,{"$f":"E191*F191","v":0},2.1000000000000001E-4,{"$f":"E191*H191","v":4.2000000000000002E-4},0,{"$f":"E191*J191","v":0},null,null,null,2,null,null,null,null,null,null,null,null,null,null,null,1,1,1,null,null,null,null,null,null,null,null,null,null,null,null,null,null,null,null,null,null,null,null,null,null,1,{"$f":"IF(AZ191=1,G191,0)","v":0},{"$f":"IF(AZ191=2,G191,0)","v":0},{"$f":"IF(AZ191=3,G191,0)","v":0},{"$f":"IF(AZ191=4,G191,0)","v":0},{"$f":"IF(AZ191=5,G191,0)","v":0},null,null,null,null,null,null,null,null,null,null,null,null,null,null,null,null,null,null,null,null,null,1,1]
[31,"891241111R00","Montáž vodovodních šoupátek ve výkopu DN 80 ","kus",1,null,{"$f":"E192*F192","v":0},2.2000000000000001E-4,{"$f":"E192*H192","v":2.2000000000000001E-4},0,{"$f":"E192*J192","v":0},null,null,null,2,null,null,null,null,null,null,null,null,null,null,null,1,1,1,null,null,null,null,null,null,null,null,null,null,null,null,null,null,null,null,null,null,null,null,null,null,1,{"$f":"IF(AZ192=1,G192,0)","v":0},{"$f":"IF(AZ192=2,G192,0)","v":0},{"$f":"IF(AZ192=3,G192,0)","v":0},{"$f":"IF(AZ192=4,G192,0)","v":0},{"$f":"IF(AZ192=5,G192,0)","v":0},null,null,null,null,null,null,null,null,null,null,null,null,null,null,null,null,null,null,null,null,null,1,1]
[null,null,"Výtlaky VA, VC a V-AE:",null,0,null,null,null,null,null,null,null,"Výtlaky VA, VC a V-AE:"]
[null,null,"Š DN80:1",null,1,null,null,null,null,null,null,null,"Š DN80:1"]
[32,"891241221R00","Montáž vodovod. šoupátek šacht. kolečko DN 80 ","kus",1,null,{"$f":"E195*F195","v":0},2.2000000000000001E-4,{"$f":"E195*H195","v":2.2000000000000001E-4},0,{"$f":"E195*J195","v":0},null,null,null,2,null,null,null,null,null,null,null,null,null,null,null,1,1,1,null,null,null,null,null,null,null,null,null,null,null,null,null,null,null,null,null,null,null,null,null,null,1,{"$f":"IF(AZ195=1,G195,0)","v":0},{"$f":"IF(AZ195=2,G195,0)","v":0},{"$f":"IF(AZ195=3,G195,0)","v":0},{"$f":"IF(AZ195=4,G195,0)","v":0},{"$f":"IF(AZ195=5,G195,0)","v":0},null,null,null,null,null,null,null,null,null,null,null,null,null,null,null,null,null,null,null,null,null,1,1]
[null,null,"Položka je určena pro montáž vodovodních šoupátek v šachtách s ručním kolečkem. ",null,null,null,null,null,null,null,null,"Položka je určena pro montáž vodovodních šoupátek v šachtách s ručním kolečkem. ",null,null,3]
[null,null,"Výtlaky VA, VC a V-AE:",null,0,null,null,null,null,null,null,null,"Výtlaky VA, VC a V-AE:"]
[null,null,"Š DN80:1",null,1,null,null,null,null,null,null,null,"Š DN80:1"]
[33,"891245321R00","Montáž zpětných klapek DN 80 ","kus",1,null,{"$f":"E199*F199","v":0},2.2000000000000001E-4,{"$f":"E199*H199","v":2.2000000000000001E-4},0,{"$f":"E199*J199","v":0},null,null,null,2,null,null,null,null,null,null,null,null,null,null,null,1,1,1,null,null,null,null,null,null,null,null,null,null,null,null,null,null,null,null,null,null,null,null,null,null,1,{"$f":"IF(AZ199=1,G199,0)","v":0},{"$f":"IF(AZ199=2,G199,0)","v":0},{"$f":"IF(AZ199=3,G199,0)","v":0},{"$f":"IF(AZ199=4,G199,0)","v":0},{"$f":"IF(AZ199=5,G199,0)","v":0},null,null,null,null,null,null,null,null,null,null,null,null,null,null,null,null,null,null,null,null,null,1,1]
[null,null,"Výtlaky VA, VC a V-AE:",null,0,null,null,null,null,null,null,null,"Výtlaky VA, VC a V-AE:"]
[null,null,"ZK DN80:1",null,1,null,null,null,null,null,null,null,"ZK DN80:1"]
[34,"891247112RRX","Montáž proplachovací soupravy DN80 ","kus",1,null,{"$f":"E202*F202","v":0},1.1E-4,{"$f":"E202*H202","v":1.1E-4},0,{"$f":"E202*J202","v":0},null,null,null,2,null,null,null,null,null,null,null,null,null,null,null,1,1,1,null,null,null,null,null,null,null,null,null,null,null,null,null,null,null,null,null,null,null,null,null,null,1,{"$f":"IF(AZ202=1,G202,0)","v":0},{"$f":"IF(AZ202=2,G202,0)","v":0},{"$f":"IF(AZ202=3,G202,0)","v":0},{"$f":"IF(AZ202=4,G202,0)","v":0},{"$f":"IF(AZ202=5,G202,0)","v":0},null,null,null,null,null,null,null,null,null,null,null,null,null,null,null,null,null,null,null,null,null,1,1]
[null,null,"Položka je určena pro montáž proplachovací podzemních soupravy (bez osazení poklopů) na potrubí.",null,null,null,null,null,null,null,null,"Položka je určena pro montáž proplachovací podzemních soupravy (bez osazení poklopů) na potrubí.",null,null,3]
[null,null,"Výtlaky VA, VC a V-AE:",null,0,null,null,null,null,null,null,null,"Výtlaky VA, VC a V-AE:"]
[null,null,"PS DN80/1,5:1",null,1,null,null,null,null,null,null,null,"PS DN80/1,5:1"]
[35,"891261221R00","Montáž vodovod. šoupátek šacht. kolečko DN 100 ","kus",1,null,{"$f":"E206*F206","v":0},4.0999999999999999E-4,{"$f":"E206*H206","v":4.0999999999999999E-4},0,{"$f":"E206*J206","v":0},null,null,null,2,null,null,null,null,null,null,null,null,null,null,null,1,1,1,null,null,null,null,null,null,null,null,null,null,null,null,null,null,null,null,null,null,null,null,null,null,1,{"$f":"IF(AZ206=1,G206,0)","v":0},{"$f":"IF(AZ206=2,G206,0)","v":0},{"$f":"IF(AZ206=3,G206,0)","v":0},{"$f":"IF(AZ206=4,G206,0)","v":0},{"$f":"IF(AZ206=5,G206,0)","v":0},null,null,null,null,null,null,null,null,null,null,null,null,null,null,null,null,null,null,null,null,null,1,1]
[null,null,"Položka je určena pro montáž vodovodních šoupátek v šachtách s ručním kolečkem. ",null,null,null,null,null,null,null,null,"Položka je určena pro montáž vodovodních šoupátek v šachtách s ručním kolečkem. ",null,null,3]
[null,null,"Výtlaky VA, VC a V-AE:",null,0,null,null,null,null,null,null,null,"Výtlaky VA, VC a V-AE:"]
[null,null,"Š DN100:1",null,1,null,null,null,null,null,null,null,"Š DN100:1"]
[36,"891265321R00","Montáž zpětných klapek DN 100 ","kus",1,null,{"$f":"E210*F210","v":0},4.0999999999999999E-4,{"$f":"E210*H210","v":4.0999999999999999E-4},0,{"$f":"E210*J210","v":0},null,null,null,2,null,null,null,null,null,null,null,null,null,null,null,1,1,1,null,null,null,null,null,null,null,null,null,null,null,null,null,null,null,null,null,null,null,null,null,null,1,{"$f":"IF(AZ210=1,G210,0)","v":0},{"$f":"IF(AZ210=2,G210,0)","v":0},{"$f":"IF(AZ210=3,G210,0)","v":0},{"$f":"IF(AZ210=4,G210,0)","v":0},{"$f":"IF(AZ210=5,G210,0)","v":0},null,null,null,null,null,null,null,null,null,null,null,null,null,null,null,null,null,null,null,null,null,1,1]
[null,null,"Výtlaky VA, VC a V-AE:",null,0,null,null,null,null,null,null,null,"Výtlaky VA, VC a V-AE:"]
[null,null,"ZK DN100:1",null,1,null,null,null,null,null,null,null,"ZK DN100:1"]
[37,"892230076RRX","Čištění potrubí včetně zkoušky průchodnosti do DN100","m",830.24,null,{"$f":"E213*F213","v":0},0,{"$f":"E213*H213","v":0},0,{"$f":"E213*J213","v":0},null,null,null,2,null,null,null,null,null,null,null,null,null,null,null,1,9,9,null,null,null,null,null,null,null,null,null,null,null,null,null,null,null,null,null,null,null,null,null,null,1,{"$f":"IF(AZ213=1,G213,0)","v":0},{"$f":"IF(AZ213=2,G213,0)","v":0},{"$f":"IF(AZ213=3,G213,0)","v":0},{"$f":"IF(AZ213=4,G213,0)","v":0},{"$f":"IF(AZ213=5,G213,0)","v":0},null,null,null,null,null,null,null,null,null,null,null,null,null,null,null,null,null,null,null,null,null,1,9]
[null,null,"Výtlak VA PE D 110x10,0 mm - řízený protlak:428,85",null,428.85,null,null,null,null,null,null,null,"Výtlak VA PE D 110x10,0 mm - řízený protlak:428,85"]
[null,null,"Výtlak VA PE D 110x10,0 mm - rýha:118,89",null,118.89,null,null,null,null,null,null,null,"Výtlak VA PE D 110x10,0 mm - rýha:118,89"]
[null,null,"Výtlak VC PE D 90x8,2 mm - rýha:177,50",null,177.5,null,null,null,null,null,null,null,"Výtlak VC PE D 90x8,2 mm - rýha:177,50"]
[null,null,"Výtlak V-AE PE D 90x8,2 mm - rýha:105,00",null,105,null,null,null,null,null,null,null,"Výtlak V-AE PE D 90x8,2 mm - rýha:105,00"]
[38,"892241111R00","Tlaková zkouška potrubí kanalizačního výtlakuDN80 ","m",282.5,null,{"$f":"E218*F218","v":0},0,{"$f":"E218*H218","v":0},0,{"$f":"E218*J218","v":0},null,null,null,2,null,null,null,null,null,null,null,null,null,null,null,1,1,1,null,null,null,null,null,null,null,null,null,null,null,null,null,null,null,null,null,null,null,null,null,null,1,{"$f":"IF(AZ218=1,G218,0)","v":0},{"$f":"IF(AZ218=2,G218,0)","v":0},{"$f":"IF(AZ218=3,G218,0)","v":0},{"$f":"IF(AZ218=4,G218,0)","v":0},{"$f":"IF(AZ218=5,G218,0)","v":0},null,null,null,null,null,null,null,null,null,null,null,null,null,null,null,null,null,null,null,null,null,1,1]
[null,null,"V položce jsou započteny náklady na přísun, montáž, demontáž a odsun zkoušecího čerpadla, napuštění tlakovou vodou a dodání vody pro tlakovou zkoušku.",null,null,null,null,null,null,null,null,"V položce jsou započteny náklady na přísun, montáž, demontáž a odsun zkoušecího čerpadla, napuštění tlakovou vodou a dodání vody pro tlakovou zkoušku.",null,null,3]
[null,null,"Součástí položky je i zajištění konců zkoušeného potrubí.",null,null,null,null,null,null,null,null,"Součástí položky je i zajištění konců zkoušeného potrubí.",null,null,3]
[null,null,"Výtlak VC PE D 90x8,2 mm:177,50",null,177.5,null,null,null,null,null,null,null,"Výtlak VC PE D 90x8,2 mm:177,50"]
[null,null,"Výtlak V-AE PE D 90x8,2 mm:105,00",null,105,null,null,null,null,null,null,null,"Výtlak V-AE PE D 90x8,2 mm:105,00"]
[39,"892271111R00","Tlaková zkouška potrubí kanalizačního výtlak DN125 ","m",1609.74,null,{"$f":"E223*F223","v":0},0,{"$f":"E223*H223","v":0},0,{"$f":"E223*J223","v":0},null,null,null,2,null,null,null,null,null,null,null,null,null,null,null,1,1,1,null,null,null,null,null,null,null,null,null,null,null,null,null,null,null,null,null,null,null,null,null,null,1,{"$f":"IF(AZ223=1,G223,0)","v":0},{"$f":"IF(AZ223=2,G223,0)","v":0},{"$f":"IF(AZ223=3,G223,0)","v":0},{"$f":"IF(AZ223=4,G223,0)","v":0},{"$f":"IF(AZ223=5,G223,0)","v":0},null,null,null,null,null,null,null,null,null,null,null,null,null,null,null,null,null,null,null,null,null,1,1]
[null,null,"V položce jsou započteny náklady na přísun, montáž, demontáž a odsun zkoušecího čerpadla, napuštění tlakovou vodou a dodání vody pro tlakovou zkoušku.",null,null,null,null,null,null,null,null,"V položce jsou započteny náklady na přísun, montáž, demontáž a odsun zkoušecího čerpadla, napuštění tlakovou vodou a dodání vody pro tlakovou zkoušku.",null,null,3]
[null,null,"Součástí položky je i zajištění konců zkoušeného potrubí.",null,null,null,null,null,null,null,null,"Součástí položky je i zajištění konců zkoušeného potrubí.",null,null,3]
[null,null,"Výtlak VA PE D 110x10,0 mm - řízený protlak:428,85",null,428.85,null,null,null,null,null,null,null,"Výtlak VA PE D 110x10,0 mm - řízený protlak:428,85"]
[null,null,"Výtlak VA PE D 110x10,0 mm - rýha:1180,89",null,1180.8900000000001,null,null,null,null,null,null,null,"Výtlak VA PE D 110x10,0 mm - rýha:1180,89"]
[40,"894421112RT1","Osazení betonových dílců šachet skruže rovné, na kroužek, do 1,4 t","kus",2,null,{"$f":"E228*F228","v":0},0,{"$f":"E228*H228","v":0},0,{"$f":"E228*J228","v":0},null,null,null,2,null,null,null,null,null,null,null,null,null,null,null,1,1,1,null,null,null,null,null,null,null,null,null,null,null,null,null,null,null,null,null,null,null,null,null,null,1,{"$f":"IF(AZ228=1,G228,0)","v":0},{"$f":"IF(AZ228=2,G228,0)","v":0},{"$f":"IF(AZ228=3,G228,0)","v":0},{"$f":"IF(AZ228=4,G228,0)","v":0},{"$f":"IF(AZ228=5,G228,0)","v":0},null,null,null,null,null,null,null,null,null,null,null,null,null,null,null,null,null,null,null,null,null,1,1]
[null,null,"Položka je určena pro osazení betonových dílců šachet dle DIN 4034, skruže rovné na kroužek, hmotnost přes 0,5 do 1,4 t.",null,null,null,null,null,null,null,null,"Položka je určena pro osazení betonových dílců šachet dle DIN 4034, skruže rovné na kroužek, hmotnost přes 0,5 do 1,4 t.",null,null,3]
[null,null,"V položce nejsou zakalkulovány náklady na dodání betonových dílců; dílce se oceňují ve specifikaci.",null,null,null,null,null,null,null,null,"V položce nejsou zakalkulovány náklady na dodání betonových dílců; dílce se oceňují ve specifikaci.",null,null,3]
[null,null,"Výtlaky VA, VC a V-AE:",null,0,null,null,null,null,null,null,null,"Výtlaky VA, VC a V-AE:"]
[null,null,"Skruž H50:2",null,2,null,null,null,null,null,null,null,"Skruž H50:2"]
[41,"894422111RT1","Osazení betonových dílců šachet skruže přechodové, na kroužek","kus",1,null,{"$f":"E233*F233","v":0},0,{"$f":"E233*H233","v":0},0,{"$f":"E233*J233","v":0},null,null,null,2,null,null,null,null,null,null,null,null,null,null,null,1,1,1,null,null,null,null,null,null,null,null,null,null,null,null,null,null,null,null,null,null,null,null,null,null,1,{"$f":"IF(AZ233=1,G233,0)","v":0},{"$f":"IF(AZ233=2,G233,0)","v":0},{"$f":"IF(AZ233=3,G233,0)","v":0},{"$f":"IF(AZ233=4,G233,0)","v":0},{"$f":"IF(AZ233=5,G233,0)","v":0},null,null,null,null,null,null,null,null,null,null,null,null,null,null,null,null,null,null,null,null,null,1,1]
[null,null,"Položka je určena pro osazení betonových dílců šachet dle DIN 4034, skruže přechodové na kroužek.",null,null,null,null,null,null,null,null,"Položka je určena pro osazení betonových dílců šachet dle DIN 4034, skruže přechodové na kroužek.",null,null,3]
[null,null,"V položce nejsou zakalkulovány náklady na dodání betonových dílců",null,null,null,null,null,null,null,null,"V položce nejsou zakalkulovány náklady na dodání betonových dílců",null,null,3]
[null,null,"Výtlaky VA, VC a V-AE:",null,0,null,null,null,null,null,null,null,"Výtlaky VA, VC a V-AE:"]
[null,null,"Kónus H60:1",null,1,null,null,null,null,null,null,null,"Kónus H60:1"]
[42,"894423111RT1","Osazení betonových dílců šachet šachtová dna, na kroužek, do 2,0 t","kus",1,null,{"$f":"E238*F238","v":0},0,{"$f":"E238*H238","v":0},0,{"$f":"E238*J238","v":0},null,null,null,2,null,null,null,null,null,null,null,null,null,null,null,1,1,1,null,null,null,null,null,null,null,null,null,null,null,null,null,null,null,null,null,null,null,null,null,null,1,{"$f":"IF(AZ238=1,G238,0)","v":0},{"$f":"IF(AZ238=2,G238,0)","v":0},{"$f":"IF(AZ238=3,G238,0)","v":0},{"$f":"IF(AZ238=4,G238,0)","v":0},{"$f":"IF(AZ238=5,G238,0)","v":0},null,null,null,null,null,null,null,null,null,null,null,null,null,null,null,null,null,null,null,null,null,1,1]
[null,null,"Položka je určena pro osazení betonových dílců šachet dle DIN 4034, šachtová dna na kroužek, hmotnost do 2,0 t.",null,null,null,null,null,null,null,null,"Položka je určena pro osazení betonových dílců šachet dle DIN 4034, šachtová dna na kroužek, hmotnost do 2,0 t.",null,null,3]
[null,null,"V položce nejsou zakalkulovány náklady na dodání betonových dílců;",null,null,null,null,null,null,null,null,"V položce nejsou zakalkulovány náklady na dodání betonových dílců;",null,null,3]
[null,null,"Výtlaky VA, VC a V-AE:",null,0,null,null,null,null,null,null,null,"Výtlaky VA, VC a V-AE:"]
[null,null,"ŠD:1",null,1,null,null,null,null,null,null,null,"ŠD:1"]
[43,"899000022R00","Armaturní ŽB šachta AŠ 1 dle PD ","m3 OP",14.96,null,{"$f":"E243*F243","v":0},0,{"$f":"E243*H243","v":0},0,{"$f":"E243*J243","v":0},null,null,null,2,null,null,null,null,null,null,null,null,null,null,null,1,1,1,null,null,null,null,null,null,null,null,null,null,null,null,null,null,null,null,null,null,null,null,null,null,1,{"$f":"IF(AZ243=1,G243,0)","v":0},{"$f":"IF(AZ243=2,G243,0)","v":0},{"$f":"IF(AZ243=3,G243,0)","v":0},{"$f":"IF(AZ243=4,G243,0)","v":0},{"$f":"IF(AZ243=5,G243,0)","v":0},null,null,null,null,null,null,null,null,null,null,null,null,null,null,null,null,null,null,null,null,null,1,1]
[null,null,"Kompletní provedení ŽB šachty dle výkresové dokumentace včetně zemních prací,podkladního betomu, štěrkopísku, izolací, poklopů a stupadel..Celková váha výztuže 526 kg.",null,null,null,null,null,null,null,null,"Kompletní provedení šachty dle výkresové dokumentace včetně zemních prací,podkladního betomu, štěrkopísku, izolací, poklopů a stupadel..",null,null,3]
[null,null,"AŠ1:14,96",null,14.96,null,null,null,null,null,null,null,"AŠ1:14,96"]
[44,"899103111RT2","Osazení poklopu s rámem do 150 kg včetně dodávky poklopu lit. kruhového D 400 dle PD","kus",1,null,{"$f":"E246*F246","v":0},0.13102,{"$f":"E246*H246","v":0.13102},0,{"$f":"E246*J246","v":0},null,null,null,2,null,null,null,null,null,null,null,null,null,null,null,1,1,1,null,null,null,null,null,null,null,null,null,null,null,null,null,null,null,null,null,null,null,null,null,null,1,{"$f":"IF(AZ246=1,G246,0)","v":0},{"$f":"IF(AZ246=2,G246,0)","v":0},{"$f":"IF(AZ246=3,G246,0)","v":0},{"$f":"IF(AZ246=4,G246,0)","v":0},{"$f":"IF(AZ246=5,G246,0)","v":0},null,null,null,null,null,null,null,null,null,null,null,null,null,null,null,null,null,null,null,null,null,1,1]
[null,null,"Poklop se znakem a nápisem názvu obce. ",null,null,null,null,null,null,null,null,"Poklop se znakem a nápisem názvu obce. ",null,null,3]
[null,null,"Poznámka :",null,null,null,null,null,null,null,null,"Poznámka :",null,null,3]
[null,null,"Platí pro všechny objekty stavby.",null,null,null,null,null,null,null,null,"Platí pro všechny objekty stavby.",null,null,3]
[45,"899401112R00","Osazení poklopů litinových šoupátkových včetně podkladové desky nebo samonivelačních","kus",1,null,{"$f":"E250*F250","v":0},0.11178,{"$f":"E250*H250","v":0.11178},0,{"$f":"E250*J250","v":0},null,null,null,2,null,null,null,null,null,null,null,null,null,null,null,1,1,1,null,null,null,null,null,null,null,null,null,null,null,null,null,null,null,null,null,null,null,null,null,null,1,{"$f":"IF(AZ250=1,G250,0)","v":0},{"$f":"IF(AZ250=2,G250,0)","v":0},{"$f":"IF(AZ250=3,G250,0)","v":0},{"$f":"IF(AZ250=4,G250,0)","v":0},{"$f":"IF(AZ250=5,G250,0)","v":0},null,null,null,null,null,null,null,null,null,null,null,null,null,null,null,null,null,null,null,null,null,1,1]
[null,null,"V položkách osazení poklopů jsou zakalkulovány i náklady na osazení podkladové desky nebo osazení poklopů samonivelačních.",null,null,null,null,null,null,null,null,"V položkách osazení poklopů jsou zakalkulovány i náklady na osazení podkladové desky nebo osazení poklopů samonivelačních.",null,null,3]
[null,null,"Výtlaky VA, VC a V-AE:",null,0,null,null,null,null,null,null,null,"Výtlaky VA, VC a V-AE:"]
[null,null,"Š DN80:1",null,1,null,null,null,null,null,null,null,"Š DN80:1"]
[46,"899401113R00","Osazení poklopů litinových hydrantových včetně podkladové desky nebo samonivelačních","kus",1,null,{"$f":"E254*F254","v":0},0.29823,{"$f":"E254*H254","v":0.29823},0,{"$f":"E254*J254","v":0},null,null,null,2,null,null,null,null,null,null,null,null,null,null,null,1,1,1,null,null,null,null,null,null,null,null,null,null,null,null,null,null,null,null,null,null,null,null,null,null,1,{"$f":"IF(AZ254=1,G254,0)","v":0},{"$f":"IF(AZ254=2,G254,0)","v":0},{"$f":"IF(AZ254=3,G254,0)","v":0},{"$f":"IF(AZ254=4,G254,0)","v":0},{"$f":"IF(AZ254=5,G254,0)","v":0},null,null,null,null,null,null,null,null,null,null,null,null,null,null,null,null,null,null,null,null,null,1,1]
[null,null,"V položkách osazení poklopů jsou zakalkulovány i náklady na osazení podkladové desky.",null,null,null,null,null,null,null,null,"V položkách osazení poklopů jsou zakalkulovány i náklady na osazení podkladové desky.",null,null,3]
[null,null,"Výtlaky VA, VC a V-AE:",null,0,null,null,null,null,null,null,null,"Výtlaky VA, VC a V-AE:"]
[null,null,"PS DN80/1,5:1",null,1,null,null,null,null,null,null,null,"PS DN80/1,5:1"]
[47,"899721112R00","Fólie výstražná z PVC, šířka 30 cm ","m",1463.39,null,{"$f":"E258*F258","v":0},0,{"$f":"E258*H258","v":0},0,{"$f":"E258*J258","v":0},null,null,null,2,null,null,null,null,null,null,null,null,null,null,null,1,1,1,null,null,null,null,null,null,null,null,null,null,null,null,null,null,null,null,null,null,null,null,null,null,1,{"$f":"IF(AZ258=1,G258,0)","v":0},{"$f":"IF(AZ258=2,G258,0)","v":0},{"$f":"IF(AZ258=3,G258,0)","v":0},{"$f":"IF(AZ258=4,G258,0)","v":0},{"$f":"IF(AZ258=5,G258,0)","v":0},null,null,null,null,null,null,null,null,null,null,null,null,null,null,null,null,null,null,null,null,null,1,1]
[null,null,"Výtlak VA PE D 110x10,0 mm - rýha:1180,89",null,1180.8900000000001,null,null,null,null,null,null,null,"Výtlak VA PE D 110x10,0 mm - rýha:1180,89"]
[null,null,"Výtlak VC PE D 90x8,2 mm - rýha:177,50",null,177.5,null,null,null,null,null,null,null,"Výtlak VC PE D 90x8,2 mm - rýha:177,50"]
[null,null,"Výtlak V-AE PE D 90x8,2 mm - rýha:105,00",null,105,null,null,null,null,null,null,null,"Výtlak V-AE PE D 90x8,2 mm - rýha:105,00"]
[48,"899731113R00","Vodič signalizační CYY 4 mm2 proměření včetně revize vodiče","m",1892.24,null,{"$f":"E262*F262","v":0},5.0000000000000002E-5,{"$f":"E262*H262","v":9.4612000000000002E-2},0,{"$f":"E262*J262","v":0},null,null,null,2,null,null,null,null,null,null,null,null,null,null,null,1,1,1,null,null,null,null,null,null,null,null,null,null,null,null,null,null,null,null,null,null,null,null,null,null,1,{"$f":"IF(AZ262=1,G262,0)","v":0},{"$f":"IF(AZ262=2,G262,0)","v":0},{"$f":"IF(AZ262=3,G262,0)","v":0},{"$f":"IF(AZ262=4,G262,0)","v":0},{"$f":"IF(AZ262=5,G262,0)","v":0},null,null,null,null,null,null,null,null,null,null,null,null,null,null,null,null,null,null,null,null,null,1,1]
[null,null,"Výtlak VA PE D 110x10,0 mm - řízený protlak:428,85",null,428.85,null,null,null,null,null,null,null,"Výtlak VA PE D 110x10,0 mm - řízený protlak:428,85"]
[null,null,"Výtlak VA PE D 110x10,0 mm - rýha:1180,89",null,1180.8900000000001,null,null,null,null,null,null,null,"Výtlak VA PE D 110x10,0 mm - rýha:1180,89"]
[null,null,"Výtlak VC PE D 90x8,2 mm - rýha:177,50",null,177.5,null,null,null,null,null,null,null,"Výtlak VC PE D 90x8,2 mm - rýha:177,50"]
[null,null,"Výtlak V-AE PE D 90x8,2 mm - rýha:105,00",null,105,null,null,null,null,null,null,null,"Výtlak V-AE PE D 90x8,2 mm - rýha:105,00"]
[49,"899731114R00","Vodič signalizační CYY 6 mm2 proměření včetně revize vodiče","m",1892.24,null,{"$f":"E267*F267","v":0},8.0000000000000007E-5,{"$f":"E267*H267","v":0.15137920000000002},0,{"$f":"E267*J267","v":0},null,null,null,2,null,null,null,null,null,null,null,null,null,null,null,1,1,1,null,null,null,null,null,null,null,null,null,null,null,null,null,null,null,null,null,null,null,null,null,null,1,{"$f":"IF(AZ267=1,G267,0)","v":0},{"$f":"IF(AZ267=2,G267,0)","v":0},{"$f":"IF(AZ267=3,G267,0)","v":0},{"$f":"IF(AZ267=4,G267,0)","v":0},{"$f":"IF(AZ267=5,G267,0)","v":0},null,null,null,null,null,null,null,null,null,null,null,null,null,null,null,null,null,null,null,null,null,1,1]
[null,null,"Výtlak VA PE D 110x10,0 mm - řízený protlak:428,85",null,428.85,null,null,null,null,null,null,null,"Výtlak VA PE D 110x10,0 mm - řízený protlak:428,85"]
[null,null,"Výtlak VA PE D 110x10,0 mm - rýha:1180,89",null,1180.8900000000001,null,null,null,null,null,null,null,"Výtlak VA PE D 110x10,0 mm - rýha:1180,89"]
[null,null,"Výtlak VC PE D 90x8,2 mm - rýha:177,50",null,177.5,null,null,null,null,null,null,null,"Výtlak VC PE D 90x8,2 mm - rýha:177,50"]
[null,null,"Výtlak V-AE PE D 90x8,2 mm - rýha:105,00",null,105,null,null,null,null,null,null,null,"Výtlak V-AE PE D 90x8,2 mm - rýha:105,00"]
[50,"28613009.M","Elektrospojka d 90 mm PE100 SDR11","kus",7.1050000000000004,null,{"$f":"E272*F272","v":0},6.9999999999999994E-5,{"$f":"E272*H272","v":4.9735000000000003E-4},null,{"$f":"E272*J272","v":0},null,null,null,2,null,null,null,null,null,null,null,null,null,null,null,3,1,"28613009.M",null,null,null,null,null,null,null,null,null,null,null,null,null,null,null,null,null,null,null,null,null,null,1,{"$f":"IF(AZ272=1,G272,0)","v":0},{"$f":"IF(AZ272=2,G272,0)","v":0},{"$f":"IF(AZ272=3,G272,0)","v":0},{"$f":"IF(AZ272=4,G272,0)","v":0},{"$f":"IF(AZ272=5,G272,0)","v":0},null,null,null,null,null,null,null,null,null,null,null,null,null,null,null,null,null,null,null,null,null,3,1]
[null,null,"Výtlaky VA, VC a V-AE:",null,0,null,null,null,null,null,null,null,"Výtlaky VA, VC a V-AE:"]
[null,null,"Elektrospojka d 90:7*1,015",null,7.1050000000000004,null,null,null,null,null,null,null,"Elektrospojka d 90:7*1,015"]
[51,"28613010.M","Elektrospojka d 110 mm PE100 SDR11","kus",96.424999999999997,null,{"$f":"E275*F275","v":0},6.9999999999999994E-5,{"$f":"E275*H275","v":6.7497499999999988E-3},null,{"$f":"E275*J275","v":0},null,null,null,2,null,null,null,null,null,null,null,null,null,null,null,3,1,"28613010.M",null,null,null,null,null,null,null,null,null,null,null,null,null,null,null,null,null,null,null,null,null,null,1,{"$f":"IF(AZ275=1,G275,0)","v":0},{"$f":"IF(AZ275=2,G275,0)","v":0},{"$f":"IF(AZ275=3,G275,0)","v":0},{"$f":"IF(AZ275=4,G275,0)","v":0},{"$f":"IF(AZ275=5,G275,0)","v":0},null,null,null,null,null,null,null,null,null,null,null,null,null,null,null,null,null,null,null,null,null,3,1]
[null,null,"Výtlaky VA, VC a V-AE:",null,0,null,null,null,null,null,null,null,"Výtlaky VA, VC a V-AE:"]
[null,null,"Elektrospojka d 110:95*1,015",null,96.424999999999997,null,null,null,null,null,null,null,"Elektrospojka d 110:95*1,015"]
[52,"28613038.M","Elektrokoleno 30° d 90 mm PE100 SDR11","kus",1.0149999999999999,null,{"$f":"E278*F278","v":0},6.9999999999999994E-5,{"$f":"E278*H278","v":7.1049999999999992E-5},null,{"$f":"E278*J278","v":0},null,null,null,2,null,null,null,null,null,null,null,null,null,null,null,3,1,"28613038.M",null,null,null,null,null,null,null,null,null,null,null,null,null,null,null,null,null,null,null,null,null,null,1,{"$f":"IF(AZ278=1,G278,0)","v":0},{"$f":"IF(AZ278=2,G278,0)","v":0},{"$f":"IF(AZ278=3,G278,0)","v":0},{"$f":"IF(AZ278=4,G278,0)","v":0},{"$f":"IF(AZ278=5,G278,0)","v":0},null,null,null,null,null,null,null,null,null,null,null,null,null,null,null,null,null,null,null,null,null,3,1]
[null,null,"Výtlaky VA, VC a V-AE:",null,0,null,null,null,null,null,null,null,"Výtlaky VA, VC a V-AE:"]
[null,null,"Elektrokoleno 30° d 90:1*1,015",null,1.0149999999999999,null,null,null,null,null,null,null,"Elektrokoleno 30° d 90:1*1,015"]
[53,"28613039.M","Elektrokoleno 45° d 90 mm PE100 SDR11","kus",5.0750000000000002,null,{"$f":"E281*F281","v":0},6.9999999999999994E-5,{"$f":"E281*H281","v":3.5524999999999999E-4},null,{"$f":"E281*J281","v":0},null,null,null,2,null,null,null,null,null,null,null,null,null,null,null,3,1,"28613039.M",null,null,null,null,null,null,null,null,null,null,null,null,null,null,null,null,null,null,null,null,null,null,1,{"$f":"IF(AZ281=1,G281,0)","v":0},{"$f":"IF(AZ281=2,G281,0)","v":0},{"$f":"IF(AZ281=3,G281,0)","v":0},{"$f":"IF(AZ281=4,G281,0)","v":0},{"$f":"IF(AZ281=5,G281,0)","v":0},null,null,null,null,null,null,null,null,null,null,null,null,null,null,null,null,null,null,null,null,null,3,1]
[null,null,"Výtlaky VA, VC a V-AE:",null,0,null,null,null,null,null,null,null,"Výtlaky VA, VC a V-AE:"]
[null,null,"Elektrokoleno 45° d 90:5*1,015",null,5.0750000000000002,null,null,null,null,null,null,null,"Elektrokoleno 45° d 90:5*1,015"]
[54,"28613050.M","Elektrokoleno 11° d 110 mm PE100 SDR11","kus",21.315000000000001,null,{"$f":"E284*F284","v":0},6.9999999999999994E-5,{"$f":"E284*H284","v":1.49205E-3},null,{"$f":"E284*J284","v":0},null,null,null,2,null,null,null,null,null,null,null,null,null,null,null,3,1,"28613050.M",null,null,null,null,null,null,null,null,null,null,null,null,null,null,null,null,null,null,null,null,null,null,1,{"$f":"IF(AZ284=1,G284,0)","v":0},{"$f":"IF(AZ284=2,G284,0)","v":0},{"$f":"IF(AZ284=3,G284,0)","v":0},{"$f":"IF(AZ284=4,G284,0)","v":0},{"$f":"IF(AZ284=5,G284,0)","v":0},null,null,null,null,null,null,null,null,null,null,null,null,null,null,null,null,null,null,null,null,null,3,1]
[null,null,"Výtlaky VA, VC a V-AE:",null,0,null,null,null,null,null,null,null,"Výtlaky VA, VC a V-AE:"]
[null,null,"Elektrokoleno 11° d 110:21*1,015",null,21.315000000000001,null,null,null,null,null,null,null,"Elektrokoleno 11° d 110:21*1,015"]
[55,"28613052.M","Elektrokoleno 30° d 110 mm PE100 SDR11","kus",2.0299999999999998,null,{"$f":"E287*F287","v":0},6.9999999999999994E-5,{"$f":"E287*H287","v":1.4209999999999998E-4},null,{"$f":"E287*J287","v":0},null,null,null,2,null,null,null,null,null,null,null,null,null,null,null,3,1,"28613052.M",null,null,null,null,null,null,null,null,null,null,null,null,null,null,null,null,null,null,null,null,null,null,1,{"$f":"IF(AZ287=1,G287,0)","v":0},{"$f":"IF(AZ287=2,G287,0)","v":0},{"$f":"IF(AZ287=3,G287,0)","v":0},{"$f":"IF(AZ287=4,G287,0)","v":0},{"$f":"IF(AZ287=5,G287,0)","v":0},null,null,null,null,null,null,null,null,null,null,null,null,null,null,null,null,null,null,null,null,null,3,1]
[null,null,"Výtlaky VA, VC a V-AE:",null,0,null,null,null,null,null,null,null,"Výtlaky VA, VC a V-AE:"]
[null,null,"Elektrokoleno 30° d 110:2*1,015",null,2.0299999999999998,null,null,null,null,null,null,null,"Elektrokoleno 30° d 110:2*1,015"]
[56,"28613053.M","Elektrokoleno 45° d 110 mm PE100 SDR11","kus",10.15,null,{"$f":"E290*F290","v":0},6.9999999999999994E-5,{"$f":"E290*H290","v":7.1049999999999998E-4},null,{"$f":"E290*J290","v":0},null,null,null,2,null,null,null,null,null,null,null,null,null,null,null,3,1,"28613053.M",null,null,null,null,null,null,null,null,null,null,null,null,null,null,null,null,null,null,null,null,null,null,1,{"$f":"IF(AZ290=1,G290,0)","v":0},{"$f":"IF(AZ290=2,G290,0)","v":0},{"$f":"IF(AZ290=3,G290,0)","v":0},{"$f":"IF(AZ290=4,G290,0)","v":0},{"$f":"IF(AZ290=5,G290,0)","v":0},null,null,null,null,null,null,null,null,null,null,null,null,null,null,null,null,null,null,null,null,null,3,1]
[null,null,"Výtlaky VA, VC a V-AE:",null,0,null,null,null,null,null,null,null,"Výtlaky VA, VC a V-AE:"]
[null,null,"Elektrokoleno 45° d 110:10*1,015",null,10.15,null,null,null,null,null,null,null,"Elektrokoleno 45° d 110:10*1,015"]
[57,"28613230.M","Oblouk 11° d 90 mm PE100 SDR11","kus",3.0449999999999999,null,{"$f":"E293*F293","v":0},6.9999999999999994E-5,{"$f":"E293*H293","v":2.1314999999999998E-4},null,{"$f":"E293*J293","v":0},null,null,null,2,null,null,null,null,null,null,null,null,null,null,null,3,1,"28613230.M",null,null,null,null,null,null,null,null,null,null,null,null,null,null,null,null,null,null,null,null,null,null,1,{"$f":"IF(AZ293=1,G293,0)","v":0},{"$f":"IF(AZ293=2,G293,0)","v":0},{"$f":"IF(AZ293=3,G293,0)","v":0},{"$f":"IF(AZ293=4,G293,0)","v":0},{"$f":"IF(AZ293=5,G293,0)","v":0},null,null,null,null,null,null,null,null,null,null,null,null,null,null,null,null,null,null,null,null,null,3,1]
[null,null,"Výtlaky VA, VC a V-AE:",null,0,null,null,null,null,null,null,null,"Výtlaky VA, VC a V-AE:"]
[null,null,"Oblouk 11° d 90:3*1,015",null,3.0449999999999999,null,null,null,null,null,null,null,"Oblouk 11° d 90:3*1,015"]
[58,"286134450","Trubka tlaková PE100RC D SDR11  90x8,2 mm kanalizace","m",286.73750000000001,null,{"$f":"E296*F296","v":0},2.1199999999999999E-3,{"$f":"E296*H296","v":0.60788350000000002},null,{"$f":"E296*J296","v":0},null,null,null,2,null,null,null,null,null,null,null,null,null,null,null,3,1,286134450,null,null,null,null,null,null,null,null,null,null,null,null,null,null,null,null,null,null,null,null,null,null,1,{"$f":"IF(AZ296=1,G296,0)","v":0},{"$f":"IF(AZ296=2,G296,0)","v":0},{"$f":"IF(AZ296=3,G296,0)","v":0},{"$f":"IF(AZ296=4,G296,0)","v":0},{"$f":"IF(AZ296=5,G296,0)","v":0},null,null,null,null,null,null,null,null,null,null,null,null,null,null,null,null,null,null,null,null,null,3,1]
[null,null,"Trubky kanalizační z PE100RC podle ČSN EN 12201 s ochranným pláštěm",null,null,null,null,null,null,null,null,"Trubky kanalizační z PE100RC podle ČSN EN 12201 s ochranným pláštěm",null,null,3]
[null,null,"RC Dvnitřní trubka černá s hnědými pruhy",null,null,null,null,null,null,null,null,"RC Dvnitřní trubka černá s hnědými pruhy",null,null,3]
[null,null,"vnější ochranná vrstva z PP barvy hnědé",null,null,null,null,null,null,null,null,"vnější ochranná vrstva z PP barvy hnědé",null,null,3]
[null,null,"Výtlak VC PE D 90x8,2 mm:177,50*1,015",null,180.16249999999999,null,null,null,null,null,null,null,"Výtlak VC PE D 90x8,2 mm:177,50*1,015"]
[null,null,"Výtlak V-AE PE D 90x8,2 mm:105,00*1,015",null,106.575,null,null,null,null,null,null,null,"Výtlak V-AE PE D 90x8,2 mm:105,00*1,015"]
[59,"286134455","Trubka tlaková PE100RC D SDR11 110x10,0 mm tyče kanalizace","m",1198.6034,null,{"$f":"E302*F302","v":0},2.1199999999999999E-3,{"$f":"E302*H302","v":2.5410392079999999},null,{"$f":"E302*J302","v":0},null,null,null,2,null,null,null,null,null,null,null,null,null,null,null,3,1,286134455,null,null,null,null,null,null,null,null,null,null,null,null,null,null,null,null,null,null,null,null,null,null,1,{"$f":"IF(AZ302=1,G302,0)","v":0},{"$f":"IF(AZ302=2,G302,0)","v":0},{"$f":"IF(AZ302=3,G302,0)","v":0},{"$f":"IF(AZ302=4,G302,0)","v":0},{"$f":"IF(AZ302=5,G302,0)","v":0},null,null,null,null,null,null,null,null,null,null,null,null,null,null,null,null,null,null,null,null,null,3,1]
[null,null,"Trubky kanalizační z PE100RC podle ČSN EN 12201 s ochranným pláštěm",null,null,null,null,null,null,null,null,"Trubky kanalizační z PE100RC podle ČSN EN 12201 s ochranným pláštěm",null,null,3]
[null,null,"RC Dvnitřní trubka černá s hnědými pruhy",null,null,null,null,null,null,null,null,"RC Dvnitřní trubka černá s hnědými pruhy",null,null,3]
[null,null,"vnější ochranná vrstva z PP barvy hnědé",null,null,null,null,null,null,null,null,"vnější ochranná vrstva z PP barvy hnědé",null,null,3]
[null,null,"Výtlak VA PE D 110x10,0 mm - rýha:1180,89*1,015",null,1198.6034,null,null,null,null,null,null,null,"Výtlak VA PE D 110x10,0 mm - rýha:1180,89*1,015"]
[60,"42200400.07","Jistící příruba \"Systém 2000\" 80/90 č.0400","kus",3,null,{"$f":"E307*F307","v":0},1.8499999999999999E-2,{"$f":"E307*H307","v":5.5499999999999994E-2},null,{"$f":"E307*J307","v":0},null,null,null,2,null,null,null,null,null,null,null,null,null,null,null,3,1,42200400.07,null,null,null,null,null,null,null,null,null,null,null,null,null,null,null,null,null,null,null,null,null,null,1,{"$f":"IF(AZ307=1,G307,0)","v":0},{"$f":"IF(AZ307=2,G307,0)","v":0},{"$f":"IF(AZ307=3,G307,0)","v":0},{"$f":"IF(AZ307=4,G307,0)","v":0},{"$f":"IF(AZ307=5,G307,0)","v":0},null,null,null,null,null,null,null,null,null,null,null,null,null,null,null,null,null,null,null,null,null,3,1]
[null,null,"Výtlaky VA, VC a V-AE:",null,0,null,null,null,null,null,null,null,"Výtlaky VA, VC a V-AE:"]
[null,null,"Jištěná příruba DN80:3",null,3,null,null,null,null,null,null,null,"Jištěná příruba DN80:3"]
[61,"42200400.08","Jistící příruba \"Systém 2000\" 100/110 č.0400","kus",2,null,{"$f":"E310*F310","v":0},1.8499999999999999E-2,{"$f":"E310*H310","v":3.6999999999999998E-2},null,{"$f":"E310*J310","v":0},null,null,null,2,null,null,null,null,null,null,null,null,null,null,null,3,1,42200400.079999998,null,null,null,null,null,null,null,null,null,null,null,null,null,null,null,null,null,null,null,null,null,null,1,{"$f":"IF(AZ310=1,G310,0)","v":0},{"$f":"IF(AZ310=2,G310,0)","v":0},{"$f":"IF(AZ310=3,G310,0)","v":0},{"$f":"IF(AZ310=4,G310,0)","v":0},{"$f":"IF(AZ310=5,G310,0)","v":0},null,null,null,null,null,null,null,null,null,null,null,null,null,null,null,null,null,null,null,null,null,3,1]
[null,null,"Výtlaky VA, VC a V-AE:",null,0,null,null,null,null,null,null,null,"Výtlaky VA, VC a V-AE:"]
[null,null,"Jištěná příruba DN100:2",null,2,null,null,null,null,null,null,null,"Jištěná příruba DN100:2"]
[62,"42200810.02","Souprava podz.proplachovací na odp. 80/1,50 pro odpadní vodu","kus",1,null,{"$f":"E313*F313","v":0},1.1299999999999999E-2,{"$f":"E313*H313","v":1.1299999999999999E-2},null,{"$f":"E313*J313","v":0},null,null,null,2,null,null,null,null,null,null,null,null,null,null,null,3,1,42200810.020000003,null,null,null,null,null,null,null,null,null,null,null,null,null,null,null,null,null,null,null,null,null,null,1,{"$f":"IF(AZ313=1,G313,0)","v":0},{"$f":"IF(AZ313=2,G313,0)","v":0},{"$f":"IF(AZ313=3,G313,0)","v":0},{"$f":"IF(AZ313=4,G313,0)","v":0},{"$f":"IF(AZ313=5,G313,0)","v":0},null,null,null,null,null,null,null,null,null,null,null,null,null,null,null,null,null,null,null,null,null,3,1]
[null,null,"Výtlaky VA, VC a V-AE:",null,0,null,null,null,null,null,null,null,"Výtlaky VA, VC a V-AE:"]
[null,null,"PS DN80/1,5:1",null,1,null,null,null,null,null,null,null,"PS DN80/1,5:1"]
[63,"42201750.SM","Poklop uliční šoupátkový č.1750 - samonivelační","kus",1,null,{"$f":"E316*F316","v":0},1.1299999999999999E-2,{"$f":"E316*H316","v":1.1299999999999999E-2},null,{"$f":"E316*J316","v":0},null,null,null,2,null,null,null,null,null,null,null,null,null,null,null,3,1,"42201750.SM",null,null,null,null,null,null,null,null,null,null,null,null,null,null,null,null,null,null,null,null,null,null,1,{"$f":"IF(AZ316=1,G316,0)","v":0},{"$f":"IF(AZ316=2,G316,0)","v":0},{"$f":"IF(AZ316=3,G316,0)","v":0},{"$f":"IF(AZ316=4,G316,0)","v":0},{"$f":"IF(AZ316=5,G316,0)","v":0},null,null,null,null,null,null,null,null,null,null,null,null,null,null,null,null,null,null,null,null,null,3,1]
[null,null,"Výtlaky VA, VC a V-AE:",null,0,null,null,null,null,null,null,null,"Výtlaky VA, VC a V-AE:"]
[null,null,"Š DN80:1",null,1,null,null,null,null,null,null,null,"Š DN80:1"]
[64,"42201950.SN","Poklop  hydrantů č.1950 samonivelační","kus",1,null,{"$f":"E319*F319","v":0},1.1299999999999999E-2,{"$f":"E319*H319","v":1.1299999999999999E-2},null,{"$f":"E319*J319","v":0},null,null,null,2,null,null,null,null,null,null,null,null,null,null,null,3,1,"42201950.SN",null,null,null,null,null,null,null,null,null,null,null,null,null,null,null,null,null,null,null,null,null,null,1,{"$f":"IF(AZ319=1,G319,0)","v":0},{"$f":"IF(AZ319=2,G319,0)","v":0},{"$f":"IF(AZ319=3,G319,0)","v":0},{"$f":"IF(AZ319=4,G319,0)","v":0},{"$f":"IF(AZ319=5,G319,0)","v":0},null,null,null,null,null,null,null,null,null,null,null,null,null,null,null,null,null,null,null,null,null,3,1]
[null,null,"Výtlaky VA, VC a V-AE:",null,0,null,null,null,null,null,null,null,"Výtlaky VA, VC a V-AE:"]
[null,null,"PS DN80/1,5:1",null,1,null,null,null,null,null,null,null,"PS DN80/1,5:1"]
[65,"42204000.03","Šoupátko DN80 č. 4000 E2","kus",2,null,{"$f":"E322*F322","v":0},1.8499999999999999E-2,{"$f":"E322*H322","v":3.6999999999999998E-2},null,{"$f":"E322*J322","v":0},null,null,null,2,null,null,null,null,null,null,null,null,null,null,null,3,1,42204000.030000001,null,null,null,null,null,null,null,null,null,null,null,null,null,null,null,null,null,null,null,null,null,null,1,{"$f":"IF(AZ322=1,G322,0)","v":0},{"$f":"IF(AZ322=2,G322,0)","v":0},{"$f":"IF(AZ322=3,G322,0)","v":0},{"$f":"IF(AZ322=4,G322,0)","v":0},{"$f":"IF(AZ322=5,G322,0)","v":0},null,null,null,null,null,null,null,null,null,null,null,null,null,null,null,null,null,null,null,null,null,3,1]
[null,null,"Šoupátko přírubové krkové - měkcetěsnící klínové šoupátko s hladkým a volným průtokovým kanálem",null,null,null,null,null,null,null,null,"Šoupátko přírubové krkové - měkcetěsnící klínové šoupátko s hladkým a volným průtokovým kanálem",null,null,3]
[null,null,"č. 4000 E2",null,null,null,null,null,null,null,null,"č. 4000 E2",null,null,3]
[null,null,"PN 16",null,null,null,null,null,null,null,null,"PN 16",null,null,3]
[null,null,"DN 80",null,null,null,null,null,null,null,null,"DN 80",null,null,3]
[null,null,"těleso a víko: tvárná litina GGG 400 - DIN 1693",null,null,null,null,null,null,null,null,"těleso a víko: tvárná litina GGG 400 - DIN 1693",null,null,3]
[null,null,"medium: pitná voda, neagresivní odpadní voda",null,null,null,null,null,null,null,null,"medium: pitná voda, neagresivní odpadní voda",null,null,3]
[null,null,"Výtlaky VA, VC a V-AE:",null,0,null,null,null,null,null,null,null,"Výtlaky VA, VC a V-AE:"]
[null,null,"Š DN80:2",null,2,null,null,null,null,null,null,null,"Š DN80:2"]
[66,"42204000.04","Šoupátko DN100 č. 4000 E2","kus",1,null,{"$f":"E331*F331","v":0},1.8499999999999999E-2,{"$f":"E331*H331","v":1.8499999999999999E-2},null,{"$f":"E331*J331","v":0},null,null,null,2,null,null,null,null,null,null,null,null,null,null,null,3,1,42204000.039999999,null,null,null,null,null,null,null,null,null,null,null,null,null,null,null,null,null,null,null,null,null,null,1,{"$f":"IF(AZ331=1,G331,0)","v":0},{"$f":"IF(AZ331=2,G331,0)","v":0},{"$f":"IF(AZ331=3,G331,0)","v":0},{"$f":"IF(AZ331=4,G331,0)","v":0},{"$f":"IF(AZ331=5,G331,0)","v":0},null,null,null,null,null,null,null,null,null,null,null,null,null,null,null,null,null,null,null,null,null,3,1]
[null,null,"Šoupátko přírubové krkové - měkcetěsnící klínové šoupátko s hladkým a volným průtokovým kanálem",null,null,null,null,null,null,null,null,"Šoupátko přírubové krkové - měkcetěsnící klínové šoupátko s hladkým a volným průtokovým kanálem",null,null,3]
[null,null,"č. 4000 E2",null,null,null,null,null,null,null,null,"č. 4000 E2",null,null,3]
[null,null,"PN 16",null,null,null,null,null,null,null,null,"PN 16",null,null,3]
[null,null,"DN 100",null,null,null,null,null,null,null,null,"DN 100",null,null,3]
[null,null,"těleso a víko: tvárná litina GGG 400 - DIN 1693",null,null,null,null,null,null,null,null,"těleso a víko: tvárná litina GGG 400 - DIN 1693",null,null,3]
[null,null,"medium: pitná voda, neagresivní odpadní voda",null,null,null,null,null,null,null,null,"medium: pitná voda, neagresivní odpadní voda",null,null,3]
[null,null,"Výtlaky VA, VC a V-AE:",null,0,null,null,null,null,null,null,null,"Výtlaky VA, VC a V-AE:"]
[null,null,"Š DN100:1",null,1,null,null,null,null,null,null,null,"Š DN100:1"]
[67,"42207800.01","Ruční kolo pro šoupátko DN 65-80","kus",1,null,{"$f":"E340*F340","v":0},6.1999999999999998E-3,{"$f":"E340*H340","v":6.1999999999999998E-3},null,{"$f":"E340*J340","v":0},null,null,null,2,null,null,null,null,null,null,null,null,null,null,null,3,1,42207800.009999998,null,null,null,null,null,null,null,null,null,null,null,null,null,null,null,null,null,null,null,null,null,null,1,{"$f":"IF(AZ340=1,G340,0)","v":0},{"$f":"IF(AZ340=2,G340,0)","v":0},{"$f":"IF(AZ340=3,G340,0)","v":0},{"$f":"IF(AZ340=4,G340,0)","v":0},{"$f":"IF(AZ340=5,G340,0)","v":0},null,null,null,null,null,null,null,null,null,null,null,null,null,null,null,null,null,null,null,null,null,3,1]
[null,null,"Ruční kolo uzavírací pro šoupátka z šsdé litiny GG 250 s epoxidovou ochrannou vrstvou.",null,null,null,null,null,null,null,null,"Ruční kolo uzavírací pro šoupátka z šsdé litiny GG 250 s epoxidovou ochrannou vrstvou.",null,null,3]
[null,null,"Pro Š DN65-80.",null,null,null,null,null,null,null,null,"Pro Š DN65-80.",null,null,3]
[null,null,"Výtlaky VA, VC a V-AE:",null,0,null,null,null,null,null,null,null,"Výtlaky VA, VC a V-AE:"]
[null,null,"Š DN80:1",null,1,null,null,null,null,null,null,null,"Š DN80:1"]
[68,"42207800.02","Ruční kolo pro šoupátko DN100","kus",1,null,{"$f":"E345*F345","v":0},6.1999999999999998E-3,{"$f":"E345*H345","v":6.1999999999999998E-3},null,{"$f":"E345*J345","v":0},null,null,null,2,null,null,null,null,null,null,null,null,null,null,null,3,1,42207800.020000003,null,null,null,null,null,null,null,null,null,null,null,null,null,null,null,null,null,null,null,null,null,null,1,{"$f":"IF(AZ345=1,G345,0)","v":0},{"$f":"IF(AZ345=2,G345,0)","v":0},{"$f":"IF(AZ345=3,G345,0)","v":0},{"$f":"IF(AZ345=4,G345,0)","v":0},{"$f":"IF(AZ345=5,G345,0)","v":0},null,null,null,null,null,null,null,null,null,null,null,null,null,null,null,null,null,null,null,null,null,3,1]
[null,null,"Ruční kolo uzavírací pro šoupátka z šsdé litiny GG 250 s epoxidovou ochrannou vrstvou.",null,null,null,null,null,null,null,null,"Ruční kolo uzavírací pro šoupátka z šsdé litiny GG 250 s epoxidovou ochrannou vrstvou.",null,null,3]
[null,null,"Pro Š DN100.",null,null,null,null,null,null,null,null,"Pro Š DN100.",null,null,3]
[null,null,"Výtlaky VA, VC a V-AE:",null,0,null,null,null,null,null,null,null,"Výtlaky VA, VC a V-AE:"]
[null,null,"Š DN100:1",null,1,null,null,null,null,null,null,null,"Š DN100:1"]
[69,"42209500.01","Zemní souprava teleskop. č.9500 E2 DN50-100 (1,30 - 1,80 m)","kus",1,null,{"$f":"E350*F350","v":0},5.4000000000000003E-3,{"$f":"E350*H350","v":5.4000000000000003E-3},null,{"$f":"E350*J350","v":0},null,null,null,2,null,null,null,null,null,null,null,null,null,null,null,3,1,42209500.009999998,null,null,null,null,null,null,null,null,null,null,null,null,null,null,null,null,null,null,null,null,null,null,1,{"$f":"IF(AZ350=1,G350,0)","v":0},{"$f":"IF(AZ350=2,G350,0)","v":0},{"$f":"IF(AZ350=3,G350,0)","v":0},{"$f":"IF(AZ350=4,G350,0)","v":0},{"$f":"IF(AZ350=5,G350,0)","v":0},null,null,null,null,null,null,null,null,null,null,null,null,null,null,null,null,null,null,null,null,null,3,1]
[null,null,"Výtlaky VA, VC a V-AE:",null,0,null,null,null,null,null,null,null,"Výtlaky VA, VC a V-AE:"]
[null,null,"Š DN80:1",null,1,null,null,null,null,null,null,null,"Š DN80:1"]
[70,"42209831.03","Zpetná klapka DN 80","kus",1,null,{"$f":"E353*F353","v":0},2.8E-3,{"$f":"E353*H353","v":2.8E-3},null,{"$f":"E353*J353","v":0},null,null,null,2,null,null,null,null,null,null,null,null,null,null,null,3,1,42209831.030000001,null,null,null,null,null,null,null,null,null,null,null,null,null,null,null,null,null,null,null,null,null,null,1,{"$f":"IF(AZ353=1,G353,0)","v":0},{"$f":"IF(AZ353=2,G353,0)","v":0},{"$f":"IF(AZ353=3,G353,0)","v":0},{"$f":"IF(AZ353=4,G353,0)","v":0},{"$f":"IF(AZ353=5,G353,0)","v":0},null,null,null,null,null,null,null,null,null,null,null,null,null,null,null,null,null,null,null,null,null,3,1]
[null,null,"Výtlaky VA, VC a V-AE:",null,0,null,null,null,null,null,null,null,"Výtlaky VA, VC a V-AE:"]
[null,null,"ZK DN80:1",null,1,null,null,null,null,null,null,null,"ZK DN80:1"]
[71,"42209831.04","Zpetná klapka DN 100","kus",1,null,{"$f":"E356*F356","v":0},2.8E-3,{"$f":"E356*H356","v":2.8E-3},null,{"$f":"E356*J356","v":0},null,null,null,2,null,null,null,null,null,null,null,null,null,null,null,3,1,42209831.039999999,null,null,null,null,null,null,null,null,null,null,null,null,null,null,null,null,null,null,null,null,null,null,1,{"$f":"IF(AZ356=1,G356,0)","v":0},{"$f":"IF(AZ356=2,G356,0)","v":0},{"$f":"IF(AZ356=3,G356,0)","v":0},{"$f":"IF(AZ356=4,G356,0)","v":0},{"$f":"IF(AZ356=5,G356,0)","v":0},null,null,null,null,null,null,null,null,null,null,null,null,null,null,null,null,null,null,null,null,null,3,1]
[null,null,"Výtlaky VA, VC a V-AE:",null,0,null,null,null,null,null,null,null,"Výtlaky VA, VC a V-AE:"]
[null,null,"ZK DN100:1",null,1,null,null,null,null,null,null,null,"ZK DN100:1"]
[72,"42209864.02","Ventil odvzdušňovací č.9863 DN50 PN16 - nerez","kus",2,null,{"$f":"E359*F359","v":0},2.8E-3,{"$f":"E359*H359","v":5.5999999999999999E-3},null,{"$f":"E359*J359","v":0},null,null,null,2,null,null,null,null,null,null,null,null,null,null,null,3,1,42209864.020000003,null,null,null,null,null,null,null,null,null,null,null,null,null,null,null,null,null,null,null,null,null,null,1,{"$f":"IF(AZ359=1,G359,0)","v":0},{"$f":"IF(AZ359=2,G359,0)","v":0},{"$f":"IF(AZ359=3,G359,0)","v":0},{"$f":"IF(AZ359=4,G359,0)","v":0},{"$f":"IF(AZ359=5,G359,0)","v":0},null,null,null,null,null,null,null,null,null,null,null,null,null,null,null,null,null,null,null,null,null,3,1]
[null,null,"Výtlaky VA, VC a V-AE:",null,0,null,null,null,null,null,null,null,"Výtlaky VA, VC a V-AE:"]
[null,null,"VZD DN50:2",null,2,null,null,null,null,null,null,null,"VZD DN50:2"]
[73,"55251213","Trouba přír.litin. FF DN 80 dl. 250 mm","kus",2,null,{"$f":"E362*F362","v":0},9.7000000000000003E-3,{"$f":"E362*H362","v":1.9400000000000001E-2},null,{"$f":"E362*J362","v":0},null,null,null,2,null,null,null,null,null,null,null,null,null,null,null,3,1,55251213,null,null,null,null,null,null,null,null,null,null,null,null,null,null,null,null,null,null,null,null,null,null,1,{"$f":"IF(AZ362=1,G362,0)","v":0},{"$f":"IF(AZ362=2,G362,0)","v":0},{"$f":"IF(AZ362=3,G362,0)","v":0},{"$f":"IF(AZ362=4,G362,0)","v":0},{"$f":"IF(AZ362=5,G362,0)","v":0},null,null,null,null,null,null,null,null,null,null,null,null,null,null,null,null,null,null,null,null,null,3,1]
[null,null,"Výtlaky VA, VC a V-AE:",null,0,null,null,null,null,null,null,null,"Výtlaky VA, VC a V-AE:"]
[null,null,"FF DN80/250:2",null,2,null,null,null,null,null,null,null,"FF DN80/250:2"]
[74,"55251218.A","Trouba přír.litin. FF DN80 dl.600mm s jištěním","kus",1,null,{"$f":"E365*F365","v":0},1.29E-2,{"$f":"E365*H365","v":1.29E-2},null,{"$f":"E365*J365","v":0},null,null,null,2,null,null,null,null,null,null,null,null,null,null,null,3,1,"55251218.A",null,null,null,null,null,null,null,null,null,null,null,null,null,null,null,null,null,null,null,null,null,null,1,{"$f":"IF(AZ365=1,G365,0)","v":0},{"$f":"IF(AZ365=2,G365,0)","v":0},{"$f":"IF(AZ365=3,G365,0)","v":0},{"$f":"IF(AZ365=4,G365,0)","v":0},{"$f":"IF(AZ365=5,G365,0)","v":0},null,null,null,null,null,null,null,null,null,null,null,null,null,null,null,null,null,null,null,null,null,3,1]
[null,null,"Výtlaky VA, VC a V-AE:",null,0,null,null,null,null,null,null,null,"Výtlaky VA, VC a V-AE:"]
[null,null,"FF DN80/600:1",null,1,null,null,null,null,null,null,null,"FF DN80/600:1"]
[75,"55251248.A","Trouba přír.litin. FF DN100 dl.600mm s jištěním","kus",3,null,{"$f":"E368*F368","v":0},1.55E-2,{"$f":"E368*H368","v":4.65E-2},null,{"$f":"E368*J368","v":0},null,null,null,2,null,null,null,null,null,null,null,null,null,null,null,3,1,"55251248.A",null,null,null,null,null,null,null,null,null,null,null,null,null,null,null,null,null,null,null,null,null,null,1,{"$f":"IF(AZ368=1,G368,0)","v":0},{"$f":"IF(AZ368=2,G368,0)","v":0},{"$f":"IF(AZ368=3,G368,0)","v":0},{"$f":"IF(AZ368=4,G368,0)","v":0},{"$f":"IF(AZ368=5,G368,0)","v":0},null,null,null,null,null,null,null,null,null,null,null,null,null,null,null,null,null,null,null,null,null,3,1]
[null,null,"Výtlaky VA, VC a V-AE:",null,0,null,null,null,null,null,null,null,"Výtlaky VA, VC a V-AE:"]
[null,null,"FF DN100/600:3",null,3,null,null,null,null,null,null,null,"FF DN100/600:3"]
[76,"552599937","Tvarovka přír. s přír. odb. T DN80/50mm","kus",1,null,{"$f":"E371*F371","v":0},1.4E-2,{"$f":"E371*H371","v":1.4E-2},null,{"$f":"E371*J371","v":0},null,null,null,2,null,null,null,null,null,null,null,null,null,null,null,3,1,552599937,null,null,null,null,null,null,null,null,null,null,null,null,null,null,null,null,null,null,null,null,null,null,1,{"$f":"IF(AZ371=1,G371,0)","v":0},{"$f":"IF(AZ371=2,G371,0)","v":0},{"$f":"IF(AZ371=3,G371,0)","v":0},{"$f":"IF(AZ371=4,G371,0)","v":0},{"$f":"IF(AZ371=5,G371,0)","v":0},null,null,null,null,null,null,null,null,null,null,null,null,null,null,null,null,null,null,null,null,null,3,1]
[null,null,"Výtlaky VA, VC a V-AE:",null,0,null,null,null,null,null,null,null,"Výtlaky VA, VC a V-AE:"]
[null,null,"T DN80/50:1",null,1,null,null,null,null,null,null,null,"T DN80/50:1"]
[77,"552599941","Tvarovka přír. s přír. odb. T DN 100/50","kus",1,null,{"$f":"E374*F374","v":0},1.6500000000000001E-2,{"$f":"E374*H374","v":1.6500000000000001E-2},null,{"$f":"E374*J374","v":0},null,null,null,2,null,null,null,null,null,null,null,null,null,null,null,3,1,552599941,null,null,null,null,null,null,null,null,null,null,null,null,null,null,null,null,null,null,null,null,null,null,1,{"$f":"IF(AZ374=1,G374,0)","v":0},{"$f":"IF(AZ374=2,G374,0)","v":0},{"$f":"IF(AZ374=3,G374,0)","v":0},{"$f":"IF(AZ374=4,G374,0)","v":0},{"$f":"IF(AZ374=5,G374,0)","v":0},null,null,null,null,null,null,null,null,null,null,null,null,null,null,null,null,null,null,null,null,null,3,1]
[null,null,"Výtlaky VA, VC a V-AE:",null,0,null,null,null,null,null,null,null,"Výtlaky VA, VC a V-AE:"]
[null,null,"T DN100/50:1",null,1,null,null,null,null,null,null,null,"T DN100/50:1"]
[78,"552599943","Tvarovka přír. s přír. odb. T DN100/80mm","kus",1,null,{"$f":"E377*F377","v":0},1.78E-2,{"$f":"E377*H377","v":1.78E-2},null,{"$f":"E377*J377","v":0},null,null,null,2,null,null,null,null,null,null,null,null,null,null,null,3,1,552599943,null,null,null,null,null,null,null,null,null,null,null,null,null,null,null,null,null,null,null,null,null,null,1,{"$f":"IF(AZ377=1,G377,0)","v":0},{"$f":"IF(AZ377=2,G377,0)","v":0},{"$f":"IF(AZ377=3,G377,0)","v":0},{"$f":"IF(AZ377=4,G377,0)","v":0},{"$f":"IF(AZ377=5,G377,0)","v":0},null,null,null,null,null,null,null,null,null,null,null,null,null,null,null,null,null,null,null,null,null,3,1]
[null,null,"Výtlaky VA, VC a V-AE:",null,0,null,null,null,null,null,null,null,"Výtlaky VA, VC a V-AE:"]
[null,null,"T DN100/80:1",null,1,null,null,null,null,null,null,null,"T DN100/80:1"]
[79,"5526009702","Koleno přír.s patkou N DN 80","kus",1,null,{"$f":"E380*F380","v":0},1.2200000000000001E-2,{"$f":"E380*H380","v":1.2200000000000001E-2},null,{"$f":"E380*J380","v":0},null,null,null,2,null,null,null,null,null,null,null,null,null,null,null,3,1,5526009702,null,null,null,null,null,null,null,null,null,null,null,null,null,null,null,null,null,null,null,null,null,null,1,{"$f":"IF(AZ380=1,G380,0)","v":0},{"$f":"IF(AZ380=2,G380,0)","v":0},{"$f":"IF(AZ380=3,G380,0)","v":0},{"$f":"IF(AZ380=4,G380,0)","v":0},{"$f":"IF(AZ380=5,G380,0)","v":0},null,null,null,null,null,null,null,null,null,null,null,null,null,null,null,null,null,null,null,null,null,3,1]
[null,null,"Výtlaky VA, VC a V-AE:",null,0,null,null,null,null,null,null,null,"Výtlaky VA, VC a V-AE:"]
[null,null,"N DN80:1",null,1,null,null,null,null,null,null,null,"N DN80:1"]
[80,"59224353.R","Konus šachetní TBR-Q 600/1000x625/120 SPK","kus",1.01,null,{"$f":"E383*F383","v":0},0.59499999999999997,{"$f":"E383*H383","v":0.60094999999999998},null,{"$f":"E383*J383","v":0},null,null,null,2,null,null,null,null,null,null,null,null,null,null,null,3,1,"59224353.R",null,null,null,null,null,null,null,null,null,null,null,null,null,null,null,null,null,null,null,null,null,null,1,{"$f":"IF(AZ383=1,G383,0)","v":0},{"$f":"IF(AZ383=2,G383,0)","v":0},{"$f":"IF(AZ383=3,G383,0)","v":0},{"$f":"IF(AZ383=4,G383,0)","v":0},{"$f":"IF(AZ383=5,G383,0)","v":0},null,null,null,null,null,null,null,null,null,null,null,null,null,null,null,null,null,null,null,null,null,3,1]
[null,null,"Výtlaky VA, VC a V-AE:",null,0,null,null,null,null,null,null,null,"Výtlaky VA, VC a V-AE:"]
[null,null,"Kónus H60:1*1,01",null,1.01,null,null,null,null,null,null,null,"Kónus H60:1*1,01"]
[81,"592243555.R","Skruž šachetní TBS-Q 1000/500/120 SP","kus",2.02,null,{"$f":"E386*F386","v":0},0.51,{"$f":"E386*H386","v":1.0302},null,{"$f":"E386*J386","v":0},null,null,null,2,null,null,null,null,null,null,null,null,null,null,null,3,1,"592243555.R",null,null,null,null,null,null,null,null,null,null,null,null,null,null,null,null,null,null,null,null,null,null,1,{"$f":"IF(AZ386=1,G386,0)","v":0},{"$f":"IF(AZ386=2,G386,0)","v":0},{"$f":"IF(AZ386=3,G386,0)","v":0},{"$f":"IF(AZ386=4,G386,0)","v":0},{"$f":"IF(AZ386=5,G386,0)","v":0},null,null,null,null,null,null,null,null,null,null,null,null,null,null,null,null,null,null,null,null,null,3,1]
[null,null,"Výtlaky VA, VC a V-AE:",null,0,null,null,null,null,null,null,null,"Výtlaky VA, VC a V-AE:"]
[null,null,"Skruž H50:2*1,01",null,2.02,null,null,null,null,null,null,null,"Skruž H50:2*1,01"]
[82,"59224365.R","Dno šachetní TBZ-Q 150 - 635 včetně kynety dle PD","kus",1.01,null,{"$f":"E389*F389","v":0},1.1100000000000001,{"$f":"E389*H389","v":1.1211000000000002},null,{"$f":"E389*J389","v":0},null,null,null,2,null,null,null,null,null,null,null,null,null,null,null,3,1,"59224365.R",null,null,null,null,null,null,null,null,null,null,null,null,null,null,null,null,null,null,null,null,null,null,1,{"$f":"IF(AZ389=1,G389,0)","v":0},{"$f":"IF(AZ389=2,G389,0)","v":0},{"$f":"IF(AZ389=3,G389,0)","v":0},{"$f":"IF(AZ389=4,G389,0)","v":0},{"$f":"IF(AZ389=5,G389,0)","v":0},null,null,null,null,null,null,null,null,null,null,null,null,null,null,null,null,null,null,null,null,null,3,1]
[null,null,"Výtlaky VA, VC a V-AE:",null,0,null,null,null,null,null,null,null,"Výtlaky VA, VC a V-AE:"]
[null,null,"ŠD:1*1,01",null,1.01,null,null,null,null,null,null,null,"ŠD:1*1,01"]
[83,"59224373.R","Těsnění elastom pro šach díly EMT 100/1.7 - DN1000","kus",3.03,null,{"$f":"E392*F392","v":0},2E-3,{"$f":"E392*H392","v":6.0599999999999994E-3},null,{"$f":"E392*J392","v":0},null,null,null,2,null,null,null,null,null,null,null,null,null,null,null,3,1,"59224373.R",null,null,null,null,null,null,null,null,null,null,null,null,null,null,null,null,null,null,null,null,null,null,1,{"$f":"IF(AZ392=1,G392,0)","v":0},{"$f":"IF(AZ392=2,G392,0)","v":0},{"$f":"IF(AZ392=3,G392,0)","v":0},{"$f":"IF(AZ392=4,G392,0)","v":0},{"$f":"IF(AZ392=5,G392,0)","v":0},null,null,null,null,null,null,null,null,null,null,null,null,null,null,null,null,null,null,null,null,null,3,1]
[null,null,"Výtlaky VA, VC a V-AE:",null,0,null,null,null,null,null,null,null,"Výtlaky VA, VC a V-AE:"]
[null,null,"Těsnění:3*1,01",null,3.03,null,null,null,null,null,null,null,"Těsnění:3*1,01"]
[null,"Celkem za","8 Trubní vedení",null,null,null,{"$f":"SUM(G146:G394)","v":0},null,{"$f":"SUM(I146:I394)","v":7.0618451080000009},null,{"$f":"SUM(K146:K394)","v":0},null,null,null,4,null,null,null,null,null,null,null,null,null,null,null,null,null,null,null,null,null,null,null,null,null,null,null,null,null,null,null,null,null,null,null,null,null,null,null,null,null,{"$f":"SUM(BA146:BA394)","v":0},{"$f":"SUM(BB146:BB394)","v":0},{"$f":"SUM(BC146:BC394)","v":0},{"$f":"SUM(BD146:BD394)","v":0},{"$f":"SUM(BE146:BE394)","v":0}]
["Díl:","99","Staveništní přesun hmot",null,null,null,null,null,null,null,null,null,null,null,1]
[84,"998276101R00","Přesun hmot, trubní vedení plastová, otevř. výkop ","t",252.69943153200001,null,{"$f":"E397*F397","v":0},0,{"$f":"E397*H397","v":0},null,{"$f":"E397*J397","v":0},null,null,null,2,null,null,null,null,null,null,null,null,null,null,null,7,1,2,null,null,null,null,null,null,null,null,null,null,null,null,null,null,null,null,null,null,null,null,null,null,1,{"$f":"IF(AZ397=1,G397,0)","v":0},{"$f":"IF(AZ397=2,G397,0)","v":0},{"$f":"IF(AZ397=3,G397,0)","v":0},{"$f":"IF(AZ397=4,G397,0)","v":0},{"$f":"IF(AZ397=5,G397,0)","v":0},null,null,null,null,null,null,null,null,null,null,null,null,null,null,null,null,null,null,null,null,null,7,1]
[null,"Celkem za","99 Staveništní přesun hmot",null,null,null,{"$f":"SUM(G396:G397)","v":0},null,{"$f":"SUM(I396:I397)","v":0},null,{"$f":"SUM(K396:K397)","v":0},null,null,null,4,null,null,null,null,null,null,null,null,null,null,null,null,null,null,null,null,null,null,null,null,null,null,null,null,null,null,null,null,null,null,null,null,null,null,null,null,null,{"$f":"SUM(BA396:BA397)","v":0},{"$f":"SUM(BB396:BB397)","v":0},{"$f":"SUM(BC396:BC397)","v":0},{"$f":"SUM(BD396:BD397)","v":0},{"$f":"SUM(BE396:BE397)","v":0}]

{"sheet":"302 302.2RD KL","index":10,"n_rows":45,"n_cols":8,"rows_kept":45,"cut":false,"hidden":false,"merged":[[22,0,22,1],[7,2,7,4],[8,2,8,4],[9,2,9,4],[10,2,10,4],[11,2,11,4],[50,1,50,6],[29,5,29,6],[30,5,30,6],[31,5,31,6],[32,5,32,6],[33,5,33,6],[36,1,44,6],[45,1,45,6],[46,1,46,6],[47,1,47,6],[48,1,48,6],[49,1,49,6]]}
["POLOŽKOVÝ ROZPOČET"]
["Rozpočet",null,"302.2RD","Kanalizační výtlaky - km 1,618.79 - 4,197.00",null,"JKSO ","827.21.A1"]
[]
["Objekt",null,null,null,null,"SKP "]
["302",null,"Kanalizační výtlaky",null,null,"Měrná jednotka","m"]
["Stavba",null,null,null,null,"Počet jednotek",0]
["3232",null,"Horní Slivno - Splašková kanalizace",null,null,"Náklady na m.j.",{"$f":"IF(G6=0,,ROUND((F30+F32)/G6,1))","v":0}]
["Projektant",null,"Radek Hnát - VAK PROJEKT",null,null,"Typ rozpočtu"]
["Zpracovatel projektu"]
["Objednatel",null,"Obec Horní Slivno"]
["Dodavatel",null,".",null,null,"Zakázkové číslo "]
["Rozpočtoval",null,null,null,null,"Počet listů"]
["ROZPOČTOVÉ NÁKLADY"]
["Základní rozpočtové náklady"]
[null,"HSV celkem",{"$f":"'302 302.2RD Rek'!E11","v":0}]
["Z","PSV celkem",{"$f":"'302 302.2RD Rek'!F11","v":0}]
["R","M práce celkem",{"$f":"'302 302.2RD Rek'!H11","v":0}]
["N","M dodávky celkem",{"$f":"'302 302.2RD Rek'!G11","v":0}]
["ZRN celkem",null,{"$f":"SUM(C15:C18)","v":0}]
[]
["HZS",null,{"$f":"'302 302.2RD Rek'!I11","v":0}]
["ZRN+HZS",null,{"$f":"C19+C21","v":0}]
["ZRN+ost.náklady+HZS",null,{"$f":"C22+G23","v":0}]
["Vypracoval",null,null,"Za zhotovitele",null,"Za objednatele"]
["Jméno :",null,null,"Jméno :",null,"Jméno :"]
["Datum :",null,null,"Datum :",null,"Datum :"]
[]
["Podpis :",null,null,"Podpis:",null,"Podpis:"]
[]
["Základ pro DPH",null,21,"%  ",null,{"$f":"C23-F32","v":0}]
["DPH",null,{"$f":"C30","v":21},"% ",null,{"$f":"ROUND(PRODUCT(F30,C31/100),0)","v":0}]
["Základ pro DPH",null,0,"% ",null,0]
["DPH",null,{"$f":"C32","v":0},"% ",null,{"$f":"ROUND(PRODUCT(F32,C33/100),0)","v":0}]
["CENA ZA OBJEKT CELKEM",null,null,null,null,{"$f":"ROUND(SUM(F30:F33),0)","v":0}]
[]
["Poznámka :",null,null,null,null,null,null," "]
[null,null,null,null,null,null,null," "]
[null,null,null,null,null,null,null," "]
[null,null,null,null,null,null,null," "]
[null,null,null,null,null,null,null," "]
[null,null,null,null,null,null,null," "]
[null,null,null,null,null,null,null," "]
[null,null,null,null,null,null,null," "]
[null,null,null,null,null,null,null," "]
[null,null,null,null,null,null,null," "]

{"sheet":"302 302.2RD Rek","index":11,"n_rows":11,"n_cols":9,"rows_kept":11,"cut":false,"hidden":false,"merged":[[0,0,0,1],[1,0,1,1],[1,6,1,8]]}
["Stavba :",null,"3232 Horní Slivno - Splašková kanalizace",null,null,null,"Rozpočet :","302.2RD"]
["Objekt :",null,"302 Kanalizační výtlaky",null,null,null,"Kanalizační výtlaky - km 1,618.79 - 4,197.00"]
[]
["REKAPITULACE  STAVEBNÍCH  DÍLŮ"]
[]
[null,"Stavební díl",null,null,"HSV","PSV","Dodávka","Montáž","HZS"]
[{"$f":"'302 302.2RD Pol'!B7","v":"1"},{"$f":"'302 302.2RD Pol'!C7","v":"Zemní práce"},null,null,{"$f":"'302 302.2RD Pol'!BA122","v":0},{"$f":"'302 302.2RD Pol'!BB122","v":0},{"$f":"'302 302.2RD Pol'!BC122","v":0},{"$f":"'302 302.2RD Pol'!BD122","v":0},{"$f":"'302 302.2RD Pol'!BE122","v":0}]
[{"$f":"'302 302.2RD Pol'!B123","v":"45"},{"$f":"'302 302.2RD Pol'!C123","v":"Podkladní a vedlejší konstrukce"},null,null,{"$f":"'302 302.2RD Pol'!BA129","v":0},{"$f":"'302 302.2RD Pol'!BB129","v":0},{"$f":"'302 302.2RD Pol'!BC129","v":0},{"$f":"'302 302.2RD Pol'!BD129","v":0},{"$f":"'302 302.2RD Pol'!BE129","v":0}]
[{"$f":"'302 302.2RD Pol'!B130","v":"8"},{"$f":"'302 302.2RD Pol'!C130","v":"Trubní vedení"},null,null,{"$f":"'302 302.2RD Pol'!BA235","v":0},{"$f":"'302 302.2RD Pol'!BB235","v":0},{"$f":"'302 302.2RD Pol'!BC235","v":0},{"$f":"'302 302.2RD Pol'!BD235","v":0},{"$f":"'302 302.2RD Pol'!BE235","v":0}]
[{"$f":"'302 302.2RD Pol'!B236","v":"99"},{"$f":"'302 302.2RD Pol'!C236","v":"Staveništní přesun hmot"},null,null,{"$f":"'302 302.2RD Pol'!BA238","v":0},{"$f":"'302 302.2RD Pol'!BB238","v":0},{"$f":"'302 302.2RD Pol'!BC238","v":0},{"$f":"'302 302.2RD Pol'!BD238","v":0},{"$f":"'302 302.2RD Pol'!BE238","v":0}]
[null,"CELKEM  OBJEKT",null,null,{"$f":"SUM(E7:E10)","v":0},{"$f":"SUM(F7:F10)","v":0},{"$f":"SUM(G7:G10)","v":0},{"$f":"SUM(H7:H10)","v":0},{"$f":"SUM(I7:I10)","v":0}]

{"sheet":"302 302.2RD Pol","index":12,"n_rows":238,"n_cols":80,"rows_kept":238,"cut":false,"hidden":false,"merged":[[0,0,0,6],[2,0,2,1],[3,0,3,1],[3,4,3,6],[8,2,8,6],[9,2,9,6],[10,2,10,3],[11,2,11,3],[19,2,19,3],[20,2,20,3],[21,2,21,3],[22,2,22,3],[24,2,24,6],[25,2,25,6],[12,2,12,3],[13,2,13,3],[14,2,14,3],[15,2,15,3],[17,2,17,6],[18,2,18,6],[33,2,33,3],[34,2,34,3],[36,2,36,6],[37,2,37,6],[38,2,38,3],[39,2,39,3],[26,2,26,3],[27,2,27,3],[28,2,28,3],[29,2,29,3],[31,2,31,3],[32,2,32,3],[48,2,48,6],[49,2,49,6],[50,2,50,6],[51,2,51,3],[52,2,52,3],[53,2,53,3],[40,2,40,3],[41,2,41,3],[43,2,43,3],[44,2,44,3],[45,2,45,3],[46,2,46,3],[61,2,61,3],[62,2,62,3],[64,2,64,6],[65,2,65,3],[66,2,66,3],[68,2,68,6],[54,2,54,3],[56,2,56,6],[57,2,57,6],[58,2,58,6],[59,2,59,3],[60,2,60,3],[75,2,75,6],[76,2,76,6],[77,2,77,3],[79,2,79,3],[80,2,80,3],[81,2,81,3],[69,2,69,6],[70,2,70,6],[71,2,71,6],[72,2,72,6],[73,2,73,6],[74,2,74,6],[89,2,89,3],[90,2,90,3],[91,2,91,3],[92,2,92,3],[93,2,93,3],[94,2,94,3],[82,2,82,3],[83,2,83,3],[84,2,84,3],[85,2,85,3],[86,2,86,3],[88,2,88,3],[104,2,104,3],[105,2,105,3],[106,2,106,3],[107,2,107,3],[108,2,108,3],[109,2,109,3],[96,2,96,6],[97,2,97,3],[98,2,98,3],[100,2,100,3],[101,2,101,3],[102,2,102,3],[118,2,118,6],[119,2,119,6],[120,2,120,3],[124,2,124,3],[125,2,125,3],[126,2,126,3],[110,2,110,3],[111,2,111,3],[113,2,113,6],[114,2,114,3],[115,2,115,3],[117,2,117,6],[140,2,140,3],[142,2,142,6],[143,2,143,3],[145,2,145,6],[146,2,146,6],[147,2,147,6],[131,2,131,6],[132,2,132,3],[133,2,133,3],[134,2,134,3],[135,2,135,3],[136,2,136,3],[138,2,138,6],[139,2,139,3],[157,2,157,3],[158,2,158,3],[160,2,160,6],[161,2,161,3],[162,2,162,3],[164,2,164,3],[148,2,148,6],[149,2,149,3],[151,2,151,3],[152,2,152,3],[154,2,154,3],[155,2,155,3],[173,2,173,3],[174,2,174,3],[175,2,175,3],[177,2,177,6],[178,2,178,3],[180,2,180,3],[165,2,165,3],[167,2,167,3],[168,2,168,3],[169,2,169,3],[171,2,171,6],[172,2,172,6],[190,2,190,3],[191,2,191,3],[193,2,193,6],[194,2,194,6],[195,2,195,6],[182,2,182,3],[183,2,183,3],[184,2,184,3],[186,2,186,3],[187,2,187,3],[188,2,188,3],[200,2,200,6],[201,2,201,3],[203,2,203,3],[204,2,204,3],[206,2,206,6],[196,2,196,3],[198,2,198,6],[199,2,199,6],[213,2,213,3],[215,2,215,6],[216,2,216,6],[217,2,217,3],[218,2,218,3],[220,2,220,3],[207,2,207,6],[208,2,208,6],[209,2,209,6],[210,2,210,6],[211,2,211,6],[212,2,212,3],[230,2,230,3],[232,2,232,3],[233,2,233,3],[221,2,221,3],[223,2,223,3],[224,2,224,3],[226,2,226,3],[227,2,227,3],[229,2,229,3]]}
["Položkový rozpočet "]
[]
["Stavba :",null,"3232 Horní Slivno - Splašková kanalizace",null,"Rozpočet:",{"$f":"'302 302.2RD Rek'!H1","v":"302.2RD"}]
["Objekt :",null,"302 Kanalizační výtlaky",null,{"$f":"'302 302.2RD Rek'!G2","v":"Kanalizační výtlaky - km 1,618.79 - 4,197.00"}]
[]
["P.č.","Číslo položky","Název položky","MJ","množství","cena / MJ","celkem (Kč)","Jednotková hmotnost","Celková hmotnost","Jednotková dem.hmot.","Celková dem.hmot."]
["Díl:","1","Zemní práce",null,null,null,null,null,null,null,null,null,null,null,1]
[1,"130001101RRX","Příplatek za ztížené hloubení v blízkosti vedení ","m3",22.043199999999999,null,{"$f":"E8*F8","v":0},0,{"$f":"E8*H8","v":0},0,{"$f":"E8*J8","v":0},null,null,null,2,null,null,null,null,null,null,null,null,null,null,null,1,1,1,null,null,null,null,null,null,null,null,null,null,null,null,null,null,null,null,null,null,null,null,null,null,1,{"$f":"IF(AZ8=1,G8,0)","v":0},{"$f":"IF(AZ8=2,G8,0)","v":0},{"$f":"IF(AZ8=3,G8,0)","v":0},{"$f":"IF(AZ8=4,G8,0)","v":0},{"$f":"IF(AZ8=5,G8,0)","v":0},null,null,null,null,null,null,null,null,null,null,null,null,null,null,null,null,null,null,null,null,null,1,1]
[null,null,"Včetně ruční dokopávky a ručního výkopu.",null,null,null,null,null,null,null,null,"Včetně ruční dokopávky a ručního výkopu.",null,null,3]
[null,null,"Součástí položky je i případná potřeba dočasnéhon zajištění potrubí a kabelových vedení ve výkopu.",null,null,null,null,null,null,null,null,"Součástí položky je i případná potřeba dočasnéhon zajištění potrubí a kabelových vedení ve výkopu.",null,null,3]
[null,null,"Začátek provozního součtu",null,0,null,null,null,null,null,null,null,"Začátek provozního součtu"]
[null,null,"Výtlak VA PE D 110x10,0 mm - pluhování:125,40",null,125.4,null,null,null,null,null,null,null,"Výtlak VA PE D 110x10,0 mm - pluhování:125,40"]
[null,null,"Výtlak VA PE D 110x10,0 mm - řízený protlak:62,70",null,62.7,null,null,null,null,null,null,null,"Výtlak VA PE D 110x10,0 mm - řízený protlak:62,70"]
[null,null,"Výtlak VA PE D 110x10,0 mm - rýha - souběh s kanalizační stokou:87,44",null,87.44,null,null,null,null,null,null,null,"Výtlak VA PE D 110x10,0 mm - rýha - souběh s kanalizační stokou:87,44"]
[null,null,"Konec provozního součtu",null,275.54000000000002,null,null,null,null,null,null,null,"Konec provozního součtu"]
[null,null,"V hornině tř. 2 - 6 - 8%:275,5400*0,08",null,22.043199999999999,null,null,null,null,null,null,null,"V hornině tř. 2 - 6 - 8%:275,5400*0,08"]
[2,"132101213RRX","Hloubení rýh š.do 200 cm hor.2 do 10000 m3,STROJNĚ ","m3",30.3094,null,{"$f":"E17*F17","v":0},0,{"$f":"E17*H17","v":0},0,{"$f":"E17*J17","v":0},null,null,null,2,null,null,null,null,null,null,null,null,null,null,null,1,1,1,null,null,null,null,null,null,null,null,null,null,null,null,null,null,null,null,null,null,null,null,null,null,1,{"$f":"IF(AZ17=1,G17,0)","v":0},{"$f":"IF(AZ17=2,G17,0)","v":0},{"$f":"IF(AZ17=3,G17,0)","v":0},{"$f":"IF(AZ17=4,G17,0)","v":0},{"$f":"IF(AZ17=5,G17,0)","v":0},null,null,null,null,null,null,null,null,null,null,null,null,null,null,null,null,null,null,null,null,null,1,1]
[null,null,"Položka obsahuje hloubení rýh traktorbagrem, naložení výkopku na dopravní prostředek pro svislé, nebo vodorovné přemístění, popř. přemístění výkopku do 3 m (po povrchu území), případné zajištění rypadel polštáři, udržování pracoviště a ochranu výkopiště proti stékání srážkové vody z okolního terénu i s jejím odvodněním, nebo odvedením, přesekání a odstranění kořenů ve výkopišti, odstranění napadávek, urovnání dna výkopu.",null,null,null,null,null,null,null,null,"Položka obsahuje hloubení rýh traktorbagrem, naložení výkopku na dopravní prostředek pro svislé, nebo vodorovné přemístění, popř. přemístění výkopku do 3 m (po povrchu území), případné zajištění rypadel polštáři, udržování pracoviště a ochranu výkopiště proti stékání srážkové vody z okolního terénu i s jejím odvodněním, nebo odvedením, přesekání a odstranění kořenů ve výkopišti, odstranění napadávek, urovnání dna výkopu.",null,null,3]
[null,null,"Součástí položky je i pažení výkopů dle zvolené technologie zhotovitelem a v souladu s předpisy BOZP.",null,null,null,null,null,null,null,null,"Součástí položky je i pažení výkopů dle zvolené technologie zhotovitelem a v souladu s předpisy BOZP.",null,null,3]
[null,null,"V hornině tř. 2:",null,0,null,null,null,null,null,null,null,"V hornině tř. 2:"]
[null,null,"Výtlak VA PE D 110x10,0 mm - pluhování:125,40*0,11",null,13.794,null,null,null,null,null,null,null,"Výtlak VA PE D 110x10,0 mm - pluhování:125,40*0,11"]
[null,null,"Výtlak VA PE D 110x10,0 mm - řízený protlak:62,70*0,11",null,6.8970000000000002,null,null,null,null,null,null,null,"Výtlak VA PE D 110x10,0 mm - řízený protlak:62,70*0,11"]
[null,null,"Výtlak VA PE D 110x10,0 mm - rýha - souběh s kanalizační stokou:87,44*0,11",null,9.6183999999999994,null,null,null,null,null,null,null,"Výtlak VA PE D 110x10,0 mm - rýha - souběh s kanalizační stokou:87,44*0,11"]
[3,"132201213RRX","Hloubení rýh š.do 200 cm hor.3 do 10000 m3,STROJNĚ ","m3",71.6404,null,{"$f":"E24*F24","v":0},0,{"$f":"E24*H24","v":0},0,{"$f":"E24*J24","v":0},null,null,null,2,null,null,null,null,null,null,null,null,null,null,null,1,1,1,null,null,null,null,null,null,null,null,null,null,null,null,null,null,null,null,null,null,null,null,null,null,1,{"$f":"IF(AZ24=1,G24,0)","v":0},{"$f":"IF(AZ24=2,G24,0)","v":0},{"$f":"IF(AZ24=3,G24,0)","v":0},{"$f":"IF(AZ24=4,G24,0)","v":0},{"$f":"IF(AZ24=5,G24,0)","v":0},null,null,null,null,null,null,null,null,null,null,null,null,null,null,null,null,null,null,null,null,null,1,1]
[null,null,"Položka obsahuje hloubení rýh traktorbagrem, naložení výkopku na dopravní prostředek pro svislé, nebo vodorovné přemístění, popř. přemístění výkopku do 3 m (po povrchu území), případné zajištění rypadel polštáři, udržování pracoviště a ochranu výkopiště proti stékání srážkové vody z okolního terénu i s jejím odvodněním, nebo odvedením, přesekání a odstranění kořenů ve výkopišti, odstranění napadávek, urovnání dna výkopu.",null,null,null,null,null,null,null,null,"Položka obsahuje hloubení rýh traktorbagrem, naložení výkopku na dopravní prostředek pro svislé, nebo vodorovné přemístění, popř. přemístění výkopku do 3 m (po povrchu území), případné zajištění rypadel polštáři, udržování pracoviště a ochranu výkopiště proti stékání srážkové vody z okolního terénu i s jejím odvodněním, nebo odvedením, přesekání a odstranění kořenů ve výkopišti, odstranění napadávek, urovnání dna výkopu.",null,null,3]
[null,null,"Součástí položky je i pažení výkopů dle zvolené technologie zhotovitelem a v souladu s předpisy BOZP.",null,null,null,null,null,null,null,null,"Součástí položky je i pažení výkopů dle zvolené technologie zhotovitelem a v souladu s předpisy BOZP.",null,null,3]
[null,null,"V hornině tř. 3:",null,0,null,null,null,null,null,null,null,"V hornině tř. 3:"]
[null,null,"Výtlak VA PE D 110x10,0 mm - pluhování:125,40*0,26",null,32.603999999999999,null,null,null,null,null,null,null,"Výtlak VA PE D 110x10,0 mm - pluhování:125,40*0,26"]
[null,null,"Výtlak VA PE D 110x10,0 mm - řízený protlak:62,70*0,26",null,16.302,null,null,null,null,null,null,null,"Výtlak VA PE D 110x10,0 mm - řízený protlak:62,70*0,26"]
[null,null,"Výtlak VA PE D 110x10,0 mm - rýha - souběh s kanalizační stokou:87,44*0,26",null,22.734400000000001,null,null,null,null,null,null,null,"Výtlak VA PE D 110x10,0 mm - rýha - souběh s kanalizační stokou:87,44*0,26"]
[4,"132201219R00","Přípl.za lepivost,hloubení rýh 200cm,hor.3,STROJNĚ ","m3",35.8202,null,{"$f":"E31*F31","v":0},0,{"$f":"E31*H31","v":0},0,{"$f":"E31*J31","v":0},null,null,null,2,null,null,null,null,null,null,null,null,null,null,null,1,1,1,null,null,null,null,null,null,null,null,null,null,null,null,null,null,null,null,null,null,null,null,null,null,1,{"$f":"IF(AZ31=1,G31,0)","v":0},{"$f":"IF(AZ31=2,G31,0)","v":0},{"$f":"IF(AZ31=3,G31,0)","v":0},{"$f":"IF(AZ31=4,G31,0)","v":0},{"$f":"IF(AZ31=5,G31,0)","v":0},null,null,null,null,null,null,null,null,null,null,null,null,null,null,null,null,null,null,null,null,null,1,1]
[null,null,"V hornině tř. 3:",null,0,null,null,null,null,null,null,null,"V hornině tř. 3:"]
[null,null,"Výtlak VA PE D 110x10,0 mm - pluhování:125,40*0,26*0,5",null,16.302,null,null,null,null,null,null,null,"Výtlak VA PE D 110x10,0 mm - pluhování:125,40*0,26*0,5"]
[null,null,"Výtlak VA PE D 110x10,0 mm - řízený protlak:62,70*0,26*0,5",null,8.1509999999999998,null,null,null,null,null,null,null,"Výtlak VA PE D 110x10,0 mm - řízený protlak:62,70*0,26*0,5"]
[null,null,"Výtlak VA PE D 110x10,0 mm - rýha - souběh s kanalizační stokou:87,44*0,26*0,5",null,11.3672,null,null,null,null,null,null,null,"Výtlak VA PE D 110x10,0 mm - rýha - souběh s kanalizační stokou:87,44*0,26*0,5"]
[5,"132301213RRX","Hloubení rýh š.do 200 cm hor.4 do 10000 m3,STROJNĚ ","m3",93.683599999999998,null,{"$f":"E36*F36","v":0},0,{"$f":"E36*H36","v":0},0,{"$f":"E36*J36","v":0},null,null,null,2,null,null,null,null,null,null,null,null,null,null,null,1,1,1,null,null,null,null,null,null,null,null,null,null,null,null,null,null,null,null,null,null,null,null,null,null,1,{"$f":"IF(AZ36=1,G36,0)","v":0},{"$f":"IF(AZ36=2,G36,0)","v":0},{"$f":"IF(AZ36=3,G36,0)","v":0},{"$f":"IF(AZ36=4,G36,0)","v":0},{"$f":"IF(AZ36=5,G36,0)","v":0},null,null,null,null,null,null,null,null,null,null,null,null,null,null,null,null,null,null,null,null,null,1,1]
[null,null,"Položka obsahuje hloubení rýh traktorbagrem, naložení výkopku na dopravní prostředek pro svislé, nebo vodorovné přemístění, popř. přemístění výkopku do 3 m (po povrchu území), případné zajištění rypadel polštáři, udržování pracoviště a ochranu výkopiště proti stékání srážkové vody z okolního terénu i s jejím odvodněním, nebo odvedením, přesekání a odstranění kořenů ve výkopišti, odstranění napadávek, urovnání dna výkopu.",null,null,null,null,null,null,null,null,"Položka obsahuje hloubení rýh traktorbagrem, naložení výkopku na dopravní prostředek pro svislé, nebo vodorovné přemístění, popř. přemístění výkopku do 3 m (po povrchu území), případné zajištění rypadel polštáři, udržování pracoviště a ochranu výkopiště proti stékání srážkové vody z okolního terénu i s jejím odvodněním, nebo odvedením, přesekání a odstranění kořenů ve výkopišti, odstranění napadávek, urovnání dna výkopu.",null,null,3]
[null,null,"Součástí položky je i pažení výkopů dle zvolené technologie zhotovitelem a v souladu s předpisy BOZP.",null,null,null,null,null,null,null,null,"Součástí položky je i pažení výkopů dle zvolené technologie zhotovitelem a v souladu s předpisy BOZP.",null,null,3]
[null,null,"V hornině tř. 4:",null,0,null,null,null,null,null,null,null,"V hornině tř. 4:"]
[null,null,"Výtlak VA PE D 110x10,0 mm - pluhování:125,40*0,34",null,42.636000000000003,null,null,null,null,null,null,null,"Výtlak VA PE D 110x10,0 mm - pluhování:125,40*0,34"]
[null,null,"Výtlak VA PE D 110x10,0 mm - řízený protlak:62,70*0,34",null,21.318000000000001,null,null,null,null,null,null,null,"Výtlak VA PE D 110x10,0 mm - řízený protlak:62,70*0,34"]
[null,null,"Výtlak VA PE D 110x10,0 mm - rýha - souběh s kanalizační stokou:87,44*0,34",null,29.729600000000001,null,null,null,null,null,null,null,"Výtlak VA PE D 110x10,0 mm - rýha - souběh s kanalizační stokou:87,44*0,34"]
[6,"132301219R00","Přípl.za lepivost,hloubení rýh 200cm,hor.4,STROJNĚ ","m3",46.841799999999999,null,{"$f":"E43*F43","v":0},0,{"$f":"E43*H43","v":0},0,{"$f":"E43*J43","v":0},null,null,null,2,null,null,null,null,null,null,null,null,null,null,null,1,1,1,null,null,null,null,null,null,null,null,null,null,null,null,null,null,null,null,null,null,null,null,null,null,1,{"$f":"IF(AZ43=1,G43,0)","v":0},{"$f":"IF(AZ43=2,G43,0)","v":0},{"$f":"IF(AZ43=3,G43,0)","v":0},{"$f":"IF(AZ43=4,G43,0)","v":0},{"$f":"IF(AZ43=5,G43,0)","v":0},null,null,null,null,null,null,null,null,null,null,null,null,null,null,null,null,null,null,null,null,null,1,1]
[null,null,"V hornině tř. 4:",null,0,null,null,null,null,null,null,null,"V hornině tř. 4:"]
[null,null,"Výtlak VA PE D 110x10,0 mm - pluhování:125,40*0,34*0,5",null,21.318000000000001,null,null,null,null,null,null,null,"Výtlak VA PE D 110x10,0 mm - pluhování:125,40*0,34*0,5"]
[null,null,"Výtlak VA PE D 110x10,0 mm - řízený protlak:62,70*0,34*0,5",null,10.659000000000001,null,null,null,null,null,null,null,"Výtlak VA PE D 110x10,0 mm - řízený protlak:62,70*0,34*0,5"]
[null,null,"Výtlak VA PE D 110x10,0 mm - rýha - souběh s kanalizační stokou:87,44*0,34*0,5",null,14.864800000000001,null,null,null,null,null,null,null,"Výtlak VA PE D 110x10,0 mm - rýha - souběh s kanalizační stokou:87,44*0,34*0,5"]
[7,"132401211RRX","Hloubení rýh šířky do 200 cm v hor.5, STROJNĚ ","m3",68.885000000000005,null,{"$f":"E48*F48","v":0},0,{"$f":"E48*H48","v":0},0,{"$f":"E48*J48","v":0},null,null,null,2,null,null,null,null,null,null,null,null,null,null,null,1,1,1,null,null,null,null,null,null,null,null,null,null,null,null,null,null,null,null,null,null,null,null,null,null,1,{"$f":"IF(AZ48=1,G48,0)","v":0},{"$f":"IF(AZ48=2,G48,0)","v":0},{"$f":"IF(AZ48=3,G48,0)","v":0},{"$f":"IF(AZ48=4,G48,0)","v":0},{"$f":"IF(AZ48=5,G48,0)","v":0},null,null,null,null,null,null,null,null,null,null,null,null,null,null,null,null,null,null,null,null,null,1,1]
[null,null,"Položka obsahuje hloubení rýh traktorbagrem, naložení výkopku na dopravní prostředek pro svislé, nebo vodorovné přemístění, popř. přemístění výkopku do 3 m (po povrchu území), případné zajištění rypadel polštáři, udržování pracoviště a ochranu výkopiště proti stékání srážkové vody z okolního terénu i s jejím odvodněním, nebo odvedením, přesekání a odstranění kořenů ve výkopišti, odstranění napadávek, urovnání dna výkopu.",null,null,null,null,null,null,null,null,"Položka obsahuje hloubení rýh traktorbagrem, naložení výkopku na dopravní prostředek pro svislé, nebo vodorovné přemístění, popř. přemístění výkopku do 3 m (po povrchu území), případné zajištění rypadel polštáři, udržování pracoviště a ochranu výkopiště proti stékání srážkové vody z okolního terénu i s jejím odvodněním, nebo odvedením, přesekání a odstranění kořenů ve výkopišti, odstranění napadávek, urovnání dna výkopu.",null,null,3]
[null,null,"Součástí položky je i pažení výkopů dle zvolené technologie zhotovitelem a v souladu s předpisy BOZP.",null,null,null,null,null,null,null,null,"Součástí položky je i pažení výkopů dle zvolené technologie zhotovitelem a v souladu s předpisy BOZP.",null,null,3]
[null,null,"Součástí položky je i případné dolamování horniny v prostoru rýhy.",null,null,null,null,null,null,null,null,"Součástí položky je i případné dolamování horniny v prostoru rýhy.",null,null,3]
[null,null,"V hornině tř. 5:",null,0,null,null,null,null,null,null,null,"V hornině tř. 5:"]
[null,null,"Výtlak VA PE D 110x10,0 mm - pluhování:125,40*0,25",null,31.35,null,null,null,null,null,null,null,"Výtlak VA PE D 110x10,0 mm - pluhování:125,40*0,25"]
[null,null,"Výtlak VA PE D 110x10,0 mm - řízený protlak:62,70*0,25",null,15.675000000000001,null,null,null,null,null,null,null,"Výtlak VA PE D 110x10,0 mm - řízený protlak:62,70*0,25"]
[null,null,"Výtlak VA PE D 110x10,0 mm - rýha - souběh s kanalizační stokou:87,44*0,25",null,21.86,null,null,null,null,null,null,null,"Výtlak VA PE D 110x10,0 mm - rýha - souběh s kanalizační stokou:87,44*0,25"]
[8,"132501211RRX","Hloubení rýh šířky do 200 cm v hor.6, STROJNĚ ","m3",11.021599999999999,null,{"$f":"E56*F56","v":0},0,{"$f":"E56*H56","v":0},0,{"$f":"E56*J56","v":0},null,null,null,2,null,null,null,null,null,null,null,null,null,null,null,1,1,1,null,null,null,null,null,null,null,null,null,null,null,null,null,null,null,null,null,null,null,null,null,null,1,{"$f":"IF(AZ56=1,G56,0)","v":0},{"$f":"IF(AZ56=2,G56,0)","v":0},{"$f":"IF(AZ56=3,G56,0)","v":0},{"$f":"IF(AZ56=4,G56,0)","v":0},{"$f":"IF(AZ56=5,G56,0)","v":0},null,null,null,null,null,null,null,null,null,null,null,null,null,null,null,null,null,null,null,null,null,1,1]
[null,null,"Položka obsahuje hloubení rýh traktorbagrem, naložení výkopku na dopravní prostředek pro svislé, nebo vodorovné přemístění, popř. přemístění výkopku do 3 m (po povrchu území), případné zajištění rypadel polštáři, udržování pracoviště a ochranu výkopiště proti stékání srážkové vody z okolního terénu i s jejím odvodněním, nebo odvedením, přesekání a odstranění kořenů ve výkopišti, odstranění napadávek, urovnání dna výkopu.",null,null,null,null,null,null,null,null,"Položka obsahuje hloubení rýh traktorbagrem, naložení výkopku na dopravní prostředek pro svislé, nebo vodorovné přemístění, popř. přemístění výkopku do 3 m (po povrchu území), případné zajištění rypadel polštáři, udržování pracoviště a ochranu výkopiště proti stékání srážkové vody z okolního terénu i s jejím odvodněním, nebo odvedením, přesekání a odstranění kořenů ve výkopišti, odstranění napadávek, urovnání dna výkopu.",null,null,3]
[null,null,"Součástí položky je i pažení výkopů dle zvolené technologie zhotovitelem a v souladu s předpisy BOZP.",null,null,null,null,null,null,null,null,"Součástí položky je i pažení výkopů dle zvolené technologie zhotovitelem a v souladu s předpisy BOZP.",null,null,3]
[null,null,"Součástí položky je i případné dolamování horniny v prostoru rýhy.",null,null,null,null,null,null,null,null,"Součástí položky je i případné dolamování horniny v prostoru rýhy.",null,null,3]
[null,null,"V hornině tř. 5:",null,0,null,null,null,null,null,null,null,"V hornině tř. 5:"]
[null,null,"Výtlak VA PE D 110x10,0 mm - pluhování:125,40*0,04",null,5.016,null,null,null,null,null,null,null,"Výtlak VA PE D 110x10,0 mm - pluhování:125,40*0,04"]
[null,null,"Výtlak VA PE D 110x10,0 mm - řízený protlak:62,70*0,04",null,2.508,null,null,null,null,null,null,null,"Výtlak VA PE D 110x10,0 mm - řízený protlak:62,70*0,04"]
[null,null,"Výtlak VA PE D 110x10,0 mm - rýha - souběh s kanalizační stokou:87,44*0,04",null,3.4975999999999998,null,null,null,null,null,null,null,"Výtlak VA PE D 110x10,0 mm - rýha - souběh s kanalizační stokou:87,44*0,04"]
[9,"141700107RRX","Protlak neřízený z trub D 270 mm v hor.1 - 6 ","m",17,null,{"$f":"E64*F64","v":0},7.26E-3,{"$f":"E64*H64","v":0.12342},0,{"$f":"E64*J64","v":0},null,null,null,2,null,null,null,null,null,null,null,null,null,null,null,1,1,1,null,null,null,null,null,null,null,null,null,null,null,null,null,null,null,null,null,null,null,null,null,null,1,{"$f":"IF(AZ64=1,G64,0)","v":0},{"$f":"IF(AZ64=2,G64,0)","v":0},{"$f":"IF(AZ64=3,G64,0)","v":0},{"$f":"IF(AZ64=4,G64,0)","v":0},{"$f":"IF(AZ64=5,G64,0)","v":0},null,null,null,null,null,null,null,null,null,null,null,null,null,null,null,null,null,null,null,null,null,1,1]
[null,null,"Položka obsahuje náklady na spojování protlačovaných trub, zřízení a odstranění podlahy a podpěrné konstrukce pro protlačovací zařízení, úpravu čela potrubí pro protlačení, případně vodorovné přemístění výkopku z protlačovaného potrubí a svislé přemístění výkopku z montážní jámy na přilehlé území.",null,null,null,null,null,null,null,null,"Položka obsahuje náklady na spojování protlačovaných trub, zřízení a odstranění podlahy a podpěrné konstrukce pro protlačovací zařízení, úpravu čela potrubí pro protlačení, případně vodorovné přemístění výkopku z protlačovaného potrubí a svislé přemístění výkopku z montážní jámy na přilehlé území.",null,null,3]
[null,null,"Výtlak VA PE D 110x10,0 mm:",null,0,null,null,null,null,null,null,null,"Výtlak VA PE D 110x10,0 mm:"]
[null,null,"Chránička OC D 219/10:17,00",null,17,null,null,null,null,null,null,null,"Chránička OC D 219/10:17,00"]
[10,"141721101RRX","Řízené protlačení (vrtání) a vtažení PE d 110 mm v hor.1 - 6","m",578.25,null,{"$f":"E68*F68","v":0},3.48E-3,{"$f":"E68*H68","v":2.0123099999999998},0,{"$f":"E68*J68","v":0},null,null,null,2,null,null,null,null,null,null,null,null,null,null,null,1,1,1,null,null,null,null,null,null,null,null,null,null,null,null,null,null,null,null,null,null,null,null,null,null,1,{"$f":"IF(AZ68=1,G68,0)","v":0},{"$f":"IF(AZ68=2,G68,0)","v":0},{"$f":"IF(AZ68=3,G68,0)","v":0},{"$f":"IF(AZ68=4,G68,0)","v":0},{"$f":"IF(AZ68=5,G68,0)","v":0},null,null,null,null,null,null,null,null,null,null,null,null,null,null,null,null,null,null,null,null,null,1,1]
[null,null,"Jedná se o bezvýkopovou technologii horizontálně řízeného vrtání a vtažení potrubí na principu rozplavování a rozrušování zeminy pomocí vysokotlaké směsi vody a bentonitu.",null,null,null,null,null,null,null,null,"Jedná se o bezvýkopovou technologii horizontálně řízeného vrtání a vtažení potrubí na principu rozplavování a rozrušování zeminy pomocí vysokotlaké směsi vody a bentonitu.",null,null,3]
[null,null,"V položce je započteno : - provedení pilotního vrtu,",null,null,null,null,null,null,null,null,"V položce je započteno : - provedení pilotního vrtu,",null,null,3]
[null,null,"                                        - potřebné rozšíření vrtu,",null,null,null,null,null,null,null,null,"                                        - potřebné rozšíření vrtu,",null,null,3]
[null,null,"                                        - vtažení potrubí,",null,null,null,null,null,null,null,null,"                                        - vtažení potrubí,",null,null,3]
[null,null,"                                        - svařování vtahovaného potrubí.",null,null,null,null,null,null,null,null,"                                        - svařování vtahovaného potrubí.",null,null,3]
[null,null,"V položce není započteno: - zemní práce nutné pro provedení prací,",null,null,null,null,null,null,null,null,"V položce není započteno: - zemní práce nutné pro provedení prací,",null,null,3]
[null,null,"                                           - případné čerpání vody,",null,null,null,null,null,null,null,null,"                                           - případné čerpání vody,",null,null,3]
[null,null,"                                           - montáž vedení, slouží-li vtahovaná trubka jako ochranné potrubí,",null,null,null,null,null,null,null,null,"                                           - montáž vedení, slouží-li vtahovaná trubka jako ochranné potrubí,",null,null,3]
[null,null,"                                           - dodání vtahovaných trubek.",null,null,null,null,null,null,null,null,"                                           - dodání vtahovaných trubek.",null,null,3]
[null,null,"Výtlak VA D 110x10,0 mm:578,25",null,578.25,null,null,null,null,null,null,null,"Výtlak VA D 110x10,0 mm:578,25"]
[11,"162601102RX0","Vodorovné přemístění výkopku z hor.1-7 na skládku zhotovitele","m3",165.29,null,{"$f":"E79*F79","v":0},0,{"$f":"E79*H79","v":0},0,{"$f":"E79*J79","v":0},null,null,null,2,null,null,null,null,null,null,null,null,null,null,null,1,1,1,null,null,null,null,null,null,null,null,null,null,null,null,null,null,null,null,null,null,null,null,null,null,1,{"$f":"IF(AZ79=1,G79,0)","v":0},{"$f":"IF(AZ79=2,G79,0)","v":0},{"$f":"IF(AZ79=3,G79,0)","v":0},{"$f":"IF(AZ79=4,G79,0)","v":0},{"$f":"IF(AZ79=5,G79,0)","v":0},null,null,null,null,null,null,null,null,null,null,null,null,null,null,null,null,null,null,null,null,null,1,1]
[null,null,"Výkopy:",null,0,null,null,null,null,null,null,null,"Výkopy:"]
[null,null,"Začátek provozního součtu",null,0,null,null,null,null,null,null,null,"Začátek provozního součtu"]
[null,null,"Výtlak VA PE D 110x10,0 mm - pluhování:125,40",null,125.4,null,null,null,null,null,null,null,"Výtlak VA PE D 110x10,0 mm - pluhování:125,40"]
[null,null,"Výtlak VA PE D 110x10,0 mm - řízený protlak:62,70",null,62.7,null,null,null,null,null,null,null,"Výtlak VA PE D 110x10,0 mm - řízený protlak:62,70"]
[null,null,"Výtlak VA PE D 110x10,0 mm - rýha - souběh s kanalizační stokou:87,44",null,87.44,null,null,null,null,null,null,null,"Výtlak VA PE D 110x10,0 mm - rýha - souběh s kanalizační stokou:87,44"]
[null,null,"Konec provozního součtu",null,275.54000000000002,null,null,null,null,null,null,null,"Konec provozního součtu"]
[null,null,"V hornině tř. 2 - 6:275,5400",null,275.54000000000002,null,null,null,null,null,null,null,"V hornině tř. 2 - 6:275,5400"]
[null,null,"Odpočet zásypů zeminou:-110,2500",null,-110.25,null,null,null,null,null,null,null,"Odpočet zásypů zeminou:-110,2500"]
[12,"174100050RAB","Zásyp jam,rýh a šachet štěrkodrtí fr. 0-63 mm včetně dodávky štěrkodrtě","m3",35.423900000000003,null,{"$f":"E88*F88","v":0},0,{"$f":"E88*H88","v":0},0,{"$f":"E88*J88","v":0},null,null,null,2,null,null,null,null,null,null,null,null,null,null,null,1,1,1,null,null,null,null,null,null,null,null,null,null,null,null,null,null,null,null,null,null,null,null,null,null,1,{"$f":"IF(AZ88=1,G88,0)","v":0},{"$f":"IF(AZ88=2,G88,0)","v":0},{"$f":"IF(AZ88=3,G88,0)","v":0},{"$f":"IF(AZ88=4,G88,0)","v":0},{"$f":"IF(AZ88=5,G88,0)","v":0},null,null,null,null,null,null,null,null,null,null,null,null,null,null,null,null,null,null,null,null,null,1,1]
[null,null,"Výkopy:",null,0,null,null,null,null,null,null,null,"Výkopy:"]
[null,null,"Začátek provozního součtu",null,0,null,null,null,null,null,null,null,"Začátek provozního součtu"]
[null,null,"Výtlak VA PE D 110x10,0 mm - rýha - souběh s kanalizační stokou:87,4400",null,87.44,null,null,null,null,null,null,null,"Výtlak VA PE D 110x10,0 mm - rýha - souběh s kanalizační stokou:87,4400"]
[null,null,"Konec provozního součtu",null,87.44,null,null,null,null,null,null,null,"Konec provozního součtu"]
[null,null,"V hornině tř. 2 - 6:87,4400",null,87.44,null,null,null,null,null,null,null,"V hornině tř. 2 - 6:87,4400"]
[null,null,"Odpočet lože, potrubí a obsypů:-21,3813",null,-21.3813,null,null,null,null,null,null,null,"Odpočet lože, potrubí a obsypů:-21,3813"]
[null,null,"Výtlak VA PE D 110x10,0 mm - rýha:-109,41*0,50*(0,15+0,11+0,30)",null,-30.634799999999998,null,null,null,null,null,null,null,"Výtlak VA PE D 110x10,0 mm - rýha:-109,41*0,50*(0,15+0,11+0,30)"]
[13,"174101101R00","Zásyp jam, rýh, šachet se zhutněním ","m3",110.25,null,{"$f":"E96*F96","v":0},0,{"$f":"E96*H96","v":0},0,{"$f":"E96*J96","v":0},null,null,null,2,null,null,null,null,null,null,null,null,null,null,null,1,1,1,null,null,null,null,null,null,null,null,null,null,null,null,null,null,null,null,null,null,null,null,null,null,1,{"$f":"IF(AZ96=1,G96,0)","v":0},{"$f":"IF(AZ96=2,G96,0)","v":0},{"$f":"IF(AZ96=3,G96,0)","v":0},{"$f":"IF(AZ96=4,G96,0)","v":0},{"$f":"IF(AZ96=5,G96,0)","v":0},null,null,null,null,null,null,null,null,null,null,null,null,null,null,null,null,null,null,null,null,null,1,1]
[null,null,"Položka obsahuje strojní přemístění materiálu pro zásyp ze vzdálenosti do 10 m od okraje zásypu.",null,null,null,null,null,null,null,null,"Položka obsahuje strojní přemístění materiálu pro zásyp ze vzdálenosti do 10 m od okraje zásypu.",null,null,3]
[null,null,"Výtlak VA PE D 110x10,0 mm - pluhování:73,5000",null,73.5,null,null,null,null,null,null,null,"Výtlak VA PE D 110x10,0 mm - pluhování:73,5000"]
[null,null,"Výtlak VA PE D 110x10,0 mm - řízený protlak:36,7500",null,36.75,null,null,null,null,null,null,null,"Výtlak VA PE D 110x10,0 mm - řízený protlak:36,7500"]
[14,"175100020RAB","Obsyp potrubí štěrkopískem včetně dodávka štěrkopísku","m3",61.379300000000001,null,{"$f":"E100*F100","v":0},0,{"$f":"E100*H100","v":0},0,{"$f":"E100*J100","v":0},null,null,null,2,null,null,null,null,null,null,null,null,null,null,null,1,1,1,null,null,null,null,null,null,null,null,null,null,null,null,null,null,null,null,null,null,null,null,null,null,1,{"$f":"IF(AZ100=1,G100,0)","v":0},{"$f":"IF(AZ100=2,G100,0)","v":0},{"$f":"IF(AZ100=3,G100,0)","v":0},{"$f":"IF(AZ100=4,G100,0)","v":0},{"$f":"IF(AZ100=5,G100,0)","v":0},null,null,null,null,null,null,null,null,null,null,null,null,null,null,null,null,null,null,null,null,null,1,1]
[null,null,"Výtlak VA PE D 110x10,0 mm - pluhování:26,6600",null,26.66,null,null,null,null,null,null,null,"Výtlak VA PE D 110x10,0 mm - pluhování:26,6600"]
[null,null,"Výtlak VA PE D 110x10,0 mm - řízený protlak:13,3300",null,13.33,null,null,null,null,null,null,null,"Výtlak VA PE D 110x10,0 mm - řízený protlak:13,3300"]
[null,null,"Výtlak VA PE D 110x10,0 mm - rýha - souběh s kanalizační stokou:109,41*(0,50*(0,11+0,30)-0,055^2*Pi)",null,21.389299999999999,null,null,null,null,null,null,null,"Výtlak VA PE D 110x10,0 mm - rýha - souběh s kanalizační stokou:109,41*(0,50*(0,11+0,30)-0,055^2*Pi)"]
[15,"199000002RX0","Poplatek za skládku horniny 1- 7 ","m3",165.29,null,{"$f":"E104*F104","v":0},0,{"$f":"E104*H104","v":0},0,{"$f":"E104*J104","v":0},null,null,null,2,null,null,null,null,null,null,null,null,null,null,null,1,1,1,null,null,null,null,null,null,null,null,null,null,null,null,null,null,null,null,null,null,null,null,null,null,1,{"$f":"IF(AZ104=1,G104,0)","v":0},{"$f":"IF(AZ104=2,G104,0)","v":0},{"$f":"IF(AZ104=3,G104,0)","v":0},{"$f":"IF(AZ104=4,G104,0)","v":0},{"$f":"IF(AZ104=5,G104,0)","v":0},null,null,null,null,null,null,null,null,null,null,null,null,null,null,null,null,null,null,null,null,null,1,1]
[null,null,"Výkopy:",null,0,null,null,null,null,null,null,null,"Výkopy:"]
[null,null,"Začátek provozního součtu",null,0,null,null,null,null,null,null,null,"Začátek provozního součtu"]
[null,null,"Výtlak VA PE D 110x10,0 mm - pluhování:125,40",null,125.4,null,null,null,null,null,null,null,"Výtlak VA PE D 110x10,0 mm - pluhování:125,40"]
[null,null,"Výtlak VA PE D 110x10,0 mm - řízený protlak:62,70",null,62.7,null,null,null,null,null,null,null,"Výtlak VA PE D 110x10,0 mm - řízený protlak:62,70"]
[null,null,"Výtlak VA PE D 110x10,0 mm - rýha - souběh s kanalizační stokou:87,44",null,87.44,null,null,null,null,null,null,null,"Výtlak VA PE D 110x10,0 mm - rýha - souběh s kanalizační stokou:87,44"]
[null,null,"Konec provozního součtu",null,275.54000000000002,null,null,null,null,null,null,null,"Konec provozního součtu"]
[null,null,"V hornině tř. 2 - 6:275,5400",null,275.54000000000002,null,null,null,null,null,null,null,"V hornině tř. 2 - 6:275,5400"]
[null,null,"Odpočet zásypů zeminou:-110,2500",null,-110.25,null,null,null,null,null,null,null,"Odpočet zásypů zeminou:-110,2500"]
[16,"14221304","Trubka bezešvá hladká 11353.1  D 219x10,0 mm","m",18.7,null,{"$f":"E113*F113","v":0},5.1499999999999997E-2,{"$f":"E113*H113","v":0.96304999999999996},null,{"$f":"E113*J113","v":0},null,null,null,2,null,null,null,null,null,null,null,null,null,null,null,3,1,14221304,null,null,null,null,null,null,null,null,null,null,null,null,null,null,null,null,null,null,null,null,null,null,1,{"$f":"IF(AZ113=1,G113,0)","v":0},{"$f":"IF(AZ113=2,G113,0)","v":0},{"$f":"IF(AZ113=3,G113,0)","v":0},{"$f":"IF(AZ113=4,G113,0)","v":0},{"$f":"IF(AZ113=5,G113,0)","v":0},null,null,null,null,null,null,null,null,null,null,null,null,null,null,null,null,null,null,null,null,null,3,1]
[null,null,"Součástí položky je dodávka a montář těsnících manžet a kluzných vymezovacích objímek RACI v počtu dle PD",null,null,null,null,null,null,null,null,"Součástí položky je dodávka a montář těsnících manžet a kluzných vymezovacích objímek RACI v počtu dle PD",null,null,3]
[null,null,"Výtlak VA PE D 110x10,0 mm:",null,0,null,null,null,null,null,null,null,"Výtlak VA PE D 110x10,0 mm:"]
[null,null,"Chránička OC D 219/10:17,00*1,1",null,18.7,null,null,null,null,null,null,null,"Chránička OC D 219/10:17,00*1,1"]
[17,"286134456.R","Trubka tlaková PE100RC D SDR11 110x10,0 mm návin kanalizace","m",586.92370000000005,null,{"$f":"E117*F117","v":0},2.1199999999999999E-3,{"$f":"E117*H117","v":1.244278244},null,{"$f":"E117*J117","v":0},null,null,null,2,null,null,null,null,null,null,null,null,null,null,null,3,1,"286134456.R",null,null,null,null,null,null,null,null,null,null,null,null,null,null,null,null,null,null,null,null,null,null,1,{"$f":"IF(AZ117=1,G117,0)","v":0},{"$f":"IF(AZ117=2,G117,0)","v":0},{"$f":"IF(AZ117=3,G117,0)","v":0},{"$f":"IF(AZ117=4,G117,0)","v":0},{"$f":"IF(AZ117=5,G117,0)","v":0},null,null,null,null,null,null,null,null,null,null,null,null,null,null,null,null,null,null,null,null,null,3,1]
[null,null,"Trubky kanalizační z PE100 K  podle ČSN EN 12201 s ochranným pláštěm",null,null,null,null,null,null,null,null,"Trubky kanalizační z PE100 K  podle ČSN EN 12201 s ochranným pláštěm",null,null,3]
[null,null,"K vnitřní trubka černá s hnědými pruhy",null,null,null,null,null,null,null,null,"K vnitřní trubka černá s hnědými pruhy",null,null,3]
[null,null,"vnější ochranná vrstva z modifikovaného PE barvy hnědé s integrovaným vodičem.",null,null,null,null,null,null,null,null,"vnější ochranná vrstva z modifikovaného PE barvy hnědé s integrovaným vodičem.",null,null,3]
[null,null,"Výtlak VA D 110x10,0 mm:578,25*1,015",null,586.92370000000005,null,null,null,null,null,null,null,"Výtlak VA D 110x10,0 mm:578,25*1,015"]
[null,"Celkem za","1 Zemní práce",null,null,null,{"$f":"SUM(G7:G121)","v":0},null,{"$f":"SUM(I7:I121)","v":4.3430582439999998},null,{"$f":"SUM(K7:K121)","v":0},null,null,null,4,null,null,null,null,null,null,null,null,null,null,null,null,null,null,null,null,null,null,null,null,null,null,null,null,null,null,null,null,null,null,null,null,null,null,null,null,null,{"$f":"SUM(BA7:BA121)","v":0},{"$f":"SUM(BB7:BB121)","v":0},{"$f":"SUM(BC7:BC121)","v":0},{"$f":"SUM(BD7:BD121)","v":0},{"$f":"SUM(BE7:BE121)","v":0}]
["Díl:","45","Podkladní a vedlejší konstrukce",null,null,null,null,null,null,null,null,null,null,null,1]
[18,"451572111R00","Lože pod potrubí z kameniva těženého 0 - 4 mm ","m3",23.2058,null,{"$f":"E124*F124","v":0},1.873,{"$f":"E124*H124","v":43.4644634},0,{"$f":"E124*J124","v":0},null,null,null,2,null,null,null,null,null,null,null,null,null,null,null,1,1,1,null,null,null,null,null,null,null,null,null,null,null,null,null,null,null,null,null,null,null,null,null,null,1,{"$f":"IF(AZ124=1,G124,0)","v":0},{"$f":"IF(AZ124=2,G124,0)","v":0},{"$f":"IF(AZ124=3,G124,0)","v":0},{"$f":"IF(AZ124=4,G124,0)","v":0},{"$f":"IF(AZ124=5,G124,0)","v":0},null,null,null,null,null,null,null,null,null,null,null,null,null,null,null,null,null,null,null,null,null,1,1]
[null,null,"Výtlak VA PE D 110x10,0 mm - pluhování:10,00",null,10,null,null,null,null,null,null,null,"Výtlak VA PE D 110x10,0 mm - pluhování:10,00"]
[null,null,"Výtlak VA PE D 110x10,0 mm - řízený protlak:5,00",null,5,null,null,null,null,null,null,null,"Výtlak VA PE D 110x10,0 mm - řízený protlak:5,00"]
[null,null,"Výtlak VA PE D 110x10,0 mm - rýha - souběh s kanalizační stokou:109,41*0,50*0,15",null,8.2058,null,null,null,null,null,null,null,"Výtlak VA PE D 110x10,0 mm - rýha - souběh s kanalizační stokou:109,41*0,50*0,15"]
[19,"452313131RRX","Bloky pro potrubí z betonu C 12/15 včetně nutného bednění","m3",0.48,null,{"$f":"E128*F128","v":0},2.355,{"$f":"E128*H128","v":1.1303999999999998},0,{"$f":"E128*J128","v":0},null,null,null,2,null,null,null,null,null,null,null,null,null,null,null,1,1,1,null,null,null,null,null,null,null,null,null,null,null,null,null,null,null,null,null,null,null,null,null,null,1,{"$f":"IF(AZ128=1,G128,0)","v":0},{"$f":"IF(AZ128=2,G128,0)","v":0},{"$f":"IF(AZ128=3,G128,0)","v":0},{"$f":"IF(AZ128=4,G128,0)","v":0},{"$f":"IF(AZ128=5,G128,0)","v":0},null,null,null,null,null,null,null,null,null,null,null,null,null,null,null,null,null,null,null,null,null,1,1]
[null,"Celkem za","45 Podkladní a vedlejší konstrukce",null,null,null,{"$f":"SUM(G123:G128)","v":0},null,{"$f":"SUM(I123:I128)","v":44.594863400000001},null,{"$f":"SUM(K123:K128)","v":0},null,null,null,4,null,null,null,null,null,null,null,null,null,null,null,null,null,null,null,null,null,null,null,null,null,null,null,null,null,null,null,null,null,null,null,null,null,null,null,null,null,{"$f":"SUM(BA123:BA128)","v":0},{"$f":"SUM(BB123:BB128)","v":0},{"$f":"SUM(BC123:BC128)","v":0},{"$f":"SUM(BD123:BD128)","v":0},{"$f":"SUM(BE123:BE128)","v":0}]
["Díl:","8","Trubní vedení",null,null,null,null,null,null,null,null,null,null,null,1]
[20,"857262121R00","Montáž tvarovek litin. jednoos. přír. výkop DN 100 včetně nerezových spoj. prvků a obandážování spoje","kus",9,null,{"$f":"E131*F131","v":0},4.0999999999999999E-4,{"$f":"E131*H131","v":3.6899999999999997E-3},0,{"$f":"E131*J131","v":0},null,null,null,2,null,null,null,null,null,null,null,null,null,null,null,1,1,1,null,null,null,null,null,null,null,null,null,null,null,null,null,null,null,null,null,null,null,null,null,null,1,{"$f":"IF(AZ131=1,G131,0)","v":0},{"$f":"IF(AZ131=2,G131,0)","v":0},{"$f":"IF(AZ131=3,G131,0)","v":0},{"$f":"IF(AZ131=4,G131,0)","v":0},{"$f":"IF(AZ131=5,G131,0)","v":0},null,null,null,null,null,null,null,null,null,null,null,null,null,null,null,null,null,null,null,null,null,1,1]
[null,null,"Položka je určena pro montáž litinových tvarovek na potrubí litinovém tlakovém přírubovém jednoosých v otevřeném výkopu, v otevřeném kanálu nebo v šachtě.",null,null,null,null,null,null,null,null,"Položka je určena pro montáž litinových tvarovek na potrubí litinovém tlakovém přírubovém jednoosých v otevřeném výkopu, v otevřeném kanálu nebo v šachtě.",null,null,3]
[null,null,"Výtlaky VA:",null,0,null,null,null,null,null,null,null,"Výtlaky VA:"]
[null,null,"Jištěná příruba DN100:4",null,4,null,null,null,null,null,null,null,"Jištěná příruba DN100:4"]
[null,null,"FF DN100/150:1",null,1,null,null,null,null,null,null,null,"FF DN100/150:1"]
[null,null,"FF DN100/600:3",null,3,null,null,null,null,null,null,null,"FF DN100/600:3"]
[null,null,"FF DN100/1000:1",null,1,null,null,null,null,null,null,null,"FF DN100/1000:1"]
[21,"857264121R00","Montáž tvarovek litin. odboč. přír. výkop DN 100 včetně nerezových spoj. prvků a obandážování spoje","kus",1,null,{"$f":"E138*F138","v":0},6.2E-4,{"$f":"E138*H138","v":6.2E-4},0,{"$f":"E138*J138","v":0},null,null,null,2,null,null,null,null,null,null,null,null,null,null,null,1,1,1,null,null,null,null,null,null,null,null,null,null,null,null,null,null,null,null,null,null,null,null,null,null,1,{"$f":"IF(AZ138=1,G138,0)","v":0},{"$f":"IF(AZ138=2,G138,0)","v":0},{"$f":"IF(AZ138=3,G138,0)","v":0},{"$f":"IF(AZ138=4,G138,0)","v":0},{"$f":"IF(AZ138=5,G138,0)","v":0},null,null,null,null,null,null,null,null,null,null,null,null,null,null,null,null,null,null,null,null,null,1,1]
[null,null,"Položka je určena pro montáž litinových tvarovek na potrubí litinovém tlakovém přírubovém odbočných v otevřeném výkopu, v otevřeném kanálu nebo v šachtě.",null,null,null,null,null,null,null,null,"Položka je určena pro montáž litinových tvarovek na potrubí litinovém tlakovém přírubovém odbočných v otevřeném výkopu, v otevřeném kanálu nebo v šachtě.",null,null,3]
[null,null,"Výtlaky VA:",null,0,null,null,null,null,null,null,null,"Výtlaky VA:"]
[null,null,"T DN100/100:1",null,1,null,null,null,null,null,null,null,"T DN100/100:1"]
[22,"871251121R00","Montáž trubek polyetylenových ve výkopu d 110 mm ","m",109.41,null,{"$f":"E142*F142","v":0},0,{"$f":"E142*H142","v":0},0,{"$f":"E142*J142","v":0},null,null,null,2,null,null,null,null,null,null,null,null,null,null,null,1,1,1,null,null,null,null,null,null,null,null,null,null,null,null,null,null,null,null,null,null,null,null,null,null,1,{"$f":"IF(AZ142=1,G142,0)","v":0},{"$f":"IF(AZ142=2,G142,0)","v":0},{"$f":"IF(AZ142=3,G142,0)","v":0},{"$f":"IF(AZ142=4,G142,0)","v":0},{"$f":"IF(AZ142=5,G142,0)","v":0},null,null,null,null,null,null,null,null,null,null,null,null,null,null,null,null,null,null,null,null,null,1,1]
[null,null,"V položce je uvažováno s jedním spojem na 6 m potrubí včetně montáže elektrotvarovek.",null,null,null,null,null,null,null,null,"V položce je uvažováno s jedním spojem na 6 m potrubí včetně montáže elektrotvarovek.",null,null,3]
[null,null,"Výtlak VA PE D 110x10,0 mm:109,41",null,109.41,null,null,null,null,null,null,null,"Výtlak VA PE D 110x10,0 mm:109,41"]
[23,"871811121R00","Pluhování potr.,rozvoz po trase,na tupo,návi,110mm ","m",1890.6,null,{"$f":"E145*F145","v":0},0,{"$f":"E145*H145","v":0},0,{"$f":"E145*J145","v":0},null,null,null,2,null,null,null,null,null,null,null,null,null,null,null,1,0,0,null,null,null,null,null,null,null,null,null,null,null,null,null,null,null,null,null,null,null,null,null,null,1,{"$f":"IF(AZ145=1,G145,0)","v":0},{"$f":"IF(AZ145=2,G145,0)","v":0},{"$f":"IF(AZ145=3,G145,0)","v":0},{"$f":"IF(AZ145=4,G145,0)","v":0},{"$f":"IF(AZ145=5,G145,0)","v":0},null,null,null,null,null,null,null,null,null,null,null,null,null,null,null,null,null,null,null,null,null,1,0]
[null,null,"Metoda spočívá ve vtažení potrubí do dutiny v zemi vytvořené pluhovacím zařízením. ",null,null,null,null,null,null,null,null,"Metoda spočívá ve vtažení potrubí do dutiny v zemi vytvořené pluhovacím zařízením. ",null,null,3]
[null,null,"Pluhovací zařízení je soustava strojů - tažné vozidlo s navijákem a kotvou a stroj s pluhem a zařízením pro pokládku.",null,null,null,null,null,null,null,null,"Pluhovací zařízení je soustava strojů - tažné vozidlo s navijákem a kotvou a stroj s pluhem a zařízením pro pokládku.",null,null,3]
[null,null,"Na začátku trasy je radlice pluhu vsazena do startovací jámy do hloubky pokládky. Pluh je tažen pomocí lanového navijáku k tažnému vozidlu. Radlice pluhu vytlačuje zeminu a vytváří dutinu. Dutinou je protahováno zaváděcí zařízení, které ukládá do dutiny potrubí. Po přitažení pluhu k tažnému vozidlu se tažné vozidlo posune na délku lana (100-120 m), zakotví a navijákem opět přitahuje pluh a zaváděcí zařízení.",null,null,null,null,null,null,null,null,"Na začátku trasy je radlice pluhu vsazena do startovací jámy do hloubky pokládky. Pluh je tažen pomocí lanového navijáku k tažnému vozidlu. Radlice pluhu vytlačuje zeminu a vytváří dutinu. Dutinou je protahováno zaváděcí zařízení, které ukládá do dutiny potrubí. Po přitažení pluhu k tažnému vozidlu se tažné vozidlo posune na délku lana (100-120 m), zakotví a navijákem opět přitahuje pluh a zaváděcí zařízení.",null,null,3]
[null,null,"Položka obsahuje i svaření potrubí z trubek podél pokládkové trasy.",null,null,null,null,null,null,null,null,"Položka obsahuje i svaření potrubí z trubek podél pokládkové trasy.",null,null,3]
[null,null,"Výtlak VA PE D 110x10,0 mm:1890,60",null,1890.6,null,null,null,null,null,null,null,"Výtlak VA PE D 110x10,0 mm:1890,60"]
[24,"871812111R00","Příplatek za zaměření GPS během pokládky ","m",2468.85,null,{"$f":"E151*F151","v":0},0,{"$f":"E151*H151","v":0},0,{"$f":"E151*J151","v":0},null,null,null,2,null,null,null,null,null,null,null,null,null,null,null,1,1,1,null,null,null,null,null,null,null,null,null,null,null,null,null,null,null,null,null,null,null,null,null,null,1,{"$f":"IF(AZ151=1,G151,0)","v":0},{"$f":"IF(AZ151=2,G151,0)","v":0},{"$f":"IF(AZ151=3,G151,0)","v":0},{"$f":"IF(AZ151=4,G151,0)","v":0},{"$f":"IF(AZ151=5,G151,0)","v":0},null,null,null,null,null,null,null,null,null,null,null,null,null,null,null,null,null,null,null,null,null,1,1]
[null,null,"Výtlak VA PE D 110x10,0 mm - pluhování:1890,60",null,1890.6,null,null,null,null,null,null,null,"Výtlak VA PE D 110x10,0 mm - pluhování:1890,60"]
[null,null,"Výtlak VA PE D 110x10,0 mm - řízený protlak:578,25",null,578.25,null,null,null,null,null,null,null,"Výtlak VA PE D 110x10,0 mm - řízený protlak:578,25"]
[25,"871812112R00","Příplatek za položení signalizačního vodiče ","m",2468.85,null,{"$f":"E154*F154","v":0},0,{"$f":"E154*H154","v":0},0,{"$f":"E154*J154","v":0},null,null,null,2,null,null,null,null,null,null,null,null,null,null,null,1,1,1,null,null,null,null,null,null,null,null,null,null,null,null,null,null,null,null,null,null,null,null,null,null,1,{"$f":"IF(AZ154=1,G154,0)","v":0},{"$f":"IF(AZ154=2,G154,0)","v":0},{"$f":"IF(AZ154=3,G154,0)","v":0},{"$f":"IF(AZ154=4,G154,0)","v":0},{"$f":"IF(AZ154=5,G154,0)","v":0},null,null,null,null,null,null,null,null,null,null,null,null,null,null,null,null,null,null,null,null,null,1,1]
[null,null,"Výtlak VA PE D 110x10,0 mm - pluhování:1890,60",null,1890.6,null,null,null,null,null,null,null,"Výtlak VA PE D 110x10,0 mm - pluhování:1890,60"]
[null,null,"Výtlak VA PE D 110x10,0 mm - řízený protlak:578,25",null,578.25,null,null,null,null,null,null,null,"Výtlak VA PE D 110x10,0 mm - řízený protlak:578,25"]
[26,"877252121R00","Přirážka za 1 spoj elektrotvarovky d 110 mm ","kus",60,null,{"$f":"E157*F157","v":0},0,{"$f":"E157*H157","v":0},0,{"$f":"E157*J157","v":0},null,null,null,2,null,null,null,null,null,null,null,null,null,null,null,1,1,1,null,null,null,null,null,null,null,null,null,null,null,null,null,null,null,null,null,null,null,null,null,null,1,{"$f":"IF(AZ157=1,G157,0)","v":0},{"$f":"IF(AZ157=2,G157,0)","v":0},{"$f":"IF(AZ157=3,G157,0)","v":0},{"$f":"IF(AZ157=4,G157,0)","v":0},{"$f":"IF(AZ157=5,G157,0)","v":0},null,null,null,null,null,null,null,null,null,null,null,null,null,null,null,null,null,null,null,null,null,1,1]
[null,null,"Výtlaky VA:",null,0,null,null,null,null,null,null,null,"Výtlaky VA:"]
[null,null,"Elektrospojka d 110:60",null,60,null,null,null,null,null,null,null,"Elektrospojka d 110:60"]
[27,"891261221R00","Montáž vodovod. šoupátek šacht. kolečko DN 100 ","kus",2,null,{"$f":"E160*F160","v":0},4.0999999999999999E-4,{"$f":"E160*H160","v":8.1999999999999998E-4},0,{"$f":"E160*J160","v":0},null,null,null,2,null,null,null,null,null,null,null,null,null,null,null,1,1,1,null,null,null,null,null,null,null,null,null,null,null,null,null,null,null,null,null,null,null,null,null,null,1,{"$f":"IF(AZ160=1,G160,0)","v":0},{"$f":"IF(AZ160=2,G160,0)","v":0},{"$f":"IF(AZ160=3,G160,0)","v":0},{"$f":"IF(AZ160=4,G160,0)","v":0},{"$f":"IF(AZ160=5,G160,0)","v":0},null,null,null,null,null,null,null,null,null,null,null,null,null,null,null,null,null,null,null,null,null,1,1]
[null,null,"Položka je určena pro montáž vodovodních šoupátek v šachtách s ručním kolečkem. ",null,null,null,null,null,null,null,null,"Položka je určena pro montáž vodovodních šoupátek v šachtách s ručním kolečkem. ",null,null,3]
[null,null,"Výtlaky VA:",null,0,null,null,null,null,null,null,null,"Výtlaky VA:"]
[null,null,"Š DN100:2",null,2,null,null,null,null,null,null,null,"Š DN100:2"]
[28,"891265321R00","Montáž zpětných klapek DN 100 ","kus",2,null,{"$f":"E164*F164","v":0},4.0999999999999999E-4,{"$f":"E164*H164","v":8.1999999999999998E-4},0,{"$f":"E164*J164","v":0},null,null,null,2,null,null,null,null,null,null,null,null,null,null,null,1,1,1,null,null,null,null,null,null,null,null,null,null,null,null,null,null,null,null,null,null,null,null,null,null,1,{"$f":"IF(AZ164=1,G164,0)","v":0},{"$f":"IF(AZ164=2,G164,0)","v":0},{"$f":"IF(AZ164=3,G164,0)","v":0},{"$f":"IF(AZ164=4,G164,0)","v":0},{"$f":"IF(AZ164=5,G164,0)","v":0},null,null,null,null,null,null,null,null,null,null,null,null,null,null,null,null,null,null,null,null,null,1,1]
[null,null,"Výtlaky VA:",null,0,null,null,null,null,null,null,null,"Výtlaky VA:"]
[null,null,"ZK DN100:2",null,2,null,null,null,null,null,null,null,"ZK DN100:2"]
[29,"892230076RRX","Čištění potrubí včetně zkoušky průchodnosti do DN100","m",2578.2600000000002,null,{"$f":"E167*F167","v":0},0,{"$f":"E167*H167","v":0},0,{"$f":"E167*J167","v":0},null,null,null,2,null,null,null,null,null,null,null,null,null,null,null,1,9,9,null,null,null,null,null,null,null,null,null,null,null,null,null,null,null,null,null,null,null,null,null,null,1,{"$f":"IF(AZ167=1,G167,0)","v":0},{"$f":"IF(AZ167=2,G167,0)","v":0},{"$f":"IF(AZ167=3,G167,0)","v":0},{"$f":"IF(AZ167=4,G167,0)","v":0},{"$f":"IF(AZ167=5,G167,0)","v":0},null,null,null,null,null,null,null,null,null,null,null,null,null,null,null,null,null,null,null,null,null,1,9]
[null,null,"Výtlak VA PE D 110x10,0 mm - pluhování:1890,60",null,1890.6,null,null,null,null,null,null,null,"Výtlak VA PE D 110x10,0 mm - pluhování:1890,60"]
[null,null,"Výtlak VA PE D 110x10,0 mm - řízený protlak:578,25",null,578.25,null,null,null,null,null,null,null,"Výtlak VA PE D 110x10,0 mm - řízený protlak:578,25"]
[null,null,"Výtlak VA PE D 110x10,0 mm - rýha:109,41",null,109.41,null,null,null,null,null,null,null,"Výtlak VA PE D 110x10,0 mm - rýha:109,41"]
[30,"892271111R00","Tlaková zkouška potrubí kanalizačního výtlak DN125 ","m",2578.2600000000002,null,{"$f":"E171*F171","v":0},0,{"$f":"E171*H171","v":0},0,{"$f":"E171*J171","v":0},null,null,null,2,null,null,null,null,null,null,null,null,null,null,null,1,1,1,null,null,null,null,null,null,null,null,null,null,null,null,null,null,null,null,null,null,null,null,null,null,1,{"$f":"IF(AZ171=1,G171,0)","v":0},{"$f":"IF(AZ171=2,G171,0)","v":0},{"$f":"IF(AZ171=3,G171,0)","v":0},{"$f":"IF(AZ171=4,G171,0)","v":0},{"$f":"IF(AZ171=5,G171,0)","v":0},null,null,null,null,null,null,null,null,null,null,null,null,null,null,null,null,null,null,null,null,null,1,1]
[null,null,"V položce jsou započteny náklady na přísun, montáž, demontáž a odsun zkoušecího čerpadla, napuštění tlakovou vodou a dodání vody pro tlakovou zkoušku.",null,null,null,null,null,null,null,null,"V položce jsou započteny náklady na přísun, montáž, demontáž a odsun zkoušecího čerpadla, napuštění tlakovou vodou a dodání vody pro tlakovou zkoušku.",null,null,3]
[null,null,"Součástí položky je i zajištění konců zkoušeného potrubí.",null,null,null,null,null,null,null,null,"Součástí položky je i zajištění konců zkoušeného potrubí.",null,null,3]
[null,null,"Výtlak VA PE D 110x10,0 mm - pluhování:1890,60",null,1890.6,null,null,null,null,null,null,null,"Výtlak VA PE D 110x10,0 mm - pluhování:1890,60"]
[null,null,"Výtlak VA PE D 110x10,0 mm - řízený protlak:578,25",null,578.25,null,null,null,null,null,null,null,"Výtlak VA PE D 110x10,0 mm - řízený protlak:578,25"]
[null,null,"Výtlak VA PE D 110x10,0 mm - rýha:109,41",null,109.41,null,null,null,null,null,null,null,"Výtlak VA PE D 110x10,0 mm - rýha:109,41"]
[31,"899000022R00","Armaturní ŽB šachta AŠ 2 dle PD ","m3 OP",14.96,null,{"$f":"E177*F177","v":0},0,{"$f":"E177*H177","v":0},0,{"$f":"E177*J177","v":0},null,null,null,2,null,null,null,null,null,null,null,null,null,null,null,1,1,1,null,null,null,null,null,null,null,null,null,null,null,null,null,null,null,null,null,null,null,null,null,null,1,{"$f":"IF(AZ177=1,G177,0)","v":0},{"$f":"IF(AZ177=2,G177,0)","v":0},{"$f":"IF(AZ177=3,G177,0)","v":0},{"$f":"IF(AZ177=4,G177,0)","v":0},{"$f":"IF(AZ177=5,G177,0)","v":0},null,null,null,null,null,null,null,null,null,null,null,null,null,null,null,null,null,null,null,null,null,1,1]
[null,null,"Kompletní provedení ŽB šachty dle výkresové dokumentace včetně zemních prací,podkladního betomu, štěrkopísku, izolací, poklopů a stupadel..Celková váha výztuže 526 kg.",null,null,null,null,null,null,null,null,"Kompletní provedení šachty dle výkresové dokumentace včetně zemních prací,podkladního betomu, štěrkopísku, izolací, poklopů a stupadel..",null,null,3]
[null,null,"AŠ2:14,96",null,14.96,null,null,null,null,null,null,null,"AŠ2:14,96"]
[32,"899721112R00","Fólie výstražná z PVC, šířka 30 cm ","m",578.25,null,{"$f":"E180*F180","v":0},0,{"$f":"E180*H180","v":0},0,{"$f":"E180*J180","v":0},null,null,null,2,null,null,null,null,null,null,null,null,null,null,null,1,1,1,null,null,null,null,null,null,null,null,null,null,null,null,null,null,null,null,null,null,null,null,null,null,1,{"$f":"IF(AZ180=1,G180,0)","v":0},{"$f":"IF(AZ180=2,G180,0)","v":0},{"$f":"IF(AZ180=3,G180,0)","v":0},{"$f":"IF(AZ180=4,G180,0)","v":0},{"$f":"IF(AZ180=5,G180,0)","v":0},null,null,null,null,null,null,null,null,null,null,null,null,null,null,null,null,null,null,null,null,null,1,1]
[null,null,"Výtlak VA PE D 110x10,0 mm - rýha:578,25",null,578.25,null,null,null,null,null,null,null,"Výtlak VA PE D 110x10,0 mm - rýha:578,25"]
[33,"899731113R00","Vodič signalizační CYY 4 mm2 proměření včetně revize vodiče","m",2578.2600000000002,null,{"$f":"E182*F182","v":0},5.0000000000000002E-5,{"$f":"E182*H182","v":0.12891300000000003},0,{"$f":"E182*J182","v":0},null,null,null,2,null,null,null,null,null,null,null,null,null,null,null,1,1,1,null,null,null,null,null,null,null,null,null,null,null,null,null,null,null,null,null,null,null,null,null,null,1,{"$f":"IF(AZ182=1,G182,0)","v":0},{"$f":"IF(AZ182=2,G182,0)","v":0},{"$f":"IF(AZ182=3,G182,0)","v":0},{"$f":"IF(AZ182=4,G182,0)","v":0},{"$f":"IF(AZ182=5,G182,0)","v":0},null,null,null,null,null,null,null,null,null,null,null,null,null,null,null,null,null,null,null,null,null,1,1]
[null,null,"Výtlak VA PE D 110x10,0 mm - pluhování:1890,60",null,1890.6,null,null,null,null,null,null,null,"Výtlak VA PE D 110x10,0 mm - pluhování:1890,60"]
[null,null,"Výtlak VA PE D 110x10,0 mm - řízený protlak:578,25",null,578.25,null,null,null,null,null,null,null,"Výtlak VA PE D 110x10,0 mm - řízený protlak:578,25"]
[null,null,"Výtlak VA PE D 110x10,0 mm - rýha:109,41",null,109.41,null,null,null,null,null,null,null,"Výtlak VA PE D 110x10,0 mm - rýha:109,41"]
[34,"899731114R00","Vodič signalizační CYY 6 mm2 proměření včetně revize vodiče","m",2578.2600000000002,null,{"$f":"E186*F186","v":0},8.0000000000000007E-5,{"$f":"E186*H186","v":0.20626080000000002},0,{"$f":"E186*J186","v":0},null,null,null,2,null,null,null,null,null,null,null,null,null,null,null,1,1,1,null,null,null,null,null,null,null,null,null,null,null,null,null,null,null,null,null,null,null,null,null,null,1,{"$f":"IF(AZ186=1,G186,0)","v":0},{"$f":"IF(AZ186=2,G186,0)","v":0},{"$f":"IF(AZ186=3,G186,0)","v":0},{"$f":"IF(AZ186=4,G186,0)","v":0},{"$f":"IF(AZ186=5,G186,0)","v":0},null,null,null,null,null,null,null,null,null,null,null,null,null,null,null,null,null,null,null,null,null,1,1]
[null,null,"Výtlak VA PE D 110x10,0 mm - pluhování:1890,60",null,1890.6,null,null,null,null,null,null,null,"Výtlak VA PE D 110x10,0 mm - pluhování:1890,60"]
[null,null,"Výtlak VA PE D 110x10,0 mm - řízený protlak:578,25",null,578.25,null,null,null,null,null,null,null,"Výtlak VA PE D 110x10,0 mm - řízený protlak:578,25"]
[null,null,"Výtlak VA PE D 110x10,0 mm - rýha:109,41",null,109.41,null,null,null,null,null,null,null,"Výtlak VA PE D 110x10,0 mm - rýha:109,41"]
[35,"28613010.M","Elektrospojka d 110 mm PE100 SDR11","kus",60.9,null,{"$f":"E190*F190","v":0},6.9999999999999994E-5,{"$f":"E190*H190","v":4.2629999999999994E-3},null,{"$f":"E190*J190","v":0},null,null,null,2,null,null,null,null,null,null,null,null,null,null,null,3,1,"28613010.M",null,null,null,null,null,null,null,null,null,null,null,null,null,null,null,null,null,null,null,null,null,null,1,{"$f":"IF(AZ190=1,G190,0)","v":0},{"$f":"IF(AZ190=2,G190,0)","v":0},{"$f":"IF(AZ190=3,G190,0)","v":0},{"$f":"IF(AZ190=4,G190,0)","v":0},{"$f":"IF(AZ190=5,G190,0)","v":0},null,null,null,null,null,null,null,null,null,null,null,null,null,null,null,null,null,null,null,null,null,3,1]
[null,null,"Výtlaky VA:",null,0,null,null,null,null,null,null,null,"Výtlaky VA:"]
[null,null,"Elektrospojka d 110:60*1,015",null,60.9,null,null,null,null,null,null,null,"Elektrospojka d 110:60*1,015"]
[36,"286134455","Trubka tlaková PE100RC D SDR11 110x10,0 mm tyče kanalizace","m",111.05110000000001,null,{"$f":"E193*F193","v":0},2.1199999999999999E-3,{"$f":"E193*H193","v":0.23542833199999999},null,{"$f":"E193*J193","v":0},null,null,null,2,null,null,null,null,null,null,null,null,null,null,null,3,1,286134455,null,null,null,null,null,null,null,null,null,null,null,null,null,null,null,null,null,null,null,null,null,null,1,{"$f":"IF(AZ193=1,G193,0)","v":0},{"$f":"IF(AZ193=2,G193,0)","v":0},{"$f":"IF(AZ193=3,G193,0)","v":0},{"$f":"IF(AZ193=4,G193,0)","v":0},{"$f":"IF(AZ193=5,G193,0)","v":0},null,null,null,null,null,null,null,null,null,null,null,null,null,null,null,null,null,null,null,null,null,3,1]
[null,null,"Trubky kanalizační z PE100RC podle ČSN EN 12201 s ochranným pláštěm",null,null,null,null,null,null,null,null,"Trubky kanalizační z PE100RC podle ČSN EN 12201 s ochranným pláštěm",null,null,3]
[null,null,"RC D vnitřní trubka černá s hnědými pruhy",null,null,null,null,null,null,null,null,"RC D vnitřní trubka černá s hnědými pruhy",null,null,3]
[null,null,"vnější ochranná vrstva z PP barvy hnědé",null,null,null,null,null,null,null,null,"vnější ochranná vrstva z PP barvy hnědé",null,null,3]
[null,null,"Výtlak VA PE D 110x10,0 mm - rýha:109,41*1,015",null,111.05110000000001,null,null,null,null,null,null,null,"Výtlak VA PE D 110x10,0 mm - rýha:109,41*1,015"]
[37,"286134456.R","Trubka tlaková PE100RC D SDR11 110x10,0 mm návin kanalizace","m",1918.9590000000001,null,{"$f":"E198*F198","v":0},2.1199999999999999E-3,{"$f":"E198*H198","v":4.0681930800000004},null,{"$f":"E198*J198","v":0},null,null,null,2,null,null,null,null,null,null,null,null,null,null,null,3,1,"286134456.R",null,null,null,null,null,null,null,null,null,null,null,null,null,null,null,null,null,null,null,null,null,null,1,{"$f":"IF(AZ198=1,G198,0)","v":0},{"$f":"IF(AZ198=2,G198,0)","v":0},{"$f":"IF(AZ198=3,G198,0)","v":0},{"$f":"IF(AZ198=4,G198,0)","v":0},{"$f":"IF(AZ198=5,G198,0)","v":0},null,null,null,null,null,null,null,null,null,null,null,null,null,null,null,null,null,null,null,null,null,3,1]
[null,null,"Trubky kanalizační z PE100RC2 K  podle ČSN EN 12201 s ochranným pláštěm",null,null,null,null,null,null,null,null,"Trubky kanalizační z PE100RC2 K  podle ČSN EN 12201 s ochranným pláštěm",null,null,3]
[null,null,"RC2 K vnitřní trubka černá s hnědými pruhy",null,null,null,null,null,null,null,null,"RC2 K vnitřní trubka černá s hnědými pruhy",null,null,3]
[null,null,"vnější ochranná vrstva z modifikovaného PE barvy hnědé s integrovaným vodičem.",null,null,null,null,null,null,null,null,"vnější ochranná vrstva z modifikovaného PE barvy hnědé s integrovaným vodičem.",null,null,3]
[null,null,"Výtlak VA PE D 110x10,0 mm - pluhování:1890,60*1,015",null,1918.9590000000001,null,null,null,null,null,null,null,"Výtlak VA PE D 110x10,0 mm - pluhování:1890,60*1,015"]
[38,"42200400.08","Jistící příruba \"Systém 2000\" 100/110 č.0400","kus",4,null,{"$f":"E203*F203","v":0},1.8499999999999999E-2,{"$f":"E203*H203","v":7.3999999999999996E-2},null,{"$f":"E203*J203","v":0},null,null,null,2,null,null,null,null,null,null,null,null,null,null,null,3,1,42200400.079999998,null,null,null,null,null,null,null,null,null,null,null,null,null,null,null,null,null,null,null,null,null,null,1,{"$f":"IF(AZ203=1,G203,0)","v":0},{"$f":"IF(AZ203=2,G203,0)","v":0},{"$f":"IF(AZ203=3,G203,0)","v":0},{"$f":"IF(AZ203=4,G203,0)","v":0},{"$f":"IF(AZ203=5,G203,0)","v":0},null,null,null,null,null,null,null,null,null,null,null,null,null,null,null,null,null,null,null,null,null,3,1]
[null,null,"Výtlaky VA, VC a VE:",null,0,null,null,null,null,null,null,null,"Výtlaky VA, VC a VE:"]
[null,null,"Jištěná příruba DN100:4",null,4,null,null,null,null,null,null,null,"Jištěná příruba DN100:4"]
[39,"42204000.04","Šoupátko DN100 č. 4000 E2","kus",2,null,{"$f":"E206*F206","v":0},1.8499999999999999E-2,{"$f":"E206*H206","v":3.6999999999999998E-2},null,{"$f":"E206*J206","v":0},null,null,null,2,null,null,null,null,null,null,null,null,null,null,null,3,1,42204000.039999999,null,null,null,null,null,null,null,null,null,null,null,null,null,null,null,null,null,null,null,null,null,null,1,{"$f":"IF(AZ206=1,G206,0)","v":0},{"$f":"IF(AZ206=2,G206,0)","v":0},{"$f":"IF(AZ206=3,G206,0)","v":0},{"$f":"IF(AZ206=4,G206,0)","v":0},{"$f":"IF(AZ206=5,G206,0)","v":0},null,null,null,null,null,null,null,null,null,null,null,null,null,null,null,null,null,null,null,null,null,3,1]
[null,null,"Šoupátko přírubové krkové - měkcetěsnící klínové šoupátko s hladkým a volným průtokovým kanálem",null,null,null,null,null,null,null,null,"Šoupátko přírubové krkové - měkcetěsnící klínové šoupátko s hladkým a volným průtokovým kanálem",null,null,3]
[null,null,"č. 4000 E2",null,null,null,null,null,null,null,null,"č. 4000 E2",null,null,3]
[null,null,"PN 16",null,null,null,null,null,null,null,null,"PN 16",null,null,3]
[null,null,"DN 100",null,null,null,null,null,null,null,null,"DN 100",null,null,3]
[null,null,"těleso a víko: tvárná litina GGG 400 - DIN 1693",null,null,null,null,null,null,null,null,"těleso a víko: tvárná litina GGG 400 - DIN 1693",null,null,3]
[null,null,"medium: pitná voda, neagresivní odpadní voda",null,null,null,null,null,null,null,null,"medium: pitná voda, neagresivní odpadní voda",null,null,3]
[null,null,"Výtlaky VA:",null,0,null,null,null,null,null,null,null,"Výtlaky VA:"]
[null,null,"Š DN100:2",null,2,null,null,null,null,null,null,null,"Š DN100:2"]
[40,"42207800.02","Ruční kolo pro šoupátko DN100","kus",2,null,{"$f":"E215*F215","v":0},6.1999999999999998E-3,{"$f":"E215*H215","v":1.24E-2},null,{"$f":"E215*J215","v":0},null,null,null,2,null,null,null,null,null,null,null,null,null,null,null,3,1,42207800.020000003,null,null,null,null,null,null,null,null,null,null,null,null,null,null,null,null,null,null,null,null,null,null,1,{"$f":"IF(AZ215=1,G215,0)","v":0},{"$f":"IF(AZ215=2,G215,0)","v":0},{"$f":"IF(AZ215=3,G215,0)","v":0},{"$f":"IF(AZ215=4,G215,0)","v":0},{"$f":"IF(AZ215=5,G215,0)","v":0},null,null,null,null,null,null,null,null,null,null,null,null,null,null,null,null,null,null,null,null,null,3,1]
[null,null,"Ruční kolo uzavírací pro šoupátka z šsdé litiny GG 250 s epoxidovou ochrannou vrstvou.",null,null,null,null,null,null,null,null,"Ruční kolo uzavírací pro šoupátka z šsdé litiny GG 250 s epoxidovou ochrannou vrstvou.",null,null,3]
[null,null,"Pro Š DN100.",null,null,null,null,null,null,null,null,"Pro Š DN100.",null,null,3]
[null,null,"Výtlaky VA:",null,0,null,null,null,null,null,null,null,"Výtlaky VA:"]
[null,null,"Š DN100:2",null,2,null,null,null,null,null,null,null,"Š DN100:2"]
[41,"42209831.04","Zpetná klapka DN 100","kus",2,null,{"$f":"E220*F220","v":0},2.8E-3,{"$f":"E220*H220","v":5.5999999999999999E-3},null,{"$f":"E220*J220","v":0},null,null,null,2,null,null,null,null,null,null,null,null,null,null,null,3,1,42209831.039999999,null,null,null,null,null,null,null,null,null,null,null,null,null,null,null,null,null,null,null,null,null,null,1,{"$f":"IF(AZ220=1,G220,0)","v":0},{"$f":"IF(AZ220=2,G220,0)","v":0},{"$f":"IF(AZ220=3,G220,0)","v":0},{"$f":"IF(AZ220=4,G220,0)","v":0},{"$f":"IF(AZ220=5,G220,0)","v":0},null,null,null,null,null,null,null,null,null,null,null,null,null,null,null,null,null,null,null,null,null,3,1]
[null,null,"Výtlaky VA:",null,0,null,null,null,null,null,null,null,"Výtlaky VA:"]
[null,null,"ZK DN100:2",null,2,null,null,null,null,null,null,null,"ZK DN100:2"]
[42,"55251241","Trouba přír.litin. FF DN 100 dl. 150 mm","kus",1,null,{"$f":"E223*F223","v":0},1.04E-2,{"$f":"E223*H223","v":1.04E-2},null,{"$f":"E223*J223","v":0},null,null,null,2,null,null,null,null,null,null,null,null,null,null,null,3,1,55251241,null,null,null,null,null,null,null,null,null,null,null,null,null,null,null,null,null,null,null,null,null,null,1,{"$f":"IF(AZ223=1,G223,0)","v":0},{"$f":"IF(AZ223=2,G223,0)","v":0},{"$f":"IF(AZ223=3,G223,0)","v":0},{"$f":"IF(AZ223=4,G223,0)","v":0},{"$f":"IF(AZ223=5,G223,0)","v":0},null,null,null,null,null,null,null,null,null,null,null,null,null,null,null,null,null,null,null,null,null,3,1]
[null,null,"Výtlaky VA:",null,0,null,null,null,null,null,null,null,"Výtlaky VA:"]
[null,null,"FF DN100/150:1",null,1,null,null,null,null,null,null,null,"FF DN100/150:1"]
[43,"55251248.A","Trouba přír.litin. FF DN100 dl.600mm s jištěním","kus",3,null,{"$f":"E226*F226","v":0},1.55E-2,{"$f":"E226*H226","v":4.65E-2},null,{"$f":"E226*J226","v":0},null,null,null,2,null,null,null,null,null,null,null,null,null,null,null,3,1,"55251248.A",null,null,null,null,null,null,null,null,null,null,null,null,null,null,null,null,null,null,null,null,null,null,1,{"$f":"IF(AZ226=1,G226,0)","v":0},{"$f":"IF(AZ226=2,G226,0)","v":0},{"$f":"IF(AZ226=3,G226,0)","v":0},{"$f":"IF(AZ226=4,G226,0)","v":0},{"$f":"IF(AZ226=5,G226,0)","v":0},null,null,null,null,null,null,null,null,null,null,null,null,null,null,null,null,null,null,null,null,null,3,1]
[null,null,"Výtlaky VA:",null,0,null,null,null,null,null,null,null,"Výtlaky VA:"]
[null,null,"FF DN100/600:3",null,3,null,null,null,null,null,null,null,"FF DN100/600:3"]
[44,"55251253","Trouba přír.litin. FF DN100 dl.1000mm","kus",1,null,{"$f":"E229*F229","v":0},2.6800000000000001E-2,{"$f":"E229*H229","v":2.6800000000000001E-2},null,{"$f":"E229*J229","v":0},null,null,null,2,null,null,null,null,null,null,null,null,null,null,null,3,1,55251253,null,null,null,null,null,null,null,null,null,null,null,null,null,null,null,null,null,null,null,null,null,null,1,{"$f":"IF(AZ229=1,G229,0)","v":0},{"$f":"IF(AZ229=2,G229,0)","v":0},{"$f":"IF(AZ229=3,G229,0)","v":0},{"$f":"IF(AZ229=4,G229,0)","v":0},{"$f":"IF(AZ229=5,G229,0)","v":0},null,null,null,null,null,null,null,null,null,null,null,null,null,null,null,null,null,null,null,null,null,3,1]
[null,null,"Výtlaky VA:",null,0,null,null,null,null,null,null,null,"Výtlaky VA:"]
[null,null,"FF DN100/1000:1",null,1,null,null,null,null,null,null,null,"FF DN100/1000:1"]
[45,"552599944","Tvarovka přír. s přír. odb. T DN 100/100","kus",1,null,{"$f":"E232*F232","v":0},1.9699999999999999E-2,{"$f":"E232*H232","v":1.9699999999999999E-2},null,{"$f":"E232*J232","v":0},null,null,null,2,null,null,null,null,null,null,null,null,null,null,null,3,1,552599944,null,null,null,null,null,null,null,null,null,null,null,null,null,null,null,null,null,null,null,null,null,null,1,{"$f":"IF(AZ232=1,G232,0)","v":0},{"$f":"IF(AZ232=2,G232,0)","v":0},{"$f":"IF(AZ232=3,G232,0)","v":0},{"$f":"IF(AZ232=4,G232,0)","v":0},{"$f":"IF(AZ232=5,G232,0)","v":0},null,null,null,null,null,null,null,null,null,null,null,null,null,null,null,null,null,null,null,null,null,3,1]
[null,null,"Výtlaky VA:",null,0,null,null,null,null,null,null,null,"Výtlaky VA:"]
[null,null,"T DN100/100:1",null,1,null,null,null,null,null,null,null,"T DN100/100:1"]
[null,"Celkem za","8 Trubní vedení",null,null,null,{"$f":"SUM(G130:G234)","v":0},null,{"$f":"SUM(I130:I234)","v":4.8814082120000002},null,{"$f":"SUM(K130:K234)","v":0},null,null,null,4,null,null,null,null,null,null,null,null,null,null,null,null,null,null,null,null,null,null,null,null,null,null,null,null,null,null,null,null,null,null,null,null,null,null,null,null,null,{"$f":"SUM(BA130:BA234)","v":0},{"$f":"SUM(BB130:BB234)","v":0},{"$f":"SUM(BC130:BC234)","v":0},{"$f":"SUM(BD130:BD234)","v":0},{"$f":"SUM(BE130:BE234)","v":0}]
["Díl:","99","Staveništní přesun hmot",null,null,null,null,null,null,null,null,null,null,null,1]
[46,"998276101R00","Přesun hmot, trubní vedení plastová, otevř. výkop ","t",53.819329856000003,null,{"$f":"E237*F237","v":0},0,{"$f":"E237*H237","v":0},null,{"$f":"E237*J237","v":0},null,null,null,2,null,null,null,null,null,null,null,null,null,null,null,7,1,2,null,null,null,null,null,null,null,null,null,null,null,null,null,null,null,null,null,null,null,null,null,null,1,{"$f":"IF(AZ237=1,G237,0)","v":0},{"$f":"IF(AZ237=2,G237,0)","v":0},{"$f":"IF(AZ237=3,G237,0)","v":0},{"$f":"IF(AZ237=4,G237,0)","v":0},{"$f":"IF(AZ237=5,G237,0)","v":0},null,null,null,null,null,null,null,null,null,null,null,null,null,null,null,null,null,null,null,null,null,7,1]
[null,"Celkem za","99 Staveništní přesun hmot",null,null,null,{"$f":"SUM(G236:G237)","v":0},null,{"$f":"SUM(I236:I237)","v":0},null,{"$f":"SUM(K236:K237)","v":0},null,null,null,4,null,null,null,null,null,null,null,null,null,null,null,null,null,null,null,null,null,null,null,null,null,null,null,null,null,null,null,null,null,null,null,null,null,null,null,null,null,{"$f":"SUM(BA236:BA237)","v":0},{"$f":"SUM(BB236:BB237)","v":0},{"$f":"SUM(BC236:BC237)","v":0},{"$f":"SUM(BD236:BD237)","v":0},{"$f":"SUM(BE236:BE237)","v":0}]

{"sheet":"303 303.1RD KL","index":13,"n_rows":45,"n_cols":8,"rows_kept":45,"cut":false,"hidden":false,"merged":[[22,0,22,1],[7,2,7,4],[8,2,8,4],[9,2,9,4],[10,2,10,4],[11,2,11,4],[50,1,50,6],[29,5,29,6],[30,5,30,6],[31,5,31,6],[32,5,32,6],[33,5,33,6],[36,1,44,6],[45,1,45,6],[46,1,46,6],[47,1,47,6],[48,1,48,6],[49,1,49,6]]}
["POLOŽKOVÝ ROZPOČET"]
["Rozpočet",null,"303.1RD","Kanalizační přípojky",null,"JKSO ","827.29.A2"]
[]
["Objekt",null,null,null,null,"SKP "]
["303",null,"Kanalizační přípojky",null,null,"Měrná jednotka","m"]
["Stavba",null,null,null,null,"Počet jednotek",0]
["3232",null,"Horní Slivno - Splašková kanalizace",null,null,"Náklady na m.j.",{"$f":"IF(G6=0,,ROUND((F30+F32)/G6,1))","v":0}]
["Projektant",null,"Radek Hnát - VAK PROJEKT",null,null,"Typ rozpočtu"]
["Zpracovatel projektu"]
["Objednatel",null,"Obec Horní Slivno"]
["Dodavatel",null,".",null,null,"Zakázkové číslo "]
["Rozpočtoval",null,null,null,null,"Počet listů"]
["ROZPOČTOVÉ NÁKLADY"]
["Základní rozpočtové náklady"]
[null,"HSV celkem",{"$f":"'303 303.1RD Rek'!E11","v":0}]
["Z","PSV celkem",{"$f":"'303 303.1RD Rek'!F11","v":0}]
["R","M práce celkem",{"$f":"'303 303.1RD Rek'!H11","v":0}]
["N","M dodávky celkem",{"$f":"'303 303.1RD Rek'!G11","v":0}]
["ZRN celkem",null,{"$f":"SUM(C15:C18)","v":0}]
[]
["HZS",null,{"$f":"'303 303.1RD Rek'!I11","v":0}]
["ZRN+HZS",null,{"$f":"C19+C21","v":0}]
["ZRN+ost.náklady+HZS",null,{"$f":"C22+G23","v":0}]
["Vypracoval",null,null,"Za zhotovitele",null,"Za objednatele"]
["Jméno :",null,null,"Jméno :",null,"Jméno :"]
["Datum :",null,null,"Datum :",null,"Datum :"]
[]
["Podpis :",null,null,"Podpis:",null,"Podpis:"]
[]
["Základ pro DPH",null,21,"%  ",null,{"$f":"C23-F32","v":0}]
["DPH",null,{"$f":"C30","v":21},"% ",null,{"$f":"ROUND(PRODUCT(F30,C31/100),0)","v":0}]
["Základ pro DPH",null,0,"% ",null,0]
["DPH",null,{"$f":"C32","v":0},"% ",null,{"$f":"ROUND(PRODUCT(F32,C33/100),0)","v":0}]
["CENA ZA OBJEKT CELKEM",null,null,null,null,{"$f":"ROUND(SUM(F30:F33),0)","v":0}]
[]
["Poznámka :",null,null,null,null,null,null," "]
[null,null,null,null,null,null,null," "]
[null,null,null,null,null,null,null," "]
[null,null,null,null,null,null,null," "]
[null,null,null,null,null,null,null," "]
[null,null,null,null,null,null,null," "]
[null,null,null,null,null,null,null," "]
[null,null,null,null,null,null,null," "]
[null,null,null,null,null,null,null," "]
[null,null,null,null,null,null,null," "]

{"sheet":"303 303.1RD Rek","index":14,"n_rows":11,"n_cols":9,"rows_kept":11,"cut":false,"hidden":false,"merged":[[0,0,0,1],[1,0,1,1],[1,6,1,8]]}
["Stavba :",null,"3232 Horní Slivno - Splašková kanalizace",null,null,null,"Rozpočet :","303.1RD"]
["Objekt :",null,"303 Kanalizační přípojky",null,null,null,"Kanalizační přípojky"]
[]
["REKAPITULACE  STAVEBNÍCH  DÍLŮ"]
[]
[null,"Stavební díl",null,null,"HSV","PSV","Dodávka","Montáž","HZS"]
[{"$f":"'303 303.1RD Pol'!B7","v":"1"},{"$f":"'303 303.1RD Pol'!C7","v":"Zemní práce"},null,null,{"$f":"'303 303.1RD Pol'!BA333","v":0},{"$f":"'303 303.1RD Pol'!BB333","v":0},{"$f":"'303 303.1RD Pol'!BC333","v":0},{"$f":"'303 303.1RD Pol'!BD333","v":0},{"$f":"'303 303.1RD Pol'!BE333","v":0}]
[{"$f":"'303 303.1RD Pol'!B334","v":"45"},{"$f":"'303 303.1RD Pol'!C334","v":"Podkladní a vedlejší konstrukce"},null,null,{"$f":"'303 303.1RD Pol'!BA357","v":0},{"$f":"'303 303.1RD Pol'!BB357","v":0},{"$f":"'303 303.1RD Pol'!BC357","v":0},{"$f":"'303 303.1RD Pol'!BD357","v":0},{"$f":"'303 303.1RD Pol'!BE357","v":0}]
[{"$f":"'303 303.1RD Pol'!B358","v":"8"},{"$f":"'303 303.1RD Pol'!C358","v":"Trubní vedení"},null,null,{"$f":"'303 303.1RD Pol'!BA476","v":0},{"$f":"'303 303.1RD Pol'!BB476","v":0},{"$f":"'303 303.1RD Pol'!BC476","v":0},{"$f":"'303 303.1RD Pol'!BD476","v":0},{"$f":"'303 303.1RD Pol'!BE476","v":0}]
[{"$f":"'303 303.1RD Pol'!B477","v":"99"},{"$f":"'303 303.1RD Pol'!C477","v":"Staveništní přesun hmot"},null,null,{"$f":"'303 303.1RD Pol'!BA479","v":0},{"$f":"'303 303.1RD Pol'!BB479","v":0},{"$f":"'303 303.1RD Pol'!BC479","v":0},{"$f":"'303 303.1RD Pol'!BD479","v":0},{"$f":"'303 303.1RD Pol'!BE479","v":0}]
[null,"CELKEM  OBJEKT",null,null,{"$f":"SUM(E7:E10)","v":0},{"$f":"SUM(F7:F10)","v":0},{"$f":"SUM(G7:G10)","v":0},{"$f":"SUM(H7:H10)","v":0},{"$f":"SUM(I7:I10)","v":0}]

{"sheet":"303 303.1RD Pol","index":15,"n_rows":479,"n_cols":80,"rows_kept":479,"cut":false,"hidden":false,"merged":[[12,2,12,3],[13,2,13,3],[14,2,14,3],[15,2,15,3],[16,2,16,3],[17,2,17,3],[0,0,0,6],[2,0,2,1],[3,0,3,1],[3,4,3,6],[8,2,8,3],[9,2,9,3],[10,2,10,3],[11,2,11,3],[24,2,24,3],[25,2,25,3],[26,2,26,3],[27,2,27,3],[28,2,28,3],[29,2,29,3],[18,2,18,3],[19,2,19,3],[20,2,20,3],[21,2,21,3],[22,2,22,3],[23,2,23,3],[37,2,37,3],[38,2,38,3],[39,2,39,3],[40,2,40,3],[41,2,41,3],[42,2,42,3],[30,2,30,3],[31,2,31,3],[33,2,33,6],[34,2,34,6],[35,2,35,3],[36,2,36,3],[49,2,49,3],[50,2,50,3],[51,2,51,3],[52,2,52,3],[53,2,53,3],[54,2,54,3],[43,2,43,3],[44,2,44,3],[45,2,45,3],[46,2,46,3],[47,2,47,3],[48,2,48,3],[62,2,62,3],[63,2,63,3],[64,2,64,3],[65,2,65,3],[66,2,66,3],[67,2,67,3],[55,2,55,3],[56,2,56,3],[57,2,57,3],[58,2,58,3],[60,2,60,6],[61,2,61,6],[74,2,74,3],[75,2,75,3],[76,2,76,3],[77,2,77,3],[78,2,78,3],[79,2,79,3],[68,2,68,3],[69,2,69,3],[70,2,70,3],[71,2,71,3],[72,2,72,3],[73,2,73,3],[87,2,87,3],[88,2,88,3],[89,2,89,3],[90,2,90,3],[91,2,91,3],[92,2,92,3],[81,2,81,6],[82,2,82,6],[83,2,83,3],[84,2,84,3],[85,2,85,3],[86,2,86,3],[99,2,99,3],[100,2,100,3],[102,2,102,3],[103,2,103,3],[104,2,104,3],[105,2,105,3],[93,2,93,3],[94,2,94,3],[95,2,95,3],[96,2,96,3],[97,2,97,3],[98,2,98,3],[112,2,112,3],[113,2,113,3],[114,2,114,3],[115,2,115,3],[116,2,116,3],[117,2,117,3],[106,2,106,3],[107,2,107,3],[108,2,108,3],[109,2,109,3],[110,2,110,3],[111,2,111,3],[125,2,125,3],[126,2,126,3],[127,2,127,3],[128,2,128,3],[129,2,129,3],[130,2,130,3],[118,2,118,3],[119,2,119,3],[121,2,121,6],[122,2,122,6],[123,2,123,3],[124,2,124,3],[137,2,137,3],[138,2,138,3],[139,2,139,3],[140,2,140,3],[142,2,142,3],[143,2,143,3],[131,2,131,3],[132,2,132,3],[133,2,133,3],[134,2,134,3],[135,2,135,3],[136,2,136,3],[150,2,150,3],[151,2,151,3],[152,2,152,3],[153,2,153,3],[154,2,154,3],[155,2,155,3],[144,2,144,3],[145,2,145,3],[146,2,146,3],[147,2,147,3],[148,2,148,3],[149,2,149,3],[163,2,163,6],[164,2,164,3],[165,2,165,3],[166,2,166,3],[167,2,167,3],[168,2,168,3],[156,2,156,3],[157,2,157,3],[158,2,158,3],[159,2,159,3],[161,2,161,6],[162,2,162,6],[175,2,175,3],[176,2,176,3],[177,2,177,3],[178,2,178,3],[179,2,179,3],[180,2,180,3],[169,2,169,3],[170,2,170,3],[171,2,171,3],[172,2,172,3],[173,2,173,3],[174,2,174,3],[188,2,188,3],[189,2,189,3],[190,2,190,3],[191,2,191,3],[192,2,192,3],[193,2,193,3],[181,2,181,3],[183,2,183,6],[184,2,184,6],[185,2,185,6],[186,2,186,3],[187,2,187,3],[200,2,200,3],[201,2,201,3],[202,2,202,3],[203,2,203,3],[205,2,205,3],[206,2,206,3],[194,2,194,3],[195,2,195,3],[196,2,196,3],[197,2,197,3],[198,2,198,3],[199,2,199,3],[213,2,213,3],[214,2,214,3],[215,2,215,3],[216,2,216,3],[217,2,217,3],[218,2,218,3],[207,2,207,3],[208,2,208,3],[209,2,209,3],[210,2,210,3],[211,2,211,3],[212,2,212,3],[225,2,225,3],[226,2,226,3],[227,2,227,3],[228,2,228,3],[229,2,229,3],[231,2,231,3],[219,2,219,3],[220,2,220,3],[221,2,221,3],[222,2,222,3],[223,2,223,3],[224,2,224,3],[238,2,238,3],[239,2,239,3],[240,2,240,3],[241,2,241,3],[242,2,242,3],[243,2,243,3],[232,2,232,3],[233,2,233,3],[234,2,234,3],[235,2,235,3],[236,2,236,3],[237,2,237,3],[250,2,250,3],[251,2,251,3],[252,2,252,3],[253,2,253,3],[254,2,254,3],[255,2,255,3],[244,2,244,3],[245,2,245,3],[246,2,246,3],[247,2,247,3],[248,2,248,3],[249,2,249,3],[263,2,263,3],[264,2,264,3],[265,2,265,3],[266,2,266,3],[267,2,267,3],[268,2,268,3],[256,2,256,3],[258,2,258,6],[259,2,259,3],[260,2,260,3],[261,2,261,3],[262,2,262,3],[275,2,275,3],[276,2,276,3],[277,2,277,3],[278,2,278,3],[279,2,279,3],[280,2,280,3],[269,2,269,3],[270,2,270,3],[271,2,271,3],[272,2,272,3],[273,2,273,3],[274,2,274,3],[288,2,288,3],[289,2,289,3],[290,2,290,3],[291,2,291,3],[292,2,292,3],[293,2,293,3],[281,2,281,3],[282,2,282,3],[283,2,283,3],[284,2,284,3],[286,2,286,3],[287,2,287,3],[300,2,300,3],[301,2,301,3],[302,2,302,3],[303,2,303,3],[304,2,304,3],[305,2,305,3],[294,2,294,3],[295,2,295,3],[296,2,296,3],[297,2,297,3],[298,2,298,3],[299,2,299,3],[313,2,313,3],[314,2,314,3],[315,2,315,3],[316,2,316,3],[317,2,317,3],[318,2,318,3],[307,2,307,3],[308,2,308,3],[309,2,309,3],[310,2,310,3],[311,2,311,3],[312,2,312,3],[325,2,325,3],[326,2,326,3],[327,2,327,3],[328,2,328,3],[329,2,329,3],[330,2,330,3],[319,2,319,3],[320,2,320,3],[321,2,321,3],[322,2,322,3],[323,2,323,3],[324,2,324,3],[343,2,343,3],[344,2,344,3],[345,2,345,3],[346,2,346,3],[347,2,347,3],[348,2,348,3],[331,2,331,3],[335,2,335,3],[336,2,336,3],[338,2,338,3],[339,2,339,3],[340,2,340,3],[341,2,341,3],[342,2,342,3],[355,2,355,3],[359,2,359,6],[360,2,360,6],[361,2,361,3],[362,2,362,3],[363,2,363,3],[364,2,364,3],[365,2,365,3],[349,2,349,3],[350,2,350,3],[351,2,351,3],[352,2,352,3],[353,2,353,3],[354,2,354,3],[372,2,372,3],[373,2,373,3],[374,2,374,3],[375,2,375,3],[377,2,377,3],[378,2,378,3],[366,2,366,3],[367,2,367,3],[368,2,368,3],[369,2,369,3],[370,2,370,3],[371,2,371,3],[385,2,385,3],[386,2,386,3],[387,2,387,3],[388,2,388,3],[389,2,389,3],[390,2,390,3],[379,2,379,3],[380,2,380,3],[381,2,381,3],[382,2,382,3],[383,2,383,3],[384,2,384,3],[400,2,400,6],[401,2,401,3],[402,2,402,3],[403,2,403,3],[404,2,404,3],[405,2,405,3],[391,2,391,3],[393,2,393,3],[394,2,394,3],[396,2,396,6],[397,2,397,3],[398,2,398,3],[412,2,412,3],[413,2,413,3],[414,2,414,3],[415,2,415,3],[417,2,417,6],[418,2,418,6],[406,2,406,3],[407,2,407,3],[408,2,408,3],[409,2,409,3],[410,2,410,3],[411,2,411,3],[425,2,425,3],[426,2,426,3],[427,2,427,3],[428,2,428,3],[429,2,429,3],[430,2,430,3],[419,2,419,6],[420,2,420,6],[421,2,421,3],[422,2,422,3],[423,2,423,3],[424,2,424,3],[438,2,438,3],[440,2,440,3],[441,2,441,3],[443,2,443,6],[444,2,444,3],[445,2,445,3],[431,2,431,3],[432,2,432,3],[433,2,433,3],[434,2,434,3],[435,2,435,3],[437,2,437,3],[453,2,453,3],[454,2,454,3],[455,2,455,3],[456,2,456,3],[457,2,457,3],[458,2,458,3],[447,2,447,3],[448,2,448,3],[449,2,449,3],[450,2,450,3],[451,2,451,3],[452,2,452,3],[474,2,474,3],[467,2,467,3],[468,2,468,3],[470,2,470,6],[471,2,471,6],[472,2,472,6],[473,2,473,3],[459,2,459,3],[460,2,460,3],[461,2,461,3],[462,2,462,3],[464,2,464,3],[465,2,465,3]]}
["Položkový rozpočet "]
[]
["Stavba :",null,"3232 Horní Slivno - Splašková kanalizace",null,"Rozpočet:",{"$f":"'303 303.1RD Rek'!H1","v":"303.1RD"}]
["Objekt :",null,"303 Kanalizační přípojky",null,{"$f":"'303 303.1RD Rek'!G2","v":"Kanalizační přípojky"}]
[]
["P.č.","Číslo položky","Název položky","MJ","množství","cena / MJ","celkem (Kč)","Jednotková hmotnost","Celková hmotnost","Jednotková dem.hmot.","Celková dem.hmot."]
["Díl:","1","Zemní práce",null,null,null,null,null,null,null,null,null,null,null,1]
[1,"121100002RAB","Sejmutí ornice a uložení na deponii zpětný přesun, rozprostření v tl. 30 cm, osetí","m3",196.875,null,{"$f":"E8*F8","v":0},0,{"$f":"E8*H8","v":0},0,{"$f":"E8*J8","v":0},null,null,null,2,null,null,null,null,null,null,null,null,null,null,null,1,1,1,null,null,null,null,null,null,null,null,null,null,null,null,null,null,null,null,null,null,null,null,null,null,1,{"$f":"IF(AZ8=1,G8,0)","v":0},{"$f":"IF(AZ8=2,G8,0)","v":0},{"$f":"IF(AZ8=3,G8,0)","v":0},{"$f":"IF(AZ8=4,G8,0)","v":0},{"$f":"IF(AZ8=5,G8,0)","v":0},null,null,null,null,null,null,null,null,null,null,null,null,null,null,null,null,null,null,null,null,null,1,1]
[null,null,"Výkopy:",null,0,null,null,null,null,null,null,null,"Výkopy:"]
[null,null,"Kanalizační přípojky KT DN150:",null,0,null,null,null,null,null,null,null,"Kanalizační přípojky KT DN150:"]
[null,null,"Začátek provozního součtu",null,0,null,null,null,null,null,null,null,"Začátek provozního součtu"]
[null,null,"Kmenová stoka A KT DN250-500 (52 kusů):364,50",null,364.5,null,null,null,null,null,null,null,"Kmenová stoka A KT DN250-500 (52 kusů):364,50"]
[null,null,"Stoka AA KT DN250 (9 kusů):36,00",null,36,null,null,null,null,null,null,null,"Stoka AA KT DN250 (9 kusů):36,00"]
[null,null,"Stoka AB KT DN250 (1 kus):3,00",null,3,null,null,null,null,null,null,null,"Stoka AB KT DN250 (1 kus):3,00"]
[null,null,"Stoka AC KT DN250 (5 kusů):23,00",null,23,null,null,null,null,null,null,null,"Stoka AC KT DN250 (5 kusů):23,00"]
[null,null,"Stoka AD KT DN250 (2 kusy):5,00",null,5,null,null,null,null,null,null,null,"Stoka AD KT DN250 (2 kusy):5,00"]
[null,null,"Stoka AE KT DN250 (14 kusů):139,50",null,139.5,null,null,null,null,null,null,null,"Stoka AE KT DN250 (14 kusů):139,50"]
[null,null,"Stoka AE-1 KT DN250 (7 kusů):27,00",null,27,null,null,null,null,null,null,null,"Stoka AE-1 KT DN250 (7 kusů):27,00"]
[null,null,"Stoka AF KT DN250 (4 kusy):39,50",null,39.5,null,null,null,null,null,null,null,"Stoka AF KT DN250 (4 kusy):39,50"]
[null,null,"Stoka AG KT DN250 (2 kusy):9,50",null,9.5,null,null,null,null,null,null,null,"Stoka AG KT DN250 (2 kusy):9,50"]
[null,null,"Stoka AH KT DN250 (7 kusů):26,00",null,26,null,null,null,null,null,null,null,"Stoka AH KT DN250 (7 kusů):26,00"]
[null,null,"Sběrač B KT DN250 (15 kusů):100,00",null,100,null,null,null,null,null,null,null,"Sběrač B KT DN250 (15 kusů):100,00"]
[null,null,"Stoka BA KT DN250 (10 kusů):72,00",null,72,null,null,null,null,null,null,null,"Stoka BA KT DN250 (10 kusů):72,00"]
[null,null,"Sběrač C KT DN250 (5 kusů):17,00",null,17,null,null,null,null,null,null,null,"Sběrač C KT DN250 (5 kusů):17,00"]
[null,null,"Stoka CA KT DN250 (6 kusů):24,00",null,24,null,null,null,null,null,null,null,"Stoka CA KT DN250 (6 kusů):24,00"]
[null,null,"Konec provozního součtu",null,886,null,null,null,null,null,null,null,"Konec provozního součtu"]
[null,null,"V hornině tř. 2 - 6 - 35% (průměrná hloubka 2,45 m):886,0000*2,00*0,30*0,35",null,186.06,null,null,null,null,null,null,null,"V hornině tř. 2 - 6 - 35% (průměrná hloubka 2,45 m):886,0000*2,00*0,30*0,35"]
[null,null,"Kanalizační přípojky PE D 50:",null,0,null,null,null,null,null,null,null,"Kanalizační přípojky PE D 50:"]
[null,null,"Začátek provozního součtu",null,0,null,null,null,null,null,null,null,"Začátek provozního součtu"]
[null,null,"Výtlak VE (3 kusy):38,00*2,00*0,30+3,00*3,00*0,30*3",null,30.9,null,null,null,null,null,null,null,"Výtlak VE (3 kusy):38,00*2,00*0,30+3,00*3,00*0,30*3"]
[null,null,"Konec provozního součtu",null,30.9,null,null,null,null,null,null,null,"Konec provozního součtu"]
[null,null,"V hornině tř. 2 - 6 - 35%:30,9000*0,35",null,10.815,null,null,null,null,null,null,null,"V hornině tř. 2 - 6 - 35%:30,9000*0,35"]
[2,"130001101RRX","Příplatek za ztížené hloubení v blízkosti vedení ","m3",233.1797,null,{"$f":"E33*F33","v":0},0,{"$f":"E33*H33","v":0},0,{"$f":"E33*J33","v":0},null,null,null,2,null,null,null,null,null,null,null,null,null,null,null,1,1,1,null,null,null,null,null,null,null,null,null,null,null,null,null,null,null,null,null,null,null,null,null,null,1,{"$f":"IF(AZ33=1,G33,0)","v":0},{"$f":"IF(AZ33=2,G33,0)","v":0},{"$f":"IF(AZ33=3,G33,0)","v":0},{"$f":"IF(AZ33=4,G33,0)","v":0},{"$f":"IF(AZ33=5,G33,0)","v":0},null,null,null,null,null,null,null,null,null,null,null,null,null,null,null,null,null,null,null,null,null,1,1]
[null,null,"Včetně ruční dokopávky a ručního výkopu.",null,null,null,null,null,null,null,null,"Včetně ruční dokopávky a ručního výkopu.",null,null,3]
[null,null,"Součástí položky je i případná potřeba dočasnéhon zajištění potrubí a kabelových vedení ve výkopu.",null,null,null,null,null,null,null,null,"Součástí položky je i případná potřeba dočasnéhon zajištění potrubí a kabelových vedení ve výkopu.",null,null,3]
[null,null,"Výkopy:",null,0,null,null,null,null,null,null,null,"Výkopy:"]
[null,null,"Kanalizační přípojky KT DN150:",null,0,null,null,null,null,null,null,null,"Kanalizační přípojky KT DN150:"]
[null,null,"Začátek provozního součtu",null,0,null,null,null,null,null,null,null,"Začátek provozního součtu"]
[null,null,"Kmenová stoka A KT DN250-500 (52 kusů):364,50",null,364.5,null,null,null,null,null,null,null,"Kmenová stoka A KT DN250-500 (52 kusů):364,50"]
[null,null,"Stoka AA KT DN250 (9 kusů):36,00",null,36,null,null,null,null,null,null,null,"Stoka AA KT DN250 (9 kusů):36,00"]
[null,null,"Stoka AB KT DN250 (1 kus):3,00",null,3,null,null,null,null,null,null,null,"Stoka AB KT DN250 (1 kus):3,00"]
[null,null,"Stoka AC KT DN250 (5 kusů):23,00",null,23,null,null,null,null,null,null,null,"Stoka AC KT DN250 (5 kusů):23,00"]
[null,null,"Stoka AD KT DN250 (2 kusy):5,00",null,5,null,null,null,null,null,null,null,"Stoka AD KT DN250 (2 kusy):5,00"]
[null,null,"Stoka AE KT DN250 (14 kusů):139,50",null,139.5,null,null,null,null,null,null,null,"Stoka AE KT DN250 (14 kusů):139,50"]
[null,null,"Stoka AE-1 KT DN250 (7 kusů):27,00",null,27,null,null,null,null,null,null,null,"Stoka AE-1 KT DN250 (7 kusů):27,00"]
[null,null,"Stoka AF KT DN250 (4 kusy):39,50",null,39.5,null,null,null,null,null,null,null,"Stoka AF KT DN250 (4 kusy):39,50"]
[null,null,"Stoka AG KT DN250 (2 kusy):9,50",null,9.5,null,null,null,null,null,null,null,"Stoka AG KT DN250 (2 kusy):9,50"]
[null,null,"Stoka AH KT DN250 (7 kusů):26,00",null,26,null,null,null,null,null,null,null,"Stoka AH KT DN250 (7 kusů):26,00"]
[null,null,"Sběrač B KT DN250 (15 kusů):100,00",null,100,null,null,null,null,null,null,null,"Sběrač B KT DN250 (15 kusů):100,00"]
[null,null,"Stoka BA KT DN250 (10 kusů):72,00",null,72,null,null,null,null,null,null,null,"Stoka BA KT DN250 (10 kusů):72,00"]
[null,null,"Sběrač C KT DN250 (5 kusů):17,00",null,17,null,null,null,null,null,null,null,"Sběrač C KT DN250 (5 kusů):17,00"]
[null,null,"Stoka CA KT DN250 (6 kusů):24,00",null,24,null,null,null,null,null,null,null,"Stoka CA KT DN250 (6 kusů):24,00"]
[null,null,"Konec provozního součtu",null,886,null,null,null,null,null,null,null,"Konec provozního součtu"]
[null,null,"V hornině tř. 2 - 6 - 13% (průměrná hloubka 2,45 m):886,0000*0,90*(2,45-0,30)*0,13",null,222.8733,null,null,null,null,null,null,null,"V hornině tř. 2 - 6 - 13% (průměrná hloubka 2,45 m):886,0000*0,90*(2,45-0,30)*0,13"]
[null,null,"Kanalizační přípojky PE D 50:",null,0,null,null,null,null,null,null,null,"Kanalizační přípojky PE D 50:"]
[null,null,"Začátek provozního součtu",null,0,null,null,null,null,null,null,null,"Začátek provozního součtu"]
[null,null,"Výtlak VE (3 kusy):38,00*0,80*(2,00-0,30)+2,00*2,00*(2,50-0,20)*3",null,79.28,null,null,null,null,null,null,null,"Výtlak VE (3 kusy):38,00*0,80*(2,00-0,30)+2,00*2,00*(2,50-0,20)*3"]
[null,null,"Konec provozního součtu",null,79.28,null,null,null,null,null,null,null,"Konec provozního součtu"]
[null,null,"V hornině tř. 2 - 6 - 13%:79,2800*0,13",null,10.3064,null,null,null,null,null,null,null,"V hornině tř. 2 - 6 - 13%:79,2800*0,13"]
[3,"132101213R00","Hloubení rýh š.do 200 cm hor.2 do 10000 m3,STROJNĚ ","m3",203.74029999999999,null,{"$f":"E60*F60","v":0},0,{"$f":"E60*H60","v":0},0,{"$f":"E60*J60","v":0},null,null,null,2,null,null,null,null,null,null,null,null,null,null,null,1,1,1,null,null,null,null,null,null,null,null,null,null,null,null,null,null,null,null,null,null,null,null,null,null,1,{"$f":"IF(AZ60=1,G60,0)","v":0},{"$f":"IF(AZ60=2,G60,0)","v":0},{"$f":"IF(AZ60=3,G60,0)","v":0},{"$f":"IF(AZ60=4,G60,0)","v":0},{"$f":"IF(AZ60=5,G60,0)","v":0},null,null,null,null,null,null,null,null,null,null,null,null,null,null,null,null,null,null,null,null,null,1,1]
[null,null,"Položka obsahuje hloubení rýh traktorbagrem, naložení výkopku na dopravní prostředek pro svislé, nebo vodorovné přemístění, popř. přemístění výkopku do 3 m (po povrchu území), případné zajištění rypadel polštáři, udržování pracoviště a ochranu výkopiště proti stékání srážkové vody z okolního terénu i s jejím odvodněním, nebo odvedením, přesekání a odstranění kořenů ve výkopišti, odstranění napadávek, urovnání dna výkopu.",null,null,null,null,null,null,null,null,"Položka obsahuje hloubení rýh traktorbagrem, naložení výkopku na dopravní prostředek pro svislé, nebo vodorovné přemístění, popř. přemístění výkopku do 3 m (po povrchu území), případné zajištění rypadel polštáři, udržování pracoviště a ochranu výkopiště proti stékání srážkové vody z okolního terénu i s jejím odvodněním, nebo odvedením, přesekání a odstranění kořenů ve výkopišti, odstranění napadávek, urovnání dna výkopu.",null,null,3]
[null,null,"Součástí položky je i pažení výkopů dle zvolené technologie zhotovitelem a v souladu s předpisy BOZP.",null,null,null,null,null,null,null,null,"Součástí položky je i pažení výkopů dle zvolené technologie zhotovitelem a v souladu s předpisy BOZP.",null,null,3]
[null,null,"V hornině tř. 2:",null,0,null,null,null,null,null,null,null,"V hornině tř. 2:"]
[null,null,"Kanalizační přípojky KT DN150 (průměrná hloubka 2,45 m):",null,0,null,null,null,null,null,null,null,"Kanalizační přípojky KT DN150 (průměrná hloubka 2,45 m):"]
[null,null,"Kmenová stoka A KT DN250-500 (52 kusů):364,50*0,90*(2,45-0,30)*0,11",null,77.583799999999997,null,null,null,null,null,null,null,"Kmenová stoka A KT DN250-500 (52 kusů):364,50*0,90*(2,45-0,30)*0,11"]
[null,null,"Stoka AA KT DN250 (9 kusů):36,00*0,90*(2,45-0,30)*0,11",null,7.6626000000000003,null,null,null,null,null,null,null,"Stoka AA KT DN250 (9 kusů):36,00*0,90*(2,45-0,30)*0,11"]
[null,null,"Stoka AB KT DN250 (1 kus):3,00*0,90*(2,45-0,30)*0,15",null,0.87080000000000002,null,null,null,null,null,null,null,"Stoka AB KT DN250 (1 kus):3,00*0,90*(2,45-0,30)*0,15"]
[null,null,"Stoka AC KT DN250 (5 kusů):23,00*0,90*(2,45-0,30)*0,12",null,5.3406000000000002,null,null,null,null,null,null,null,"Stoka AC KT DN250 (5 kusů):23,00*0,90*(2,45-0,30)*0,12"]
[null,null,"Stoka AD KT DN250 (2 kusy):5,00*0,90*(2,45-0,30)*0,12",null,1.161,null,null,null,null,null,null,null,"Stoka AD KT DN250 (2 kusy):5,00*0,90*(2,45-0,30)*0,12"]
[null,null,"Stoka AE KT DN250 (14 kusů):139,50*0,90*(2,45-0,30)*0,10",null,26.993300000000001,null,null,null,null,null,null,null,"Stoka AE KT DN250 (14 kusů):139,50*0,90*(2,45-0,30)*0,10"]
[null,null,"Stoka AE-1 KT DN250 (7 kusů):27,00*0,90*(2,45-0,30)*0,13",null,6.7919,null,null,null,null,null,null,null,"Stoka AE-1 KT DN250 (7 kusů):27,00*0,90*(2,45-0,30)*0,13"]
[null,null,"Stoka AF KT DN250 (4 kusy):39,50*0,90*(2,45-0,30)*0,10",null,7.6433,null,null,null,null,null,null,null,"Stoka AF KT DN250 (4 kusy):39,50*0,90*(2,45-0,30)*0,10"]
[null,null,"Stoka AG KT DN250 (2 kusy):9,50*0,90*(2,45-0,30)*0,12",null,2.2059000000000002,null,null,null,null,null,null,null,"Stoka AG KT DN250 (2 kusy):9,50*0,90*(2,45-0,30)*0,12"]
[null,null,"Stoka AH KT DN250 (7 kusů):26,00*0,90*(2,45-0,30)*0,19",null,9.5588999999999995,null,null,null,null,null,null,null,"Stoka AH KT DN250 (7 kusů):26,00*0,90*(2,45-0,30)*0,19"]
[null,null,"Sběrač B KT DN250 (15 kusů):100,00*0,90*(2,45-0,30)*0,13",null,25.155000000000001,null,null,null,null,null,null,null,"Sběrač B KT DN250 (15 kusů):100,00*0,90*(2,45-0,30)*0,13"]
[null,null,"Stoka BA KT DN250 (10 kusů):72,00*0,90*(2,45-0,30)*0,11",null,15.325200000000001,null,null,null,null,null,null,null,"Stoka BA KT DN250 (10 kusů):72,00*0,90*(2,45-0,30)*0,11"]
[null,null,"Sběrač C KT DN250 (5 kusů):17,00*0,90*(2,45-0,30)*0,12",null,3.9474,null,null,null,null,null,null,null,"Sběrač C KT DN250 (5 kusů):17,00*0,90*(2,45-0,30)*0,12"]
[null,null,"Stoka CA KT DN250 (6 kusů):24,00*0,90*(2,45-0,30)*0,12",null,5.5728,null,null,null,null,null,null,null,"Stoka CA KT DN250 (6 kusů):24,00*0,90*(2,45-0,30)*0,12"]
[null,null,"Kanalizační přípojky PE D 50:",null,0,null,null,null,null,null,null,null,"Kanalizační přípojky PE D 50:"]
[null,null,"Výtlak VE (3 kusy):(38,00*0,80*(2,00-0,30)+2,00*2,00*(2,50-0,20)*3)*0,10",null,7.9279999999999999,null,null,null,null,null,null,null,"Výtlak VE (3 kusy):(38,00*0,80*(2,00-0,30)+2,00*2,00*(2,50-0,20)*3)*0,10"]
[4,"132201213R00","Hloubení rýh š.do 200 cm hor.3 do 10000 m3,STROJNĚ ","m3",503.93770000000001,null,{"$f":"E81*F81","v":0},0,{"$f":"E81*H81","v":0},0,{"$f":"E81*J81","v":0},null,null,null,2,null,null,null,null,null,null,null,null,null,null,null,1,1,1,null,null,null,null,null,null,null,null,null,null,null,null,null,null,null,null,null,null,null,null,null,null,1,{"$f":"IF(AZ81=1,G81,0)","v":0},{"$f":"IF(AZ81=2,G81,0)","v":0},{"$f":"IF(AZ81=3,G81,0)","v":0},{"$f":"IF(AZ81=4,G81,0)","v":0},{"$f":"IF(AZ81=5,G81,0)","v":0},null,null,null,null,null,null,null,null,null,null,null,null,null,null,null,null,null,null,null,null,null,1,1]
[null,null,"Položka obsahuje hloubení rýh traktorbagrem, naložení výkopku na dopravní prostředek pro svislé, nebo vodorovné přemístění, popř. přemístění výkopku do 3 m (po povrchu území), případné zajištění rypadel polštáři, udržování pracoviště a ochranu výkopiště proti stékání srážkové vody z okolního terénu i s jejím odvodněním, nebo odvedením, přesekání a odstranění kořenů ve výkopišti, odstranění napadávek, urovnání dna výkopu.",null,null,null,null,null,null,null,null,"Položka obsahuje hloubení rýh traktorbagrem, naložení výkopku na dopravní prostředek pro svislé, nebo vodorovné přemístění, popř. přemístění výkopku do 3 m (po povrchu území), případné zajištění rypadel polštáři, udržování pracoviště a ochranu výkopiště proti stékání srážkové vody z okolního terénu i s jejím odvodněním, nebo odvedením, přesekání a odstranění kořenů ve výkopišti, odstranění napadávek, urovnání dna výkopu.",null,null,3]
[null,null,"Součástí položky je i pažení výkopů dle zvolené technologie zhotovitelem a v souladu s předpisy BOZP.",null,null,null,null,null,null,null,null,"Součástí položky je i pažení výkopů dle zvolené technologie zhotovitelem a v souladu s předpisy BOZP.",null,null,3]
[null,null,"V hornině tř. 3:",null,0,null,null,null,null,null,null,null,"V hornině tř. 3:"]
[null,null,"Kanalizační přípojky KT DN150 (průměrná hloubka 2,45 m):",null,0,null,null,null,null,null,null,null,"Kanalizační přípojky KT DN150 (průměrná hloubka 2,45 m):"]
[null,null,"Kmenová stoka A KT DN250-500 (52 kusů):364,50*0,90*(2,45-0,30)*0,26",null,183.38,null,null,null,null,null,null,null,"Kmenová stoka A KT DN250-500 (52 kusů):364,50*0,90*(2,45-0,30)*0,26"]
[null,null,"Stoka AA KT DN250 (9 kusů):36,00*0,90*(2,45-0,30)*0,28",null,19.504799999999999,null,null,null,null,null,null,null,"Stoka AA KT DN250 (9 kusů):36,00*0,90*(2,45-0,30)*0,28"]
[null,null,"Stoka AB KT DN250 (1 kus):3,00*0,90*(2,45-0,30)*0,37",null,2.1478999999999999,null,null,null,null,null,null,null,"Stoka AB KT DN250 (1 kus):3,00*0,90*(2,45-0,30)*0,37"]
[null,null,"Stoka AC KT DN250 (5 kusů):23,00*0,90*(2,45-0,30)*0,31",null,13.7966,null,null,null,null,null,null,null,"Stoka AC KT DN250 (5 kusů):23,00*0,90*(2,45-0,30)*0,31"]
[null,null,"Stoka AD KT DN250 (2 kusy):5,00*0,90*(2,45-0,30)*0,31",null,2.9992999999999999,null,null,null,null,null,null,null,"Stoka AD KT DN250 (2 kusy):5,00*0,90*(2,45-0,30)*0,31"]
[null,null,"Stoka AE KT DN250 (14 kusů):139,50*0,90*(2,45-0,30)*0,25",null,67.483099999999993,null,null,null,null,null,null,null,"Stoka AE KT DN250 (14 kusů):139,50*0,90*(2,45-0,30)*0,25"]
[null,null,"Stoka AE-1 KT DN250 (7 kusů):27,00*0,90*(2,45-0,30)*0,33",null,17.2409,null,null,null,null,null,null,null,"Stoka AE-1 KT DN250 (7 kusů):27,00*0,90*(2,45-0,30)*0,33"]
[null,null,"Stoka AF KT DN250 (4 kusy):39,50*0,90*(2,45-0,30)*0,26",null,19.872499999999999,null,null,null,null,null,null,null,"Stoka AF KT DN250 (4 kusy):39,50*0,90*(2,45-0,30)*0,26"]
[null,null,"Stoka AG KT DN250 (2 kusy):9,50*0,90*(2,45-0,30)*0,31",null,5.6985999999999999,null,null,null,null,null,null,null,"Stoka AG KT DN250 (2 kusy):9,50*0,90*(2,45-0,30)*0,31"]
[null,null,"Stoka AH KT DN250 (7 kusů):26,00*0,90*(2,45-0,30)*0,46",null,23.142600000000002,null,null,null,null,null,null,null,"Stoka AH KT DN250 (7 kusů):26,00*0,90*(2,45-0,30)*0,46"]
[null,null,"Sběrač B KT DN250 (15 kusů):100,00*0,90*(2,45-0,30)*0,33",null,63.854999999999997,null,null,null,null,null,null,null,"Sběrač B KT DN250 (15 kusů):100,00*0,90*(2,45-0,30)*0,33"]
[null,null,"Stoka BA KT DN250 (10 kusů):72,00*0,90*(2,45-0,30)*0,29",null,40.402799999999999,null,null,null,null,null,null,null,"Stoka BA KT DN250 (10 kusů):72,00*0,90*(2,45-0,30)*0,29"]
[null,null,"Sběrač C KT DN250 (5 kusů):17,00*0,90*(2,45-0,30)*0,31",null,10.1975,null,null,null,null,null,null,null,"Sběrač C KT DN250 (5 kusů):17,00*0,90*(2,45-0,30)*0,31"]
[null,null,"Stoka CA KT DN250 (6 kusů):24,00*0,90*(2,45-0,30)*0,31",null,14.3964,null,null,null,null,null,null,null,"Stoka CA KT DN250 (6 kusů):24,00*0,90*(2,45-0,30)*0,31"]
[null,null,"Kanalizační přípojky PE D 50:",null,0,null,null,null,null,null,null,null,"Kanalizační přípojky PE D 50:"]
[null,null,"Výtlak VE (3 kusy):(38,00*0,80*(2,00-0,30)+2,00*2,00*(2,50-0,20)*3)*0,25",null,19.82,null,null,null,null,null,null,null,"Výtlak VE (3 kusy):(38,00*0,80*(2,00-0,30)+2,00*2,00*(2,50-0,20)*3)*0,25"]
[5,"132201219R00","Přípl.za lepivost,hloubení rýh 200cm,hor.3,STROJNĚ ","m3",251.96879999999999,null,{"$f":"E102*F102","v":0},0,{"$f":"E102*H102","v":0},0,{"$f":"E102*J102","v":0},null,null,null,2,null,null,null,null,null,null,null,null,null,null,null,1,1,1,null,null,null,null,null,null,null,null,null,null,null,null,null,null,null,null,null,null,null,null,null,null,1,{"$f":"IF(AZ102=1,G102,0)","v":0},{"$f":"IF(AZ102=2,G102,0)","v":0},{"$f":"IF(AZ102=3,G102,0)","v":0},{"$f":"IF(AZ102=4,G102,0)","v":0},{"$f":"IF(AZ102=5,G102,0)","v":0},null,null,null,null,null,null,null,null,null,null,null,null,null,null,null,null,null,null,null,null,null,1,1]
[null,null,"V hornině tř. 3:",null,0,null,null,null,null,null,null,null,"V hornině tř. 3:"]
[null,null,"Kanalizační přípojky KT DN150 (průměrná hloubka 2,45 m):",null,0,null,null,null,null,null,null,null,"Kanalizační přípojky KT DN150 (průměrná hloubka 2,45 m):"]
[null,null,"Kmenová stoka A KT DN250-500 (52 kusů):364,50*0,90*(2,45-0,30)*0,26*0,5",null,91.69,null,null,null,null,null,null,null,"Kmenová stoka A KT DN250-500 (52 kusů):364,50*0,90*(2,45-0,30)*0,26*0,5"]
[null,null,"Stoka AA KT DN250 (9 kusů):36,00*0,90*(2,45-0,30)*0,28*0,5",null,9.7523999999999997,null,null,null,null,null,null,null,"Stoka AA KT DN250 (9 kusů):36,00*0,90*(2,45-0,30)*0,28*0,5"]
[null,null,"Stoka AB KT DN250 (1 kus):3,00*0,90*(2,45-0,30)*0,37*0,5",null,1.0739000000000001,null,null,null,null,null,null,null,"Stoka AB KT DN250 (1 kus):3,00*0,90*(2,45-0,30)*0,37*0,5"]
[null,null,"Stoka AC KT DN250 (5 kusů):23,00*0,90*(2,45-0,30)*0,31*0,5",null,6.8982999999999999,null,null,null,null,null,null,null,"Stoka AC KT DN250 (5 kusů):23,00*0,90*(2,45-0,30)*0,31*0,5"]
[null,null,"Stoka AD KT DN250 (2 kusy):5,00*0,90*(2,45-0,30)*0,31*0,5",null,1.4996,null,null,null,null,null,null,null,"Stoka AD KT DN250 (2 kusy):5,00*0,90*(2,45-0,30)*0,31*0,5"]
[null,null,"Stoka AE KT DN250 (14 kusů):139,50*0,90*(2,45-0,30)*0,25*0,5",null,33.741599999999998,null,null,null,null,null,null,null,"Stoka AE KT DN250 (14 kusů):139,50*0,90*(2,45-0,30)*0,25*0,5"]
[null,null,"Stoka AE-1 KT DN250 (7 kusů):27,00*0,90*(2,45-0,30)*0,33*0,5",null,8.6204000000000001,null,null,null,null,null,null,null,"Stoka AE-1 KT DN250 (7 kusů):27,00*0,90*(2,45-0,30)*0,33*0,5"]
[null,null,"Stoka AF KT DN250 (4 kusy):39,50*0,90*(2,45-0,30)*0,26*0,5",null,9.9361999999999995,null,null,null,null,null,null,null,"Stoka AF KT DN250 (4 kusy):39,50*0,90*(2,45-0,30)*0,26*0,5"]
[null,null,"Stoka AG KT DN250 (2 kusy):9,50*0,90*(2,45-0,30)*0,31*0,5",null,2.8492999999999999,null,null,null,null,null,null,null,"Stoka AG KT DN250 (2 kusy):9,50*0,90*(2,45-0,30)*0,31*0,5"]
[null,null,"Stoka AH KT DN250 (7 kusů):26,00*0,90*(2,45-0,30)*0,46*0,5",null,11.571300000000001,null,null,null,null,null,null,null,"Stoka AH KT DN250 (7 kusů):26,00*0,90*(2,45-0,30)*0,46*0,5"]
[null,null,"Sběrač B KT DN250 (15 kusů):100,00*0,90*(2,45-0,30)*0,33*0,5",null,31.927499999999998,null,null,null,null,null,null,null,"Sběrač B KT DN250 (15 kusů):100,00*0,90*(2,45-0,30)*0,33*0,5"]
[null,null,"Stoka BA KT DN250 (10 kusů):72,00*0,90*(2,45-0,30)*0,29*0,5",null,20.2014,null,null,null,null,null,null,null,"Stoka BA KT DN250 (10 kusů):72,00*0,90*(2,45-0,30)*0,29*0,5"]
[null,null,"Sběrač C KT DN250 (5 kusů):17,00*0,90*(2,45-0,30)*0,31*0,5",null,5.0987,null,null,null,null,null,null,null,"Sběrač C KT DN250 (5 kusů):17,00*0,90*(2,45-0,30)*0,31*0,5"]
[null,null,"Stoka CA KT DN250 (6 kusů):24,00*0,90*(2,45-0,30)*0,31*0,5",null,7.1981999999999999,null,null,null,null,null,null,null,"Stoka CA KT DN250 (6 kusů):24,00*0,90*(2,45-0,30)*0,31*0,5"]
[null,null,"Kanalizační přípojky PE D 50:",null,0,null,null,null,null,null,null,null,"Kanalizační přípojky PE D 50:"]
[null,null,"Výtlak VE (3 kusy):(38,00*0,80*(2,00-0,30)+2,00*2,00*(2,50-0,20)*3)*0,25*0,5",null,9.91,null,null,null,null,null,null,null,"Výtlak VE (3 kusy):(38,00*0,80*(2,00-0,30)+2,00*2,00*(2,50-0,20)*3)*0,25*0,5"]
[6,"132301213R00","Hloubení rýh š.do 200 cm hor.4 do 10000 m3,STROJNĚ ","m3",648.55880000000002,null,{"$f":"E121*F121","v":0},0,{"$f":"E121*H121","v":0},0,{"$f":"E121*J121","v":0},null,null,null,2,null,null,null,null,null,null,null,null,null,null,null,1,1,1,null,null,null,null,null,null,null,null,null,null,null,null,null,null,null,null,null,null,null,null,null,null,1,{"$f":"IF(AZ121=1,G121,0)","v":0},{"$f":"IF(AZ121=2,G121,0)","v":0},{"$f":"IF(AZ121=3,G121,0)","v":0},{"$f":"IF(AZ121=4,G121,0)","v":0},{"$f":"IF(AZ121=5,G121,0)","v":0},null,null,null,null,null,null,null,null,null,null,null,null,null,null,null,null,null,null,null,null,null,1,1]
[null,null,"Položka obsahuje hloubení rýh traktorbagrem, naložení výkopku na dopravní prostředek pro svislé, nebo vodorovné přemístění, popř. přemístění výkopku do 3 m (po povrchu území), případné zajištění rypadel polštáři, udržování pracoviště a ochranu výkopiště proti stékání srážkové vody z okolního terénu i s jejím odvodněním, nebo odvedením, přesekání a odstranění kořenů ve výkopišti, odstranění napadávek, urovnání dna výkopu.",null,null,null,null,null,null,null,null,"Položka obsahuje hloubení rýh traktorbagrem, naložení výkopku na dopravní prostředek pro svislé, nebo vodorovné přemístění, popř. přemístění výkopku do 3 m (po povrchu území), případné zajištění rypadel polštáři, udržování pracoviště a ochranu výkopiště proti stékání srážkové vody z okolního terénu i s jejím odvodněním, nebo odvedením, přesekání a odstranění kořenů ve výkopišti, odstranění napadávek, urovnání dna výkopu.",null,null,3]
[null,null,"Součástí položky je i pažení výkopů dle zvolené technologie zhotovitelem a v souladu s předpisy BOZP.",null,null,null,null,null,null,null,null,"Součástí položky je i pažení výkopů dle zvolené technologie zhotovitelem a v souladu s předpisy BOZP.",null,null,3]
[null,null,"V hornině tř. 4:",null,0,null,null,null,null,null,null,null,"V hornině tř. 4:"]
[null,null,"Kanalizační přípojky KT DN150 (průměrná hloubka 2,45 m):",null,0,null,null,null,null,null,null,null,"Kanalizační přípojky KT DN150 (průměrná hloubka 2,45 m):"]
[null,null,"Kmenová stoka A KT DN250-500 (52 kusů):364,50*0,90*(2,45-0,30)*0,34",null,239.80459999999999,null,null,null,null,null,null,null,"Kmenová stoka A KT DN250-500 (52 kusů):364,50*0,90*(2,45-0,30)*0,34"]
[null,null,"Stoka AA KT DN250 (9 kusů):36,00*0,90*(2,45-0,30)*0,26",null,18.111599999999999,null,null,null,null,null,null,null,"Stoka AA KT DN250 (9 kusů):36,00*0,90*(2,45-0,30)*0,26"]
[null,null,"Stoka AB KT DN250 (1 kus):3,00*0,90*(2,45-0,30)*0,37",null,2.1478999999999999,null,null,null,null,null,null,null,"Stoka AB KT DN250 (1 kus):3,00*0,90*(2,45-0,30)*0,37"]
[null,null,"Stoka AC KT DN250 (5 kusů):23,00*0,90*(2,45-0,30)*0,26",null,11.571300000000001,null,null,null,null,null,null,null,"Stoka AC KT DN250 (5 kusů):23,00*0,90*(2,45-0,30)*0,26"]
[null,null,"Stoka AD KT DN250 (2 kusy):5,00*0,90*(2,45-0,30)*0,29",null,2.8058000000000001,null,null,null,null,null,null,null,"Stoka AD KT DN250 (2 kusy):5,00*0,90*(2,45-0,30)*0,29"]
[null,null,"Stoka AE KT DN250 (14 kusů):139,50*0,90*(2,45-0,30)*0,44",null,118.77030000000001,null,null,null,null,null,null,null,"Stoka AE KT DN250 (14 kusů):139,50*0,90*(2,45-0,30)*0,44"]
[null,null,"Stoka AE-1 KT DN250 (7 kusů):27,00*0,90*(2,45-0,30)*0,38",null,19.853100000000001,null,null,null,null,null,null,null,"Stoka AE-1 KT DN250 (7 kusů):27,00*0,90*(2,45-0,30)*0,38"]
[null,null,"Stoka AF KT DN250 (4 kusy):39,50*0,90*(2,45-0,30)*0,38",null,29.0444,null,null,null,null,null,null,null,"Stoka AF KT DN250 (4 kusy):39,50*0,90*(2,45-0,30)*0,38"]
[null,null,"Stoka AG KT DN250 (2 kusy):9,50*0,90*(2,45-0,30)*0,29",null,5.3308999999999997,null,null,null,null,null,null,null,"Stoka AG KT DN250 (2 kusy):9,50*0,90*(2,45-0,30)*0,29"]
[null,null,"Stoka AH KT DN250 (7 kusů):26,00*0,90*(2,45-0,30)*0,26",null,13.0806,null,null,null,null,null,null,null,"Stoka AH KT DN250 (7 kusů):26,00*0,90*(2,45-0,30)*0,26"]
[null,null,"Sběrač B KT DN250 (15 kusů):100,00*0,90*(2,45-0,30)*0,32",null,61.92,null,null,null,null,null,null,null,"Sběrač B KT DN250 (15 kusů):100,00*0,90*(2,45-0,30)*0,32"]
[null,null,"Stoka BA KT DN250 (10 kusů):72,00*0,90*(2,45-0,30)*0,41",null,57.121200000000002,null,null,null,null,null,null,null,"Stoka BA KT DN250 (10 kusů):72,00*0,90*(2,45-0,30)*0,41"]
[null,null,"Sběrač C KT DN250 (5 kusů):17,00*0,90*(2,45-0,30)*0,43",null,14.1449,null,null,null,null,null,null,null,"Sběrač C KT DN250 (5 kusů):17,00*0,90*(2,45-0,30)*0,43"]
[null,null,"Stoka CA KT DN250 (6 kusů):24,00*0,90*(2,45-0,30)*0,43",null,19.969200000000001,null,null,null,null,null,null,null,"Stoka CA KT DN250 (6 kusů):24,00*0,90*(2,45-0,30)*0,43"]
[null,null,"Kanalizační přípojky PE D 50:",null,0,null,null,null,null,null,null,null,"Kanalizační přípojky PE D 50:"]
[null,null,"Výtlak VE (3 kusy):(38,00*0,80*(2,00-0,30)+2,00*2,00*(2,50-0,20)*3)*0,44",null,34.883200000000002,null,null,null,null,null,null,null,"Výtlak VE (3 kusy):(38,00*0,80*(2,00-0,30)+2,00*2,00*(2,50-0,20)*3)*0,44"]
[7,"132301219R00","Přípl.za lepivost,hloubení rýh 200cm,hor.4,STROJNĚ ","m3",324.27940000000001,null,{"$f":"E142*F142","v":0},0,{"$f":"E142*H142","v":0},0,{"$f":"E142*J142","v":0},null,null,null,2,null,null,null,null,null,null,null,null,null,null,null,1,1,1,null,null,null,null,null,null,null,null,null,null,null,null,null,null,null,null,null,null,null,null,null,null,1,{"$f":"IF(AZ142=1,G142,0)","v":0},{"$f":"IF(AZ142=2,G142,0)","v":0},{"$f":"IF(AZ142=3,G142,0)","v":0},{"$f":"IF(AZ142=4,G142,0)","v":0},{"$f":"IF(AZ142=5,G142,0)","v":0},null,null,null,null,null,null,null,null,null,null,null,null,null,null,null,null,null,null,null,null,null,1,1]
[null,null,"V hornině tř. 4:",null,0,null,null,null,null,null,null,null,"V hornině tř. 4:"]
[null,null,"Kanalizační přípojky KT DN150 (průměrná hloubka 2,45 m):",null,0,null,null,null,null,null,null,null,"Kanalizační přípojky KT DN150 (průměrná hloubka 2,45 m):"]
[null,null,"Kmenová stoka A KT DN250-500 (52 kusů):364,50*0,90*(2,45-0,30)*0,34*0,5",null,119.9023,null,null,null,null,null,null,null,"Kmenová stoka A KT DN250-500 (52 kusů):364,50*0,90*(2,45-0,30)*0,34*0,5"]
[null,null,"Stoka AA KT DN250 (9 kusů):36,00*0,90*(2,45-0,30)*0,26*0,5",null,9.0557999999999996,null,null,null,null,null,null,null,"Stoka AA KT DN250 (9 kusů):36,00*0,90*(2,45-0,30)*0,26*0,5"]
[null,null,"Stoka AB KT DN250 (1 kus):3,00*0,90*(2,45-0,30)*0,37*0,5",null,1.0739000000000001,null,null,null,null,null,null,null,"Stoka AB KT DN250 (1 kus):3,00*0,90*(2,45-0,30)*0,37*0,5"]
[null,null,"Stoka AC KT DN250 (5 kusů):23,00*0,90*(2,45-0,30)*0,26*0,5",null,5.7857000000000003,null,null,null,null,null,null,null,"Stoka AC KT DN250 (5 kusů):23,00*0,90*(2,45-0,30)*0,26*0,5"]
[null,null,"Stoka AD KT DN250 (2 kusy):5,00*0,90*(2,45-0,30)*0,29*0,5",null,1.4029,null,null,null,null,null,null,null,"Stoka AD KT DN250 (2 kusy):5,00*0,90*(2,45-0,30)*0,29*0,5"]
[null,null,"Stoka AE KT DN250 (14 kusů):139,50*0,90*(2,45-0,30)*0,44*0,5",null,59.385199999999998,null,null,null,null,null,null,null,"Stoka AE KT DN250 (14 kusů):139,50*0,90*(2,45-0,30)*0,44*0,5"]
[null,null,"Stoka AE-1 KT DN250 (7 kusů):27,00*0,90*(2,45-0,30)*0,38*0,5",null,9.9266000000000005,null,null,null,null,null,null,null,"Stoka AE-1 KT DN250 (7 kusů):27,00*0,90*(2,45-0,30)*0,38*0,5"]
[null,null,"Stoka AF KT DN250 (4 kusy):39,50*0,90*(2,45-0,30)*0,38*0,5",null,14.5222,null,null,null,null,null,null,null,"Stoka AF KT DN250 (4 kusy):39,50*0,90*(2,45-0,30)*0,38*0,5"]
[null,null,"Stoka AG KT DN250 (2 kusy):9,50*0,90*(2,45-0,30)*0,29*0,5",null,2.6655000000000002,null,null,null,null,null,null,null,"Stoka AG KT DN250 (2 kusy):9,50*0,90*(2,45-0,30)*0,29*0,5"]
[null,null,"Stoka AH KT DN250 (7 kusů):26,00*0,90*(2,45-0,30)*0,26*0,5",null,6.5403000000000002,null,null,null,null,null,null,null,"Stoka AH KT DN250 (7 kusů):26,00*0,90*(2,45-0,30)*0,26*0,5"]
[null,null,"Sběrač B KT DN250 (15 kusů):100,00*0,90*(2,45-0,30)*0,32*0,5",null,30.96,null,null,null,null,null,null,null,"Sběrač B KT DN250 (15 kusů):100,00*0,90*(2,45-0,30)*0,32*0,5"]
[null,null,"Stoka BA KT DN250 (10 kusů):72,00*0,90*(2,45-0,30)*0,41*0,5",null,28.560600000000001,null,null,null,null,null,null,null,"Stoka BA KT DN250 (10 kusů):72,00*0,90*(2,45-0,30)*0,41*0,5"]
[null,null,"Sběrač C KT DN250 (5 kusů):17,00*0,90*(2,45-0,30)*0,43*0,5",null,7.0724,null,null,null,null,null,null,null,"Sběrač C KT DN250 (5 kusů):17,00*0,90*(2,45-0,30)*0,43*0,5"]
[null,null,"Stoka CA KT DN250 (6 kusů):24,00*0,90*(2,45-0,30)*0,43*0,5",null,9.9846000000000004,null,null,null,null,null,null,null,"Stoka CA KT DN250 (6 kusů):24,00*0,90*(2,45-0,30)*0,43*0,5"]
[null,null,"Kanalizační přípojky PE D 50:",null,0,null,null,null,null,null,null,null,"Kanalizační přípojky PE D 50:"]
[null,null,"Výtlak VE (3 kusy):(38,00*0,80*(2,00-0,30)+2,00*2,00*(2,50-0,20)*3)*0,44*0,5",null,17.441600000000001,null,null,null,null,null,null,null,"Výtlak VE (3 kusy):(38,00*0,80*(2,00-0,30)+2,00*2,00*(2,50-0,20)*3)*0,44*0,5"]
[8,"132401211RRX","Hloubení rýh šířky do 200 cm v hor.5, STROJNĚ ","m3",367.24560000000002,null,{"$f":"E161*F161","v":0},0,{"$f":"E161*H161","v":0},0,{"$f":"E161*J161","v":0},null,null,null,2,null,null,null,null,null,null,null,null,null,null,null,1,1,1,null,null,null,null,null,null,null,null,null,null,null,null,null,null,null,null,null,null,null,null,null,null,1,{"$f":"IF(AZ161=1,G161,0)","v":0},{"$f":"IF(AZ161=2,G161,0)","v":0},{"$f":"IF(AZ161=3,G161,0)","v":0},{"$f":"IF(AZ161=4,G161,0)","v":0},{"$f":"IF(AZ161=5,G161,0)","v":0},null,null,null,null,null,null,null,null,null,null,null,null,null,null,null,null,null,null,null,null,null,1,1]
[null,null,"Položka obsahuje hloubení rýh traktorbagrem, naložení výkopku na dopravní prostředek pro svislé, nebo vodorovné přemístění, popř. přemístění výkopku do 3 m (po povrchu území), případné zajištění rypadel polštáři, udržování pracoviště a ochranu výkopiště proti stékání srážkové vody z okolního terénu i s jejím odvodněním, nebo odvedením, přesekání a odstranění kořenů ve výkopišti, odstranění napadávek, urovnání dna výkopu.",null,null,null,null,null,null,null,null,"Položka obsahuje hloubení rýh traktorbagrem, naložení výkopku na dopravní prostředek pro svislé, nebo vodorovné přemístění, popř. přemístění výkopku do 3 m (po povrchu území), případné zajištění rypadel polštáři, udržování pracoviště a ochranu výkopiště proti stékání srážkové vody z okolního terénu i s jejím odvodněním, nebo odvedením, přesekání a odstranění kořenů ve výkopišti, odstranění napadávek, urovnání dna výkopu.",null,null,3]
[null,null,"Součástí položky je i pažení výkopů dle zvolené technologie zhotovitelem a v souladu s předpisy BOZP.",null,null,null,null,null,null,null,null,"Součástí položky je i pažení výkopů dle zvolené technologie zhotovitelem a v souladu s předpisy BOZP.",null,null,3]
[null,null,"Součástí položky je i případné dolamování horniny v prostoru rýhy.",null,null,null,null,null,null,null,null,"Součástí položky je i případné dolamování horniny v prostoru rýhy.",null,null,3]
[null,null,"V hornině tř. 5:",null,0,null,null,null,null,null,null,null,"V hornině tř. 5:"]
[null,null,"Kanalizační přípojky KT DN150 (průměrná hloubka 2,45 m):",null,0,null,null,null,null,null,null,null,"Kanalizační přípojky KT DN150 (průměrná hloubka 2,45 m):"]
[null,null,"Kmenová stoka A KT DN250-500 (52 kusů):364,50*0,90*(2,45-0,30)*0,25",null,176.32689999999999,null,null,null,null,null,null,null,"Kmenová stoka A KT DN250-500 (52 kusů):364,50*0,90*(2,45-0,30)*0,25"]
[null,null,"Stoka AA KT DN250 (9 kusů):36,00*0,90*(2,45-0,30)*0,35",null,24.381,null,null,null,null,null,null,null,"Stoka AA KT DN250 (9 kusů):36,00*0,90*(2,45-0,30)*0,35"]
[null,null,"Stoka AB KT DN250 (1 kus):3,00*0,90*(2,45-0,30)*0,11",null,0.63859999999999995,null,null,null,null,null,null,null,"Stoka AB KT DN250 (1 kus):3,00*0,90*(2,45-0,30)*0,11"]
[null,null,"Stoka AC KT DN250 (5 kusů):23,00*0,90*(2,45-0,30)*0,25",null,11.126300000000001,null,null,null,null,null,null,null,"Stoka AC KT DN250 (5 kusů):23,00*0,90*(2,45-0,30)*0,25"]
[null,null,"Stoka AD KT DN250 (2 kusy):5,00*0,90*(2,45-0,30)*0,19",null,1.8383,null,null,null,null,null,null,null,"Stoka AD KT DN250 (2 kusy):5,00*0,90*(2,45-0,30)*0,19"]
[null,null,"Stoka AE KT DN250 (14 kusů):139,50*0,90*(2,45-0,30)*0,14",null,37.790599999999998,null,null,null,null,null,null,null,"Stoka AE KT DN250 (14 kusů):139,50*0,90*(2,45-0,30)*0,14"]
[null,null,"Stoka AE-1 KT DN250 (7 kusů):27,00*0,90*(2,45-0,30)*0,14",null,7.3143000000000002,null,null,null,null,null,null,null,"Stoka AE-1 KT DN250 (7 kusů):27,00*0,90*(2,45-0,30)*0,14"]
[null,null,"Stoka AF KT DN250 (4 kusy):39,50*0,90*(2,45-0,30)*0,26",null,19.872499999999999,null,null,null,null,null,null,null,"Stoka AF KT DN250 (4 kusy):39,50*0,90*(2,45-0,30)*0,26"]
[null,null,"Stoka AG KT DN250 (2 kusy):9,50*0,90*(2,45-0,30)*0,28",null,5.1471,null,null,null,null,null,null,null,"Stoka AG KT DN250 (2 kusy):9,50*0,90*(2,45-0,30)*0,28"]
[null,null,"Stoka AH KT DN250 (7 kusů):26,00*0,90*(2,45-0,30)*0,09",null,4.5278999999999998,null,null,null,null,null,null,null,"Stoka AH KT DN250 (7 kusů):26,00*0,90*(2,45-0,30)*0,09"]
[null,null,"Sběrač B KT DN250 (15 kusů):100,00*0,90*(2,45-0,30)*0,19",null,36.765000000000001,null,null,null,null,null,null,null,"Sběrač B KT DN250 (15 kusů):100,00*0,90*(2,45-0,30)*0,19"]
[null,null,"Stoka BA KT DN250 (10 kusů):72,00*0,90*(2,45-0,30)*0,15",null,20.898,null,null,null,null,null,null,null,"Stoka BA KT DN250 (10 kusů):72,00*0,90*(2,45-0,30)*0,15"]
[null,null,"Sběrač C KT DN250 (5 kusů):17,00*0,90*(2,45-0,30)*0,12",null,3.9474,null,null,null,null,null,null,null,"Sběrač C KT DN250 (5 kusů):17,00*0,90*(2,45-0,30)*0,12"]
[null,null,"Stoka CA KT DN250 (6 kusů):24,00*0,90*(2,45-0,30)*0,12",null,5.5728,null,null,null,null,null,null,null,"Stoka CA KT DN250 (6 kusů):24,00*0,90*(2,45-0,30)*0,12"]
[null,null,"Kanalizační přípojky PE D 50:",null,0,null,null,null,null,null,null,null,"Kanalizační přípojky PE D 50:"]
[null,null,"Výtlak VE (3 kusy):(38,00*0,80*(2,00-0,30)+2,00*2,00*(2,50-0,20)*3)*0,14",null,11.0992,null,null,null,null,null,null,null,"Výtlak VE (3 kusy):(38,00*0,80*(2,00-0,30)+2,00*2,00*(2,50-0,20)*3)*0,14"]
[9,"132501211RRX","Hloubení rýh šířky do 200 cm v hor.6, STROJNĚ ","m3",69.3369,null,{"$f":"E183*F183","v":0},0,{"$f":"E183*H183","v":0},0,{"$f":"E183*J183","v":0},null,null,null,2,null,null,null,null,null,null,null,null,null,null,null,1,1,1,null,null,null,null,null,null,null,null,null,null,null,null,null,null,null,null,null,null,null,null,null,null,1,{"$f":"IF(AZ183=1,G183,0)","v":0},{"$f":"IF(AZ183=2,G183,0)","v":0},{"$f":"IF(AZ183=3,G183,0)","v":0},{"$f":"IF(AZ183=4,G183,0)","v":0},{"$f":"IF(AZ183=5,G183,0)","v":0},null,null,null,null,null,null,null,null,null,null,null,null,null,null,null,null,null,null,null,null,null,1,1]
[null,null,"Položka obsahuje hloubení rýh traktorbagrem, naložení výkopku na dopravní prostředek pro svislé, nebo vodorovné přemístění, popř. přemístění výkopku do 3 m (po povrchu území), případné zajištění rypadel polštáři, udržování pracoviště a ochranu výkopiště proti stékání srážkové vody z okolního terénu i s jejím odvodněním, nebo odvedením, přesekání a odstranění kořenů ve výkopišti, odstranění napadávek, urovnání dna výkopu.",null,null,null,null,null,null,null,null,"Položka obsahuje hloubení rýh traktorbagrem, naložení výkopku na dopravní prostředek pro svislé, nebo vodorovné přemístění, popř. přemístění výkopku do 3 m (po povrchu území), případné zajištění rypadel polštáři, udržování pracoviště a ochranu výkopiště proti stékání srážkové vody z okolního terénu i s jejím odvodněním, nebo odvedením, přesekání a odstranění kořenů ve výkopišti, odstranění napadávek, urovnání dna výkopu.",null,null,3]
[null,null,"Součástí položky je i pažení výkopů dle zvolené technologie zhotovitelem a v souladu s předpisy BOZP.",null,null,null,null,null,null,null,null,"Součástí položky je i pažení výkopů dle zvolené technologie zhotovitelem a v souladu s předpisy BOZP.",null,null,3]
[null,null,"Součástí položky je i případné dolamování horniny v prostoru rýhy.",null,null,null,null,null,null,null,null,"Součástí položky je i případné dolamování horniny v prostoru rýhy.",null,null,3]
[null,null,"V hornině tř. 5:",null,0,null,null,null,null,null,null,null,"V hornině tř. 5:"]
[null,null,"Kanalizační přípojky KT DN150 (průměrná hloubka 2,45 m):",null,0,null,null,null,null,null,null,null,"Kanalizační přípojky KT DN150 (průměrná hloubka 2,45 m):"]
[null,null,"Kmenová stoka A KT DN250-500 (52 kusů):364,50*0,90*(2,45-0,30)*0,04",null,28.212299999999999,null,null,null,null,null,null,null,"Kmenová stoka A KT DN250-500 (52 kusů):364,50*0,90*(2,45-0,30)*0,04"]
[null,null,"Stoka AA KT DN250 (9 kusů):36,00*0,90*(2,45-0,30)*0,0",null,0,null,null,null,null,null,null,null,"Stoka AA KT DN250 (9 kusů):36,00*0,90*(2,45-0,30)*0,0"]
[null,null,"Stoka AB KT DN250 (1 kus):3,00*0,90*(2,45-0,30)*0,0",null,0,null,null,null,null,null,null,null,"Stoka AB KT DN250 (1 kus):3,00*0,90*(2,45-0,30)*0,0"]
[null,null,"Stoka AC KT DN250 (5 kusů):23,00*0,90*(2,45-0,30)*0,06",null,2.6703000000000001,null,null,null,null,null,null,null,"Stoka AC KT DN250 (5 kusů):23,00*0,90*(2,45-0,30)*0,06"]
[null,null,"Stoka AD KT DN250 (2 kusy):5,00*0,90*(2,45-0,30)*0,0",null,0,null,null,null,null,null,null,null,"Stoka AD KT DN250 (2 kusy):5,00*0,90*(2,45-0,30)*0,0"]
[null,null,"Stoka AE KT DN250 (14 kusů):139,50*0,90*(2,45-0,30)*0,07",null,18.895299999999999,null,null,null,null,null,null,null,"Stoka AE KT DN250 (14 kusů):139,50*0,90*(2,45-0,30)*0,07"]
[null,null,"Stoka AE-1 KT DN250 (7 kusů):27,00*0,90*(2,45-0,30)*0,02",null,1.0448999999999999,null,null,null,null,null,null,null,"Stoka AE-1 KT DN250 (7 kusů):27,00*0,90*(2,45-0,30)*0,02"]
[null,null,"Stoka AF KT DN250 (4 kusy):39,50*0,90*(2,45-0,30)*0,0",null,0,null,null,null,null,null,null,null,"Stoka AF KT DN250 (4 kusy):39,50*0,90*(2,45-0,30)*0,0"]
[null,null,"Stoka AG KT DN250 (2 kusy):9,50*0,90*(2,45-0,30)*0,0",null,0,null,null,null,null,null,null,null,"Stoka AG KT DN250 (2 kusy):9,50*0,90*(2,45-0,30)*0,0"]
[null,null,"Stoka AH KT DN250 (7 kusů):26,00*0,90*(2,45-0,30)*0,0",null,0,null,null,null,null,null,null,null,"Stoka AH KT DN250 (7 kusů):26,00*0,90*(2,45-0,30)*0,0"]
[null,null,"Sběrač B KT DN250 (15 kusů):100,00*0,90*(2,45-0,30)*0,03",null,5.8049999999999997,null,null,null,null,null,null,null,"Sběrač B KT DN250 (15 kusů):100,00*0,90*(2,45-0,30)*0,03"]
[null,null,"Stoka BA KT DN250 (10 kusů):72,00*0,90*(2,45-0,30)*0,04",null,5.5728,null,null,null,null,null,null,null,"Stoka BA KT DN250 (10 kusů):72,00*0,90*(2,45-0,30)*0,04"]
[null,null,"Sběrač C KT DN250 (5 kusů):17,00*0,90*(2,45-0,30)*0,02",null,0.65790000000000004,null,null,null,null,null,null,null,"Sběrač C KT DN250 (5 kusů):17,00*0,90*(2,45-0,30)*0,02"]
[null,null,"Stoka CA KT DN250 (6 kusů):24,00*0,90*(2,45-0,30)*0,02",null,0.92879999999999996,null,null,null,null,null,null,null,"Stoka CA KT DN250 (6 kusů):24,00*0,90*(2,45-0,30)*0,02"]
[null,null,"Kanalizační přípojky PE D 50:",null,0,null,null,null,null,null,null,null,"Kanalizační přípojky PE D 50:"]
[null,null,"Výtlak VE (3 kusy):(38,00*0,80*(2,00-0,30)+2,00*2,00*(2,50-0,20)*3)*0,07",null,5.5495999999999999,null,null,null,null,null,null,null,"Výtlak VE (3 kusy):(38,00*0,80*(2,00-0,30)+2,00*2,00*(2,50-0,20)*3)*0,07"]
[10,"162601102RX0","Vodorovné přemístění výkopku z hor.1-7 na skládku zhotovitele","m3",1633.7982999999999,null,{"$f":"E205*F205","v":0},0,{"$f":"E205*H205","v":0},0,{"$f":"E205*J205","v":0},null,null,null,2,null,null,null,null,null,null,null,null,null,null,null,1,1,1,null,null,null,null,null,null,null,null,null,null,null,null,null,null,null,null,null,null,null,null,null,null,1,{"$f":"IF(AZ205=1,G205,0)","v":0},{"$f":"IF(AZ205=2,G205,0)","v":0},{"$f":"IF(AZ205=3,G205,0)","v":0},{"$f":"IF(AZ205=4,G205,0)","v":0},{"$f":"IF(AZ205=5,G205,0)","v":0},null,null,null,null,null,null,null,null,null,null,null,null,null,null,null,null,null,null,null,null,null,1,1]
[null,null,"Výkopy:",null,0,null,null,null,null,null,null,null,"Výkopy:"]
[null,null,"Kanalizační přípojky KT DN150:",null,0,null,null,null,null,null,null,null,"Kanalizační přípojky KT DN150:"]
[null,null,"Začátek provozního součtu",null,0,null,null,null,null,null,null,null,"Začátek provozního součtu"]
[null,null,"Kmenová stoka A KT DN250-500 (51 kusů):364,50",null,364.5,null,null,null,null,null,null,null,"Kmenová stoka A KT DN250-500 (51 kusů):364,50"]
[null,null,"Stoka AA KT DN250 (9 kusů):36,00",null,36,null,null,null,null,null,null,null,"Stoka AA KT DN250 (9 kusů):36,00"]
[null,null,"Stoka AB KT DN250 (1 kus):3,00",null,3,null,null,null,null,null,null,null,"Stoka AB KT DN250 (1 kus):3,00"]
[null,null,"Stoka AC KT DN250 (5 kusů):23,00",null,23,null,null,null,null,null,null,null,"Stoka AC KT DN250 (5 kusů):23,00"]
[null,null,"Stoka AD KT DN250 (2 kusy):5,00",null,5,null,null,null,null,null,null,null,"Stoka AD KT DN250 (2 kusy):5,00"]
[null,null,"Stoka AE KT DN250 (14 kusů):139,50",null,139.5,null,null,null,null,null,null,null,"Stoka AE KT DN250 (14 kusů):139,50"]
[null,null,"Stoka AE-1 KT DN250 (7 kusů):27,00",null,27,null,null,null,null,null,null,null,"Stoka AE-1 KT DN250 (7 kusů):27,00"]
[null,null,"Stoka AF KT DN250 (4 kusy):39,50",null,39.5,null,null,null,null,null,null,null,"Stoka AF KT DN250 (4 kusy):39,50"]
[null,null,"Stoka AG KT DN250 (2 kusy):9,50",null,9.5,null,null,null,null,null,null,null,"Stoka AG KT DN250 (2 kusy):9,50"]
[null,null,"Stoka AH KT DN250 (7 kusů):26,00",null,26,null,null,null,null,null,null,null,"Stoka AH KT DN250 (7 kusů):26,00"]
[null,null,"Sběrač B KT DN250 (15 kusů):100,00",null,100,null,null,null,null,null,null,null,"Sběrač B KT DN250 (15 kusů):100,00"]
[null,null,"Stoka BA KT DN250 (10 kusů):72,00",null,72,null,null,null,null,null,null,null,"Stoka BA KT DN250 (10 kusů):72,00"]
[null,null,"Sběrač C KT DN250 (5 kusů):17,00",null,17,null,null,null,null,null,null,null,"Sběrač C KT DN250 (5 kusů):17,00"]
[null,null,"Stoka CA KT DN250 (6 kusů):24,00",null,24,null,null,null,null,null,null,null,"Stoka CA KT DN250 (6 kusů):24,00"]
[null,null,"Konec provozního součtu",null,886,null,null,null,null,null,null,null,"Konec provozního součtu"]
[null,null,"V hornině tř. 2 - 6 (průměrná hloubka 2,45 m):886,0000*0,90*(2,45-0,30)",null,1714.41,null,null,null,null,null,null,null,"V hornině tř. 2 - 6 (průměrná hloubka 2,45 m):886,0000*0,90*(2,45-0,30)"]
[null,null,"Kanalizační přípojky PE D 50:",null,0,null,null,null,null,null,null,null,"Kanalizační přípojky PE D 50:"]
[null,null,"Začátek provozního součtu",null,0,null,null,null,null,null,null,null,"Začátek provozního součtu"]
[null,null,"Výtlak VE (3 kusy):38,00*0,80*(2,00-0,30)+2,00*2,00*(2,50-0,20)*3",null,79.28,null,null,null,null,null,null,null,"Výtlak VE (3 kusy):38,00*0,80*(2,00-0,30)+2,00*2,00*(2,50-0,20)*3"]
[null,null,"Konec provozního součtu",null,79.28,null,null,null,null,null,null,null,"Konec provozního součtu"]
[null,null,"V hornině tř. 2 - 6:79,2800",null,79.28,null,null,null,null,null,null,null,"V hornině tř. 2 - 6:79,2800"]
[null,null,"Odpočet zásypů zeminou:-159,8917",null,-159.89169999999999,null,null,null,null,null,null,null,"Odpočet zásypů zeminou:-159,8917"]
[11,"174100050RAB","Zásyp jam,rýh a šachet štěrkodrtí fr. 0-63 mm včetně dodávky štěrkodrtě","m3",205.113,null,{"$f":"E231*F231","v":0},0,{"$f":"E231*H231","v":0},0,{"$f":"E231*J231","v":0},null,null,null,2,null,null,null,null,null,null,null,null,null,null,null,1,1,1,null,null,null,null,null,null,null,null,null,null,null,null,null,null,null,null,null,null,null,null,null,null,1,{"$f":"IF(AZ231=1,G231,0)","v":0},{"$f":"IF(AZ231=2,G231,0)","v":0},{"$f":"IF(AZ231=3,G231,0)","v":0},{"$f":"IF(AZ231=4,G231,0)","v":0},{"$f":"IF(AZ231=5,G231,0)","v":0},null,null,null,null,null,null,null,null,null,null,null,null,null,null,null,null,null,null,null,null,null,1,1]
[null,null,"Výkopy:",null,0,null,null,null,null,null,null,null,"Výkopy:"]
[null,null,"Kanalizační přípojky KT DN150:",null,0,null,null,null,null,null,null,null,"Kanalizační přípojky KT DN150:"]
[null,null,"Začátek provozního součtu",null,0,null,null,null,null,null,null,null,"Začátek provozního součtu"]
[null,null,"Kmenová stoka A KT DN250-500 (52 kusů):364,50",null,364.5,null,null,null,null,null,null,null,"Kmenová stoka A KT DN250-500 (52 kusů):364,50"]
[null,null,"Stoka AA KT DN250 (9 kusů):36,00",null,36,null,null,null,null,null,null,null,"Stoka AA KT DN250 (9 kusů):36,00"]
[null,null,"Stoka AB KT DN250 (1 kus):3,00",null,3,null,null,null,null,null,null,null,"Stoka AB KT DN250 (1 kus):3,00"]
[null,null,"Stoka AC KT DN250 (5 kusů):23,00",null,23,null,null,null,null,null,null,null,"Stoka AC KT DN250 (5 kusů):23,00"]
[null,null,"Stoka AD KT DN250 (2 kusy):5,00",null,5,null,null,null,null,null,null,null,"Stoka AD KT DN250 (2 kusy):5,00"]
[null,null,"Stoka AE KT DN250 (14 kusů):139,50",null,139.5,null,null,null,null,null,null,null,"Stoka AE KT DN250 (14 kusů):139,50"]
[null,null,"Stoka AE-1 KT DN250 (7 kusů):27,00",null,27,null,null,null,null,null,null,null,"Stoka AE-1 KT DN250 (7 kusů):27,00"]
[null,null,"Stoka AF KT DN250 (4 kusy):39,50",null,39.5,null,null,null,null,null,null,null,"Stoka AF KT DN250 (4 kusy):39,50"]
[null,null,"Stoka AG KT DN250 (2 kusy):9,50",null,9.5,null,null,null,null,null,null,null,"Stoka AG KT DN250 (2 kusy):9,50"]
[null,null,"Stoka AH KT DN250 (7 kusů):26,00",null,26,null,null,null,null,null,null,null,"Stoka AH KT DN250 (7 kusů):26,00"]
[null,null,"Sběrač B KT DN250 (15 kusů):100,00",null,100,null,null,null,null,null,null,null,"Sběrač B KT DN250 (15 kusů):100,00"]
[null,null,"Stoka BA KT DN250 (10 kusů):72,00",null,72,null,null,null,null,null,null,null,"Stoka BA KT DN250 (10 kusů):72,00"]
[null,null,"Sběrač C KT DN250 (5 kusů):17,00",null,17,null,null,null,null,null,null,null,"Sběrač C KT DN250 (5 kusů):17,00"]
[null,null,"Stoka CA KT DN250 (6 kusů):24,00",null,24,null,null,null,null,null,null,null,"Stoka CA KT DN250 (6 kusů):24,00"]
[null,null,"Konec provozního součtu",null,886,null,null,null,null,null,null,null,"Konec provozního součtu"]
[null,null,"V hornině tř. 2 - 6 (průměrná hloubka 2,45 m):886,0000*0,90*(2,45-0,30)*0,55",null,942.92550000000006,null,null,null,null,null,null,null,"V hornině tř. 2 - 6 (průměrná hloubka 2,45 m):886,0000*0,90*(2,45-0,30)*0,55"]
[null,null,"Odpočet lože, potrubí a obsypů z 55% zeminou:-886,000*(2,45-0,30-0,5724)*0,55",null,-768.7645,null,null,null,null,null,null,null,"Odpočet lože, potrubí a obsypů z 55% zeminou:-886,000*(2,45-0,30-0,5724)*0,55"]
[null,null,"Kanalizační přípojky PE D 50:",null,0,null,null,null,null,null,null,null,"Kanalizační přípojky PE D 50:"]
[null,null,"Začátek provozního součtu",null,0,null,null,null,null,null,null,null,"Začátek provozního součtu"]
[null,null,"Výtlak VE (3 kusy):38,00*0,80*(2,00-0,30)+2,00*2,00*(2,50-0,20)*3",null,79.28,null,null,null,null,null,null,null,"Výtlak VE (3 kusy):38,00*0,80*(2,00-0,30)+2,00*2,00*(2,50-0,20)*3"]
[null,null,"Konec provozního součtu",null,79.28,null,null,null,null,null,null,null,"Konec provozního součtu"]
[null,null,"V hornině tř. 2 - 6:79,2800*0,55",null,43.603999999999999,null,null,null,null,null,null,null,"V hornině tř. 2 - 6:79,2800*0,55"]
[null,null,"Odpočet lože, potrubí a obsypů z 55% zeminou:-38,00*0,80*(0,15+0,05+0,30)*0,55-0,60^2*Pi*(2,50-0,20)*3*0,55",null,-12.651999999999999,null,null,null,null,null,null,null,"Odpočet lože, potrubí a obsypů z 55% zeminou:-38,00*0,80*(0,15+0,05+0,30)*0,55-0,60^2*Pi*(2,50-0,20)*3*0,55"]
[12,"174101101R00","Zásyp jam, rýh, šachet se zhutněním ","m3",159.89169999999999,null,{"$f":"E258*F258","v":0},0,{"$f":"E258*H258","v":0},0,{"$f":"E258*J258","v":0},null,null,null,2,null,null,null,null,null,null,null,null,null,null,null,1,1,1,null,null,null,null,null,null,null,null,null,null,null,null,null,null,null,null,null,null,null,null,null,null,1,{"$f":"IF(AZ258=1,G258,0)","v":0},{"$f":"IF(AZ258=2,G258,0)","v":0},{"$f":"IF(AZ258=3,G258,0)","v":0},{"$f":"IF(AZ258=4,G258,0)","v":0},{"$f":"IF(AZ258=5,G258,0)","v":0},null,null,null,null,null,null,null,null,null,null,null,null,null,null,null,null,null,null,null,null,null,1,1]
[null,null,"Položka obsahuje strojní přemístění materiálu pro zásyp ze vzdálenosti do 10 m od okraje zásypu.",null,null,null,null,null,null,null,null,"Položka obsahuje strojní přemístění materiálu pro zásyp ze vzdálenosti do 10 m od okraje zásypu.",null,null,3]
[null,null,"Výkopy:",null,0,null,null,null,null,null,null,null,"Výkopy:"]
[null,null,"Kanalizační přípojky KT DN150:",null,0,null,null,null,null,null,null,null,"Kanalizační přípojky KT DN150:"]
[null,null,"Začátek provozního součtu",null,0,null,null,null,null,null,null,null,"Začátek provozního součtu"]
[null,null,"Kmenová stoka A KT DN250-500 (52 kusů):364,50",null,364.5,null,null,null,null,null,null,null,"Kmenová stoka A KT DN250-500 (52 kusů):364,50"]
[null,null,"Stoka AA KT DN250 (9 kusů):36,00",null,36,null,null,null,null,null,null,null,"Stoka AA KT DN250 (9 kusů):36,00"]
[null,null,"Stoka AB KT DN250 (1 kus):3,00",null,3,null,null,null,null,null,null,null,"Stoka AB KT DN250 (1 kus):3,00"]
[null,null,"Stoka AC KT DN250 (5 kusů):23,00",null,23,null,null,null,null,null,null,null,"Stoka AC KT DN250 (5 kusů):23,00"]
[null,null,"Stoka AD KT DN250 (2 kusy):5,00",null,5,null,null,null,null,null,null,null,"Stoka AD KT DN250 (2 kusy):5,00"]
[null,null,"Stoka AE KT DN250 (14 kusů):139,50",null,139.5,null,null,null,null,null,null,null,"Stoka AE KT DN250 (14 kusů):139,50"]
[null,null,"Stoka AE-1 KT DN250 (7 kusů):27,00",null,27,null,null,null,null,null,null,null,"Stoka AE-1 KT DN250 (7 kusů):27,00"]
[null,null,"Stoka AF KT DN250 (4 kusy):39,50",null,39.5,null,null,null,null,null,null,null,"Stoka AF KT DN250 (4 kusy):39,50"]
[null,null,"Stoka AG KT DN250 (2 kusy):9,50",null,9.5,null,null,null,null,null,null,null,"Stoka AG KT DN250 (2 kusy):9,50"]
[null,null,"Stoka AH KT DN250 (7 kusů):26,00",null,26,null,null,null,null,null,null,null,"Stoka AH KT DN250 (7 kusů):26,00"]
[null,null,"Sběrač B KT DN250 (15 kusů):100,00",null,100,null,null,null,null,null,null,null,"Sběrač B KT DN250 (15 kusů):100,00"]
[null,null,"Stoka BA KT DN250 (10 kusů):72,00",null,72,null,null,null,null,null,null,null,"Stoka BA KT DN250 (10 kusů):72,00"]
[null,null,"Sběrač C KT DN250 (5 kusů):17,00",null,17,null,null,null,null,null,null,null,"Sběrač C KT DN250 (5 kusů):17,00"]
[null,null,"Stoka CA KT DN250 (6 kusů):24,00",null,24,null,null,null,null,null,null,null,"Stoka CA KT DN250 (6 kusů):24,00"]
[null,null,"Konec provozního součtu",null,886,null,null,null,null,null,null,null,"Konec provozního součtu"]
[null,null,"V hornině tř. 2 - 6 (průměrná hloubka 2,45 m):886,0000*0,90*(2,45-0,30)*0,45",null,771.48450000000003,null,null,null,null,null,null,null,"V hornině tř. 2 - 6 (průměrná hloubka 2,45 m):886,0000*0,90*(2,45-0,30)*0,45"]
[null,null,"Odpočet lože, potrubí a obsypů z 45% ŠD:-886,00*(2,45-0,30-0,5724)*0,45",null,-628.98910000000001,null,null,null,null,null,null,null,"Odpočet lože, potrubí a obsypů z 45% ŠD:-886,00*(2,45-0,30-0,5724)*0,45"]
[null,null,"Kanalizační přípojky PE D 50:",null,0,null,null,null,null,null,null,null,"Kanalizační přípojky PE D 50:"]
[null,null,"Začátek provozního součtu",null,0,null,null,null,null,null,null,null,"Začátek provozního součtu"]
[null,null,"Výtlak VE (3 kusy):38,00*0,80*(2,00-0,30)+2,00*2,00*(2,50-0,20)*3",null,79.28,null,null,null,null,null,null,null,"Výtlak VE (3 kusy):38,00*0,80*(2,00-0,30)+2,00*2,00*(2,50-0,20)*3"]
[null,null,"Konec provozního součtu",null,79.28,null,null,null,null,null,null,null,"Konec provozního součtu"]
[null,null,"V hornině tř. 2 - 6:79,2800*0,35",null,27.748000000000001,null,null,null,null,null,null,null,"V hornině tř. 2 - 6:79,2800*0,35"]
[null,null,"Odpočet lože, potrubí a obsypů z 55% ŠD:-38,00*0,80*(0,15+0,05+0,30)*0,45-0,60^2*Pi*(2,50-0,20)*3*0,45",null,-10.351699999999999,null,null,null,null,null,null,null,"Odpočet lože, potrubí a obsypů z 55% ŠD:-38,00*0,80*(0,15+0,05+0,30)*0,45-0,60^2*Pi*(2,50-0,20)*3*0,45"]
[13,"175100020RAB","Obsyp potrubí štěrkopískem včetně dodávka štěrkopísku","m3",341.27249999999998,null,{"$f":"E286*F286","v":0},0,{"$f":"E286*H286","v":0},0,{"$f":"E286*J286","v":0},null,null,null,2,null,null,null,null,null,null,null,null,null,null,null,1,1,1,null,null,null,null,null,null,null,null,null,null,null,null,null,null,null,null,null,null,null,null,null,null,1,{"$f":"IF(AZ286=1,G286,0)","v":0},{"$f":"IF(AZ286=2,G286,0)","v":0},{"$f":"IF(AZ286=3,G286,0)","v":0},{"$f":"IF(AZ286=4,G286,0)","v":0},{"$f":"IF(AZ286=5,G286,0)","v":0},null,null,null,null,null,null,null,null,null,null,null,null,null,null,null,null,null,null,null,null,null,1,1]
[null,null,"Kanalizační přípojky KT DN150:",null,0,null,null,null,null,null,null,null,"Kanalizační přípojky KT DN150:"]
[null,null,"Začátek provozního součtu",null,0,null,null,null,null,null,null,null,"Začátek provozního součtu"]
[null,null,"Kmenová stoka A KT DN250-500 (52 kusů):364,50",null,364.5,null,null,null,null,null,null,null,"Kmenová stoka A KT DN250-500 (52 kusů):364,50"]
[null,null,"Stoka AA KT DN250 (9 kusů):36,00",null,36,null,null,null,null,null,null,null,"Stoka AA KT DN250 (9 kusů):36,00"]
[null,null,"Stoka AB KT DN250 (1 kus):3,00",null,3,null,null,null,null,null,null,null,"Stoka AB KT DN250 (1 kus):3,00"]
[null,null,"Stoka AC KT DN250 (5 kusů):23,00",null,23,null,null,null,null,null,null,null,"Stoka AC KT DN250 (5 kusů):23,00"]
[null,null,"Stoka AD KT DN250 (2 kusy):5,00",null,5,null,null,null,null,null,null,null,"Stoka AD KT DN250 (2 kusy):5,00"]
[null,null,"Stoka AE KT DN250 (14 kusů):139,50",null,139.5,null,null,null,null,null,null,null,"Stoka AE KT DN250 (14 kusů):139,50"]
[null,null,"Stoka AE-1 KT DN250 (7 kusů):27,00",null,27,null,null,null,null,null,null,null,"Stoka AE-1 KT DN250 (7 kusů):27,00"]
[null,null,"Stoka AF KT DN250 (4 kusy):39,50",null,39.5,null,null,null,null,null,null,null,"Stoka AF KT DN250 (4 kusy):39,50"]
[null,null,"Stoka AG KT DN250 (2 kusy):9,50",null,9.5,null,null,null,null,null,null,null,"Stoka AG KT DN250 (2 kusy):9,50"]
[null,null,"Stoka AH KT DN250 (7 kusů):26,00",null,26,null,null,null,null,null,null,null,"Stoka AH KT DN250 (7 kusů):26,00"]
[null,null,"Sběrač B KT DN250 (15 kusů):100,00",null,100,null,null,null,null,null,null,null,"Sběrač B KT DN250 (15 kusů):100,00"]
[null,null,"Stoka BA KT DN250 (10 kusů):72,00",null,72,null,null,null,null,null,null,null,"Stoka BA KT DN250 (10 kusů):72,00"]
[null,null,"Sběrač C KT DN250 (5 kusů):17,00",null,17,null,null,null,null,null,null,null,"Sběrač C KT DN250 (5 kusů):17,00"]
[null,null,"Stoka CA KT DN250 (6 kusů):24,00",null,24,null,null,null,null,null,null,null,"Stoka CA KT DN250 (6 kusů):24,00"]
[null,null,"Konec provozního součtu",null,886,null,null,null,null,null,null,null,"Konec provozního součtu"]
[null,null,"886,0000*0,3742",null,331.5412,null,null,null,null,null,null,null,"886,0000*0,3742"]
[null,null,"Kanalizační přípojky PE D 50:",null,0,null,null,null,null,null,null,null,"Kanalizační přípojky PE D 50:"]
[null,null,"Výtlak VE (3 kusy):35,00*(0,80*(0,05+0,30)-0,025^2*Pi)",null,9.7312999999999992,null,null,null,null,null,null,null,"Výtlak VE (3 kusy):35,00*(0,80*(0,05+0,30)-0,025^2*Pi)"]
[14,"199000002RX0","Poplatek za skládku horniny 1- 7 ","m3",1633.7982999999999,null,{"$f":"E307*F307","v":0},0,{"$f":"E307*H307","v":0},0,{"$f":"E307*J307","v":0},null,null,null,2,null,null,null,null,null,null,null,null,null,null,null,1,1,1,null,null,null,null,null,null,null,null,null,null,null,null,null,null,null,null,null,null,null,null,null,null,1,{"$f":"IF(AZ307=1,G307,0)","v":0},{"$f":"IF(AZ307=2,G307,0)","v":0},{"$f":"IF(AZ307=3,G307,0)","v":0},{"$f":"IF(AZ307=4,G307,0)","v":0},{"$f":"IF(AZ307=5,G307,0)","v":0},null,null,null,null,null,null,null,null,null,null,null,null,null,null,null,null,null,null,null,null,null,1,1]
[null,null,"Výkopy:",null,0,null,null,null,null,null,null,null,"Výkopy:"]
[null,null,"Kanalizační přípojky KT DN150:",null,0,null,null,null,null,null,null,null,"Kanalizační přípojky KT DN150:"]
[null,null,"Začátek provozního součtu",null,0,null,null,null,null,null,null,null,"Začátek provozního součtu"]
[null,null,"Kmenová stoka A KT DN250-500 (51 kusů):364,50",null,364.5,null,null,null,null,null,null,null,"Kmenová stoka A KT DN250-500 (51 kusů):364,50"]
[null,null,"Stoka AA KT DN250 (9 kusů):36,00",null,36,null,null,null,null,null,null,null,"Stoka AA KT DN250 (9 kusů):36,00"]
[null,null,"Stoka AB KT DN250 (1 kus):3,00",null,3,null,null,null,null,null,null,null,"Stoka AB KT DN250 (1 kus):3,00"]
[null,null,"Stoka AC KT DN250 (5 kusů):23,00",null,23,null,null,null,null,null,null,null,"Stoka AC KT DN250 (5 kusů):23,00"]
[null,null,"Stoka AD KT DN250 (2 kusy):5,00",null,5,null,null,null,null,null,null,null,"Stoka AD KT DN250 (2 kusy):5,00"]
[null,null,"Stoka AE KT DN250 (14 kusů):139,50",null,139.5,null,null,null,null,null,null,null,"Stoka AE KT DN250 (14 kusů):139,50"]
[null,null,"Stoka AE-1 KT DN250 (7 kusů):27,00",null,27,null,null,null,null,null,null,null,"Stoka AE-1 KT DN250 (7 kusů):27,00"]
[null,null,"Stoka AF KT DN250 (4 kusy):39,50",null,39.5,null,null,null,null,null,null,null,"Stoka AF KT DN250 (4 kusy):39,50"]
[null,null,"Stoka AG KT DN250 (2 kusy):9,50",null,9.5,null,null,null,null,null,null,null,"Stoka AG KT DN250 (2 kusy):9,50"]
[null,null,"Stoka AH KT DN250 (7 kusů):26,00",null,26,null,null,null,null,null,null,null,"Stoka AH KT DN250 (7 kusů):26,00"]
[null,null,"Sběrač B KT DN250 (15 kusů):100,00",null,100,null,null,null,null,null,null,null,"Sběrač B KT DN250 (15 kusů):100,00"]
[null,null,"Stoka BA KT DN250 (10 kusů):72,00",null,72,null,null,null,null,null,null,null,"Stoka BA KT DN250 (10 kusů):72,00"]
[null,null,"Sběrač C KT DN250 (5 kusů):17,00",null,17,null,null,null,null,null,null,null,"Sběrač C KT DN250 (5 kusů):17,00"]
[null,null,"Stoka CA KT DN250 (6 kusů):24,00",null,24,null,null,null,null,null,null,null,"Stoka CA KT DN250 (6 kusů):24,00"]
[null,null,"Konec provozního součtu",null,886,null,null,null,null,null,null,null,"Konec provozního součtu"]
[null,null,"V hornině tř. 2 - 6 (průměrná hloubka 2,45 m):886,0000*0,90*(2,45-0,30)",null,1714.41,null,null,null,null,null,null,null,"V hornině tř. 2 - 6 (průměrná hloubka 2,45 m):886,0000*0,90*(2,45-0,30)"]
[null,null,"Kanalizační přípojky PE D 50:",null,0,null,null,null,null,null,null,null,"Kanalizační přípojky PE D 50:"]
[null,null,"Začátek provozního součtu",null,0,null,null,null,null,null,null,null,"Začátek provozního součtu"]
[null,null,"Výtlak VE (3 kusy):38,00*0,80*(2,00-0,30)+2,00*2,00*(2,50-0,20)*3",null,79.28,null,null,null,null,null,null,null,"Výtlak VE (3 kusy):38,00*0,80*(2,00-0,30)+2,00*2,00*(2,50-0,20)*3"]
[null,null,"Konec provozního součtu",null,79.28,null,null,null,null,null,null,null,"Konec provozního součtu"]
[null,null,"V hornině tř. 2 - 6:79,2800",null,79.28,null,null,null,null,null,null,null,"V hornině tř. 2 - 6:79,2800"]
[null,null,"Odpočet zásypů zeminou:-159,8917",null,-159.89169999999999,null,null,null,null,null,null,null,"Odpočet zásypů zeminou:-159,8917"]
[null,"Celkem za","1 Zemní práce",null,null,null,{"$f":"SUM(G7:G332)","v":0},null,{"$f":"SUM(I7:I332)","v":0},null,{"$f":"SUM(K7:K332)","v":0},null,null,null,4,null,null,null,null,null,null,null,null,null,null,null,null,null,null,null,null,null,null,null,null,null,null,null,null,null,null,null,null,null,null,null,null,null,null,null,null,null,{"$f":"SUM(BA7:BA332)","v":0},{"$f":"SUM(BB7:BB332)","v":0},{"$f":"SUM(BC7:BC332)","v":0},{"$f":"SUM(BD7:BD332)","v":0},{"$f":"SUM(BE7:BE332)","v":0}]
["Díl:","45","Podkladní a vedlejší konstrukce",null,null,null,null,null,null,null,null,null,null,null,1]
[15,"451572111R00","Lože pod potrubí z kameniva těženého 0 - 4 mm ","m3",4.47,null,{"$f":"E335*F335","v":0},1.873,{"$f":"E335*H335","v":8.3723099999999988},0,{"$f":"E335*J335","v":0},null,null,null,2,null,null,null,null,null,null,null,null,null,null,null,1,1,1,null,null,null,null,null,null,null,null,null,null,null,null,null,null,null,null,null,null,null,null,null,null,1,{"$f":"IF(AZ335=1,G335,0)","v":0},{"$f":"IF(AZ335=2,G335,0)","v":0},{"$f":"IF(AZ335=3,G335,0)","v":0},{"$f":"IF(AZ335=4,G335,0)","v":0},{"$f":"IF(AZ335=5,G335,0)","v":0},null,null,null,null,null,null,null,null,null,null,null,null,null,null,null,null,null,null,null,null,null,1,1]
[null,null,"Kanalizační přípojky PE D 50:",null,0,null,null,null,null,null,null,null,"Kanalizační přípojky PE D 50:"]
[null,null,"Výtlak VE (3 kusy):35,00*0,80*0,15+2,00*2,00*0,15*0,15*3",null,4.47,null,null,null,null,null,null,null,"Výtlak VE (3 kusy):35,00*0,80*0,15+2,00*2,00*0,15*0,15*3"]
[16,"452312131RRX","Sedlové lože pod potrubí z betonu C 12/15 včetně nutného bednění","m3",151.506,null,{"$f":"E338*F338","v":0},2.5,{"$f":"E338*H338","v":378.76499999999999},0,{"$f":"E338*J338","v":0},null,null,null,2,null,null,null,null,null,null,null,null,null,null,null,1,1,1,null,null,null,null,null,null,null,null,null,null,null,null,null,null,null,null,null,null,null,null,null,null,1,{"$f":"IF(AZ338=1,G338,0)","v":0},{"$f":"IF(AZ338=2,G338,0)","v":0},{"$f":"IF(AZ338=3,G338,0)","v":0},{"$f":"IF(AZ338=4,G338,0)","v":0},{"$f":"IF(AZ338=5,G338,0)","v":0},null,null,null,null,null,null,null,null,null,null,null,null,null,null,null,null,null,null,null,null,null,1,1]
[null,null,"Kanalizační přípojky KT DN150:",null,0,null,null,null,null,null,null,null,"Kanalizační přípojky KT DN150:"]
[null,null,"Začátek provozního součtu",null,0,null,null,null,null,null,null,null,"Začátek provozního součtu"]
[null,null,"Kmenová stoka A KT DN250-500 (52 kusů):364,50",null,364.5,null,null,null,null,null,null,null,"Kmenová stoka A KT DN250-500 (52 kusů):364,50"]
[null,null,"Stoka AA KT DN250 (9 kusů):36,00",null,36,null,null,null,null,null,null,null,"Stoka AA KT DN250 (9 kusů):36,00"]
[null,null,"Stoka AB KT DN250 (1 kus):3,00",null,3,null,null,null,null,null,null,null,"Stoka AB KT DN250 (1 kus):3,00"]
[null,null,"Stoka AC KT DN250 (5 kusů):23,00",null,23,null,null,null,null,null,null,null,"Stoka AC KT DN250 (5 kusů):23,00"]
[null,null,"Stoka AD KT DN250 (2 kusy):5,00",null,5,null,null,null,null,null,null,null,"Stoka AD KT DN250 (2 kusy):5,00"]
[null,null,"Stoka AE KT DN250 (14 kusů):139,50",null,139.5,null,null,null,null,null,null,null,"Stoka AE KT DN250 (14 kusů):139,50"]
[null,null,"Stoka AE-1 KT DN250 (7 kusů):27,00",null,27,null,null,null,null,null,null,null,"Stoka AE-1 KT DN250 (7 kusů):27,00"]
[null,null,"Stoka AF KT DN250 (4 kusy):39,50",null,39.5,null,null,null,null,null,null,null,"Stoka AF KT DN250 (4 kusy):39,50"]
[null,null,"Stoka AG KT DN250 (2 kusy):9,50",null,9.5,null,null,null,null,null,null,null,"Stoka AG KT DN250 (2 kusy):9,50"]
[null,null,"Stoka AH KT DN250 (7 kusů):26,00",null,26,null,null,null,null,null,null,null,"Stoka AH KT DN250 (7 kusů):26,00"]
[null,null,"Sběrač B KT DN250 (15 kusů):100,00",null,100,null,null,null,null,null,null,null,"Sběrač B KT DN250 (15 kusů):100,00"]
[null,null,"Stoka BA KT DN250 (10 kusů):72,00",null,72,null,null,null,null,null,null,null,"Stoka BA KT DN250 (10 kusů):72,00"]
[null,null,"Sběrač C KT DN250 (5 kusů):17,00",null,17,null,null,null,null,null,null,null,"Sběrač C KT DN250 (5 kusů):17,00"]
[null,null,"Stoka CA KT DN250 (6 kusů):24,00",null,24,null,null,null,null,null,null,null,"Stoka CA KT DN250 (6 kusů):24,00"]
[null,null,"Konec provozního součtu",null,886,null,null,null,null,null,null,null,"Konec provozního součtu"]
[null,null,"886,0000*0,1710",null,151.506,null,null,null,null,null,null,null,"886,0000*0,1710"]
[null,"Celkem za","45 Podkladní a vedlejší konstrukce",null,null,null,{"$f":"SUM(G334:G356)","v":0},null,{"$f":"SUM(I334:I356)","v":387.13730999999996},null,{"$f":"SUM(K334:K356)","v":0},null,null,null,4,null,null,null,null,null,null,null,null,null,null,null,null,null,null,null,null,null,null,null,null,null,null,null,null,null,null,null,null,null,null,null,null,null,null,null,null,null,{"$f":"SUM(BA334:BA356)","v":0},{"$f":"SUM(BB334:BB356)","v":0},{"$f":"SUM(BC334:BC356)","v":0},{"$f":"SUM(BD334:BD356)","v":0},{"$f":"SUM(BE334:BE356)","v":0}]
["Díl:","8","Trubní vedení",null,null,null,null,null,null,null,null,null,null,null,1]
[17,"831312121RT5","Montáž trub kameninových, pryž. kroužek, DN 150 včetně dodávky trub kamenin. DN 150 dl. 1500 mm","m",886,null,{"$f":"E359*F359","v":0},2.3369999999999998E-2,{"$f":"E359*H359","v":20.705819999999999},0,{"$f":"E359*J359","v":0},null,null,null,2,null,null,null,null,null,null,null,null,null,null,null,1,1,1,null,null,null,null,null,null,null,null,null,null,null,null,null,null,null,null,null,null,null,null,null,null,1,{"$f":"IF(AZ359=1,G359,0)","v":0},{"$f":"IF(AZ359=2,G359,0)","v":0},{"$f":"IF(AZ359=3,G359,0)","v":0},{"$f":"IF(AZ359=4,G359,0)","v":0},{"$f":"IF(AZ359=5,G359,0)","v":0},null,null,null,null,null,null,null,null,null,null,null,null,null,null,null,null,null,null,null,null,null,1,1]
[null,null,"Položka je určena pro montáž potrubí z trub kameninových těsněných pryžovým kroužkem v otevřeném výkopu ve sklonu do 20 %.",null,null,null,null,null,null,null,null,"Položka je určena pro montáž potrubí z trub kameninových těsněných pryžovým kroužkem v otevřeném výkopu ve sklonu do 20 %.",null,null,3]
[null,null,"V položce jsou zakalkulovány i náklady na dodání trub.",null,null,null,null,null,null,null,null,"V položce jsou zakalkulovány i náklady na dodání trub.",null,null,3]
[null,null,"Kanalizační přípojky KT DN150:",null,0,null,null,null,null,null,null,null,"Kanalizační přípojky KT DN150:"]
[null,null,"Kmenová stoka A KT DN250-500 (52 kusů):364,50",null,364.5,null,null,null,null,null,null,null,"Kmenová stoka A KT DN250-500 (52 kusů):364,50"]
[null,null,"Stoka AA KT DN250 (9 kusů):36,00",null,36,null,null,null,null,null,null,null,"Stoka AA KT DN250 (9 kusů):36,00"]
[null,null,"Stoka AB KT DN250 (1 kus):3,00",null,3,null,null,null,null,null,null,null,"Stoka AB KT DN250 (1 kus):3,00"]
[null,null,"Stoka AC KT DN250 (5 kusů):23,00",null,23,null,null,null,null,null,null,null,"Stoka AC KT DN250 (5 kusů):23,00"]
[null,null,"Stoka AD KT DN250 (2 kusy):5,00",null,5,null,null,null,null,null,null,null,"Stoka AD KT DN250 (2 kusy):5,00"]
[null,null,"Stoka AE KT DN250 (14 kusů):139,50",null,139.5,null,null,null,null,null,null,null,"Stoka AE KT DN250 (14 kusů):139,50"]
[null,null,"Stoka AE-1 KT DN250 (7 kusů):27,00",null,27,null,null,null,null,null,null,null,"Stoka AE-1 KT DN250 (7 kusů):27,00"]
[null,null,"Stoka AF KT DN250 (4 kusy):39,50",null,39.5,null,null,null,null,null,null,null,"Stoka AF KT DN250 (4 kusy):39,50"]
[null,null,"Stoka AG KT DN250 (2 kusy):9,50",null,9.5,null,null,null,null,null,null,null,"Stoka AG KT DN250 (2 kusy):9,50"]
[null,null,"Stoka AH KT DN250 (7 kusů):26,00",null,26,null,null,null,null,null,null,null,"Stoka AH KT DN250 (7 kusů):26,00"]
[null,null,"Sběrač B KT DN250 (15 kusů):100,00",null,100,null,null,null,null,null,null,null,"Sběrač B KT DN250 (15 kusů):100,00"]
[null,null,"Stoka BA KT DN250 (10 kusů):72,00",null,72,null,null,null,null,null,null,null,"Stoka BA KT DN250 (10 kusů):72,00"]
[null,null,"Sběrač C KT DN250 (5 kusů):17,00",null,17,null,null,null,null,null,null,null,"Sběrač C KT DN250 (5 kusů):17,00"]
[null,null,"Stoka CA KT DN250 (6 kusů):24,00",null,24,null,null,null,null,null,null,null,"Stoka CA KT DN250 (6 kusů):24,00"]
[18,"837312221RT2","Montáž tvarov. kamenin. jednoos. pryž. kr. DN 150 včetně dodávky oblouku DN 150 - 15°,30°,45°","kus",278,null,{"$f":"E377*F377","v":0},1.017E-2,{"$f":"E377*H377","v":2.8272599999999999},0,{"$f":"E377*J377","v":0},null,null,null,2,null,null,null,null,null,null,null,null,null,null,null,1,1,1,null,null,null,null,null,null,null,null,null,null,null,null,null,null,null,null,null,null,null,null,null,null,1,{"$f":"IF(AZ377=1,G377,0)","v":0},{"$f":"IF(AZ377=2,G377,0)","v":0},{"$f":"IF(AZ377=3,G377,0)","v":0},{"$f":"IF(AZ377=4,G377,0)","v":0},{"$f":"IF(AZ377=5,G377,0)","v":0},null,null,null,null,null,null,null,null,null,null,null,null,null,null,null,null,null,null,null,null,null,1,1]
[null,null,"Kanalizační přípojky KT DN150:",null,0,null,null,null,null,null,null,null,"Kanalizační přípojky KT DN150:"]
[null,null,"Kmenová stoka A KT DN250-500 (52 kusů):52*2",null,104,null,null,null,null,null,null,null,"Kmenová stoka A KT DN250-500 (52 kusů):52*2"]
[null,null,"Stoka AA KT DN250 (9 kusů):9*2",null,18,null,null,null,null,null,null,null,"Stoka AA KT DN250 (9 kusů):9*2"]
[null,null,"Stoka AB KT DN250 (1 kus):1*2",null,2,null,null,null,null,null,null,null,"Stoka AB KT DN250 (1 kus):1*2"]
[null,null,"Stoka AC KT DN250 (5 kusů):5*2",null,10,null,null,null,null,null,null,null,"Stoka AC KT DN250 (5 kusů):5*2"]
[null,null,"Stoka AD KT DN250 (2 kusy):2*2",null,4,null,null,null,null,null,null,null,"Stoka AD KT DN250 (2 kusy):2*2"]
[null,null,"Stoka AE KT DN250 (14 kusů):14*2",null,28,null,null,null,null,null,null,null,"Stoka AE KT DN250 (14 kusů):14*2"]
[null,null,"Stoka AE-1 KT DN250 (7 kusů):7*2",null,14,null,null,null,null,null,null,null,"Stoka AE-1 KT DN250 (7 kusů):7*2"]
[null,null,"Stoka AF KT DN250 (4 kusy):4*2",null,8,null,null,null,null,null,null,null,"Stoka AF KT DN250 (4 kusy):4*2"]
[null,null,"Stoka AG KT DN250 (2 kusy):2*2",null,4,null,null,null,null,null,null,null,"Stoka AG KT DN250 (2 kusy):2*2"]
[null,null,"Stoka AH KT DN250 (7 kusů):7*2",null,14,null,null,null,null,null,null,null,"Stoka AH KT DN250 (7 kusů):7*2"]
[null,null,"Sběrač B KT DN250 (15 kusů):15*2",null,30,null,null,null,null,null,null,null,"Sběrač B KT DN250 (15 kusů):15*2"]
[null,null,"Stoka BA KT DN250 (10 kusů):10*2",null,20,null,null,null,null,null,null,null,"Stoka BA KT DN250 (10 kusů):10*2"]
[null,null,"Sběrač C KT DN250 (5 kusů):5*2",null,10,null,null,null,null,null,null,null,"Sběrač C KT DN250 (5 kusů):5*2"]
[null,null,"Stoka CA KT DN250 (6 kusů):6*2",null,12,null,null,null,null,null,null,null,"Stoka CA KT DN250 (6 kusů):6*2"]
[19,"871181121RRX","Montáž trubek polyetylenových ve výkopu d 50 mm včetně montáže tvarovek dle PD","m",35,null,{"$f":"E393*F393","v":0},0,{"$f":"E393*H393","v":0},0,{"$f":"E393*J393","v":0},null,null,null,2,null,null,null,null,null,null,null,null,null,null,null,1,1,1,null,null,null,null,null,null,null,null,null,null,null,null,null,null,null,null,null,null,null,null,null,null,1,{"$f":"IF(AZ393=1,G393,0)","v":0},{"$f":"IF(AZ393=2,G393,0)","v":0},{"$f":"IF(AZ393=3,G393,0)","v":0},{"$f":"IF(AZ393=4,G393,0)","v":0},{"$f":"IF(AZ393=5,G393,0)","v":0},null,null,null,null,null,null,null,null,null,null,null,null,null,null,null,null,null,null,null,null,null,1,1]
[null,null,"Kanalizační přípojky PE D 50:",null,0,null,null,null,null,null,null,null,"Kanalizační přípojky PE D 50:"]
[null,null,"Výtlak VE (3 kusy):35,00",null,35,null,null,null,null,null,null,null,"Výtlak VE (3 kusy):35,00"]
[20,"892241111R0K","Tlaková zkouška kanalizačního potrubí DN 80 včetně zajištění konců potrubí","m",35,null,{"$f":"E396*F396","v":0},0,{"$f":"E396*H396","v":0},0,{"$f":"E396*J396","v":0},null,null,null,2,null,null,null,null,null,null,null,null,null,null,null,1,1,1,null,null,null,null,null,null,null,null,null,null,null,null,null,null,null,null,null,null,null,null,null,null,1,{"$f":"IF(AZ396=1,G396,0)","v":0},{"$f":"IF(AZ396=2,G396,0)","v":0},{"$f":"IF(AZ396=3,G396,0)","v":0},{"$f":"IF(AZ396=4,G396,0)","v":0},{"$f":"IF(AZ396=5,G396,0)","v":0},null,null,null,null,null,null,null,null,null,null,null,null,null,null,null,null,null,null,null,null,null,1,1]
[null,null,"V položce jsou započteny náklady na přísun, montáž, demontáž a odsun zkoušecího čerpadla, napuštění tlakovou vodou a dodání vody pro tlakovou zkoušku.",null,null,null,null,null,null,null,null,"V položce jsou započteny náklady na přísun, montáž, demontáž a odsun zkoušecího čerpadla, napuštění tlakovou vodou a dodání vody pro tlakovou zkoušku.",null,null,3]
[null,null,"Kanalizační přípojky PE D 50:",null,0,null,null,null,null,null,null,null,"Kanalizační přípojky PE D 50:"]
[null,null,"Výtlak VE (3 kusy):35,00",null,35,null,null,null,null,null,null,null,"Výtlak VE (3 kusy):35,00"]
[21,"892571111R00","Zkouška těsnosti kanalizace DN do 200, vodou ","m",886,null,{"$f":"E400*F400","v":0},0,{"$f":"E400*H400","v":0},0,{"$f":"E400*J400","v":0},null,null,null,2,null,null,null,null,null,null,null,null,null,null,null,1,1,1,null,null,null,null,null,null,null,null,null,null,null,null,null,null,null,null,null,null,null,null,null,null,1,{"$f":"IF(AZ400=1,G400,0)","v":0},{"$f":"IF(AZ400=2,G400,0)","v":0},{"$f":"IF(AZ400=3,G400,0)","v":0},{"$f":"IF(AZ400=4,G400,0)","v":0},{"$f":"IF(AZ400=5,G400,0)","v":0},null,null,null,null,null,null,null,null,null,null,null,null,null,null,null,null,null,null,null,null,null,1,1]
[null,null,"V položce jsou zakalkulovány náklady na napuštění vodou a dodání vody pro zkoušku těsnosti včetně zavakování potrubí dle zvolené technologie zhotovitele.",null,null,null,null,null,null,null,null,"V položce jsou zakalkulovány náklady na napuštění vodou a dodání vody pro zkoušku těsnosti včetně zavakování potrubí dle zvolené technologie zhotovitele.",null,null,3]
[null,null,"Kanalizační přípojky KT DN150:",null,0,null,null,null,null,null,null,null,"Kanalizační přípojky KT DN150:"]
[null,null,"Kmenová stoka A KT DN250-500 (52 kusů):364,50",null,364.5,null,null,null,null,null,null,null,"Kmenová stoka A KT DN250-500 (52 kusů):364,50"]
[null,null,"Stoka AA KT DN250 (9 kusů):36,00",null,36,null,null,null,null,null,null,null,"Stoka AA KT DN250 (9 kusů):36,00"]
[null,null,"Stoka AB KT DN250 (1 kus):3,00",null,3,null,null,null,null,null,null,null,"Stoka AB KT DN250 (1 kus):3,00"]
[null,null,"Stoka AC KT DN250 (5 kusů):23,00",null,23,null,null,null,null,null,null,null,"Stoka AC KT DN250 (5 kusů):23,00"]
[null,null,"Stoka AD KT DN250 (2 kusy):5,00",null,5,null,null,null,null,null,null,null,"Stoka AD KT DN250 (2 kusy):5,00"]
[null,null,"Stoka AE KT DN250 (14 kusů):139,50",null,139.5,null,null,null,null,null,null,null,"Stoka AE KT DN250 (14 kusů):139,50"]
[null,null,"Stoka AE-1 KT DN250 (7 kusů):27,00",null,27,null,null,null,null,null,null,null,"Stoka AE-1 KT DN250 (7 kusů):27,00"]
[null,null,"Stoka AF KT DN250 (4 kusy):39,50",null,39.5,null,null,null,null,null,null,null,"Stoka AF KT DN250 (4 kusy):39,50"]
[null,null,"Stoka AG KT DN250 (2 kusy):9,50",null,9.5,null,null,null,null,null,null,null,"Stoka AG KT DN250 (2 kusy):9,50"]
[null,null,"Stoka AH KT DN250 (7 kusů):26,00",null,26,null,null,null,null,null,null,null,"Stoka AH KT DN250 (7 kusů):26,00"]
[null,null,"Sběrač B KT DN250 (15 kusů):100,00",null,100,null,null,null,null,null,null,null,"Sběrač B KT DN250 (15 kusů):100,00"]
[null,null,"Stoka BA KT DN250 (10 kusů):72,00",null,72,null,null,null,null,null,null,null,"Stoka BA KT DN250 (10 kusů):72,00"]
[null,null,"Sběrač C KT DN250 (5 kusů):17,00",null,17,null,null,null,null,null,null,null,"Sběrač C KT DN250 (5 kusů):17,00"]
[null,null,"Stoka CA KT DN250 (6 kusů):24,00",null,24,null,null,null,null,null,null,null,"Stoka CA KT DN250 (6 kusů):24,00"]
[22,"892601122R00","Čištění kanalizační stoky do DN 200, do 50 m ","m",886,null,{"$f":"E417*F417","v":0},0,{"$f":"E417*H417","v":0},0,{"$f":"E417*J417","v":0},null,null,null,2,null,null,null,null,null,null,null,null,null,null,null,1,0,0,null,null,null,null,null,null,null,null,null,null,null,null,null,null,null,null,null,null,null,null,null,null,1,{"$f":"IF(AZ417=1,G417,0)","v":0},{"$f":"IF(AZ417=2,G417,0)","v":0},{"$f":"IF(AZ417=3,G417,0)","v":0},{"$f":"IF(AZ417=4,G417,0)","v":0},{"$f":"IF(AZ417=5,G417,0)","v":0},null,null,null,null,null,null,null,null,null,null,null,null,null,null,null,null,null,null,null,null,null,1,0]
[null,null,"V položce je zakalkulováno:",null,null,null,null,null,null,null,null,"V položce je zakalkulováno:",null,null,3]
[null,null,"a) otevření a uzavření revizních šachet a čisticích kusů",null,null,null,null,null,null,null,null,"a) otevření a uzavření revizních šachet a čisticích kusů",null,null,3]
[null,null,"b) natažení vysokotlakých hadic k místu odkud se bude kanalizace čistit",null,null,null,null,null,null,null,null,"b) natažení vysokotlakých hadic k místu odkud se bude kanalizace čistit",null,null,3]
[null,null,"c) vyčištění potrubí tlakovou vodou nebo motorovým pérem.",null,null,null,null,null,null,null,null,"c) vyčištění potrubí tlakovou vodou nebo motorovým pérem.",null,null,3]
[null,null,"Kanalizační přípojky KT DN150:",null,0,null,null,null,null,null,null,null,"Kanalizační přípojky KT DN150:"]
[null,null,"Kmenová stoka A KT DN250-500 (52 kusů):364,50",null,364.5,null,null,null,null,null,null,null,"Kmenová stoka A KT DN250-500 (52 kusů):364,50"]
[null,null,"Stoka AA KT DN250 (9 kusů):36,00",null,36,null,null,null,null,null,null,null,"Stoka AA KT DN250 (9 kusů):36,00"]
[null,null,"Stoka AB KT DN250 (1 kus):3,00",null,3,null,null,null,null,null,null,null,"Stoka AB KT DN250 (1 kus):3,00"]
[null,null,"Stoka AC KT DN250 (5 kusů):23,00",null,23,null,null,null,null,null,null,null,"Stoka AC KT DN250 (5 kusů):23,00"]
[null,null,"Stoka AD KT DN250 (2 kusy):5,00",null,5,null,null,null,null,null,null,null,"Stoka AD KT DN250 (2 kusy):5,00"]
[null,null,"Stoka AE KT DN250 (14 kusů):139,50",null,139.5,null,null,null,null,null,null,null,"Stoka AE KT DN250 (14 kusů):139,50"]
[null,null,"Stoka AE-1 KT DN250 (7 kusů):27,00",null,27,null,null,null,null,null,null,null,"Stoka AE-1 KT DN250 (7 kusů):27,00"]
[null,null,"Stoka AF KT DN250 (4 kusy):39,50",null,39.5,null,null,null,null,null,null,null,"Stoka AF KT DN250 (4 kusy):39,50"]
[null,null,"Stoka AG KT DN250 (2 kusy):9,50",null,9.5,null,null,null,null,null,null,null,"Stoka AG KT DN250 (2 kusy):9,50"]
[null,null,"Stoka AH KT DN250 (7 kusů):26,00",null,26,null,null,null,null,null,null,null,"Stoka AH KT DN250 (7 kusů):26,00"]
[null,null,"Sběrač B KT DN250 (15 kusů):100,00",null,100,null,null,null,null,null,null,null,"Sběrač B KT DN250 (15 kusů):100,00"]
[null,null,"Stoka BA KT DN250 (10 kusů):72,00",null,72,null,null,null,null,null,null,null,"Stoka BA KT DN250 (10 kusů):72,00"]
[null,null,"Sběrač C KT DN250 (5 kusů):17,00",null,17,null,null,null,null,null,null,null,"Sběrač C KT DN250 (5 kusů):17,00"]
[null,null,"Stoka CA KT DN250 (6 kusů):24,00",null,24,null,null,null,null,null,null,null,"Stoka CA KT DN250 (6 kusů):24,00"]
[23,"899000105RRX","D+M betonové DŠKP dle PD včetně poklopu ","soubor",10,null,{"$f":"E437*F437","v":0},1.3192900000000001,{"$f":"E437*H437","v":13.192900000000002},0,{"$f":"E437*J437","v":0},null,null,null,2,null,null,null,null,null,null,null,null,null,null,null,1,1,1,null,null,null,null,null,null,null,null,null,null,null,null,null,null,null,null,null,null,null,null,null,null,1,{"$f":"IF(AZ437=1,G437,0)","v":0},{"$f":"IF(AZ437=2,G437,0)","v":0},{"$f":"IF(AZ437=3,G437,0)","v":0},{"$f":"IF(AZ437=4,G437,0)","v":0},{"$f":"IF(AZ437=5,G437,0)","v":0},null,null,null,null,null,null,null,null,null,null,null,null,null,null,null,null,null,null,null,null,null,1,1]
[null,null,"Kanalizační přípojky PE D 50:",null,0,null,null,null,null,null,null,null,"Kanalizační přípojky PE D 50:"]
[null,null,"DRŠ betonová:10",null,10,null,null,null,null,null,null,null,"DRŠ betonová:10"]
[24,"899000150RRX","D+M DČSOV dle PD včetně dodávky technologie e elektroinstalace","soubor",3,null,{"$f":"E440*F440","v":0},0.48749999999999999,{"$f":"E440*H440","v":1.4624999999999999},0,{"$f":"E440*J440","v":0},null,null,null,2,null,null,null,null,null,null,null,null,null,null,null,1,1,1,null,null,null,null,null,null,null,null,null,null,null,null,null,null,null,null,null,null,null,null,null,null,1,{"$f":"IF(AZ440=1,G440,0)","v":0},{"$f":"IF(AZ440=2,G440,0)","v":0},{"$f":"IF(AZ440=3,G440,0)","v":0},{"$f":"IF(AZ440=4,G440,0)","v":0},{"$f":"IF(AZ440=5,G440,0)","v":0},null,null,null,null,null,null,null,null,null,null,null,null,null,null,null,null,null,null,null,null,null,1,1]
[null,null,"Kanalizační přípojky PE D 50:",null,0,null,null,null,null,null,null,null,"Kanalizační přípojky PE D 50:"]
[null,null,"Výtlak VE (3 kusy):3",null,3,null,null,null,null,null,null,null,"Výtlak VE (3 kusy):3"]
[25,"899713111RRX","Orientační tabulky na sloupku ocelovém, betonovém ","kus",3,null,{"$f":"E443*F443","v":0},2.4000000000000001E-4,{"$f":"E443*H443","v":7.2000000000000005E-4},0,{"$f":"E443*J443","v":0},null,null,null,2,null,null,null,null,null,null,null,null,null,null,null,1,1,1,null,null,null,null,null,null,null,null,null,null,null,null,null,null,null,null,null,null,null,null,null,null,1,{"$f":"IF(AZ443=1,G443,0)","v":0},{"$f":"IF(AZ443=2,G443,0)","v":0},{"$f":"IF(AZ443=3,G443,0)","v":0},{"$f":"IF(AZ443=4,G443,0)","v":0},{"$f":"IF(AZ443=5,G443,0)","v":0},null,null,null,null,null,null,null,null,null,null,null,null,null,null,null,null,null,null,null,null,null,1,1]
[null,null,"Položka platí pro orientační tabulky na vodovodních a kanalizačních řadech. V položce jsou zakalkulovány náklady na dodání a připevnění tabulky a na osazení sloupku. V položce jsou zakalkulovány náklady na zemní práce a na dodání sloupků (betonových nebo ocelových s betonovými patkami)",null,null,null,null,null,null,null,null,"Položka platí pro orientační tabulky na vodovodních a kanalizačních řadech. V položce jsou zakalkulovány náklady na dodání a připevnění tabulky a na osazení sloupku. V položce jsou zakalkulovány náklady na zemní práce a na dodání sloupků (betonových nebo ocelových s betonovými patkami)",null,null,3]
[null,null,"Kanalizační přípojky PE D 50:",null,0,null,null,null,null,null,null,null,"Kanalizační přípojky PE D 50:"]
[null,null,"Výtlak VE (3 kusy):3",null,3,null,null,null,null,null,null,null,"Výtlak VE (3 kusy):3"]
[26,"899721112R00","Fólie výstražná z PVC, šířka 30 cm ","m",921,null,{"$f":"E447*F447","v":0},0,{"$f":"E447*H447","v":0},0,{"$f":"E447*J447","v":0},null,null,null,2,null,null,null,null,null,null,null,null,null,null,null,1,1,1,null,null,null,null,null,null,null,null,null,null,null,null,null,null,null,null,null,null,null,null,null,null,1,{"$f":"IF(AZ447=1,G447,0)","v":0},{"$f":"IF(AZ447=2,G447,0)","v":0},{"$f":"IF(AZ447=3,G447,0)","v":0},{"$f":"IF(AZ447=4,G447,0)","v":0},{"$f":"IF(AZ447=5,G447,0)","v":0},null,null,null,null,null,null,null,null,null,null,null,null,null,null,null,null,null,null,null,null,null,1,1]
[null,null,"Kanalizační přípojky KT DN150:",null,0,null,null,null,null,null,null,null,"Kanalizační přípojky KT DN150:"]
[null,null,"Kmenová stoka A KT DN250-500 (52 kusů):364,50",null,364.5,null,null,null,null,null,null,null,"Kmenová stoka A KT DN250-500 (52 kusů):364,50"]
[null,null,"Stoka AA KT DN250 (9 kusů):36,00",null,36,null,null,null,null,null,null,null,"Stoka AA KT DN250 (9 kusů):36,00"]
[null,null,"Stoka AB KT DN250 (1 kus):3,00",null,3,null,null,null,null,null,null,null,"Stoka AB KT DN250 (1 kus):3,00"]
[null,null,"Stoka AC KT DN250 (5 kusů):23,00",null,23,null,null,null,null,null,null,null,"Stoka AC KT DN250 (5 kusů):23,00"]
[null,null,"Stoka AD KT DN250 (2 kusy):5,00",null,5,null,null,null,null,null,null,null,"Stoka AD KT DN250 (2 kusy):5,00"]
[null,null,"Stoka AE KT DN250 (14 kusů):139,50",null,139.5,null,null,null,null,null,null,null,"Stoka AE KT DN250 (14 kusů):139,50"]
[null,null,"Stoka AE-1 KT DN250 (7 kusů):27,00",null,27,null,null,null,null,null,null,null,"Stoka AE-1 KT DN250 (7 kusů):27,00"]
[null,null,"Stoka AF KT DN250 (4 kusy):39,50",null,39.5,null,null,null,null,null,null,null,"Stoka AF KT DN250 (4 kusy):39,50"]
[null,null,"Stoka AG KT DN250 (2 kusy):9,50",null,9.5,null,null,null,null,null,null,null,"Stoka AG KT DN250 (2 kusy):9,50"]
[null,null,"Stoka AH KT DN250 (7 kusů):26,00",null,26,null,null,null,null,null,null,null,"Stoka AH KT DN250 (7 kusů):26,00"]
[null,null,"Sběrač B KT DN250 (15 kusů):100,00",null,100,null,null,null,null,null,null,null,"Sběrač B KT DN250 (15 kusů):100,00"]
[null,null,"Stoka BA KT DN250 (10 kusů):72,00",null,72,null,null,null,null,null,null,null,"Stoka BA KT DN250 (10 kusů):72,00"]
[null,null,"Sběrač C KT DN250 (5 kusů):17,00",null,17,null,null,null,null,null,null,null,"Sběrač C KT DN250 (5 kusů):17,00"]
[null,null,"Stoka CA KT DN250 (6 kusů):24,00",null,24,null,null,null,null,null,null,null,"Stoka CA KT DN250 (6 kusů):24,00"]
[null,null,"Výtlak VE (3 kusy):35,00",null,35,null,null,null,null,null,null,null,"Výtlak VE (3 kusy):35,00"]
[27,"899731113R00","Vodič signalizační CYY 4 mm2 proměření včetně revize vodiče","m",35,null,{"$f":"E464*F464","v":0},5.0000000000000002E-5,{"$f":"E464*H464","v":1.75E-3},0,{"$f":"E464*J464","v":0},null,null,null,2,null,null,null,null,null,null,null,null,null,null,null,1,1,1,null,null,null,null,null,null,null,null,null,null,null,null,null,null,null,null,null,null,null,null,null,null,1,{"$f":"IF(AZ464=1,G464,0)","v":0},{"$f":"IF(AZ464=2,G464,0)","v":0},{"$f":"IF(AZ464=3,G464,0)","v":0},{"$f":"IF(AZ464=4,G464,0)","v":0},{"$f":"IF(AZ464=5,G464,0)","v":0},null,null,null,null,null,null,null,null,null,null,null,null,null,null,null,null,null,null,null,null,null,1,1]
[null,null,"Kanalizační přípojky PE D 50:",null,0,null,null,null,null,null,null,null,"Kanalizační přípojky PE D 50:"]
[null,null,"Výtlak VE (3 kusy):35,00",null,35,null,null,null,null,null,null,null,"Výtlak VE (3 kusy):35,00"]
[28,"899731114R00","Vodič signalizační CYY 6 mm2 proměření včetně revize vodiče","m",35,null,{"$f":"E467*F467","v":0},8.0000000000000007E-5,{"$f":"E467*H467","v":2.8000000000000004E-3},0,{"$f":"E467*J467","v":0},null,null,null,2,null,null,null,null,null,null,null,null,null,null,null,1,1,1,null,null,null,null,null,null,null,null,null,null,null,null,null,null,null,null,null,null,null,null,null,null,1,{"$f":"IF(AZ467=1,G467,0)","v":0},{"$f":"IF(AZ467=2,G467,0)","v":0},{"$f":"IF(AZ467=3,G467,0)","v":0},{"$f":"IF(AZ467=4,G467,0)","v":0},{"$f":"IF(AZ467=5,G467,0)","v":0},null,null,null,null,null,null,null,null,null,null,null,null,null,null,null,null,null,null,null,null,null,1,1]
[null,null,"Kanalizační přípojky PE D 50:",null,0,null,null,null,null,null,null,null,"Kanalizační přípojky PE D 50:"]
[null,null,"Výtlak VE (3 kusy):35,00",null,35,null,null,null,null,null,null,null,"Výtlak VE (3 kusy):35,00"]
[29,"28613422.R","Trubka tlaková PE100RC D SDR11 50x4,6 mm PN16 včetně dodávky potřebných tvarovek dle PD","m",35.524999999999999,null,{"$f":"E470*F470","v":0},2.7E-4,{"$f":"E470*H470","v":9.5917499999999996E-3},null,{"$f":"E470*J470","v":0},null,null,null,2,null,null,null,null,null,null,null,null,null,null,null,3,1,"28613422.R",null,null,null,null,null,null,null,null,null,null,null,null,null,null,null,null,null,null,null,null,null,null,1,{"$f":"IF(AZ470=1,G470,0)","v":0},{"$f":"IF(AZ470=2,G470,0)","v":0},{"$f":"IF(AZ470=3,G470,0)","v":0},{"$f":"IF(AZ470=4,G470,0)","v":0},{"$f":"IF(AZ470=5,G470,0)","v":0},null,null,null,null,null,null,null,null,null,null,null,null,null,null,null,null,null,null,null,null,null,3,1]
[null,null,"Trubky vodovodní z PE100RC D podle ČSN EN 12201 ",null,null,null,null,null,null,null,null,"Trubky vodovodní z PE100RC D podle ČSN EN 12201 ",null,null,3]
[null,null,"RC D černé s dvojitými hnědým pruhem",null,null,null,null,null,null,null,null,"RC D černé s dvojitými hnědým pruhem",null,null,3]
[null,null,"PN 16 při k = 1,25",null,null,null,null,null,null,null,null,"PN 16 při k = 1,25",null,null,3]
[null,null,"Kanalizační přípojky PE D 50:",null,0,null,null,null,null,null,null,null,"Kanalizační přípojky PE D 50:"]
[null,null,"Výtlak VE (3 kusy):35,00*1,015",null,35.524999999999999,null,null,null,null,null,null,null,"Výtlak VE (3 kusy):35,00*1,015"]
[null,"Celkem za","8 Trubní vedení",null,null,null,{"$f":"SUM(G358:G475)","v":0},null,{"$f":"SUM(I358:I475)","v":38.20334175},null,{"$f":"SUM(K358:K475)","v":0},null,null,null,4,null,null,null,null,null,null,null,null,null,null,null,null,null,null,null,null,null,null,null,null,null,null,null,null,null,null,null,null,null,null,null,null,null,null,null,null,null,{"$f":"SUM(BA358:BA475)","v":0},{"$f":"SUM(BB358:BB475)","v":0},{"$f":"SUM(BC358:BC475)","v":0},{"$f":"SUM(BD358:BD475)","v":0},{"$f":"SUM(BE358:BE475)","v":0}]
["Díl:","99","Staveništní přesun hmot",null,null,null,null,null,null,null,null,null,null,null,1]
[30,"998275101R00","Přesun hmot, kanalizace kameninové, otevřený výkop ","t",425.34065175000001,null,{"$f":"E478*F478","v":0},0,{"$f":"E478*H478","v":0},null,{"$f":"E478*J478","v":0},null,null,null,2,null,null,null,null,null,null,null,null,null,null,null,7,1,2,null,null,null,null,null,null,null,null,null,null,null,null,null,null,null,null,null,null,null,null,null,null,1,{"$f":"IF(AZ478=1,G478,0)","v":0},{"$f":"IF(AZ478=2,G478,0)","v":0},{"$f":"IF(AZ478=3,G478,0)","v":0},{"$f":"IF(AZ478=4,G478,0)","v":0},{"$f":"IF(AZ478=5,G478,0)","v":0},null,null,null,null,null,null,null,null,null,null,null,null,null,null,null,null,null,null,null,null,null,7,1]
[null,"Celkem za","99 Staveništní přesun hmot",null,null,null,{"$f":"SUM(G477:G478)","v":0},null,{"$f":"SUM(I477:I478)","v":0},null,{"$f":"SUM(K477:K478)","v":0},null,null,null,4,null,null,null,null,null,null,null,null,null,null,null,null,null,null,null,null,null,null,null,null,null,null,null,null,null,null,null,null,null,null,null,null,null,null,null,null,null,{"$f":"SUM(BA477:BA478)","v":0},{"$f":"SUM(BB477:BB478)","v":0},{"$f":"SUM(BC477:BC478)","v":0},{"$f":"SUM(BD477:BD478)","v":0},{"$f":"SUM(BE477:BE478)","v":0}]

{"sheet":"303 303.2RD KL","index":16,"n_rows":45,"n_cols":8,"rows_kept":45,"cut":false,"hidden":false,"merged":[[22,0,22,1],[7,2,7,4],[8,2,8,4],[9,2,9,4],[10,2,10,4],[11,2,11,4],[50,1,50,6],[29,5,29,6],[30,5,30,6],[31,5,31,6],[32,5,32,6],[33,5,33,6],[36,1,44,6],[45,1,45,6],[46,1,46,6],[47,1,47,6],[48,1,48,6],[49,1,49,6]]}
["POLOŽKOVÝ ROZPOČET"]
["Rozpočet",null,"303.2RD","Kanalizační přípojky - neuznatelné náklady",null,"JKSO ","827.29.A2"]
[]
["Objekt",null,null,null,null,"SKP "]
["303",null,"Kanalizační přípojky",null,null,"Měrná jednotka","m"]
["Stavba",null,null,null,null,"Počet jednotek",0]
["3232",null,"Horní Slivno - Splašková kanalizace",null,null,"Náklady na m.j.",{"$f":"IF(G6=0,,ROUND((F30+F32)/G6,1))","v":0}]
["Projektant",null,"Radek Hnát - VAK PROJEKT",null,null,"Typ rozpočtu"]
["Zpracovatel projektu"]
["Objednatel",null,"Obec Horní Slivno"]
["Dodavatel",null,".",null,null,"Zakázkové číslo "]
["Rozpočtoval",null,null,null,null,"Počet listů"]
["ROZPOČTOVÉ NÁKLADY"]
["Základní rozpočtové náklady"]
[null,"HSV celkem",{"$f":"'303 303.2RD Rek'!E11","v":0}]
["Z","PSV celkem",{"$f":"'303 303.2RD Rek'!F11","v":0}]
["R","M práce celkem",{"$f":"'303 303.2RD Rek'!H11","v":0}]
["N","M dodávky celkem",{"$f":"'303 303.2RD Rek'!G11","v":0}]
["ZRN celkem",null,{"$f":"SUM(C15:C18)","v":0}]
[]
["HZS",null,{"$f":"'303 303.2RD Rek'!I11","v":0}]
["ZRN+HZS",null,{"$f":"C19+C21","v":0}]
["ZRN+ost.náklady+HZS",null,{"$f":"C22+G23","v":0}]
["Vypracoval",null,null,"Za zhotovitele",null,"Za objednatele"]
["Jméno :",null,null,"Jméno :",null,"Jméno :"]
["Datum :",null,null,"Datum :",null,"Datum :"]
[]
["Podpis :",null,null,"Podpis:",null,"Podpis:"]
[]
["Základ pro DPH",null,21,"%  ",null,{"$f":"C23-F32","v":0}]
["DPH",null,{"$f":"C30","v":21},"% ",null,{"$f":"ROUND(PRODUCT(F30,C31/100),0)","v":0}]
["Základ pro DPH",null,0,"% ",null,0]
["DPH",null,{"$f":"C32","v":0},"% ",null,{"$f":"ROUND(PRODUCT(F32,C33/100),0)","v":0}]
["CENA ZA OBJEKT CELKEM",null,null,null,null,{"$f":"ROUND(SUM(F30:F33),0)","v":0}]
[]
["Poznámka :",null,null,null,null,null,null," "]
[null,null,null,null,null,null,null," "]
[null,null,null,null,null,null,null," "]
[null,null,null,null,null,null,null," "]
[null,null,null,null,null,null,null," "]
[null,null,null,null,null,null,null," "]
[null,null,null,null,null,null,null," "]
[null,null,null,null,null,null,null," "]
[null,null,null,null,null,null,null," "]
[null,null,null,null,null,null,null," "]

{"sheet":"303 303.2RD Rek","index":17,"n_rows":11,"n_cols":9,"rows_kept":11,"cut":false,"hidden":false,"merged":[[0,0,0,1],[1,0,1,1],[1,6,1,8]]}
["Stavba :",null,"3232 Horní Slivno - Splašková kanalizace",null,null,null,"Rozpočet :","303.2RD"]
["Objekt :",null,"303 Kanalizační přípojky",null,null,null,"Kanalizační přípojky - neuznatelné náklady"]
[]
["REKAPITULACE  STAVEBNÍCH  DÍLŮ"]
[]
[null,"Stavební díl",null,null,"HSV","PSV","Dodávka","Montáž","HZS"]
[{"$f":"'303 303.2RD Pol'!B7","v":"1"},{"$f":"'303 303.2RD Pol'!C7","v":"Zemní práce"},null,null,{"$f":"'303 303.2RD Pol'!BA131","v":0},{"$f":"'303 303.2RD Pol'!BB131","v":0},{"$f":"'303 303.2RD Pol'!BC131","v":0},{"$f":"'303 303.2RD Pol'!BD131","v":0},{"$f":"'303 303.2RD Pol'!BE131","v":0}]
[{"$f":"'303 303.2RD Pol'!B132","v":"45"},{"$f":"'303 303.2RD Pol'!C132","v":"Podkladní a vedlejší konstrukce"},null,null,{"$f":"'303 303.2RD Pol'!BA141","v":0},{"$f":"'303 303.2RD Pol'!BB141","v":0},{"$f":"'303 303.2RD Pol'!BC141","v":0},{"$f":"'303 303.2RD Pol'!BD141","v":0},{"$f":"'303 303.2RD Pol'!BE141","v":0}]
[{"$f":"'303 303.2RD Pol'!B142","v":"8"},{"$f":"'303 303.2RD Pol'!C142","v":"Trubní vedení"},null,null,{"$f":"'303 303.2RD Pol'!BA175","v":0},{"$f":"'303 303.2RD Pol'!BB175","v":0},{"$f":"'303 303.2RD Pol'!BC175","v":0},{"$f":"'303 303.2RD Pol'!BD175","v":0},{"$f":"'303 303.2RD Pol'!BE175","v":0}]
[{"$f":"'303 303.2RD Pol'!B176","v":"99"},{"$f":"'303 303.2RD Pol'!C176","v":"Staveništní přesun hmot"},null,null,{"$f":"'303 303.2RD Pol'!BA178","v":0},{"$f":"'303 303.2RD Pol'!BB178","v":0},{"$f":"'303 303.2RD Pol'!BC178","v":0},{"$f":"'303 303.2RD Pol'!BD178","v":0},{"$f":"'303 303.2RD Pol'!BE178","v":0}]
[null,"CELKEM  OBJEKT",null,null,{"$f":"SUM(E7:E10)","v":0},{"$f":"SUM(F7:F10)","v":0},{"$f":"SUM(G7:G10)","v":0},{"$f":"SUM(H7:H10)","v":0},{"$f":"SUM(I7:I10)","v":0}]

{"sheet":"303 303.2RD Pol","index":18,"n_rows":178,"n_cols":80,"rows_kept":178,"cut":false,"hidden":false,"merged":[[12,2,12,3],[13,2,13,3],[14,2,14,3],[15,2,15,3],[17,2,17,6],[18,2,18,6],[0,0,0,6],[2,0,2,1],[3,0,3,1],[3,4,3,6],[8,2,8,3],[9,2,9,3],[10,2,10,3],[11,2,11,3],[25,2,25,3],[26,2,26,3],[28,2,28,6],[29,2,29,6],[30,2,30,3],[31,2,31,3],[19,2,19,3],[20,2,20,3],[21,2,21,3],[22,2,22,3],[23,2,23,3],[24,2,24,3],[39,2,39,3],[40,2,40,3],[41,2,41,3],[42,2,42,3],[44,2,44,3],[45,2,45,3],[32,2,32,3],[33,2,33,3],[34,2,34,3],[36,2,36,6],[37,2,37,6],[38,2,38,3],[53,2,53,3],[54,2,54,3],[55,2,55,3],[56,2,56,3],[58,2,58,3],[59,2,59,3],[46,2,46,3],[47,2,47,3],[48,2,48,3],[50,2,50,6],[51,2,51,6],[52,2,52,3],[67,2,67,3],[68,2,68,3],[69,2,69,3],[70,2,70,3],[71,2,71,3],[73,2,73,6],[60,2,60,3],[61,2,61,3],[62,2,62,3],[64,2,64,6],[65,2,65,6],[66,2,66,6],[80,2,80,3],[82,2,82,3],[83,2,83,3],[84,2,84,3],[85,2,85,3],[86,2,86,3],[74,2,74,6],[75,2,75,6],[76,2,76,3],[77,2,77,3],[78,2,78,3],[79,2,79,3],[94,2,94,3],[95,2,95,3],[96,2,96,3],[97,2,97,3],[98,2,98,3],[99,2,99,3],[87,2,87,3],[88,2,88,3],[89,2,89,3],[90,2,90,3],[92,2,92,3],[93,2,93,3],[107,2,107,3],[108,2,108,3],[109,2,109,3],[110,2,110,3],[111,2,111,3],[113,2,113,3],[100,2,100,3],[102,2,102,6],[103,2,103,3],[104,2,104,3],[105,2,105,3],[106,2,106,3],[121,2,121,3],[122,2,122,3],[123,2,123,3],[124,2,124,3],[125,2,125,3],[126,2,126,3],[114,2,114,3],[115,2,115,3],[116,2,116,3],[117,2,117,3],[118,2,118,3],[119,2,119,3],[138,2,138,3],[139,2,139,3],[143,2,143,6],[144,2,144,6],[145,2,145,3],[146,2,146,3],[147,2,147,3],[148,2,148,3],[127,2,127,3],[128,2,128,3],[129,2,129,3],[133,2,133,3],[134,2,134,3],[135,2,135,3],[136,2,136,3],[137,2,137,3],[157,2,157,3],[158,2,158,3],[159,2,159,3],[161,2,161,6],[162,2,162,6],[163,2,163,6],[150,2,150,3],[151,2,151,3],[152,2,152,3],[153,2,153,3],[155,2,155,6],[156,2,156,3],[171,2,171,3],[172,2,172,3],[173,2,173,3],[164,2,164,6],[165,2,165,3],[166,2,166,3],[167,2,167,3],[168,2,168,3],[170,2,170,3]]}
["Položkový rozpočet "]
[]
["Stavba :",null,"3232 Horní Slivno - Splašková kanalizace",null,"Rozpočet:",{"$f":"'303 303.2RD Rek'!H1","v":"303.2RD"}]
["Objekt :",null,"303 Kanalizační přípojky",null,{"$f":"'303 303.2RD Rek'!G2","v":"Kanalizační přípojky - neuznatelné náklady"}]
[]
["P.č.","Číslo položky","Název položky","MJ","množství","cena / MJ","celkem (Kč)","Jednotková hmotnost","Celková hmotnost","Jednotková dem.hmot.","Celková dem.hmot."]
["Díl:","1","Zemní práce",null,null,null,null,null,null,null,null,null,null,null,1]
[1,"121100002RAB","Sejmutí ornice a uložení na deponii zpětný přesun, rozprostření v tl. 30 cm, osetí","m3",4.41,null,{"$f":"E8*F8","v":0},0,{"$f":"E8*H8","v":0},0,{"$f":"E8*J8","v":0},null,null,null,2,null,null,null,null,null,null,null,null,null,null,null,1,1,1,null,null,null,null,null,null,null,null,null,null,null,null,null,null,null,null,null,null,null,null,null,null,1,{"$f":"IF(AZ8=1,G8,0)","v":0},{"$f":"IF(AZ8=2,G8,0)","v":0},{"$f":"IF(AZ8=3,G8,0)","v":0},{"$f":"IF(AZ8=4,G8,0)","v":0},{"$f":"IF(AZ8=5,G8,0)","v":0},null,null,null,null,null,null,null,null,null,null,null,null,null,null,null,null,null,null,null,null,null,1,1]
[null,null,"Výkopy:",null,0,null,null,null,null,null,null,null,"Výkopy:"]
[null,null,"Kanalizační přípojky KT DN150:",null,0,null,null,null,null,null,null,null,"Kanalizační přípojky KT DN150:"]
[null,null,"Začátek provozního součtu",null,0,null,null,null,null,null,null,null,"Začátek provozního součtu"]
[null,null,"Kmenová stoka A KT DN250-500 (1 kuů):4,00",null,4,null,null,null,null,null,null,null,"Kmenová stoka A KT DN250-500 (1 kuů):4,00"]
[null,null,"Stoka AF KT DN250 (1 kus):5,00",null,5,null,null,null,null,null,null,null,"Stoka AF KT DN250 (1 kus):5,00"]
[null,null,"Stoka CA KT DN250 (3 kusy):12,00",null,12,null,null,null,null,null,null,null,"Stoka CA KT DN250 (3 kusy):12,00"]
[null,null,"Konec provozního součtu",null,21,null,null,null,null,null,null,null,"Konec provozního součtu"]
[null,null,"V hornině tř. 2 - 6 - 35% (průměrná hloubka 2,45 m):21,0000*2,00*0,30*0,35",null,4.41,null,null,null,null,null,null,null,"V hornině tř. 2 - 6 - 35% (průměrná hloubka 2,45 m):21,0000*2,00*0,30*0,35"]
[2,"130001101RRX","Příplatek za ztížené hloubení v blízkosti vedení ","m3",5.2826000000000004,null,{"$f":"E17*F17","v":0},0,{"$f":"E17*H17","v":0},0,{"$f":"E17*J17","v":0},null,null,null,2,null,null,null,null,null,null,null,null,null,null,null,1,1,1,null,null,null,null,null,null,null,null,null,null,null,null,null,null,null,null,null,null,null,null,null,null,1,{"$f":"IF(AZ17=1,G17,0)","v":0},{"$f":"IF(AZ17=2,G17,0)","v":0},{"$f":"IF(AZ17=3,G17,0)","v":0},{"$f":"IF(AZ17=4,G17,0)","v":0},{"$f":"IF(AZ17=5,G17,0)","v":0},null,null,null,null,null,null,null,null,null,null,null,null,null,null,null,null,null,null,null,null,null,1,1]
[null,null,"Včetně ruční dokopávky a ručního výkopu.",null,null,null,null,null,null,null,null,"Včetně ruční dokopávky a ručního výkopu.",null,null,3]
[null,null,"Součástí položky je i případná potřeba dočasnéhon zajištění potrubí a kabelových vedení ve výkopu.",null,null,null,null,null,null,null,null,"Součástí položky je i případná potřeba dočasnéhon zajištění potrubí a kabelových vedení ve výkopu.",null,null,3]
[null,null,"Výkopy:",null,0,null,null,null,null,null,null,null,"Výkopy:"]
[null,null,"Kanalizační přípojky KT DN150:",null,0,null,null,null,null,null,null,null,"Kanalizační přípojky KT DN150:"]
[null,null,"Začátek provozního součtu",null,0,null,null,null,null,null,null,null,"Začátek provozního součtu"]
[null,null,"Kmenová stoka A KT DN250-500 (1 kus):4,00",null,4,null,null,null,null,null,null,null,"Kmenová stoka A KT DN250-500 (1 kus):4,00"]
[null,null,"Stoka AF KT DN250 (1 kus):5,00",null,5,null,null,null,null,null,null,null,"Stoka AF KT DN250 (1 kus):5,00"]
[null,null,"Stoka CA KT DN250 (3 kusy):12,00",null,12,null,null,null,null,null,null,null,"Stoka CA KT DN250 (3 kusy):12,00"]
[null,null,"Konec provozního součtu",null,21,null,null,null,null,null,null,null,"Konec provozního součtu"]
[null,null,"V hornině tř. 2 - 6 - 13% (průměrná hloubka 2,45 m):21,0000*0,90*(2,45-0,30)*0,13",null,5.2826000000000004,null,null,null,null,null,null,null,"V hornině tř. 2 - 6 - 13% (průměrná hloubka 2,45 m):21,0000*0,90*(2,45-0,30)*0,13"]
[3,"132101213R00","Hloubení rýh š.do 200 cm hor.2 do 10000 m3,STROJNĚ ","m3",4.6052999999999997,null,{"$f":"E28*F28","v":0},0,{"$f":"E28*H28","v":0},0,{"$f":"E28*J28","v":0},null,null,null,2,null,null,null,null,null,null,null,null,null,null,null,1,1,1,null,null,null,null,null,null,null,null,null,null,null,null,null,null,null,null,null,null,null,null,null,null,1,{"$f":"IF(AZ28=1,G28,0)","v":0},{"$f":"IF(AZ28=2,G28,0)","v":0},{"$f":"IF(AZ28=3,G28,0)","v":0},{"$f":"IF(AZ28=4,G28,0)","v":0},{"$f":"IF(AZ28=5,G28,0)","v":0},null,null,null,null,null,null,null,null,null,null,null,null,null,null,null,null,null,null,null,null,null,1,1]
[null,null,"Položka obsahuje hloubení rýh traktorbagrem, naložení výkopku na dopravní prostředek pro svislé, nebo vodorovné přemístění, popř. přemístění výkopku do 3 m (po povrchu území), případné zajištění rypadel polštáři, udržování pracoviště a ochranu výkopiště proti stékání srážkové vody z okolního terénu i s jejím odvodněním, nebo odvedením, přesekání a odstranění kořenů ve výkopišti, odstranění napadávek, urovnání dna výkopu.",null,null,null,null,null,null,null,null,"Položka obsahuje hloubení rýh traktorbagrem, naložení výkopku na dopravní prostředek pro svislé, nebo vodorovné přemístění, popř. přemístění výkopku do 3 m (po povrchu území), případné zajištění rypadel polštáři, udržování pracoviště a ochranu výkopiště proti stékání srážkové vody z okolního terénu i s jejím odvodněním, nebo odvedením, přesekání a odstranění kořenů ve výkopišti, odstranění napadávek, urovnání dna výkopu.",null,null,3]
[null,null,"Součástí položky je i pažení výkopů dle zvolené technologie zhotovitelem a v souladu s předpisy BOZP.",null,null,null,null,null,null,null,null,"Součástí položky je i pažení výkopů dle zvolené technologie zhotovitelem a v souladu s předpisy BOZP.",null,null,3]
[null,null,"V hornině tř. 2:",null,0,null,null,null,null,null,null,null,"V hornině tř. 2:"]
[null,null,"Kanalizační přípojky KT DN150 (průměrná hloubka 2,45 m):",null,0,null,null,null,null,null,null,null,"Kanalizační přípojky KT DN150 (průměrná hloubka 2,45 m):"]
[null,null,"Kmenová stoka A KT DN250-500 (1 kus):4,00*0,90*(2,45-0,30)*0,11",null,0.85140000000000005,null,null,null,null,null,null,null,"Kmenová stoka A KT DN250-500 (1 kus):4,00*0,90*(2,45-0,30)*0,11"]
[null,null,"Stoka AF KT DN250 (1 kus):5,00*0,90*(2,45-0,30)*0,10",null,0.96750000000000003,null,null,null,null,null,null,null,"Stoka AF KT DN250 (1 kus):5,00*0,90*(2,45-0,30)*0,10"]
[null,null,"Stoka CA KT DN250 (3 kusy):12,00*0,90*(2,45-0,30)*0,12",null,2.7864,null,null,null,null,null,null,null,"Stoka CA KT DN250 (3 kusy):12,00*0,90*(2,45-0,30)*0,12"]
[4,"132201213R00","Hloubení rýh š.do 200 cm hor.3 do 10000 m3,STROJNĚ ","m3",11.726100000000001,null,{"$f":"E36*F36","v":0},0,{"$f":"E36*H36","v":0},0,{"$f":"E36*J36","v":0},null,null,null,2,null,null,null,null,null,null,null,null,null,null,null,1,1,1,null,null,null,null,null,null,null,null,null,null,null,null,null,null,null,null,null,null,null,null,null,null,1,{"$f":"IF(AZ36=1,G36,0)","v":0},{"$f":"IF(AZ36=2,G36,0)","v":0},{"$f":"IF(AZ36=3,G36,0)","v":0},{"$f":"IF(AZ36=4,G36,0)","v":0},{"$f":"IF(AZ36=5,G36,0)","v":0},null,null,null,null,null,null,null,null,null,null,null,null,null,null,null,null,null,null,null,null,null,1,1]
[null,null,"Položka obsahuje hloubení rýh traktorbagrem, naložení výkopku na dopravní prostředek pro svislé, nebo vodorovné přemístění, popř. přemístění výkopku do 3 m (po povrchu území), případné zajištění rypadel polštáři, udržování pracoviště a ochranu výkopiště proti stékání srážkové vody z okolního terénu i s jejím odvodněním, nebo odvedením, přesekání a odstranění kořenů ve výkopišti, odstranění napadávek, urovnání dna výkopu.",null,null,null,null,null,null,null,null,"Položka obsahuje hloubení rýh traktorbagrem, naložení výkopku na dopravní prostředek pro svislé, nebo vodorovné přemístění, popř. přemístění výkopku do 3 m (po povrchu území), případné zajištění rypadel polštáři, udržování pracoviště a ochranu výkopiště proti stékání srážkové vody z okolního terénu i s jejím odvodněním, nebo odvedením, přesekání a odstranění kořenů ve výkopišti, odstranění napadávek, urovnání dna výkopu.",null,null,3]
[null,null,"Součástí položky je i pažení výkopů dle zvolené technologie zhotovitelem a v souladu s předpisy BOZP.",null,null,null,null,null,null,null,null,"Součástí položky je i pažení výkopů dle zvolené technologie zhotovitelem a v souladu s předpisy BOZP.",null,null,3]
[null,null,"V hornině tř. 3:",null,0,null,null,null,null,null,null,null,"V hornině tř. 3:"]
[null,null,"Kanalizační přípojky KT DN150 (průměrná hloubka 2,45 m):",null,0,null,null,null,null,null,null,null,"Kanalizační přípojky KT DN150 (průměrná hloubka 2,45 m):"]
[null,null,"Kmenová stoka A KT DN250-500 (1 kus):4,00*0,90*(2,45-0,30)*0,26",null,2.0124,null,null,null,null,null,null,null,"Kmenová stoka A KT DN250-500 (1 kus):4,00*0,90*(2,45-0,30)*0,26"]
[null,null,"Stoka AF KT DN250 (1 kus):5,00*0,90*(2,45-0,30)*0,26",null,2.5154999999999998,null,null,null,null,null,null,null,"Stoka AF KT DN250 (1 kus):5,00*0,90*(2,45-0,30)*0,26"]
[null,null,"Stoka CA KT DN250 (3 kusy):12,00*0,90*(2,45-0,30)*0,31",null,7.1981999999999999,null,null,null,null,null,null,null,"Stoka CA KT DN250 (3 kusy):12,00*0,90*(2,45-0,30)*0,31"]
[5,"132201219R00","Přípl.za lepivost,hloubení rýh 200cm,hor.3,STROJNĚ ","m3",5.8631000000000002,null,{"$f":"E44*F44","v":0},0,{"$f":"E44*H44","v":0},0,{"$f":"E44*J44","v":0},null,null,null,2,null,null,null,null,null,null,null,null,null,null,null,1,1,1,null,null,null,null,null,null,null,null,null,null,null,null,null,null,null,null,null,null,null,null,null,null,1,{"$f":"IF(AZ44=1,G44,0)","v":0},{"$f":"IF(AZ44=2,G44,0)","v":0},{"$f":"IF(AZ44=3,G44,0)","v":0},{"$f":"IF(AZ44=4,G44,0)","v":0},{"$f":"IF(AZ44=5,G44,0)","v":0},null,null,null,null,null,null,null,null,null,null,null,null,null,null,null,null,null,null,null,null,null,1,1]
[null,null,"V hornině tř. 3:",null,0,null,null,null,null,null,null,null,"V hornině tř. 3:"]
[null,null,"Kanalizační přípojky KT DN150 (průměrná hloubka 2,45 m):",null,0,null,null,null,null,null,null,null,"Kanalizační přípojky KT DN150 (průměrná hloubka 2,45 m):"]
[null,null,"Kmenová stoka A KT DN250-500 (1 kus):4,00*0,90*(2,45-0,30)*0,26*0,5",null,1.0062,null,null,null,null,null,null,null,"Kmenová stoka A KT DN250-500 (1 kus):4,00*0,90*(2,45-0,30)*0,26*0,5"]
[null,null,"Stoka AF KT DN250 (1 kus):5,00*0,90*(2,45-0,30)*0,26*0,5",null,1.2578,null,null,null,null,null,null,null,"Stoka AF KT DN250 (1 kus):5,00*0,90*(2,45-0,30)*0,26*0,5"]
[null,null,"Stoka CA KT DN250 (3 kusy):12,00*0,90*(2,45-0,30)*0,31*0,5",null,3.5991,null,null,null,null,null,null,null,"Stoka CA KT DN250 (3 kusy):12,00*0,90*(2,45-0,30)*0,31*0,5"]
[6,"132301213R00","Hloubení rýh š.do 200 cm hor.4 do 10000 m3,STROJNĚ ","m3",15.673500000000001,null,{"$f":"E50*F50","v":0},0,{"$f":"E50*H50","v":0},0,{"$f":"E50*J50","v":0},null,null,null,2,null,null,null,null,null,null,null,null,null,null,null,1,1,1,null,null,null,null,null,null,null,null,null,null,null,null,null,null,null,null,null,null,null,null,null,null,1,{"$f":"IF(AZ50=1,G50,0)","v":0},{"$f":"IF(AZ50=2,G50,0)","v":0},{"$f":"IF(AZ50=3,G50,0)","v":0},{"$f":"IF(AZ50=4,G50,0)","v":0},{"$f":"IF(AZ50=5,G50,0)","v":0},null,null,null,null,null,null,null,null,null,null,null,null,null,null,null,null,null,null,null,null,null,1,1]
[null,null,"Položka obsahuje hloubení rýh traktorbagrem, naložení výkopku na dopravní prostředek pro svislé, nebo vodorovné přemístění, popř. přemístění výkopku do 3 m (po povrchu území), případné zajištění rypadel polštáři, udržování pracoviště a ochranu výkopiště proti stékání srážkové vody z okolního terénu i s jejím odvodněním, nebo odvedením, přesekání a odstranění kořenů ve výkopišti, odstranění napadávek, urovnání dna výkopu.",null,null,null,null,null,null,null,null,"Položka obsahuje hloubení rýh traktorbagrem, naložení výkopku na dopravní prostředek pro svislé, nebo vodorovné přemístění, popř. přemístění výkopku do 3 m (po povrchu území), případné zajištění rypadel polštáři, udržování pracoviště a ochranu výkopiště proti stékání srážkové vody z okolního terénu i s jejím odvodněním, nebo odvedením, přesekání a odstranění kořenů ve výkopišti, odstranění napadávek, urovnání dna výkopu.",null,null,3]
[null,null,"Součástí položky je i pažení výkopů dle zvolené technologie zhotovitelem a v souladu s předpisy BOZP.",null,null,null,null,null,null,null,null,"Součástí položky je i pažení výkopů dle zvolené technologie zhotovitelem a v souladu s předpisy BOZP.",null,null,3]
[null,null,"V hornině tř. 4:",null,0,null,null,null,null,null,null,null,"V hornině tř. 4:"]
[null,null,"Kanalizační přípojky KT DN150 (průměrná hloubka 2,45 m):",null,0,null,null,null,null,null,null,null,"Kanalizační přípojky KT DN150 (průměrná hloubka 2,45 m):"]
[null,null,"Kmenová stoka A KT DN250-500 (1 kus):4,00*0,90*(2,45-0,30)*0,26",null,2.0124,null,null,null,null,null,null,null,"Kmenová stoka A KT DN250-500 (1 kus):4,00*0,90*(2,45-0,30)*0,26"]
[null,null,"Stoka AF KT DN250 (1 kus):5,00*0,90*(2,45-0,30)*0,38",null,3.6764999999999999,null,null,null,null,null,null,null,"Stoka AF KT DN250 (1 kus):5,00*0,90*(2,45-0,30)*0,38"]
[null,null,"Stoka CA KT DN250 (3 kusy):12,00*0,90*(2,45-0,30)*0,43",null,9.9846000000000004,null,null,null,null,null,null,null,"Stoka CA KT DN250 (3 kusy):12,00*0,90*(2,45-0,30)*0,43"]
[7,"132301219R00","Přípl.za lepivost,hloubení rýh 200cm,hor.4,STROJNĚ ","m3",7.8368000000000002,null,{"$f":"E58*F58","v":0},0,{"$f":"E58*H58","v":0},0,{"$f":"E58*J58","v":0},null,null,null,2,null,null,null,null,null,null,null,null,null,null,null,1,1,1,null,null,null,null,null,null,null,null,null,null,null,null,null,null,null,null,null,null,null,null,null,null,1,{"$f":"IF(AZ58=1,G58,0)","v":0},{"$f":"IF(AZ58=2,G58,0)","v":0},{"$f":"IF(AZ58=3,G58,0)","v":0},{"$f":"IF(AZ58=4,G58,0)","v":0},{"$f":"IF(AZ58=5,G58,0)","v":0},null,null,null,null,null,null,null,null,null,null,null,null,null,null,null,null,null,null,null,null,null,1,1]
[null,null,"V hornině tř. 4:",null,0,null,null,null,null,null,null,null,"V hornině tř. 4:"]
[null,null,"Kanalizační přípojky KT DN150 (průměrná hloubka 2,45 m):",null,0,null,null,null,null,null,null,null,"Kanalizační přípojky KT DN150 (průměrná hloubka 2,45 m):"]
[null,null,"Kmenová stoka A KT DN250-500 (1 kus):4,00*0,90*(2,45-0,30)*0,26*0,5",null,1.0062,null,null,null,null,null,null,null,"Kmenová stoka A KT DN250-500 (1 kus):4,00*0,90*(2,45-0,30)*0,26*0,5"]
[null,null,"Stoka AF KT DN250 (1 kus):5,00*0,90*(2,45-0,30)*0,38*0,5",null,1.8383,null,null,null,null,null,null,null,"Stoka AF KT DN250 (1 kus):5,00*0,90*(2,45-0,30)*0,38*0,5"]
[null,null,"Stoka CA KT DN250 (3 kusy):12,00*0,90*(2,45-0,30)*0,43*0,5",null,4.9923000000000002,null,null,null,null,null,null,null,"Stoka CA KT DN250 (3 kusy):12,00*0,90*(2,45-0,30)*0,43*0,5"]
[8,"132401211RRX","Hloubení rýh šířky do 200 cm v hor.5, STROJNĚ ","m3",7.2369000000000003,null,{"$f":"E64*F64","v":0},0,{"$f":"E64*H64","v":0},0,{"$f":"E64*J64","v":0},null,null,null,2,null,null,null,null,null,null,null,null,null,null,null,1,1,1,null,null,null,null,null,null,null,null,null,null,null,null,null,null,null,null,null,null,null,null,null,null,1,{"$f":"IF(AZ64=1,G64,0)","v":0},{"$f":"IF(AZ64=2,G64,0)","v":0},{"$f":"IF(AZ64=3,G64,0)","v":0},{"$f":"IF(AZ64=4,G64,0)","v":0},{"$f":"IF(AZ64=5,G64,0)","v":0},null,null,null,null,null,null,null,null,null,null,null,null,null,null,null,null,null,null,null,null,null,1,1]
[null,null,"Položka obsahuje hloubení rýh traktorbagrem, naložení výkopku na dopravní prostředek pro svislé, nebo vodorovné přemístění, popř. přemístění výkopku do 3 m (po povrchu území), případné zajištění rypadel polštáři, udržování pracoviště a ochranu výkopiště proti stékání srážkové vody z okolního terénu i s jejím odvodněním, nebo odvedením, přesekání a odstranění kořenů ve výkopišti, odstranění napadávek, urovnání dna výkopu.",null,null,null,null,null,null,null,null,"Položka obsahuje hloubení rýh traktorbagrem, naložení výkopku na dopravní prostředek pro svislé, nebo vodorovné přemístění, popř. přemístění výkopku do 3 m (po povrchu území), případné zajištění rypadel polštáři, udržování pracoviště a ochranu výkopiště proti stékání srážkové vody z okolního terénu i s jejím odvodněním, nebo odvedením, přesekání a odstranění kořenů ve výkopišti, odstranění napadávek, urovnání dna výkopu.",null,null,3]
[null,null,"Součástí položky je i pažení výkopů dle zvolené technologie zhotovitelem a v souladu s předpisy BOZP.",null,null,null,null,null,null,null,null,"Součástí položky je i pažení výkopů dle zvolené technologie zhotovitelem a v souladu s předpisy BOZP.",null,null,3]
[null,null,"Součástí položky je i případné dolamování horniny v prostoru rýhy.",null,null,null,null,null,null,null,null,"Součástí položky je i případné dolamování horniny v prostoru rýhy.",null,null,3]
[null,null,"V hornině tř. 5:",null,0,null,null,null,null,null,null,null,"V hornině tř. 5:"]
[null,null,"Kanalizační přípojky KT DN150 (průměrná hloubka 2,45 m):",null,0,null,null,null,null,null,null,null,"Kanalizační přípojky KT DN150 (průměrná hloubka 2,45 m):"]
[null,null,"Kmenová stoka A KT DN250-500 (1 kus):4,00*0,90*(2,45-0,30)*0,25",null,1.9350000000000001,null,null,null,null,null,null,null,"Kmenová stoka A KT DN250-500 (1 kus):4,00*0,90*(2,45-0,30)*0,25"]
[null,null,"Stoka AF KT DN250 (1 kus):5,00*0,90*(2,45-0,30)*0,26",null,2.5154999999999998,null,null,null,null,null,null,null,"Stoka AF KT DN250 (1 kus):5,00*0,90*(2,45-0,30)*0,26"]
[null,null,"Stoka CA KT DN250 (3 kusy):12,00*0,90*(2,45-0,30)*0,12",null,2.7864,null,null,null,null,null,null,null,"Stoka CA KT DN250 (3 kusy):12,00*0,90*(2,45-0,30)*0,12"]
[9,"132501211RRX","Hloubení rýh šířky do 200 cm v hor.6, STROJNĚ ","m3",0.77400000000000002,null,{"$f":"E73*F73","v":0},0,{"$f":"E73*H73","v":0},0,{"$f":"E73*J73","v":0},null,null,null,2,null,null,null,null,null,null,null,null,null,null,null,1,1,1,null,null,null,null,null,null,null,null,null,null,null,null,null,null,null,null,null,null,null,null,null,null,1,{"$f":"IF(AZ73=1,G73,0)","v":0},{"$f":"IF(AZ73=2,G73,0)","v":0},{"$f":"IF(AZ73=3,G73,0)","v":0},{"$f":"IF(AZ73=4,G73,0)","v":0},{"$f":"IF(AZ73=5,G73,0)","v":0},null,null,null,null,null,null,null,null,null,null,null,null,null,null,null,null,null,null,null,null,null,1,1]
[null,null,"Položka obsahuje hloubení rýh traktorbagrem, naložení výkopku na dopravní prostředek pro svislé, nebo vodorovné přemístění, popř. přemístění výkopku do 3 m (po povrchu území), případné zajištění rypadel polštáři, udržování pracoviště a ochranu výkopiště proti stékání srážkové vody z okolního terénu i s jejím odvodněním, nebo odvedením, přesekání a odstranění kořenů ve výkopišti, odstranění napadávek, urovnání dna výkopu.",null,null,null,null,null,null,null,null,"Položka obsahuje hloubení rýh traktorbagrem, naložení výkopku na dopravní prostředek pro svislé, nebo vodorovné přemístění, popř. přemístění výkopku do 3 m (po povrchu území), případné zajištění rypadel polštáři, udržování pracoviště a ochranu výkopiště proti stékání srážkové vody z okolního terénu i s jejím odvodněním, nebo odvedením, přesekání a odstranění kořenů ve výkopišti, odstranění napadávek, urovnání dna výkopu.",null,null,3]
[null,null,"Součástí položky je i pažení výkopů dle zvolené technologie zhotovitelem a v souladu s předpisy BOZP.",null,null,null,null,null,null,null,null,"Součástí položky je i pažení výkopů dle zvolené technologie zhotovitelem a v souladu s předpisy BOZP.",null,null,3]
[null,null,"Součástí položky je i případné dolamování horniny v prostoru rýhy.",null,null,null,null,null,null,null,null,"Součástí položky je i případné dolamování horniny v prostoru rýhy.",null,null,3]
[null,null,"V hornině tř. 6:",null,0,null,null,null,null,null,null,null,"V hornině tř. 6:"]
[null,null,"Kanalizační přípojky KT DN150 (průměrná hloubka 2,45 m):",null,0,null,null,null,null,null,null,null,"Kanalizační přípojky KT DN150 (průměrná hloubka 2,45 m):"]
[null,null,"Kmenová stoka A KT DN250-500 (1 kus):4,00*0,90*(2,45-0,30)*0,04",null,0.30959999999999999,null,null,null,null,null,null,null,"Kmenová stoka A KT DN250-500 (1 kus):4,00*0,90*(2,45-0,30)*0,04"]
[null,null,"Stoka AF KT DN250 (1 kus):5,00*0,90*(2,45-0,30)*0,0",null,0,null,null,null,null,null,null,null,"Stoka AF KT DN250 (1 kus):5,00*0,90*(2,45-0,30)*0,0"]
[null,null,"Stoka CA KT DN250 (3 kusy):12,00*0,90*(2,45-0,30)*0,02",null,0.46439999999999998,null,null,null,null,null,null,null,"Stoka CA KT DN250 (3 kusy):12,00*0,90*(2,45-0,30)*0,02"]
[10,"162601102RX0","Vodorovné přemístění výkopku z hor.1-7 na skládku zhotovitele","m3",37.257599999999996,null,{"$f":"E82*F82","v":0},0,{"$f":"E82*H82","v":0},0,{"$f":"E82*J82","v":0},null,null,null,2,null,null,null,null,null,null,null,null,null,null,null,1,1,1,null,null,null,null,null,null,null,null,null,null,null,null,null,null,null,null,null,null,null,null,null,null,1,{"$f":"IF(AZ82=1,G82,0)","v":0},{"$f":"IF(AZ82=2,G82,0)","v":0},{"$f":"IF(AZ82=3,G82,0)","v":0},{"$f":"IF(AZ82=4,G82,0)","v":0},{"$f":"IF(AZ82=5,G82,0)","v":0},null,null,null,null,null,null,null,null,null,null,null,null,null,null,null,null,null,null,null,null,null,1,1]
[null,null,"Výkopy:",null,0,null,null,null,null,null,null,null,"Výkopy:"]
[null,null,"Kanalizační přípojky KT DN150:",null,0,null,null,null,null,null,null,null,"Kanalizační přípojky KT DN150:"]
[null,null,"Začátek provozního součtu",null,0,null,null,null,null,null,null,null,"Začátek provozního součtu"]
[null,null,"Kmenová stoka A KT DN250-500 (1 kus):4,00",null,4,null,null,null,null,null,null,null,"Kmenová stoka A KT DN250-500 (1 kus):4,00"]
[null,null,"Stoka AF KT DN250 (1 kus):5,00",null,5,null,null,null,null,null,null,null,"Stoka AF KT DN250 (1 kus):5,00"]
[null,null,"Stoka CA KT DN250 (3 kusy):12,00",null,12,null,null,null,null,null,null,null,"Stoka CA KT DN250 (3 kusy):12,00"]
[null,null,"Konec provozního součtu",null,21,null,null,null,null,null,null,null,"Konec provozního součtu"]
[null,null,"V hornině tř. 2 - 6 (průměrná hloubka 2,45 m):21,0000*0,90*(2,45-0,30)",null,40.634999999999998,null,null,null,null,null,null,null,"V hornině tř. 2 - 6 (průměrná hloubka 2,45 m):21,0000*0,90*(2,45-0,30)"]
[null,null,"Odpočet zásypů zeminou:-3,3774",null,-3.3774000000000002,null,null,null,null,null,null,null,"Odpočet zásypů zeminou:-3,3774"]
[11,"174100050RAB","Zásyp jam,rýh a šachet štěrkodrtí fr. 0-63 mm včetně dodávky štěrkodrtě","m3",4.1280000000000001,null,{"$f":"E92*F92","v":0},0,{"$f":"E92*H92","v":0},0,{"$f":"E92*J92","v":0},null,null,null,2,null,null,null,null,null,null,null,null,null,null,null,1,1,1,null,null,null,null,null,null,null,null,null,null,null,null,null,null,null,null,null,null,null,null,null,null,1,{"$f":"IF(AZ92=1,G92,0)","v":0},{"$f":"IF(AZ92=2,G92,0)","v":0},{"$f":"IF(AZ92=3,G92,0)","v":0},{"$f":"IF(AZ92=4,G92,0)","v":0},{"$f":"IF(AZ92=5,G92,0)","v":0},null,null,null,null,null,null,null,null,null,null,null,null,null,null,null,null,null,null,null,null,null,1,1]
[null,null,"Výkopy:",null,0,null,null,null,null,null,null,null,"Výkopy:"]
[null,null,"Kanalizační přípojky KT DN150:",null,0,null,null,null,null,null,null,null,"Kanalizační přípojky KT DN150:"]
[null,null,"Začátek provozního součtu",null,0,null,null,null,null,null,null,null,"Začátek provozního součtu"]
[null,null,"Kmenová stoka A KT DN250-500 (1 kus):4,00",null,4,null,null,null,null,null,null,null,"Kmenová stoka A KT DN250-500 (1 kus):4,00"]
[null,null,"Stoka AF KT DN250 (1 kus):5,00",null,5,null,null,null,null,null,null,null,"Stoka AF KT DN250 (1 kus):5,00"]
[null,null,"Stoka CA KT DN250 (3 kusy):12,00",null,12,null,null,null,null,null,null,null,"Stoka CA KT DN250 (3 kusy):12,00"]
[null,null,"Konec provozního součtu",null,21,null,null,null,null,null,null,null,"Konec provozního součtu"]
[null,null,"V hornině tř. 2 - 6 (průměrná hloubka 2,45 m):21,0000*0,90*(2,45-0,30)*0,55",null,22.349299999999999,null,null,null,null,null,null,null,"V hornině tř. 2 - 6 (průměrná hloubka 2,45 m):21,0000*0,90*(2,45-0,30)*0,55"]
[null,null,"Odpočet lože, potrubí a obsypů z 55% zeminou:-21,000*(2,45-0,30-0,5724)*0,55",null,-18.221299999999999,null,null,null,null,null,null,null,"Odpočet lože, potrubí a obsypů z 55% zeminou:-21,000*(2,45-0,30-0,5724)*0,55"]
[12,"174101101R00","Zásyp jam, rýh, šachet se zhutněním ","m3",3.3774000000000002,null,{"$f":"E102*F102","v":0},0,{"$f":"E102*H102","v":0},0,{"$f":"E102*J102","v":0},null,null,null,2,null,null,null,null,null,null,null,null,null,null,null,1,1,1,null,null,null,null,null,null,null,null,null,null,null,null,null,null,null,null,null,null,null,null,null,null,1,{"$f":"IF(AZ102=1,G102,0)","v":0},{"$f":"IF(AZ102=2,G102,0)","v":0},{"$f":"IF(AZ102=3,G102,0)","v":0},{"$f":"IF(AZ102=4,G102,0)","v":0},{"$f":"IF(AZ102=5,G102,0)","v":0},null,null,null,null,null,null,null,null,null,null,null,null,null,null,null,null,null,null,null,null,null,1,1]
[null,null,"Položka obsahuje strojní přemístění materiálu pro zásyp ze vzdálenosti do 10 m od okraje zásypu.",null,null,null,null,null,null,null,null,"Položka obsahuje strojní přemístění materiálu pro zásyp ze vzdálenosti do 10 m od okraje zásypu.",null,null,3]
[null,null,"Výkopy:",null,0,null,null,null,null,null,null,null,"Výkopy:"]
[null,null,"Kanalizační přípojky KT DN150:",null,0,null,null,null,null,null,null,null,"Kanalizační přípojky KT DN150:"]
[null,null,"Začátek provozního součtu",null,0,null,null,null,null,null,null,null,"Začátek provozního součtu"]
[null,null,"Kmenová stoka A KT DN250-500 (1 kus):4,00",null,4,null,null,null,null,null,null,null,"Kmenová stoka A KT DN250-500 (1 kus):4,00"]
[null,null,"Stoka AF KT DN250 (1 kus):5,00",null,5,null,null,null,null,null,null,null,"Stoka AF KT DN250 (1 kus):5,00"]
[null,null,"Stoka CA KT DN250 (3 kusy):12,00",null,12,null,null,null,null,null,null,null,"Stoka CA KT DN250 (3 kusy):12,00"]
[null,null,"Konec provozního součtu",null,21,null,null,null,null,null,null,null,"Konec provozního součtu"]
[null,null,"V hornině tř. 2 - 6 (průměrná hloubka 2,45 m):21,0000*0,90*(2,45-0,30)*0,45",null,18.285799999999998,null,null,null,null,null,null,null,"V hornině tř. 2 - 6 (průměrná hloubka 2,45 m):21,0000*0,90*(2,45-0,30)*0,45"]
[null,null,"Odpočet lože, potrubí a obsypů z 45% ŠD:-21,000*(2,45-0,30-0,5724)*0,45",null,-14.908300000000001,null,null,null,null,null,null,null,"Odpočet lože, potrubí a obsypů z 45% ŠD:-21,000*(2,45-0,30-0,5724)*0,45"]
[13,"175100020RAB","Obsyp potrubí štěrkopískem včetně dodávka štěrkopísku","m3",7.8582000000000001,null,{"$f":"E113*F113","v":0},0,{"$f":"E113*H113","v":0},0,{"$f":"E113*J113","v":0},null,null,null,2,null,null,null,null,null,null,null,null,null,null,null,1,1,1,null,null,null,null,null,null,null,null,null,null,null,null,null,null,null,null,null,null,null,null,null,null,1,{"$f":"IF(AZ113=1,G113,0)","v":0},{"$f":"IF(AZ113=2,G113,0)","v":0},{"$f":"IF(AZ113=3,G113,0)","v":0},{"$f":"IF(AZ113=4,G113,0)","v":0},{"$f":"IF(AZ113=5,G113,0)","v":0},null,null,null,null,null,null,null,null,null,null,null,null,null,null,null,null,null,null,null,null,null,1,1]
[null,null,"Kanalizační přípojky KT DN150:",null,0,null,null,null,null,null,null,null,"Kanalizační přípojky KT DN150:"]
[null,null,"Začátek provozního součtu",null,0,null,null,null,null,null,null,null,"Začátek provozního součtu"]
[null,null,"Kmenová stoka A KT DN250-500 (1 kus):4,00",null,4,null,null,null,null,null,null,null,"Kmenová stoka A KT DN250-500 (1 kus):4,00"]
[null,null,"Stoka AF KT DN250 (1 kus):5,00",null,5,null,null,null,null,null,null,null,"Stoka AF KT DN250 (1 kus):5,00"]
[null,null,"Stoka CA KT DN250 (3 kusy):12,00",null,12,null,null,null,null,null,null,null,"Stoka CA KT DN250 (3 kusy):12,00"]
[null,null,"Konec provozního součtu",null,21,null,null,null,null,null,null,null,"Konec provozního součtu"]
[null,null,"21,0000*0,3742",null,7.8582000000000001,null,null,null,null,null,null,null,"21,0000*0,3742"]
[14,"199000002RX0","Poplatek za skládku horniny 1- 7 ","m3",37.257599999999996,null,{"$f":"E121*F121","v":0},0,{"$f":"E121*H121","v":0},0,{"$f":"E121*J121","v":0},null,null,null,2,null,null,null,null,null,null,null,null,null,null,null,1,1,1,null,null,null,null,null,null,null,null,null,null,null,null,null,null,null,null,null,null,null,null,null,null,1,{"$f":"IF(AZ121=1,G121,0)","v":0},{"$f":"IF(AZ121=2,G121,0)","v":0},{"$f":"IF(AZ121=3,G121,0)","v":0},{"$f":"IF(AZ121=4,G121,0)","v":0},{"$f":"IF(AZ121=5,G121,0)","v":0},null,null,null,null,null,null,null,null,null,null,null,null,null,null,null,null,null,null,null,null,null,1,1]
[null,null,"Výkopy:",null,0,null,null,null,null,null,null,null,"Výkopy:"]
[null,null,"Kanalizační přípojky KT DN150:",null,0,null,null,null,null,null,null,null,"Kanalizační přípojky KT DN150:"]
[null,null,"Začátek provozního součtu",null,0,null,null,null,null,null,null,null,"Začátek provozního součtu"]
[null,null,"Kmenová stoka A KT DN250-500 (1 kus):4,00",null,4,null,null,null,null,null,null,null,"Kmenová stoka A KT DN250-500 (1 kus):4,00"]
[null,null,"Stoka AF KT DN250 (1 kus):5,00",null,5,null,null,null,null,null,null,null,"Stoka AF KT DN250 (1 kus):5,00"]
[null,null,"Stoka CA KT DN250 (3 kusy):12,00",null,12,null,null,null,null,null,null,null,"Stoka CA KT DN250 (3 kusy):12,00"]
[null,null,"Konec provozního součtu",null,21,null,null,null,null,null,null,null,"Konec provozního součtu"]
[null,null,"V hornině tř. 2 - 6 (průměrná hloubka 2,45 m):21,0000*0,90*(2,45-0,30)",null,40.634999999999998,null,null,null,null,null,null,null,"V hornině tř. 2 - 6 (průměrná hloubka 2,45 m):21,0000*0,90*(2,45-0,30)"]
[null,null,"Odpočet zásypů zeminou:-3,3774",null,-3.3774000000000002,null,null,null,null,null,null,null,"Odpočet zásypů zeminou:-3,3774"]
[null,"Celkem za","1 Zemní práce",null,null,null,{"$f":"SUM(G7:G130)","v":0},null,{"$f":"SUM(I7:I130)","v":0},null,{"$f":"SUM(K7:K130)","v":0},null,null,null,4,null,null,null,null,null,null,null,null,null,null,null,null,null,null,null,null,null,null,null,null,null,null,null,null,null,null,null,null,null,null,null,null,null,null,null,null,null,{"$f":"SUM(BA7:BA130)","v":0},{"$f":"SUM(BB7:BB130)","v":0},{"$f":"SUM(BC7:BC130)","v":0},{"$f":"SUM(BD7:BD130)","v":0},{"$f":"SUM(BE7:BE130)","v":0}]
["Díl:","45","Podkladní a vedlejší konstrukce",null,null,null,null,null,null,null,null,null,null,null,1]
[15,"452312131R00","Sedlové lože pod potrubí z betonu C 12/15 ","m3",3.5910000000000002,null,{"$f":"E133*F133","v":0},2.5,{"$f":"E133*H133","v":8.9775000000000009},0,{"$f":"E133*J133","v":0},null,null,null,2,null,null,null,null,null,null,null,null,null,null,null,1,1,1,null,null,null,null,null,null,null,null,null,null,null,null,null,null,null,null,null,null,null,null,null,null,1,{"$f":"IF(AZ133=1,G133,0)","v":0},{"$f":"IF(AZ133=2,G133,0)","v":0},{"$f":"IF(AZ133=3,G133,0)","v":0},{"$f":"IF(AZ133=4,G133,0)","v":0},{"$f":"IF(AZ133=5,G133,0)","v":0},null,null,null,null,null,null,null,null,null,null,null,null,null,null,null,null,null,null,null,null,null,1,1]
[null,null,"Kanalizační přípojky KT DN150:",null,0,null,null,null,null,null,null,null,"Kanalizační přípojky KT DN150:"]
[null,null,"Začátek provozního součtu",null,0,null,null,null,null,null,null,null,"Začátek provozního součtu"]
[null,null,"Kmenová stoka A KT DN250-500 (1 kus):4,00",null,4,null,null,null,null,null,null,null,"Kmenová stoka A KT DN250-500 (1 kus):4,00"]
[null,null,"Stoka AF KT DN250 (1 kus):5,00",null,5,null,null,null,null,null,null,null,"Stoka AF KT DN250 (1 kus):5,00"]
[null,null,"Stoka CA KT DN250 (3 kusy):12,00",null,12,null,null,null,null,null,null,null,"Stoka CA KT DN250 (3 kusy):12,00"]
[null,null,"Konec provozního součtu",null,21,null,null,null,null,null,null,null,"Konec provozního součtu"]
[null,null,"21,0000*0,1710",null,3.5910000000000002,null,null,null,null,null,null,null,"21,0000*0,1710"]
[null,"Celkem za","45 Podkladní a vedlejší konstrukce",null,null,null,{"$f":"SUM(G132:G140)","v":0},null,{"$f":"SUM(I132:I140)","v":8.9775000000000009},null,{"$f":"SUM(K132:K140)","v":0},null,null,null,4,null,null,null,null,null,null,null,null,null,null,null,null,null,null,null,null,null,null,null,null,null,null,null,null,null,null,null,null,null,null,null,null,null,null,null,null,null,{"$f":"SUM(BA132:BA140)","v":0},{"$f":"SUM(BB132:BB140)","v":0},{"$f":"SUM(BC132:BC140)","v":0},{"$f":"SUM(BD132:BD140)","v":0},{"$f":"SUM(BE132:BE140)","v":0}]
["Díl:","8","Trubní vedení",null,null,null,null,null,null,null,null,null,null,null,1]
[16,"831312121RT5","Montáž trub kameninových, pryž. kroužek, DN 150 včetně dodávky trub kamenin. DN 150 dl. 1500 mm","m",21,null,{"$f":"E143*F143","v":0},2.3369999999999998E-2,{"$f":"E143*H143","v":0.49076999999999998},0,{"$f":"E143*J143","v":0},null,null,null,2,null,null,null,null,null,null,null,null,null,null,null,1,1,1,null,null,null,null,null,null,null,null,null,null,null,null,null,null,null,null,null,null,null,null,null,null,1,{"$f":"IF(AZ143=1,G143,0)","v":0},{"$f":"IF(AZ143=2,G143,0)","v":0},{"$f":"IF(AZ143=3,G143,0)","v":0},{"$f":"IF(AZ143=4,G143,0)","v":0},{"$f":"IF(AZ143=5,G143,0)","v":0},null,null,null,null,null,null,null,null,null,null,null,null,null,null,null,null,null,null,null,null,null,1,1]
[null,null,"Položka je určena pro montáž potrubí z trub kameninových těsněných pryžovým kroužkem v otevřeném výkopu ve sklonu do 20 %.",null,null,null,null,null,null,null,null,"Položka je určena pro montáž potrubí z trub kameninových těsněných pryžovým kroužkem v otevřeném výkopu ve sklonu do 20 %.",null,null,3]
[null,null,"V položce jsou zakalkulovány i náklady na dodání trub.",null,null,null,null,null,null,null,null,"V položce jsou zakalkulovány i náklady na dodání trub.",null,null,3]
[null,null,"Kanalizační přípojky KT DN150:",null,0,null,null,null,null,null,null,null,"Kanalizační přípojky KT DN150:"]
[null,null,"Kmenová stoka A KT DN250-500 (1 kus):4,00",null,4,null,null,null,null,null,null,null,"Kmenová stoka A KT DN250-500 (1 kus):4,00"]
[null,null,"Stoka AF KT DN250 (1 kus):5,00",null,5,null,null,null,null,null,null,null,"Stoka AF KT DN250 (1 kus):5,00"]
[null,null,"Stoka CA KT DN250 (3 kusy):12,00",null,12,null,null,null,null,null,null,null,"Stoka CA KT DN250 (3 kusy):12,00"]
[17,"837312221RT2","Montáž tvarov. kamenin. jednoos. pryž. kr. DN 150 včetně dodávky oblouku DN 150 - 15°,30°,45°","kus",10,null,{"$f":"E150*F150","v":0},1.017E-2,{"$f":"E150*H150","v":0.1017},0,{"$f":"E150*J150","v":0},null,null,null,2,null,null,null,null,null,null,null,null,null,null,null,1,1,1,null,null,null,null,null,null,null,null,null,null,null,null,null,null,null,null,null,null,null,null,null,null,1,{"$f":"IF(AZ150=1,G150,0)","v":0},{"$f":"IF(AZ150=2,G150,0)","v":0},{"$f":"IF(AZ150=3,G150,0)","v":0},{"$f":"IF(AZ150=4,G150,0)","v":0},{"$f":"IF(AZ150=5,G150,0)","v":0},null,null,null,null,null,null,null,null,null,null,null,null,null,null,null,null,null,null,null,null,null,1,1]
[null,null,"Kanalizační přípojky KT DN150:",null,0,null,null,null,null,null,null,null,"Kanalizační přípojky KT DN150:"]
[null,null,"Kmenová stoka A KT DN250-500 (1 kus):1*2",null,2,null,null,null,null,null,null,null,"Kmenová stoka A KT DN250-500 (1 kus):1*2"]
[null,null,"Stoka AF KT DN250 (1 kus):1*2",null,2,null,null,null,null,null,null,null,"Stoka AF KT DN250 (1 kus):1*2"]
[null,null,"Stoka CA KT DN250 (3 kusy):3*2",null,6,null,null,null,null,null,null,null,"Stoka CA KT DN250 (3 kusy):3*2"]
[18,"892571111R00","Zkouška těsnosti kanalizace DN do 200, vodou ","m",21,null,{"$f":"E155*F155","v":0},0,{"$f":"E155*H155","v":0},0,{"$f":"E155*J155","v":0},null,null,null,2,null,null,null,null,null,null,null,null,null,null,null,1,1,1,null,null,null,null,null,null,null,null,null,null,null,null,null,null,null,null,null,null,null,null,null,null,1,{"$f":"IF(AZ155=1,G155,0)","v":0},{"$f":"IF(AZ155=2,G155,0)","v":0},{"$f":"IF(AZ155=3,G155,0)","v":0},{"$f":"IF(AZ155=4,G155,0)","v":0},{"$f":"IF(AZ155=5,G155,0)","v":0},null,null,null,null,null,null,null,null,null,null,null,null,null,null,null,null,null,null,null,null,null,1,1]
[null,null,"V položce jsou zakalkulovány náklady na napuštění vodou a dodání vody pro zkoušku těsnosti včetně zavakování potrubí dle zvolené technologie zhotovitele.",null,null,null,null,null,null,null,null,"V položce jsou zakalkulovány náklady na napuštění vodou a dodání vody pro zkoušku těsnosti včetně zavakování potrubí dle zvolené technologie zhotovitele.",null,null,3]
[null,null,"Kanalizační přípojky KT DN150:",null,0,null,null,null,null,null,null,null,"Kanalizační přípojky KT DN150:"]
[null,null,"Kmenová stoka A KT DN250-500 (1 kus):4,00",null,4,null,null,null,null,null,null,null,"Kmenová stoka A KT DN250-500 (1 kus):4,00"]
[null,null,"Stoka AF KT DN250 (1 kus):5,00",null,5,null,null,null,null,null,null,null,"Stoka AF KT DN250 (1 kus):5,00"]
[null,null,"Stoka CA KT DN250 (3 kusy):12,00",null,12,null,null,null,null,null,null,null,"Stoka CA KT DN250 (3 kusy):12,00"]
[19,"892601122R00","Čištění kanalizační stoky do DN 200, do 50 m ","m",21,null,{"$f":"E161*F161","v":0},0,{"$f":"E161*H161","v":0},0,{"$f":"E161*J161","v":0},null,null,null,2,null,null,null,null,null,null,null,null,null,null,null,1,0,0,null,null,null,null,null,null,null,null,null,null,null,null,null,null,null,null,null,null,null,null,null,null,1,{"$f":"IF(AZ161=1,G161,0)","v":0},{"$f":"IF(AZ161=2,G161,0)","v":0},{"$f":"IF(AZ161=3,G161,0)","v":0},{"$f":"IF(AZ161=4,G161,0)","v":0},{"$f":"IF(AZ161=5,G161,0)","v":0},null,null,null,null,null,null,null,null,null,null,null,null,null,null,null,null,null,null,null,null,null,1,0]
[null,null,"V položce je zakalkulováno:",null,null,null,null,null,null,null,null,"V položce je zakalkulováno:",null,null,3]
[null,null,"a) otevření a uzavření revizních šachet a čisticích kusů",null,null,null,null,null,null,null,null,"a) otevření a uzavření revizních šachet a čisticích kusů",null,null,3]
[null,null,"b) natažení vysokotlakých hadic k místu odkud se bude kanalizace čistit",null,null,null,null,null,null,null,null,"b) natažení vysokotlakých hadic k místu odkud se bude kanalizace čistit",null,null,3]
[null,null,"c) vyčištění potrubí tlakovou vodou nebo motorovým pérem.",null,null,null,null,null,null,null,null,"c) vyčištění potrubí tlakovou vodou nebo motorovým pérem.",null,null,3]
[null,null,"Kanalizační přípojky KT DN150:",null,0,null,null,null,null,null,null,null,"Kanalizační přípojky KT DN150:"]
[null,null,"Kmenová stoka A KT DN250-500 (1 kus):4,00",null,4,null,null,null,null,null,null,null,"Kmenová stoka A KT DN250-500 (1 kus):4,00"]
[null,null,"Stoka AF KT DN250 (1 kus):5,00",null,5,null,null,null,null,null,null,null,"Stoka AF KT DN250 (1 kus):5,00"]
[null,null,"Stoka CA KT DN250 (3 kusy):12,00",null,12,null,null,null,null,null,null,null,"Stoka CA KT DN250 (3 kusy):12,00"]
[20,"899721112R00","Fólie výstražná z PVC, šířka 30 cm ","m",21,null,{"$f":"E170*F170","v":0},0,{"$f":"E170*H170","v":0},0,{"$f":"E170*J170","v":0},null,null,null,2,null,null,null,null,null,null,null,null,null,null,null,1,1,1,null,null,null,null,null,null,null,null,null,null,null,null,null,null,null,null,null,null,null,null,null,null,1,{"$f":"IF(AZ170=1,G170,0)","v":0},{"$f":"IF(AZ170=2,G170,0)","v":0},{"$f":"IF(AZ170=3,G170,0)","v":0},{"$f":"IF(AZ170=4,G170,0)","v":0},{"$f":"IF(AZ170=5,G170,0)","v":0},null,null,null,null,null,null,null,null,null,null,null,null,null,null,null,null,null,null,null,null,null,1,1]
[null,null,"Kanalizační přípojky KT DN150:",null,0,null,null,null,null,null,null,null,"Kanalizační přípojky KT DN150:"]
[null,null,"Kmenová stoka A KT DN250-500 (1 kus):4,00",null,4,null,null,null,null,null,null,null,"Kmenová stoka A KT DN250-500 (1 kus):4,00"]
[null,null,"Stoka AF KT DN250 (1 kus):5,00",null,5,null,null,null,null,null,null,null,"Stoka AF KT DN250 (1 kus):5,00"]
[null,null,"Stoka CA KT DN250 (3 kusy):12,00",null,12,null,null,null,null,null,null,null,"Stoka CA KT DN250 (3 kusy):12,00"]
[null,"Celkem za","8 Trubní vedení",null,null,null,{"$f":"SUM(G142:G174)","v":0},null,{"$f":"SUM(I142:I174)","v":0.59246999999999994},null,{"$f":"SUM(K142:K174)","v":0},null,null,null,4,null,null,null,null,null,null,null,null,null,null,null,null,null,null,null,null,null,null,null,null,null,null,null,null,null,null,null,null,null,null,null,null,null,null,null,null,null,{"$f":"SUM(BA142:BA174)","v":0},{"$f":"SUM(BB142:BB174)","v":0},{"$f":"SUM(BC142:BC174)","v":0},{"$f":"SUM(BD142:BD174)","v":0},{"$f":"SUM(BE142:BE174)","v":0}]
["Díl:","99","Staveništní přesun hmot",null,null,null,null,null,null,null,null,null,null,null,1]
[21,"998275101R00","Přesun hmot, kanalizace kameninové, otevřený výkop ","t",9.5699699999999996,null,{"$f":"E177*F177","v":0},0,{"$f":"E177*H177","v":0},null,{"$f":"E177*J177","v":0},null,null,null,2,null,null,null,null,null,null,null,null,null,null,null,7,1,2,null,null,null,null,null,null,null,null,null,null,null,null,null,null,null,null,null,null,null,null,null,null,1,{"$f":"IF(AZ177=1,G177,0)","v":0},{"$f":"IF(AZ177=2,G177,0)","v":0},{"$f":"IF(AZ177=3,G177,0)","v":0},{"$f":"IF(AZ177=4,G177,0)","v":0},{"$f":"IF(AZ177=5,G177,0)","v":0},null,null,null,null,null,null,null,null,null,null,null,null,null,null,null,null,null,null,null,null,null,7,1]
[null,"Celkem za","99 Staveništní přesun hmot",null,null,null,{"$f":"SUM(G176:G177)","v":0},null,{"$f":"SUM(I176:I177)","v":0},null,{"$f":"SUM(K176:K177)","v":0},null,null,null,4,null,null,null,null,null,null,null,null,null,null,null,null,null,null,null,null,null,null,null,null,null,null,null,null,null,null,null,null,null,null,null,null,null,null,null,null,null,{"$f":"SUM(BA176:BA177)","v":0},{"$f":"SUM(BB176:BB177)","v":0},{"$f":"SUM(BC176:BC177)","v":0},{"$f":"SUM(BD176:BD177)","v":0},{"$f":"SUM(BE176:BE177)","v":0}]

{"sheet":"304 304RD KL","index":19,"n_rows":45,"n_cols":8,"rows_kept":45,"cut":false,"hidden":false,"merged":[[22,0,22,1],[7,2,7,4],[8,2,8,4],[9,2,9,4],[10,2,10,4],[11,2,11,4],[50,1,50,6],[29,5,29,6],[30,5,30,6],[31,5,31,6],[32,5,32,6],[33,5,33,6],[36,1,44,6],[45,1,45,6],[46,1,46,6],[47,1,47,6],[48,1,48,6],[49,1,49,6]]}
["POLOŽKOVÝ ROZPOČET"]
["Rozpočet",null,"304RD","Čerpací stanice",null,"JKSO ","814.18"]
[]
["Objekt",null,null,null,null,"SKP "]
["304",null,"Čerpací stanice",null,null,"Měrná jednotka","m3"]
["Stavba",null,null,null,null,"Počet jednotek",0]
["3232",null,"Horní Slivno - Splašková kanalizace",null,null,"Náklady na m.j.",{"$f":"IF(G6=0,,ROUND((F30+F32)/G6,1))","v":0}]
["Projektant",null,"Radek Hnát - VAK PROJEKT",null,null,"Typ rozpočtu"]
["Zpracovatel projektu"]
["Objednatel",null,"Obec Horní Slivno"]
["Dodavatel",null,".",null,null,"Zakázkové číslo "]
["Rozpočtoval",null,null,null,null,"Počet listů"]
["ROZPOČTOVÉ NÁKLADY"]
["Základní rozpočtové náklady"]
[null,"HSV celkem",{"$f":"'304 304RD Rek'!E15","v":0}]
["Z","PSV celkem",{"$f":"'304 304RD Rek'!F15","v":0}]
["R","M práce celkem",{"$f":"'304 304RD Rek'!H15","v":0}]
["N","M dodávky celkem",{"$f":"'304 304RD Rek'!G15","v":0}]
["ZRN celkem",null,{"$f":"SUM(C15:C18)","v":0}]
[]
["HZS",null,{"$f":"'304 304RD Rek'!I15","v":0}]
["ZRN+HZS",null,{"$f":"C19+C21","v":0}]
["ZRN+ost.náklady+HZS",null,{"$f":"C22+G23","v":0}]
["Vypracoval",null,null,"Za zhotovitele",null,"Za objednatele"]
["Jméno :",null,null,"Jméno :",null,"Jméno :"]
["Datum :",null,null,"Datum :",null,"Datum :"]
[]
["Podpis :",null,null,"Podpis:",null,"Podpis:"]
[]
["Základ pro DPH",null,21,"%  ",null,{"$f":"C23-F32","v":0}]
["DPH",null,{"$f":"C30","v":21},"% ",null,{"$f":"ROUND(PRODUCT(F30,C31/100),0)","v":0}]
["Základ pro DPH",null,0,"% ",null,0]
["DPH",null,{"$f":"C32","v":0},"% ",null,{"$f":"ROUND(PRODUCT(F32,C33/100),0)","v":0}]
["CENA ZA OBJEKT CELKEM",null,null,null,null,{"$f":"ROUND(SUM(F30:F33),0)","v":0}]
[]
["Poznámka :",null,null,null,null,null,null," "]
[null,null,null,null,null,null,null," "]
[null,null,null,null,null,null,null," "]
[null,null,null,null,null,null,null," "]
[null,null,null,null,null,null,null," "]
[null,null,null,null,null,null,null," "]
[null,null,null,null,null,null,null," "]
[null,null,null,null,null,null,null," "]
[null,null,null,null,null,null,null," "]
[null,null,null,null,null,null,null," "]

{"sheet":"304 304RD Rek","index":20,"n_rows":15,"n_cols":9,"rows_kept":15,"cut":false,"hidden":false,"merged":[[0,0,0,1],[1,0,1,1],[1,6,1,8]]}
["Stavba :",null,"3232 Horní Slivno - Splašková kanalizace",null,null,null,"Rozpočet :","304RD"]
["Objekt :",null,"304 Čerpací stanice",null,null,null,"Čerpací stanice"]
[]
["REKAPITULACE  STAVEBNÍCH  DÍLŮ"]
[]
[null,"Stavební díl",null,null,"HSV","PSV","Dodávka","Montáž","HZS"]
[{"$f":"'304 304RD Pol'!B7","v":"1"},{"$f":"'304 304RD Pol'!C7","v":"Zemní práce"},null,null,{"$f":"'304 304RD Pol'!BA94","v":0},{"$f":"'304 304RD Pol'!BB94","v":0},{"$f":"'304 304RD Pol'!BC94","v":0},{"$f":"'304 304RD Pol'!BD94","v":0},{"$f":"'304 304RD Pol'!BE94","v":0}]
[{"$f":"'304 304RD Pol'!B95","v":"21"},{"$f":"'304 304RD Pol'!C95","v":"Úprava podloží a základ.spáry"},null,null,{"$f":"'304 304RD Pol'!BA99","v":0},{"$f":"'304 304RD Pol'!BB99","v":0},{"$f":"'304 304RD Pol'!BC99","v":0},{"$f":"'304 304RD Pol'!BD99","v":0},{"$f":"'304 304RD Pol'!BE99","v":0}]
[{"$f":"'304 304RD Pol'!B100","v":"38"},{"$f":"'304 304RD Pol'!C100","v":"Kompletní konstrukce"},null,null,{"$f":"'304 304RD Pol'!BA119","v":0},{"$f":"'304 304RD Pol'!BB119","v":0},{"$f":"'304 304RD Pol'!BC119","v":0},{"$f":"'304 304RD Pol'!BD119","v":0},{"$f":"'304 304RD Pol'!BE119","v":0}]
[{"$f":"'304 304RD Pol'!B120","v":"5"},{"$f":"'304 304RD Pol'!C120","v":"Komunikace"},null,null,{"$f":"'304 304RD Pol'!BA160","v":0},{"$f":"'304 304RD Pol'!BB160","v":0},{"$f":"'304 304RD Pol'!BC160","v":0},{"$f":"'304 304RD Pol'!BD160","v":0},{"$f":"'304 304RD Pol'!BE160","v":0}]
[{"$f":"'304 304RD Pol'!B161","v":"90"},{"$f":"'304 304RD Pol'!C161","v":"Oploceni"},null,null,{"$f":"'304 304RD Pol'!BA166","v":0},{"$f":"'304 304RD Pol'!BB166","v":0},{"$f":"'304 304RD Pol'!BC166","v":0},{"$f":"'304 304RD Pol'!BD166","v":0},{"$f":"'304 304RD Pol'!BE166","v":0}]
[{"$f":"'304 304RD Pol'!B167","v":"99"},{"$f":"'304 304RD Pol'!C167","v":"Staveništní přesun hmot"},null,null,{"$f":"'304 304RD Pol'!BA169","v":0},{"$f":"'304 304RD Pol'!BB169","v":0},{"$f":"'304 304RD Pol'!BC169","v":0},{"$f":"'304 304RD Pol'!BD169","v":0},{"$f":"'304 304RD Pol'!BE169","v":0}]
[{"$f":"'304 304RD Pol'!B170","v":"M21.6"},{"$f":"'304 304RD Pol'!C170","v":"Elektroinstalace a telemetrie"},null,null,{"$f":"'304 304RD Pol'!BA173","v":0},{"$f":"'304 304RD Pol'!BB173","v":0},{"$f":"'304 304RD Pol'!BC173","v":0},{"$f":"'304 304RD Pol'!BD173","v":0},{"$f":"'304 304RD Pol'!BE173","v":0}]
[{"$f":"'304 304RD Pol'!B174","v":"M35.5"},{"$f":"'304 304RD Pol'!C174","v":"Montáže technologie čerpacích stanic a úpraven vod"},null,null,{"$f":"'304 304RD Pol'!BA177","v":0},{"$f":"'304 304RD Pol'!BB177","v":0},{"$f":"'304 304RD Pol'!BC177","v":0},{"$f":"'304 304RD Pol'!BD177","v":0},{"$f":"'304 304RD Pol'!BE177","v":0}]
[null,"CELKEM  OBJEKT",null,null,{"$f":"SUM(E7:E14)","v":0},{"$f":"SUM(F7:F14)","v":0},{"$f":"SUM(G7:G14)","v":0},{"$f":"SUM(H7:H14)","v":0},{"$f":"SUM(I7:I14)","v":0}]

{"sheet":"304 304RD Pol","index":21,"n_rows":177,"n_cols":80,"rows_kept":177,"cut":false,"hidden":false,"merged":[[0,0,0,6],[2,0,2,1],[3,0,3,1],[3,4,3,6],[8,2,8,6],[9,2,9,3],[10,2,10,3],[12,2,12,3],[21,2,21,3],[22,2,22,3],[23,2,23,3],[25,2,25,3],[26,2,26,3],[27,2,27,3],[13,2,13,3],[15,2,15,6],[16,2,16,3],[17,2,17,3],[18,2,18,3],[20,2,20,6],[36,2,36,3],[38,2,38,6],[39,2,39,6],[40,2,40,3],[41,2,41,3],[42,2,42,3],[29,2,29,6],[30,2,30,3],[31,2,31,3],[32,2,32,3],[34,2,34,3],[35,2,35,3],[51,2,51,3],[53,2,53,3],[54,2,54,3],[55,2,55,3],[56,2,56,3],[57,2,57,3],[44,2,44,6],[45,2,45,6],[46,2,46,3],[47,2,47,3],[48,2,48,3],[50,2,50,3],[65,2,65,3],[66,2,66,3],[67,2,67,3],[68,2,68,3],[69,2,69,3],[70,2,70,3],[58,2,58,3],[59,2,59,3],[60,2,60,3],[61,2,61,3],[62,2,62,3],[64,2,64,6],[78,2,78,3],[80,2,80,3],[81,2,81,3],[83,2,83,3],[84,2,84,3],[85,2,85,3],[71,2,71,3],[72,2,72,3],[73,2,73,3],[75,2,75,3],[76,2,76,3],[77,2,77,3],[92,2,92,3],[96,2,96,3],[97,2,97,3],[115,2,115,6],[117,2,117,6],[86,2,86,3],[87,2,87,3],[88,2,88,3],[89,2,89,3],[90,2,90,3],[91,2,91,3],[121,2,121,3],[122,2,122,3],[124,2,124,3],[125,2,125,3],[127,2,127,3],[128,2,128,3],[130,2,130,3],[131,2,131,3],[101,2,101,6],[103,2,103,6],[105,2,105,6],[107,2,107,6],[109,2,109,6],[110,2,110,6],[112,2,112,6],[113,2,113,6],[142,2,142,3],[143,2,143,3],[145,2,145,3],[146,2,146,3],[148,2,148,3],[149,2,149,3],[133,2,133,3],[134,2,134,3],[136,2,136,3],[137,2,137,3],[139,2,139,3],[140,2,140,3],[162,2,162,6],[163,2,163,3],[164,2,164,3],[151,2,151,3],[152,2,152,3],[154,2,154,3],[155,2,155,3],[157,2,157,3],[158,2,158,3]]}
["Položkový rozpočet "]
[]
["Stavba :",null,"3232 Horní Slivno - Splašková kanalizace",null,"Rozpočet:",{"$f":"'304 304RD Rek'!H1","v":"304RD"}]
["Objekt :",null,"304 Čerpací stanice",null,{"$f":"'304 304RD Rek'!G2","v":"Čerpací stanice"}]
[]
["P.č.","Číslo položky","Název položky","MJ","množství","cena / MJ","celkem (Kč)","Jednotková hmotnost","Celková hmotnost","Jednotková dem.hmot.","Celková dem.hmot."]
["Díl:","1","Zemní práce",null,null,null,null,null,null,null,null,null,null,null,1]
[1,"121100001RAA","Sejmutí ornice, naložení, odvoz a uložení odvoz do 1 km","m3",118,null,{"$f":"E8*F8","v":0},0,{"$f":"E8*H8","v":0},0,{"$f":"E8*J8","v":0},null,null,null,2,null,null,null,null,null,null,null,null,null,null,null,1,1,1,null,null,null,null,null,null,null,null,null,null,null,null,null,null,null,null,null,null,null,null,null,null,1,{"$f":"IF(AZ8=1,G8,0)","v":0},{"$f":"IF(AZ8=2,G8,0)","v":0},{"$f":"IF(AZ8=3,G8,0)","v":0},{"$f":"IF(AZ8=4,G8,0)","v":0},{"$f":"IF(AZ8=5,G8,0)","v":0},null,null,null,null,null,null,null,null,null,null,null,null,null,null,null,null,null,null,null,null,null,1,1]
[null,null,"V položce není kalkulován poplatek za skládku zeminy.",null,null,null,null,null,null,null,null,"V položce není kalkulován poplatek za skládku zeminy.",null,null,3]
[null,null,"ČSOV - A + napojení na komunikaci:236,00*0,25",null,59,null,null,null,null,null,null,null,"ČSOV - A + napojení na komunikaci:236,00*0,25"]
[null,null,"ČSOV - C + napojení na komunikaci:236,00*0,25",null,59,null,null,null,null,null,null,null,"ČSOV - C + napojení na komunikaci:236,00*0,25"]
[2,"122101102R00","Odkopávky nezapažené v hor. 2 do 1000 m3 ","m3",20,null,{"$f":"E12*F12","v":0},0,{"$f":"E12*H12","v":0},0,{"$f":"E12*J12","v":0},null,null,null,2,null,null,null,null,null,null,null,null,null,null,null,1,1,1,null,null,null,null,null,null,null,null,null,null,null,null,null,null,null,null,null,null,null,null,null,null,1,{"$f":"IF(AZ12=1,G12,0)","v":0},{"$f":"IF(AZ12=2,G12,0)","v":0},{"$f":"IF(AZ12=3,G12,0)","v":0},{"$f":"IF(AZ12=4,G12,0)","v":0},{"$f":"IF(AZ12=5,G12,0)","v":0},null,null,null,null,null,null,null,null,null,null,null,null,null,null,null,null,null,null,null,null,null,1,1]
[null,null,"ČSOV - A - napojení na komunikaci:9,10",null,9.1,null,null,null,null,null,null,null,"ČSOV - A - napojení na komunikaci:9,10"]
[null,null,"ČSOV - C - napojení na komunikaci:10,90",null,10.9,null,null,null,null,null,null,null,"ČSOV - C - napojení na komunikaci:10,90"]
[3,"131101202RRX","Hloubení zapažených jam v hor.2 do 1000 m3,STROJNĚ ","m3",22.048300000000001,null,{"$f":"E15*F15","v":0},0,{"$f":"E15*H15","v":0},0,{"$f":"E15*J15","v":0},null,null,null,2,null,null,null,null,null,null,null,null,null,null,null,1,1,1,null,null,null,null,null,null,null,null,null,null,null,null,null,null,null,null,null,null,null,null,null,null,1,{"$f":"IF(AZ15=1,G15,0)","v":0},{"$f":"IF(AZ15=2,G15,0)","v":0},{"$f":"IF(AZ15=3,G15,0)","v":0},{"$f":"IF(AZ15=4,G15,0)","v":0},{"$f":"IF(AZ15=5,G15,0)","v":0},null,null,null,null,null,null,null,null,null,null,null,null,null,null,null,null,null,null,null,null,null,1,1]
[null,null,"Položka obsahuje hloubení jámy traktorbagrem, naložení výkopku na dopravní prostředek pro svislé, nebo vodorovné přemístění, popř. přemístění výkopku do 3 m (po povrchu území), případné zajištění rypadel polštáři, udržování pracoviště a ochranu výkopiště proti stékání srážkové vody z okolního terénu i s jejím odvodněním, nebo odvedením, přesekání a odstranění kořenů ve výkopišti, odstranění napadávek, urovnání dna výkopu.",null,null,null,null,null,null,null,null,"Položka obsahuje hloubení jámy traktorbagrem, naložení výkopku na dopravní prostředek pro svislé, nebo vodorovné přemístění, popř. přemístění výkopku do 3 m (po povrchu území), případné zajištění rypadel polštáři, udržování pracoviště a ochranu výkopiště proti stékání srážkové vody z okolního terénu i s jejím odvodněním, nebo odvedením, přesekání a odstranění kořenů ve výkopišti, odstranění napadávek, urovnání dna výkopu.",null,null,3]
[null,null,"V hornině tř. 2:",null,0,null,null,null,null,null,null,null,"V hornině tř. 2:"]
[null,null,"ČSOV - A :161,1785*0,07",null,11.282500000000001,null,null,null,null,null,null,null,"ČSOV - A :161,1785*0,07"]
[null,null,"ČSOV - C:179,4305*0,06",null,10.7658,null,null,null,null,null,null,null,"ČSOV - C:179,4305*0,06"]
[4,"131201202RRX","Hloubení zapažených jam v hor.3 do 1000 m3,STROJNĚ ","m3",63.2864,null,{"$f":"E20*F20","v":0},0,{"$f":"E20*H20","v":0},0,{"$f":"E20*J20","v":0},null,null,null,2,null,null,null,null,null,null,null,null,null,null,null,1,1,1,null,null,null,null,null,null,null,null,null,null,null,null,null,null,null,null,null,null,null,null,null,null,1,{"$f":"IF(AZ20=1,G20,0)","v":0},{"$f":"IF(AZ20=2,G20,0)","v":0},{"$f":"IF(AZ20=3,G20,0)","v":0},{"$f":"IF(AZ20=4,G20,0)","v":0},{"$f":"IF(AZ20=5,G20,0)","v":0},null,null,null,null,null,null,null,null,null,null,null,null,null,null,null,null,null,null,null,null,null,1,1]
[null,null,"Položka obsahuje hloubení jámy traktorbagrem, naložení výkopku na dopravní prostředek pro svislé, nebo vodorovné přemístění, popř. přemístění výkopku do 3 m (po povrchu území), případné zajištění rypadel polštáři, udržování pracoviště a ochranu výkopiště proti stékání srážkové vody z okolního terénu i s jejím odvodněním, nebo odvedením, přesekání a odstranění kořenů ve výkopišti, odstranění napadávek, urovnání dna výkopu.",null,null,null,null,null,null,null,null,"Položka obsahuje hloubení jámy traktorbagrem, naložení výkopku na dopravní prostředek pro svislé, nebo vodorovné přemístění, popř. přemístění výkopku do 3 m (po povrchu území), případné zajištění rypadel polštáři, udržování pracoviště a ochranu výkopiště proti stékání srážkové vody z okolního terénu i s jejím odvodněním, nebo odvedením, přesekání a odstranění kořenů ve výkopišti, odstranění napadávek, urovnání dna výkopu.",null,null,3]
[null,null,"V hornině tř. 3:",null,0,null,null,null,null,null,null,null,"V hornině tř. 3:"]
[null,null,"ČSOV - A :161,1785*0,17",null,27.400300000000001,null,null,null,null,null,null,null,"ČSOV - A :161,1785*0,17"]
[null,null,"ČSOV - C:179,4305*0,20",null,35.886099999999999,null,null,null,null,null,null,null,"ČSOV - C:179,4305*0,20"]
[5,"131201209R00","Příplatek za lepivost - hloubení zapaž.jam v hor.3 ","m3",31.6432,null,{"$f":"E25*F25","v":0},0,{"$f":"E25*H25","v":0},0,{"$f":"E25*J25","v":0},null,null,null,2,null,null,null,null,null,null,null,null,null,null,null,1,1,1,null,null,null,null,null,null,null,null,null,null,null,null,null,null,null,null,null,null,null,null,null,null,1,{"$f":"IF(AZ25=1,G25,0)","v":0},{"$f":"IF(AZ25=2,G25,0)","v":0},{"$f":"IF(AZ25=3,G25,0)","v":0},{"$f":"IF(AZ25=4,G25,0)","v":0},{"$f":"IF(AZ25=5,G25,0)","v":0},null,null,null,null,null,null,null,null,null,null,null,null,null,null,null,null,null,null,null,null,null,1,1]
[null,null,"V hornině tř. 3:",null,0,null,null,null,null,null,null,null,"V hornině tř. 3:"]
[null,null,"ČSOV - A :161,1785*0,17*0,5",null,13.700200000000001,null,null,null,null,null,null,null,"ČSOV - A :161,1785*0,17*0,5"]
[null,null,"ČSOV - C:179,4305*0,20*0,5",null,17.943000000000001,null,null,null,null,null,null,null,"ČSOV - C:179,4305*0,20*0,5"]
[6,"131301202RRX","Hloubení zapažených jam v hor.4 do 1000 m3,STROJNĚ ","m3",19.3414,null,{"$f":"E29*F29","v":0},0,{"$f":"E29*H29","v":0},0,{"$f":"E29*J29","v":0},null,null,null,2,null,null,null,null,null,null,null,null,null,null,null,1,1,1,null,null,null,null,null,null,null,null,null,null,null,null,null,null,null,null,null,null,null,null,null,null,1,{"$f":"IF(AZ29=1,G29,0)","v":0},{"$f":"IF(AZ29=2,G29,0)","v":0},{"$f":"IF(AZ29=3,G29,0)","v":0},{"$f":"IF(AZ29=4,G29,0)","v":0},{"$f":"IF(AZ29=5,G29,0)","v":0},null,null,null,null,null,null,null,null,null,null,null,null,null,null,null,null,null,null,null,null,null,1,1]
[null,null,"Položka obsahuje hloubení jámy traktorbagrem, naložení výkopku na dopravní prostředek pro svislé, nebo vodorovné přemístění, popř. přemístění výkopku do 3 m (po povrchu území), případné zajištění rypadel polštáři, udržování pracoviště a ochranu výkopiště proti stékání srážkové vody z okolního terénu i s jejím odvodněním, nebo odvedením, přesekání a odstranění kořenů ve výkopišti, odstranění napadávek, urovnání dna výkopu.",null,null,null,null,null,null,null,null,"Položka obsahuje hloubení jámy traktorbagrem, naložení výkopku na dopravní prostředek pro svislé, nebo vodorovné přemístění, popř. přemístění výkopku do 3 m (po povrchu území), případné zajištění rypadel polštáři, udržování pracoviště a ochranu výkopiště proti stékání srážkové vody z okolního terénu i s jejím odvodněním, nebo odvedením, přesekání a odstranění kořenů ve výkopišti, odstranění napadávek, urovnání dna výkopu.",null,null,3]
[null,null,"V hornině tř. 4:",null,0,null,null,null,null,null,null,null,"V hornině tř. 4:"]
[null,null,"ČSOV - A :161,1785*0,12",null,19.3414,null,null,null,null,null,null,null,"ČSOV - A :161,1785*0,12"]
[null,null,"ČSOV - C:179,4305*0,0",null,0,null,null,null,null,null,null,null,"ČSOV - C:179,4305*0,0"]
[7,"131301209R00","Příplatek za lepivost - hloubení zapaž.jam v hor.4 ","m3",9.6707000000000001,null,{"$f":"E34*F34","v":0},0,{"$f":"E34*H34","v":0},0,{"$f":"E34*J34","v":0},null,null,null,2,null,null,null,null,null,null,null,null,null,null,null,1,1,1,null,null,null,null,null,null,null,null,null,null,null,null,null,null,null,null,null,null,null,null,null,null,1,{"$f":"IF(AZ34=1,G34,0)","v":0},{"$f":"IF(AZ34=2,G34,0)","v":0},{"$f":"IF(AZ34=3,G34,0)","v":0},{"$f":"IF(AZ34=4,G34,0)","v":0},{"$f":"IF(AZ34=5,G34,0)","v":0},null,null,null,null,null,null,null,null,null,null,null,null,null,null,null,null,null,null,null,null,null,1,1]
[null,null,"V hornině tř. 4:",null,0,null,null,null,null,null,null,null,"V hornině tř. 4:"]
[null,null,"ČSOV - A :161,1785*0,12*0,5",null,9.6707000000000001,null,null,null,null,null,null,null,"ČSOV - A :161,1785*0,12*0,5"]
[null,null,"ČSOV - C:179,4305*0,0*0,5",null,0,null,null,null,null,null,null,null,"ČSOV - C:179,4305*0,0*0,5"]
[8,"131401202RRX","Hloubení zapažených jam v hor.5 do 1000 m3,STROJNĚ ","m3",199.53,null,{"$f":"E38*F38","v":0},8.2900000000000005E-3,{"$f":"E38*H38","v":1.6541037000000001},0,{"$f":"E38*J38","v":0},null,null,null,2,null,null,null,null,null,null,null,null,null,null,null,1,1,1,null,null,null,null,null,null,null,null,null,null,null,null,null,null,null,null,null,null,null,null,null,null,1,{"$f":"IF(AZ38=1,G38,0)","v":0},{"$f":"IF(AZ38=2,G38,0)","v":0},{"$f":"IF(AZ38=3,G38,0)","v":0},{"$f":"IF(AZ38=4,G38,0)","v":0},{"$f":"IF(AZ38=5,G38,0)","v":0},null,null,null,null,null,null,null,null,null,null,null,null,null,null,null,null,null,null,null,null,null,1,1]
[null,null,"Položka obsahuje strojní hloubení jámy , naložení výkopku na dopravní prostředek pro svislé, nebo vodorovné přemístění, popř. přemístění výkopku do 3 m (po povrchu území), případné zajištění rypadel polštáři, udržování pracoviště a ochranu výkopiště proti stékání srážkové vody z okolního terénu i s jejím odvodněním, nebo odvedením, přesekání a odstranění kořenů ve výkopišti, odstranění napadávek, urovnání dna výkopu.",null,null,null,null,null,null,null,null,"Položka obsahuje strojní hloubení jámy , naložení výkopku na dopravní prostředek pro svislé, nebo vodorovné přemístění, popř. přemístění výkopku do 3 m (po povrchu území), případné zajištění rypadel polštáři, udržování pracoviště a ochranu výkopiště proti stékání srážkové vody z okolního terénu i s jejím odvodněním, nebo odvedením, přesekání a odstranění kořenů ve výkopišti, odstranění napadávek, urovnání dna výkopu.",null,null,3]
[null,null,"Součástí položky je i případné dolamování horniny v prostoru zapažené jámy",null,null,null,null,null,null,null,null,"Součástí položky je i případné dolamování horniny v prostoru zapažené jámy",null,null,3]
[null,null,"V hornině tř. 5:",null,0,null,null,null,null,null,null,null,"V hornině tř. 5:"]
[null,null,"ČSOV - A :161,1785*0,57",null,91.871700000000004,null,null,null,null,null,null,null,"ČSOV - A :161,1785*0,57"]
[null,null,"ČSOV - C:179,4305*0,60",null,107.6583,null,null,null,null,null,null,null,"ČSOV - C:179,4305*0,60"]
[9,"131501202RRX","Hloubení zapažených jam v hor.6 do 1000 m3,STROJNĚ ","m3",36.402799999999999,null,{"$f":"E44*F44","v":0},1.538E-2,{"$f":"E44*H44","v":0.55987506399999998},0,{"$f":"E44*J44","v":0},null,null,null,2,null,null,null,null,null,null,null,null,null,null,null,1,1,1,null,null,null,null,null,null,null,null,null,null,null,null,null,null,null,null,null,null,null,null,null,null,1,{"$f":"IF(AZ44=1,G44,0)","v":0},{"$f":"IF(AZ44=2,G44,0)","v":0},{"$f":"IF(AZ44=3,G44,0)","v":0},{"$f":"IF(AZ44=4,G44,0)","v":0},{"$f":"IF(AZ44=5,G44,0)","v":0},null,null,null,null,null,null,null,null,null,null,null,null,null,null,null,null,null,null,null,null,null,1,1]
[null,null,"Položka obsahuje strojní hloubení jámy , naložení výkopku na dopravní prostředek pro svislé, nebo vodorovné přemístění, popř. přemístění výkopku do 3 m (po povrchu území), případné zajištění rypadel polštáři, udržování pracoviště a ochranu výkopiště proti stékání srážkové vody z okolního terénu i s jejím odvodněním, nebo odvedením, přesekání a odstranění kořenů ve výkopišti, odstranění napadávek, urovnání dna výkopu.",null,null,null,null,null,null,null,null,"Položka obsahuje strojní hloubení jámy , naložení výkopku na dopravní prostředek pro svislé, nebo vodorovné přemístění, popř. přemístění výkopku do 3 m (po povrchu území), případné zajištění rypadel polštáři, udržování pracoviště a ochranu výkopiště proti stékání srážkové vody z okolního terénu i s jejím odvodněním, nebo odvedením, přesekání a odstranění kořenů ve výkopišti, odstranění napadávek, urovnání dna výkopu.",null,null,3]
[null,null,"Součástí položky je i případné dolamování horniny v prostoru zapažené jámy",null,null,null,null,null,null,null,null,"Součástí položky je i případné dolamování horniny v prostoru zapažené jámy",null,null,3]
[null,null,"V hornině tř. 6:",null,0,null,null,null,null,null,null,null,"V hornině tř. 6:"]
[null,null,"ČSOV - A :161,1785*0,07",null,11.282500000000001,null,null,null,null,null,null,null,"ČSOV - A :161,1785*0,07"]
[null,null,"ČSOV - C:179,4305*0,14",null,25.1203,null,null,null,null,null,null,null,"ČSOV - C:179,4305*0,14"]
[10,"151811999RRX","Pažení dle PD a zvolené technologie zhotovitelem ","m2",63.68,null,{"$f":"E50*F50","v":0},0,{"$f":"E50*H50","v":0},0,{"$f":"E50*J50","v":0},null,null,null,2,null,null,null,null,null,null,null,null,null,null,null,1,1,1,null,null,null,null,null,null,null,null,null,null,null,null,null,null,null,null,null,null,null,null,null,null,1,{"$f":"IF(AZ50=1,G50,0)","v":0},{"$f":"IF(AZ50=2,G50,0)","v":0},{"$f":"IF(AZ50=3,G50,0)","v":0},{"$f":"IF(AZ50=4,G50,0)","v":0},{"$f":"IF(AZ50=5,G50,0)","v":0},null,null,null,null,null,null,null,null,null,null,null,null,null,null,null,null,null,null,null,null,null,1,1]
[null,null,"ČSOV - A :27,16",null,27.16,null,null,null,null,null,null,null,"ČSOV - A :27,16"]
[null,null,"ČSOV - C:36,52",null,36.520000000000003,null,null,null,null,null,null,null,"ČSOV - C:36,52"]
[11,"162601102RX0","Vodorovné přemístění výkopku z hor.1-7 na skládku zhotovitele","m3",90.936599999999999,null,{"$f":"E53*F53","v":0},0,{"$f":"E53*H53","v":0},0,{"$f":"E53*J53","v":0},null,null,null,2,null,null,null,null,null,null,null,null,null,null,null,1,1,1,null,null,null,null,null,null,null,null,null,null,null,null,null,null,null,null,null,null,null,null,null,null,1,{"$f":"IF(AZ53=1,G53,0)","v":0},{"$f":"IF(AZ53=2,G53,0)","v":0},{"$f":"IF(AZ53=3,G53,0)","v":0},{"$f":"IF(AZ53=4,G53,0)","v":0},{"$f":"IF(AZ53=5,G53,0)","v":0},null,null,null,null,null,null,null,null,null,null,null,null,null,null,null,null,null,null,null,null,null,1,1]
[null,null,"Výkopy:",null,0,null,null,null,null,null,null,null,"Výkopy:"]
[null,null,"Začátek provozního součtu",null,0,null,null,null,null,null,null,null,"Začátek provozního součtu"]
[null,null,"ČSOV - A :161,1785",null,161.17850000000001,null,null,null,null,null,null,null,"ČSOV - A :161,1785"]
[null,null,"ČSOV - C:179,4305",null,179.43049999999999,null,null,null,null,null,null,null,"ČSOV - C:179,4305"]
[null,null,"Konec provozního součtu",null,340.60900000000004,null,null,null,null,null,null,null,"Konec provozního součtu"]
[null,null,"V hornině tř. 2 - 6:340,6090",null,340.60899999999998,null,null,null,null,null,null,null,"V hornině tř. 2 - 6:340,6090"]
[null,null,"Odkopávky:",null,0,null,null,null,null,null,null,null,"Odkopávky:"]
[null,null,"ČSOV - A - napojení na komunikaci:9,10",null,9.1,null,null,null,null,null,null,null,"ČSOV - A - napojení na komunikaci:9,10"]
[null,null,"ČSOV - C - napojení na komunikaci:10,90",null,10.9,null,null,null,null,null,null,null,"ČSOV - C - napojení na komunikaci:10,90"]
[null,null,"Odpočet zásypů a obsypů zeminou:-269,6724",null,-269.67239999999998,null,null,null,null,null,null,null,"Odpočet zásypů a obsypů zeminou:-269,6724"]
[12,"175200010RAA","Obsyp objektu prohozenou zeminou dovoz zeminy ze vzdálenosti  50 m","m3",269.67239999999998,null,{"$f":"E64*F64","v":0},0,{"$f":"E64*H64","v":0},0,{"$f":"E64*J64","v":0},null,null,null,2,null,null,null,null,null,null,null,null,null,null,null,1,1,1,null,null,null,null,null,null,null,null,null,null,null,null,null,null,null,null,null,null,null,null,null,null,1,{"$f":"IF(AZ64=1,G64,0)","v":0},{"$f":"IF(AZ64=2,G64,0)","v":0},{"$f":"IF(AZ64=3,G64,0)","v":0},{"$f":"IF(AZ64=4,G64,0)","v":0},{"$f":"IF(AZ64=5,G64,0)","v":0},null,null,null,null,null,null,null,null,null,null,null,null,null,null,null,null,null,null,null,null,null,1,1]
[null,null,"Včetně hutnění obsypů",null,null,null,null,null,null,null,null,"Včetně hutnění obsypů",null,null,3]
[null,null,"Výkopy:",null,0,null,null,null,null,null,null,null,"Výkopy:"]
[null,null,"Začátek provozního součtu",null,0,null,null,null,null,null,null,null,"Začátek provozního součtu"]
[null,null,"ČSOV - A :161,1785",null,161.17850000000001,null,null,null,null,null,null,null,"ČSOV - A :161,1785"]
[null,null,"ČSOV - C:179,4305",null,179.43049999999999,null,null,null,null,null,null,null,"ČSOV - C:179,4305"]
[null,null,"Konec provozního součtu",null,340.60900000000004,null,null,null,null,null,null,null,"Konec provozního součtu"]
[null,null,"V hornině tř. 2 - 6:340,6090",null,340.60899999999998,null,null,null,null,null,null,null,"V hornině tř. 2 - 6:340,6090"]
[null,null,"Odpočet objemu konstrukcí:",null,0,null,null,null,null,null,null,null,"Odpočet objemu konstrukcí:"]
[null,null,"ČSOV - A :-32,2159",null,-32.215899999999998,null,null,null,null,null,null,null,"ČSOV - A :-32,2159"]
[null,null,"ČSOV - C:-38,7207",null,-38.720700000000001,null,null,null,null,null,null,null,"ČSOV - C:-38,7207"]
[13,"181101102R00","Úprava pláně v zářezech v hor. 1-4, se zhutněním ","m2",320,null,{"$f":"E75*F75","v":0},0,{"$f":"E75*H75","v":0},0,{"$f":"E75*J75","v":0},null,null,null,2,null,null,null,null,null,null,null,null,null,null,null,1,1,1,null,null,null,null,null,null,null,null,null,null,null,null,null,null,null,null,null,null,null,null,null,null,1,{"$f":"IF(AZ75=1,G75,0)","v":0},{"$f":"IF(AZ75=2,G75,0)","v":0},{"$f":"IF(AZ75=3,G75,0)","v":0},{"$f":"IF(AZ75=4,G75,0)","v":0},{"$f":"IF(AZ75=5,G75,0)","v":0},null,null,null,null,null,null,null,null,null,null,null,null,null,null,null,null,null,null,null,null,null,1,1]
[null,null,"ČSOV - A:50,00",null,50,null,null,null,null,null,null,null,"ČSOV - A:50,00"]
[null,null,"ČSOV - C:50,00",null,50,null,null,null,null,null,null,null,"ČSOV - C:50,00"]
[null,null,"ČSOV - A - napojení na komunikaci:110,00",null,110,null,null,null,null,null,null,null,"ČSOV - A - napojení na komunikaci:110,00"]
[null,null,"ČSOB - C - napojení na komunikaci:110,00",null,110,null,null,null,null,null,null,null,"ČSOB - C - napojení na komunikaci:110,00"]
[14,"182300010RAB","Rozprostření ornice ve svahu tloušťka 15 cm dovoz ornice ze vzdálenosti 1km, osetí trávou","m2",506.5,null,{"$f":"E80*F80","v":0},3.0000000000000001E-5,{"$f":"E80*H80","v":1.5195E-2},0,{"$f":"E80*J80","v":0},null,null,null,2,null,null,null,null,null,null,null,null,null,null,null,1,1,1,null,null,null,null,null,null,null,null,null,null,null,null,null,null,null,null,null,null,null,null,null,null,1,{"$f":"IF(AZ80=1,G80,0)","v":0},{"$f":"IF(AZ80=2,G80,0)","v":0},{"$f":"IF(AZ80=3,G80,0)","v":0},{"$f":"IF(AZ80=4,G80,0)","v":0},{"$f":"IF(AZ80=5,G80,0)","v":0},null,null,null,null,null,null,null,null,null,null,null,null,null,null,null,null,null,null,null,null,null,1,1]
[null,null,"ČSOV - A:284,00",null,284,null,null,null,null,null,null,null,"ČSOV - A:284,00"]
[null,null,"ČSOV - C:222,50",null,222.5,null,null,null,null,null,null,null,"ČSOV - C:222,50"]
[15,"199000002RX0","Poplatek za skládku horniny 1- 7 ","m3",90.936599999999999,null,{"$f":"E83*F83","v":0},0,{"$f":"E83*H83","v":0},0,{"$f":"E83*J83","v":0},null,null,null,2,null,null,null,null,null,null,null,null,null,null,null,1,1,1,null,null,null,null,null,null,null,null,null,null,null,null,null,null,null,null,null,null,null,null,null,null,1,{"$f":"IF(AZ83=1,G83,0)","v":0},{"$f":"IF(AZ83=2,G83,0)","v":0},{"$f":"IF(AZ83=3,G83,0)","v":0},{"$f":"IF(AZ83=4,G83,0)","v":0},{"$f":"IF(AZ83=5,G83,0)","v":0},null,null,null,null,null,null,null,null,null,null,null,null,null,null,null,null,null,null,null,null,null,1,1]
[null,null,"Výkopy:",null,0,null,null,null,null,null,null,null,"Výkopy:"]
[null,null,"Začátek provozního součtu",null,0,null,null,null,null,null,null,null,"Začátek provozního součtu"]
[null,null,"ČSOV - A :161,1785",null,161.17850000000001,null,null,null,null,null,null,null,"ČSOV - A :161,1785"]
[null,null,"ČSOV - C:179,4305",null,179.43049999999999,null,null,null,null,null,null,null,"ČSOV - C:179,4305"]
[null,null,"Konec provozního součtu",null,340.60900000000004,null,null,null,null,null,null,null,"Konec provozního součtu"]
[null,null,"V hornině tř. 2 - 6:340,6090",null,340.60899999999998,null,null,null,null,null,null,null,"V hornině tř. 2 - 6:340,6090"]
[null,null,"Odkopávky:",null,0,null,null,null,null,null,null,null,"Odkopávky:"]
[null,null,"ČSOV - A - napojení na komunikaci:9,10",null,9.1,null,null,null,null,null,null,null,"ČSOV - A - napojení na komunikaci:9,10"]
[null,null,"ČSOV - C - napojení na komunikaci:10,90",null,10.9,null,null,null,null,null,null,null,"ČSOV - C - napojení na komunikaci:10,90"]
[null,null,"Odpočet zásypů a obsypů zeminou:-269,6724",null,-269.67239999999998,null,null,null,null,null,null,null,"Odpočet zásypů a obsypů zeminou:-269,6724"]
[null,"Celkem za","1 Zemní práce",null,null,null,{"$f":"SUM(G7:G93)","v":0},null,{"$f":"SUM(I7:I93)","v":2.229173764},null,{"$f":"SUM(K7:K93)","v":0},null,null,null,4,null,null,null,null,null,null,null,null,null,null,null,null,null,null,null,null,null,null,null,null,null,null,null,null,null,null,null,null,null,null,null,null,null,null,null,null,null,{"$f":"SUM(BA7:BA93)","v":0},{"$f":"SUM(BB7:BB93)","v":0},{"$f":"SUM(BC7:BC93)","v":0},{"$f":"SUM(BD7:BD93)","v":0},{"$f":"SUM(BE7:BE93)","v":0}]
["Díl:","21","Úprava podloží a základ.spáry",null,null,null,null,null,null,null,null,null,null,null,1]
[16,"271571111R00","Polštář základu ze štěrkopísku tříděného ","m3",7.7220000000000004,null,{"$f":"E96*F96","v":0},1.9397,{"$f":"E96*H96","v":14.978363400000001},0,{"$f":"E96*J96","v":0},null,null,null,2,null,null,null,null,null,null,null,null,null,null,null,1,1,1,null,null,null,null,null,null,null,null,null,null,null,null,null,null,null,null,null,null,null,null,null,null,1,{"$f":"IF(AZ96=1,G96,0)","v":0},{"$f":"IF(AZ96=2,G96,0)","v":0},{"$f":"IF(AZ96=3,G96,0)","v":0},{"$f":"IF(AZ96=4,G96,0)","v":0},{"$f":"IF(AZ96=5,G96,0)","v":0},null,null,null,null,null,null,null,null,null,null,null,null,null,null,null,null,null,null,null,null,null,1,1]
[null,null,"ČSOV - A:3,861",null,3.8610000000000002,null,null,null,null,null,null,null,"ČSOV - A:3,861"]
[null,null,"ČSOV - C:3,861",null,3.8610000000000002,null,null,null,null,null,null,null,"ČSOV - C:3,861"]
[null,"Celkem za","21 Úprava podloží a základ.spáry",null,null,null,{"$f":"SUM(G95:G98)","v":0},null,{"$f":"SUM(I95:I98)","v":14.978363400000001},null,{"$f":"SUM(K95:K98)","v":0},null,null,null,4,null,null,null,null,null,null,null,null,null,null,null,null,null,null,null,null,null,null,null,null,null,null,null,null,null,null,null,null,null,null,null,null,null,null,null,null,null,{"$f":"SUM(BA95:BA98)","v":0},{"$f":"SUM(BB95:BB98)","v":0},{"$f":"SUM(BC95:BC98)","v":0},{"$f":"SUM(BD95:BD98)","v":0},{"$f":"SUM(BE95:BE98)","v":0}]
["Díl:","38","Kompletní konstrukce",null,null,null,null,null,null,null,null,null,null,null,1]
[17,"388 21-0001.SUB","D+M zděného elektropilíře pro ČSOV - A dle PD ","soubor",1,null,{"$f":"E101*F101","v":0},5.85,{"$f":"E101*H101","v":5.85},null,{"$f":"E101*J101","v":0},null,null,null,2,null,null,null,null,null,null,null,null,null,null,null,11,3,1,null,null,null,null,null,null,null,null,null,null,null,null,null,null,null,null,null,null,null,null,null,null,1,{"$f":"IF(AZ101=1,G101,0)","v":0},{"$f":"IF(AZ101=2,G101,0)","v":0},{"$f":"IF(AZ101=3,G101,0)","v":0},{"$f":"IF(AZ101=4,G101,0)","v":0},{"$f":"IF(AZ101=5,G101,0)","v":0},null,null,null,null,null,null,null,null,null,null,null,null,null,null,null,null,null,null,null,null,null,11,3]
[null,null,"Součástí položky je dodávka elektrochrániček dle PD",null,null,null,null,null,null,null,null,"Součástí položky je dodávka elektrochrániček dle PD",null,null,3]
[18,"388 21-0002.SUB","D+M zděného elektropilíře pro ČSOV - C dle PD ","soubor",1,null,{"$f":"E103*F103","v":0},5.85,{"$f":"E103*H103","v":5.85},null,{"$f":"E103*J103","v":0},null,null,null,2,null,null,null,null,null,null,null,null,null,null,null,11,3,2,null,null,null,null,null,null,null,null,null,null,null,null,null,null,null,null,null,null,null,null,null,null,1,{"$f":"IF(AZ103=1,G103,0)","v":0},{"$f":"IF(AZ103=2,G103,0)","v":0},{"$f":"IF(AZ103=3,G103,0)","v":0},{"$f":"IF(AZ103=4,G103,0)","v":0},{"$f":"IF(AZ103=5,G103,0)","v":0},null,null,null,null,null,null,null,null,null,null,null,null,null,null,null,null,null,null,null,null,null,11,3]
[null,null,"Součástí položky je dodávka elektrochrániček dle PD",null,null,null,null,null,null,null,null,"Součástí položky je dodávka elektrochrániček dle PD",null,null,3]
[19,"388 38-0001.SUB","D+M Armaturní ŽB šachty ČSOV - A dle PD Průměr DN150, H 3,01m","soubor",1,null,{"$f":"E105*F105","v":0},7.81,{"$f":"E105*H105","v":7.81},null,{"$f":"E105*J105","v":0},null,null,null,2,null,null,null,null,null,null,null,null,null,null,null,11,3,3,null,null,null,null,null,null,null,null,null,null,null,null,null,null,null,null,null,null,null,null,null,null,1,{"$f":"IF(AZ105=1,G105,0)","v":0},{"$f":"IF(AZ105=2,G105,0)","v":0},{"$f":"IF(AZ105=3,G105,0)","v":0},{"$f":"IF(AZ105=4,G105,0)","v":0},{"$f":"IF(AZ105=5,G105,0)","v":0},null,null,null,null,null,null,null,null,null,null,null,null,null,null,null,null,null,null,null,null,null,11,3]
[null,null,"Součástí položky je dodávka a montáž ŽB nádrže včetně poklopu a doplňkových konstrukcí a prací (žebřík, poklopy, izolace , a pod.) dle TZ a výkresocé dokumentace.",null,null,null,null,null,null,null,null,"Součástí položky je dodávka a montáž ŽB nádrže včetně poklopu a doplňkových konstrukcí a prací (žebřík, poklopy, izolace , a pod.) dle TZ a výkresocé dokumentace.",null,null,3]
[20,"388 38-0002.SUB","D+M Armaturní ŽB šachty ČSOV - C dle PD Průměr DN150, H 3,01 m","soubor",1,null,{"$f":"E107*F107","v":0},7.81,{"$f":"E107*H107","v":7.81},null,{"$f":"E107*J107","v":0},null,null,null,2,null,null,null,null,null,null,null,null,null,null,null,11,3,4,null,null,null,null,null,null,null,null,null,null,null,null,null,null,null,null,null,null,null,null,null,null,1,{"$f":"IF(AZ107=1,G107,0)","v":0},{"$f":"IF(AZ107=2,G107,0)","v":0},{"$f":"IF(AZ107=3,G107,0)","v":0},{"$f":"IF(AZ107=4,G107,0)","v":0},{"$f":"IF(AZ107=5,G107,0)","v":0},null,null,null,null,null,null,null,null,null,null,null,null,null,null,null,null,null,null,null,null,null,11,3]
[null,null,"Součástí položky je dodávka a montáž ŽB nádrže včetně poklopu a doplňkových konstrukcí a prací (žebřík, poklopy,  izolace , a pod.) dle TZ a výkresocé dokumentace.",null,null,null,null,null,null,null,null,"Součástí položky je dodávka a montáž ŽB nádrže včetně poklopu a doplňkových konstrukcí a prací (žebřík, poklopy,  izolace , a pod.) dle TZ a výkresocé dokumentace.",null,null,3]
[21,"388 38-0011.SUB","D+M ŽB čerpací šachty ČSOV - A dle PD Průměr DN250, H 4,66 m","soubor",1,null,{"$f":"E109*F109","v":0},20.03,{"$f":"E109*H109","v":20.03},null,{"$f":"E109*J109","v":0},null,null,null,2,null,null,null,null,null,null,null,null,null,null,null,11,3,5,null,null,null,null,null,null,null,null,null,null,null,null,null,null,null,null,null,null,null,null,null,null,1,{"$f":"IF(AZ109=1,G109,0)","v":0},{"$f":"IF(AZ109=2,G109,0)","v":0},{"$f":"IF(AZ109=3,G109,0)","v":0},{"$f":"IF(AZ109=4,G109,0)","v":0},{"$f":"IF(AZ109=5,G109,0)","v":0},null,null,null,null,null,null,null,null,null,null,null,null,null,null,null,null,null,null,null,null,null,11,3]
[null,null,"Součástí položky je dodávka a montáž ŽB nádrže včetně poklopu a doplňkových konstrukcí a prací (žebřík, madla, poklopy, izolace , a pod.) dle TZ a výkresocé dokumentace.",null,null,null,null,null,null,null,null,"Součástí položky je dodávka a montáž ŽB nádrže včetně poklopu a doplňkových konstrukcí a prací (žebřík, madla, poklopy, izolace , a pod.) dle TZ a výkresocé dokumentace.",null,null,3]
[null,null,"Součástí položky je i propojovací potrubí mezi ČS a AŠ a ČS a SŠ",null,null,null,null,null,null,null,null,"Součástí položky je i propojovací potrubí mezi ČS a AŠ a ČS a SŠ",null,null,3]
[22,"388 38-0012.SUB","D+M ŽB čerpací šachty ČSOV - C dle PD Průměr DN250, H 4,71 m","soubor",1,null,{"$f":"E112*F112","v":0},21.49,{"$f":"E112*H112","v":21.49},null,{"$f":"E112*J112","v":0},null,null,null,2,null,null,null,null,null,null,null,null,null,null,null,11,3,6,null,null,null,null,null,null,null,null,null,null,null,null,null,null,null,null,null,null,null,null,null,null,1,{"$f":"IF(AZ112=1,G112,0)","v":0},{"$f":"IF(AZ112=2,G112,0)","v":0},{"$f":"IF(AZ112=3,G112,0)","v":0},{"$f":"IF(AZ112=4,G112,0)","v":0},{"$f":"IF(AZ112=5,G112,0)","v":0},null,null,null,null,null,null,null,null,null,null,null,null,null,null,null,null,null,null,null,null,null,11,3]
[null,null,"Součástí položky je dodávka a montáž ŽB nádrže včetně poklopu a doplňkových konstrukcí a prací (žebřík, madla, poklopy, izolace , a pod.) dle TZ a výkresocé dokumentace.",null,null,null,null,null,null,null,null,"Součástí položky je dodávka a montáž ŽB nádrže včetně poklopu a doplňkových konstrukcí a prací (žebřík, madla, poklopy, izolace , a pod.) dle TZ a výkresocé dokumentace.",null,null,3]
[null,null,"Součástí položky je i propojovací potrubí mezi ČS a AŠ a ČS a SŠ",null,null,null,null,null,null,null,null,"Součástí položky je i propojovací potrubí mezi ČS a AŠ a ČS a SŠ",null,null,3]
[23,"388 38-0021.SUB","D+M Sedimentační šachty ČSOV - A dle PD Průměr DN100, H 3,455 m","soubor",1,null,{"$f":"E115*F115","v":0},6.5,{"$f":"E115*H115","v":6.5},null,{"$f":"E115*J115","v":0},null,null,null,2,null,null,null,null,null,null,null,null,null,null,null,11,3,7,null,null,null,null,null,null,null,null,null,null,null,null,null,null,null,null,null,null,null,null,null,null,1,{"$f":"IF(AZ115=1,G115,0)","v":0},{"$f":"IF(AZ115=2,G115,0)","v":0},{"$f":"IF(AZ115=3,G115,0)","v":0},{"$f":"IF(AZ115=4,G115,0)","v":0},{"$f":"IF(AZ115=5,G115,0)","v":0},null,null,null,null,null,null,null,null,null,null,null,null,null,null,null,null,null,null,null,null,null,11,3]
[null,null,"Součástí položky je dodávka a montáž betonové šachty včetně poklopu a doplňkových konstrukcí a prací dle TZ a výkresocé dokumentace.",null,null,null,null,null,null,null,null,"Součástí položky je dodávka a montáž betonové šachty včetně poklopu a doplňkových konstrukcí a prací dle TZ a výkresocé dokumentace.",null,null,3]
[24,"388 38-0022.SUB","D+M Sedimentační šachty ČSOV - C dle PD Průměr DN100, H 4,07 m","soubor",1,null,{"$f":"E117*F117","v":0},6.1,{"$f":"E117*H117","v":6.1},null,{"$f":"E117*J117","v":0},null,null,null,2,null,null,null,null,null,null,null,null,null,null,null,11,3,8,null,null,null,null,null,null,null,null,null,null,null,null,null,null,null,null,null,null,null,null,null,null,1,{"$f":"IF(AZ117=1,G117,0)","v":0},{"$f":"IF(AZ117=2,G117,0)","v":0},{"$f":"IF(AZ117=3,G117,0)","v":0},{"$f":"IF(AZ117=4,G117,0)","v":0},{"$f":"IF(AZ117=5,G117,0)","v":0},null,null,null,null,null,null,null,null,null,null,null,null,null,null,null,null,null,null,null,null,null,11,3]
[null,null,"Součástí položky je dodávka a montáž betonové šachty včetně poklopu a doplňkových konstrukcí a prací dle TZ a výkresocé dokumentace.",null,null,null,null,null,null,null,null,"Součástí položky je dodávka a montáž betonové šachty včetně poklopu a doplňkových konstrukcí a prací dle TZ a výkresocé dokumentace.",null,null,3]
[null,"Celkem za","38 Kompletní konstrukce",null,null,null,{"$f":"SUM(G100:G118)","v":0},null,{"$f":"SUM(I100:I118)","v":81.439999999999984},null,{"$f":"SUM(K100:K118)","v":0},null,null,null,4,null,null,null,null,null,null,null,null,null,null,null,null,null,null,null,null,null,null,null,null,null,null,null,null,null,null,null,null,null,null,null,null,null,null,null,null,null,{"$f":"SUM(BA100:BA118)","v":0},{"$f":"SUM(BB100:BB118)","v":0},{"$f":"SUM(BC100:BC118)","v":0},{"$f":"SUM(BD100:BD118)","v":0},{"$f":"SUM(BE100:BE118)","v":0}]
["Díl:","5","Komunikace",null,null,null,null,null,null,null,null,null,null,null,1]
[25,"561471126RRX","Podklad ze zeminy - stabilizace vápnem množství pojiva 3%","m2",220,null,{"$f":"E121*F121","v":0},2.0580000000000001E-2,{"$f":"E121*H121","v":4.5276000000000005},0,{"$f":"E121*J121","v":0},null,null,null,2,null,null,null,null,null,null,null,null,null,null,null,1,0,0,null,null,null,null,null,null,null,null,null,null,null,null,null,null,null,null,null,null,null,null,null,null,1,{"$f":"IF(AZ121=1,G121,0)","v":0},{"$f":"IF(AZ121=2,G121,0)","v":0},{"$f":"IF(AZ121=3,G121,0)","v":0},{"$f":"IF(AZ121=4,G121,0)","v":0},{"$f":"IF(AZ121=5,G121,0)","v":0},null,null,null,null,null,null,null,null,null,null,null,null,null,null,null,null,null,null,null,null,null,1,0]
[null,null,"ČSOV - A - napojení na komunikaci:110,00",null,110,null,null,null,null,null,null,null,"ČSOV - A - napojení na komunikaci:110,00"]
[null,null,"ČSOV - C - napojení na komunikaci:110,00",null,110,null,null,null,null,null,null,null,"ČSOV - C - napojení na komunikaci:110,00"]
[26,"564113505R00","Podklad z asf.recyklátu fr. 0-32 po zhutn.tl.5 cm ","m2",188,null,{"$f":"E124*F124","v":0},0.105,{"$f":"E124*H124","v":19.739999999999998},0,{"$f":"E124*J124","v":0},null,null,null,2,null,null,null,null,null,null,null,null,null,null,null,1,1,1,null,null,null,null,null,null,null,null,null,null,null,null,null,null,null,null,null,null,null,null,null,null,1,{"$f":"IF(AZ124=1,G124,0)","v":0},{"$f":"IF(AZ124=2,G124,0)","v":0},{"$f":"IF(AZ124=3,G124,0)","v":0},{"$f":"IF(AZ124=4,G124,0)","v":0},{"$f":"IF(AZ124=5,G124,0)","v":0},null,null,null,null,null,null,null,null,null,null,null,null,null,null,null,null,null,null,null,null,null,1,1]
[null,null,"ČSOV - A - napojení na komunikaci:93,00",null,93,null,null,null,null,null,null,null,"ČSOV - A - napojení na komunikaci:93,00"]
[null,null,"ČSOV - C - napojení na komunikaci:95,00",null,95,null,null,null,null,null,null,null,"ČSOV - C - napojení na komunikaci:95,00"]
[27,"564231111R00","Podklad ze štěrkopísku po zhutnění tloušťky 10 cm ","m2",92,null,{"$f":"E127*F127","v":0},0.2024,{"$f":"E127*H127","v":18.620799999999999},0,{"$f":"E127*J127","v":0},null,null,null,2,null,null,null,null,null,null,null,null,null,null,null,1,1,1,null,null,null,null,null,null,null,null,null,null,null,null,null,null,null,null,null,null,null,null,null,null,1,{"$f":"IF(AZ127=1,G127,0)","v":0},{"$f":"IF(AZ127=2,G127,0)","v":0},{"$f":"IF(AZ127=3,G127,0)","v":0},{"$f":"IF(AZ127=4,G127,0)","v":0},{"$f":"IF(AZ127=5,G127,0)","v":0},null,null,null,null,null,null,null,null,null,null,null,null,null,null,null,null,null,null,null,null,null,1,1]
[null,null,"ČSOV - A:46,00",null,46,null,null,null,null,null,null,null,"ČSOV - A:46,00"]
[null,null,"ČSOV - C:46,00",null,46,null,null,null,null,null,null,null,"ČSOV - C:46,00"]
[28,"564761111R00","Podklad z kameniva drceného vel.32-63 mm,tl. 20 cm ","m2",92,null,{"$f":"E130*F130","v":0},0.43,{"$f":"E130*H130","v":39.56},0,{"$f":"E130*J130","v":0},null,null,null,2,null,null,null,null,null,null,null,null,null,null,null,1,1,1,null,null,null,null,null,null,null,null,null,null,null,null,null,null,null,null,null,null,null,null,null,null,1,{"$f":"IF(AZ130=1,G130,0)","v":0},{"$f":"IF(AZ130=2,G130,0)","v":0},{"$f":"IF(AZ130=3,G130,0)","v":0},{"$f":"IF(AZ130=4,G130,0)","v":0},{"$f":"IF(AZ130=5,G130,0)","v":0},null,null,null,null,null,null,null,null,null,null,null,null,null,null,null,null,null,null,null,null,null,1,1]
[null,null,"ČSOV - A:46,00",null,46,null,null,null,null,null,null,null,"ČSOV - A:46,00"]
[null,null,"ČSOV - C:46,00",null,46,null,null,null,null,null,null,null,"ČSOV - C:46,00"]
[29,"564772111R00","Podklad z kam.drceného 32-63 s výplň.kamen. 25 cm ","m2",221,null,{"$f":"E133*F133","v":0},0.60104000000000002,{"$f":"E133*H133","v":132.82983999999999},0,{"$f":"E133*J133","v":0},null,null,null,2,null,null,null,null,null,null,null,null,null,null,null,1,1,1,null,null,null,null,null,null,null,null,null,null,null,null,null,null,null,null,null,null,null,null,null,null,1,{"$f":"IF(AZ133=1,G133,0)","v":0},{"$f":"IF(AZ133=2,G133,0)","v":0},{"$f":"IF(AZ133=3,G133,0)","v":0},{"$f":"IF(AZ133=4,G133,0)","v":0},{"$f":"IF(AZ133=5,G133,0)","v":0},null,null,null,null,null,null,null,null,null,null,null,null,null,null,null,null,null,null,null,null,null,1,1]
[null,null,"ČSOV - A - napojení na komunikaci:110,00",null,110,null,null,null,null,null,null,null,"ČSOV - A - napojení na komunikaci:110,00"]
[null,null,"ČSOV - C - napojení na komunikaci:111,00",null,111,null,null,null,null,null,null,null,"ČSOV - C - napojení na komunikaci:111,00"]
[30,"564831111RT4","Podklad ze štěrkodrti po zhutnění tloušťky 10 cm štěrkodrť frakce 0-63 mm","m2",184,null,{"$f":"E136*F136","v":0},0.28799999999999998,{"$f":"E136*H136","v":52.991999999999997},0,{"$f":"E136*J136","v":0},null,null,null,2,null,null,null,null,null,null,null,null,null,null,null,1,1,1,null,null,null,null,null,null,null,null,null,null,null,null,null,null,null,null,null,null,null,null,null,null,1,{"$f":"IF(AZ136=1,G136,0)","v":0},{"$f":"IF(AZ136=2,G136,0)","v":0},{"$f":"IF(AZ136=3,G136,0)","v":0},{"$f":"IF(AZ136=4,G136,0)","v":0},{"$f":"IF(AZ136=5,G136,0)","v":0},null,null,null,null,null,null,null,null,null,null,null,null,null,null,null,null,null,null,null,null,null,1,1]
[null,null,"ČSOV - A:46,00*2",null,92,null,null,null,null,null,null,null,"ČSOV - A:46,00*2"]
[null,null,"ČSOV - C:46,00*2",null,92,null,null,null,null,null,null,null,"ČSOV - C:46,00*2"]
[31,"564841111RT2","Podklad ze štěrkodrti po zhutnění tloušťky 12 cm štěrkodrť frakce 0-32 mm","m2",202,null,{"$f":"E139*F139","v":0},0.3024,{"$f":"E139*H139","v":61.084800000000001},0,{"$f":"E139*J139","v":0},null,null,null,2,null,null,null,null,null,null,null,null,null,null,null,1,1,1,null,null,null,null,null,null,null,null,null,null,null,null,null,null,null,null,null,null,null,null,null,null,1,{"$f":"IF(AZ139=1,G139,0)","v":0},{"$f":"IF(AZ139=2,G139,0)","v":0},{"$f":"IF(AZ139=3,G139,0)","v":0},{"$f":"IF(AZ139=4,G139,0)","v":0},{"$f":"IF(AZ139=5,G139,0)","v":0},null,null,null,null,null,null,null,null,null,null,null,null,null,null,null,null,null,null,null,null,null,1,1]
[null,null,"ČSOV - A - napojení na komunikaci:100,00",null,100,null,null,null,null,null,null,null,"ČSOV - A - napojení na komunikaci:100,00"]
[null,null,"ČSOV - C - napojení na komunikaci:102,00",null,102,null,null,null,null,null,null,null,"ČSOV - C - napojení na komunikaci:102,00"]
[32,"569903311R00","Zřízení zemních krajnic se zhutněním ","m3",8.1,null,{"$f":"E142*F142","v":0},0,{"$f":"E142*H142","v":0},0,{"$f":"E142*J142","v":0},null,null,null,2,null,null,null,null,null,null,null,null,null,null,null,1,1,1,null,null,null,null,null,null,null,null,null,null,null,null,null,null,null,null,null,null,null,null,null,null,1,{"$f":"IF(AZ142=1,G142,0)","v":0},{"$f":"IF(AZ142=2,G142,0)","v":0},{"$f":"IF(AZ142=3,G142,0)","v":0},{"$f":"IF(AZ142=4,G142,0)","v":0},{"$f":"IF(AZ142=5,G142,0)","v":0},null,null,null,null,null,null,null,null,null,null,null,null,null,null,null,null,null,null,null,null,null,1,1]
[null,null,"ČSOV - A - napojení na komunikaci:4,10",null,4.0999999999999996,null,null,null,null,null,null,null,"ČSOV - A - napojení na komunikaci:4,10"]
[null,null,"ČSOV - C - napojení na komunikaci:4,00",null,4,null,null,null,null,null,null,null,"ČSOV - C - napojení na komunikaci:4,00"]
[33,"573411115R00","Nátěr živičný s posypem, asfaltem sil., 1,8 kg/m2 ","m2",372,null,{"$f":"E145*F145","v":0},2.6530000000000001E-2,{"$f":"E145*H145","v":9.8691600000000008},0,{"$f":"E145*J145","v":0},null,null,null,2,null,null,null,null,null,null,null,null,null,null,null,1,1,1,null,null,null,null,null,null,null,null,null,null,null,null,null,null,null,null,null,null,null,null,null,null,1,{"$f":"IF(AZ145=1,G145,0)","v":0},{"$f":"IF(AZ145=2,G145,0)","v":0},{"$f":"IF(AZ145=3,G145,0)","v":0},{"$f":"IF(AZ145=4,G145,0)","v":0},{"$f":"IF(AZ145=5,G145,0)","v":0},null,null,null,null,null,null,null,null,null,null,null,null,null,null,null,null,null,null,null,null,null,1,1]
[null,null,"ČSOV - A - napojení na komunikaci:92,00*2",null,184,null,null,null,null,null,null,null,"ČSOV - A - napojení na komunikaci:92,00*2"]
[null,null,"ČSOV - C - napojení na komunikaci:94,00*2",null,188,null,null,null,null,null,null,null,"ČSOV - C - napojení na komunikaci:94,00*2"]
[34,"596245041R00","Kladení zámkové dlažby tl. 8 cm do MC tl. 5 cm ","m2",92,null,{"$f":"E148*F148","v":0},0.14957999999999999,{"$f":"E148*H148","v":13.76136},0,{"$f":"E148*J148","v":0},null,null,null,2,null,null,null,null,null,null,null,null,null,null,null,1,1,1,null,null,null,null,null,null,null,null,null,null,null,null,null,null,null,null,null,null,null,null,null,null,1,{"$f":"IF(AZ148=1,G148,0)","v":0},{"$f":"IF(AZ148=2,G148,0)","v":0},{"$f":"IF(AZ148=3,G148,0)","v":0},{"$f":"IF(AZ148=4,G148,0)","v":0},{"$f":"IF(AZ148=5,G148,0)","v":0},null,null,null,null,null,null,null,null,null,null,null,null,null,null,null,null,null,null,null,null,null,1,1]
[null,null,"ČSOV - A:46,00",null,46,null,null,null,null,null,null,null,"ČSOV - A:46,00"]
[null,null,"ČSOV - C:46,00",null,46,null,null,null,null,null,null,null,"ČSOV - C:46,00"]
[35,"596291113R00","Řezání zámkové dlažby tl. 80 mm ","m",73.599999999999994,null,{"$f":"E151*F151","v":0},3.6000000000000002E-4,{"$f":"E151*H151","v":2.6495999999999999E-2},0,{"$f":"E151*J151","v":0},null,null,null,2,null,null,null,null,null,null,null,null,null,null,null,1,1,1,null,null,null,null,null,null,null,null,null,null,null,null,null,null,null,null,null,null,null,null,null,null,1,{"$f":"IF(AZ151=1,G151,0)","v":0},{"$f":"IF(AZ151=2,G151,0)","v":0},{"$f":"IF(AZ151=3,G151,0)","v":0},{"$f":"IF(AZ151=4,G151,0)","v":0},{"$f":"IF(AZ151=5,G151,0)","v":0},null,null,null,null,null,null,null,null,null,null,null,null,null,null,null,null,null,null,null,null,null,1,1]
[null,null,"ČSOV - A:46,00*0,8",null,36.799999999999997,null,null,null,null,null,null,null,"ČSOV - A:46,00*0,8"]
[null,null,"ČSOV - C:46,00*0,8",null,36.799999999999997,null,null,null,null,null,null,null,"ČSOV - C:46,00*0,8"]
[36,"916561111RT4","Osazení záhon.obrubníků do lože z C 12/15 s opěrou včetně obrubníku ABO 4 - 5    50/5/25","m",54,null,{"$f":"E154*F154","v":0},0.12501000000000001,{"$f":"E154*H154","v":6.7505400000000009},0,{"$f":"E154*J154","v":0},null,null,null,2,null,null,null,null,null,null,null,null,null,null,null,1,1,1,null,null,null,null,null,null,null,null,null,null,null,null,null,null,null,null,null,null,null,null,null,null,1,{"$f":"IF(AZ154=1,G154,0)","v":0},{"$f":"IF(AZ154=2,G154,0)","v":0},{"$f":"IF(AZ154=3,G154,0)","v":0},{"$f":"IF(AZ154=4,G154,0)","v":0},{"$f":"IF(AZ154=5,G154,0)","v":0},null,null,null,null,null,null,null,null,null,null,null,null,null,null,null,null,null,null,null,null,null,1,1]
[null,null,"ČSOV - A:27,00",null,27,null,null,null,null,null,null,null,"ČSOV - A:27,00"]
[null,null,"ČSOV - C:27,00",null,27,null,null,null,null,null,null,null,"ČSOV - C:27,00"]
[37,"5924511910","Dlažba zámková 20x20x8 cm přírodní","m2",93.84,null,{"$f":"E157*F157","v":0},0.17499999999999999,{"$f":"E157*H157","v":16.422000000000001},null,{"$f":"E157*J157","v":0},null,null,null,2,null,null,null,null,null,null,null,null,null,null,null,3,1,5924511910,null,null,null,null,null,null,null,null,null,null,null,null,null,null,null,null,null,null,null,null,null,null,1,{"$f":"IF(AZ157=1,G157,0)","v":0},{"$f":"IF(AZ157=2,G157,0)","v":0},{"$f":"IF(AZ157=3,G157,0)","v":0},{"$f":"IF(AZ157=4,G157,0)","v":0},{"$f":"IF(AZ157=5,G157,0)","v":0},null,null,null,null,null,null,null,null,null,null,null,null,null,null,null,null,null,null,null,null,null,3,1]
[null,null,"ČSOV - A:46,00*1,02",null,46.92,null,null,null,null,null,null,null,"ČSOV - A:46,00*1,02"]
[null,null,"ČSOV - C:46,00*1,02",null,46.92,null,null,null,null,null,null,null,"ČSOV - C:46,00*1,02"]
[null,"Celkem za","5 Komunikace",null,null,null,{"$f":"SUM(G120:G159)","v":0},null,{"$f":"SUM(I120:I159)","v":376.18459600000011},null,{"$f":"SUM(K120:K159)","v":0},null,null,null,4,null,null,null,null,null,null,null,null,null,null,null,null,null,null,null,null,null,null,null,null,null,null,null,null,null,null,null,null,null,null,null,null,null,null,null,null,null,{"$f":"SUM(BA120:BA159)","v":0},{"$f":"SUM(BB120:BB159)","v":0},{"$f":"SUM(BC120:BC159)","v":0},{"$f":"SUM(BD120:BD159)","v":0},{"$f":"SUM(BE120:BE159)","v":0}]
["Díl:","90","Oploceni",null,null,null,null,null,null,null,null,null,null,null,1]
[38,"900100001RAA","Oplocení z drátěného pletiva, betonové sloupky asymetrická vrata šířky 412 cm, výška 1,60 m","m",60,null,{"$f":"E162*F162","v":0},0,{"$f":"E162*H162","v":0},0,{"$f":"E162*J162","v":0},null,null,null,2,null,null,null,null,null,null,null,null,null,null,null,1,1,1,null,null,null,null,null,null,null,null,null,null,null,null,null,null,null,null,null,null,null,null,null,null,1,{"$f":"IF(AZ162=1,G162,0)","v":0},{"$f":"IF(AZ162=2,G162,0)","v":0},{"$f":"IF(AZ162=3,G162,0)","v":0},{"$f":"IF(AZ162=4,G162,0)","v":0},{"$f":"IF(AZ162=5,G162,0)","v":0},null,null,null,null,null,null,null,null,null,null,null,null,null,null,null,null,null,null,null,null,null,1,1]
[null,null,"Včetně základů pro sklopky a základového prahu pro vrata",null,null,null,null,null,null,null,null,"Včetně základů pro sklopky a základového prahu pro vrata",null,null,3]
[null,null,"ČSOV - A:30,00",null,30,null,null,null,null,null,null,null,"ČSOV - A:30,00"]
[null,null,"ČSOV - C:30,00",null,30,null,null,null,null,null,null,null,"ČSOV - C:30,00"]
[null,"Celkem za","90 Oploceni",null,null,null,{"$f":"SUM(G161:G165)","v":0},null,{"$f":"SUM(I161:I165)","v":0},null,{"$f":"SUM(K161:K165)","v":0},null,null,null,4,null,null,null,null,null,null,null,null,null,null,null,null,null,null,null,null,null,null,null,null,null,null,null,null,null,null,null,null,null,null,null,null,null,null,null,null,null,{"$f":"SUM(BA161:BA165)","v":0},{"$f":"SUM(BB161:BB165)","v":0},{"$f":"SUM(BC161:BC165)","v":0},{"$f":"SUM(BD161:BD165)","v":0},{"$f":"SUM(BE161:BE165)","v":0}]
["Díl:","99","Staveništní přesun hmot",null,null,null,null,null,null,null,null,null,null,null,1]
[39,"998142251R00","Přesun hmot, nádrže betonové ","t",474.83213316400003,null,{"$f":"E168*F168","v":0},0,{"$f":"E168*H168","v":0},null,{"$f":"E168*J168","v":0},null,null,null,2,null,null,null,null,null,null,null,null,null,null,null,7,1,2,null,null,null,null,null,null,null,null,null,null,null,null,null,null,null,null,null,null,null,null,null,null,1,{"$f":"IF(AZ168=1,G168,0)","v":0},{"$f":"IF(AZ168=2,G168,0)","v":0},{"$f":"IF(AZ168=3,G168,0)","v":0},{"$f":"IF(AZ168=4,G168,0)","v":0},{"$f":"IF(AZ168=5,G168,0)","v":0},null,null,null,null,null,null,null,null,null,null,null,null,null,null,null,null,null,null,null,null,null,7,1]
[null,"Celkem za","99 Staveništní přesun hmot",null,null,null,{"$f":"SUM(G167:G168)","v":0},null,{"$f":"SUM(I167:I168)","v":0},null,{"$f":"SUM(K167:K168)","v":0},null,null,null,4,null,null,null,null,null,null,null,null,null,null,null,null,null,null,null,null,null,null,null,null,null,null,null,null,null,null,null,null,null,null,null,null,null,null,null,null,null,{"$f":"SUM(BA167:BA168)","v":0},{"$f":"SUM(BB167:BB168)","v":0},{"$f":"SUM(BC167:BC168)","v":0},{"$f":"SUM(BD167:BD168)","v":0},{"$f":"SUM(BE167:BE168)","v":0}]
["Díl:","M21.6","Elektroinstalace a telemetrie",null,null,null,null,null,null,null,null,null,null,null,1]
[40,"M21 10-0001.SUB","D+M elektroinstalace ČSOV - A dle PD ","soubor",1,{"$f":"SUM('304RD M21.6 Elektro ČSOV A'!G32:H32)","v":0},{"$f":"E171*F171","v":0},0,{"$f":"E171*H171","v":0},null,{"$f":"E171*J171","v":0},null,null,null,2,null,null,null,null,null,null,null,null,null,null,null,11,1,9,null,null,null,null,null,null,null,null,null,null,null,null,null,null,null,null,null,null,null,null,null,null,4,{"$f":"IF(AZ171=1,G171,0)","v":0},{"$f":"IF(AZ171=2,G171,0)","v":0},{"$f":"IF(AZ171=3,G171,0)","v":0},{"$f":"IF(AZ171=4,G171,0)","v":0},{"$f":"IF(AZ171=5,G171,0)","v":0},null,null,null,null,null,null,null,null,null,null,null,null,null,null,null,null,null,null,null,null,null,11,1]
[41,"M21 10-0002.SUB","D+M elektroinstalace ČSOV - C dle PD ","soubor",1,{"$f":"SUM('304RD M21.6 Elektro ČSOV C'!G32:H32)","v":0},{"$f":"E172*F172","v":0},0,{"$f":"E172*H172","v":0},null,{"$f":"E172*J172","v":0},null,null,null,2,null,null,null,null,null,null,null,null,null,null,null,11,1,10,null,null,null,null,null,null,null,null,null,null,null,null,null,null,null,null,null,null,null,null,null,null,4,{"$f":"IF(AZ172=1,G172,0)","v":0},{"$f":"IF(AZ172=2,G172,0)","v":0},{"$f":"IF(AZ172=3,G172,0)","v":0},{"$f":"IF(AZ172=4,G172,0)","v":0},{"$f":"IF(AZ172=5,G172,0)","v":0},null,null,null,null,null,null,null,null,null,null,null,null,null,null,null,null,null,null,null,null,null,11,1]
[null,"Celkem za","M21.6 Elektroinstalace a telemetrie",null,null,null,{"$f":"SUM(G170:G172)","v":0},null,{"$f":"SUM(I170:I172)","v":0},null,{"$f":"SUM(K170:K172)","v":0},null,null,null,4,null,null,null,null,null,null,null,null,null,null,null,null,null,null,null,null,null,null,null,null,null,null,null,null,null,null,null,null,null,null,null,null,null,null,null,null,null,{"$f":"SUM(BA170:BA172)","v":0},{"$f":"SUM(BB170:BB172)","v":0},{"$f":"SUM(BC170:BC172)","v":0},{"$f":"SUM(BD170:BD172)","v":0},{"$f":"SUM(BE170:BE172)","v":0}]
["Díl:","M35.5","Montáže technologie čerpacích stanic a úpraven vod",null,null,null,null,null,null,null,null,null,null,null,1]
[42,"M35 50-0001.SUB","D+M technologie a čerpadel ČSOV - A dle PD ","soubor",1,{"$f":"SUM('304RD M35.5 Technologie ČSOV A'!I43)","v":0},{"$f":"E175*F175","v":0},0,{"$f":"E175*H175","v":0},null,{"$f":"E175*J175","v":0},null,null,null,2,null,null,null,null,null,null,null,null,null,null,null,11,1,11,null,null,null,null,null,null,null,null,null,null,null,null,null,null,null,null,null,null,null,null,null,null,4,{"$f":"IF(AZ175=1,G175,0)","v":0},{"$f":"IF(AZ175=2,G175,0)","v":0},{"$f":"IF(AZ175=3,G175,0)","v":0},{"$f":"IF(AZ175=4,G175,0)","v":0},{"$f":"IF(AZ175=5,G175,0)","v":0},null,null,null,null,null,null,null,null,null,null,null,null,null,null,null,null,null,null,null,null,null,11,1]
[43,"M35 50-0002.SUB","D+M technologie a čerpadel ČSOV - C dle PD ","soubor",1,{"$f":"SUM('304RD M35.5 Technologie ČSOV C'!I43)","v":0},{"$f":"E176*F176","v":0},0,{"$f":"E176*H176","v":0},null,{"$f":"E176*J176","v":0},null,null,null,2,null,null,null,null,null,null,null,null,null,null,null,11,1,12,null,null,null,null,null,null,null,null,null,null,null,null,null,null,null,null,null,null,null,null,null,null,4,{"$f":"IF(AZ176=1,G176,0)","v":0},{"$f":"IF(AZ176=2,G176,0)","v":0},{"$f":"IF(AZ176=3,G176,0)","v":0},{"$f":"IF(AZ176=4,G176,0)","v":0},{"$f":"IF(AZ176=5,G176,0)","v":0},null,null,null,null,null,null,null,null,null,null,null,null,null,null,null,null,null,null,null,null,null,11,1]
[null,"Celkem za","M35.5 Montáže technologie čerpacích stanic a úpraven vod",null,null,null,{"$f":"SUM(G174:G176)","v":0},null,{"$f":"SUM(I174:I176)","v":0},null,{"$f":"SUM(K174:K176)","v":0},null,null,null,4,null,null,null,null,null,null,null,null,null,null,null,null,null,null,null,null,null,null,null,null,null,null,null,null,null,null,null,null,null,null,null,null,null,null,null,null,null,{"$f":"SUM(BA174:BA176)","v":0},{"$f":"SUM(BB174:BB176)","v":0},{"$f":"SUM(BC174:BC176)","v":0},{"$f":"SUM(BD174:BD176)","v":0},{"$f":"SUM(BE174:BE176)","v":0}]

{"sheet":"304RD M21.6 Elektro ČSOV A","index":22,"n_rows":32,"n_cols":8,"rows_kept":32,"cut":false,"hidden":false,"merged":[[31,6,31,7],[4,0,5,0],[4,1,5,1],[4,2,5,2],[4,3,5,3],[4,4,4,5],[4,6,4,7]]}
[null,"3232 Horní Slivno - Splašková kanalizace"]
[null,"SO 304 ČERPACÍ STANICE"]
[null,"SO 304 ČERPACÍ STANICE \"A\" - TECHNOLOGICKÁ ELEKTROINSTALACE"]
[]
["Pol.č.","Popis","MJ","počet MJ","Cena za 1 MJ",null,"Celkem"]
[null,null,null,null,"dodávka","montáž","dodávka","montáž"]
[]
[1,"Rozvaděč RM-A včetně vnitřního vybavení","ks",1,null,null,{"$f":"D8*E8","v":0},{"$f":"D8*F8","v":0}]
[2,"Zásuvka kombinovaná 400VAC/32A/5p a 230VAC/16A nástěnná","ks",1,null,null,{"$f":"D9*E9","v":0},{"$f":"D9*F9","v":0}]
[3,"Montáž převodníku magneticko - indukčního průtokoměru vedle rozvaděče RM-A, protažení kabelů mezi IP a převodníkem včetně připojeni","ks",1,null,null,0,0]
[4,"Ponorná tlaková sonda pro měření výšky hladiny včetně kabelu 10 m, plastové chráničky DN50 a nerezové konzole (např. LMP808, 411-6000-A-1-1-1-1-5-010-000, BD Sensors)","ks",1,null,null,0,0]
[5,"Plovákový spínač hladiny, výstup kontakt (např. MAC3 včetně 10 m kabelu a závaží, HYDROMETRICS)","ks",1,null,null,0,0]
[6,"Magnetický dveřní kontakt (např. SA200, JABLOTRON)","ks",1,null,null,0,0]
[7,"Magnetický dveřní kontakt průmyslový (např. SA204, JABLOTRON)","ks",3,null,null,0,0]
[8,"Svorkovnicková skříň malá pro dveřní kontakt včetně svorek a vývodek","ks",2,null,null,0,0]
[9,"Kabel CYKY J 4x10","m",5,null,null,0,0]
[10,"Kabel CYKY J 5x4","m",5,null,null,0,0]
[10,"Kabel CYKY J 5x2,5","m",15,null,null,0,0]
[11,"Kabel JYTY 4x1,0","m",25,null,null,0,0]
[12,"Korugovaná chránička 63/52","m",10,null,null,0,0]
[13,"Protažení kabelů z čerpací jímky chráničkami, jejich ukončení a připojení","sd",1,null,null,0,0]
[14,"Utěsnění kabelových chrániček na straně jímek i na straně rozvaděče","sd",1,null,null,0,0]
[15,"Ochranné pospojení","sd",1,null,null,0,0]
[16,"Ostatní elektroinstalační a montážní materiál","sd",1,null,null,0,0]
[17,"Výchozí revizní zpráva","sd",1,null,null,0,0]
[18,"Dokumentace skutečného provedení","sd",1,null,null,0,0]
[19,"Zemnící soustava ČSOV-A (obvodový zemnič FeZn 30x4 včetně spojek a ostatního příslušenství)","sd",1,null,null,0,0]
[20,"Naprogramována a nastavení přenosu","sd",1,null,null,0,0]
[21,"Uvedení do provozu, zaškolení obsluhy","sd",1,null,null,0,0]
[]
[null,"Celkem",null,null,null,null,{"$f":"SUM(G7:G30)","v":0},{"$f":"SUM(H7:H30)","v":0}]
[null,"Celkem bez DPH",null,null,null,null,{"$f":"SUM(G31:H31)","v":0}]

{"sheet":"304RD M21.6 Elektro ČSOV C","index":23,"n_rows":32,"n_cols":8,"rows_kept":32,"cut":false,"hidden":false,"merged":[[31,6,31,7],[4,0,5,0],[4,1,5,1],[4,2,5,2],[4,3,5,3],[4,4,4,5],[4,6,4,7]]}
[null,"3232 Horní Slivno - Splašková kanalizace"]
[null,"SO 304 ČERPACÍ STANICE"]
[null,"SO 304 ČERPACÍ STANICE \"C\" - TECHNOLOGICKÁ ELEKTROINSTALACE"]
[]
["Pol.č.","Popis","MJ","počet MJ","Cena za 1 MJ",null,"Celkem"]
[null,null,null,null,"dodávka","montáž","dodávka","montáž"]
[]
[1,"Rozvaděč RM-C včetně vnitřního vybavení","ks",1,null,null,{"$f":"D8*E8","v":0},{"$f":"D8*F8","v":0}]
[2,"Zásuvka kombinovaná 400VAC/32A/5p a 230VAC/16A nástěnná","ks",1,null,null,{"$f":"D9*E9","v":0},{"$f":"D9*F9","v":0}]
[3,"Montáž převodníku magneticko - indukčního průtokoměru vedle rozvaděče RM-C, protažení kabelů mezi IP a převodníkem včetně připojeni","ks",1,null,null,0,0]
[4,"Ponorná tlaková sonda pro měření výšky hladiny včetně kabelu 10 m, plastové chráničky DN50 a nerezové konzole (např. LMP808, 411-6000-A-1-1-1-1-5-010-000, BD Sensors)","ks",1,null,null,0,0]
[5,"Plovákový spínač hladiny, výstup kontakt (např. MAC3 včetně 10 m kabelu a závaží, HYDROMETRICS)","ks",1,null,null,0,0]
[6,"Magnetický dveřní kontakt (např. SA200, JABLOTRON)","ks",1,null,null,0,0]
[7,"Magnetický dveřní kontakt průmyslový (např. SA204, JABLOTRON)","ks",3,null,null,0,0]
[8,"Svorkovnicková skříň malá pro dveřní kontakt včetně svorek a vývodek","ks",2,null,null,0,0]
[9,"Kabel CYKY J 4x10","m",5,null,null,0,0]
[10,"Kabel CYKY J 5x4","m",5,null,null,0,0]
[10,"Kabel CYKY J 5x2,5","m",15,null,null,0,0]
[11,"Kabel JYTY 4x1,0","m",25,null,null,0,0]
[12,"Korugovaná chránička 63/52","m",10,null,null,0,0]
[13,"Protažení kabelů z čerpací jímky chráničkami, jejich ukončení a připojení","sd",1,null,null,0,0]
[14,"Utěsnění kabelových chrániček na straně jímek i na straně rozvaděče","sd",1,null,null,0,0]
[15,"Ochranné pospojení","sd",1,null,null,0,0]
[16,"Ostatní elektroinstalační a montážní materiál","sd",1,null,null,0,0]
[17,"Výchozí revizní zpráva","sd",1,null,null,0,0]
[18,"Dokumentace skutečného provedení","sd",1,null,null,0,0]
[19,"Zemnící soustava ČSOV-C (obvodový zemnič FeZn 30x4 včetně spojek a ostatního příslušenství)","sd",1,null,null,0,0]
[20,"Naprogramována a nastavení přenosu","sd",1,null,null,{"$f":"D28*E28","v":0},{"$f":"D28*F28","v":0}]
[21,"Uvedení do provozu, zaškolení obsluhy","sd",1,null,null,0,0]
[]
[null,"Celkem",null,null,null,null,{"$f":"SUM(G7:G30)","v":0},{"$f":"SUM(H7:H30)","v":0}]
[null,"Celkem bez DPH",null,null,null,null,{"$f":"SUM(G31:H31)","v":0}]

{"sheet":"304RD M35.5 Technologie ČSOV A","index":24,"n_rows":43,"n_cols":9,"rows_kept":43,"cut":false,"hidden":false,"merged":[[6,7,20,7],[6,8,20,8],[42,1,42,5],[6,0,20,0],[6,2,20,2],[6,3,20,3],[6,4,20,4],[6,5,20,5],[6,6,20,6]]}
[null,"3232 Horní Slivno - Splašková kanalizace"]
[null,"SO 304 ČERPACÍ STANICE"]
[null,"SO 304 ČERPACÍ STANICE \"A\" - Technologie"]
["Položka","      Popis","Měr.","Množ.","Jednotková cena (Kč)",null,"Cena dodávka","Cena montáž","Cena bez"]
[null,"Podrobná technická specifikace zařízení a dodávek viz Technická zpráva a výkresová dokumentace","jedn.",null,"dodávka","montáž","Kč"," Kč","DPH v Kč"]
[null,"Stroje"]
[{"$f":"A6+1","v":1},"Záplavné čerpadlo D03U-SHH3+DEXQ2-GSEQ1AA+NC1B1NA-10-13,0kW","Soubor","2",null,null,{"$f":"E7*D7","v":0},{"$f":"F7*D7","v":0},{"$f":"E7*D7+F7*D7","v":0}]
[null,"Součástí dodávky sestavy dvou čerpadel je:"]
[null,"Vodící brýle  AS-03/03Q - 2 kusy"]
[null,"Předrotační nádrž 1480 - PREROCLEAN Borna - 1 sada  - pol. H"]
[null,"Set PreroClean BORNA obsahuje: "]
[null,"1x Předrotaþní nádrž: sklolaminát "]
[null,"2x Patkové koleno DN 100"]
[null,"2x Horní držák vodících trubek "]
[null,"Provedení: nerez "]
[null,"Bez vodících trubek a kotevního materiálu "]
[null,"Sací trychtýř ST DN100 (L=380mm) - 2 kusy"]
[null,"Redukce patkového kolena z DN100 na DN80 pro PreroClean 1480  - 2 kusy"]
[null,"Řetězy z korozivzdorné oceli V4A  Řetěz ø 8 mm - 2 kusy nerezových řetězů v délce 6m,  - celkem 12 m, včetně závěsu po 1m "]
[null,"Nerezový šekl  Šekl Ω ø 8 mm - 2 kusy"]
[null,"Vyhodnocovací relé vlhkosti  - 2 kusy"]
[2,"Spouštěcím zařízení pro čerpadla s vodícími trubkami z nerez. oceli dl. 4,00m","soubor","2",null,null,{"$f":"SUM(D22*E22)","v":0},{"$f":"SUM(D22*F22)","v":0},{"$f":"SUM(G22:H22)","v":0}]
[3,"Kompresor pro provzdušnění odpadní vody ve výtlaku za účelem eliminace sulfid. Stacionární nebo přenosný kompresor s kapacitou min. 220 l/min a tlakem 0,6 MPa. Vzduchovací hadice od kompresoru bude napojena na odbočku (návarek) TP kusu před výstupem výtlaku z armaturní šachty.","soubor","1",null,null,{"$f":"SUM(D23*E23)","v":0},{"$f":"SUM(D23*F23)","v":0},{"$f":"SUM(G23:H23)","v":0}]
[null,"Tvarovky a armatury"]
[null,"Tvárná litina"]
[4,"Příruba jištěná proti posunu pro PE potrubí, DN80/d90 PN16","kus","1",null,null,0,0,0]
[5,"Zpětná klapka pro kanalizace, DN80 PN16","kus","2",null,null,0,0,0]
[null,"Nerez ocel 17 240"]
[6,"Česlicový koš, nerez ocel 17 240 + vodící tyče","soubor","1",null,null,0,0,0]
[7,"Nerezové kanalizační hradítko DN300","soubor","1",null,null,0,0,0]
[8,"T Kus, DN80/2“ vnější závit dl.300x100mm PN16","soubor","2",null,null,0,0,0]
[9,"TP Kus, DN80 dl.230mm PN16","soubor","1",null,null,0,0,0]
[10,"TP Kus, DN80 dl.1312mm PN16","soubor","1",null,null,0,0,0]
[11,"Koleno 90° s patkou, DN80 PN16","kus","2",null,null,0,0,0]
[12,"Atyp. TP Kus (TP Kus + 2x Koleno 45°), DN80 dl.1312mm PN16","soubor","1",null,null,0,0,0]
[13,"Atyp. Tvarovka (T Kus + Koleno 90°), DN80 400x170x170mm PN16","soubor","1",null,null,0,0,0]
[14,"Atyp. Koleno 90°, DN80 dl.1584x158mm PN16","soubor","2",null,null,0,0,0]
[15,"Rychlospojka C, 2“ vnitřní závit","kus","2",null,null,0,0,0]
[16,"Spojovací nerez materiál (šrouby, matky, podložky, těsnění,….)","soubor","1",null,null,0,0,0]
[17,"Deskové šoupě pro odpadní vodu, DN80 PN16 + ruční kolo","kus","3",null,null,0,0,0]
[18,"Kulový kohout, DN 2“ vnitřní závit PN16","kus","2",null,null,0,0,0]
[19,"Indukční průtokoměr, DN80 dl. 200mm PN16 s výstupem napojeným na GSM modul pro přenos dat. ","soubor","1",null,null,0,0,0]
[null,"CE L K E M",null,null,null,null,{"$f":"SUM(G7:G42)","v":0},{"$f":"SUM(H7:H42)","v":0},0]

{"sheet":"304RD M35.5 Technologie ČSOV C","index":25,"n_rows":43,"n_cols":9,"rows_kept":43,"cut":false,"hidden":false,"merged":[[6,7,20,7],[6,8,20,8],[42,1,42,5],[6,0,20,0],[6,2,20,2],[6,3,20,3],[6,4,20,4],[6,5,20,5],[6,6,20,6]]}
[null,"3232 Horní Slivno - Splašková kanalizace"]
[null,"SO 304 ČERPACÍ STANICE"]
[null,"SO 304 ČERPACÍ STANICE \"C\" - Technologie"]
["Položka","      Popis","Měr.","Množ.","Jednotková cena (Kč)",null,"Cena dodávka","Cena montáž","Cena bez"]
[null,"Podrobná technická specifikace zařízení a dodávek viz Technická zpráva a výkresová dokumentace","jedn.",null,"dodávka","montáž","Kč"," Kč","DPH v Kč"]
[null,"Stroje"]
[{"$f":"A6+1","v":1},"Záplavné čerpadlo C03U-MHN3+CEYT2-GSEQ1AA+NA1B1OM-10-7kW","Soubor","2",null,null,{"$f":"E7*D7","v":0},{"$f":"F7*D7","v":0},{"$f":"E7*D7+F7*D7","v":0}]
[null,"Součástí dodávky sestavy dvou čerpadel je:"]
[null,"Vodící brýle  AS-03/03Q - 2 kusy"]
[null,"Předrotační nádrž 1480 - PREROCLEAN Borna - 1 sada  - pol. H"]
[null,"Set PreroClean BORNA obsahuje: "]
[null,"1x Předrotaþní nádrž: sklolaminát "]
[null,"2x Patkové koleno DN 100"]
[null,"2x Horní držák vodících trubek "]
[null,"Provedení: nerez "]
[null,"Bez vodících trubek a kotevního materiálu "]
[null,"Sací trychtýř ST DN100 (L=380mm) - 2 kusy"]
[null,"Redukce patkového kolena z DN100 na DN80 pro PreroClean 1480  - 2 kusy"]
[null,"Řetězy z korozivzdorné oceli V4A  Řetěz ø 8 mm - 2 kusy nerezových řetězů v délce 6m,  - celkem 12 m, včetně závěsu po 1m "]
[null,"Nerezový šekl  Šekl Ω ø 8 mm - 2 kusy"]
[null,"Vyhodnocovací relé vlhkosti  - 2 kusy"]
[2,"Spouštěcím zařízení pro čerpadla s vodícími trubkami z nerez. oceli dl. 6,00m","soubor","2",null,null,{"$f":"SUM(D22*E22)","v":0},{"$f":"SUM(D22*F22)","v":0},{"$f":"SUM(G22:H22)","v":0}]
[3,"Kompresor pro provzdušnění odpadní vody ve výtlaku za účelem eliminace sulfid. Stacionární nebo přenosný kompresor s kapacitou min. 220 l/min a tlakem 0,6 MPa. Vzduchovací hadice od kompresoru bude napojena na odbočku (návarek) TP kusu před výstupem výtlaku z armaturní šachty.","soubor","1",null,null,{"$f":"SUM(D23*E23)","v":0},{"$f":"SUM(D23*F23)","v":0},{"$f":"SUM(G23:H23)","v":0}]
[null,"Tvarovky a armatury"]
[null,"Tvárná litina"]
[4,"Příruba jištěná proti posunu pro PE potrubí, DN80/d90 PN16","kus","1",null,null,0,0,0]
[5,"Zpětná klapka pro kanalizace, DN80 PN16","kus","2",null,null,0,0,0]
[null,"Nerez ocel 17 240"]
[6,"Česlicový koš, nerez ocel 17 240 + vodící tyče","soubor","1",null,null,0,0,0]
[7,"Nerezové kanalizační hradítko DN300","soubor","1",null,null,0,0,0]
[8,"T Kus, DN80/2“ vnější závit dl.300x100mm PN16","soubor","2",null,null,0,0,0]
[9,"TP Kus, DN80 dl.230mm PN16","soubor","1",null,null,0,0,0]
[10,"TP Kus, DN80 dl.1312mm PN16","soubor","1",null,null,0,0,0]
[11,"Koleno 90° s patkou, DN80 PN16","kus","2",null,null,0,0,0]
[12,"Atyp. TP Kus (TP Kus + 2x Koleno 45°), DN80 dl.1312mm PN16","soubor","1",null,null,0,0,0]
[13,"Atyp. Tvarovka (T Kus + Koleno 90°), DN80 400x170x170mm PN16","soubor","1",null,null,0,0,0]
[14,"Atyp. Koleno 90°, DN80 dl.3884x158mm PN16","soubor","2",null,null,0,0,0]
[15,"Rychlospojka C, 2“ vnitřní závit","kus","2",null,null,0,0,0]
[16,"Spojovací nerez materiál (šrouby, matky, podložky, těsnění,….)","soubor","1",null,null,0,0,0]
[17,"Deskové šoupě pro odpadní vodu, DN80 PN16 + ruční kolo","kus","3",null,null,0,0,0]
[18,"Kulový kohout, DN 2“ vnitřní závit PN16","kus","2",null,null,0,0,0]
[19,"Indukční průtokoměr, DN80 dl. 200mm PN16 s výstupem napojeným na GSM modul pro přenos dat. ","soubor","1",null,null,0,0,0]
[null,"CE L K E M",null,null,null,null,{"$f":"SUM(G7:G42)","v":0},{"$f":"SUM(H7:H42)","v":0},0]

{"sheet":"305 305RD KL","index":26,"n_rows":45,"n_cols":8,"rows_kept":45,"cut":false,"hidden":false,"merged":[[22,0,22,1],[7,2,7,4],[8,2,8,4],[9,2,9,4],[10,2,10,4],[11,2,11,4],[50,1,50,6],[29,5,29,6],[30,5,30,6],[31,5,31,6],[32,5,32,6],[33,5,33,6],[36,1,44,6],[45,1,45,6],[46,1,46,6],[47,1,47,6],[48,1,48,6],[49,1,49,6]]}
["POLOŽKOVÝ ROZPOČET"]
["Rozpočet",null,"305RD","Kabelové přípojky NN",null,"JKSO ","828.13"]
[]
["Objekt",null,null,null,null,"SKP "]
["305",null,"Kabelové přípojky NN",null,null,"Měrná jednotka","m"]
["Stavba",null,null,null,null,"Počet jednotek",0]
["3232",null,"Horní Slivno - Splašková kanalizace",null,null,"Náklady na m.j.",{"$f":"IF(G6=0,,ROUND((F30+F32)/G6,1))","v":0}]
["Projektant",null,"Radek Hnát - VAK PROJEKT",null,null,"Typ rozpočtu"]
["Zpracovatel projektu"]
["Objednatel",null,"Obec Horní Slivno"]
["Dodavatel",null,".",null,null,"Zakázkové číslo "]
["Rozpočtoval",null,null,null,null,"Počet listů"]
["ROZPOČTOVÉ NÁKLADY"]
["Základní rozpočtové náklady"]
[null,"HSV celkem",{"$f":"'305 305RD Rek'!E8","v":0}]
["Z","PSV celkem",{"$f":"'305 305RD Rek'!F8","v":0}]
["R","M práce celkem",{"$f":"'305 305RD Rek'!H8","v":0}]
["N","M dodávky celkem",{"$f":"'305 305RD Rek'!G8","v":0}]
["ZRN celkem",null,{"$f":"SUM(C15:C18)","v":0}]
[]
["HZS",null,{"$f":"'305 305RD Rek'!I8","v":0}]
["ZRN+HZS",null,{"$f":"C19+C21","v":0}]
["ZRN+ost.náklady+HZS",null,{"$f":"C22+G23","v":0}]
["Vypracoval",null,null,"Za zhotovitele",null,"Za objednatele"]
["Jméno :",null,null,"Jméno :",null,"Jméno :"]
["Datum :",null,null,"Datum :",null,"Datum :"]
[]
["Podpis :",null,null,"Podpis:",null,"Podpis:"]
[]
["Základ pro DPH",null,21,"%  ",null,{"$f":"C23-F32","v":0}]
["DPH",null,{"$f":"C30","v":21},"% ",null,{"$f":"ROUND(PRODUCT(F30,C31/100),0)","v":0}]
["Základ pro DPH",null,0,"% ",null,0]
["DPH",null,{"$f":"C32","v":0},"% ",null,{"$f":"ROUND(PRODUCT(F32,C33/100),0)","v":0}]
["CENA ZA OBJEKT CELKEM",null,null,null,null,{"$f":"ROUND(SUM(F30:F33),0)","v":0}]
[]
["Poznámka :",null,null,null,null,null,null," "]
[null,null,null,null,null,null,null," "]
[null,null,null,null,null,null,null," "]
[null,null,null,null,null,null,null," "]
[null,null,null,null,null,null,null," "]
[null,null,null,null,null,null,null," "]
[null,null,null,null,null,null,null," "]
[null,null,null,null,null,null,null," "]
[null,null,null,null,null,null,null," "]
[null,null,null,null,null,null,null," "]

{"sheet":"305 305RD Rek","index":27,"n_rows":8,"n_cols":9,"rows_kept":8,"cut":false,"hidden":false,"merged":[[0,0,0,1],[1,0,1,1],[1,6,1,8]]}
["Stavba :",null,"3232 Horní Slivno - Splašková kanalizace",null,null,null,"Rozpočet :","305RD"]
["Objekt :",null,"305 Kabelové přípojky NN",null,null,null,"Kabelové přípojky NN"]
[]
["REKAPITULACE  STAVEBNÍCH  DÍLŮ"]
[]
[null,"Stavební díl",null,null,"HSV","PSV","Dodávka","Montáž","HZS"]
[{"$f":"'305 305RD Pol'!B7","v":"M21"},{"$f":"'305 305RD Pol'!C7","v":"Elektromontáže"},null,null,{"$f":"'305 305RD Pol'!BA10","v":0},{"$f":"'305 305RD Pol'!BB10","v":0},{"$f":"'305 305RD Pol'!BC10","v":0},{"$f":"'305 305RD Pol'!BD10","v":0},{"$f":"'305 305RD Pol'!BE10","v":0}]
[null,"CELKEM  OBJEKT",null,null,{"$f":"SUM(E7:E7)","v":0},{"$f":"SUM(F7:F7)","v":0},{"$f":"SUM(G7:G7)","v":0},{"$f":"SUM(H7:H7)","v":0},{"$f":"SUM(I7:I7)","v":0}]

{"sheet":"305 305RD Pol","index":28,"n_rows":10,"n_cols":80,"rows_kept":10,"cut":false,"hidden":false,"merged":[[0,0,0,6],[2,0,2,1],[3,0,3,1],[3,4,3,6]]}
["Položkový rozpočet "]
[]
["Stavba :",null,"3232 Horní Slivno - Splašková kanalizace",null,"Rozpočet:",{"$f":"'305 305RD Rek'!H1","v":"305RD"}]
["Objekt :",null,"305 Kabelové přípojky NN",null,{"$f":"'305 305RD Rek'!G2","v":"Kabelové přípojky NN"}]
[]
["P.č.","Číslo položky","Název položky","MJ","množství","cena / MJ","celkem (Kč)","Jednotková hmotnost","Celková hmotnost","Jednotková dem.hmot.","Celková dem.hmot."]
["Díl:","M21","Elektromontáže",null,null,null,null,null,null,null,null,null,null,null,1]
[1,"210100010RR1","Přípojka elektro v zemi (chránička) dle PD Pro ČSOV - A (samostatný výkaz)","soubor",1,{"$f":"SUM('305RD M21 Rek. elektro ČSOV A'!F25)","v":0},{"$f":"E8*F8","v":0},0,{"$f":"E8*H8","v":0},null,{"$f":"E8*J8","v":0},null,null,null,2,null,null,null,null,null,null,null,null,null,null,null,11,1,1,null,null,null,null,null,null,null,null,null,null,null,null,null,null,null,null,null,null,null,null,null,null,4,{"$f":"IF(AZ8=1,G8,0)","v":0},{"$f":"IF(AZ8=2,G8,0)","v":0},{"$f":"IF(AZ8=3,G8,0)","v":0},{"$f":"IF(AZ8=4,G8,0)","v":0},{"$f":"IF(AZ8=5,G8,0)","v":0},null,null,null,null,null,null,null,null,null,null,null,null,null,null,null,null,null,null,null,null,null,11,1]
[2,"210100010RR2","Přípojka elektro v zemi (chránička) dle PD Pro ČSOV - C (samostatný výkaz)","soubor",1,{"$f":"SUM('305RS M21 Rek. elektro ČSOV C'!F25)","v":0},{"$f":"E9*F9","v":0},0,{"$f":"E9*H9","v":0},null,{"$f":"E9*J9","v":0},null,null,null,2,null,null,null,null,null,null,null,null,null,null,null,11,1,2,null,null,null,null,null,null,null,null,null,null,null,null,null,null,null,null,null,null,null,null,null,null,4,{"$f":"IF(AZ9=1,G9,0)","v":0},{"$f":"IF(AZ9=2,G9,0)","v":0},{"$f":"IF(AZ9=3,G9,0)","v":0},{"$f":"IF(AZ9=4,G9,0)","v":0},{"$f":"IF(AZ9=5,G9,0)","v":0},null,null,null,null,null,null,null,null,null,null,null,null,null,null,null,null,null,null,null,null,null,11,1]
[null,"Celkem za","M21 Elektromontáže",null,null,null,{"$f":"SUM(G7:G9)","v":0},null,{"$f":"SUM(I7:I9)","v":0},null,{"$f":"SUM(K7:K9)","v":0},null,null,null,4,null,null,null,null,null,null,null,null,null,null,null,null,null,null,null,null,null,null,null,null,null,null,null,null,null,null,null,null,null,null,null,null,null,null,null,null,null,{"$f":"SUM(BA7:BA9)","v":0},{"$f":"SUM(BB7:BB9)","v":0},{"$f":"SUM(BC7:BC9)","v":0},{"$f":"SUM(BD7:BD9)","v":0},{"$f":"SUM(BE7:BE9)","v":0}]

{"sheet":"305RD M21 Rek. elektro ČSOV A","index":29,"n_rows":25,"n_cols":8,"rows_kept":25,"cut":false,"hidden":false,"merged":[]}
[null,"3232 Horní Slivno - Splašková kanalizace"]
[null,"IO305 - Kabelové přípojky nn"]
[null,"Přípojka k ČSOV - A"]
[]
["Rekapitulace ceny"]
["p.č.",null,null,"%","základ","cena /Kč/"]
[1,"dodávky zařízení",null,null,null,{"$f":"SUM('305RD M21 elektro ČSOV A'!G9)","v":0},null,9]
[2,"doprava dodávek",null,3.6,{"$f":"SUM(F7:F7)","v":0},{"$f":"D8*E8/100","v":0},null,10]
[3,"přesun dodávek",null,1,{"$f":"SUM(F7:F7)","v":0},{"$f":"D9*E9/100","v":0},null,12]
[4,"materiál elektromontážní",null,null,null,{"$f":"SUM('305RD M21 elektro ČSOV A'!G18)","v":0},null,13]
[5,"prořez",null,5,{"$f":"SUM('305RD M21 elektro ČSOV A'!G11:G13)","v":0},{"$f":"D11*E11/100","v":0},null,14]
[6,"materiál podružný",null,3,{"$f":"SUM(F10:F10)","v":0},{"$f":"D12*E12/100","v":0},null,15]
[7,"materiál zemní+stavební",null,null,null,{"$f":"SUM('305RD M21 elektro ČSOV A'!G22)","v":0},null,17]
[8,"elektromontáže",null,null,null,{"$f":"SUM('305RD M21 elektro ČSOV A'!G36)","v":0},{"$f":"SUM(F10:F12)","v":0},18]
[9,"zemní práce",null,null,null,{"$f":"SUM('305RD M21 elektro ČSOV A'!G46)","v":0},{"$f":"SUM(F13:F13)","v":0},21]
[10,"PPV pro elektromontáže",null,1,{"$f":"SUM(F14:G14)","v":0},{"$f":"D16*E16/100","v":0},null,22]
[11,"PPV pro zemní práce",null,1,{"$f":"SUM(F15:G15)","v":0},{"$f":"D17*E17/100","v":0},null,23]
[12,"dodávky celkem",null,null,null,{"$f":"SUM(F7:F8)","v":0},null,25]
[13,"materiál+výkony celkem",null,null,null,{"$f":"SUM(F9:F17)","v":0},null,26]
[14,"ostatní náklady",null,null,null,{"$f":"SUM('305RD M21 elektro ČSOV A'!G50)","v":0},null,27]
[15,"MEZISOUČET 1",null,null,null,{"$f":"SUM(F18:F20)","v":0},{"$f":"SUM(F21:F21)","v":0},28]
[16,"revize",null,null,null,0,null,36]
[17,"komplexní zkoušky",null,null,null,0,null,37]
[18,"MEZISOUČET 2",null,null,null,{"$f":"SUM(F22:F23)","v":0},{"$f":"SUM(F24:F24)","v":0},41]
[19,"CELKEM BEZ DPH (Kč)",null,null,null,{"$f":"SUM(F21+F24)","v":0},null,48]

{"sheet":"305RD M21 elektro ČSOV A","index":30,"n_rows":50,"n_cols":14,"rows_kept":50,"cut":false,"hidden":false,"merged":[]}
[null,"3232 Horní Slivno - Splašková kanalizace"]
[null,"IO305 - Kabelové přípojky nn"]
[null,"Přípojka k ČSOV - A"]
[]
["Soupis položek"]
["p.č.","č.položky","popis položky","mj.","množství","cena/mj.     ","cena celkem","Nh/mj.","Nh celkem","DPH","VKP","TC","kap.","prořez"]
["Dodávky zařízení"]
[1,1,"EL.ROZVADEC ER 112/3F/50A VESTAV.","ks",1,null,{"$f":"E8*F8","v":0},0,{"$f":"E8*H8","v":0},"S","*",null,"DE"]
[null,null,"součet",null,null,null,{"$f":"SUM(G8:G8)","v":0},null,{"$f":"SUM(I8:I8)","v":0},null,null,null,"DE"]
["Materiál elektromontážní"]
[2,101210,"kabel CYKY 4x16","m",225,null,{"$f":"E11*F11","v":0},0,{"$f":"E11*H11","v":0},"S","*",null,"ME",{"$f":"E11*F11","v":0}]
[3,321501,"roura korugovaná KOPOFLEX KF09050 pr.50/41mm","m",223,null,0,0,0,"S","*",null,"ME",{"$f":"E12*F12","v":0}]
[4,295001,"vedení FeZn 30/4 (0,96kg/m)","m",50,null,0,0,0,"S","*",null,"ME",{"$f":"E13*F13","v":0}]
[5,295072,"svorka pásku zemnící SR2d 2šrouby FeZn","ks",2,null,0,0,0,"S","*",null,"ME"]
[6,312011,"krabice KSK125/IP66 125","ks",1,null,0,0,0,"S","*",null,"ME"]
[7,60071,"OEZ POJISTKA NOŽOVÁ PNA1  63A GG","ks",3,null,0,0,0,"S","*",null,"ME"]
[8,435028,"jistič LTN-50B-3 3pól/ch.B/ 50A/10kA","ks",1,null,0,0,0,"S","*",null,"ME"]
[null,null,"součet",null,null,null,{"$f":"SUM(G11:G17)","v":0},null,{"$f":"SUM(I11:I17)","v":0},null,null,null,"ME",{"$f":"SUM(N4:N17)","v":0}]
["Materiál zemní+stavební"]
[9,46114,"písek kopaný 0-2mm","m3",15.4,null,{"$f":"E20*F20","v":0},0,{"$f":"E20*H20","v":0},"S",null,null,"MZ"]
[10,46383,"výstražná fólie šířka 0,34m","m",220,null,{"$f":"E21*F21","v":0},0,{"$f":"E21*H21","v":0},"S",null,null,"MZ"]
[null,null,"součet",null,null,null,{"$f":"SUM(G20:G21)","v":0},null,{"$f":"SUM(I20:I21)","v":0},null,null,null,"MZ"]
["Elektromontáže"]
[11,210810081,"kabel Cu(-1kV CYKY) volně uložený do 3x35/4x25","m",225,null,{"$f":"E24*F24","v":0},null,null,"S",null,null,"CE"]
[12,210100212,"ukončení kabelu do 4x16","ks",2,null,0,null,null,"S","*",null,"CE"]
[13,210010123,"trubka plast volně uložená do pr.50mm","m",223,null,0,null,null,"S",null,null,"CE"]
[14,210950202,"příplatek na zatažení do prostupu kabel do 2kg","m",223,null,0,null,null,"S","*",null,"CE"]
[15,210220021,"uzemňov.vedení v zemi úplná mtž FeZn do 120mm2","m",50,null,0,null,null,"S",null,null,"CE"]
[16,210220301,"svorka hromosvodová do 2 šroubů","ks",2,null,0,null,null,"S","*",null,"CE"]
[17,210220441,"ochrana zemní svorky asfaltovým nátěrem","ks",2,null,0,null,null,"S","*",null,"CE"]
[18,210010453,"krabice plast pro P rozvod","ks",1,null,0,null,null,"S",null,null,"CE"]
[19,210190001,"rozvodnice do hmotnosti 20kg","ks",1,null,0,null,null,"S","*",null,"CE"]
[20,210292022,"vypnutí hlavn vedení vč.zajištění+vyzkouš+označení","ks",1,null,0,null,null,"Z","*",null,"CE"]
[21,210290481,"pojistkové patrony nožové do 600A","ks",3,null,0,null,null,"Z","*",null,"CE"]
[22,210120452,"jistič vč.zapojení 3pól/63A","ks",1,null,0,null,null,"S",null,null,"CE"]
[null,null,"součet",null,null,null,{"$f":"SUM(G24:G35)","v":0},null,null,null,null,null,"CE"]
["Zemní práce"]
[23,460010023,"vytyčení trasy kabelu ve volném terénu vč.mater","km",0.22,null,{"$f":"E38*F38","v":0},null,null,"S","*",null,"CZ"]
[24,460200163,"výkop kabel.rýhy šířka 35/hloubka 80cm tz.3/ko1.5","m",220,null,0,null,null,"S","*",null,"CZ"]
[25,460420022,"kabelové lože 2x10cm kopaný písek šířka do 65cm","m",220,null,0,null,null,"S",null,null,"CZ"]
[26,460490012,"výstražná fólie šířka nad 30cm","m",220,null,0,null,null,"S",null,null,"CZ"]
[27,460560163,"zához kabelové rýhy šířka 35/hloubka 80cm tz.3","m",220,null,0,null,null,"S",null,null,"CZ"]
[28,460600001,"odvoz zeminy do 10km vč.poplatku za skládku","m3",15.4,null,0,null,null,"S",null,null,"CZ"]
[29,460620013,"provizorní úprava terénu třída zeminy 3","m2",77,null,0,null,null,"S",null,null,"CZ"]
[30,460300006,"hutnění zeminy po vrstvách při strojním záhrnu","m3",61.6,null,0,null,null,"S","*",null,"CZ"]
[null,null,"součet",null,null,null,{"$f":"SUM(G38:G45)","v":0},null,null,null,null,null,"CZ"]
["Ostatní náklady"]
[31,460710001,"geodetické zaměření skutečné polohy","m",220,null,{"$f":"E48*F48","v":0},null,null,"S","*",null,"ON"]
[32,219000104,"zajištění smlouvy k odběru el. energie","kpl.",1,null,{"$f":"E49*F49","v":0},null,null,"S","*",null,"ON"]
[null,null,"součet",null,null,null,{"$f":"SUM(G48:G49)","v":0},null,null,null,null,null,"ON"]

{"sheet":"305RS M21 Rek. elektro ČSOV C","index":31,"n_rows":25,"n_cols":8,"rows_kept":25,"cut":false,"hidden":false,"merged":[]}
[null,"3232 Horní Slivno - Splašková kanalizace"]
[null,"IO305 - Kabelové přípojky nn"]
[null,"Přípojka k ČSOV - C"]
[]
["Rekapitulace ceny"]
["p.č.",null,null,"%","základ","cena /Kč/"]
[1,"dodávky zařízení",null,null,null,{"$f":"SUM('305RD M21 elektro ČSOV C'!G9)","v":0},null,9]
[2,"doprava dodávek",null,3.6,{"$f":"SUM(F7:F7)","v":0},{"$f":"D8*E8/100","v":0},null,10]
[3,"přesun dodávek",null,1,{"$f":"SUM(F7:F7)","v":0},{"$f":"D9*E9/100","v":0},null,12]
[4,"materiál elektromontážní",null,null,null,{"$f":"SUM('305RD M21 elektro ČSOV C'!G18)","v":0},null,13]
[5,"prořez",null,5,{"$f":"SUM('305RD M21 elektro ČSOV C'!G11:G13)","v":0},{"$f":"D11*E11/100","v":0},null,14]
[6,"materiál podružný",null,3,{"$f":"SUM(F10:F10)","v":0},{"$f":"D12*E12/100","v":0},null,15]
[7,"materiál zemní+stavební",null,null,null,{"$f":"SUM('305RD M21 elektro ČSOV C'!G22)","v":0},null,17]
[8,"elektromontáže",null,null,null,{"$f":"SUM('305RD M21 elektro ČSOV C'!G36)","v":0},{"$f":"SUM(F10:F12)","v":0},18]
[9,"zemní práce",null,null,null,{"$f":"SUM('305RD M21 elektro ČSOV C'!G46)","v":0},{"$f":"SUM(F13:F13)","v":0},21]
[10,"PPV pro elektromontáže",null,1,{"$f":"SUM(F14:G14)","v":0},{"$f":"D16*E16/100","v":0},null,22]
[11,"PPV pro zemní práce",null,1,{"$f":"SUM(F15:G15)","v":0},{"$f":"D17*E17/100","v":0},null,23]
[12,"dodávky celkem",null,null,null,{"$f":"SUM(F7:F8)","v":0},null,25]
[13,"materiál+výkony celkem",null,null,null,{"$f":"SUM(F9:F17)","v":0},null,26]
[14,"ostatní náklady",null,null,null,{"$f":"SUM('305RD M21 elektro ČSOV C'!G50)","v":0},null,27]
[15,"MEZISOUČET 1",null,null,null,{"$f":"SUM(F18:F20)","v":0},{"$f":"SUM(F21:F21)","v":0},28]
[16,"revize",null,null,null,0,null,36]
[17,"komplexní zkoušky",null,null,null,0,null,37]
[22,"MEZISOUČET 2",null,null,null,{"$f":"SUM(F22:F23)","v":0},{"$f":"SUM(F24:F24)","v":0},41]
[23,"CELKEM BEZ DPH (Kč)",null,null,null,{"$f":"F21+F24","v":0},null,48]

{"sheet":"305RD M21 elektro ČSOV C","index":32,"n_rows":50,"n_cols":14,"rows_kept":50,"cut":false,"hidden":false,"merged":[]}
[null,"3232 Horní Slivno - Splašková kanalizace"]
[null,"IO305 - Kabelové přípojky nn"]
[null,"Přípojka k ČSOV - C"]
[]
["Soupis položek"]
["p.č.","č.položky","popis položky","mj.","množství","cena/mj.     ","cena celkem","Nh/mj.","Nh celkem","DPH","VKP","TC","kap.","prořez"]
["Dodávky zařízení"]
[1,1,"EL.ROZVADEC ER 112/3F/25A VESTAV.","ks",1,null,{"$f":"E8*F8","v":0},0,{"$f":"E8*H8","v":0},"S","*",null,"DE"]
[null,null,"součet",null,null,null,{"$f":"SUM(G8:G8)","v":0},null,{"$f":"SUM(I8:I8)","v":0},null,null,null,"DE"]
["Materiál elektromontážní"]
[2,101210,"kabel CYKY 4x16","m",45,null,{"$f":"E11*F11","v":0},0,{"$f":"E11*H11","v":0},"S","*",null,"ME",{"$f":"E11*F11","v":0}]
[3,321501,"roura korugovaná KOPOFLEX KF09050 pr.50/41mm","m",43,null,0,0,0,"S","*",null,"ME",{"$f":"E12*F12","v":0}]
[4,295001,"vedení FeZn 30/4 (0,96kg/m)","m",40,null,0,0,0,"S","*",null,"ME",{"$f":"E13*F13","v":0}]
[5,295072,"svorka pásku zemnící SR2d 2šrouby FeZn","ks",2,null,0,0,0,"S","*",null,"ME"]
[6,312011,"krabice KSK125/IP66 125","ks",1,null,0,0,0,"S","*",null,"ME"]
[7,60071,"OEZ POJISTKA NOŽOVÁ PNA1  63A GG","ks",3,null,0,0,0,"S","*",null,"ME"]
[8,435025,"jistič LTN-25B-3 3pól/ch.B/ 25A/10kA","ks",18,null,0,0,0,"S","*",null,"ME"]
[null,null,"součet",null,null,null,{"$f":"SUM(G11:G17)","v":0},null,{"$f":"SUM(I11:I17)","v":0},null,null,null,"ME",{"$f":"SUM(N3:N17)","v":0}]
["Materiál zemní+stavební"]
[9,46114,"písek kopaný 0-2mm","m3",2.8,null,{"$f":"E20*F20","v":0},0,{"$f":"E20*H20","v":0},"S",null,null,"MZ"]
[10,46383,"výstražná fólie šířka 0,34m","m",40,null,{"$f":"E21*F21","v":0},0,{"$f":"E21*H21","v":0},"S",null,null,"MZ"]
[null,null,"součet",null,null,null,{"$f":"SUM(G20:G21)","v":0},null,{"$f":"SUM(I20:I21)","v":0},null,null,null,"MZ"]
["Elektromontáže"]
[11,210810081,"kabel Cu(-1kV CYKY) volně uložený do 3x35/4x25","m",45,null,{"$f":"E24*F24","v":0},null,null,"S",null,null,"CE"]
[12,210100212,"ukončení kabelu do 4x16","ks",2,null,0,null,null,"S","*",null,"CE"]
[13,210010123,"trubka plast volně uložená do pr.50mm","m",43,null,0,null,null,"S",null,null,"CE"]
[14,210950202,"příplatek na zatažení do prostupu kabel do 2kg","m",43,null,0,null,null,"S","*",null,"CE"]
[15,210220021,"uzemňov.vedení v zemi úplná mtž FeZn do 120mm2","m",40,null,0,null,null,"S",null,null,"CE"]
[16,210220301,"svorka hromosvodová do 2 šroubů","ks",2,null,0,null,null,"S","*",null,"CE"]
[17,210220441,"ochrana zemní svorky asfaltovým nátěrem","ks",2,null,0,null,null,"S","*",null,"CE"]
[18,210010453,"krabice plast pro P rozvod","ks",1,null,0,null,null,"S",null,null,"CE"]
[19,210190001,"rozvodnice do hmotnosti 20kg","ks",1,null,0,null,null,"S","*",null,"CE"]
[20,210292022,"vypnutí hlavn vedení vč.zajištění+vyzkouš+označení","ks",1,null,0,null,null,"Z","*",null,"CE"]
[21,210290481,"pojistkové patrony nožové do 600A","ks",3,null,0,null,null,"Z","*",null,"CE"]
[22,210120451,"jistič vč.zapojení 3pól/25A","ks",1,null,0,null,null,"S",null,null,"CE"]
[null,null,"součet",null,null,null,{"$f":"SUM(G24:G35)","v":0},null,null,null,null,null,"CE"]
["Zemní práce"]
[23,460010023,"vytyčení trasy kabelu ve volném terénu vč.mater","km",0.04,null,{"$f":"E38*F38","v":0},null,null,"S","*",null,"CZ"]
[24,460200163,"výkop kabel.rýhy šířka 35/hloubka 80cm tz.3/ko1.5","m",40,null,0,null,null,"S","*",null,"CZ"]
[25,460420022,"kabelové lože 2x10cm kopaný písek šířka do 65cm","m",40,null,0,null,null,"S",null,null,"CZ"]
[26,460490012,"výstražná fólie šířka nad 30cm","m",40,null,0,null,null,"S",null,null,"CZ"]
[27,460560163,"zához kabelové rýhy šířka 35/hloubka 80cm tz.3","m",40,null,0,null,null,"S",null,null,"CZ"]
[28,460600001,"odvoz zeminy do 10km vč.poplatku za skládku","m3",2.8,null,0,null,null,"S",null,null,"CZ"]
[29,460620013,"provizorní úprava terénu třída zeminy 3","m2",14,null,0,null,null,"S",null,null,"CZ"]
[30,460300006,"hutnění zeminy po vrstvách při strojním záhrnu","m3",11.2,null,0,null,null,"S","*",null,"CZ"]
[null,null,"součet",null,null,null,{"$f":"SUM(G38:G45)","v":0},null,null,null,null,null,"CZ"]
["Ostatní náklady"]
[31,460710001,"geodetické zaměření skutečné polohy","m",40,null,{"$f":"E48*F48","v":0},null,null,"S","*",null,"ON"]
[32,219000104,"zajištění smlouvy k odběru el. energie","kpl.",1,null,{"$f":"E49*F49","v":0},null,null,"S","*",null,"ON"]
[null,null,"součet",null,null,null,{"$f":"SUM(G48:G49)","v":0},null,null,null,null,null,"ON"]

{"sheet":"306 306RD KL","index":33,"n_rows":45,"n_cols":8,"rows_kept":45,"cut":false,"hidden":false,"merged":[[22,0,22,1],[7,2,7,4],[8,2,8,4],[9,2,9,4],[10,2,10,4],[11,2,11,4],[50,1,50,6],[29,5,29,6],[30,5,30,6],[31,5,31,6],[32,5,32,6],[33,5,33,6],[36,1,44,6],[45,1,45,6],[46,1,46,6],[47,1,47,6],[48,1,48,6],[49,1,49,6]]}
["POLOŽKOVÝ ROZPOČET"]
["Rozpočet",null,"306RD","Přeložky vodovodu",null,"JKSO ","827.11.A1"]
[]
["Objekt",null,null,null,null,"SKP "]
["306",null,"Přeložky vodovodu",null,null,"Měrná jednotka","m"]
["Stavba",null,null,null,null,"Počet jednotek",0]
["3232",null,"Horní Slivno - Splašková kanalizace",null,null,"Náklady na m.j.",{"$f":"IF(G6=0,,ROUND((F30+F32)/G6,1))","v":0}]
["Projektant",null,"Radek Hnát - VAK PROJEKT",null,null,"Typ rozpočtu"]
["Zpracovatel projektu"]
["Objednatel",null,"Obec Horní Slivno"]
["Dodavatel",null,".",null,null,"Zakázkové číslo "]
["Rozpočtoval",null,null,null,null,"Počet listů"]
["ROZPOČTOVÉ NÁKLADY"]
["Základní rozpočtové náklady"]
[null,"HSV celkem",{"$f":"'306 306RD Rek'!E11","v":0}]
["Z","PSV celkem",{"$f":"'306 306RD Rek'!F11","v":0}]
["R","M práce celkem",{"$f":"'306 306RD Rek'!H11","v":0}]
["N","M dodávky celkem",{"$f":"'306 306RD Rek'!G11","v":0}]
["ZRN celkem",null,{"$f":"SUM(C15:C18)","v":0}]
[]
["HZS",null,{"$f":"'306 306RD Rek'!I11","v":0}]
["ZRN+HZS",null,{"$f":"C19+C21","v":0}]
["ZRN+ost.náklady+HZS",null,{"$f":"C22+G23","v":0}]
["Vypracoval",null,null,"Za zhotovitele",null,"Za objednatele"]
["Jméno :",null,null,"Jméno :",null,"Jméno :"]
["Datum :",null,null,"Datum :",null,"Datum :"]
[]
["Podpis :",null,null,"Podpis:",null,"Podpis:"]
[]
["Základ pro DPH",null,21,"%  ",null,{"$f":"C23-F32","v":0}]
["DPH",null,{"$f":"C30","v":21},"% ",null,{"$f":"ROUND(PRODUCT(F30,C31/100),0)","v":0}]
["Základ pro DPH",null,0,"% ",null,0]
["DPH",null,{"$f":"C32","v":0},"% ",null,{"$f":"ROUND(PRODUCT(F32,C33/100),0)","v":0}]
["CENA ZA OBJEKT CELKEM",null,null,null,null,{"$f":"ROUND(SUM(F30:F33),0)","v":0}]
[]
["Poznámka :",null,null,null,null,null,null," "]
[null,null,null,null,null,null,null," "]
[null,null,null,null,null,null,null," "]
[null,null,null,null,null,null,null," "]
[null,null,null,null,null,null,null," "]
[null,null,null,null,null,null,null," "]
[null,null,null,null,null,null,null," "]
[null,null,null,null,null,null,null," "]
[null,null,null,null,null,null,null," "]
[null,null,null,null,null,null,null," "]

{"sheet":"306 306RD Rek","index":34,"n_rows":11,"n_cols":9,"rows_kept":11,"cut":false,"hidden":false,"merged":[[0,0,0,1],[1,0,1,1],[1,6,1,8]]}
["Stavba :",null,"3232 Horní Slivno - Splašková kanalizace",null,null,null,"Rozpočet :","306RD"]
["Objekt :",null,"306 Přeložky vodovodu",null,null,null,"Přeložky vodovodu"]
[]
["REKAPITULACE  STAVEBNÍCH  DÍLŮ"]
[]
[null,"Stavební díl",null,null,"HSV","PSV","Dodávka","Montáž","HZS"]
[{"$f":"'306 306RD Pol'!B7","v":"1"},{"$f":"'306 306RD Pol'!C7","v":"Zemní práce"},null,null,{"$f":"'306 306RD Pol'!BA83","v":0},{"$f":"'306 306RD Pol'!BB83","v":0},{"$f":"'306 306RD Pol'!BC83","v":0},{"$f":"'306 306RD Pol'!BD83","v":0},{"$f":"'306 306RD Pol'!BE83","v":0}]
[{"$f":"'306 306RD Pol'!B84","v":"45"},{"$f":"'306 306RD Pol'!C84","v":"Podkladní a vedlejší konstrukce"},null,null,{"$f":"'306 306RD Pol'!BA89","v":0},{"$f":"'306 306RD Pol'!BB89","v":0},{"$f":"'306 306RD Pol'!BC89","v":0},{"$f":"'306 306RD Pol'!BD89","v":0},{"$f":"'306 306RD Pol'!BE89","v":0}]
[{"$f":"'306 306RD Pol'!B90","v":"8"},{"$f":"'306 306RD Pol'!C90","v":"Trubní vedení"},null,null,{"$f":"'306 306RD Pol'!BA281","v":0},{"$f":"'306 306RD Pol'!BB281","v":0},{"$f":"'306 306RD Pol'!BC281","v":0},{"$f":"'306 306RD Pol'!BD281","v":0},{"$f":"'306 306RD Pol'!BE281","v":0}]
[{"$f":"'306 306RD Pol'!B282","v":"99"},{"$f":"'306 306RD Pol'!C282","v":"Staveništní přesun hmot"},null,null,{"$f":"'306 306RD Pol'!BA285","v":0},{"$f":"'306 306RD Pol'!BB285","v":0},{"$f":"'306 306RD Pol'!BC285","v":0},{"$f":"'306 306RD Pol'!BD285","v":0},{"$f":"'306 306RD Pol'!BE285","v":0}]
[null,"CELKEM  OBJEKT",null,null,{"$f":"SUM(E7:E10)","v":0},{"$f":"SUM(F7:F10)","v":0},{"$f":"SUM(G7:G10)","v":0},{"$f":"SUM(H7:H10)","v":0},{"$f":"SUM(I7:I10)","v":0}]

{"sheet":"306 306RD Pol","index":35,"n_rows":285,"n_cols":80,"rows_kept":285,"cut":false,"hidden":false,"merged":[[0,0,0,6],[2,0,2,1],[3,0,3,1],[3,4,3,6],[8,2,8,6],[9,2,9,6],[10,2,10,3],[11,2,11,3],[19,2,19,3],[20,2,20,3],[22,2,22,6],[23,2,23,6],[24,2,24,3],[25,2,25,3],[12,2,12,3],[13,2,13,3],[14,2,14,3],[16,2,16,6],[17,2,17,6],[18,2,18,3],[34,2,34,3],[35,2,35,3],[36,2,36,3],[38,2,38,3],[39,2,39,3],[40,2,40,3],[26,2,26,3],[28,2,28,3],[29,2,29,3],[30,2,30,3],[32,2,32,6],[33,2,33,6],[49,2,49,6],[50,2,50,6],[51,2,51,6],[52,2,52,3],[53,2,53,3],[54,2,54,3],[42,2,42,6],[43,2,43,6],[44,2,44,6],[45,2,45,3],[46,2,46,3],[47,2,47,3],[63,2,63,3],[64,2,64,3],[65,2,65,3],[66,2,66,3],[67,2,67,3],[68,2,68,3],[56,2,56,3],[57,2,57,3],[58,2,58,3],[59,2,59,3],[60,2,60,3],[61,2,61,3],[77,2,77,3],[78,2,78,3],[79,2,79,3],[80,2,80,3],[81,2,81,3],[69,2,69,3],[70,2,70,3],[71,2,71,3],[73,2,73,3],[74,2,74,3],[76,2,76,3],[96,2,96,6],[97,2,97,6],[98,2,98,6],[100,2,100,6],[101,2,101,6],[102,2,102,3],[85,2,85,3],[86,2,86,3],[91,2,91,6],[92,2,92,6],[93,2,93,6],[94,2,94,6],[95,2,95,6],[110,2,110,3],[111,2,111,3],[112,2,112,3],[113,2,113,3],[115,2,115,6],[116,2,116,6],[103,2,103,3],[104,2,104,3],[106,2,106,6],[107,2,107,6],[108,2,108,3],[109,2,109,3],[125,2,125,6],[126,2,126,3],[128,2,128,3],[129,2,129,3],[130,2,130,3],[132,2,132,6],[117,2,117,3],[118,2,118,3],[119,2,119,3],[121,2,121,6],[122,2,122,3],[123,2,123,3],[141,2,141,6],[142,2,142,3],[143,2,143,3],[145,2,145,6],[146,2,146,6],[147,2,147,3],[133,2,133,3],[134,2,134,3],[136,2,136,6],[137,2,137,3],[138,2,138,3],[140,2,140,6],[156,2,156,3],[158,2,158,6],[159,2,159,3],[160,2,160,3],[162,2,162,6],[163,2,163,3],[148,2,148,3],[150,2,150,6],[151,2,151,3],[152,2,152,3],[154,2,154,6],[155,2,155,3],[173,2,173,3],[174,2,174,3],[176,2,176,6],[177,2,177,3],[178,2,178,3],[180,2,180,3],[165,2,165,6],[166,2,166,3],[168,2,168,6],[169,2,169,3],[170,2,170,3],[172,2,172,6],[188,2,188,3],[190,2,190,6],[191,2,191,3],[192,2,192,3],[193,2,193,3],[194,2,194,3],[181,2,181,3],[183,2,183,6],[184,2,184,3],[185,2,185,3],[186,2,186,3],[187,2,187,3],[205,2,205,3],[207,2,207,3],[208,2,208,3],[210,2,210,3],[211,2,211,3],[213,2,213,3],[196,2,196,3],[197,2,197,3],[199,2,199,3],[200,2,200,3],[202,2,202,3],[203,2,203,3],[223,2,223,3],[225,2,225,3],[226,2,226,3],[228,2,228,6],[229,2,229,6],[230,2,230,3],[214,2,214,3],[216,2,216,3],[217,2,217,3],[219,2,219,3],[220,2,220,3],[222,2,222,3],[240,2,240,3],[242,2,242,6],[243,2,243,6],[244,2,244,6],[245,2,245,6],[246,2,246,6],[231,2,231,3],[233,2,233,3],[234,2,234,3],[236,2,236,3],[237,2,237,3],[239,2,239,3],[254,2,254,6],[255,2,255,6],[256,2,256,6],[257,2,257,3],[258,2,258,3],[260,2,260,3],[247,2,247,6],[248,2,248,3],[249,2,249,3],[251,2,251,6],[252,2,252,6],[253,2,253,6],[279,2,279,3],[283,2,283,6],[270,2,270,3],[272,2,272,3],[273,2,273,3],[275,2,275,3],[276,2,276,3],[278,2,278,3],[261,2,261,3],[263,2,263,3],[264,2,264,3],[266,2,266,3],[267,2,267,3],[269,2,269,3]]}
["Položkový rozpočet "]
[]
["Stavba :",null,"3232 Horní Slivno - Splašková kanalizace",null,"Rozpočet:",{"$f":"'306 306RD Rek'!H1","v":"306RD"}]
["Objekt :",null,"306 Přeložky vodovodu",null,{"$f":"'306 306RD Rek'!G2","v":"Přeložky vodovodu"}]
[]
["P.č.","Číslo položky","Název položky","MJ","množství","cena / MJ","celkem (Kč)","Jednotková hmotnost","Celková hmotnost","Jednotková dem.hmot.","Celková dem.hmot."]
["Díl:","1","Zemní práce",null,null,null,null,null,null,null,null,null,null,null,1]
[1,"130001101RRR","Příplatek za ztížené hloubení v blízkosti vedení ","m3",44.853700000000003,null,{"$f":"E8*F8","v":0},0,{"$f":"E8*H8","v":0},0,{"$f":"E8*J8","v":0},null,null,null,2,null,null,null,null,null,null,null,null,null,null,null,1,1,1,null,null,null,null,null,null,null,null,null,null,null,null,null,null,null,null,null,null,null,null,null,null,1,{"$f":"IF(AZ8=1,G8,0)","v":0},{"$f":"IF(AZ8=2,G8,0)","v":0},{"$f":"IF(AZ8=3,G8,0)","v":0},{"$f":"IF(AZ8=4,G8,0)","v":0},{"$f":"IF(AZ8=5,G8,0)","v":0},null,null,null,null,null,null,null,null,null,null,null,null,null,null,null,null,null,null,null,null,null,1,1]
[null,null,"Včetně ruční dokopávky a ručního výkopu.",null,null,null,null,null,null,null,null,"Včetně ruční dokopávky a ručního výkopu.",null,null,3]
[null,null,"Součástí položky je i případná potřeba dočasnéhon zajištění potrubí a kabelových vedení ve výkopu.",null,null,null,null,null,null,null,null,"Součástí položky je i případná potřeba dočasnéhon zajištění potrubí a kabelových vedení ve výkopu.",null,null,3]
[null,null,"Začátek provozního součtu",null,0,null,null,null,null,null,null,null,"Začátek provozního součtu"]
[null,null,"Přeložka vodovodního řadu PE D 110x10,0 mm:146,00*0,80*(1,65-0,30)",null,157.68,null,null,null,null,null,null,null,"Přeložka vodovodního řadu PE D 110x10,0 mm:146,00*0,80*(1,65-0,30)"]
[null,null,"Přepojení VP D 32x3,0 mm (7 kusů):23,00*0,70*(1,65-0,30)",null,21.734999999999999,null,null,null,null,null,null,null,"Přepojení VP D 32x3,0 mm (7 kusů):23,00*0,70*(1,65-0,30)"]
[null,null,"Konec provozního součtu",null,179.41500000000002,null,null,null,null,null,null,null,"Konec provozního součtu"]
[null,null,"V hornině tř. 2 - 6 - 25%:179,4150*0,25",null,44.853700000000003,null,null,null,null,null,null,null,"V hornině tř. 2 - 6 - 25%:179,4150*0,25"]
[2,"132101212RRX","Hloubení rýh š.do 200 cm hor.2 do 1000 m3,STROJNĚ ","m3",23.323899999999998,null,{"$f":"E16*F16","v":0},0,{"$f":"E16*H16","v":0},0,{"$f":"E16*J16","v":0},null,null,null,2,null,null,null,null,null,null,null,null,null,null,null,1,1,1,null,null,null,null,null,null,null,null,null,null,null,null,null,null,null,null,null,null,null,null,null,null,1,{"$f":"IF(AZ16=1,G16,0)","v":0},{"$f":"IF(AZ16=2,G16,0)","v":0},{"$f":"IF(AZ16=3,G16,0)","v":0},{"$f":"IF(AZ16=4,G16,0)","v":0},{"$f":"IF(AZ16=5,G16,0)","v":0},null,null,null,null,null,null,null,null,null,null,null,null,null,null,null,null,null,null,null,null,null,1,1]
[null,null,"Položka obsahuje hloubení rýh traktorbagrem, naložení výkopku na dopravní prostředek pro svislé, nebo vodorovné přemístění, popř. přemístění výkopku do 3 m (po povrchu území), případné zajištění rypadel polštáři, udržování pracoviště a ochranu výkopiště proti stékání srážkové vody z okolního terénu i s jejím odvodněním, nebo odvedením, přesekání a odstranění kořenů ve výkopišti, odstranění napadávek, urovnání dna výkopu.",null,null,null,null,null,null,null,null,"Položka obsahuje hloubení rýh traktorbagrem, naložení výkopku na dopravní prostředek pro svislé, nebo vodorovné přemístění, popř. přemístění výkopku do 3 m (po povrchu území), případné zajištění rypadel polštáři, udržování pracoviště a ochranu výkopiště proti stékání srážkové vody z okolního terénu i s jejím odvodněním, nebo odvedením, přesekání a odstranění kořenů ve výkopišti, odstranění napadávek, urovnání dna výkopu.",null,null,3]
[null,null,"Součástí položky je i zřízení a odstranění pažení rýhy v souladu s předpisy BOZP.",null,null,null,null,null,null,null,null,"Součástí položky je i zřízení a odstranění pažení rýhy v souladu s předpisy BOZP.",null,null,3]
[null,null,"V hornině tř. 2:",null,0,null,null,null,null,null,null,null,"V hornině tř. 2:"]
[null,null,"Přeložka vodovodního řadu PE D 110x10,0 mm:146,00*0,80*(1,65-0,30)*0,13",null,20.4984,null,null,null,null,null,null,null,"Přeložka vodovodního řadu PE D 110x10,0 mm:146,00*0,80*(1,65-0,30)*0,13"]
[null,null,"Přepojení VP D 32x3,0 mm (7 kusů):23,00*0,70*(1,65-0,30)*0,13",null,2.8254999999999999,null,null,null,null,null,null,null,"Přepojení VP D 32x3,0 mm (7 kusů):23,00*0,70*(1,65-0,30)*0,13"]
[3,"132201212RRX","Hloubení rýh š.do 200 cm hor.3 do 1000m3,STROJNĚ ","m3",59.206899999999997,null,{"$f":"E22*F22","v":0},0,{"$f":"E22*H22","v":0},0,{"$f":"E22*J22","v":0},null,null,null,2,null,null,null,null,null,null,null,null,null,null,null,1,1,1,null,null,null,null,null,null,null,null,null,null,null,null,null,null,null,null,null,null,null,null,null,null,1,{"$f":"IF(AZ22=1,G22,0)","v":0},{"$f":"IF(AZ22=2,G22,0)","v":0},{"$f":"IF(AZ22=3,G22,0)","v":0},{"$f":"IF(AZ22=4,G22,0)","v":0},{"$f":"IF(AZ22=5,G22,0)","v":0},null,null,null,null,null,null,null,null,null,null,null,null,null,null,null,null,null,null,null,null,null,1,1]
[null,null,"Položka obsahuje hloubení rýh traktorbagrem, naložení výkopku na dopravní prostředek pro svislé, nebo vodorovné přemístění, popř. přemístění výkopku do 3 m (po povrchu území), případné zajištění rypadel polštáři, udržování pracoviště a ochranu výkopiště proti stékání srážkové vody z okolního terénu i s jejím odvodněním, nebo odvedením, přesekání a odstranění kořenů ve výkopišti, odstranění napadávek, urovnání dna výkopu.",null,null,null,null,null,null,null,null,"Položka obsahuje hloubení rýh traktorbagrem, naložení výkopku na dopravní prostředek pro svislé, nebo vodorovné přemístění, popř. přemístění výkopku do 3 m (po povrchu území), případné zajištění rypadel polštáři, udržování pracoviště a ochranu výkopiště proti stékání srážkové vody z okolního terénu i s jejím odvodněním, nebo odvedením, přesekání a odstranění kořenů ve výkopišti, odstranění napadávek, urovnání dna výkopu.",null,null,3]
[null,null,"Součástí položky je i zřízení a odstranění pažení rýhy v souladu s předpisy BOZP.",null,null,null,null,null,null,null,null,"Součástí položky je i zřízení a odstranění pažení rýhy v souladu s předpisy BOZP.",null,null,3]
[null,null,"V hornině tř. 3:",null,0,null,null,null,null,null,null,null,"V hornině tř. 3:"]
[null,null,"Přeložka vodovodního řadu PE D 110x10,0 mm:146,00*0,80*(1,65-0,30)*0,33",null,52.034399999999998,null,null,null,null,null,null,null,"Přeložka vodovodního řadu PE D 110x10,0 mm:146,00*0,80*(1,65-0,30)*0,33"]
[null,null,"Přepojení VP D 32x3,0 mm (7 kusů):23,00*0,70*(1,65-0,30)*0,33",null,7.1725000000000003,null,null,null,null,null,null,null,"Přepojení VP D 32x3,0 mm (7 kusů):23,00*0,70*(1,65-0,30)*0,33"]
[4,"132201219R00","Přípl.za lepivost,hloubení rýh 200cm,hor.3,STROJNĚ ","m3",29.6035,null,{"$f":"E28*F28","v":0},0,{"$f":"E28*H28","v":0},0,{"$f":"E28*J28","v":0},null,null,null,2,null,null,null,null,null,null,null,null,null,null,null,1,1,1,null,null,null,null,null,null,null,null,null,null,null,null,null,null,null,null,null,null,null,null,null,null,1,{"$f":"IF(AZ28=1,G28,0)","v":0},{"$f":"IF(AZ28=2,G28,0)","v":0},{"$f":"IF(AZ28=3,G28,0)","v":0},{"$f":"IF(AZ28=4,G28,0)","v":0},{"$f":"IF(AZ28=5,G28,0)","v":0},null,null,null,null,null,null,null,null,null,null,null,null,null,null,null,null,null,null,null,null,null,1,1]
[null,null,"V hornině tř. 3:",null,0,null,null,null,null,null,null,null,"V hornině tř. 3:"]
[null,null,"Přeložka vodovodního řadu PE D 110x10,0 mm:146,00*0,80*(1,65-0,30)*0,33*0,5",null,26.017199999999999,null,null,null,null,null,null,null,"Přeložka vodovodního řadu PE D 110x10,0 mm:146,00*0,80*(1,65-0,30)*0,33*0,5"]
[null,null,"Přepojení VP D 32x3,0 mm (7 kusů):23,00*0,70*(1,65-0,30)*0,33*0,5",null,3.5863,null,null,null,null,null,null,null,"Přepojení VP D 32x3,0 mm (7 kusů):23,00*0,70*(1,65-0,30)*0,33*0,5"]
[5,"132301212RRX","Hloubení rýh š.do 200 cm hor.4 do 1000 m3, STROJNĚ ","m3",67.818600000000004,null,{"$f":"E32*F32","v":0},0,{"$f":"E32*H32","v":0},0,{"$f":"E32*J32","v":0},null,null,null,2,null,null,null,null,null,null,null,null,null,null,null,1,1,1,null,null,null,null,null,null,null,null,null,null,null,null,null,null,null,null,null,null,null,null,null,null,1,{"$f":"IF(AZ32=1,G32,0)","v":0},{"$f":"IF(AZ32=2,G32,0)","v":0},{"$f":"IF(AZ32=3,G32,0)","v":0},{"$f":"IF(AZ32=4,G32,0)","v":0},{"$f":"IF(AZ32=5,G32,0)","v":0},null,null,null,null,null,null,null,null,null,null,null,null,null,null,null,null,null,null,null,null,null,1,1]
[null,null,"Položka obsahuje hloubení rýh traktorbagrem, naložení výkopku na dopravní prostředek pro svislé, nebo vodorovné přemístění, popř. přemístění výkopku do 3 m (po povrchu území), případné zajištění rypadel polštáři, udržování pracoviště a ochranu výkopiště proti stékání srážkové vody z okolního terénu i s jejím odvodněním, nebo odvedením, přesekání a odstranění kořenů ve výkopišti, odstranění napadávek, urovnání dna výkopu.",null,null,null,null,null,null,null,null,"Položka obsahuje hloubení rýh traktorbagrem, naložení výkopku na dopravní prostředek pro svislé, nebo vodorovné přemístění, popř. přemístění výkopku do 3 m (po povrchu území), případné zajištění rypadel polštáři, udržování pracoviště a ochranu výkopiště proti stékání srážkové vody z okolního terénu i s jejím odvodněním, nebo odvedením, přesekání a odstranění kořenů ve výkopišti, odstranění napadávek, urovnání dna výkopu.",null,null,3]
[null,null,"Součástí položky je i zřízení a odstranění pažení rýhy v souladu s předpisy BOZP.",null,null,null,null,null,null,null,null,"Součástí položky je i zřízení a odstranění pažení rýhy v souladu s předpisy BOZP.",null,null,3]
[null,null,"V hornině tř. 4:",null,0,null,null,null,null,null,null,null,"V hornině tř. 4:"]
[null,null,"Přeložka vodovodního řadu PE D 110x10,0 mm:146,00*0,80*(1,65-0,30)*0,38",null,59.918399999999998,null,null,null,null,null,null,null,"Přeložka vodovodního řadu PE D 110x10,0 mm:146,00*0,80*(1,65-0,30)*0,38"]
[null,null,"Přepojení VP D 32x3,0 mm (7 kusů):22,00*0,70*(1,65-0,30)*0,38",null,7.9001999999999999,null,null,null,null,null,null,null,"Přepojení VP D 32x3,0 mm (7 kusů):22,00*0,70*(1,65-0,30)*0,38"]
[6,"132301219R00","Přípl.za lepivost,hloubení rýh 200cm,hor.4,STROJNĚ ","m3",34.088799999999999,null,{"$f":"E38*F38","v":0},0,{"$f":"E38*H38","v":0},0,{"$f":"E38*J38","v":0},null,null,null,2,null,null,null,null,null,null,null,null,null,null,null,1,1,1,null,null,null,null,null,null,null,null,null,null,null,null,null,null,null,null,null,null,null,null,null,null,1,{"$f":"IF(AZ38=1,G38,0)","v":0},{"$f":"IF(AZ38=2,G38,0)","v":0},{"$f":"IF(AZ38=3,G38,0)","v":0},{"$f":"IF(AZ38=4,G38,0)","v":0},{"$f":"IF(AZ38=5,G38,0)","v":0},null,null,null,null,null,null,null,null,null,null,null,null,null,null,null,null,null,null,null,null,null,1,1]
[null,null,"V hornině tř. 4:",null,0,null,null,null,null,null,null,null,"V hornině tř. 4:"]
[null,null,"Přeložka vodovodního řadu PE D 110x10,0 mm:146,00*0,80*(1,65-0,30)*0,38*0,5",null,29.959199999999999,null,null,null,null,null,null,null,"Přeložka vodovodního řadu PE D 110x10,0 mm:146,00*0,80*(1,65-0,30)*0,38*0,5"]
[null,null,"Přepojení VP D 32x3,0 mm (7 kusů):23,00*0,70*(1,65-0,30)*0,38*0,5",null,4.1295999999999999,null,null,null,null,null,null,null,"Přepojení VP D 32x3,0 mm (7 kusů):23,00*0,70*(1,65-0,30)*0,38*0,5"]
[7,"132401211RRX","Hloubení rýh šířky do 200 cm v hor.5, STROJNĚ ","m3",25.118099999999998,null,{"$f":"E42*F42","v":0},0,{"$f":"E42*H42","v":0},0,{"$f":"E42*J42","v":0},null,null,null,2,null,null,null,null,null,null,null,null,null,null,null,1,1,1,null,null,null,null,null,null,null,null,null,null,null,null,null,null,null,null,null,null,null,null,null,null,1,{"$f":"IF(AZ42=1,G42,0)","v":0},{"$f":"IF(AZ42=2,G42,0)","v":0},{"$f":"IF(AZ42=3,G42,0)","v":0},{"$f":"IF(AZ42=4,G42,0)","v":0},{"$f":"IF(AZ42=5,G42,0)","v":0},null,null,null,null,null,null,null,null,null,null,null,null,null,null,null,null,null,null,null,null,null,1,1]
[null,null,"Položka obsahuje hloubení rýh traktorbagrem, naložení výkopku na dopravní prostředek pro svislé, nebo vodorovné přemístění, popř. přemístění výkopku do 3 m (po povrchu území), případné zajištění rypadel polštáři, udržování pracoviště a ochranu výkopiště proti stékání srážkové vody z okolního terénu i s jejím odvodněním, nebo odvedením, přesekání a odstranění kořenů ve výkopišti, odstranění napadávek, urovnání dna výkopu.",null,null,null,null,null,null,null,null,"Položka obsahuje hloubení rýh traktorbagrem, naložení výkopku na dopravní prostředek pro svislé, nebo vodorovné přemístění, popř. přemístění výkopku do 3 m (po povrchu území), případné zajištění rypadel polštáři, udržování pracoviště a ochranu výkopiště proti stékání srážkové vody z okolního terénu i s jejím odvodněním, nebo odvedením, přesekání a odstranění kořenů ve výkopišti, odstranění napadávek, urovnání dna výkopu.",null,null,3]
[null,null,"Součástí položky je i pažení výkopů dle zvolené technologie zhotovitelem a v souladu s předpisy BOZP.",null,null,null,null,null,null,null,null,"Součástí položky je i pažení výkopů dle zvolené technologie zhotovitelem a v souladu s předpisy BOZP.",null,null,3]
[null,null,"Součástí položky je i případné dolamování horniny v prostoru rýhy.",null,null,null,null,null,null,null,null,"Součástí položky je i případné dolamování horniny v prostoru rýhy.",null,null,3]
[null,null,"V hornině tř. 5:",null,0,null,null,null,null,null,null,null,"V hornině tř. 5:"]
[null,null,"Přeložka vodovodního řadu PE D 110x10,0 mm:146,00*0,80*(1,65-0,30)*0,14",null,22.075199999999999,null,null,null,null,null,null,null,"Přeložka vodovodního řadu PE D 110x10,0 mm:146,00*0,80*(1,65-0,30)*0,14"]
[null,null,"Přepojení VP D 32x3,0 mm (7 kusů):23,00*0,70*(1,65-0,30)*0,14",null,3.0428999999999999,null,null,null,null,null,null,null,"Přepojení VP D 32x3,0 mm (7 kusů):23,00*0,70*(1,65-0,30)*0,14"]
[8,"132501211RRX","Hloubení rýh šířky do 200 cm v hor.6, STROJNĚ ","m3",3.5882999999999998,null,{"$f":"E49*F49","v":0},0,{"$f":"E49*H49","v":0},0,{"$f":"E49*J49","v":0},null,null,null,2,null,null,null,null,null,null,null,null,null,null,null,1,1,1,null,null,null,null,null,null,null,null,null,null,null,null,null,null,null,null,null,null,null,null,null,null,1,{"$f":"IF(AZ49=1,G49,0)","v":0},{"$f":"IF(AZ49=2,G49,0)","v":0},{"$f":"IF(AZ49=3,G49,0)","v":0},{"$f":"IF(AZ49=4,G49,0)","v":0},{"$f":"IF(AZ49=5,G49,0)","v":0},null,null,null,null,null,null,null,null,null,null,null,null,null,null,null,null,null,null,null,null,null,1,1]
[null,null,"Položka obsahuje hloubení rýh traktorbagrem, naložení výkopku na dopravní prostředek pro svislé, nebo vodorovné přemístění, popř. přemístění výkopku do 3 m (po povrchu území), případné zajištění rypadel polštáři, udržování pracoviště a ochranu výkopiště proti stékání srážkové vody z okolního terénu i s jejím odvodněním, nebo odvedením, přesekání a odstranění kořenů ve výkopišti, odstranění napadávek, urovnání dna výkopu.",null,null,null,null,null,null,null,null,"Položka obsahuje hloubení rýh traktorbagrem, naložení výkopku na dopravní prostředek pro svislé, nebo vodorovné přemístění, popř. přemístění výkopku do 3 m (po povrchu území), případné zajištění rypadel polštáři, udržování pracoviště a ochranu výkopiště proti stékání srážkové vody z okolního terénu i s jejím odvodněním, nebo odvedením, přesekání a odstranění kořenů ve výkopišti, odstranění napadávek, urovnání dna výkopu.",null,null,3]
[null,null,"Součástí položky je i pažení výkopů dle zvolené technologie zhotovitelem a v souladu s předpisy BOZP.",null,null,null,null,null,null,null,null,"Součástí položky je i pažení výkopů dle zvolené technologie zhotovitelem a v souladu s předpisy BOZP.",null,null,3]
[null,null,"Součástí položky je i případné dolamování horniny v prostoru rýhy.",null,null,null,null,null,null,null,null,"Součástí položky je i případné dolamování horniny v prostoru rýhy.",null,null,3]
[null,null,"V hornině tř. :",null,0,null,null,null,null,null,null,null,"V hornině tř. :"]
[null,null,"Přeložka vodovodního řadu PE D 110x10,0 mm:146,00*0,80*(1,65-0,30)*0,02",null,3.1536,null,null,null,null,null,null,null,"Přeložka vodovodního řadu PE D 110x10,0 mm:146,00*0,80*(1,65-0,30)*0,02"]
[null,null,"Přepojení VP D 32x3,0 mm (7 kusů):23,00*0,70*(1,65-0,30)*0,02",null,0.43469999999999998,null,null,null,null,null,null,null,"Přepojení VP D 32x3,0 mm (7 kusů):23,00*0,70*(1,65-0,30)*0,02"]
[9,"162701105RSZ","Vodorovné přemístění výkopku z hor.1-7 na skládku zhotovitele","m3",179.41499999999999,null,{"$f":"E56*F56","v":0},0,{"$f":"E56*H56","v":0},0,{"$f":"E56*J56","v":0},null,null,null,2,null,null,null,null,null,null,null,null,null,null,null,1,1,1,null,null,null,null,null,null,null,null,null,null,null,null,null,null,null,null,null,null,null,null,null,null,1,{"$f":"IF(AZ56=1,G56,0)","v":0},{"$f":"IF(AZ56=2,G56,0)","v":0},{"$f":"IF(AZ56=3,G56,0)","v":0},{"$f":"IF(AZ56=4,G56,0)","v":0},{"$f":"IF(AZ56=5,G56,0)","v":0},null,null,null,null,null,null,null,null,null,null,null,null,null,null,null,null,null,null,null,null,null,1,1]
[null,null,"Výkopy:",null,0,null,null,null,null,null,null,null,"Výkopy:"]
[null,null,"Začátek provozního součtu",null,0,null,null,null,null,null,null,null,"Začátek provozního součtu"]
[null,null,"Přeložka vodovodního řadu PE D 110x10,0 mm:146,00*0,80*(1,65-0,30)",null,157.68,null,null,null,null,null,null,null,"Přeložka vodovodního řadu PE D 110x10,0 mm:146,00*0,80*(1,65-0,30)"]
[null,null,"Přepojení VP D 32x3,0 mm (7 kusů):23,00*0,70*(1,65-0,30)",null,21.734999999999999,null,null,null,null,null,null,null,"Přepojení VP D 32x3,0 mm (7 kusů):23,00*0,70*(1,65-0,30)"]
[null,null,"Konec provozního součtu",null,179.41500000000002,null,null,null,null,null,null,null,"Konec provozního součtu"]
[null,null,"V hornině tř. 2 - 6:179,4150",null,179.41499999999999,null,null,null,null,null,null,null,"V hornině tř. 2 - 6:179,4150"]
[10,"174100050RAA","Zásyp jam,rýh a šachet štěrkodrtí fr. 0-63 mm včetně dovozu štěrkodrtě","m3",106.24679999999999,null,{"$f":"E63*F63","v":0},0,{"$f":"E63*H63","v":0},0,{"$f":"E63*J63","v":0},null,null,null,2,null,null,null,null,null,null,null,null,null,null,null,1,1,1,null,null,null,null,null,null,null,null,null,null,null,null,null,null,null,null,null,null,null,null,null,null,1,{"$f":"IF(AZ63=1,G63,0)","v":0},{"$f":"IF(AZ63=2,G63,0)","v":0},{"$f":"IF(AZ63=3,G63,0)","v":0},{"$f":"IF(AZ63=4,G63,0)","v":0},{"$f":"IF(AZ63=5,G63,0)","v":0},null,null,null,null,null,null,null,null,null,null,null,null,null,null,null,null,null,null,null,null,null,1,1]
[null,null,"Výkopy:",null,0,null,null,null,null,null,null,null,"Výkopy:"]
[null,null,"Začátek provozního součtu",null,0,null,null,null,null,null,null,null,"Začátek provozního součtu"]
[null,null,"Přeložka vodovodního řadu PE D 110x10,0 mm:146,00*0,80*(1,65-0,30)",null,157.68,null,null,null,null,null,null,null,"Přeložka vodovodního řadu PE D 110x10,0 mm:146,00*0,80*(1,65-0,30)"]
[null,null,"Přepojení VP D 32x3,0 mm (7 kusů):23,00*0,70*(1,65-0,30)",null,21.734999999999999,null,null,null,null,null,null,null,"Přepojení VP D 32x3,0 mm (7 kusů):23,00*0,70*(1,65-0,30)"]
[null,null,"Konec provozního součtu",null,179.41500000000002,null,null,null,null,null,null,null,"Konec provozního součtu"]
[null,null,"V hornině tř. 2 - 6:179,4150",null,179.41499999999999,null,null,null,null,null,null,null,"V hornině tř. 2 - 6:179,4150"]
[null,null,"Odpočet lože, potrubí a obsypů:",null,0,null,null,null,null,null,null,null,"Odpočet lože, potrubí a obsypů:"]
[null,null,"Přeložka vodovodního řadu PE D 110x10,0 mm:-146,00*0,80*(0,15+0,11+0,30)",null,-65.408000000000001,null,null,null,null,null,null,null,"Přeložka vodovodního řadu PE D 110x10,0 mm:-146,00*0,80*(0,15+0,11+0,30)"]
[null,null,"Přepojení VP D 32x3,0 mm (7 kusů):-23,00*0,70*(0,15+0,032+0,30)",null,-7.7602000000000002,null,null,null,null,null,null,null,"Přepojení VP D 32x3,0 mm (7 kusů):-23,00*0,70*(0,15+0,032+0,30)"]
[11,"175100020RAA","Obsyp potrubí štěrkopískem včetně dovozu štěrkopísku","m3",51.827199999999998,null,{"$f":"E73*F73","v":0},0,{"$f":"E73*H73","v":0},0,{"$f":"E73*J73","v":0},null,null,null,2,null,null,null,null,null,null,null,null,null,null,null,1,1,1,null,null,null,null,null,null,null,null,null,null,null,null,null,null,null,null,null,null,null,null,null,null,1,{"$f":"IF(AZ73=1,G73,0)","v":0},{"$f":"IF(AZ73=2,G73,0)","v":0},{"$f":"IF(AZ73=3,G73,0)","v":0},{"$f":"IF(AZ73=4,G73,0)","v":0},{"$f":"IF(AZ73=5,G73,0)","v":0},null,null,null,null,null,null,null,null,null,null,null,null,null,null,null,null,null,null,null,null,null,1,1]
[null,null,"Přeložka vodovodního řadu PE D 110x10,0 mm:146,00*(0,80*(0,11+0,30)-0,055^2*Pi)",null,46.500500000000002,null,null,null,null,null,null,null,"Přeložka vodovodního řadu PE D 110x10,0 mm:146,00*(0,80*(0,11+0,30)-0,055^2*Pi)"]
[null,null,"Přepojení VP D 32x3,0 mm (7 kusů):23,00*(0,70*(0,032+0,30)-0,016^2*Pi)",null,5.3266999999999998,null,null,null,null,null,null,null,"Přepojení VP D 32x3,0 mm (7 kusů):23,00*(0,70*(0,032+0,30)-0,016^2*Pi)"]
[12,"199000002R00","Poplatek za skládku horniny 1- 7 ","m3",179.41499999999999,null,{"$f":"E76*F76","v":0},0,{"$f":"E76*H76","v":0},0,{"$f":"E76*J76","v":0},null,null,null,2,null,null,null,null,null,null,null,null,null,null,null,1,1,1,null,null,null,null,null,null,null,null,null,null,null,null,null,null,null,null,null,null,null,null,null,null,1,{"$f":"IF(AZ76=1,G76,0)","v":0},{"$f":"IF(AZ76=2,G76,0)","v":0},{"$f":"IF(AZ76=3,G76,0)","v":0},{"$f":"IF(AZ76=4,G76,0)","v":0},{"$f":"IF(AZ76=5,G76,0)","v":0},null,null,null,null,null,null,null,null,null,null,null,null,null,null,null,null,null,null,null,null,null,1,1]
[null,null,"Výkopy:",null,0,null,null,null,null,null,null,null,"Výkopy:"]
[null,null,"Začátek provozního součtu",null,0,null,null,null,null,null,null,null,"Začátek provozního součtu"]
[null,null,"Přeložka vodovodního řadu PE D 110x10,0 mm:146,00*0,80*(1,65-0,30)",null,157.68,null,null,null,null,null,null,null,"Přeložka vodovodního řadu PE D 110x10,0 mm:146,00*0,80*(1,65-0,30)"]
[null,null,"Přepojení VP D 32x3,0 mm (7 kusů):23,00*0,70*(1,65-0,30)",null,21.734999999999999,null,null,null,null,null,null,null,"Přepojení VP D 32x3,0 mm (7 kusů):23,00*0,70*(1,65-0,30)"]
[null,null,"Konec provozního součtu",null,179.41500000000002,null,null,null,null,null,null,null,"Konec provozního součtu"]
[null,null,"V hornině tř. 2 - 6:179,4150",null,179.41499999999999,null,null,null,null,null,null,null,"V hornině tř. 2 - 6:179,4150"]
[null,"Celkem za","1 Zemní práce",null,null,null,{"$f":"SUM(G7:G82)","v":0},null,{"$f":"SUM(I7:I82)","v":0},null,{"$f":"SUM(K7:K82)","v":0},null,null,null,4,null,null,null,null,null,null,null,null,null,null,null,null,null,null,null,null,null,null,null,null,null,null,null,null,null,null,null,null,null,null,null,null,null,null,null,null,null,{"$f":"SUM(BA7:BA82)","v":0},{"$f":"SUM(BB7:BB82)","v":0},{"$f":"SUM(BC7:BC82)","v":0},{"$f":"SUM(BD7:BD82)","v":0},{"$f":"SUM(BE7:BE82)","v":0}]
["Díl:","45","Podkladní a vedlejší konstrukce",null,null,null,null,null,null,null,null,null,null,null,1]
[13,"451572111R00","Lože pod potrubí z kameniva těženého 0 - 4 mm ","m3",19.934999999999999,null,{"$f":"E85*F85","v":0},0.43051,{"$f":"E85*H85","v":8.58221685},0,{"$f":"E85*J85","v":0},null,null,null,2,null,null,null,null,null,null,null,null,null,null,null,1,1,1,null,null,null,null,null,null,null,null,null,null,null,null,null,null,null,null,null,null,null,null,null,null,1,{"$f":"IF(AZ85=1,G85,0)","v":0},{"$f":"IF(AZ85=2,G85,0)","v":0},{"$f":"IF(AZ85=3,G85,0)","v":0},{"$f":"IF(AZ85=4,G85,0)","v":0},{"$f":"IF(AZ85=5,G85,0)","v":0},null,null,null,null,null,null,null,null,null,null,null,null,null,null,null,null,null,null,null,null,null,1,1]
[null,null,"Přeložka vodovodního řadu PE D 110x10,0 mm:146,00*0,80*0,15",null,17.52,null,null,null,null,null,null,null,"Přeložka vodovodního řadu PE D 110x10,0 mm:146,00*0,80*0,15"]
[null,null,"Přepojení VP D 32x3,0 mm (7 kusů):23,00*0,70*0,15",null,2.415,null,null,null,null,null,null,null,"Přepojení VP D 32x3,0 mm (7 kusů):23,00*0,70*0,15"]
[14,"452313131R00","Bloky pro potrubí z betonu C 12/15 ","m3",1.9850000000000001,null,{"$f":"E88*F88","v":0},2.5,{"$f":"E88*H88","v":4.9625000000000004},0,{"$f":"E88*J88","v":0},null,null,null,2,null,null,null,null,null,null,null,null,null,null,null,1,1,1,null,null,null,null,null,null,null,null,null,null,null,null,null,null,null,null,null,null,null,null,null,null,1,{"$f":"IF(AZ88=1,G88,0)","v":0},{"$f":"IF(AZ88=2,G88,0)","v":0},{"$f":"IF(AZ88=3,G88,0)","v":0},{"$f":"IF(AZ88=4,G88,0)","v":0},{"$f":"IF(AZ88=5,G88,0)","v":0},null,null,null,null,null,null,null,null,null,null,null,null,null,null,null,null,null,null,null,null,null,1,1]
[null,"Celkem za","45 Podkladní a vedlejší konstrukce",null,null,null,{"$f":"SUM(G84:G88)","v":0},null,{"$f":"SUM(I84:I88)","v":13.54471685},null,{"$f":"SUM(K84:K88)","v":0},null,null,null,4,null,null,null,null,null,null,null,null,null,null,null,null,null,null,null,null,null,null,null,null,null,null,null,null,null,null,null,null,null,null,null,null,null,null,null,null,null,{"$f":"SUM(BA84:BA88)","v":0},{"$f":"SUM(BB84:BB88)","v":0},{"$f":"SUM(BC84:BC88)","v":0},{"$f":"SUM(BD84:BD88)","v":0},{"$f":"SUM(BE84:BE88)","v":0}]
["Díl:","8","Trubní vedení",null,null,null,null,null,null,null,null,null,null,null,1]
[15,"850265121R00","Výřez nebo výsek na potrubí litinovém DN 100 ","kus",4,null,{"$f":"E91*F91","v":0},0,{"$f":"E91*H91","v":0},0,{"$f":"E91*J91","v":0},null,null,null,2,null,null,null,null,null,null,null,null,null,null,null,1,1,1,null,null,null,null,null,null,null,null,null,null,null,null,null,null,null,null,null,null,null,null,null,null,1,{"$f":"IF(AZ91=1,G91,0)","v":0},{"$f":"IF(AZ91=2,G91,0)","v":0},{"$f":"IF(AZ91=3,G91,0)","v":0},{"$f":"IF(AZ91=4,G91,0)","v":0},{"$f":"IF(AZ91=5,G91,0)","v":0},null,null,null,null,null,null,null,null,null,null,null,null,null,null,null,null,null,null,null,null,null,1,1]
[null,null,"Položky výřezu nebo výseku na potrubí z trub litinových tlakových jsou určeny pro dva řezy nebo seky prováděné na potrubí dodatečně. V položkách jsou zakalkulovány náklady na",null,null,null,null,null,null,null,null,"Položky výřezu nebo výseku na potrubí z trub litinových tlakových jsou určeny pro dva řezy nebo seky prováděné na potrubí dodatečně. V položkách jsou zakalkulovány náklady na",null,null,3]
[null,null,"- ohlášení uzavírání vody",null,null,null,null,null,null,null,null,"- ohlášení uzavírání vody",null,null,3]
[null,null,"- uzavření a otevření šoupat",null,null,null,null,null,null,null,null,"- uzavření a otevření šoupat",null,null,3]
[null,null,"- vypuštění a napuštění vody",null,null,null,null,null,null,null,null,"- vypuštění a napuštění vody",null,null,3]
[null,null,"- odvzdušnění potrubí",null,null,null,null,null,null,null,null,"- odvzdušnění potrubí",null,null,3]
[null,null,"- strojní nebo ruční výřez potrubí",null,null,null,null,null,null,null,null,"- strojní nebo ruční výřez potrubí",null,null,3]
[null,null,"- nutné úpravy výkopu v prostoru provádění",null,null,null,null,null,null,null,null,"- nutné úpravy výkopu v prostoru provádění",null,null,3]
[null,null,"- montáž tvarovky",null,null,null,null,null,null,null,null,"- montáž tvarovky",null,null,3]
[16,"857242121R00","Montáž tvarovek litin. jednoos.přír. výkop DN 80 ","kus",2,null,{"$f":"E100*F100","v":0},2.2000000000000001E-4,{"$f":"E100*H100","v":4.4000000000000002E-4},0,{"$f":"E100*J100","v":0},null,null,null,2,null,null,null,null,null,null,null,null,null,null,null,1,1,1,null,null,null,null,null,null,null,null,null,null,null,null,null,null,null,null,null,null,null,null,null,null,1,{"$f":"IF(AZ100=1,G100,0)","v":0},{"$f":"IF(AZ100=2,G100,0)","v":0},{"$f":"IF(AZ100=3,G100,0)","v":0},{"$f":"IF(AZ100=4,G100,0)","v":0},{"$f":"IF(AZ100=5,G100,0)","v":0},null,null,null,null,null,null,null,null,null,null,null,null,null,null,null,null,null,null,null,null,null,1,1]
[null,null,"Položka je určena pro montáž litinových tvarovek na potrubí litinovém tlakovém přírubovém jednoosých v otevřeném výkopu, v otevřeném kanálu nebo v šachtě.",null,null,null,null,null,null,null,null,"Položka je určena pro montáž litinových tvarovek na potrubí litinovém tlakovém přírubovém jednoosých v otevřeném výkopu, v otevřeném kanálu nebo v šachtě.",null,null,3]
[null,null,"Součástí položky je i dodávka nerezových spojovacích prvků (šrouby, podložky, matky) a kompletního obandážování spojů.",null,null,null,null,null,null,null,null,"Součástí položky je i dodávka nerezových spojovacích prvků (šrouby, podložky, matky) a kompletního obandážování spojů.",null,null,3]
[null,null,"Přeložka vodovodního řadu PE D 110x10,0 mm:",null,0,null,null,null,null,null,null,null,"Přeložka vodovodního řadu PE D 110x10,0 mm:"]
[null,null,"N DN80:1",null,1,null,null,null,null,null,null,null,"N DN80:1"]
[null,null,"FF DN80/200:1",null,1,null,null,null,null,null,null,null,"FF DN80/200:1"]
[17,"857262121R00","Montáž tvarovek litin. jednoos. přír. výkop DN 100 ","kus",10,null,{"$f":"E106*F106","v":0},4.0999999999999999E-4,{"$f":"E106*H106","v":4.0999999999999995E-3},0,{"$f":"E106*J106","v":0},null,null,null,2,null,null,null,null,null,null,null,null,null,null,null,1,1,1,null,null,null,null,null,null,null,null,null,null,null,null,null,null,null,null,null,null,null,null,null,null,1,{"$f":"IF(AZ106=1,G106,0)","v":0},{"$f":"IF(AZ106=2,G106,0)","v":0},{"$f":"IF(AZ106=3,G106,0)","v":0},{"$f":"IF(AZ106=4,G106,0)","v":0},{"$f":"IF(AZ106=5,G106,0)","v":0},null,null,null,null,null,null,null,null,null,null,null,null,null,null,null,null,null,null,null,null,null,1,1]
[null,null,"Položka je určena pro montáž litinových tvarovek na potrubí litinovém tlakovém přírubovém jednoosých v otevřeném výkopu, v otevřeném kanálu nebo v šachtě.",null,null,null,null,null,null,null,null,"Položka je určena pro montáž litinových tvarovek na potrubí litinovém tlakovém přírubovém jednoosých v otevřeném výkopu, v otevřeném kanálu nebo v šachtě.",null,null,3]
[null,null,"Součástí položky je i dodávka nerezových spojovacích prvků (šrouby, podložky, matky) a kompletního obandážování spojů.",null,null,null,null,null,null,null,null,"Součástí položky je i dodávka nerezových spojovacích prvků (šrouby, podložky, matky) a kompletního obandážování spojů.",null,null,3]
[null,null,"Přeložka vodovodního řadu PE D 110x10,0 mm:",null,0,null,null,null,null,null,null,null,"Přeložka vodovodního řadu PE D 110x10,0 mm:"]
[null,null,"Synoflex s přírubou DN100:3",null,3,null,null,null,null,null,null,null,"Synoflex s přírubou DN100:3"]
[null,null,"Synoflex DN100:1",null,1,null,null,null,null,null,null,null,"Synoflex DN100:1"]
[null,null,"FF DN100/200:1",null,1,null,null,null,null,null,null,null,"FF DN100/200:1"]
[null,null,"FF DN100/1000:4",null,4,null,null,null,null,null,null,null,"FF DN100/1000:4"]
[null,null,"LN + TP D110/DN100:1",null,1,null,null,null,null,null,null,null,"LN + TP D110/DN100:1"]
[18,"857264121R00","Montáž tvarovek litin. odboč. přír. výkop DN 100 ","kus",2,null,{"$f":"E115*F115","v":0},6.2E-4,{"$f":"E115*H115","v":1.24E-3},0,{"$f":"E115*J115","v":0},null,null,null,2,null,null,null,null,null,null,null,null,null,null,null,1,1,1,null,null,null,null,null,null,null,null,null,null,null,null,null,null,null,null,null,null,null,null,null,null,1,{"$f":"IF(AZ115=1,G115,0)","v":0},{"$f":"IF(AZ115=2,G115,0)","v":0},{"$f":"IF(AZ115=3,G115,0)","v":0},{"$f":"IF(AZ115=4,G115,0)","v":0},{"$f":"IF(AZ115=5,G115,0)","v":0},null,null,null,null,null,null,null,null,null,null,null,null,null,null,null,null,null,null,null,null,null,1,1]
[null,null,"Položka je určena pro montáž litinových tvarovek na potrubí litinovém tlakovém přírubovém odbočných v otevřeném výkopu, v otevřeném kanálu nebo v šachtě.",null,null,null,null,null,null,null,null,"Položka je určena pro montáž litinových tvarovek na potrubí litinovém tlakovém přírubovém odbočných v otevřeném výkopu, v otevřeném kanálu nebo v šachtě.",null,null,3]
[null,null,"Součástí položky je i dodávka nerezových spojovacích prvků (šrouby, podložky, matky) a kompletního obandážování spojů.",null,null,null,null,null,null,null,null,"Součástí položky je i dodávka nerezových spojovacích prvků (šrouby, podložky, matky) a kompletního obandážování spojů.",null,null,3]
[null,null,"Přeložka vodovodního řadu PE D 110x10,0 mm:",null,0,null,null,null,null,null,null,null,"Přeložka vodovodního řadu PE D 110x10,0 mm:"]
[null,null,"T DN100/80:1",null,1,null,null,null,null,null,null,null,"T DN100/80:1"]
[null,null,"TT DN100/100:1",null,1,null,null,null,null,null,null,null,"TT DN100/100:1"]
[19,"871161121R00","Montáž trubek polyetylenových ve výkopu d 32 mm ","m",23,null,{"$f":"E121*F121","v":0},0,{"$f":"E121*H121","v":0},0,{"$f":"E121*J121","v":0},null,null,null,2,null,null,null,null,null,null,null,null,null,null,null,1,1,1,null,null,null,null,null,null,null,null,null,null,null,null,null,null,null,null,null,null,null,null,null,null,1,{"$f":"IF(AZ121=1,G121,0)","v":0},{"$f":"IF(AZ121=2,G121,0)","v":0},{"$f":"IF(AZ121=3,G121,0)","v":0},{"$f":"IF(AZ121=4,G121,0)","v":0},{"$f":"IF(AZ121=5,G121,0)","v":0},null,null,null,null,null,null,null,null,null,null,null,null,null,null,null,null,null,null,null,null,null,1,1]
[null,null,"V položce je uvažováno použití svitku.",null,null,null,null,null,null,null,null,"V položce je uvažováno použití svitku.",null,null,3]
[null,null,"Přeložka vodovodního řadu PE D 110x10,0 mm:",null,0,null,null,null,null,null,null,null,"Přeložka vodovodního řadu PE D 110x10,0 mm:"]
[null,null,"Přepojení VP D 32x3,0 mm (7 kusů):23,00",null,23,null,null,null,null,null,null,null,"Přepojení VP D 32x3,0 mm (7 kusů):23,00"]
[20,"871251121R00","Montáž trubek polyetylenových ve výkopu d 110 mm ","m",146,null,{"$f":"E125*F125","v":0},0,{"$f":"E125*H125","v":0},0,{"$f":"E125*J125","v":0},null,null,null,2,null,null,null,null,null,null,null,null,null,null,null,1,1,1,null,null,null,null,null,null,null,null,null,null,null,null,null,null,null,null,null,null,null,null,null,null,1,{"$f":"IF(AZ125=1,G125,0)","v":0},{"$f":"IF(AZ125=2,G125,0)","v":0},{"$f":"IF(AZ125=3,G125,0)","v":0},{"$f":"IF(AZ125=4,G125,0)","v":0},{"$f":"IF(AZ125=5,G125,0)","v":0},null,null,null,null,null,null,null,null,null,null,null,null,null,null,null,null,null,null,null,null,null,1,1]
[null,null,"V položce je uvažováno s jedním spojem na 6 m potrubí.",null,null,null,null,null,null,null,null,"V položce je uvažováno s jedním spojem na 6 m potrubí.",null,null,3]
[null,null,"Přeložka vodovodního řadu PE D 110x10,0 mm:146,00",null,146,null,null,null,null,null,null,null,"Přeložka vodovodního řadu PE D 110x10,0 mm:146,00"]
[21,"877252121R00","Přirážka za 1 spoj elektrotvarovky d 110 mm ","kus",18,null,{"$f":"E128*F128","v":0},0,{"$f":"E128*H128","v":0},0,{"$f":"E128*J128","v":0},null,null,null,2,null,null,null,null,null,null,null,null,null,null,null,1,1,1,null,null,null,null,null,null,null,null,null,null,null,null,null,null,null,null,null,null,null,null,null,null,1,{"$f":"IF(AZ128=1,G128,0)","v":0},{"$f":"IF(AZ128=2,G128,0)","v":0},{"$f":"IF(AZ128=3,G128,0)","v":0},{"$f":"IF(AZ128=4,G128,0)","v":0},{"$f":"IF(AZ128=5,G128,0)","v":0},null,null,null,null,null,null,null,null,null,null,null,null,null,null,null,null,null,null,null,null,null,1,1]
[null,null,"Přeložka vodovodního řadu PE D 110x10,0 mm:",null,0,null,null,null,null,null,null,null,"Přeložka vodovodního řadu PE D 110x10,0 mm:"]
[null,null,"Elektrospojka d 110:16",null,16,null,null,null,null,null,null,null,"Elektrospojka d 110:16"]
[null,null,"Oblouk 30° d 110:2",null,2,null,null,null,null,null,null,null,"Oblouk 30° d 110:2"]
[22,"891183439RX0","Přepojení potrubí PE na přípojkách do DN 25 včetně dodávky přepojovací tvarovky","kus",7,null,{"$f":"E132*F132","v":0},4.6000000000000001E-4,{"$f":"E132*H132","v":3.2200000000000002E-3},0,{"$f":"E132*J132","v":0},null,null,null,2,null,null,null,null,null,null,null,null,null,null,null,1,1,1,null,null,null,null,null,null,null,null,null,null,null,null,null,null,null,null,null,null,null,null,null,null,1,{"$f":"IF(AZ132=1,G132,0)","v":0},{"$f":"IF(AZ132=2,G132,0)","v":0},{"$f":"IF(AZ132=3,G132,0)","v":0},{"$f":"IF(AZ132=4,G132,0)","v":0},{"$f":"IF(AZ132=5,G132,0)","v":0},null,null,null,null,null,null,null,null,null,null,null,null,null,null,null,null,null,null,null,null,null,1,1]
[null,null,"Položka obsahuje přerušení stávajícího potrubí, montáž a dodávku příslušné tvarovky pro propojení stávajícího potrubí s novou přípojkou (PE, ocel a pod.) do DN25",null,null,null,null,null,null,null,null,"Položka obsahuje přerušení stávajícího potrubí, montáž a dodávku příslušné tvarovky pro propojení stávajícího potrubí s novou přípojkou (PE, ocel a pod.) do DN25",null,null,3]
[null,null,"Přeložka vodovodního řadu PE D 110x10,0 mm:",null,0,null,null,null,null,null,null,null,"Přeložka vodovodního řadu PE D 110x10,0 mm:"]
[null,null,"Přepojení VP D 32x3,0 mm (7 kusů):7",null,7,null,null,null,null,null,null,null,"Přepojení VP D 32x3,0 mm (7 kusů):7"]
[23,"891241111R00","Montáž vodovodních šoupátek ve výkopu DN 80 ","kus",1,null,{"$f":"E136*F136","v":0},2.2000000000000001E-4,{"$f":"E136*H136","v":2.2000000000000001E-4},0,{"$f":"E136*J136","v":0},null,null,null,2,null,null,null,null,null,null,null,null,null,null,null,1,1,1,null,null,null,null,null,null,null,null,null,null,null,null,null,null,null,null,null,null,null,null,null,null,1,{"$f":"IF(AZ136=1,G136,0)","v":0},{"$f":"IF(AZ136=2,G136,0)","v":0},{"$f":"IF(AZ136=3,G136,0)","v":0},{"$f":"IF(AZ136=4,G136,0)","v":0},{"$f":"IF(AZ136=5,G136,0)","v":0},null,null,null,null,null,null,null,null,null,null,null,null,null,null,null,null,null,null,null,null,null,1,1]
[null,null,"Položka je určena pro montáž vodovodních šoupátek v otevřeném výkopu nebo v šachtách s osazením zemní soupravy (bez poklopů). V položce jsou zakalkulovány i náklady na vytvoření otvorů ve stropech šachet pro prostup zemních souprav šoupátek. ",null,null,null,null,null,null,null,null,"Položka je určena pro montáž vodovodních šoupátek v otevřeném výkopu nebo v šachtách s osazením zemní soupravy (bez poklopů). V položce jsou zakalkulovány i náklady na vytvoření otvorů ve stropech šachet pro prostup zemních souprav šoupátek. ",null,null,3]
[null,null,"Přeložka vodovodního řadu PE D 110x10,0 mm:",null,0,null,null,null,null,null,null,null,"Přeložka vodovodního řadu PE D 110x10,0 mm:"]
[null,null,"Š DN80:1",null,1,null,null,null,null,null,null,null,"Š DN80:1"]
[24,"891247111R00","Montáž hydrantů podzemních DN 80 ","kus",1,null,{"$f":"E140*F140","v":0},1.1E-4,{"$f":"E140*H140","v":1.1E-4},0,{"$f":"E140*J140","v":0},null,null,null,2,null,null,null,null,null,null,null,null,null,null,null,1,1,1,null,null,null,null,null,null,null,null,null,null,null,null,null,null,null,null,null,null,null,null,null,null,1,{"$f":"IF(AZ140=1,G140,0)","v":0},{"$f":"IF(AZ140=2,G140,0)","v":0},{"$f":"IF(AZ140=3,G140,0)","v":0},{"$f":"IF(AZ140=4,G140,0)","v":0},{"$f":"IF(AZ140=5,G140,0)","v":0},null,null,null,null,null,null,null,null,null,null,null,null,null,null,null,null,null,null,null,null,null,1,1]
[null,null,"Položka je určena pro montáž hydrantů podzemních (bez osazení poklopů) na potrubí. Součástí položky je i montáž drenáže",null,null,null,null,null,null,null,null,"Položka je určena pro montáž hydrantů podzemních (bez osazení poklopů) na potrubí. Součástí položky je i montáž drenáže",null,null,3]
[null,null,"Součástí položky je i dodávka nerezových spojovacích prvků (šrouby, podložky, matky) a kompletního obandážování spojů.",null,null,null,null,null,null,null,null,"Součástí položky je i dodávka nerezových spojovacích prvků (šrouby, podložky, matky) a kompletního obandážování spojů.",null,null,3]
[null,null,"Přeložka vodovodního řadu PE D 110x10,0 mm:",null,0,null,null,null,null,null,null,null,"Přeložka vodovodního řadu PE D 110x10,0 mm:"]
[null,null,"Hp DN80/1,5:1",null,1,null,null,null,null,null,null,null,"Hp DN80/1,5:1"]
[25,"891261221R00","Montáž vodovod. šoupátek šacht. kolečko DN 100 ","kus",4,null,{"$f":"E145*F145","v":0},4.0999999999999999E-4,{"$f":"E145*H145","v":1.64E-3},0,{"$f":"E145*J145","v":0},null,null,null,2,null,null,null,null,null,null,null,null,null,null,null,1,0,0,null,null,null,null,null,null,null,null,null,null,null,null,null,null,null,null,null,null,null,null,null,null,1,{"$f":"IF(AZ145=1,G145,0)","v":0},{"$f":"IF(AZ145=2,G145,0)","v":0},{"$f":"IF(AZ145=3,G145,0)","v":0},{"$f":"IF(AZ145=4,G145,0)","v":0},{"$f":"IF(AZ145=5,G145,0)","v":0},null,null,null,null,null,null,null,null,null,null,null,null,null,null,null,null,null,null,null,null,null,1,0]
[null,null,"Položka je určena pro montáž vodovodních šoupátek v šachtách s ručním kolečkem. ",null,null,null,null,null,null,null,null,"Položka je určena pro montáž vodovodních šoupátek v šachtách s ručním kolečkem. ",null,null,3]
[null,null,"Součástí položky je i dodávka nerezových spojovacích prvků (šrouby, podložky, matky) a kompletního obandážování spojů. ",null,null,null,null,null,null,null,null,"Součástí položky je i dodávka nerezových spojovacích prvků (šrouby, podložky, matky) a kompletního obandážování spojů. ",null,null,3]
[null,null,"Přeložka vodovodního řadu PE D 110x10,0 mm:",null,0,null,null,null,null,null,null,null,"Přeložka vodovodního řadu PE D 110x10,0 mm:"]
[null,null,"Š DN100:4",null,4,null,null,null,null,null,null,null,"Š DN100:4"]
[26,"891269111R01","Montáž navrtávacích pasů DN 100 s ventilem ","kus",7,null,{"$f":"E150*F150","v":0},0,{"$f":"E150*H150","v":0},0,{"$f":"E150*J150","v":0},null,null,null,2,null,null,null,null,null,null,null,null,null,null,null,1,1,1,null,null,null,null,null,null,null,null,null,null,null,null,null,null,null,null,null,null,null,null,null,null,1,{"$f":"IF(AZ150=1,G150,0)","v":0},{"$f":"IF(AZ150=2,G150,0)","v":0},{"$f":"IF(AZ150=3,G150,0)","v":0},{"$f":"IF(AZ150=4,G150,0)","v":0},{"$f":"IF(AZ150=5,G150,0)","v":0},null,null,null,null,null,null,null,null,null,null,null,null,null,null,null,null,null,null,null,null,null,1,1]
[null,null,"Položka je určena pro montáž navrtávacích pasů s ventilem na potrubí z trub osinkocementových, litinových, ocelových nebo plastckých hmot.",null,null,null,null,null,null,null,null,"Položka je určena pro montáž navrtávacích pasů s ventilem na potrubí z trub osinkocementových, litinových, ocelových nebo plastckých hmot.",null,null,3]
[null,null,"Přeložka vodovodního řadu PE D 110x10,0 mm:",null,0,null,null,null,null,null,null,null,"Přeložka vodovodního řadu PE D 110x10,0 mm:"]
[null,null,"Přepojení VP D 32x3,0 mm (7 kusů):7",null,7,null,null,null,null,null,null,null,"Přepojení VP D 32x3,0 mm (7 kusů):7"]
[27,"892233111R00","Desinfekce vodovodního potrubí DN 70 ","m",23,null,{"$f":"E154*F154","v":0},0,{"$f":"E154*H154","v":0},0,{"$f":"E154*J154","v":0},null,null,null,2,null,null,null,null,null,null,null,null,null,null,null,1,1,1,null,null,null,null,null,null,null,null,null,null,null,null,null,null,null,null,null,null,null,null,null,null,1,{"$f":"IF(AZ154=1,G154,0)","v":0},{"$f":"IF(AZ154=2,G154,0)","v":0},{"$f":"IF(AZ154=3,G154,0)","v":0},{"$f":"IF(AZ154=4,G154,0)","v":0},{"$f":"IF(AZ154=5,G154,0)","v":0},null,null,null,null,null,null,null,null,null,null,null,null,null,null,null,null,null,null,null,null,null,1,1]
[null,null,"V položce jsou zakalkulovány náklady na napuštění a vypuštění vody, dodání vody a desinfekčního prostředku a na bakteriologický rozbor vody.",null,null,null,null,null,null,null,null,"V položce jsou zakalkulovány náklady na napuštění a vypuštění vody, dodání vody a desinfekčního prostředku a na bakteriologický rozbor vody.",null,null,3]
[null,null,"Přeložka vodovodního řadu PE D 110x10,0 mm:",null,0,null,null,null,null,null,null,null,"Přeložka vodovodního řadu PE D 110x10,0 mm:"]
[null,null,"Přepojení VP D 32x3,0 mm (7 kusů):23,00",null,23,null,null,null,null,null,null,null,"Přepojení VP D 32x3,0 mm (7 kusů):23,00"]
[28,"892241111R00","Tlaková zkouška vodovodního potrubí DN 80 včetně zajištění konců potrubí","m",23,null,{"$f":"E158*F158","v":0},0,{"$f":"E158*H158","v":0},0,{"$f":"E158*J158","v":0},null,null,null,2,null,null,null,null,null,null,null,null,null,null,null,1,1,1,null,null,null,null,null,null,null,null,null,null,null,null,null,null,null,null,null,null,null,null,null,null,1,{"$f":"IF(AZ158=1,G158,0)","v":0},{"$f":"IF(AZ158=2,G158,0)","v":0},{"$f":"IF(AZ158=3,G158,0)","v":0},{"$f":"IF(AZ158=4,G158,0)","v":0},{"$f":"IF(AZ158=5,G158,0)","v":0},null,null,null,null,null,null,null,null,null,null,null,null,null,null,null,null,null,null,null,null,null,1,1]
[null,null,"V položce jsou započteny náklady na přísun, montáž, demontáž a odsun zkoušecího čerpadla, napuštění tlakovou vodou a dodání vody pro tlakovou zkoušku.",null,null,null,null,null,null,null,null,"V položce jsou započteny náklady na přísun, montáž, demontáž a odsun zkoušecího čerpadla, napuštění tlakovou vodou a dodání vody pro tlakovou zkoušku.",null,null,3]
[null,null,"Přeložka vodovodního řadu PE D 110x10,0 mm:",null,0,null,null,null,null,null,null,null,"Přeložka vodovodního řadu PE D 110x10,0 mm:"]
[null,null,"Přepojení VP D 32x3,0 mm (7 kusů):23,00",null,23,null,null,null,null,null,null,null,"Přepojení VP D 32x3,0 mm (7 kusů):23,00"]
[29,"892271111R00","Tlaková zkouška vodovodního potrubí DN 125 včetně zajištění konců potrubí","m",146,null,{"$f":"E162*F162","v":0},0,{"$f":"E162*H162","v":0},0,{"$f":"E162*J162","v":0},null,null,null,2,null,null,null,null,null,null,null,null,null,null,null,1,1,1,null,null,null,null,null,null,null,null,null,null,null,null,null,null,null,null,null,null,null,null,null,null,1,{"$f":"IF(AZ162=1,G162,0)","v":0},{"$f":"IF(AZ162=2,G162,0)","v":0},{"$f":"IF(AZ162=3,G162,0)","v":0},{"$f":"IF(AZ162=4,G162,0)","v":0},{"$f":"IF(AZ162=5,G162,0)","v":0},null,null,null,null,null,null,null,null,null,null,null,null,null,null,null,null,null,null,null,null,null,1,1]
[null,null,"V položce jsou započteny náklady na přísun, montáž, demontáž a odsun zkoušecího čerpadla, napuštění tlakovou vodou a dodání vody pro tlakovou zkoušku.",null,null,null,null,null,null,null,null,"V položce jsou započteny náklady na přísun, montáž, demontáž a odsun zkoušecího čerpadla, napuštění tlakovou vodou a dodání vody pro tlakovou zkoušku.",null,null,3]
[null,null,"Přeložka vodovodního řadu PE D 110x10,0 mm:146,00",null,146,null,null,null,null,null,null,null,"Přeložka vodovodního řadu PE D 110x10,0 mm:146,00"]
[30,"892273111R00","Desinfekce vodovodního potrubí DN 125 ","m",146,null,{"$f":"E165*F165","v":0},0,{"$f":"E165*H165","v":0},0,{"$f":"E165*J165","v":0},null,null,null,2,null,null,null,null,null,null,null,null,null,null,null,1,1,1,null,null,null,null,null,null,null,null,null,null,null,null,null,null,null,null,null,null,null,null,null,null,1,{"$f":"IF(AZ165=1,G165,0)","v":0},{"$f":"IF(AZ165=2,G165,0)","v":0},{"$f":"IF(AZ165=3,G165,0)","v":0},{"$f":"IF(AZ165=4,G165,0)","v":0},{"$f":"IF(AZ165=5,G165,0)","v":0},null,null,null,null,null,null,null,null,null,null,null,null,null,null,null,null,null,null,null,null,null,1,1]
[null,null,"V položce jsou zakalkulovány náklady na napuštění a vypuštění vody, dodání vody a desinfekčního prostředku a na bakteriologický rozbor vody.",null,null,null,null,null,null,null,null,"V položce jsou zakalkulovány náklady na napuštění a vypuštění vody, dodání vody a desinfekčního prostředku a na bakteriologický rozbor vody.",null,null,3]
[null,null,"Přeložka vodovodního řadu PE D 110x10,0 mm:146,00",null,146,null,null,null,null,null,null,null,"Přeložka vodovodního řadu PE D 110x10,0 mm:146,00"]
[31,"899401111R00","Osazení poklopů litinových ventilových ","kus",7,null,{"$f":"E168*F168","v":0},6.3829999999999998E-2,{"$f":"E168*H168","v":0.44680999999999998},0,{"$f":"E168*J168","v":0},null,null,null,2,null,null,null,null,null,null,null,null,null,null,null,1,1,1,null,null,null,null,null,null,null,null,null,null,null,null,null,null,null,null,null,null,null,null,null,null,1,{"$f":"IF(AZ168=1,G168,0)","v":0},{"$f":"IF(AZ168=2,G168,0)","v":0},{"$f":"IF(AZ168=3,G168,0)","v":0},{"$f":"IF(AZ168=4,G168,0)","v":0},{"$f":"IF(AZ168=5,G168,0)","v":0},null,null,null,null,null,null,null,null,null,null,null,null,null,null,null,null,null,null,null,null,null,1,1]
[null,null,"V položkách osazení poklopů jsou zakalkulovány i náklady na jejich podezdění nebo osazení poklopů samonivelačních.",null,null,null,null,null,null,null,null,"V položkách osazení poklopů jsou zakalkulovány i náklady na jejich podezdění nebo osazení poklopů samonivelačních.",null,null,3]
[null,null,"Přeložka vodovodního řadu PE D 110x10,0 mm:",null,0,null,null,null,null,null,null,null,"Přeložka vodovodního řadu PE D 110x10,0 mm:"]
[null,null,"Pro přepojení VP D 32x3,0 mm (7 kusů):7",null,7,null,null,null,null,null,null,null,"Pro přepojení VP D 32x3,0 mm (7 kusů):7"]
[32,"899401112R00","Osazení poklopů litinových šoupátkových ","kus",1,null,{"$f":"E172*F172","v":0},0.11178,{"$f":"E172*H172","v":0.11178},0,{"$f":"E172*J172","v":0},null,null,null,2,null,null,null,null,null,null,null,null,null,null,null,1,1,1,null,null,null,null,null,null,null,null,null,null,null,null,null,null,null,null,null,null,null,null,null,null,1,{"$f":"IF(AZ172=1,G172,0)","v":0},{"$f":"IF(AZ172=2,G172,0)","v":0},{"$f":"IF(AZ172=3,G172,0)","v":0},{"$f":"IF(AZ172=4,G172,0)","v":0},{"$f":"IF(AZ172=5,G172,0)","v":0},null,null,null,null,null,null,null,null,null,null,null,null,null,null,null,null,null,null,null,null,null,1,1]
[null,null,"V položkách osazení poklopů jsou zakalkulovány i náklady na jejich podezdění nebo osazení poklopů samonivelačních.",null,null,null,null,null,null,null,null,"V položkách osazení poklopů jsou zakalkulovány i náklady na jejich podezdění nebo osazení poklopů samonivelačních.",null,null,3]
[null,null,"Přeložka vodovodního řadu PE D 110x10,0 mm:",null,0,null,null,null,null,null,null,null,"Přeložka vodovodního řadu PE D 110x10,0 mm:"]
[null,null,"Pro Š DN80:1",null,1,null,null,null,null,null,null,null,"Pro Š DN80:1"]
[33,"899401113R00","Osazení poklopů litinových hydrantových ","kus",1,null,{"$f":"E176*F176","v":0},0.29823,{"$f":"E176*H176","v":0.29823},0,{"$f":"E176*J176","v":0},null,null,null,2,null,null,null,null,null,null,null,null,null,null,null,1,1,1,null,null,null,null,null,null,null,null,null,null,null,null,null,null,null,null,null,null,null,null,null,null,1,{"$f":"IF(AZ176=1,G176,0)","v":0},{"$f":"IF(AZ176=2,G176,0)","v":0},{"$f":"IF(AZ176=3,G176,0)","v":0},{"$f":"IF(AZ176=4,G176,0)","v":0},{"$f":"IF(AZ176=5,G176,0)","v":0},null,null,null,null,null,null,null,null,null,null,null,null,null,null,null,null,null,null,null,null,null,1,1]
[null,null,"V položkách osazení poklopů jsou zakalkulovány i náklady na jejich podezdění nebo osazení poklopů samonivelačních.",null,null,null,null,null,null,null,null,"V položkách osazení poklopů jsou zakalkulovány i náklady na jejich podezdění nebo osazení poklopů samonivelačních.",null,null,3]
[null,null,"Přeložka vodovodního řadu PE D 110x10,0 mm:",null,0,null,null,null,null,null,null,null,"Přeložka vodovodního řadu PE D 110x10,0 mm:"]
[null,null,"Pro Hp DN80/1,5:1",null,1,null,null,null,null,null,null,null,"Pro Hp DN80/1,5:1"]
[34,"899711122R00","Fólie výstražná z PVC, šířka 30 cm ","m",169,null,{"$f":"E180*F180","v":0},0,{"$f":"E180*H180","v":0},0,{"$f":"E180*J180","v":0},null,null,null,2,null,null,null,null,null,null,null,null,null,null,null,1,1,1,null,null,null,null,null,null,null,null,null,null,null,null,null,null,null,null,null,null,null,null,null,null,1,{"$f":"IF(AZ180=1,G180,0)","v":0},{"$f":"IF(AZ180=2,G180,0)","v":0},{"$f":"IF(AZ180=3,G180,0)","v":0},{"$f":"IF(AZ180=4,G180,0)","v":0},{"$f":"IF(AZ180=5,G180,0)","v":0},null,null,null,null,null,null,null,null,null,null,null,null,null,null,null,null,null,null,null,null,null,1,1]
[null,null,"Přeložka vodovodního řadu PE D 110x10,0 mm:146,00",null,146,null,null,null,null,null,null,null,"Přeložka vodovodního řadu PE D 110x10,0 mm:146,00"]
[null,null,"Přepojení VP D 32x3,0 mm (7 kusů):23,00",null,23,null,null,null,null,null,null,null,"Přepojení VP D 32x3,0 mm (7 kusů):23,00"]
[35,"899713111RRX","Orientační tabulky na sloupku ocelovém, betonovém ","kus",10,null,{"$f":"E183*F183","v":0},2.4000000000000001E-4,{"$f":"E183*H183","v":2.4000000000000002E-3},0,{"$f":"E183*J183","v":0},null,null,null,2,null,null,null,null,null,null,null,null,null,null,null,1,1,1,null,null,null,null,null,null,null,null,null,null,null,null,null,null,null,null,null,null,null,null,null,null,1,{"$f":"IF(AZ183=1,G183,0)","v":0},{"$f":"IF(AZ183=2,G183,0)","v":0},{"$f":"IF(AZ183=3,G183,0)","v":0},{"$f":"IF(AZ183=4,G183,0)","v":0},{"$f":"IF(AZ183=5,G183,0)","v":0},null,null,null,null,null,null,null,null,null,null,null,null,null,null,null,null,null,null,null,null,null,1,1]
[null,null,"Položka platí pro orientační tabulky na vodovodních a kanalizačních řadech. V položce jsou zakalkulovány náklady na dodání a připevnění tabulky a na osazení sloupku. V položce jsou zakalkulovány náklady na zemní práce a na dodání sloupků (betonových nebo ocelových s betonovými patkami)",null,null,null,null,null,null,null,null,"Položka platí pro orientační tabulky na vodovodních a kanalizačních řadech. V položce jsou zakalkulovány náklady na dodání a připevnění tabulky a na osazení sloupku. V položce jsou zakalkulovány náklady na zemní práce a na dodání sloupků (betonových nebo ocelových s betonovými patkami)",null,null,3]
[null,null,"Přeložka vodovodního řadu PE D 110x10,0 mm:",null,0,null,null,null,null,null,null,null,"Přeložka vodovodního řadu PE D 110x10,0 mm:"]
[null,null,"Pro Š DN80:1",null,1,null,null,null,null,null,null,null,"Pro Š DN80:1"]
[null,null,"Pro Hp DN80/1,5:1",null,1,null,null,null,null,null,null,null,"Pro Hp DN80/1,5:1"]
[null,null,"Pro přepojení VP D 32x3,0 mm (7 kusů):7",null,7,null,null,null,null,null,null,null,"Pro přepojení VP D 32x3,0 mm (7 kusů):7"]
[null,null,"Spojovací šachta včetně označení vnitřních armatur:1",null,1,null,null,null,null,null,null,null,"Spojovací šachta včetně označení vnitřních armatur:1"]
[36,"899731114R00","Vodič signalizační CYY 6 mm2 ","m",197,null,{"$f":"E190*F190","v":0},8.0000000000000007E-5,{"$f":"E190*H190","v":1.576E-2},0,{"$f":"E190*J190","v":0},null,null,null,2,null,null,null,null,null,null,null,null,null,null,null,1,1,1,null,null,null,null,null,null,null,null,null,null,null,null,null,null,null,null,null,null,null,null,null,null,1,{"$f":"IF(AZ190=1,G190,0)","v":0},{"$f":"IF(AZ190=2,G190,0)","v":0},{"$f":"IF(AZ190=3,G190,0)","v":0},{"$f":"IF(AZ190=4,G190,0)","v":0},{"$f":"IF(AZ190=5,G190,0)","v":0},null,null,null,null,null,null,null,null,null,null,null,null,null,null,null,null,null,null,null,null,null,1,1]
[null,null,"Součástí položky je zajištění proměření vodiče a výchozí revize.",null,null,null,null,null,null,null,null,"Součástí položky je zajištění proměření vodiče a výchozí revize.",null,null,3]
[null,null,"Přeložka vodovodního řadu PE D 110x10,0 mm:146,00",null,146,null,null,null,null,null,null,null,"Přeložka vodovodního řadu PE D 110x10,0 mm:146,00"]
[null,null,"Přepojení VP D 32x3,0 mm (7 kusů):23,00",null,23,null,null,null,null,null,null,null,"Přepojení VP D 32x3,0 mm (7 kusů):23,00"]
[null,null,"Vyvedení:",null,0,null,null,null,null,null,null,null,"Vyvedení:"]
[null,null,"Pro přepojení VP D 32x3,0 mm 7 kusů):2,00*2*7",null,28,null,null,null,null,null,null,null,"Pro přepojení VP D 32x3,0 mm 7 kusů):2,00*2*7"]
[37,"28613078.DAV","T-kus odbočkový navrtávací DAV (KIT) D110/32","kus",7,null,{"$f":"E196*F196","v":0},0,{"$f":"E196*H196","v":0},null,{"$f":"E196*J196","v":0},null,null,null,2,null,null,null,null,null,null,null,null,null,null,null,3,1,"28613078.DAV",null,null,null,null,null,null,null,null,null,null,null,null,null,null,null,null,null,null,null,null,null,null,1,{"$f":"IF(AZ196=1,G196,0)","v":0},{"$f":"IF(AZ196=2,G196,0)","v":0},{"$f":"IF(AZ196=3,G196,0)","v":0},{"$f":"IF(AZ196=4,G196,0)","v":0},{"$f":"IF(AZ196=5,G196,0)","v":0},null,null,null,null,null,null,null,null,null,null,null,null,null,null,null,null,null,null,null,null,null,3,1]
[null,null,"Přeložka vodovodního řadu PE D 110x10,0 mm:",null,0,null,null,null,null,null,null,null,"Přeložka vodovodního řadu PE D 110x10,0 mm:"]
[null,null,"Pro přepojení VP D 32x3,0 mm (7 kusů):7",null,7,null,null,null,null,null,null,null,"Pro přepojení VP D 32x3,0 mm (7 kusů):7"]
[38,"28613090.EBS","Zemní souprava EBS 1,1-1,8 pro DAV (KIT)","kus",7,null,{"$f":"E199*F199","v":0},0,{"$f":"E199*H199","v":0},null,{"$f":"E199*J199","v":0},null,null,null,2,null,null,null,null,null,null,null,null,null,null,null,3,1,"28613090.EBS",null,null,null,null,null,null,null,null,null,null,null,null,null,null,null,null,null,null,null,null,null,null,1,{"$f":"IF(AZ199=1,G199,0)","v":0},{"$f":"IF(AZ199=2,G199,0)","v":0},{"$f":"IF(AZ199=3,G199,0)","v":0},{"$f":"IF(AZ199=4,G199,0)","v":0},{"$f":"IF(AZ199=5,G199,0)","v":0},null,null,null,null,null,null,null,null,null,null,null,null,null,null,null,null,null,null,null,null,null,3,1]
[null,null,"Přeložka vodovodního řadu PE D 110x10,0 mm:",null,0,null,null,null,null,null,null,null,"Přeložka vodovodního řadu PE D 110x10,0 mm:"]
[null,null,"Pro přepojení VP D 32x3,0 mm (7 kusů):7",null,7,null,null,null,null,null,null,null,"Pro přepojení VP D 32x3,0 mm (7 kusů):7"]
[39,"28613565","Trubka PE100RC2 SDR11  32x3,0 mm L 100 m","m",22.33,null,{"$f":"E202*F202","v":0},1.4400000000000001E-3,{"$f":"E202*H202","v":3.2155200000000002E-2},null,{"$f":"E202*J202","v":0},null,null,null,2,null,null,null,null,null,null,null,null,null,null,null,3,1,28613565,null,null,null,null,null,null,null,null,null,null,null,null,null,null,null,null,null,null,null,null,null,null,1,{"$f":"IF(AZ202=1,G202,0)","v":0},{"$f":"IF(AZ202=2,G202,0)","v":0},{"$f":"IF(AZ202=3,G202,0)","v":0},{"$f":"IF(AZ202=4,G202,0)","v":0},{"$f":"IF(AZ202=5,G202,0)","v":0},null,null,null,null,null,null,null,null,null,null,null,null,null,null,null,null,null,null,null,null,null,3,1]
[null,null,"Přeložka vodovodního řadu PE D 110x10,0 mm:",null,0,null,null,null,null,null,null,null,"Přeložka vodovodního řadu PE D 110x10,0 mm:"]
[null,null,"Přepojení VP D 32x3,0 mm (7 kusů):22,00*1,015",null,22.33,null,null,null,null,null,null,null,"Přepojení VP D 32x3,0 mm (7 kusů):22,00*1,015"]
[40,"28613587","Trubka PE100RC2 SDR11 D 110x10,0 mm L 12m","m",148.19,null,{"$f":"E205*F205","v":0},3.79E-3,{"$f":"E205*H205","v":0.56164009999999998},null,{"$f":"E205*J205","v":0},null,null,null,2,null,null,null,null,null,null,null,null,null,null,null,3,1,28613587,null,null,null,null,null,null,null,null,null,null,null,null,null,null,null,null,null,null,null,null,null,null,1,{"$f":"IF(AZ205=1,G205,0)","v":0},{"$f":"IF(AZ205=2,G205,0)","v":0},{"$f":"IF(AZ205=3,G205,0)","v":0},{"$f":"IF(AZ205=4,G205,0)","v":0},{"$f":"IF(AZ205=5,G205,0)","v":0},null,null,null,null,null,null,null,null,null,null,null,null,null,null,null,null,null,null,null,null,null,3,1]
[null,null,"Přeložka vodovodního řadu PE D 110x10,0 mm:146,00*1,015",null,148.19,null,null,null,null,null,null,null,"Přeložka vodovodního řadu PE D 110x10,0 mm:146,00*1,015"]
[41,"28653086","Elektrospojka d 110 mm PE 100 SDR11","kus",16.239999999999998,null,{"$f":"E207*F207","v":0},1.2999999999999999E-3,{"$f":"E207*H207","v":2.1111999999999995E-2},null,{"$f":"E207*J207","v":0},null,null,null,2,null,null,null,null,null,null,null,null,null,null,null,3,1,28653086,null,null,null,null,null,null,null,null,null,null,null,null,null,null,null,null,null,null,null,null,null,null,1,{"$f":"IF(AZ207=1,G207,0)","v":0},{"$f":"IF(AZ207=2,G207,0)","v":0},{"$f":"IF(AZ207=3,G207,0)","v":0},{"$f":"IF(AZ207=4,G207,0)","v":0},{"$f":"IF(AZ207=5,G207,0)","v":0},null,null,null,null,null,null,null,null,null,null,null,null,null,null,null,null,null,null,null,null,null,3,1]
[null,null,"Přeložka vodovodního řadu PE D 110x10,0 mm:",null,0,null,null,null,null,null,null,null,"Přeložka vodovodního řadu PE D 110x10,0 mm:"]
[null,null,"Elektrospojka d 110:16*1,015",null,16.239999999999998,null,null,null,null,null,null,null,"Elektrospojka d 110:16*1,015"]
[42,"28653196","Oblouk 30° d 110 mm PE 100 SDR11","kus",2.0299999999999998,null,{"$f":"E210*F210","v":0},1.2999999999999999E-3,{"$f":"E210*H210","v":2.6389999999999994E-3},null,{"$f":"E210*J210","v":0},null,null,null,2,null,null,null,null,null,null,null,null,null,null,null,3,1,28653196,null,null,null,null,null,null,null,null,null,null,null,null,null,null,null,null,null,null,null,null,null,null,1,{"$f":"IF(AZ210=1,G210,0)","v":0},{"$f":"IF(AZ210=2,G210,0)","v":0},{"$f":"IF(AZ210=3,G210,0)","v":0},{"$f":"IF(AZ210=4,G210,0)","v":0},{"$f":"IF(AZ210=5,G210,0)","v":0},null,null,null,null,null,null,null,null,null,null,null,null,null,null,null,null,null,null,null,null,null,3,1]
[null,null,"Přeložka vodovodního řadu PE D 110x10,0 mm:",null,0,null,null,null,null,null,null,null,"Přeložka vodovodního řadu PE D 110x10,0 mm:"]
[null,null,"Oblouk 30° d 110:2*1,015",null,2.0299999999999998,null,null,null,null,null,null,null,"Oblouk 30° d 110:2*1,015"]
[43,"28653766","LN + TP D110/DN100 PE100 SDR11","kus",1.0149999999999999,null,{"$f":"E213*F213","v":0},3.5E-4,{"$f":"E213*H213","v":3.5524999999999999E-4},null,{"$f":"E213*J213","v":0},null,null,null,2,null,null,null,null,null,null,null,null,null,null,null,3,1,28653766,null,null,null,null,null,null,null,null,null,null,null,null,null,null,null,null,null,null,null,null,null,null,1,{"$f":"IF(AZ213=1,G213,0)","v":0},{"$f":"IF(AZ213=2,G213,0)","v":0},{"$f":"IF(AZ213=3,G213,0)","v":0},{"$f":"IF(AZ213=4,G213,0)","v":0},{"$f":"IF(AZ213=5,G213,0)","v":0},null,null,null,null,null,null,null,null,null,null,null,null,null,null,null,null,null,null,null,null,null,3,1]
[null,null,"Přeložka vodovodního řadu PE D 110x10,0 mm:",null,0,null,null,null,null,null,null,null,"Přeložka vodovodního řadu PE D 110x10,0 mm:"]
[null,null,"LN + TP D110/DN100:1*1,015",null,1.0149999999999999,null,null,null,null,null,null,null,"LN + TP D110/DN100:1*1,015"]
[44,"42200240.3","Hydrant DUO podzemní DN80/1,50 m","kus",1,null,{"$f":"E216*F216","v":0},4.7999999999999996E-3,{"$f":"E216*H216","v":4.7999999999999996E-3},null,{"$f":"E216*J216","v":0},null,null,null,2,null,null,null,null,null,null,null,null,null,null,null,3,1,42200240.299999997,null,null,null,null,null,null,null,null,null,null,null,null,null,null,null,null,null,null,null,null,null,null,1,{"$f":"IF(AZ216=1,G216,0)","v":0},{"$f":"IF(AZ216=2,G216,0)","v":0},{"$f":"IF(AZ216=3,G216,0)","v":0},{"$f":"IF(AZ216=4,G216,0)","v":0},{"$f":"IF(AZ216=5,G216,0)","v":0},null,null,null,null,null,null,null,null,null,null,null,null,null,null,null,null,null,null,null,null,null,3,1]
[null,null,"Přeložka vodovodního řadu PE D 110x10,0 mm:",null,0,null,null,null,null,null,null,null,"Přeložka vodovodního řadu PE D 110x10,0 mm:"]
[null,null,"Hp DN80/1,5:1",null,1,null,null,null,null,null,null,null,"Hp DN80/1,5:1"]
[45,"42200740.SN","Poklop uliční těžký 1650  - voda + podkladová deska nebo samonivelační","kus",7,null,{"$f":"E219*F219","v":0},6.4999999999999997E-3,{"$f":"E219*H219","v":4.5499999999999999E-2},null,{"$f":"E219*J219","v":0},null,null,null,2,null,null,null,null,null,null,null,null,null,null,null,3,1,"42200740.SN",null,null,null,null,null,null,null,null,null,null,null,null,null,null,null,null,null,null,null,null,null,null,1,{"$f":"IF(AZ219=1,G219,0)","v":0},{"$f":"IF(AZ219=2,G219,0)","v":0},{"$f":"IF(AZ219=3,G219,0)","v":0},{"$f":"IF(AZ219=4,G219,0)","v":0},{"$f":"IF(AZ219=5,G219,0)","v":0},null,null,null,null,null,null,null,null,null,null,null,null,null,null,null,null,null,null,null,null,null,3,1]
[null,null,"Přeložka vodovodního řadu PE D 110x10,0 mm:",null,0,null,null,null,null,null,null,null,"Přeložka vodovodního řadu PE D 110x10,0 mm:"]
[null,null,"Pro přepojení VP D 32x3,0 mm (7 kusů):7",null,7,null,null,null,null,null,null,null,"Pro přepojení VP D 32x3,0 mm (7 kusů):7"]
[46,"42200750.SN","Poklop uliční šoupátkový 1750  - voda + podkladová deska nebo samonivelační","kus",1,null,{"$f":"E222*F222","v":0},1.1299999999999999E-2,{"$f":"E222*H222","v":1.1299999999999999E-2},null,{"$f":"E222*J222","v":0},null,null,null,2,null,null,null,null,null,null,null,null,null,null,null,3,1,"42200750.SN",null,null,null,null,null,null,null,null,null,null,null,null,null,null,null,null,null,null,null,null,null,null,1,{"$f":"IF(AZ222=1,G222,0)","v":0},{"$f":"IF(AZ222=2,G222,0)","v":0},{"$f":"IF(AZ222=3,G222,0)","v":0},{"$f":"IF(AZ222=4,G222,0)","v":0},{"$f":"IF(AZ222=5,G222,0)","v":0},null,null,null,null,null,null,null,null,null,null,null,null,null,null,null,null,null,null,null,null,null,3,1]
[null,null,"Přeložka vodovodního řadu PE D 110x10,0 mm:",null,0,null,null,null,null,null,null,null,"Přeložka vodovodního řadu PE D 110x10,0 mm:"]
[null,null,"Pro Š DN80:1",null,1,null,null,null,null,null,null,null,"Pro Š DN80:1"]
[47,"42200760.SN","Poklop k podz. hydrantu 1950 - voda + podkladová deska nebo samonivelační","kus",1,null,{"$f":"E225*F225","v":0},3.2000000000000001E-2,{"$f":"E225*H225","v":3.2000000000000001E-2},null,{"$f":"E225*J225","v":0},null,null,null,2,null,null,null,null,null,null,null,null,null,null,null,3,1,"42200760.SN",null,null,null,null,null,null,null,null,null,null,null,null,null,null,null,null,null,null,null,null,null,null,1,{"$f":"IF(AZ225=1,G225,0)","v":0},{"$f":"IF(AZ225=2,G225,0)","v":0},{"$f":"IF(AZ225=3,G225,0)","v":0},{"$f":"IF(AZ225=4,G225,0)","v":0},{"$f":"IF(AZ225=5,G225,0)","v":0},null,null,null,null,null,null,null,null,null,null,null,null,null,null,null,null,null,null,null,null,null,3,1]
[null,null,"Přeložka vodovodního řadu PE D 110x10,0 mm:",null,0,null,null,null,null,null,null,null,"Přeložka vodovodního řadu PE D 110x10,0 mm:"]
[null,null,"Pro Hp DN80/1,5:1",null,1,null,null,null,null,null,null,null,"Pro Hp DN80/1,5:1"]
[48,"42207800.02","Ruční kolo pro šoupátko DN100","kus",4,null,{"$f":"E228*F228","v":0},6.1999999999999998E-3,{"$f":"E228*H228","v":2.4799999999999999E-2},null,{"$f":"E228*J228","v":0},null,null,null,2,null,null,null,null,null,null,null,null,null,null,null,3,1,42207800.020000003,null,null,null,null,null,null,null,null,null,null,null,null,null,null,null,null,null,null,null,null,null,null,1,{"$f":"IF(AZ228=1,G228,0)","v":0},{"$f":"IF(AZ228=2,G228,0)","v":0},{"$f":"IF(AZ228=3,G228,0)","v":0},{"$f":"IF(AZ228=4,G228,0)","v":0},{"$f":"IF(AZ228=5,G228,0)","v":0},null,null,null,null,null,null,null,null,null,null,null,null,null,null,null,null,null,null,null,null,null,3,1]
[null,null,"Ruční kolo uzavírací pro šoupátka z šsdé litiny GG 250 s epoxidovou ochrannou vrstvou.",null,null,null,null,null,null,null,null,"Ruční kolo uzavírací pro šoupátka z šsdé litiny GG 250 s epoxidovou ochrannou vrstvou.",null,null,3]
[null,null,"Pro Š DN100.",null,null,null,null,null,null,null,null,"Pro Š DN100.",null,null,3]
[null,null,"Přeložka vodovodního řadu PE D 110x10,0 mm:",null,0,null,null,null,null,null,null,null,"Přeložka vodovodního řadu PE D 110x10,0 mm:"]
[null,null,"Pro Š DN100:4",null,4,null,null,null,null,null,null,null,"Pro Š DN100:4"]
[49,"42207994.06","Synoflex spojka HW č. 7974  DN100 (D104-132)","kus",1,null,{"$f":"E233*F233","v":0},6.1999999999999998E-3,{"$f":"E233*H233","v":6.1999999999999998E-3},null,{"$f":"E233*J233","v":0},null,null,null,2,null,null,null,null,null,null,null,null,null,null,null,3,1,42207994.060000002,null,null,null,null,null,null,null,null,null,null,null,null,null,null,null,null,null,null,null,null,null,null,1,{"$f":"IF(AZ233=1,G233,0)","v":0},{"$f":"IF(AZ233=2,G233,0)","v":0},{"$f":"IF(AZ233=3,G233,0)","v":0},{"$f":"IF(AZ233=4,G233,0)","v":0},{"$f":"IF(AZ233=5,G233,0)","v":0},null,null,null,null,null,null,null,null,null,null,null,null,null,null,null,null,null,null,null,null,null,3,1]
[null,null,"Přeložka vodovodního řadu PE D 110x10,0 mm:",null,0,null,null,null,null,null,null,null,"Přeložka vodovodního řadu PE D 110x10,0 mm:"]
[null,null,"Synoflex DN100:1",null,1,null,null,null,null,null,null,null,"Synoflex DN100:1"]
[50,"42207994.07","Synoflex s přírubou HW č. 7994  DN100 (D104-132)","kus",3,null,{"$f":"E236*F236","v":0},6.1999999999999998E-3,{"$f":"E236*H236","v":1.8599999999999998E-2},null,{"$f":"E236*J236","v":0},null,null,null,2,null,null,null,null,null,null,null,null,null,null,null,3,1,42207994.07,null,null,null,null,null,null,null,null,null,null,null,null,null,null,null,null,null,null,null,null,null,null,1,{"$f":"IF(AZ236=1,G236,0)","v":0},{"$f":"IF(AZ236=2,G236,0)","v":0},{"$f":"IF(AZ236=3,G236,0)","v":0},{"$f":"IF(AZ236=4,G236,0)","v":0},{"$f":"IF(AZ236=5,G236,0)","v":0},null,null,null,null,null,null,null,null,null,null,null,null,null,null,null,null,null,null,null,null,null,3,1]
[null,null,"Přeložka vodovodního řadu PE D 110x10,0 mm:",null,0,null,null,null,null,null,null,null,"Přeložka vodovodního řadu PE D 110x10,0 mm:"]
[null,null,"Synoflex s přírubou DN100:3",null,3,null,null,null,null,null,null,null,"Synoflex s přírubou DN100:3"]
[51,"42209999","Drenážní obal","kus",1,null,{"$f":"E239*F239","v":0},4.7999999999999996E-3,{"$f":"E239*H239","v":4.7999999999999996E-3},null,{"$f":"E239*J239","v":0},null,null,null,2,null,null,null,null,null,null,null,null,null,null,null,3,1,42209999,null,null,null,null,null,null,null,null,null,null,null,null,null,null,null,null,null,null,null,null,null,null,1,{"$f":"IF(AZ239=1,G239,0)","v":0},{"$f":"IF(AZ239=2,G239,0)","v":0},{"$f":"IF(AZ239=3,G239,0)","v":0},{"$f":"IF(AZ239=4,G239,0)","v":0},{"$f":"IF(AZ239=5,G239,0)","v":0},null,null,null,null,null,null,null,null,null,null,null,null,null,null,null,null,null,null,null,null,null,3,1]
[null,null,"Přeložka vodovodního řadu PE D 110x10,0 mm:",null,0,null,null,null,null,null,null,null,"Přeložka vodovodního řadu PE D 110x10,0 mm:"]
[null,null,"Pro Hp DN80/1,5:1",null,1,null,null,null,null,null,null,null,"Pro Hp DN80/1,5:1"]
[52,"42228310","Šoupátko 4000E2 DN 80 přírubové, voda","kus",1,null,{"$f":"E242*F242","v":0},1.6500000000000001E-2,{"$f":"E242*H242","v":1.6500000000000001E-2},null,{"$f":"E242*J242","v":0},null,null,null,2,null,null,null,null,null,null,null,null,null,null,null,3,1,42228310,null,null,null,null,null,null,null,null,null,null,null,null,null,null,null,null,null,null,null,null,null,null,1,{"$f":"IF(AZ242=1,G242,0)","v":0},{"$f":"IF(AZ242=2,G242,0)","v":0},{"$f":"IF(AZ242=3,G242,0)","v":0},{"$f":"IF(AZ242=4,G242,0)","v":0},{"$f":"IF(AZ242=5,G242,0)","v":0},null,null,null,null,null,null,null,null,null,null,null,null,null,null,null,null,null,null,null,null,null,3,1]
[null,null,"Šoupátko přírubové krkové - měkcetěsnící klínové šoupátko s hladkým a volným průtokovým kanálem",null,null,null,null,null,null,null,null,"Šoupátko přírubové krkové - měkcetěsnící klínové šoupátko s hladkým a volným průtokovým kanálem",null,null,3]
[null,null,"č. 4000E2",null,null,null,null,null,null,null,null,"č. 4000E2",null,null,3]
[null,null,"PN 16",null,null,null,null,null,null,null,null,"PN 16",null,null,3]
[null,null,"DN 80",null,null,null,null,null,null,null,null,"DN 80",null,null,3]
[null,null,"těleso a víko: tvárná litina GGG 400 - DIN 1693",null,null,null,null,null,null,null,null,"těleso a víko: tvárná litina GGG 400 - DIN 1693",null,null,3]
[null,null,"medium: pitná voda, neagresivní odpadní voda",null,null,null,null,null,null,null,null,"medium: pitná voda, neagresivní odpadní voda",null,null,3]
[null,null,"Přeložka vodovodního řadu PE D 110x10,0 mm:",null,0,null,null,null,null,null,null,null,"Přeložka vodovodního řadu PE D 110x10,0 mm:"]
[null,null,"Š DN80:1",null,1,null,null,null,null,null,null,null,"Š DN80:1"]
[53,"42228312","Šoupátko 4000E2 DN 100 přírubové, voda","kus",4,null,{"$f":"E251*F251","v":0},2.4500000000000001E-2,{"$f":"E251*H251","v":9.8000000000000004E-2},null,{"$f":"E251*J251","v":0},null,null,null,2,null,null,null,null,null,null,null,null,null,null,null,3,1,42228312,null,null,null,null,null,null,null,null,null,null,null,null,null,null,null,null,null,null,null,null,null,null,1,{"$f":"IF(AZ251=1,G251,0)","v":0},{"$f":"IF(AZ251=2,G251,0)","v":0},{"$f":"IF(AZ251=3,G251,0)","v":0},{"$f":"IF(AZ251=4,G251,0)","v":0},{"$f":"IF(AZ251=5,G251,0)","v":0},null,null,null,null,null,null,null,null,null,null,null,null,null,null,null,null,null,null,null,null,null,3,1]
[null,null,"Šoupátko přírubové krkové - měkcetěsnící klínové šoupátko s hladkým a volným průtokovým kanálem",null,null,null,null,null,null,null,null,"Šoupátko přírubové krkové - měkcetěsnící klínové šoupátko s hladkým a volným průtokovým kanálem",null,null,3]
[null,null,"č. 4000E2",null,null,null,null,null,null,null,null,"č. 4000E2",null,null,3]
[null,null,"PN 16",null,null,null,null,null,null,null,null,"PN 16",null,null,3]
[null,null,"DN 100",null,null,null,null,null,null,null,null,"DN 100",null,null,3]
[null,null,"těleso a víko: tvárná litina GGG 400 - DIN 1693",null,null,null,null,null,null,null,null,"těleso a víko: tvárná litina GGG 400 - DIN 1693",null,null,3]
[null,null,"medium: pitná voda, neagresivní odpadní voda",null,null,null,null,null,null,null,null,"medium: pitná voda, neagresivní odpadní voda",null,null,3]
[null,null,"Přeložka vodovodního řadu PE D 110x10,0 mm:",null,0,null,null,null,null,null,null,null,"Přeložka vodovodního řadu PE D 110x10,0 mm:"]
[null,null,"Š DN100:4",null,4,null,null,null,null,null,null,null,"Š DN100:4"]
[54,"42293250","Souprava zemní 9500E2 DN50 -100, 1,3-1,8m","kus",1,null,{"$f":"E260*F260","v":0},7.3000000000000001E-3,{"$f":"E260*H260","v":7.3000000000000001E-3},null,{"$f":"E260*J260","v":0},null,null,null,2,null,null,null,null,null,null,null,null,null,null,null,3,1,42293250,null,null,null,null,null,null,null,null,null,null,null,null,null,null,null,null,null,null,null,null,null,null,1,{"$f":"IF(AZ260=1,G260,0)","v":0},{"$f":"IF(AZ260=2,G260,0)","v":0},{"$f":"IF(AZ260=3,G260,0)","v":0},{"$f":"IF(AZ260=4,G260,0)","v":0},{"$f":"IF(AZ260=5,G260,0)","v":0},null,null,null,null,null,null,null,null,null,null,null,null,null,null,null,null,null,null,null,null,null,3,1]
[null,null,"Přeložka vodovodního řadu PE D 110x10,0 mm:",null,0,null,null,null,null,null,null,null,"Přeložka vodovodního řadu PE D 110x10,0 mm:"]
[null,null,"Pro Š DN80:1",null,1,null,null,null,null,null,null,null,"Pro Š DN80:1"]
[55,"55251212","Trouba přír.litin. FF DN 80 dl. 200 mm","kus",1,null,{"$f":"E263*F263","v":0},8.6999999999999994E-3,{"$f":"E263*H263","v":8.6999999999999994E-3},null,{"$f":"E263*J263","v":0},null,null,null,2,null,null,null,null,null,null,null,null,null,null,null,3,1,55251212,null,null,null,null,null,null,null,null,null,null,null,null,null,null,null,null,null,null,null,null,null,null,1,{"$f":"IF(AZ263=1,G263,0)","v":0},{"$f":"IF(AZ263=2,G263,0)","v":0},{"$f":"IF(AZ263=3,G263,0)","v":0},{"$f":"IF(AZ263=4,G263,0)","v":0},{"$f":"IF(AZ263=5,G263,0)","v":0},null,null,null,null,null,null,null,null,null,null,null,null,null,null,null,null,null,null,null,null,null,3,1]
[null,null,"Přeložka vodovodního řadu PE D 110x10,0 mm:",null,0,null,null,null,null,null,null,null,"Přeložka vodovodního řadu PE D 110x10,0 mm:"]
[null,null,"FF DN80/200:1",null,1,null,null,null,null,null,null,null,"FF DN80/200:1"]
[56,"55251242","Trouba přír.litin. FF DN 100 dl. 200 mm","kus",1,null,{"$f":"E266*F266","v":0},1.0999999999999999E-2,{"$f":"E266*H266","v":1.0999999999999999E-2},null,{"$f":"E266*J266","v":0},null,null,null,2,null,null,null,null,null,null,null,null,null,null,null,3,1,55251242,null,null,null,null,null,null,null,null,null,null,null,null,null,null,null,null,null,null,null,null,null,null,1,{"$f":"IF(AZ266=1,G266,0)","v":0},{"$f":"IF(AZ266=2,G266,0)","v":0},{"$f":"IF(AZ266=3,G266,0)","v":0},{"$f":"IF(AZ266=4,G266,0)","v":0},{"$f":"IF(AZ266=5,G266,0)","v":0},null,null,null,null,null,null,null,null,null,null,null,null,null,null,null,null,null,null,null,null,null,3,1]
[null,null,"Přeložka vodovodního řadu PE D 110x10,0 mm:",null,0,null,null,null,null,null,null,null,"Přeložka vodovodního řadu PE D 110x10,0 mm:"]
[null,null,"FF DN100/200:1",null,1,null,null,null,null,null,null,null,"FF DN100/200:1"]
[57,"55251253","Trouba přír.litin. FF DN100 dl.1000mm","kus",4,null,{"$f":"E269*F269","v":0},2.6800000000000001E-2,{"$f":"E269*H269","v":0.1072},null,{"$f":"E269*J269","v":0},null,null,null,2,null,null,null,null,null,null,null,null,null,null,null,3,1,55251253,null,null,null,null,null,null,null,null,null,null,null,null,null,null,null,null,null,null,null,null,null,null,1,{"$f":"IF(AZ269=1,G269,0)","v":0},{"$f":"IF(AZ269=2,G269,0)","v":0},{"$f":"IF(AZ269=3,G269,0)","v":0},{"$f":"IF(AZ269=4,G269,0)","v":0},{"$f":"IF(AZ269=5,G269,0)","v":0},null,null,null,null,null,null,null,null,null,null,null,null,null,null,null,null,null,null,null,null,null,3,1]
[null,null,"Přeložka vodovodního řadu PE D 110x10,0 mm:",null,0,null,null,null,null,null,null,null,"Přeložka vodovodního řadu PE D 110x10,0 mm:"]
[null,null,"FF DN100/1000:4",null,4,null,null,null,null,null,null,null,"FF DN100/1000:4"]
[58,"552599943","Tvarovka přír. s přír. odb. T DN 100/80","kus",1,null,{"$f":"E272*F272","v":0},1.78E-2,{"$f":"E272*H272","v":1.78E-2},null,{"$f":"E272*J272","v":0},null,null,null,2,null,null,null,null,null,null,null,null,null,null,null,3,1,552599943,null,null,null,null,null,null,null,null,null,null,null,null,null,null,null,null,null,null,null,null,null,null,1,{"$f":"IF(AZ272=1,G272,0)","v":0},{"$f":"IF(AZ272=2,G272,0)","v":0},{"$f":"IF(AZ272=3,G272,0)","v":0},{"$f":"IF(AZ272=4,G272,0)","v":0},{"$f":"IF(AZ272=5,G272,0)","v":0},null,null,null,null,null,null,null,null,null,null,null,null,null,null,null,null,null,null,null,null,null,3,1]
[null,null,"Přeložka vodovodního řadu PE D 110x10,0 mm:",null,0,null,null,null,null,null,null,null,"Přeložka vodovodního řadu PE D 110x10,0 mm:"]
[null,null,"T DN100/80:1",null,1,null,null,null,null,null,null,null,"T DN100/80:1"]
[59,"55260003.A","Kříž přírubový TT DN 100/100","kus",1,null,{"$f":"E275*F275","v":0},2.64E-2,{"$f":"E275*H275","v":2.64E-2},null,{"$f":"E275*J275","v":0},null,null,null,2,null,null,null,null,null,null,null,null,null,null,null,3,1,"55260003.A",null,null,null,null,null,null,null,null,null,null,null,null,null,null,null,null,null,null,null,null,null,null,1,{"$f":"IF(AZ275=1,G275,0)","v":0},{"$f":"IF(AZ275=2,G275,0)","v":0},{"$f":"IF(AZ275=3,G275,0)","v":0},{"$f":"IF(AZ275=4,G275,0)","v":0},{"$f":"IF(AZ275=5,G275,0)","v":0},null,null,null,null,null,null,null,null,null,null,null,null,null,null,null,null,null,null,null,null,null,3,1]
[null,null,"Přeložka vodovodního řadu PE D 110x10,0 mm:",null,0,null,null,null,null,null,null,null,"Přeložka vodovodního řadu PE D 110x10,0 mm:"]
[null,null,"TT DN100/100:1",null,1,null,null,null,null,null,null,null,"TT DN100/100:1"]
[60,"5526009702","Koleno přír.s patkou N DN 80","kus",1,null,{"$f":"E278*F278","v":0},1.2200000000000001E-2,{"$f":"E278*H278","v":1.2200000000000001E-2},null,{"$f":"E278*J278","v":0},null,null,null,2,null,null,null,null,null,null,null,null,null,null,null,3,1,5526009702,null,null,null,null,null,null,null,null,null,null,null,null,null,null,null,null,null,null,null,null,null,null,1,{"$f":"IF(AZ278=1,G278,0)","v":0},{"$f":"IF(AZ278=2,G278,0)","v":0},{"$f":"IF(AZ278=3,G278,0)","v":0},{"$f":"IF(AZ278=4,G278,0)","v":0},{"$f":"IF(AZ278=5,G278,0)","v":0},null,null,null,null,null,null,null,null,null,null,null,null,null,null,null,null,null,null,null,null,null,3,1]
[null,null,"Přeložka vodovodního řadu PE D 110x10,0 mm:",null,0,null,null,null,null,null,null,null,"Přeložka vodovodního řadu PE D 110x10,0 mm:"]
[null,null,"N DN80:1",null,1,null,null,null,null,null,null,null,"N DN80:1"]
[null,"Celkem za","8 Trubní vedení",null,null,null,{"$f":"SUM(G90:G280)","v":0},null,{"$f":"SUM(I90:I280)","v":1.9569515499999997},null,{"$f":"SUM(K90:K280)","v":0},null,null,null,4,null,null,null,null,null,null,null,null,null,null,null,null,null,null,null,null,null,null,null,null,null,null,null,null,null,null,null,null,null,null,null,null,null,null,null,null,null,{"$f":"SUM(BA90:BA280)","v":0},{"$f":"SUM(BB90:BB280)","v":0},{"$f":"SUM(BC90:BC280)","v":0},{"$f":"SUM(BD90:BD280)","v":0},{"$f":"SUM(BE90:BE280)","v":0}]
["Díl:","99","Staveništní přesun hmot",null,null,null,null,null,null,null,null,null,null,null,1]
[61,"998276101R00","Přesun hmot, trubní vedení plastová, otevř. výkop ","t",15.5016684,null,{"$f":"E283*F283","v":0},0,{"$f":"E283*H283","v":0},null,{"$f":"E283*J283","v":0},null,null,null,2,null,null,null,null,null,null,null,null,null,null,null,7,1,2,null,null,null,null,null,null,null,null,null,null,null,null,null,null,null,null,null,null,null,null,null,null,1,{"$f":"IF(AZ283=1,G283,0)","v":0},{"$f":"IF(AZ283=2,G283,0)","v":0},{"$f":"IF(AZ283=3,G283,0)","v":0},{"$f":"IF(AZ283=4,G283,0)","v":0},{"$f":"IF(AZ283=5,G283,0)","v":0},null,null,null,null,null,null,null,null,null,null,null,null,null,null,null,null,null,null,null,null,null,7,1]
[null,null,"Položka je určena pro trubní vedení (vodovod nebo kanalizace) hloubené nebo ražené z trub z plastických hmot nebo sklolaminátových včetně drobných objektů. Platnost položky je vymezena pro nejmenší skladovací plochu 50 m2 + 1,30 m2/t, pro největší dopravní vzdálenost 15 m od hrany výkopu na povrchu nebo 15 m od okraje šachty k těžišti skládek na povrchu. ",null,null,null,null,null,null,null,null,"Položka je určena pro trubní vedení (vodovod nebo kanalizace) hloubené nebo ražené z trub z plastických hmot nebo sklolaminátových včetně drobných objektů. Platnost položky je vymezena pro nejmenší skladovací plochu 50 m2 + 1,30 m2/t, pro největší dopravní vzdálenost 15 m od hrany výkopu na povrchu nebo 15 m od okraje šachty k těžišti skládek na povrchu. ",null,null,3]
[null,"Celkem za","99 Staveništní přesun hmot",null,null,null,{"$f":"SUM(G282:G284)","v":0},null,{"$f":"SUM(I282:I284)","v":0},null,{"$f":"SUM(K282:K284)","v":0},null,null,null,4,null,null,null,null,null,null,null,null,null,null,null,null,null,null,null,null,null,null,null,null,null,null,null,null,null,null,null,null,null,null,null,null,null,null,null,null,null,{"$f":"SUM(BA282:BA284)","v":0},{"$f":"SUM(BB282:BB284)","v":0},{"$f":"SUM(BC282:BC284)","v":0},{"$f":"SUM(BD282:BD284)","v":0},{"$f":"SUM(BE282:BE284)","v":0}]

{"sheet":"307 307RD KL","index":36,"n_rows":45,"n_cols":8,"rows_kept":45,"cut":false,"hidden":false,"merged":[[22,0,22,1],[7,2,7,4],[8,2,8,4],[9,2,9,4],[10,2,10,4],[11,2,11,4],[50,1,50,6],[29,5,29,6],[30,5,30,6],[31,5,31,6],[32,5,32,6],[33,5,33,6],[36,1,44,6],[45,1,45,6],[46,1,46,6],[47,1,47,6],[48,1,48,6],[49,1,49,6]]}
["POLOŽKOVÝ ROZPOČET"]
["Rozpočet",null,"307RD","Přeložky sdělovacích vedení",null,"JKSO ","828.17"]
[]
["Objekt",null,null,null,null,"SKP "]
["307",null,"Přeložky sdělovacích vedení",null,null,"Měrná jednotka","m"]
["Stavba",null,null,null,null,"Počet jednotek",0]
["3232",null,"Horní Slivno - Splašková kanalizace",null,null,"Náklady na m.j.",{"$f":"IF(G6=0,,ROUND((F30+F32)/G6,1))","v":0}]
["Projektant",null,"Radek Hnát - VAK PROJEKT",null,null,"Typ rozpočtu"]
["Zpracovatel projektu"]
["Objednatel",null,"Obec Horní Slivno"]
["Dodavatel",null,".",null,null,"Zakázkové číslo "]
["Rozpočtoval",null,null,null,null,"Počet listů"]
["ROZPOČTOVÉ NÁKLADY"]
["Základní rozpočtové náklady"]
[null,"HSV celkem",{"$f":"'307 307RD Rek'!E8","v":0}]
["Z","PSV celkem",{"$f":"'307 307RD Rek'!F8","v":0}]
["R","M práce celkem",{"$f":"'307 307RD Rek'!H8","v":0}]
["N","M dodávky celkem",{"$f":"'307 307RD Rek'!G8","v":0}]
["ZRN celkem",null,{"$f":"SUM(C15:C18)","v":0}]
[]
["HZS",null,{"$f":"'307 307RD Rek'!I8","v":0}]
["ZRN+HZS",null,{"$f":"C19+C21","v":0}]
["ZRN+ost.náklady+HZS",null,{"$f":"C22+G23","v":0}]
["Vypracoval",null,null,"Za zhotovitele",null,"Za objednatele"]
["Jméno :",null,null,"Jméno :",null,"Jméno :"]
["Datum :",null,null,"Datum :",null,"Datum :"]
[]
["Podpis :",null,null,"Podpis:",null,"Podpis:"]
[]
["Základ pro DPH",null,21,"%  ",null,{"$f":"C23-F32","v":0}]
["DPH",null,{"$f":"C30","v":21},"% ",null,{"$f":"ROUND(PRODUCT(F30,C31/100),0)","v":0}]
["Základ pro DPH",null,0,"% ",null,0]
["DPH",null,{"$f":"C32","v":0},"% ",null,{"$f":"ROUND(PRODUCT(F32,C33/100),0)","v":0}]
["CENA ZA OBJEKT CELKEM",null,null,null,null,{"$f":"ROUND(SUM(F30:F33),0)","v":0}]
[]
["Poznámka :",null,null,null,null,null,null," "]
[null,null,null,null,null,null,null," "]
[null,null,null,null,null,null,null," "]
[null,null,null,null,null,null,null," "]
[null,null,null,null,null,null,null," "]
[null,null,null,null,null,null,null," "]
[null,null,null,null,null,null,null," "]
[null,null,null,null,null,null,null," "]
[null,null,null,null,null,null,null," "]
[null,null,null,null,null,null,null," "]

{"sheet":"307 307RD Rek","index":37,"n_rows":8,"n_cols":9,"rows_kept":8,"cut":false,"hidden":false,"merged":[[0,0,0,1],[1,0,1,1],[1,6,1,8]]}
["Stavba :",null,"3232 Horní Slivno - Splašková kanalizace",null,null,null,"Rozpočet :","307RD"]
["Objekt :",null,"307 Přeložky sdělovacích vedení",null,null,null,"Přeložky sdělovacích vedení"]
[]
["REKAPITULACE  STAVEBNÍCH  DÍLŮ"]
[]
[null,"Stavební díl",null,null,"HSV","PSV","Dodávka","Montáž","HZS"]
[{"$f":"'307 307RD Pol'!B7","v":"M21"},{"$f":"'307 307RD Pol'!C7","v":"Elektromontáže"},null,null,{"$f":"'307 307RD Pol'!BA9","v":0},{"$f":"'307 307RD Pol'!BB9","v":0},{"$f":"'307 307RD Pol'!BC9","v":0},{"$f":"'307 307RD Pol'!BD9","v":0},{"$f":"'307 307RD Pol'!BE9","v":0}]
[null,"CELKEM  OBJEKT",null,null,{"$f":"SUM(E7:E7)","v":0},{"$f":"SUM(F7:F7)","v":0},{"$f":"SUM(G7:G7)","v":0},{"$f":"SUM(H7:H7)","v":0},{"$f":"SUM(I7:I7)","v":0}]

{"sheet":"307 307RD Pol","index":38,"n_rows":9,"n_cols":80,"rows_kept":9,"cut":false,"hidden":false,"merged":[[0,0,0,6],[2,0,2,1],[3,0,3,1],[3,4,3,6]]}
["Položkový rozpočet "]
[]
["Stavba :",null,"3232 Horní Slivno - Splašková kanalizace",null,"Rozpočet:",{"$f":"'307 307RD Rek'!H1","v":"307RD"}]
["Objekt :",null,"307 Přeložky sdělovacích vedení",null,{"$f":"'307 307RD Rek'!G2","v":"Přeložky sdělovacích vedení"}]
[]
["P.č.","Číslo položky","Název položky","MJ","množství","cena / MJ","celkem (Kč)","Jednotková hmotnost","Celková hmotnost","Jednotková dem.hmot.","Celková dem.hmot."]
["Díl:","M21","Elektromontáže",null,null,null,null,null,null,null,null,null,null,null,1]
[1,"210100030RAX","Přeložka kabelu dle PD včetně spojkování ","m",25,null,{"$f":"E8*F8","v":0},0.28156999999999999,{"$f":"E8*H8","v":7.03925},0,{"$f":"E8*J8","v":0},null,null,null,2,null,null,null,null,null,null,null,null,null,null,null,2,9,9,null,null,null,null,null,null,null,null,null,null,null,null,null,null,null,null,null,null,null,null,null,null,4,{"$f":"IF(AZ8=1,G8,0)","v":0},{"$f":"IF(AZ8=2,G8,0)","v":0},{"$f":"IF(AZ8=3,G8,0)","v":0},{"$f":"IF(AZ8=4,G8,0)","v":0},{"$f":"IF(AZ8=5,G8,0)","v":0},null,null,null,null,null,null,null,null,null,null,null,null,null,null,null,null,null,null,null,null,null,2,9]
[null,"Celkem za","M21 Elektromontáže",null,null,null,{"$f":"SUM(G7:G8)","v":0},null,{"$f":"SUM(I7:I8)","v":7.03925},null,{"$f":"SUM(K7:K8)","v":0},null,null,null,4,null,null,null,null,null,null,null,null,null,null,null,null,null,null,null,null,null,null,null,null,null,null,null,null,null,null,null,null,null,null,null,null,null,null,null,null,null,{"$f":"SUM(BA7:BA8)","v":0},{"$f":"SUM(BB7:BB8)","v":0},{"$f":"SUM(BC7:BC8)","v":0},{"$f":"SUM(BD7:BD8)","v":0},{"$f":"SUM(BE7:BE8)","v":0}]

{"sheet":"308 308.1RD KL","index":39,"n_rows":45,"n_cols":8,"rows_kept":45,"cut":false,"hidden":false,"merged":[[22,0,22,1],[7,2,7,4],[8,2,8,4],[9,2,9,4],[10,2,10,4],[11,2,11,4],[50,1,50,6],[29,5,29,6],[30,5,30,6],[31,5,31,6],[32,5,32,6],[33,5,33,6],[36,1,44,6],[45,1,45,6],[46,1,46,6],[47,1,47,6],[48,1,48,6],[49,1,49,6]]}
["POLOŽKOVÝ ROZPOČET"]
["Rozpočet",null,"308.1RD","Opravy povrchů",null,"JKSO ","822.24"]
[]
["Objekt",null,null,null,null,"SKP "]
["308",null,"Opravy povrchů",null,null,"Měrná jednotka","m2"]
["Stavba",null,null,null,null,"Počet jednotek",0]
["3232",null,"Horní Slivno - Splašková kanalizace",null,null,"Náklady na m.j.",{"$f":"IF(G6=0,,ROUND((F30+F32)/G6,1))","v":0}]
["Projektant",null,"Radek Hnát - VAK PROJEKT",null,null,"Typ rozpočtu"]
["Zpracovatel projektu"]
["Objednatel",null,"Obec Horní Slivno"]
["Dodavatel",null,".",null,null,"Zakázkové číslo "]
["Rozpočtoval",null,null,null,null,"Počet listů"]
["ROZPOČTOVÉ NÁKLADY"]
["Základní rozpočtové náklady"]
[null,"HSV celkem",{"$f":"'308 308.1RD Rek'!E10","v":0}]
["Z","PSV celkem",{"$f":"'308 308.1RD Rek'!F10","v":0}]
["R","M práce celkem",{"$f":"'308 308.1RD Rek'!H10","v":0}]
["N","M dodávky celkem",{"$f":"'308 308.1RD Rek'!G10","v":0}]
["ZRN celkem",null,{"$f":"SUM(C15:C18)","v":0}]
[]
["HZS",null,{"$f":"'308 308.1RD Rek'!I10","v":0}]
["ZRN+HZS",null,{"$f":"C19+C21","v":0}]
["ZRN+ost.náklady+HZS",null,{"$f":"C22+G23","v":0}]
["Vypracoval",null,null,"Za zhotovitele",null,"Za objednatele"]
["Jméno :",null,null,"Jméno :",null,"Jméno :"]
["Datum :",null,null,"Datum :",null,"Datum :"]
[]
["Podpis :",null,null,"Podpis:",null,"Podpis:"]
[]
["Základ pro DPH",null,21,"%  ",null,{"$f":"C23-F32","v":0}]
["DPH",null,{"$f":"C30","v":21},"% ",null,{"$f":"ROUND(PRODUCT(F30,C31/100),0)","v":0}]
["Základ pro DPH",null,0,"% ",null,0]
["DPH",null,{"$f":"C32","v":0},"% ",null,{"$f":"ROUND(PRODUCT(F32,C33/100),0)","v":0}]
["CENA ZA OBJEKT CELKEM",null,null,null,null,{"$f":"ROUND(SUM(F30:F33),0)","v":0}]
[]
["Poznámka :",null,null,null,null,null,null," "]
[null,null,null,null,null,null,null," "]
[null,null,null,null,null,null,null," "]
[null,null,null,null,null,null,null," "]
[null,null,null,null,null,null,null," "]
[null,null,null,null,null,null,null," "]
[null,null,null,null,null,null,null," "]
[null,null,null,null,null,null,null," "]
[null,null,null,null,null,null,null," "]
[null,null,null,null,null,null,null," "]

{"sheet":"308 308.1RD Rek","index":40,"n_rows":10,"n_cols":9,"rows_kept":10,"cut":false,"hidden":false,"merged":[[0,0,0,1],[1,0,1,1],[1,6,1,8]]}
["Stavba :",null,"3232 Horní Slivno - Splašková kanalizace",null,null,null,"Rozpočet :","308.1RD"]
["Objekt :",null,"308 Opravy povrchů",null,null,null,"Opravy povrchů"]
[]
["REKAPITULACE  STAVEBNÍCH  DÍLŮ"]
[]
[null,"Stavební díl",null,null,"HSV","PSV","Dodávka","Montáž","HZS"]
[{"$f":"'308 308.1RD Pol'!B7","v":"5.MR"},{"$f":"'308 308.1RD Pol'!C7","v":"Komunikace mimo rýhu inženýrských sítí"},null,null,{"$f":"'308 308.1RD Pol'!BA61","v":0},{"$f":"'308 308.1RD Pol'!BB61","v":0},{"$f":"'308 308.1RD Pol'!BC61","v":0},{"$f":"'308 308.1RD Pol'!BD61","v":0},{"$f":"'308 308.1RD Pol'!BE61","v":0}]
[{"$f":"'308 308.1RD Pol'!B62","v":"5.NR"},{"$f":"'308 308.1RD Pol'!C62","v":"Komunikace nad rýhou inženýrských sítí"},null,null,{"$f":"'308 308.1RD Pol'!BA126","v":0},{"$f":"'308 308.1RD Pol'!BB126","v":0},{"$f":"'308 308.1RD Pol'!BC126","v":0},{"$f":"'308 308.1RD Pol'!BD126","v":0},{"$f":"'308 308.1RD Pol'!BE126","v":0}]
[{"$f":"'308 308.1RD Pol'!B127","v":"99"},{"$f":"'308 308.1RD Pol'!C127","v":"Staveništní přesun hmot"},null,null,{"$f":"'308 308.1RD Pol'!BA129","v":0},{"$f":"'308 308.1RD Pol'!BB129","v":0},{"$f":"'308 308.1RD Pol'!BC129","v":0},{"$f":"'308 308.1RD Pol'!BD129","v":0},{"$f":"'308 308.1RD Pol'!BE129","v":0}]
[null,"CELKEM  OBJEKT",null,null,{"$f":"SUM(E7:E9)","v":0},{"$f":"SUM(F7:F9)","v":0},{"$f":"SUM(G7:G9)","v":0},{"$f":"SUM(H7:H9)","v":0},{"$f":"SUM(I7:I9)","v":0}]

{"sheet":"308 308.1RD Pol","index":41,"n_rows":129,"n_cols":80,"rows_kept":129,"cut":false,"hidden":false,"merged":[[21,2,21,3],[0,0,0,6],[2,0,2,1],[3,0,3,1],[3,4,3,6],[8,2,8,3],[9,2,9,3],[11,2,11,3],[12,2,12,3],[14,2,14,3],[15,2,15,3],[17,2,17,3],[18,2,18,3],[20,2,20,3],[39,2,39,6],[23,2,23,3],[25,2,25,3],[26,2,26,3],[27,2,27,3],[28,2,28,3],[30,2,30,3],[31,2,31,3],[33,2,33,3],[34,2,34,3],[36,2,36,3],[37,2,37,3],[54,2,54,3],[40,2,40,3],[41,2,41,3],[43,2,43,3],[44,2,44,3],[46,2,46,3],[47,2,47,3],[48,2,48,3],[49,2,49,3],[51,2,51,3],[52,2,52,3],[53,2,53,3],[83,2,83,3],[55,2,55,3],[56,2,56,3],[63,2,63,3],[65,2,65,3],[66,2,66,3],[68,2,68,3],[69,2,69,3],[71,2,71,3],[73,2,73,3],[75,2,75,3],[77,2,77,3],[78,2,78,3],[81,2,81,3],[101,2,101,3],[84,2,84,3],[85,2,85,3],[86,2,86,3],[88,2,88,6],[89,2,89,3],[90,2,90,3],[92,2,92,3],[94,2,94,3],[95,2,95,3],[97,2,97,3],[99,2,99,3],[120,2,120,3],[103,2,103,3],[105,2,105,6],[106,2,106,3],[108,2,108,3],[110,2,110,3],[112,2,112,3],[114,2,114,3],[115,2,115,3],[117,2,117,3],[118,2,118,3],[119,2,119,3]]}
["Položkový rozpočet "]
[]
["Stavba :",null,"3232 Horní Slivno - Splašková kanalizace",null,"Rozpočet:",{"$f":"'308 308.1RD Rek'!H1","v":"308.1RD"}]
["Objekt :",null,"308 Opravy povrchů",null,{"$f":"'308 308.1RD Rek'!G2","v":"Opravy povrchů"}]
[]
["P.č.","Číslo položky","Název položky","MJ","množství","cena / MJ","celkem (Kč)","Jednotková hmotnost","Celková hmotnost","Jednotková dem.hmot.","Celková dem.hmot."]
["Díl:","5.MR","Komunikace mimo rýhu inženýrských sítí",null,null,null,null,null,null,null,null,null,null,null,1]
[1,"113106231RRX","Rozebrání dlažeb ze zámkové dlažby v kamenivu včetně očištění pro opětovné položení","m2",45,null,{"$f":"E8*F8","v":0},0,{"$f":"E8*H8","v":0},-0.22500000000000001,{"$f":"E8*J8","v":-10.125},null,null,null,2,null,null,null,null,null,null,null,null,null,null,null,1,1,1,null,null,null,null,null,null,null,null,null,null,null,null,null,null,null,null,null,null,null,null,null,null,1,{"$f":"IF(AZ8=1,G8,0)","v":0},{"$f":"IF(AZ8=2,G8,0)","v":0},{"$f":"IF(AZ8=3,G8,0)","v":0},{"$f":"IF(AZ8=4,G8,0)","v":0},{"$f":"IF(AZ8=5,G8,0)","v":0},null,null,null,null,null,null,null,null,null,null,null,null,null,null,null,null,null,null,null,null,null,1,1]
[null,null,"ZD:170,00",null,170,null,null,null,null,null,null,null,"ZD:170,00"]
[null,null,"Odpočet ZD - nad rýhou:-125,00",null,-125,null,null,null,null,null,null,null,"Odpočet ZD - nad rýhou:-125,00"]
[2,"113109609RRX","Odstranění podkladu pl.nad 50m2,asf.recykl,tl. 9cm ","m2",506,null,{"$f":"E11*F11","v":0},0,{"$f":"E11*H11","v":0},-0.21231,{"$f":"E11*J11","v":-107.42886},null,null,null,2,null,null,null,null,null,null,null,null,null,null,null,1,1,1,null,null,null,null,null,null,null,null,null,null,null,null,null,null,null,null,null,null,null,null,null,null,1,{"$f":"IF(AZ11=1,G11,0)","v":0},{"$f":"IF(AZ11=2,G11,0)","v":0},{"$f":"IF(AZ11=3,G11,0)","v":0},{"$f":"IF(AZ11=4,G11,0)","v":0},{"$f":"IF(AZ11=5,G11,0)","v":0},null,null,null,null,null,null,null,null,null,null,null,null,null,null,null,null,null,null,null,null,null,1,1]
[null,null,"MK z asf.rec.:721,00",null,721,null,null,null,null,null,null,null,"MK z asf.rec.:721,00"]
[null,null,"Odpočet plochy nad rýhou:-215,00",null,-215,null,null,null,null,null,null,null,"Odpočet plochy nad rýhou:-215,00"]
[3,"113151313R00","Fréz.živič.krytu nad 500 m2, s překážkami, tl.4 cm ","m2",4971,null,{"$f":"E14*F14","v":0},0,{"$f":"E14*H14","v":0},-4.8000000000000001E-2,{"$f":"E14*J14","v":-238.608},null,null,null,2,null,null,null,null,null,null,null,null,null,null,null,1,1,1,null,null,null,null,null,null,null,null,null,null,null,null,null,null,null,null,null,null,null,null,null,null,1,{"$f":"IF(AZ14=1,G14,0)","v":0},{"$f":"IF(AZ14=2,G14,0)","v":0},{"$f":"IF(AZ14=3,G14,0)","v":0},{"$f":"IF(AZ14=4,G14,0)","v":0},{"$f":"IF(AZ14=5,G14,0)","v":0},null,null,null,null,null,null,null,null,null,null,null,null,null,null,null,null,null,null,null,null,null,1,1]
[null,null,"MK:9895,00",null,9895,null,null,null,null,null,null,null,"MK:9895,00"]
[null,null,"MK - odpočet plochy nad rýhou:-4924,00",null,-4924,null,null,null,null,null,null,null,"MK - odpočet plochy nad rýhou:-4924,00"]
[4,"113151314R00","Fréz.živič.krytu nad 500 m2, s překážkami, tl.5 cm ","m2",1445,null,{"$f":"E17*F17","v":0},0,{"$f":"E17*H17","v":0},-0.11,{"$f":"E17*J17","v":-158.94999999999999},null,null,null,2,null,null,null,null,null,null,null,null,null,null,null,1,1,1,null,null,null,null,null,null,null,null,null,null,null,null,null,null,null,null,null,null,null,null,null,null,1,{"$f":"IF(AZ17=1,G17,0)","v":0},{"$f":"IF(AZ17=2,G17,0)","v":0},{"$f":"IF(AZ17=3,G17,0)","v":0},{"$f":"IF(AZ17=4,G17,0)","v":0},{"$f":"IF(AZ17=5,G17,0)","v":0},null,null,null,null,null,null,null,null,null,null,null,null,null,null,null,null,null,null,null,null,null,1,1]
[null,null,"Komunikace III. tř.:2320,00",null,2320,null,null,null,null,null,null,null,"Komunikace III. tř.:2320,00"]
[null,null,"Odpočet plochy nad rýhou:-875,00",null,-875,null,null,null,null,null,null,null,"Odpočet plochy nad rýhou:-875,00"]
[5,"121100002RAX","Sejmutí ornice a uložení na deponii zpětný přesun, rozprostření v tl. 10 cm, osetí","m3",437.4,null,{"$f":"E20*F20","v":0},0,{"$f":"E20*H20","v":0},0,{"$f":"E20*J20","v":0},null,null,null,2,null,null,null,null,null,null,null,null,null,null,null,1,1,1,null,null,null,null,null,null,null,null,null,null,null,null,null,null,null,null,null,null,null,null,null,null,1,{"$f":"IF(AZ20=1,G20,0)","v":0},{"$f":"IF(AZ20=2,G20,0)","v":0},{"$f":"IF(AZ20=3,G20,0)","v":0},{"$f":"IF(AZ20=4,G20,0)","v":0},{"$f":"IF(AZ20=5,G20,0)","v":0},null,null,null,null,null,null,null,null,null,null,null,null,null,null,null,null,null,null,null,null,null,1,1]
[null,null,"Kanalizační stoka:437,40",null,437.4,null,null,null,null,null,null,null,"Kanalizační stoka:437,40"]
[null,null,"Výtlaky:",null,0,null,null,null,null,null,null,null,"Výtlaky:"]
[6,"566501111R00","Úprava krytu kamenivem drceným do 0,10 m3/m2 ","m2",660,null,{"$f":"E23*F23","v":0},0.17726,{"$f":"E23*H23","v":116.99160000000001},0,{"$f":"E23*J23","v":0},null,null,null,2,null,null,null,null,null,null,null,null,null,null,null,1,1,1,null,null,null,null,null,null,null,null,null,null,null,null,null,null,null,null,null,null,null,null,null,null,1,{"$f":"IF(AZ23=1,G23,0)","v":0},{"$f":"IF(AZ23=2,G23,0)","v":0},{"$f":"IF(AZ23=3,G23,0)","v":0},{"$f":"IF(AZ23=4,G23,0)","v":0},{"$f":"IF(AZ23=5,G23,0)","v":0},null,null,null,null,null,null,null,null,null,null,null,null,null,null,null,null,null,null,null,null,null,1,1]
[null,null,"Štěrkové plochy mimo rýh:1305,00-645,00",null,660,null,null,null,null,null,null,null,"Štěrkové plochy mimo rýh:1305,00-645,00"]
[7,"573231111R00","Postřik živičný spojovací z emulze 0,5-0,7 kg/m2 ","m2",6416,null,{"$f":"E25*F25","v":0},7.1000000000000002E-4,{"$f":"E25*H25","v":4.5553600000000003},0,{"$f":"E25*J25","v":0},null,null,null,2,null,null,null,null,null,null,null,null,null,null,null,1,1,1,null,null,null,null,null,null,null,null,null,null,null,null,null,null,null,null,null,null,null,null,null,null,1,{"$f":"IF(AZ25=1,G25,0)","v":0},{"$f":"IF(AZ25=2,G25,0)","v":0},{"$f":"IF(AZ25=3,G25,0)","v":0},{"$f":"IF(AZ25=4,G25,0)","v":0},{"$f":"IF(AZ25=5,G25,0)","v":0},null,null,null,null,null,null,null,null,null,null,null,null,null,null,null,null,null,null,null,null,null,1,1]
[null,null,"Komunikace III. tř.:2320,00",null,2320,null,null,null,null,null,null,null,"Komunikace III. tř.:2320,00"]
[null,null,"Odpočet plochy nad rýhou:-875,00",null,-875,null,null,null,null,null,null,null,"Odpočet plochy nad rýhou:-875,00"]
[null,null,"MK:9895,00",null,9895,null,null,null,null,null,null,null,"MK:9895,00"]
[null,null,"MK - odpočet plochy nad rýhou:-4924,00",null,-4924,null,null,null,null,null,null,null,"MK - odpočet plochy nad rýhou:-4924,00"]
[8,"577132111R00","Beton asfalt. ACO 11+ obrusný, š.nad 3 m, tl. 4 cm ","m2",4971,null,{"$f":"E30*F30","v":0},0.10373,{"$f":"E30*H30","v":515.64183000000003},0,{"$f":"E30*J30","v":0},null,null,null,2,null,null,null,null,null,null,null,null,null,null,null,1,1,1,null,null,null,null,null,null,null,null,null,null,null,null,null,null,null,null,null,null,null,null,null,null,1,{"$f":"IF(AZ30=1,G30,0)","v":0},{"$f":"IF(AZ30=2,G30,0)","v":0},{"$f":"IF(AZ30=3,G30,0)","v":0},{"$f":"IF(AZ30=4,G30,0)","v":0},{"$f":"IF(AZ30=5,G30,0)","v":0},null,null,null,null,null,null,null,null,null,null,null,null,null,null,null,null,null,null,null,null,null,1,1]
[null,null,"MK:9895,00",null,9895,null,null,null,null,null,null,null,"MK:9895,00"]
[null,null,"MK - odpočet plochy nad rýhou:-4924,00",null,-4924,null,null,null,null,null,null,null,"MK - odpočet plochy nad rýhou:-4924,00"]
[9,"577142112R00","Beton asfaltový ACO 11+, ACO 16+, nad 3 m, tl.5 cm ","m2",1445,null,{"$f":"E33*F33","v":0},0.12966,{"$f":"E33*H33","v":187.3587},0,{"$f":"E33*J33","v":0},null,null,null,2,null,null,null,null,null,null,null,null,null,null,null,1,1,1,null,null,null,null,null,null,null,null,null,null,null,null,null,null,null,null,null,null,null,null,null,null,1,{"$f":"IF(AZ33=1,G33,0)","v":0},{"$f":"IF(AZ33=2,G33,0)","v":0},{"$f":"IF(AZ33=3,G33,0)","v":0},{"$f":"IF(AZ33=4,G33,0)","v":0},{"$f":"IF(AZ33=5,G33,0)","v":0},null,null,null,null,null,null,null,null,null,null,null,null,null,null,null,null,null,null,null,null,null,1,1]
[null,null,"Komunikace III. tř.:2320,00",null,2320,null,null,null,null,null,null,null,"Komunikace III. tř.:2320,00"]
[null,null,"Odpočet plochy nad rýhou:-875,00",null,-875,null,null,null,null,null,null,null,"Odpočet plochy nad rýhou:-875,00"]
[10,"579300016R00","Kryt komunikací z asfalt.recyklátu po zhutnění 9cm ","m2",506,null,{"$f":"E36*F36","v":0},0.2334,{"$f":"E36*H36","v":118.10039999999999},0,{"$f":"E36*J36","v":0},null,null,null,2,null,null,null,null,null,null,null,null,null,null,null,1,0,0,null,null,null,null,null,null,null,null,null,null,null,null,null,null,null,null,null,null,null,null,null,null,1,{"$f":"IF(AZ36=1,G36,0)","v":0},{"$f":"IF(AZ36=2,G36,0)","v":0},{"$f":"IF(AZ36=3,G36,0)","v":0},{"$f":"IF(AZ36=4,G36,0)","v":0},{"$f":"IF(AZ36=5,G36,0)","v":0},null,null,null,null,null,null,null,null,null,null,null,null,null,null,null,null,null,null,null,null,null,1,0]
[null,null,"MK z asf.rec.:721,00",null,721,null,null,null,null,null,null,null,"MK z asf.rec.:721,00"]
[null,null,"Odpočet plochy nad rýhou:-215,00",null,-215,null,null,null,null,null,null,null,"Odpočet plochy nad rýhou:-215,00"]
[11,"596215040R00","Kladení zámkové dlažby tl. 8 cm do drtě tl. 4 cm ","m2",45,null,{"$f":"E39*F39","v":0},7.3899999999999993E-2,{"$f":"E39*H39","v":3.3254999999999999},0,{"$f":"E39*J39","v":0},null,null,null,2,null,null,null,null,null,null,null,null,null,null,null,1,1,1,null,null,null,null,null,null,null,null,null,null,null,null,null,null,null,null,null,null,null,null,null,null,1,{"$f":"IF(AZ39=1,G39,0)","v":0},{"$f":"IF(AZ39=2,G39,0)","v":0},{"$f":"IF(AZ39=3,G39,0)","v":0},{"$f":"IF(AZ39=4,G39,0)","v":0},{"$f":"IF(AZ39=5,G39,0)","v":0},null,null,null,null,null,null,null,null,null,null,null,null,null,null,null,null,null,null,null,null,null,1,1]
[null,null,"Použití původní očištěné ZD8",null,null,null,null,null,null,null,null,"Použití původní očištěné ZD8",null,null,3]
[null,null,"ZD:170,00",null,170,null,null,null,null,null,null,null,"ZD:170,00"]
[null,null,"Odpočet ZD - nad rýhou:-125,00",null,-125,null,null,null,null,null,null,null,"Odpočet ZD - nad rýhou:-125,00"]
[12,"596291113R00","Řezání zámkové dlažby tl. 80 mm ","m",36,null,{"$f":"E43*F43","v":0},3.6000000000000002E-4,{"$f":"E43*H43","v":1.2960000000000001E-2},0,{"$f":"E43*J43","v":0},null,null,null,2,null,null,null,null,null,null,null,null,null,null,null,1,1,1,null,null,null,null,null,null,null,null,null,null,null,null,null,null,null,null,null,null,null,null,null,null,1,{"$f":"IF(AZ43=1,G43,0)","v":0},{"$f":"IF(AZ43=2,G43,0)","v":0},{"$f":"IF(AZ43=3,G43,0)","v":0},{"$f":"IF(AZ43=4,G43,0)","v":0},{"$f":"IF(AZ43=5,G43,0)","v":0},null,null,null,null,null,null,null,null,null,null,null,null,null,null,null,null,null,null,null,null,null,1,1]
[null,null,"ZD:170,00*0,8",null,136,null,null,null,null,null,null,null,"ZD:170,00*0,8"]
[null,null,"Odpočet ZD - nad rýhou:-125,00*0,8",null,-100,null,null,null,null,null,null,null,"Odpočet ZD - nad rýhou:-125,00*0,8"]
[13,"938908411RRX","Očištění povrchu krytu omytím vodou ","m2",6416,null,{"$f":"E46*F46","v":0},1.0000000000000001E-5,{"$f":"E46*H46","v":6.4160000000000009E-2},0,{"$f":"E46*J46","v":0},null,null,null,2,null,null,null,null,null,null,null,null,null,null,null,1,1,1,null,null,null,null,null,null,null,null,null,null,null,null,null,null,null,null,null,null,null,null,null,null,1,{"$f":"IF(AZ46=1,G46,0)","v":0},{"$f":"IF(AZ46=2,G46,0)","v":0},{"$f":"IF(AZ46=3,G46,0)","v":0},{"$f":"IF(AZ46=4,G46,0)","v":0},{"$f":"IF(AZ46=5,G46,0)","v":0},null,null,null,null,null,null,null,null,null,null,null,null,null,null,null,null,null,null,null,null,null,1,1]
[null,null,"Komunikace III. tř.:2320,00",null,2320,null,null,null,null,null,null,null,"Komunikace III. tř.:2320,00"]
[null,null,"Odpočet plochy nad rýhou:-875,00",null,-875,null,null,null,null,null,null,null,"Odpočet plochy nad rýhou:-875,00"]
[null,null,"MK:9895,00",null,9895,null,null,null,null,null,null,null,"MK:9895,00"]
[null,null,"MK - odpočet plochy nad rýhou:-4924,00",null,-4924,null,null,null,null,null,null,null,"MK - odpočet plochy nad rýhou:-4924,00"]
[14,"938909311R00","Odstranění nánosu z povrchu podkladu živice/beton ","m2",6461,null,{"$f":"E51*F51","v":0},0,{"$f":"E51*H51","v":0},0,{"$f":"E51*J51","v":0},null,null,null,2,null,null,null,null,null,null,null,null,null,null,null,1,1,1,null,null,null,null,null,null,null,null,null,null,null,null,null,null,null,null,null,null,null,null,null,null,1,{"$f":"IF(AZ51=1,G51,0)","v":0},{"$f":"IF(AZ51=2,G51,0)","v":0},{"$f":"IF(AZ51=3,G51,0)","v":0},{"$f":"IF(AZ51=4,G51,0)","v":0},{"$f":"IF(AZ51=5,G51,0)","v":0},null,null,null,null,null,null,null,null,null,null,null,null,null,null,null,null,null,null,null,null,null,1,1]
[null,null,"ZD:170,00",null,170,null,null,null,null,null,null,null,"ZD:170,00"]
[null,null,"Odpočet ZD - nad rýhou:-125,00",null,-125,null,null,null,null,null,null,null,"Odpočet ZD - nad rýhou:-125,00"]
[null,null,"Komunikace III. tř.:2320,00",null,2320,null,null,null,null,null,null,null,"Komunikace III. tř.:2320,00"]
[null,null,"Odpočet plochy nad rýhou:-875,00",null,-875,null,null,null,null,null,null,null,"Odpočet plochy nad rýhou:-875,00"]
[null,null,"MK:9895,00",null,9895,null,null,null,null,null,null,null,"MK:9895,00"]
[null,null,"MK - odpočet plochy nad rýhou:-4924,00",null,-4924,null,null,null,null,null,null,null,"MK - odpočet plochy nad rýhou:-4924,00"]
[15,"979082213RXX","Vodorovná doprava suti po suchu na skládku zhotovitele","t",515.11099999999999,null,{"$f":"E58*F58","v":0},0,{"$f":"E58*H58","v":0},0,{"$f":"E58*J58","v":0},null,null,null,2,null,null,null,null,null,null,null,null,null,null,null,1,1,1,null,null,null,null,null,null,null,null,null,null,null,null,null,null,null,null,null,null,null,null,null,null,1,{"$f":"IF(AZ58=1,G58,0)","v":0},{"$f":"IF(AZ58=2,G58,0)","v":0},{"$f":"IF(AZ58=3,G58,0)","v":0},{"$f":"IF(AZ58=4,G58,0)","v":0},{"$f":"IF(AZ58=5,G58,0)","v":0},null,null,null,null,null,null,null,null,null,null,null,null,null,null,null,null,null,null,null,null,null,1,1]
[16,"979990112RAS","Poplatek za skládku suti - obalovaný asfalt ","t",504.98599999999999,null,{"$f":"E59*F59","v":0},0,{"$f":"E59*H59","v":0},0,{"$f":"E59*J59","v":0},null,null,null,2,null,null,null,null,null,null,null,null,null,null,null,1,10,10,null,null,null,null,null,null,null,null,null,null,null,null,null,null,null,null,null,null,null,null,null,null,1,{"$f":"IF(AZ59=1,G59,0)","v":0},{"$f":"IF(AZ59=2,G59,0)","v":0},{"$f":"IF(AZ59=3,G59,0)","v":0},{"$f":"IF(AZ59=4,G59,0)","v":0},{"$f":"IF(AZ59=5,G59,0)","v":0},null,null,null,null,null,null,null,null,null,null,null,null,null,null,null,null,null,null,null,null,null,1,10]
[17,"979999997BET","Poplatek za skládku suťi - beton ","t",10.125,null,{"$f":"E60*F60","v":0},0,{"$f":"E60*H60","v":0},0,{"$f":"E60*J60","v":0},null,null,null,2,null,null,null,null,null,null,null,null,null,null,null,1,10,10,null,null,null,null,null,null,null,null,null,null,null,null,null,null,null,null,null,null,null,null,null,null,1,{"$f":"IF(AZ60=1,G60,0)","v":0},{"$f":"IF(AZ60=2,G60,0)","v":0},{"$f":"IF(AZ60=3,G60,0)","v":0},{"$f":"IF(AZ60=4,G60,0)","v":0},{"$f":"IF(AZ60=5,G60,0)","v":0},null,null,null,null,null,null,null,null,null,null,null,null,null,null,null,null,null,null,null,null,null,1,10]
[null,"Celkem za","5.MR Komunikace mimo rýhu inženýrských sítí",null,null,null,{"$f":"SUM(G7:G60)","v":0},null,{"$f":"SUM(I7:I60)","v":946.05051000000014},null,{"$f":"SUM(K7:K60)","v":-515.11185999999998},null,null,null,4,null,null,null,null,null,null,null,null,null,null,null,null,null,null,null,null,null,null,null,null,null,null,null,null,null,null,null,null,null,null,null,null,null,null,null,null,null,{"$f":"SUM(BA7:BA60)","v":0},{"$f":"SUM(BB7:BB60)","v":0},{"$f":"SUM(BC7:BC60)","v":0},{"$f":"SUM(BD7:BD60)","v":0},{"$f":"SUM(BE7:BE60)","v":0}]
["Díl:","5.NR","Komunikace nad rýhou inženýrských sítí",null,null,null,null,null,null,null,null,null,null,null,1]
[18,"113106231RRX","Rozebrání dlažeb ze zámkové dlažby v kamenivu včetně očištění pro opětovné položení","m2",125,null,{"$f":"E63*F63","v":0},0,{"$f":"E63*H63","v":0},-0.22500000000000001,{"$f":"E63*J63","v":-28.125},null,null,null,2,null,null,null,null,null,null,null,null,null,null,null,1,1,1,null,null,null,null,null,null,null,null,null,null,null,null,null,null,null,null,null,null,null,null,null,null,1,{"$f":"IF(AZ63=1,G63,0)","v":0},{"$f":"IF(AZ63=2,G63,0)","v":0},{"$f":"IF(AZ63=3,G63,0)","v":0},{"$f":"IF(AZ63=4,G63,0)","v":0},{"$f":"IF(AZ63=5,G63,0)","v":0},null,null,null,null,null,null,null,null,null,null,null,null,null,null,null,null,null,null,null,null,null,1,1]
[null,null,"ZD - nad rýhou:125,00",null,125,null,null,null,null,null,null,null,"ZD - nad rýhou:125,00"]
[19,"113107625R00","Odstranění podkladu nad 50 m2,kam.drcené tl.25 cm ","m2",671,null,{"$f":"E65*F65","v":0},0,{"$f":"E65*H65","v":0},-0.55000000000000004,{"$f":"E65*J65","v":-369.05},null,null,null,2,null,null,null,null,null,null,null,null,null,null,null,1,1,1,null,null,null,null,null,null,null,null,null,null,null,null,null,null,null,null,null,null,null,null,null,null,1,{"$f":"IF(AZ65=1,G65,0)","v":0},{"$f":"IF(AZ65=2,G65,0)","v":0},{"$f":"IF(AZ65=3,G65,0)","v":0},{"$f":"IF(AZ65=4,G65,0)","v":0},{"$f":"IF(AZ65=5,G65,0)","v":0},null,null,null,null,null,null,null,null,null,null,null,null,null,null,null,null,null,null,null,null,null,1,1]
[null,null,"Rýhy ve štěrkových plochách:645,00",null,645,null,null,null,null,null,null,null,"Rýhy ve štěrkových plochách:645,00"]
[null,null,"Betonová plocha nad rýhou:26,00",null,26,null,null,null,null,null,null,null,"Betonová plocha nad rýhou:26,00"]
[20,"113107630R00","Odstranění podkladu nad 50 m2,kam.drcené tl.30 cm ","m2",5060,null,{"$f":"E68*F68","v":0},0,{"$f":"E68*H68","v":0},-0.66,{"$f":"E68*J68","v":-3339.6000000000004},null,null,null,2,null,null,null,null,null,null,null,null,null,null,null,1,1,1,null,null,null,null,null,null,null,null,null,null,null,null,null,null,null,null,null,null,null,null,null,null,1,{"$f":"IF(AZ68=1,G68,0)","v":0},{"$f":"IF(AZ68=2,G68,0)","v":0},{"$f":"IF(AZ68=3,G68,0)","v":0},{"$f":"IF(AZ68=4,G68,0)","v":0},{"$f":"IF(AZ68=5,G68,0)","v":0},null,null,null,null,null,null,null,null,null,null,null,null,null,null,null,null,null,null,null,null,null,1,1]
[null,null,"Rýhy v MK:4465,00",null,4465,null,null,null,null,null,null,null,"Rýhy v MK:4465,00"]
[null,null,"Rýhy v kom. III.tř.:595,00",null,595,null,null,null,null,null,null,null,"Rýhy v kom. III.tř.:595,00"]
[21,"113108412R00","Odstranění podkladu pl. nad 50 m2, živice tl.12 cm ","m2",595,null,{"$f":"E71*F71","v":0},0,{"$f":"E71*H71","v":0},-0.26400000000000001,{"$f":"E71*J71","v":-157.08000000000001},null,null,null,2,null,null,null,null,null,null,null,null,null,null,null,1,1,1,null,null,null,null,null,null,null,null,null,null,null,null,null,null,null,null,null,null,null,null,null,null,1,{"$f":"IF(AZ71=1,G71,0)","v":0},{"$f":"IF(AZ71=2,G71,0)","v":0},{"$f":"IF(AZ71=3,G71,0)","v":0},{"$f":"IF(AZ71=4,G71,0)","v":0},{"$f":"IF(AZ71=5,G71,0)","v":0},null,null,null,null,null,null,null,null,null,null,null,null,null,null,null,null,null,null,null,null,null,1,1]
[null,null,"Komunikace III. tř. - nad rýhou:595,00",null,595,null,null,null,null,null,null,null,"Komunikace III. tř. - nad rýhou:595,00"]
[22,"113109315R00","Odstranění podkladu pl.50 m2, bet.prostý tl.15 cm ","m2",26,null,{"$f":"E73*F73","v":0},0,{"$f":"E73*H73","v":0},-0.36,{"$f":"E73*J73","v":-9.36},null,null,null,2,null,null,null,null,null,null,null,null,null,null,null,1,1,1,null,null,null,null,null,null,null,null,null,null,null,null,null,null,null,null,null,null,null,null,null,null,1,{"$f":"IF(AZ73=1,G73,0)","v":0},{"$f":"IF(AZ73=2,G73,0)","v":0},{"$f":"IF(AZ73=3,G73,0)","v":0},{"$f":"IF(AZ73=4,G73,0)","v":0},{"$f":"IF(AZ73=5,G73,0)","v":0},null,null,null,null,null,null,null,null,null,null,null,null,null,null,null,null,null,null,null,null,null,1,1]
[null,null,"Betonová plocha nad rýhou:26,00",null,26,null,null,null,null,null,null,null,"Betonová plocha nad rýhou:26,00"]
[23,"113109609R00","Odstranění podkladu pl.nad 50m2,bet.recykl,tl. 9cm ","m2",215,null,{"$f":"E75*F75","v":0},0,{"$f":"E75*H75","v":0},-0.21231,{"$f":"E75*J75","v":-45.646650000000001},null,null,null,2,null,null,null,null,null,null,null,null,null,null,null,1,1,1,null,null,null,null,null,null,null,null,null,null,null,null,null,null,null,null,null,null,null,null,null,null,1,{"$f":"IF(AZ75=1,G75,0)","v":0},{"$f":"IF(AZ75=2,G75,0)","v":0},{"$f":"IF(AZ75=3,G75,0)","v":0},{"$f":"IF(AZ75=4,G75,0)","v":0},{"$f":"IF(AZ75=5,G75,0)","v":0},null,null,null,null,null,null,null,null,null,null,null,null,null,null,null,null,null,null,null,null,null,1,1]
[null,null,"MK z asf.rec. nad rýhou:215,00",null,215,null,null,null,null,null,null,null,"MK z asf.rec. nad rýhou:215,00"]
[24,"113151319R00","Fréz.živič.krytu nad 500 m2, s překážkami, tl.10cm ","m2",5799,null,{"$f":"E77*F77","v":0},0,{"$f":"E77*H77","v":0},-0.22,{"$f":"E77*J77","v":-1275.78},null,null,null,2,null,null,null,null,null,null,null,null,null,null,null,1,1,1,null,null,null,null,null,null,null,null,null,null,null,null,null,null,null,null,null,null,null,null,null,null,1,{"$f":"IF(AZ77=1,G77,0)","v":0},{"$f":"IF(AZ77=2,G77,0)","v":0},{"$f":"IF(AZ77=3,G77,0)","v":0},{"$f":"IF(AZ77=4,G77,0)","v":0},{"$f":"IF(AZ77=5,G77,0)","v":0},null,null,null,null,null,null,null,null,null,null,null,null,null,null,null,null,null,null,null,null,null,1,1]
[null,null,"Komunikace III. tř. - nad rýhou:875,00",null,875,null,null,null,null,null,null,null,"Komunikace III. tř. - nad rýhou:875,00"]
[null,null,"MK - nad rýhou:4924,00",null,4924,null,null,null,null,null,null,null,"MK - nad rýhou:4924,00"]
[25,"121100002RAX","Sejmutí ornice a uložení na deponii zpětný přesun, rozprostření v tl. 10 cm, osetí","m3",275,null,{"$f":"E80*F80","v":0},0,{"$f":"E80*H80","v":0},0,{"$f":"E80*J80","v":0},null,null,null,2,null,null,null,null,null,null,null,null,null,null,null,1,1,1,null,null,null,null,null,null,null,null,null,null,null,null,null,null,null,null,null,null,null,null,null,null,1,{"$f":"IF(AZ80=1,G80,0)","v":0},{"$f":"IF(AZ80=2,G80,0)","v":0},{"$f":"IF(AZ80=3,G80,0)","v":0},{"$f":"IF(AZ80=4,G80,0)","v":0},{"$f":"IF(AZ80=5,G80,0)","v":0},null,null,null,null,null,null,null,null,null,null,null,null,null,null,null,null,null,null,null,null,null,1,1]
[26,"566501111R00","Úprava krytu kamenivem drceným do 0,10 m3/m2 ","m2",645,null,{"$f":"E81*F81","v":0},0.17726,{"$f":"E81*H81","v":114.3327},0,{"$f":"E81*J81","v":0},null,null,null,2,null,null,null,null,null,null,null,null,null,null,null,1,1,1,null,null,null,null,null,null,null,null,null,null,null,null,null,null,null,null,null,null,null,null,null,null,1,{"$f":"IF(AZ81=1,G81,0)","v":0},{"$f":"IF(AZ81=2,G81,0)","v":0},{"$f":"IF(AZ81=3,G81,0)","v":0},{"$f":"IF(AZ81=4,G81,0)","v":0},{"$f":"IF(AZ81=5,G81,0)","v":0},null,null,null,null,null,null,null,null,null,null,null,null,null,null,null,null,null,null,null,null,null,1,1]
[null,null,"Štěrkové plochy nad rýh:645,00",null,645,null,null,null,null,null,null,null,"Štěrkové plochy nad rýh:645,00"]
[27,"566903111R00","Vyspravení podkladu po překopech kam.hrubě drceným ","t",2153.8564000000001,null,{"$f":"E83*F83","v":0},0,{"$f":"E83*H83","v":0},0,{"$f":"E83*J83","v":0},null,null,null,2,null,null,null,null,null,null,null,null,null,null,null,1,1,1,null,null,null,null,null,null,null,null,null,null,null,null,null,null,null,null,null,null,null,null,null,null,1,{"$f":"IF(AZ83=1,G83,0)","v":0},{"$f":"IF(AZ83=2,G83,0)","v":0},{"$f":"IF(AZ83=3,G83,0)","v":0},{"$f":"IF(AZ83=4,G83,0)","v":0},{"$f":"IF(AZ83=5,G83,0)","v":0},null,null,null,null,null,null,null,null,null,null,null,null,null,null,null,null,null,null,null,null,null,1,1]
[null,null,"Rýhy ve štěrkových plochách:645,00*0,25*1,873",null,302.0213,null,null,null,null,null,null,null,"Rýhy ve štěrkových plochách:645,00*0,25*1,873"]
[null,null,"Betonová plocha nad rýhou:26,00*0,25*1,873",null,12.1745,null,null,null,null,null,null,null,"Betonová plocha nad rýhou:26,00*0,25*1,873"]
[null,null,"Rýhy v MK:4465,00*0,18*1,873",null,1505.3300999999999,null,null,null,null,null,null,null,"Rýhy v MK:4465,00*0,18*1,873"]
[null,null,"Rýhy v kom. III.tř.:595,00*0,30*1,873",null,334.33049999999997,null,null,null,null,null,null,null,"Rýhy v kom. III.tř.:595,00*0,30*1,873"]
[28,"566904111R00","Vyspravení podkladu po překopech kam.obal.asfaltem ","t",1518,null,{"$f":"E88*F88","v":0},1,{"$f":"E88*H88","v":1518},0,{"$f":"E88*J88","v":0},null,null,null,2,null,null,null,null,null,null,null,null,null,null,null,1,1,1,null,null,null,null,null,null,null,null,null,null,null,null,null,null,null,null,null,null,null,null,null,null,1,{"$f":"IF(AZ88=1,G88,0)","v":0},{"$f":"IF(AZ88=2,G88,0)","v":0},{"$f":"IF(AZ88=3,G88,0)","v":0},{"$f":"IF(AZ88=4,G88,0)","v":0},{"$f":"IF(AZ88=5,G88,0)","v":0},null,null,null,null,null,null,null,null,null,null,null,null,null,null,null,null,null,null,null,null,null,1,1]
[null,null,"Položka je určena pro vyspravení krytu nebo podkladu po překopech pro inženýrské sítě.",null,null,null,null,null,null,null,null,"Položka je určena pro vyspravení krytu nebo podkladu po překopech pro inženýrské sítě.",null,null,3]
[null,null,"Rýhy v MK:4465,00*0,12*2,5",null,1339.5,null,null,null,null,null,null,null,"Rýhy v MK:4465,00*0,12*2,5"]
[null,null,"Rýhy v kom. III.tř.:595,00*0,12*2,5",null,178.5,null,null,null,null,null,null,null,"Rýhy v kom. III.tř.:595,00*0,12*2,5"]
[29,"572952112RRX","Vyspravení krytu po překopu asf.betonem tl.do 7 cm ACL 22+ v rýze","m2",875,null,{"$f":"E92*F92","v":0},0.15382000000000001,{"$f":"E92*H92","v":134.5925},0,{"$f":"E92*J92","v":0},null,null,null,2,null,null,null,null,null,null,null,null,null,null,null,1,1,1,null,null,null,null,null,null,null,null,null,null,null,null,null,null,null,null,null,null,null,null,null,null,1,{"$f":"IF(AZ92=1,G92,0)","v":0},{"$f":"IF(AZ92=2,G92,0)","v":0},{"$f":"IF(AZ92=3,G92,0)","v":0},{"$f":"IF(AZ92=4,G92,0)","v":0},{"$f":"IF(AZ92=5,G92,0)","v":0},null,null,null,null,null,null,null,null,null,null,null,null,null,null,null,null,null,null,null,null,null,1,1]
[null,null,"Komunikace III. tř. - nad rýhou:875,00",null,875,null,null,null,null,null,null,null,"Komunikace III. tř. - nad rýhou:875,00"]
[30,"573231111R00","Postřik živičný spojovací z emulze 0,5-0,7 kg/m2 ","m2",6674,null,{"$f":"E94*F94","v":0},7.1000000000000002E-4,{"$f":"E94*H94","v":4.7385400000000004},0,{"$f":"E94*J94","v":0},null,null,null,2,null,null,null,null,null,null,null,null,null,null,null,1,1,1,null,null,null,null,null,null,null,null,null,null,null,null,null,null,null,null,null,null,null,null,null,null,1,{"$f":"IF(AZ94=1,G94,0)","v":0},{"$f":"IF(AZ94=2,G94,0)","v":0},{"$f":"IF(AZ94=3,G94,0)","v":0},{"$f":"IF(AZ94=4,G94,0)","v":0},{"$f":"IF(AZ94=5,G94,0)","v":0},null,null,null,null,null,null,null,null,null,null,null,null,null,null,null,null,null,null,null,null,null,1,1]
[null,null,"MK - nad rýhou:4924,00",null,4924,null,null,null,null,null,null,null,"MK - nad rýhou:4924,00"]
[null,null,"Komunikace III. tř. - nad rýhou:875,00*2",null,1750,null,null,null,null,null,null,null,"Komunikace III. tř. - nad rýhou:875,00*2"]
[31,"577132111R00","Beton asfalt. ACO 11+ obrusný, š.nad 3 m, tl. 4 cm ","m2",4924,null,{"$f":"E97*F97","v":0},0.10373,{"$f":"E97*H97","v":510.76652000000001},0,{"$f":"E97*J97","v":0},null,null,null,2,null,null,null,null,null,null,null,null,null,null,null,1,1,1,null,null,null,null,null,null,null,null,null,null,null,null,null,null,null,null,null,null,null,null,null,null,1,{"$f":"IF(AZ97=1,G97,0)","v":0},{"$f":"IF(AZ97=2,G97,0)","v":0},{"$f":"IF(AZ97=3,G97,0)","v":0},{"$f":"IF(AZ97=4,G97,0)","v":0},{"$f":"IF(AZ97=5,G97,0)","v":0},null,null,null,null,null,null,null,null,null,null,null,null,null,null,null,null,null,null,null,null,null,1,1]
[null,null,"MK - nad rýhou:4924,00",null,4924,null,null,null,null,null,null,null,"MK - nad rýhou:4924,00"]
[32,"577142112R00","Beton asfaltový ACO 11+, ACO 16+, nad 3 m, tl.5 cm ","m2",875,null,{"$f":"E99*F99","v":0},0.12966,{"$f":"E99*H99","v":113.4525},0,{"$f":"E99*J99","v":0},null,null,null,2,null,null,null,null,null,null,null,null,null,null,null,1,1,1,null,null,null,null,null,null,null,null,null,null,null,null,null,null,null,null,null,null,null,null,null,null,1,{"$f":"IF(AZ99=1,G99,0)","v":0},{"$f":"IF(AZ99=2,G99,0)","v":0},{"$f":"IF(AZ99=3,G99,0)","v":0},{"$f":"IF(AZ99=4,G99,0)","v":0},{"$f":"IF(AZ99=5,G99,0)","v":0},null,null,null,null,null,null,null,null,null,null,null,null,null,null,null,null,null,null,null,null,null,1,1]
[null,null,"Komunikace III. tř. - nad rýhou:875,00",null,875,null,null,null,null,null,null,null,"Komunikace III. tř. - nad rýhou:875,00"]
[33,"579300016R00","Kryt komunikací z asfalt.recyklátu po zhutnění 9cm ","m2",215,null,{"$f":"E101*F101","v":0},0.2334,{"$f":"E101*H101","v":50.180999999999997},0,{"$f":"E101*J101","v":0},null,null,null,2,null,null,null,null,null,null,null,null,null,null,null,1,0,0,null,null,null,null,null,null,null,null,null,null,null,null,null,null,null,null,null,null,null,null,null,null,1,{"$f":"IF(AZ101=1,G101,0)","v":0},{"$f":"IF(AZ101=2,G101,0)","v":0},{"$f":"IF(AZ101=3,G101,0)","v":0},{"$f":"IF(AZ101=4,G101,0)","v":0},{"$f":"IF(AZ101=5,G101,0)","v":0},null,null,null,null,null,null,null,null,null,null,null,null,null,null,null,null,null,null,null,null,null,1,0]
[null,null,"MK z asf.rec. nad rýhou:215,00",null,215,null,null,null,null,null,null,null,"MK z asf.rec. nad rýhou:215,00"]
[34,"581121111R00","Kryt cementobeton. komunikací skup.3 a 4 tl. 15 cm ","m2",26,null,{"$f":"E103*F103","v":0},0.35865000000000002,{"$f":"E103*H103","v":9.3249000000000013},0,{"$f":"E103*J103","v":0},null,null,null,2,null,null,null,null,null,null,null,null,null,null,null,1,1,1,null,null,null,null,null,null,null,null,null,null,null,null,null,null,null,null,null,null,null,null,null,null,1,{"$f":"IF(AZ103=1,G103,0)","v":0},{"$f":"IF(AZ103=2,G103,0)","v":0},{"$f":"IF(AZ103=3,G103,0)","v":0},{"$f":"IF(AZ103=4,G103,0)","v":0},{"$f":"IF(AZ103=5,G103,0)","v":0},null,null,null,null,null,null,null,null,null,null,null,null,null,null,null,null,null,null,null,null,null,1,1]
[null,null,"Betonová plocha nad rýhou:26,00",null,26,null,null,null,null,null,null,null,"Betonová plocha nad rýhou:26,00"]
[35,"596215040R00","Kladení zámkové dlažby tl. 8 cm do drtě tl. 4 cm ","m2",125,null,{"$f":"E105*F105","v":0},7.3899999999999993E-2,{"$f":"E105*H105","v":9.2374999999999989},0,{"$f":"E105*J105","v":0},null,null,null,2,null,null,null,null,null,null,null,null,null,null,null,1,1,1,null,null,null,null,null,null,null,null,null,null,null,null,null,null,null,null,null,null,null,null,null,null,1,{"$f":"IF(AZ105=1,G105,0)","v":0},{"$f":"IF(AZ105=2,G105,0)","v":0},{"$f":"IF(AZ105=3,G105,0)","v":0},{"$f":"IF(AZ105=4,G105,0)","v":0},{"$f":"IF(AZ105=5,G105,0)","v":0},null,null,null,null,null,null,null,null,null,null,null,null,null,null,null,null,null,null,null,null,null,1,1]
[null,null,"Použití původní očištěné ZD8",null,null,null,null,null,null,null,null,"Použití původní očištěné ZD8",null,null,3]
[null,null,"ZD - nad rýhou:125,00",null,125,null,null,null,null,null,null,null,"ZD - nad rýhou:125,00"]
[36,"596291113R00","Řezání zámkové dlažby tl. 80 mm ","m",100,null,{"$f":"E108*F108","v":0},3.6000000000000002E-4,{"$f":"E108*H108","v":3.6000000000000004E-2},0,{"$f":"E108*J108","v":0},null,null,null,2,null,null,null,null,null,null,null,null,null,null,null,1,1,1,null,null,null,null,null,null,null,null,null,null,null,null,null,null,null,null,null,null,null,null,null,null,1,{"$f":"IF(AZ108=1,G108,0)","v":0},{"$f":"IF(AZ108=2,G108,0)","v":0},{"$f":"IF(AZ108=3,G108,0)","v":0},{"$f":"IF(AZ108=4,G108,0)","v":0},{"$f":"IF(AZ108=5,G108,0)","v":0},null,null,null,null,null,null,null,null,null,null,null,null,null,null,null,null,null,null,null,null,null,1,1]
[null,null,"ZD - nad rýhou:125,00*0,8",null,100,null,null,null,null,null,null,null,"ZD - nad rýhou:125,00*0,8"]
[37,"919735113R00","Řezání stávajícího živičného krytu tl. 10 - 15 cm ","m",2244,null,{"$f":"E110*F110","v":0},0,{"$f":"E110*H110","v":0},0,{"$f":"E110*J110","v":0},null,null,null,2,null,null,null,null,null,null,null,null,null,null,null,1,1,1,null,null,null,null,null,null,null,null,null,null,null,null,null,null,null,null,null,null,null,null,null,null,1,{"$f":"IF(AZ110=1,G110,0)","v":0},{"$f":"IF(AZ110=2,G110,0)","v":0},{"$f":"IF(AZ110=3,G110,0)","v":0},{"$f":"IF(AZ110=4,G110,0)","v":0},{"$f":"IF(AZ110=5,G110,0)","v":0},null,null,null,null,null,null,null,null,null,null,null,null,null,null,null,null,null,null,null,null,null,1,1]
[null,null,"Nad rýhou:2244,00",null,2244,null,null,null,null,null,null,null,"Nad rýhou:2244,00"]
[38,"919735123R00","Řezání stávajícího betonového krytu tl. 10 - 15 cm ","m",14,null,{"$f":"E112*F112","v":0},0,{"$f":"E112*H112","v":0},0,{"$f":"E112*J112","v":0},null,null,null,2,null,null,null,null,null,null,null,null,null,null,null,1,1,1,null,null,null,null,null,null,null,null,null,null,null,null,null,null,null,null,null,null,null,null,null,null,1,{"$f":"IF(AZ112=1,G112,0)","v":0},{"$f":"IF(AZ112=2,G112,0)","v":0},{"$f":"IF(AZ112=3,G112,0)","v":0},{"$f":"IF(AZ112=4,G112,0)","v":0},{"$f":"IF(AZ112=5,G112,0)","v":0},null,null,null,null,null,null,null,null,null,null,null,null,null,null,null,null,null,null,null,null,null,1,1]
[null,null,"Nad rýhou:14,00",null,14,null,null,null,null,null,null,null,"Nad rýhou:14,00"]
[39,"938908411RRX","Očištění povrchu krytu omytím vodou ","m2",5799,null,{"$f":"E114*F114","v":0},1.0000000000000001E-5,{"$f":"E114*H114","v":5.7990000000000007E-2},0,{"$f":"E114*J114","v":0},null,null,null,2,null,null,null,null,null,null,null,null,null,null,null,1,1,1,null,null,null,null,null,null,null,null,null,null,null,null,null,null,null,null,null,null,null,null,null,null,1,{"$f":"IF(AZ114=1,G114,0)","v":0},{"$f":"IF(AZ114=2,G114,0)","v":0},{"$f":"IF(AZ114=3,G114,0)","v":0},{"$f":"IF(AZ114=4,G114,0)","v":0},{"$f":"IF(AZ114=5,G114,0)","v":0},null,null,null,null,null,null,null,null,null,null,null,null,null,null,null,null,null,null,null,null,null,1,1]
[null,null,"Komunikace III. tř. - nad rýhou:875,00",null,875,null,null,null,null,null,null,null,"Komunikace III. tř. - nad rýhou:875,00"]
[null,null,"MK - nad rýhou:4924,00",null,4924,null,null,null,null,null,null,null,"MK - nad rýhou:4924,00"]
[40,"938909311R00","Odstranění nánosu z povrchu podkladu živice/beton ","m2",5950,null,{"$f":"E117*F117","v":0},0,{"$f":"E117*H117","v":0},0,{"$f":"E117*J117","v":0},null,null,null,2,null,null,null,null,null,null,null,null,null,null,null,1,1,1,null,null,null,null,null,null,null,null,null,null,null,null,null,null,null,null,null,null,null,null,null,null,1,{"$f":"IF(AZ117=1,G117,0)","v":0},{"$f":"IF(AZ117=2,G117,0)","v":0},{"$f":"IF(AZ117=3,G117,0)","v":0},{"$f":"IF(AZ117=4,G117,0)","v":0},{"$f":"IF(AZ117=5,G117,0)","v":0},null,null,null,null,null,null,null,null,null,null,null,null,null,null,null,null,null,null,null,null,null,1,1]
[null,null,"Komunikace III. tř. - nad rýhou:875,00",null,875,null,null,null,null,null,null,null,"Komunikace III. tř. - nad rýhou:875,00"]
[null,null,"MK - nad rýhou:4924,00",null,4924,null,null,null,null,null,null,null,"MK - nad rýhou:4924,00"]
[null,null,"ZD - nad rýhou:125,00",null,125,null,null,null,null,null,null,null,"ZD - nad rýhou:125,00"]
[null,null,"Betonová plocha nad rýhou:26,00",null,26,null,null,null,null,null,null,null,"Betonová plocha nad rýhou:26,00"]
[41,"979082213RXX","Vodorovná doprava suti po suchu na skládku zhotovitele","t",5224.6419999999998,null,{"$f":"E122*F122","v":0},0,{"$f":"E122*H122","v":0},0,{"$f":"E122*J122","v":0},null,null,null,2,null,null,null,null,null,null,null,null,null,null,null,1,1,1,null,null,null,null,null,null,null,null,null,null,null,null,null,null,null,null,null,null,null,null,null,null,1,{"$f":"IF(AZ122=1,G122,0)","v":0},{"$f":"IF(AZ122=2,G122,0)","v":0},{"$f":"IF(AZ122=3,G122,0)","v":0},{"$f":"IF(AZ122=4,G122,0)","v":0},{"$f":"IF(AZ122=5,G122,0)","v":0},null,null,null,null,null,null,null,null,null,null,null,null,null,null,null,null,null,null,null,null,null,1,1]
[42,"979990112RAS","Poplatek za skládku suti - obalovaný asfalt ","t",1478.5070000000001,null,{"$f":"E123*F123","v":0},0,{"$f":"E123*H123","v":0},0,{"$f":"E123*J123","v":0},null,null,null,2,null,null,null,null,null,null,null,null,null,null,null,1,10,10,null,null,null,null,null,null,null,null,null,null,null,null,null,null,null,null,null,null,null,null,null,null,1,{"$f":"IF(AZ123=1,G123,0)","v":0},{"$f":"IF(AZ123=2,G123,0)","v":0},{"$f":"IF(AZ123=3,G123,0)","v":0},{"$f":"IF(AZ123=4,G123,0)","v":0},{"$f":"IF(AZ123=5,G123,0)","v":0},null,null,null,null,null,null,null,null,null,null,null,null,null,null,null,null,null,null,null,null,null,1,10]
[43,"979999997BET","Poplatek za skládku suťi - beton ","t",37.484999999999999,null,{"$f":"E124*F124","v":0},0,{"$f":"E124*H124","v":0},0,{"$f":"E124*J124","v":0},null,null,null,2,null,null,null,null,null,null,null,null,null,null,null,1,10,10,null,null,null,null,null,null,null,null,null,null,null,null,null,null,null,null,null,null,null,null,null,null,1,{"$f":"IF(AZ124=1,G124,0)","v":0},{"$f":"IF(AZ124=2,G124,0)","v":0},{"$f":"IF(AZ124=3,G124,0)","v":0},{"$f":"IF(AZ124=4,G124,0)","v":0},{"$f":"IF(AZ124=5,G124,0)","v":0},null,null,null,null,null,null,null,null,null,null,null,null,null,null,null,null,null,null,null,null,null,1,10]
[44,"979999997RŠT","Poplatek za skládku suťi - štěrky ","t",3708.65,null,{"$f":"E125*F125","v":0},0,{"$f":"E125*H125","v":0},0,{"$f":"E125*J125","v":0},null,null,null,2,null,null,null,null,null,null,null,null,null,null,null,1,10,10,null,null,null,null,null,null,null,null,null,null,null,null,null,null,null,null,null,null,null,null,null,null,1,{"$f":"IF(AZ125=1,G125,0)","v":0},{"$f":"IF(AZ125=2,G125,0)","v":0},{"$f":"IF(AZ125=3,G125,0)","v":0},{"$f":"IF(AZ125=4,G125,0)","v":0},{"$f":"IF(AZ125=5,G125,0)","v":0},null,null,null,null,null,null,null,null,null,null,null,null,null,null,null,null,null,null,null,null,null,1,10]
[null,"Celkem za","5.NR Komunikace nad rýhou inženýrských sítí",null,null,null,{"$f":"SUM(G62:G125)","v":0},null,{"$f":"SUM(I62:I125)","v":2464.7201500000001},null,{"$f":"SUM(K62:K125)","v":-5224.6416500000005},null,null,null,4,null,null,null,null,null,null,null,null,null,null,null,null,null,null,null,null,null,null,null,null,null,null,null,null,null,null,null,null,null,null,null,null,null,null,null,null,null,{"$f":"SUM(BA62:BA125)","v":0},{"$f":"SUM(BB62:BB125)","v":0},{"$f":"SUM(BC62:BC125)","v":0},{"$f":"SUM(BD62:BD125)","v":0},{"$f":"SUM(BE62:BE125)","v":0}]
["Díl:","99","Staveništní přesun hmot",null,null,null,null,null,null,null,null,null,null,null,1]
[45,"998225311R00","Přesun hmot, oprava komunikací, kryt živič. a bet. ","t",3410.7706600000001,null,{"$f":"E128*F128","v":0},0,{"$f":"E128*H128","v":0},null,{"$f":"E128*J128","v":0},null,null,null,2,null,null,null,null,null,null,null,null,null,null,null,7,1,2,null,null,null,null,null,null,null,null,null,null,null,null,null,null,null,null,null,null,null,null,null,null,1,{"$f":"IF(AZ128=1,G128,0)","v":0},{"$f":"IF(AZ128=2,G128,0)","v":0},{"$f":"IF(AZ128=3,G128,0)","v":0},{"$f":"IF(AZ128=4,G128,0)","v":0},{"$f":"IF(AZ128=5,G128,0)","v":0},null,null,null,null,null,null,null,null,null,null,null,null,null,null,null,null,null,null,null,null,null,7,1]
[null,"Celkem za","99 Staveništní přesun hmot",null,null,null,{"$f":"SUM(G127:G128)","v":0},null,{"$f":"SUM(I127:I128)","v":0},null,{"$f":"SUM(K127:K128)","v":0},null,null,null,4,null,null,null,null,null,null,null,null,null,null,null,null,null,null,null,null,null,null,null,null,null,null,null,null,null,null,null,null,null,null,null,null,null,null,null,null,null,{"$f":"SUM(BA127:BA128)","v":0},{"$f":"SUM(BB127:BB128)","v":0},{"$f":"SUM(BC127:BC128)","v":0},{"$f":"SUM(BD127:BD128)","v":0},{"$f":"SUM(BE127:BE128)","v":0}]

{"sheet":"308 308.2RD KL","index":42,"n_rows":45,"n_cols":8,"rows_kept":45,"cut":false,"hidden":false,"merged":[[22,0,22,1],[7,2,7,4],[8,2,8,4],[9,2,9,4],[10,2,10,4],[11,2,11,4],[50,1,50,6],[29,5,29,6],[30,5,30,6],[31,5,31,6],[32,5,32,6],[33,5,33,6],[36,1,44,6],[45,1,45,6],[46,1,46,6],[47,1,47,6],[48,1,48,6],[49,1,49,6]]}
["POLOŽKOVÝ ROZPOČET"]
["Rozpočet",null,"308.2RD","Příjezdové komunikace k ČSOV \"A\" a \"C\"",null,"JKSO ","822.24"]
[]
["Objekt",null,null,null,null,"SKP "]
["308",null,"Opravy povrchů",null,null,"Měrná jednotka","m2"]
["Stavba",null,null,null,null,"Počet jednotek",0]
["3232",null,"Horní Slivno - Splašková kanalizace",null,null,"Náklady na m.j.",{"$f":"IF(G6=0,,ROUND((F30+F32)/G6,1))","v":0}]
["Projektant",null,"Radek Hnát - VAK PROJEKT",null,null,"Typ rozpočtu"]
["Zpracovatel projektu"]
["Objednatel",null,"Obec Horní Slivno"]
["Dodavatel",null,".",null,null,"Zakázkové číslo "]
["Rozpočtoval",null,null,null,null,"Počet listů"]
["ROZPOČTOVÉ NÁKLADY"]
["Základní rozpočtové náklady"]
[null,"HSV celkem",{"$f":"'308 308.2RD Rek'!E11","v":0}]
["Z","PSV celkem",{"$f":"'308 308.2RD Rek'!F11","v":0}]
["R","M práce celkem",{"$f":"'308 308.2RD Rek'!H11","v":0}]
["N","M dodávky celkem",{"$f":"'308 308.2RD Rek'!G11","v":0}]
["ZRN celkem",null,{"$f":"SUM(C15:C18)","v":0}]
[]
["HZS",null,{"$f":"'308 308.2RD Rek'!I11","v":0}]
["ZRN+HZS",null,{"$f":"C19+C21","v":0}]
["ZRN+ost.náklady+HZS",null,{"$f":"C22+G23","v":0}]
["Vypracoval",null,null,"Za zhotovitele",null,"Za objednatele"]
["Jméno :",null,null,"Jméno :",null,"Jméno :"]
["Datum :",null,null,"Datum :",null,"Datum :"]
[]
["Podpis :",null,null,"Podpis:",null,"Podpis:"]
[]
["Základ pro DPH",null,21,"%  ",null,{"$f":"C23-F32","v":0}]
["DPH",null,{"$f":"C30","v":21},"% ",null,{"$f":"ROUND(PRODUCT(F30,C31/100),0)","v":0}]
["Základ pro DPH",null,0,"% ",null,0]
["DPH",null,{"$f":"C32","v":0},"% ",null,{"$f":"ROUND(PRODUCT(F32,C33/100),0)","v":0}]
["CENA ZA OBJEKT CELKEM",null,null,null,null,{"$f":"ROUND(SUM(F30:F33),0)","v":0}]
[]
["Poznámka :",null,null,null,null,null,null," "]
[null,null,null,null,null,null,null," "]
[null,null,null,null,null,null,null," "]
[null,null,null,null,null,null,null," "]
[null,null,null,null,null,null,null," "]
[null,null,null,null,null,null,null," "]
[null,null,null,null,null,null,null," "]
[null,null,null,null,null,null,null," "]
[null,null,null,null,null,null,null," "]
[null,null,null,null,null,null,null," "]

{"sheet":"308 308.2RD Rek","index":43,"n_rows":11,"n_cols":9,"rows_kept":11,"cut":false,"hidden":false,"merged":[[0,0,0,1],[1,0,1,1],[1,6,1,8]]}
["Stavba :",null,"3232 Horní Slivno - Splašková kanalizace",null,null,null,"Rozpočet :","308.2RD"]
["Objekt :",null,"308 Opravy povrchů",null,null,null,"Příjezdové komunikace k ČSOV \"A\" a \"C\""]
[]
["REKAPITULACE  STAVEBNÍCH  DÍLŮ"]
[]
[null,"Stavební díl",null,null,"HSV","PSV","Dodávka","Montáž","HZS"]
[{"$f":"'308 308.2RD Pol'!B7","v":"1"},{"$f":"'308 308.2RD Pol'!C7","v":"Zemní práce"},null,null,{"$f":"'308 308.2RD Pol'!BA21","v":0},{"$f":"'308 308.2RD Pol'!BB21","v":0},{"$f":"'308 308.2RD Pol'!BC21","v":0},{"$f":"'308 308.2RD Pol'!BD21","v":0},{"$f":"'308 308.2RD Pol'!BE21","v":0}]
[{"$f":"'308 308.2RD Pol'!B22","v":"5"},{"$f":"'308 308.2RD Pol'!C22","v":"Komunikace"},null,null,{"$f":"'308 308.2RD Pol'!BA35","v":0},{"$f":"'308 308.2RD Pol'!BB35","v":0},{"$f":"'308 308.2RD Pol'!BC35","v":0},{"$f":"'308 308.2RD Pol'!BD35","v":0},{"$f":"'308 308.2RD Pol'!BE35","v":0}]
[{"$f":"'308 308.2RD Pol'!B36","v":"91"},{"$f":"'308 308.2RD Pol'!C36","v":"Doplňující práce na komunikaci"},null,null,{"$f":"'308 308.2RD Pol'!BA49","v":0},{"$f":"'308 308.2RD Pol'!BB49","v":0},{"$f":"'308 308.2RD Pol'!BC49","v":0},{"$f":"'308 308.2RD Pol'!BD49","v":0},{"$f":"'308 308.2RD Pol'!BE49","v":0}]
[{"$f":"'308 308.2RD Pol'!B50","v":"99"},{"$f":"'308 308.2RD Pol'!C50","v":"Staveništní přesun hmot"},null,null,{"$f":"'308 308.2RD Pol'!BA52","v":0},{"$f":"'308 308.2RD Pol'!BB52","v":0},{"$f":"'308 308.2RD Pol'!BC52","v":0},{"$f":"'308 308.2RD Pol'!BD52","v":0},{"$f":"'308 308.2RD Pol'!BE52","v":0}]
[null,"CELKEM  OBJEKT",null,null,{"$f":"SUM(E7:E10)","v":0},{"$f":"SUM(F7:F10)","v":0},{"$f":"SUM(G7:G10)","v":0},{"$f":"SUM(H7:H10)","v":0},{"$f":"SUM(I7:I10)","v":0}]

{"sheet":"308 308.2RD Pol","index":44,"n_rows":52,"n_cols":80,"rows_kept":52,"cut":false,"hidden":false,"merged":[[9,2,9,3],[10,2,10,3],[12,2,12,3],[0,0,0,6],[2,0,2,1],[3,0,3,1],[3,4,3,6],[8,2,8,6],[13,2,13,3],[15,2,15,3],[16,2,16,3],[18,2,18,3],[19,2,19,3],[37,2,37,6],[38,2,38,6],[39,2,39,6],[40,2,40,6],[23,2,23,3],[24,2,24,3],[26,2,26,3],[27,2,27,3],[29,2,29,3],[30,2,30,3],[32,2,32,3],[33,2,33,3]]}
["Položkový rozpočet "]
[]
["Stavba :",null,"3232 Horní Slivno - Splašková kanalizace",null,"Rozpočet:",{"$f":"'308 308.2RD Rek'!H1","v":"308.2RD"}]
["Objekt :",null,"308 Opravy povrchů",null,{"$f":"'308 308.2RD Rek'!G2","v":"Příjezdové komunikace k ČSOV \"A\" a \"C\""}]
[]
["P.č.","Číslo položky","Název položky","MJ","množství","cena / MJ","celkem (Kč)","Jednotková hmotnost","Celková hmotnost","Jednotková dem.hmot.","Celková dem.hmot."]
["Díl:","1","Zemní práce",null,null,null,null,null,null,null,null,null,null,null,1]
[1,"121100001RAA","Sejmutí ornice, naložení, odvoz a uložení odvoz do 1 km","m3",170.65,null,{"$f":"E8*F8","v":0},0,{"$f":"E8*H8","v":0},0,{"$f":"E8*J8","v":0},null,null,null,2,null,null,null,null,null,null,null,null,null,null,null,1,1,1,null,null,null,null,null,null,null,null,null,null,null,null,null,null,null,null,null,null,null,null,null,null,1,{"$f":"IF(AZ8=1,G8,0)","v":0},{"$f":"IF(AZ8=2,G8,0)","v":0},{"$f":"IF(AZ8=3,G8,0)","v":0},{"$f":"IF(AZ8=4,G8,0)","v":0},{"$f":"IF(AZ8=5,G8,0)","v":0},null,null,null,null,null,null,null,null,null,null,null,null,null,null,null,null,null,null,null,null,null,1,1]
[null,null,"V položce není kalkulován poplatek za skládku zeminy.",null,null,null,null,null,null,null,null,"V položce není kalkulován poplatek za skládku zeminy.",null,null,3]
[null,null,"Komunikace pro ČSOV - A:115,50*0,25",null,28.875,null,null,null,null,null,null,null,"Komunikace pro ČSOV - A:115,50*0,25"]
[null,null,"Komunikace pro ČSOV - C:567,10*0,25",null,141.77500000000001,null,null,null,null,null,null,null,"Komunikace pro ČSOV - C:567,10*0,25"]
[2,"122202201R00","Odkopávky pro silnice v hor. 3 do 100 m3 ","m3",286.10000000000002,null,{"$f":"E12*F12","v":0},0,{"$f":"E12*H12","v":0},0,{"$f":"E12*J12","v":0},null,null,null,2,null,null,null,null,null,null,null,null,null,null,null,1,1,1,null,null,null,null,null,null,null,null,null,null,null,null,null,null,null,null,null,null,null,null,null,null,1,{"$f":"IF(AZ12=1,G12,0)","v":0},{"$f":"IF(AZ12=2,G12,0)","v":0},{"$f":"IF(AZ12=3,G12,0)","v":0},{"$f":"IF(AZ12=4,G12,0)","v":0},{"$f":"IF(AZ12=5,G12,0)","v":0},null,null,null,null,null,null,null,null,null,null,null,null,null,null,null,null,null,null,null,null,null,1,1]
[null,null,"Komunikace pro ČSOV - A:226,50",null,226.5,null,null,null,null,null,null,null,"Komunikace pro ČSOV - A:226,50"]
[null,null,"Komunikace pro ČSOV - C:59,60",null,59.6,null,null,null,null,null,null,null,"Komunikace pro ČSOV - C:59,60"]
[3,"122202209R00","Příplatek za lepivost - odkop. pro silnice v hor.3 ","m3",143.05000000000001,null,{"$f":"E15*F15","v":0},0,{"$f":"E15*H15","v":0},0,{"$f":"E15*J15","v":0},null,null,null,2,null,null,null,null,null,null,null,null,null,null,null,1,1,1,null,null,null,null,null,null,null,null,null,null,null,null,null,null,null,null,null,null,null,null,null,null,1,{"$f":"IF(AZ15=1,G15,0)","v":0},{"$f":"IF(AZ15=2,G15,0)","v":0},{"$f":"IF(AZ15=3,G15,0)","v":0},{"$f":"IF(AZ15=4,G15,0)","v":0},{"$f":"IF(AZ15=5,G15,0)","v":0},null,null,null,null,null,null,null,null,null,null,null,null,null,null,null,null,null,null,null,null,null,1,1]
[null,null,"Komunikace pro ČSOV - A:226,50*0,5",null,113.25,null,null,null,null,null,null,null,"Komunikace pro ČSOV - A:226,50*0,5"]
[null,null,"Komunikace pro ČSOV - C:59,60*0,5",null,29.8,null,null,null,null,null,null,null,"Komunikace pro ČSOV - C:59,60*0,5"]
[4,"181101102R00","Úprava pláně v zářezech v hor. 1-4, se zhutněním ","m2",1334,null,{"$f":"E18*F18","v":0},0,{"$f":"E18*H18","v":0},0,{"$f":"E18*J18","v":0},null,null,null,2,null,null,null,null,null,null,null,null,null,null,null,1,1,1,null,null,null,null,null,null,null,null,null,null,null,null,null,null,null,null,null,null,null,null,null,null,1,{"$f":"IF(AZ18=1,G18,0)","v":0},{"$f":"IF(AZ18=2,G18,0)","v":0},{"$f":"IF(AZ18=3,G18,0)","v":0},{"$f":"IF(AZ18=4,G18,0)","v":0},{"$f":"IF(AZ18=5,G18,0)","v":0},null,null,null,null,null,null,null,null,null,null,null,null,null,null,null,null,null,null,null,null,null,1,1]
[null,null,"Komunikace pro ČSOV - A:896,40",null,896.4,null,null,null,null,null,null,null,"Komunikace pro ČSOV - A:896,40"]
[null,null,"Komunikace pro ČSOV - C:437,60",null,437.6,null,null,null,null,null,null,null,"Komunikace pro ČSOV - C:437,60"]
[null,"Celkem za","1 Zemní práce",null,null,null,{"$f":"SUM(G7:G20)","v":0},null,{"$f":"SUM(I7:I20)","v":0},null,{"$f":"SUM(K7:K20)","v":0},null,null,null,4,null,null,null,null,null,null,null,null,null,null,null,null,null,null,null,null,null,null,null,null,null,null,null,null,null,null,null,null,null,null,null,null,null,null,null,null,null,{"$f":"SUM(BA7:BA20)","v":0},{"$f":"SUM(BB7:BB20)","v":0},{"$f":"SUM(BC7:BC20)","v":0},{"$f":"SUM(BD7:BD20)","v":0},{"$f":"SUM(BE7:BE20)","v":0}]
["Díl:","5","Komunikace",null,null,null,null,null,null,null,null,null,null,null,1]
[5,"561471126RRX","Podklad ze zeminy - stabilizace vápnem množství pojiva 3%","m2",1334,null,{"$f":"E23*F23","v":0},2.0580000000000001E-2,{"$f":"E23*H23","v":27.453720000000001},0,{"$f":"E23*J23","v":0},null,null,null,2,null,null,null,null,null,null,null,null,null,null,null,1,0,0,null,null,null,null,null,null,null,null,null,null,null,null,null,null,null,null,null,null,null,null,null,null,1,{"$f":"IF(AZ23=1,G23,0)","v":0},{"$f":"IF(AZ23=2,G23,0)","v":0},{"$f":"IF(AZ23=3,G23,0)","v":0},{"$f":"IF(AZ23=4,G23,0)","v":0},{"$f":"IF(AZ23=5,G23,0)","v":0},null,null,null,null,null,null,null,null,null,null,null,null,null,null,null,null,null,null,null,null,null,1,0]
[null,null,"Komunikace pro ČSOV - A:896,40",null,896.4,null,null,null,null,null,null,null,"Komunikace pro ČSOV - A:896,40"]
[null,null,"Komunikace pro ČSOV - C:437,60",null,437.6,null,null,null,null,null,null,null,"Komunikace pro ČSOV - C:437,60"]
[6,"564782111R00","Podklad z kam.drceného 32-63 s výplň.kamen. 30 cm ","m2",1409.3,null,{"$f":"E26*F26","v":0},0.71643999999999997,{"$f":"E26*H26","v":1009.6788919999999},0,{"$f":"E26*J26","v":0},null,null,null,2,null,null,null,null,null,null,null,null,null,null,null,1,1,1,null,null,null,null,null,null,null,null,null,null,null,null,null,null,null,null,null,null,null,null,null,null,1,{"$f":"IF(AZ26=1,G26,0)","v":0},{"$f":"IF(AZ26=2,G26,0)","v":0},{"$f":"IF(AZ26=3,G26,0)","v":0},{"$f":"IF(AZ26=4,G26,0)","v":0},{"$f":"IF(AZ26=5,G26,0)","v":0},null,null,null,null,null,null,null,null,null,null,null,null,null,null,null,null,null,null,null,null,null,1,1]
[null,null,"Komunikace pro ČSOV - A:854,70",null,854.7,null,null,null,null,null,null,null,"Komunikace pro ČSOV - A:854,70"]
[null,null,"Komunikace pro ČSOV - C:554,60",null,554.6,null,null,null,null,null,null,null,"Komunikace pro ČSOV - C:554,60"]
[7,"564831111RT4","Podklad ze štěrkodrti po zhutnění tloušťky 10 cm štěrkodrť frakce 0-63 mm","m2",1220.7,null,{"$f":"E29*F29","v":0},0.28799999999999998,{"$f":"E29*H29","v":351.5616},0,{"$f":"E29*J29","v":0},null,null,null,2,null,null,null,null,null,null,null,null,null,null,null,1,1,1,null,null,null,null,null,null,null,null,null,null,null,null,null,null,null,null,null,null,null,null,null,null,1,{"$f":"IF(AZ29=1,G29,0)","v":0},{"$f":"IF(AZ29=2,G29,0)","v":0},{"$f":"IF(AZ29=3,G29,0)","v":0},{"$f":"IF(AZ29=4,G29,0)","v":0},{"$f":"IF(AZ29=5,G29,0)","v":0},null,null,null,null,null,null,null,null,null,null,null,null,null,null,null,null,null,null,null,null,null,1,1]
[null,null,"Komunikace pro ČSOV - A:750,50",null,750.5,null,null,null,null,null,null,null,"Komunikace pro ČSOV - A:750,50"]
[null,null,"Komunikace pro ČSOV - C:470,20",null,470.2,null,null,null,null,null,null,null,"Komunikace pro ČSOV - C:470,20"]
[8,"569903311R00","Zřízení zemních krajnic se zhutněním ","m3",67.8,null,{"$f":"E32*F32","v":0},0,{"$f":"E32*H32","v":0},0,{"$f":"E32*J32","v":0},null,null,null,2,null,null,null,null,null,null,null,null,null,null,null,1,1,1,null,null,null,null,null,null,null,null,null,null,null,null,null,null,null,null,null,null,null,null,null,null,1,{"$f":"IF(AZ32=1,G32,0)","v":0},{"$f":"IF(AZ32=2,G32,0)","v":0},{"$f":"IF(AZ32=3,G32,0)","v":0},{"$f":"IF(AZ32=4,G32,0)","v":0},{"$f":"IF(AZ32=5,G32,0)","v":0},null,null,null,null,null,null,null,null,null,null,null,null,null,null,null,null,null,null,null,null,null,1,1]
[null,null,"Komunikace pro ČSOV - A:33,40",null,33.4,null,null,null,null,null,null,null,"Komunikace pro ČSOV - A:33,40"]
[null,null,"Komunikace pro ČSOV - C:34,40",null,34.4,null,null,null,null,null,null,null,"Komunikace pro ČSOV - C:34,40"]
[null,"Celkem za","5 Komunikace",null,null,null,{"$f":"SUM(G22:G34)","v":0},null,{"$f":"SUM(I22:I34)","v":1388.6942119999999},null,{"$f":"SUM(K22:K34)","v":0},null,null,null,4,null,null,null,null,null,null,null,null,null,null,null,null,null,null,null,null,null,null,null,null,null,null,null,null,null,null,null,null,null,null,null,null,null,null,null,null,null,{"$f":"SUM(BA22:BA34)","v":0},{"$f":"SUM(BB22:BB34)","v":0},{"$f":"SUM(BC22:BC34)","v":0},{"$f":"SUM(BD22:BD34)","v":0},{"$f":"SUM(BE22:BE34)","v":0}]
["Díl:","91","Doplňující práce na komunikaci",null,null,null,null,null,null,null,null,null,null,null,1]
[9,"914001111R00","Osaz sloupků, montáž svislých dopr.značek ","kus",5,null,{"$f":"E37*F37","v":0},0.25,{"$f":"E37*H37","v":1.25},0,{"$f":"E37*J37","v":0},null,null,null,2,null,null,null,null,null,null,null,null,null,null,null,1,1,1,null,null,null,null,null,null,null,null,null,null,null,null,null,null,null,null,null,null,null,null,null,null,1,{"$f":"IF(AZ37=1,G37,0)","v":0},{"$f":"IF(AZ37=2,G37,0)","v":0},{"$f":"IF(AZ37=3,G37,0)","v":0},{"$f":"IF(AZ37=4,G37,0)","v":0},{"$f":"IF(AZ37=5,G37,0)","v":0},null,null,null,null,null,null,null,null,null,null,null,null,null,null,null,null,null,null,null,null,null,1,1]
[null,null,"Včetně:",null,null,null,null,null,null,null,null,"Včetně:",null,null,3]
[null,null,"- osazení sloupků, sloupů nebo ocelových nosných konstrukcí a upevňovadel včetně   montáže,",null,null,null,null,null,null,null,null,"- osazení sloupků, sloupů nebo ocelových nosných konstrukcí a upevňovadel včetně   montáže,",null,null,3]
[null,null,"- výkopu jam pro sloupky s odhozem výkopku na vzdálenost do 3 m,",null,null,null,null,null,null,null,null,"- výkopu jam pro sloupky s odhozem výkopku na vzdálenost do 3 m,",null,null,3]
[null,null,"- zabetonování sloupků nebo vysekání otvorů ve zdivu pro konzoly a na zaplnění a zatření   otvorů cementovou maltou.",null,null,null,null,null,null,null,null,"- zabetonování sloupků nebo vysekání otvorů ve zdivu pro konzoly a na zaplnění a zatření   otvorů cementovou maltou.",null,null,3]
[10,"40444934.A","Značka dopr výstražná A1- A30 700 mm fól1, EG7letá","kus",1,null,{"$f":"E42*F42","v":0},5.1000000000000004E-3,{"$f":"E42*H42","v":5.1000000000000004E-3},null,{"$f":"E42*J42","v":0},null,null,null,2,null,null,null,null,null,null,null,null,null,null,null,3,1,"40444934.A",null,null,null,null,null,null,null,null,null,null,null,null,null,null,null,null,null,null,null,null,null,null,1,{"$f":"IF(AZ42=1,G42,0)","v":0},{"$f":"IF(AZ42=2,G42,0)","v":0},{"$f":"IF(AZ42=3,G42,0)","v":0},{"$f":"IF(AZ42=4,G42,0)","v":0},{"$f":"IF(AZ42=5,G42,0)","v":0},null,null,null,null,null,null,null,null,null,null,null,null,null,null,null,null,null,null,null,null,null,3,1]
[11,"40444984.A","Značka uprav přednost P4 700  fólie 1, EG 7letá","kus",1,null,0,5.1000000000000004E-3,5.1000000000000004E-3,null,0,null,null,null,2,null,null,null,null,null,null,null,null,null,null,null,3,1,"40444984.A",null,null,null,null,null,null,null,null,null,null,null,null,null,null,null,null,null,null,null,null,null,null,1,0,0,0,0,0,null,null,null,null,null,null,null,null,null,null,null,null,null,null,null,null,null,null,null,null,null,3,1]
[12,"40445023.A","Značka doprav zákazová B1-B34 700 fól 1, EG 7letá","kus",1,null,0,5.1000000000000004E-3,5.1000000000000004E-3,null,0,null,null,null,2,null,null,null,null,null,null,null,null,null,null,null,3,1,"40445023.A",null,null,null,null,null,null,null,null,null,null,null,null,null,null,null,null,null,null,null,null,null,null,1,0,0,0,0,0,null,null,null,null,null,null,null,null,null,null,null,null,null,null,null,null,null,null,null,null,null,3,1]
[13,"40445044.A","Značka dopr inf IP 4b-7,10a,b 500/500 fól1,EG7letá","kus",2,null,0,5.1000000000000004E-3,1.0200000000000001E-2,null,0,null,null,null,2,null,null,null,null,null,null,null,null,null,null,null,3,1,"40445044.A",null,null,null,null,null,null,null,null,null,null,null,null,null,null,null,null,null,null,null,null,null,null,1,0,0,0,0,0,null,null,null,null,null,null,null,null,null,null,null,null,null,null,null,null,null,null,null,null,null,3,1]
[14,"404459503","Sloupek Fe pr.60 pozinkovaný, l= 3000 mm","kus",5,null,0,0,0,null,0,null,null,null,2,null,null,null,null,null,null,null,null,null,null,null,3,1,404459503,null,null,null,null,null,null,null,null,null,null,null,null,null,null,null,null,null,null,null,null,null,null,1,0,0,0,0,0,null,null,null,null,null,null,null,null,null,null,null,null,null,null,null,null,null,null,null,null,null,3,1]
[15,"40445975.A","Dopravní příslušenství, objímka Fe povrch úprava","kus",10,null,0,1.2600000000000001E-3,1.26E-2,null,0,null,null,null,2,null,null,null,null,null,null,null,null,null,null,null,3,1,"40445975.A",null,null,null,null,null,null,null,null,null,null,null,null,null,null,null,null,null,null,null,null,null,null,1,0,0,0,0,0,null,null,null,null,null,null,null,null,null,null,null,null,null,null,null,null,null,null,null,null,null,3,1]
[16,"40450113","Dopravní příslušenství, pouzdro sloupku zemní","kus",5,null,0,5.0000000000000001E-4,2.5000000000000001E-3,null,0,null,null,null,2,null,null,null,null,null,null,null,null,null,null,null,3,1,40450113,null,null,null,null,null,null,null,null,null,null,null,null,null,null,null,null,null,null,null,null,null,null,1,0,0,0,0,0,null,null,null,null,null,null,null,null,null,null,null,null,null,null,null,null,null,null,null,null,null,3,1]
[null,"Celkem za","91 Doplňující práce na komunikaci",null,null,null,{"$f":"SUM(G36:G48)","v":0},null,{"$f":"SUM(I36:I48)","v":1.2906000000000002},null,{"$f":"SUM(K36:K48)","v":0},null,null,null,4,null,null,null,null,null,null,null,null,null,null,null,null,null,null,null,null,null,null,null,null,null,null,null,null,null,null,null,null,null,null,null,null,null,null,null,null,null,{"$f":"SUM(BA36:BA48)","v":0},{"$f":"SUM(BB36:BB48)","v":0},{"$f":"SUM(BC36:BC48)","v":0},{"$f":"SUM(BD36:BD48)","v":0},{"$f":"SUM(BE36:BE48)","v":0}]
["Díl:","99","Staveništní přesun hmot",null,null,null,null,null,null,null,null,null,null,null,1]
[17,"998222012R00","Přesun hmot, zpevněné plochy, kryt z kameniva ","t",1389.9848119999999,null,{"$f":"E51*F51","v":0},0,{"$f":"E51*H51","v":0},null,{"$f":"E51*J51","v":0},null,null,null,2,null,null,null,null,null,null,null,null,null,null,null,7,1,2,null,null,null,null,null,null,null,null,null,null,null,null,null,null,null,null,null,null,null,null,null,null,1,{"$f":"IF(AZ51=1,G51,0)","v":0},{"$f":"IF(AZ51=2,G51,0)","v":0},{"$f":"IF(AZ51=3,G51,0)","v":0},{"$f":"IF(AZ51=4,G51,0)","v":0},{"$f":"IF(AZ51=5,G51,0)","v":0},null,null,null,null,null,null,null,null,null,null,null,null,null,null,null,null,null,null,null,null,null,7,1]
[null,"Celkem za","99 Staveništní přesun hmot",null,null,null,{"$f":"SUM(G50:G51)","v":0},null,{"$f":"SUM(I50:I51)","v":0},null,{"$f":"SUM(K50:K51)","v":0},null,null,null,4,null,null,null,null,null,null,null,null,null,null,null,null,null,null,null,null,null,null,null,null,null,null,null,null,null,null,null,null,null,null,null,null,null,null,null,null,null,{"$f":"SUM(BA50:BA51)","v":0},{"$f":"SUM(BB50:BB51)","v":0},{"$f":"SUM(BC50:BC51)","v":0},{"$f":"SUM(BD50:BD51)","v":0},{"$f":"SUM(BE50:BE51)","v":0}]

{"sheet":"ONS","index":45,"n_rows":28,"n_cols":70,"rows_kept":28,"cut":false,"hidden":false,"merged":[[0,0,0,6],[2,0,2,1],[3,0,3,1],[3,4,3,6],[6,2,6,6]]}
["Položkový rozpočet "]
[]
["Stavba :",null,"3232 Horní Slivno - Splašková kanalizace",null,"Rozpočet:","ONS"]
["Objekt :",null,"ONS - Ostatní náklady stavby"]
[]
["P.č.","Číslo položky","Název položky","MJ","množství","cena / MJ","celkem (Kč)","Jednotková hmotnost","Celková hmotnost","Jednotková dem.hmot.","Celková dem.hmot."]
["Díl:","950","Ostatní náklady stavby"]
[1,"950 99-0001.ONS","Zajištění prostoru a vybudování zařízení staveniště včetně potřebných staveništních komunikací","soubor",1,null,{"$f":"SUM(E8*F8)","v":0},8.6899999999999998E-3,{"$f":"E8*H8","v":8.6899999999999998E-3},0,{"$f":"E8*J8","v":0},null,500000,null,null,null,null,null,null,null,null,null,null,null,null,null,null,null,null,null,null,null,null,null,null,null,null,null,null,null,null,null,null,null,null,null,null,null,null,null,null,null,null,null,null,null,null,null,null,null,null,null,null,null,null,null,null,null,1,1]
[2,"950 99-0003.ONS","Zajištění bezpečnosti při provádění stavby ve smyslu bezpečnosti práce i ochrany životního prostředí a zeleně","soubor",1,null,{"$f":"SUM(E9*F9)","v":0},null,null,null,null,null,30000]
[3,"950 99-0005.ONS","Vytýčení stavby a hranic pozemků při provádění stavby ","soubor",1,null,0,null,null,null,null,null,100000]
[4,"950 99-0006.ONS","Zajištění včasného oznámení o zahájení prací majitelům pozemků a správců sítí dotčených stavbou","soubor",1,null,0,null,null,null,null,null,10000]
[5,"950 99-0007.ONS","Spolupráce s vlastníky pozemků a nemovitostí při případném uvolnění pozemků pro stavbu (např. skládky osobního materiálu vlastníků)","soubor",1,null,0,2.478E-2,{"$f":"E12*H12","v":2.478E-2},0,{"$f":"E12*J12","v":0},null,10000,null,null,null,null,null,null,null,null,null,null,null,null,null,null,null,null,null,null,null,null,null,null,null,null,null,null,null,null,null,null,null,null,null,null,null,null,null,null,null,null,null,null,null,null,null,null,null,null,null,null,null,null,null,null,null,1,1]
[6,"950 99-0008.ONS","Zajištění vytýčení podzemních zařízení, a v případě jejich křížení či souběhu v otevřeném výkopu, jejich písemné předání zpět jejich správcům před zásypem","soubor",1,null,0,null,null,null,null,null,90000]
[7,"950 99-0009.ONS","Vypracování a projednání návrhu dočasných dopravních opatření","soubor",1,null,0,null,null,null,null,null,20000]
[8,"950 99-0010.ONS","Zajištění povolení zvláštního užívání komunikací v souladu s postupem výstavby,včetně správních poplatků a povolení k užívání dalších, stavbou dotčených pozemků   (skládky materiálu, mezideponie atd.)","soubor",1,null,0,null,null,null,null,null,10000]
[9,"950 99-0011.ONS","Zřízení, údržba a likvidace dopravního opatření po dobu realizace stavby","soubor",1,null,0,0,{"$f":"E16*H16","v":0},0,{"$f":"E16*J16","v":0},null,50000,null,null,null,null,null,null,null,null,null,null,null,null,null,null,null,null,null,null,null,null,null,null,null,null,null,null,null,null,null,null,null,null,null,null,null,null,null,null,null,null,null,null,null,null,null,null,null,null,null,null,null,null,null,null,null,1,1]
[10,"950 99-0013.ONS","Zajištění činnosti odpovědného geodeta zhotovitele","soubor",1,null,0,null,null,null,null,null,120000]
[11,"950 99-0014.ONS","Zajištění činnosti odpovědného geologa zhotovitele","soubor",1,null,0]
[12,"950 99-0015.ONS","Zajištění čistoty na staveništi a v jeho okolí, zajištění každodenního čištění komunikací dotčených provozem zhotovitele","soubor",1,null,0,null,null,null,null,null,20000]
[13,"950 99-0016.ONS","Fotodokumentace průběhu díla; zhotovitel zajistí a předá objednateli průběžnou fotodokumentaci realizace díla dle TS. Fotodokumentace bude dokladovat průběh díla a bude zejména dokumentovat části stavby a konstrukce před jejich zakrytím","soubor",1,null,0,null,null,null,null,null,10000]
[14,"950 99-0017.ONS","Péče o nepředané objekty nebo jejich části a konstrukce stavby, jejich ošetřování a nutný rozsah pojištění","soubor",1,null,0,0,{"$f":"E21*H21","v":0},0,{"$f":"E21*J21","v":0},null,30000,null,null,null,null,null,null,null,null,null,null,null,null,null,null,null,null,null,null,null,null,null,null,null,null,null,null,null,null,null,null,null,null,null,null,null,null,null,null,null,null,null,null,null,null,null,null,null,null,null,null,null,null,null,null,null,1,1]
[15,"950 99-0021.ONS","Inženýrská a kompletační činnost zhotovitele dle TS","soubor",1,null,0,null,null,null,null,null,150000]
[16,"950 99-0022.ONS","Zhotovení dokumentace skutečného provedení díla dle standartů a požadavků provozovatele","soubor",1,null,0,null,null,null,null,null,50000]
[17,"950 99-0023.ONS","Geodetické zaměření stavby","soubor",1,null,0,null,null,null,null,null,80000]
[18,"950 99-0024.ONS","Provizorní zásobování vodou cisternou dle zvolené technologie stavby zhotovitelem nad rámec provizorního vodovodu","soubor",1,null,0,0,{"$f":"E25*H25","v":0},0,{"$f":"E25*J25","v":0},null,50000,null,null,null,null,null,null,null,null,null,null,null,null,null,null,null,null,null,null,null,null,null,null,null,null,null,null,null,null,null,null,null,null,null,null,null,null,null,null,null,null,null,null,null,null,null,null,null,null,null,null,null,null,null,null,null,1,1]
[19,"950 99-0025.ONS","Ostatní činnosti nutné ke zdárnému provedení díla, které jsou vymezeny zejména v technické specifikaci stavby","soubor",1,null,0,null,null,null,null,null,20000]
[]
[null,"ONS Celkem",null,null,null,null,{"$f":"SUM(G8:G26)","v":0}]