Workbook

Sheet Rekapitulace stavby
A1: Export Komplet | AZ1: VZ | BA1: 2.0 | BB1: ZAMOK | BT1: False | BU1: False | BV1: {cef2862a-85ca-49ef-8965-32da2b117aa5}
BS2: 0,01 | BT2: 21
BS3: 0,01 | BT3: 12
D4: REKAPITULACE STAVBY | AS4: v --- níže se nacházejí doplnkové a pomocné údaje k sestavám --- v | BE4: Návod na vyplnění | BS4: 0,001
D5: Kód: | K5: 2026/12_1 | BE5: Měnit lze pouze buňky se žlutým podbarvením! 1) v Rekapitulaci stavby vyplňte údaje o Účastníkovi (přenesou se do ostatních sestav i v jiných listech) 2) na vybraných listech vyplňte v sestavě Soupis prací ceny u položek | BS5: 0,01
D6: Stavba: | K6: Rekonstrukce dvou bytových jednotek | BS6: 0,01
D7: KSO: | AK7: CC-CZ: | BS7: 0,01
D8: Místo: | K8: Dlouhá 126 | AK8: Datum: | AN8: 31. 7. 2026 | BS8: 0,01
BS9: 0,01
D10: Zadavatel: | AK10: IČ: | BS10: 0,01
E11: Městys Lomnice | AK11: DIČ: | BS11: 0,01
BS12: 0,01
D13: Účastník: | AK13: IČ: | AN13: Vyplň údaj | BS13: 0,01
E14: Vyplň údaj | AK14: DIČ: | AN14: Vyplň údaj | BS14: 0,01
BS15: False
D16: Projektant: | AK16: IČ: | AN16: 17219787 | BS16: False
E17: Proiectura Dana s.r.o. | AK17: DIČ: | AN17: CZ17219787 | BS17: True
BS18: 0,01
D19: Zpracovatel: | AK19: IČ: | AN19: 17219787 | BS19: 0,01
E20: Proiectura Dana s.r.o. | AK20: DIČ: | AN20: CZ17219787 | BS20: False
D22: Poznámka:
E23: Soupis prací je sestaven s využitím Cenové soustavy ÚRS. Položky, které pochází z této cenové soustavy, jsou ve sloupci 'Cenová soustava' označeny popisem 'CS ÚRS' a úrovní příslušného kalendářního pololetí. Veškeré další informace vymezující popis a podmínky použití těchto položek z Cenové soustavy, které nejsou uvedeny přímo v soupisu prací, jsou neomezeně dálkově k dispozici na webu podminky.urs.cz.
D26: Cena bez DPH | AK26: =ROUND(AG54,2) -> 0
L28: Sazba daně | W28: Základ daně | AK28: Výše daně
D29: DPH | F29: základní | L29: 0.21 | W29: =ROUND(AZ54,2) -> 0 | AK29: =ROUND(AV54,2) -> 0
F30: snížená | L30: 0.12 | W30: =ROUND(BA54,2) -> 0 | AK30: =ROUND(AW54,2) -> 0
F31: zákl. přenesená | L31: 0.21 | W31: =ROUND(BB54,2) -> 0 | AK31: 0
F32: sníž. přenesená | L32: 0.12 | W32: =ROUND(BC54,2) -> 0 | AK32: 0
F33: nulová | L33: 0 | W33: =ROUND(BD54,2) -> 0 | AK33: 0
D35: Cena s DPH | T35: v | X35: CZK | AK35: =SUM(AK26:AK33) -> 0
C42: REKAPITULACE OBJEKTŮ STAVBY A SOUPISŮ PRACÍ
C44: Kód: | L44: =K5 -> 2026/12_1
C45: Stavba: | L45: =K6 -> Rekonstrukce dvou bytových jednotek
C47: Místo: | L47: =IF(K8="","",K8) -> Dlouhá 126 | AI47: Datum: | AM47: =IF(AN8= "","",AN8) -> 31. 7. 2026
C49: Zadavatel: | L49: =IF(E11= "","",E11) -> Městys Lomnice | AI49: Projektant: | AM49: =IF(E17="","",E17) -> Proiectura Dana s.r.o. | AS49: Informatívní údaje z listů zakázek
C50: Účastník: | L50: =IF(E14= "Vyplň údaj","",E14) | AI50: Zpracovatel: | AM50: =IF(E20="","",E20) -> Proiectura Dana s.r.o.
C52: Kód | I52: Popis | AG52: Cena bez DPH [CZK] | AN52: Cena s DPH [CZK] | AQ52: Typ | AS52: z toho Ostat. náklady [CZK] | AT52: DPH [CZK] | AU52: Normohodiny [h] | AV52: DPH základní [CZK] | AW52: DPH snížená [CZK] | AX52: DPH základní přenesená [CZK] | AY52: DPH snížená přenesená [CZK] | AZ52: Základna DPH základní | BA52: Základna DPH snížená | BB52: Základna DPH zákl. přenesená | BC52: Základna DPH sníž. přenesená | BD52: Základna DPH nulová
C54: Náklady stavby celkem | AG54: =ROUND(SUM(AG55:AG61),2) -> 0 | AN54: =SUM(AG54,AT54) -> 0 | AS54: =ROUND(SUM(AS55:AS61),2) -> 0 | AT54: =ROUND(SUM(AV54:AW54),2) -> 0 | AU54: =ROUND(SUM(AU55:AU61),5) -> 0 | AV54: =ROUND(AZ54*L29,2) -> 0 | AW54: =ROUND(BA54*L30,2) -> 0 | AX54: =ROUND(BB54*L29,2) -> 0 | AY54: =ROUND(BC54*L30,2) -> 0 | AZ54: =ROUND(SUM(AZ55:AZ61),2) -> 0 | BA54: =ROUND(SUM(BA55:BA61),2) -> 0 | BB54: =ROUND(SUM(BB55:BB61),2) -> 0 | BC54: =ROUND(SUM(BC55:BC61),2) -> 0 | BD54: =ROUND(SUM(BD55:BD61),2) -> 0 | BS54: D | BT54: 0 | BU54: ###NOIMPORT### | BV54: IMPORT | BW54: {cef2862a-85ca-49ef-8965-32da2b117aa5} | BX54: {00000000-0000-0000-0000-000000000000}
A55: / | D55: 01 | J55: Bourací práce a demontáže | AG55: ='01 - Bourací práce a demo...'!J30 -> 0 | AN55: =SUM(AG55,AT55) -> 0 | AQ55: STA | AS55: 0 | AT55: =ROUND(SUM(AV55:AW55),2) -> 0 | AU55: ='01 - Bourací práce a demo...'!P94 -> 0 | AV55: ='01 - Bourací práce a demo...'!J33 -> 0 | AW55: ='01 - Bourací práce a demo...'!J34 -> 0 | AX55: ='01 - Bourací práce a demo...'!J35 -> 0 | AY55: ='01 - Bourací práce a demo...'!J36 -> 0 | AZ55: ='01 - Bourací práce a demo...'!F33 -> 0 | BA55: ='01 - Bourací práce a demo...'!F34 -> 0 | BB55: ='01 - Bourací práce a demo...'!F35 -> 0 | BC55: ='01 - Bourací práce a demo...'!F36 -> 0 | BD55: ='01 - Bourací práce a demo...'!F37 -> 0 | BT55: 1 | BV55: IMPORT | BW55: {f99b2da6-cb98-4d1a-a454-584d7e75a968} | BX55: {cef2862a-85ca-49ef-8965-32da2b117aa5} | CM55: 1
A56: / | D56: 02 | J56: ASŘ | AG56: ='02 - ASŘ'!J30 -> 0 | AN56: =SUM(AG56,AT56) -> 0 | AQ56: STA | AS56: 0 | AT56: =ROUND(SUM(AV56:AW56),2) -> 0 | AU56: ='02 - ASŘ'!P95 -> 0 | AV56: ='02 - ASŘ'!J33 -> 0 | AW56: ='02 - ASŘ'!J34 -> 0 | AX56: ='02 - ASŘ'!J35 -> 0 | AY56: ='02 - ASŘ'!J36 -> 0 | AZ56: ='02 - ASŘ'!F33 -> 0 | BA56: ='02 - ASŘ'!F34 -> 0 | BB56: ='02 - ASŘ'!F35 -> 0 | BC56: ='02 - ASŘ'!F36 -> 0 | BD56: ='02 - ASŘ'!F37 -> 0 | BT56: 1 | BV56: IMPORT | BW56: {cc0b9bb4-1890-4c5c-b79f-0b0310a556d4} | BX56: {cef2862a-85ca-49ef-8965-32da2b117aa5} | CM56: 1
...

Sheet 01 - Bourací práce a demo...
AT2: {f99b2da6-cb98-4d1a-a454-584d7e75a968}
AT3: 1
D4: KRYCÍ LIST SOUPISU PRACÍ | M4: v --- níže se nacházejí doplnkové a pomocné údaje k sestavám --- v | AT4: False
D6: Stavba:
E7: ='Rekapitulace stavby'!K6 -> Rekonstrukce dvou bytových jednotek
D8: Objekt:
E9: 01 - Bourací práce a demontáže
D11: KSO: | I11: CC-CZ:
D12: Místo: | F12: Dlouhá 126 | I12: Datum: | J12: ='Rekapitulace stavby'!AN8 -> 31. 7. 2026
D14: Zadavatel: | I14: IČ:
E15: Městys Lomnice | I15: DIČ:
D17: Účastník: | I17: IČ: | J17: ='Rekapitulace stavby'!AN13 -> Vyplň údaj
E18: ='Rekapitulace stavby'!E14 -> Vyplň údaj | I18: DIČ: | J18: ='Rekapitulace stavby'!AN14 -> Vyplň údaj
D20: Projektant: | I20: IČ: | J20: 17219787
E21: Proiectura Dana s.r.o. | I21: DIČ: | J21: CZ17219787
D23: Zpracovatel: | I23: IČ: | J23: 17219787
E24: Proiectura Dana s.r.o. | I24: DIČ: | J24: CZ17219787
D26: Poznámka:
E27: Soupis prací je sestaven s využitím Cenové soustavy ÚRS. Položky, které pochází z této cenové soustavy, jsou ve sloupci 'Cenová soustava' označeny popisem 'CS ÚRS' a úrovní příslušného kalendářního pololetí. Veškeré další informace vymezující popis a podmínky použití těchto položek z Cenové soustavy, které nejsou uvedeny přímo v soupisu prací, jsou neomezeně dálkově k dispozici na webu podminky.urs.cz.
D30: Cena bez DPH | J30: =ROUND(J94, 2) -> 0
F32: Základ daně | I32: Sazba daně | J32: Výše daně
D33: DPH | E33: základní | F33: =ROUND((SUM(BE94:BE329)), 2) -> 0 | I33: 0.21 | J33: =ROUND(((SUM(BE94:BE329))*I33), 2) -> 0
E34: snížená | F34: =ROUND((SUM(BF94:BF329)), 2) -> 0 | I34: 0.12 | J34: =ROUND(((SUM(BF94:BF329))*I34), 2) -> 0
E35: zákl. přenesená | F35: =ROUND((SUM(BG94:BG329)), 2) -> 0 | I35: 0.21 | J35: =0 -> 0
E36: sníž. přenesená | F36: =ROUND((SUM(BH94:BH329)), 2) -> 0 | I36: 0.12 | J36: =0 -> 0
E37: nulová | F37: =ROUND((SUM(BI94:BI329)), 2) -> 0 | I37: 0 | J37: =0 -> 0
D39: Cena s DPH | G39: v | H39: CZK | J39: =SUM(J30:J37) -> 0
C45: REKAPITULACE ČLENĚNÍ SOUPISU PRACÍ
C47: Stavba:
E48: =E7 -> Rekonstrukce dvou bytových jednotek
C49: Objekt:
E50: =E9 -> 01 - Bourací práce a demontáže
C52: Místo: | F52: =F12 -> Dlouhá 126 | I52: Datum: | J52: =IF(J12="","",J12) -> 31. 7. 2026
C54: Zadavatel: | F54: =E15 -> Městys Lomnice | I54: Projektant: | J54: =E21 -> Proiectura Dana s.r.o.
C55: Účastník: | F55: =IF(E18="","",E18) -> Vyplň údaj | I55: Zpracovatel: | J55: =E24 -> Proiectura Dana s.r.o.
C57: Kód dílu - Popis | J57: Cena celkem [CZK]
C59: Náklady stavby celkem | J59: =J94 -> 0 | AU59: -1
D60: HSV - Práce a dodávky HSV | J60: =J95 -> 0
D61: 9 - Ostatní konstrukce a práce, bourání | J61: =J96 -> 0
D62: 997 - Doprava suti a vybouraných hmot | J62: =J219 -> 0
...

Sheet 02 - ASŘ
AT2: {cc0b9bb4-1890-4c5c-b79f-0b0310a556d4}
AT3: 1
D4: KRYCÍ LIST SOUPISU PRACÍ | M4: v --- níže se nacházejí doplnkové a pomocné údaje k sestavám --- v | AT4: False
D6: Stavba:
E7: ='Rekapitulace stavby'!K6 -> Rekonstrukce dvou bytových jednotek
D8: Objekt:
E9: 02 - ASŘ
D11: KSO: | I11: CC-CZ:
D12: Místo: | F12: Dlouhá 126 | I12: Datum: | J12: ='Rekapitulace stavby'!AN8 -> 31. 7. 2026
D14: Zadavatel: | I14: IČ:
E15: Městys Lomnice | I15: DIČ:
D17: Účastník: | I17: IČ: | J17: ='Rekapitulace stavby'!AN13 -> Vyplň údaj
E18: ='Rekapitulace stavby'!E14 -> Vyplň údaj | I18: DIČ: | J18: ='Rekapitulace stavby'!AN14 -> Vyplň údaj
D20: Projektant: | I20: IČ: | J20: 17219787
E21: Proiectura Dana s.r.o. | I21: DIČ: | J21: CZ17219787
D23: Zpracovatel: | I23: IČ: | J23: 17219787
E24: Proiectura Dana s.r.o. | I24: DIČ: | J24: CZ17219787
D26: Poznámka:
E27: Soupis prací je sestaven s využitím Cenové soustavy ÚRS. Položky, které pochází z této cenové soustavy, jsou ve sloupci 'Cenová soustava' označeny popisem 'CS ÚRS' a úrovní příslušného kalendářního pololetí. Veškeré další informace vymezující popis a podmínky použití těchto položek z Cenové soustavy, které nejsou uvedeny přímo v soupisu prací, jsou neomezeně dálkově k dispozici na webu podminky.urs.cz.
D30: Cena bez DPH | J30: =ROUND(J95, 2) -> 0
F32: Základ daně | I32: Sazba daně | J32: Výše daně
D33: DPH | E33: základní | F33: =ROUND((SUM(BE95:BE506)), 2) -> 0 | I33: 0.21 | J33: =ROUND(((SUM(BE95:BE506))*I33), 2) -> 0
E34: snížená | F34: =ROUND((SUM(BF95:BF506)), 2) -> 0 | I34: 0.12 | J34: =ROUND(((SUM(BF95:BF506))*I34), 2) -> 0
E35: zákl. přenesená | F35: =ROUND((SUM(BG95:BG506)), 2) -> 0 | I35: 0.21 | J35: =0 -> 0
E36: sníž. přenesená | F36: =ROUND((SUM(BH95:BH506)), 2) -> 0 | I36: 0.12 | J36: =0 -> 0
E37: nulová | F37: =ROUND((SUM(BI95:BI506)), 2) -> 0 | I37: 0 | J37: =0 -> 0
D39: Cena s DPH | G39: v | H39: CZK | J39: =SUM(J30:J37) -> 0
C45: REKAPITULACE ČLENĚNÍ SOUPISU PRACÍ
C47: Stavba:
E48: =E7 -> Rekonstrukce dvou bytových jednotek
C49: Objekt:
E50: =E9 -> 02 - ASŘ
C52: Místo: | F52: =F12 -> Dlouhá 126 | I52: Datum: | J52: =IF(J12="","",J12) -> 31. 7. 2026
C54: Zadavatel: | F54: =E15 -> Městys Lomnice | I54: Projektant: | J54: =E21 -> Proiectura Dana s.r.o.
C55: Účastník: | F55: =IF(E18="","",E18) -> Vyplň údaj | I55: Zpracovatel: | J55: =E24 -> Proiectura Dana s.r.o.
C57: Kód dílu - Popis | J57: Cena celkem [CZK]
C59: Náklady stavby celkem | J59: =J95 -> 0 | AU59: -1
D60: HSV - Práce a dodávky HSV | J60: =J96 -> 0
D61: 3 - Svislé a kompletní konstrukce | J61: =J97 -> 0
D62: 6 - Úpravy povrchů, podlahy a osazování výplní | J62: =J127 -> 0
...

Sheet 03 - ZTI
AT2: {86ada23b-5a26-4d80-b017-447d016a15aa}
AT3: 1
D4: KRYCÍ LIST SOUPISU PRACÍ | M4: v --- níže se nacházejí doplnkové a pomocné údaje k sestavám --- v | AT4: False
D6: Stavba:
E7: ='Rekapitulace stavby'!K6 -> Rekonstrukce dvou bytových jednotek
D8: Objekt:
E9: 03 - ZTI
D11: KSO: | I11: CC-CZ:
D12: Místo: | F12: Dlouhá 126 | I12: Datum: | J12: ='Rekapitulace stavby'!AN8 -> 31. 7. 2026
D14: Zadavatel: | I14: IČ:
E15: Městys Lomnice | I15: DIČ:
D17: Účastník: | I17: IČ: | J17: ='Rekapitulace stavby'!AN13 -> Vyplň údaj
E18: ='Rekapitulace stavby'!E14 -> Vyplň údaj | I18: DIČ: | J18: ='Rekapitulace stavby'!AN14 -> Vyplň údaj
D20: Projektant: | I20: IČ: | J20: 17219787
E21: Proiectura Dana s.r.o. | I21: DIČ: | J21: CZ17219787
D23: Zpracovatel: | I23: IČ: | J23: 17219787
E24: Proiectura Dana s.r.o. | I24: DIČ: | J24: CZ17219787
D26: Poznámka:
E27: Soupis prací je sestaven s využitím Cenové soustavy ÚRS. Položky, které pochází z této cenové soustavy, jsou ve sloupci 'Cenová soustava' označeny popisem 'CS ÚRS' a úrovní příslušného kalendářního pololetí. Veškeré další informace vymezující popis a podmínky použití těchto položek z Cenové soustavy, které nejsou uvedeny přímo v soupisu prací, jsou neomezeně dálkově k dispozici na webu podminky.urs.cz.
D30: Cena bez DPH | J30: =ROUND(J86, 2) -> 0
F32: Základ daně | I32: Sazba daně | J32: Výše daně
D33: DPH | E33: základní | F33: =ROUND((SUM(BE86:BE143)), 2) -> 0 | I33: 0.21 | J33: =ROUND(((SUM(BE86:BE143))*I33), 2) -> 0
E34: snížená | F34: =ROUND((SUM(BF86:BF143)), 2) -> 0 | I34: 0.12 | J34: =ROUND(((SUM(BF86:BF143))*I34), 2) -> 0
E35: zákl. přenesená | F35: =ROUND((SUM(BG86:BG143)), 2) -> 0 | I35: 0.21 | J35: =0 -> 0
E36: sníž. přenesená | F36: =ROUND((SUM(BH86:BH143)), 2) -> 0 | I36: 0.12 | J36: =0 -> 0
E37: nulová | F37: =ROUND((SUM(BI86:BI143)), 2) -> 0 | I37: 0 | J37: =0 -> 0
D39: Cena s DPH | G39: v | H39: CZK | J39: =SUM(J30:J37) -> 0
C45: REKAPITULACE ČLENĚNÍ SOUPISU PRACÍ
C47: Stavba:
E48: =E7 -> Rekonstrukce dvou bytových jednotek
C49: Objekt:
E50: =E9 -> 03 - ZTI
C52: Místo: | F52: =F12 -> Dlouhá 126 | I52: Datum: | J52: =IF(J12="","",J12) -> 31. 7. 2026
C54: Zadavatel: | F54: =E15 -> Městys Lomnice | I54: Projektant: | J54: =E21 -> Proiectura Dana s.r.o.
C55: Účastník: | F55: =IF(E18="","",E18) -> Vyplň údaj | I55: Zpracovatel: | J55: =E24 -> Proiectura Dana s.r.o.
C57: Kód dílu - Popis | J57: Cena celkem [CZK]
C59: Náklady stavby celkem | J59: =J86 -> 0 | AU59: -1
D60: 201 - ZAŘIZOVACÍ PŘEDMĚTY | J60: =J87 -> 0
D61: D1 - Vnitřní rozvod vody | J61: =J102 -> 0
D62: 1 - PPR porubí pro rozvody pitné a teplé vody PN16 - 95C | J62: =J103 -> 0
...

Sheet 04 - VYTÁPĚNÍ
AT2: {0dd39b8a-2eb3-4e6a-9f13-4f069723706a}
AT3: 1
D4: KRYCÍ LIST SOUPISU PRACÍ | M4: v --- níže se nacházejí doplnkové a pomocné údaje k sestavám --- v | AT4: False
D6: Stavba:
E7: ='Rekapitulace stavby'!K6 -> Rekonstrukce dvou bytových jednotek
D8: Objekt:
E9: 04 - VYTÁPĚNÍ
D11: KSO: | I11: CC-CZ:
D12: Místo: | F12: Dlouhá 126 | I12: Datum: | J12: ='Rekapitulace stavby'!AN8 -> 31. 7. 2026
D14: Zadavatel: | I14: IČ:
E15: Městys Lomnice | I15: DIČ:
D17: Účastník: | I17: IČ: | J17: ='Rekapitulace stavby'!AN13 -> Vyplň údaj
E18: ='Rekapitulace stavby'!E14 -> Vyplň údaj | I18: DIČ: | J18: ='Rekapitulace stavby'!AN14 -> Vyplň údaj
D20: Projektant: | I20: IČ: | J20: 17219787
E21: Proiectura Dana s.r.o. | I21: DIČ: | J21: CZ17219787
D23: Zpracovatel: | I23: IČ: | J23: 17219787
E24: Proiectura Dana s.r.o. | I24: DIČ: | J24: CZ17219787
D26: Poznámka:
E27: Soupis prací je sestaven s využitím Cenové soustavy ÚRS. Položky, které pochází z této cenové soustavy, jsou ve sloupci 'Cenová soustava' označeny popisem 'CS ÚRS' a úrovní příslušného kalendářního pololetí. Veškeré další informace vymezující popis a podmínky použití těchto položek z Cenové soustavy, které nejsou uvedeny přímo v soupisu prací, jsou neomezeně dálkově k dispozici na webu podminky.urs.cz.
D30: Cena bez DPH | J30: =ROUND(J86, 2) -> 0
F32: Základ daně | I32: Sazba daně | J32: Výše daně
D33: DPH | E33: základní | F33: =ROUND((SUM(BE86:BE140)), 2) -> 0 | I33: 0.21 | J33: =ROUND(((SUM(BE86:BE140))*I33), 2) -> 0
E34: snížená | F34: =ROUND((SUM(BF86:BF140)), 2) -> 0 | I34: 0.12 | J34: =ROUND(((SUM(BF86:BF140))*I34), 2) -> 0
E35: zákl. přenesená | F35: =ROUND((SUM(BG86:BG140)), 2) -> 0 | I35: 0.21 | J35: =0 -> 0
E36: sníž. přenesená | F36: =ROUND((SUM(BH86:BH140)), 2) -> 0 | I36: 0.12 | J36: =0 -> 0
E37: nulová | F37: =ROUND((SUM(BI86:BI140)), 2) -> 0 | I37: 0 | J37: =0 -> 0
D39: Cena s DPH | G39: v | H39: CZK | J39: =SUM(J30:J37) -> 0
C45: REKAPITULACE ČLENĚNÍ SOUPISU PRACÍ
C47: Stavba:
E48: =E7 -> Rekonstrukce dvou bytových jednotek
C49: Objekt:
E50: =E9 -> 04 - VYTÁPĚNÍ
C52: Místo: | F52: =F12 -> Dlouhá 126 | I52: Datum: | J52: =IF(J12="","",J12) -> 31. 7. 2026
C54: Zadavatel: | F54: =E15 -> Městys Lomnice | I54: Projektant: | J54: =E21 -> Proiectura Dana s.r.o.
C55: Účastník: | F55: =IF(E18="","",E18) -> Vyplň údaj | I55: Zpracovatel: | J55: =E24 -> Proiectura Dana s.r.o.
C57: Kód dílu - Popis | J57: Cena celkem [CZK]
C59: Náklady stavby celkem | J59: =J86 -> 0 | AU59: -1
D60: 301 - VYTÁPĚNÍ | J60: =J87 -> 0
D61: 1 - Otopná tělesa trubkové - topný žebřík do koupelny | J61: =J88 -> 0
D62: D1 - Ocelová desková otopná tělesa, s ventilem s pravým spodním připojením - typ VK | J62: =J92 -> 0
...

Sheet 05 - NTL ROZVOD PLYNU
AT2: {f4aa16df-7e00-4744-8131-419283491cd4}
AT3: 1
D4: KRYCÍ LIST SOUPISU PRACÍ | M4: v --- níže se nacházejí doplnkové a pomocné údaje k sestavám --- v | AT4: False
D6: Stavba:
E7: ='Rekapitulace stavby'!K6 -> Rekonstrukce dvou bytových jednotek
D8: Objekt:
E9: 05 - NTL ROZVOD PLYNU
D11: KSO: | I11: CC-CZ:
D12: Místo: | F12: Dlouhá 126 | I12: Datum: | J12: ='Rekapitulace stavby'!AN8 -> 31. 7. 2026
D14: Zadavatel: | I14: IČ:
E15: Městys Lomnice | I15: DIČ:
D17: Účastník: | I17: IČ: | J17: ='Rekapitulace stavby'!AN13 -> Vyplň údaj
E18: ='Rekapitulace stavby'!E14 -> Vyplň údaj | I18: DIČ: | J18: ='Rekapitulace stavby'!AN14 -> Vyplň údaj
D20: Projektant: | I20: IČ: | J20: 17219787
E21: Proiectura Dana s.r.o. | I21: DIČ: | J21: CZ17219787
D23: Zpracovatel: | I23: IČ: | J23: 17219787
E24: Proiectura Dana s.r.o. | I24: DIČ: | J24: CZ17219787
D26: Poznámka:
E27: Soupis prací je sestaven s využitím Cenové soustavy ÚRS. Položky, které pochází z této cenové soustavy, jsou ve sloupci 'Cenová soustava' označeny popisem 'CS ÚRS' a úrovní příslušného kalendářního pololetí. Veškeré další informace vymezující popis a podmínky použití těchto položek z Cenové soustavy, které nejsou uvedeny přímo v soupisu prací, jsou neomezeně dálkově k dispozici na webu podminky.urs.cz.
D30: Cena bez DPH | J30: =ROUND(J83, 2) -> 0
F32: Základ daně | I32: Sazba daně | J32: Výše daně
D33: DPH | E33: základní | F33: =ROUND((SUM(BE83:BE101)), 2) -> 0 | I33: 0.21 | J33: =ROUND(((SUM(BE83:BE101))*I33), 2) -> 0
E34: snížená | F34: =ROUND((SUM(BF83:BF101)), 2) -> 0 | I34: 0.12 | J34: =ROUND(((SUM(BF83:BF101))*I34), 2) -> 0
E35: zákl. přenesená | F35: =ROUND((SUM(BG83:BG101)), 2) -> 0 | I35: 0.21 | J35: =0 -> 0
E36: sníž. přenesená | F36: =ROUND((SUM(BH83:BH101)), 2) -> 0 | I36: 0.12 | J36: =0 -> 0
E37: nulová | F37: =ROUND((SUM(BI83:BI101)), 2) -> 0 | I37: 0 | J37: =0 -> 0
D39: Cena s DPH | G39: v | H39: CZK | J39: =SUM(J30:J37) -> 0
C45: REKAPITULACE ČLENĚNÍ SOUPISU PRACÍ
C47: Stavba:
E48: =E7 -> Rekonstrukce dvou bytových jednotek
C49: Objekt:
E50: =E9 -> 05 - NTL ROZVOD PLYNU
C52: Místo: | F52: =F12 -> Dlouhá 126 | I52: Datum: | J52: =IF(J12="","",J12) -> 31. 7. 2026
C54: Zadavatel: | F54: =E15 -> Městys Lomnice | I54: Projektant: | J54: =E21 -> Proiectura Dana s.r.o.
C55: Účastník: | F55: =IF(E18="","",E18) -> Vyplň údaj | I55: Zpracovatel: | J55: =E24 -> Proiectura Dana s.r.o.
C57: Kód dílu - Popis | J57: Cena celkem [CZK]
C59: Náklady stavby celkem | J59: =J83 -> 0 | AU59: -1
D60: 100 - NTL domovní rozvod plynu | J60: =J84 -> 0
D61: 3 - Ochranná trubka - prostup stěnou | J61: =J88 -> 0
D62: 4 - Armatury | J62: =J90 -> 0
...

Sheet 06 - EL
AT2: {955a54f4-1e7f-460b-ad75-1f6e3b662d50}
AT3: 1
D4: KRYCÍ LIST SOUPISU PRACÍ | M4: v --- níže se nacházejí doplnkové a pomocné údaje k sestavám --- v | AT4: False
D6: Stavba:
E7: ='Rekapitulace stavby'!K6 -> Rekonstrukce dvou bytových jednotek
D8: Objekt:
E9: 06 - EL
D11: KSO: | I11: CC-CZ:
D12: Místo: | F12: Dlouhá 126 | I12: Datum: | J12: ='Rekapitulace stavby'!AN8 -> 31. 7. 2026
D14: Zadavatel: | I14: IČ:
E15: Městys Lomnice | I15: DIČ:
D17: Účastník: | I17: IČ: | J17: ='Rekapitulace stavby'!AN13 -> Vyplň údaj
E18: ='Rekapitulace stavby'!E14 -> Vyplň údaj | I18: DIČ: | J18: ='Rekapitulace stavby'!AN14 -> Vyplň údaj
D20: Projektant: | I20: IČ: | J20: 17219787
E21: Proiectura Dana s.r.o. | I21: DIČ: | J21: CZ17219787
D23: Zpracovatel: | I23: IČ: | J23: 17219787
E24: Proiectura Dana s.r.o. | I24: DIČ: | J24: CZ17219787
D26: Poznámka:
E27: Soupis prací je sestaven s využitím Cenové soustavy ÚRS. Položky, které pochází z této cenové soustavy, jsou ve sloupci 'Cenová soustava' označeny popisem 'CS ÚRS' a úrovní příslušného kalendářního pololetí. Veškeré další informace vymezující popis a podmínky použití těchto položek z Cenové soustavy, které nejsou uvedeny přímo v soupisu prací, jsou neomezeně dálkově k dispozici na webu podminky.urs.cz.
D30: Cena bez DPH | J30: =ROUND(J84, 2) -> 0
F32: Základ daně | I32: Sazba daně | J32: Výše daně
D33: DPH | E33: základní | F33: =ROUND((SUM(BE84:BE181)), 2) -> 0 | I33: 0.21 | J33: =ROUND(((SUM(BE84:BE181))*I33), 2) -> 0
E34: snížená | F34: =ROUND((SUM(BF84:BF181)), 2) -> 0 | I34: 0.12 | J34: =ROUND(((SUM(BF84:BF181))*I34), 2) -> 0
E35: zákl. přenesená | F35: =ROUND((SUM(BG84:BG181)), 2) -> 0 | I35: 0.21 | J35: =0 -> 0
E36: sníž. přenesená | F36: =ROUND((SUM(BH84:BH181)), 2) -> 0 | I36: 0.12 | J36: =0 -> 0
E37: nulová | F37: =ROUND((SUM(BI84:BI181)), 2) -> 0 | I37: 0 | J37: =0 -> 0
D39: Cena s DPH | G39: v | H39: CZK | J39: =SUM(J30:J37) -> 0
C45: REKAPITULACE ČLENĚNÍ SOUPISU PRACÍ
C47: Stavba:
E48: =E7 -> Rekonstrukce dvou bytových jednotek
C49: Objekt:
E50: =E9 -> 06 - EL
C52: Místo: | F52: =F12 -> Dlouhá 126 | I52: Datum: | J52: =IF(J12="","",J12) -> 31. 7. 2026
C54: Zadavatel: | F54: =E15 -> Městys Lomnice | I54: Projektant: | J54: =E21 -> Proiectura Dana s.r.o.
C55: Účastník: | F55: =IF(E18="","",E18) -> Vyplň údaj | I55: Zpracovatel: | J55: =E24 -> Proiectura Dana s.r.o.
C57: Kód dílu - Popis | J57: Cena celkem [CZK]
C59: Náklady stavby celkem | J59: =J84 -> 0 | AU59: -1
D60: D1 - Dodávky zařízení | J60: =J85 -> 0
D61: D2 - Materiál elektromontážní | J61: =J90 -> 0
D62: D3 - Elektromontáže | J62: =J130 -> 0
...

Sheet 07 - VRN
AT2: {a891242b-c744-408b-9065-cfe65f99bc05}
AT3: 1
D4: KRYCÍ LIST SOUPISU PRACÍ | M4: v --- níže se nacházejí doplnkové a pomocné údaje k sestavám --- v | AT4: False
D6: Stavba:
E7: ='Rekapitulace stavby'!K6 -> Rekonstrukce dvou bytových jednotek
D8: Objekt:
E9: 07 - VRN
D11: KSO: | I11: CC-CZ:
D12: Místo: | F12: Dlouhá 126 | I12: Datum: | J12: ='Rekapitulace stavby'!AN8 -> 31. 7. 2026
D14: Zadavatel: | I14: IČ:
E15: Městys Lomnice | I15: DIČ:
D17: Účastník: | I17: IČ: | J17: ='Rekapitulace stavby'!AN13 -> Vyplň údaj
E18: ='Rekapitulace stavby'!E14 -> Vyplň údaj | I18: DIČ: | J18: ='Rekapitulace stavby'!AN14 -> Vyplň údaj
D20: Projektant: | I20: IČ: | J20: 17219787
E21: Proiectura Dana s.r.o. | I21: DIČ: | J21: CZ17219787
D23: Zpracovatel: | I23: IČ: | J23: 17219787
E24: Proiectura Dana s.r.o. | I24: DIČ: | J24: CZ17219787
D26: Poznámka:
E27: Soupis prací je sestaven s využitím Cenové soustavy ÚRS. Položky, které pochází z této cenové soustavy, jsou ve sloupci 'Cenová soustava' označeny popisem 'CS ÚRS' a úrovní příslušného kalendářního pololetí. Veškeré další informace vymezující popis a podmínky použití těchto položek z Cenové soustavy, které nejsou uvedeny přímo v soupisu prací, jsou neomezeně dálkově k dispozici na webu podminky.urs.cz.
D30: Cena bez DPH | J30: =ROUND(J86, 2) -> 0
F32: Základ daně | I32: Sazba daně | J32: Výše daně
D33: DPH | E33: základní | F33: =ROUND((SUM(BE86:BE119)), 2) -> 0 | I33: 0.21 | J33: =ROUND(((SUM(BE86:BE119))*I33), 2) -> 0
E34: snížená | F34: =ROUND((SUM(BF86:BF119)), 2) -> 0 | I34: 0.12 | J34: =ROUND(((SUM(BF86:BF119))*I34), 2) -> 0
E35: zákl. přenesená | F35: =ROUND((SUM(BG86:BG119)), 2) -> 0 | I35: 0.21 | J35: =0 -> 0
E36: sníž. přenesená | F36: =ROUND((SUM(BH86:BH119)), 2) -> 0 | I36: 0.12 | J36: =0 -> 0
E37: nulová | F37: =ROUND((SUM(BI86:BI119)), 2) -> 0 | I37: 0 | J37: =0 -> 0
D39: Cena s DPH | G39: v | H39: CZK | J39: =SUM(J30:J37) -> 0
C45: REKAPITULACE ČLENĚNÍ SOUPISU PRACÍ
C47: Stavba:
E48: =E7 -> Rekonstrukce dvou bytových jednotek
C49: Objekt:
E50: =E9 -> 07 - VRN
C52: Místo: | F52: =F12 -> Dlouhá 126 | I52: Datum: | J52: =IF(J12="","",J12) -> 31. 7. 2026
C54: Zadavatel: | F54: =E15 -> Městys Lomnice | I54: Projektant: | J54: =E21 -> Proiectura Dana s.r.o.
C55: Účastník: | F55: =IF(E18="","",E18) -> Vyplň údaj | I55: Zpracovatel: | J55: =E24 -> Proiectura Dana s.r.o.
C57: Kód dílu - Popis | J57: Cena celkem [CZK]
C59: Náklady stavby celkem | J59: =J86 -> 0 | AU59: -1
D60: VRN - Vedlejší rozpočtové náklady | J60: =J87 -> 0
D61: VRN1 - Průzkumné, zeměměřičské a projektové práce | J61: =J88 -> 0
D62: VRN2 - Příprava staveniště | J62: =J97 -> 0
...

Sheet Pokyny pro vyplnění
C3: Poznámka k ocenění výkazu výměr
C4: Informace k výběrovému řízení
C6: Realizaci stavby je nutné provádět v souladu s touto dokumentací pro provádění stavby a vydaným stavebním povolením.
C7: Zhotovitel je povinen v průběhu výzvy před podáním cenové nabídky upozornit na případné nesrovnalosti mezi výkresovou dokumentací a výkazem výměr. V souladu obecnými ustanoveními zákona č. 134/2016 Sb., o zadávání veřejných zakázek, je účastník oprávněn požadovat po zadavateli vysvětlení zadávací dokumentace, pokud zjistí rozpory nebo nejasnosti. V zájmu zajištění transparentnosti a rovného zacházení je takové upozornění považováno za nezbytné pro řádný průběh zadávacího řízení.
C8: Položky ve výkazu výměr:
C9: Položky ve výkazu výměr jsou definovány platným ceníkem stavebních prací nebo neceníkovou položkou. Veškeré uvedené položky obsahují náklady na montáž, případně demontáž prvku, včetně pomocného materiálu a stavebních přípomocí. Neceníkové položky vždy obsahují také náklady na montáž prvku.
C10: Vymezení rozsahu díla:
C11: Předmětem díla je kompletní realizace stavby dle přiložené projektové dokumentace a všech jejích příloh. Dokumentace zahrnuje stavební řešení a projekty jednotlivých profesních částí. Součástí díla je provedení všech těchto částí, včetně případných demolic, stavebních přípomocí, montáže veškerého vybavení a dalších souvisejících prací.
C12: V případě, že je stavba realizována s využitím dotační podpory, je zhotovitel povinen dodržovat veškeré závazné podmínky daného dotačního titulu v návaznosti na projektovou dokumentaci a související dokumenty.
C13: Zhotovitel je dále povinen zajistit před předáním díla veškeré doklady nezbytné pro řádnou kolaudaci stavby, zejména:
C14: prohlášení o shodě použitých výrobků,
C15: doklady o likvidaci odpadů vzniklých během výstavby,
... C33: Rekapitulace stavby obsahuje sestavu Rekapitulace stavby a Rekapitulace objektů stavby a soupisů prací.
D34: V sestavě Rekapitulace stavby jsou uvedeny informace identifikující předmět veřejné zakázky na stavební práce, KSO, CC-CZ, CZ-CPV, CZ-CPA a rekapitulaci
D35: celkové nabídkové ceny účastníka.
D37: Termínem "učastník" (resp. zhotovitel) se myslí "účastník zadávacího řízení" ve smyslu zákona o zadávání veřejných zakázek.
D39: V sestavě Rekapitulace objektů stavby a soupisů prací je uvedena rekapitulace stavebních objektů, inženýrských objektů, provozních souborů,
D40: vedlejších a ostatních nákladů a ostatních nákladů s rekapitulací nabídkové ceny za jednotlivé soupisy prací. Na základě údaje Typ je možné
D41: identifikovat, zda se jedná o objekt nebo soupis prací pro daný objekt:
E42: STA | F42: Stavební objekt pozemní
E43: ING | F43: Stavební objekt inženýrský
E44: PRO | F44: Provozní soubor
E45: VON | F45: Vedlejší a ostatní náklady
E46: OST | F46: Ostatní
E47: Soupis | F47: Soupis prací pro daný typ objektu
C49: Soupis prací pro jednotlivé objekty obsahuje sestavy Krycí list soupisu prací, Rekapitulace členění soupisu prací, Soupis prací. Za soupis prací může být považován
C50: i objekt stavby v případě, že neobsahuje podřízenou zakázku.
D51: Krycí list soupisu obsahuje rekapitulaci informací o předmětu veřejné zakázky ze sestavy Rekapitulace stavby, informaci o zařazení objektu do KSO,
D52: CC-CZ, CZ-CPV, CZ-CPA a rekapitulaci celkové nabídkové ceny účastníka za aktuální soupis prací.
D54: Rekapitulace členění soupisu prací obsahuje rekapitulaci soupisu prací ve všech úrovních členění soupisu tak, jak byla tato členění použita (např.
D55: stavební díly, funkční díly, případně jiné členění) s rekapitulací nabídkové ceny.
D57: Soupis prací obsahuje položky veškerých stavebních nebo montážních prací, dodávek materiálů a služeb nezbytných pro zhotovení stavebního objektu,
D58: inženýrského objektu, provozního souboru, vedlejších a ostatních nákladů.
D59: Pro položky soupisu prací se zobrazují následující informace:
E60: PČ | G60: Pořadové číslo položky v aktuálním soupisu
E61: TYP | G61: Typ položky: K - konstrukce, M - materiál, PP - plný popis, PSC - poznámka k souboru cen, P - poznámka k položce, VV - výkaz výměr, FIG - rozpad figur
E62: Kód | G62: Kód položky
E63: Popis | G63: Zkrácený popis položky
E64: MJ | G64: Měrná jednotka položky
E65: Množství | G65: Množství v měrné jednotce
...
