Workbook

Sheet Rekapitulace stavby
A1: Export Komplet | AZ1: VZ | BA1: 2.0 | BB1: ZAMOK | BT1: False | BU1: False | BV1: {cef2862a-85ca-49ef-8965-32da2b117aa5}
BS2: 0,01 | BT2: 21
BS3: 0,01 | BT3: 12
D4: REKAPITULACE STAVBY | AS4: v --- níže se nacházejí doplnkové a pomocné údaje k sestavám --- v | BE4: Návod na vyplnění | BS4: 0,001
D5: Kód: | K5: 2026/12_1 | BE5: Měnit lze pouze buňky se žlutým podbarvením! 1) v Rekapitulaci stavby vyplňte údaje o Účastníkovi (přenesou se do ostatních sestav i v jiných listech) 2) na vybraných listech vyplňte v sestavě Soupis prací ceny u položek | BS5: 0,01
D6: Stavba: | K6: Rekonstrukce dvou bytových jednotek | BS6: 0,01
D7: KSO: | AK7: CC-CZ: | BS7: 0,01
D8: Místo: | K8: Dlouhá 126 | AK8: Datum: | AN8: 31. 7. 2026 | BS8: 0,01
BS9: 0,01
D10: Zadavatel: | AK10: IČ: | BS10: 0,01
E11: Městys Lomnice | AK11: DIČ: | BS11: 0,01
BS12: 0,01
D13: Účastník: | AK13: IČ: | AN13: Vyplň údaj | BS13: 0,01
E14: Vyplň údaj | AK14: DIČ: | AN14: Vyplň údaj | BS14: 0,01
BS15: False
D16: Projektant: | AK16: IČ: | AN16: 17219787 | BS16: False
E17: Proiectura Dana s.r.o. | AK17: DIČ: | AN17: CZ17219787 | BS17: True
BS18: 0,01
D19: Zpracovatel: | AK19: IČ: | AN19: 17219787 | BS19: 0,01
E20: Proiectura Dana s.r.o. | AK20: DIČ: | AN20: CZ17219787 | BS20: False
D22: Poznámka:
E23: Soupis prací je sestaven s využitím Cenové soustavy ÚRS. Položky, které pochází z této cenové soustavy, jsou ve sloupci 'Cenová soustava' označeny popisem 'CS ÚRS' a úrovní příslušného kalendářního pololetí. Veškeré další informace vymezující popis a podmínky použití těchto položek z Cenové soustavy, které nejsou uvedeny přímo v soupisu prací, jsou neomezeně dálkově k dispozici na webu podminky.urs.cz.
D26: Cena bez DPH | AK26: =ROUND(AG54,2) -> 0
L28: Sazba daně | W28: Základ daně | AK28: Výše daně
D29: DPH | F29: základní | L29: 0.21 | W29: =ROUND(AZ54,2) -> 0 | AK29: =ROUND(AV54,2) -> 0
F30: snížená | L30: 0.12 | W30: =ROUND(BA54,2) -> 0 | AK30: =ROUND(AW54,2) -> 0
F31: zákl. přenesená | L31: 0.21 | W31: =ROUND(BB54,2) -> 0 | AK31: 0
F32: sníž. přenesená | L32: 0.12 | W32: =ROUND(BC54,2) -> 0 | AK32: 0
F33: nulová | L33: 0 | W33: =ROUND(BD54,2) -> 0 | AK33: 0
D35: Cena s DPH | T35: v | X35: CZK | AK35: =SUM(AK26:AK33) -> 0
C42: REKAPITULACE OBJEKTŮ STAVBY A SOUPISŮ PRACÍ
C44: Kód: | L44: =K5 -> 2026/12_1
C45: Stavba: | L45: =K6 -> Rekonstrukce dvou bytových jednotek
C47: Místo: | L47: =IF(K8="","",K8) -> Dlouhá 126 | AI47: Datum: | AM47: =IF(AN8= "","",AN8) -> 31. 7. 2026
C49: Zadavatel: | L49: =IF(E11= "","",E11) -> Městys Lomnice | AI49: Projektant: | AM49: =IF(E17="","",E17) -> Proiectura Dana s.r.o. | AS49: Informatívní údaje z listů zakázek
C50: Účastník: | L50: =IF(E14= "Vyplň údaj","",E14) | AI50: Zpracovatel: | AM50: =IF(E20="","",E20) -> Proiectura Dana s.r.o.
C52: Kód | I52: Popis | AG52: Cena bez DPH [CZK] | AN52: Cena s DPH [CZK] | AQ52: Typ | AS52: z toho Ostat. náklady [CZK] | AT52: DPH [CZK] | AU52: Normohodiny [h] | AV52: DPH základní [CZK] | AW52: DPH snížená [CZK] | AX52: DPH základní přenesená [CZK] | AY52: DPH snížená přenesená [CZK] | AZ52: Základna DPH základní | BA52: Základna DPH snížená | BB52: Základna DPH zákl. přenesená | BC52: Základna DPH sníž. přenesená | BD52: Základna DPH nulová
C54: Náklady stavby celkem | AG54: =ROUND(SUM(AG55:AG61),2) -> 0 | AN54: =SUM(AG54,AT54) -> 0 | AS54: =ROUND(SUM(AS55:AS61),2) -> 0 | AT54: =ROUND(SUM(AV54:AW54),2) -> 0 | AU54: =ROUND(SUM(AU55:AU61),5) -> 0 | AV54: =ROUND(AZ54*L29,2) -> 0 | AW54: =ROUND(BA54*L30,2) -> 0 | AX54: =ROUND(BB54*L29,2) -> 0 | AY54: =ROUND(BC54*L30,2) -> 0 | AZ54: =ROUND(SUM(AZ55:AZ61),2) -> 0 | BA54: =ROUND(SUM(BA55:BA61),2) -> 0 | BB54: =ROUND(SUM(BB55:BB61),2) -> 0 | BC54: =ROUND(SUM(BC55:BC61),2) -> 0 | BD54: =ROUND(SUM(BD55:BD61),2) -> 0 | BS54: D | BT54: 0 | BU54: ###NOIMPORT### | BV54: IMPORT | BW54: {cef2862a-85ca-49ef-8965-32da2b117aa5} | BX54: {00000000-0000-0000-0000-000000000000}
A55: / | D55: 01 | J55: Bourací práce a demontáže | AG55: ='01 - Bourací práce a demo...'!J30 -> 0 | AN55: =SUM(AG55,AT55) -> 0 | AQ55: STA | AS55: 0 | AT55: =ROUND(SUM(AV55:AW55),2) -> 0 | AU55: ='01 - Bourací práce a demo...'!P94 -> 0 | AV55: ='01 - Bourací práce a demo...'!J33 -> 0 | AW55: ='01 - Bourací práce a demo...'!J34 -> 0 | AX55: ='01 - Bourací práce a demo...'!J35 -> 0 | AY55: ='01 - Bourací práce a demo...'!J36 -> 0 | AZ55: ='01 - Bourací práce a demo...'!F33 -> 0 | BA55: ='01 - Bourací práce a demo...'!F34 -> 0 | BB55: ='01 - Bourací práce a demo...'!F35 -> 0 | BC55: ='01 - Bourací práce a demo...'!F36 -> 0 | BD55: ='01 - Bourací práce a demo...'!F37 -> 0 | BT55: 1 | BV55: IMPORT | BW55: {f99b2da6-cb98-4d1a-a454-584d7e75a968} | BX55: {cef2862a-85ca-49ef-8965-32da2b117aa5} | CM55: 1
A56: / | D56: 02 | J56: ASŘ | AG56: ='02 - ASŘ'!J30 -> 0 | AN56: =SUM(AG56,AT56) -> 0 | AQ56: STA | AS56: 0 | AT56: =ROUND(SUM(AV56:AW56),2) -> 0 | AU56: ='02 - ASŘ'!P95 -> 0 | AV56: ='02 - ASŘ'!J33 -> 0 | AW56: ='02 - ASŘ'!J34 -> 0 | AX56: ='02 - ASŘ'!J35 -> 0 | AY56: ='02 - ASŘ'!J36 -> 0 | AZ56: ='02 - ASŘ'!F33 -> 0 | BA56: ='02 - ASŘ'!F34 -> 0 | BB56: ='02 - ASŘ'!F35 -> 0 | BC56: ='02 - ASŘ'!F36 -> 0 | BD56: ='02 - ASŘ'!F37 -> 0 | BT56: 1 | BV56: IMPORT | BW56: {cc0b9bb4-1890-4c5c-b79f-0b0310a556d4} | BX56: {cef2862a-85ca-49ef-8965-32da2b117aa5} | CM56: 1
A57: / | D57: 03 | J57: ZTI | AG57: ='03 - ZTI'!J30 -> 0 | AN57: =SUM(AG57,AT57) -> 0 | AQ57: STA | AS57: 0 | AT57: =ROUND(SUM(AV57:AW57),2) -> 0 | AU57: ='03 - ZTI'!P86 -> 0 | AV57: ='03 - ZTI'!J33 -> 0 | AW57: ='03 - ZTI'!J34 -> 0 | AX57: ='03 - ZTI'!J35 -> 0 | AY57: ='03 - ZTI'!J36 -> 0 | AZ57: ='03 - ZTI'!F33 -> 0 | BA57: ='03 - ZTI'!F34 -> 0 | BB57: ='03 - ZTI'!F35 -> 0 | BC57: ='03 - ZTI'!F36 -> 0 | BD57: ='03 - ZTI'!F37 -> 0 | BT57: 1 | BV57: IMPORT | BW57: {86ada23b-5a26-4d80-b017-447d016a15aa} | BX57: {cef2862a-85ca-49ef-8965-32da2b117aa5} | CM57: 1
A58: / | D58: 04 | J58: VYTÁPĚNÍ | AG58: ='04 - VYTÁPĚNÍ'!J30 -> 0 | AN58: =SUM(AG58,AT58) -> 0 | AQ58: STA | AS58: 0 | AT58: =ROUND(SUM(AV58:AW58),2) -> 0 | AU58: ='04 - VYTÁPĚNÍ'!P86 -> 0 | AV58: ='04 - VYTÁPĚNÍ'!J33 -> 0 | AW58: ='04 - VYTÁPĚNÍ'!J34 -> 0 | AX58: ='04 - VYTÁPĚNÍ'!J35 -> 0 | AY58: ='04 - VYTÁPĚNÍ'!J36 -> 0 | AZ58: ='04 - VYTÁPĚNÍ'!F33 -> 0 | BA58: ='04 - VYTÁPĚNÍ'!F34 -> 0 | BB58: ='04 - VYTÁPĚNÍ'!F35 -> 0 | BC58: ='04 - VYTÁPĚNÍ'!F36 -> 0 | BD58: ='04 - VYTÁPĚNÍ'!F37 -> 0 | BT58: 1 | BV58: IMPORT | BW58: {0dd39b8a-2eb3-4e6a-9f13-4f069723706a} | BX58: {cef2862a-85ca-49ef-8965-32da2b117aa5} | CM58: 1
A59: / | D59: 05 | J59: NTL ROZVOD PLYNU | AG59: ='05 - NTL ROZVOD PLYNU'!J30 -> 0 | AN59: =SUM(AG59,AT59) -> 0 | AQ59: STA | AS59: 0 | AT59: =ROUND(SUM(AV59:AW59),2) -> 0 | AU59: ='05 - NTL ROZVOD PLYNU'!P83 -> 0 | AV59: ='05 - NTL ROZVOD PLYNU'!J33 -> 0 | AW59: ='05 - NTL ROZVOD PLYNU'!J34 -> 0 | AX59: ='05 - NTL ROZVOD PLYNU'!J35 -> 0 | AY59: ='05 - NTL ROZVOD PLYNU'!J36 -> 0 | AZ59: ='05 - NTL ROZVOD PLYNU'!F33 -> 0 | BA59: ='05 - NTL ROZVOD PLYNU'!F34 -> 0 | BB59: ='05 - NTL ROZVOD PLYNU'!F35 -> 0 | BC59: ='05 - NTL ROZVOD PLYNU'!F36 -> 0 | BD59: ='05 - NTL ROZVOD PLYNU'!F37 -> 0 | BT59: 1 | BV59: IMPORT | BW59: {f4aa16df-7e00-4744-8131-419283491cd4} | BX59: {cef2862a-85ca-49ef-8965-32da2b117aa5} | CM59: 1
A60: / | D60: 06 | J60: EL | AG60: ='06 - EL'!J30 -> 0 | AN60: =SUM(AG60,AT60) -> 0 | AQ60: STA | AS60: 0 | AT60: =ROUND(SUM(AV60:AW60),2) -> 0 | AU60: ='06 - EL'!P84 -> 0 | AV60: ='06 - EL'!J33 -> 0 | AW60: ='06 - EL'!J34 -> 0 | AX60: ='06 - EL'!J35 -> 0 | AY60: ='06 - EL'!J36 -> 0 | AZ60: ='06 - EL'!F33 -> 0 | BA60: ='06 - EL'!F34 -> 0 | BB60: ='06 - EL'!F35 -> 0 | BC60: ='06 - EL'!F36 -> 0 | BD60: ='06 - EL'!F37 -> 0 | BT60: 1 | BV60: IMPORT | BW60: {955a54f4-1e7f-460b-ad75-1f6e3b662d50} | BX60: {cef2862a-85ca-49ef-8965-32da2b117aa5} | CM60: 1
A61: / | D61: 07 | J61: VRN | AG61: ='07 - VRN'!J30 -> 0 | AN61: =SUM(AG61,AT61) -> 0 | AQ61: STA | AS61: 0 | AT61: =ROUND(SUM(AV61:AW61),2) -> 0 | AU61: ='07 - VRN'!P86 -> 0 | AV61: ='07 - VRN'!J33 -> 0 | AW61: ='07 - VRN'!J34 -> 0 | AX61: ='07 - VRN'!J35 -> 0 | AY61: ='07 - VRN'!J36 -> 0 | AZ61: ='07 - VRN'!F33 -> 0 | BA61: ='07 - VRN'!F34 -> 0 | BB61: ='07 - VRN'!F35 -> 0 | BC61: ='07 - VRN'!F36 -> 0 | BD61: ='07 - VRN'!F37 -> 0 | BT61: 1 | BV61: IMPORT | BW61: {a891242b-c744-408b-9065-cfe65f99bc05} | BX61: {cef2862a-85ca-49ef-8965-32da2b117aa5} | CM61: 1

Sheet 01 - Bourací práce a demo...
AT2: {f99b2da6-cb98-4d1a-a454-584d7e75a968}
AT3: 1
D4: KRYCÍ LIST SOUPISU PRACÍ | M4: v --- níže se nacházejí doplnkové a pomocné údaje k sestavám --- v | AT4: False
D6: Stavba:
E7: ='Rekapitulace stavby'!K6 -> Rekonstrukce dvou bytových jednotek
D8: Objekt:
E9: 01 - Bourací práce a demontáže
D11: KSO: | I11: CC-CZ:
D12: Místo: | F12: Dlouhá 126 | I12: Datum: | J12: ='Rekapitulace stavby'!AN8 -> 31. 7. 2026
D14: Zadavatel: | I14: IČ:
E15: Městys Lomnice | I15: DIČ:
D17: Účastník: | I17: IČ: | J17: ='Rekapitulace stavby'!AN13 -> Vyplň údaj
E18: ='Rekapitulace stavby'!E14 -> Vyplň údaj | I18: DIČ: | J18: ='Rekapitulace stavby'!AN14 -> Vyplň údaj
D20: Projektant: | I20: IČ: | J20: 17219787
E21: Proiectura Dana s.r.o. | I21: DIČ: | J21: CZ17219787
D23: Zpracovatel: | I23: IČ: | J23: 17219787
E24: Proiectura Dana s.r.o. | I24: DIČ: | J24: CZ17219787
D26: Poznámka:
E27: Soupis prací je sestaven s využitím Cenové soustavy ÚRS. Položky, které pochází z této cenové soustavy, jsou ve sloupci 'Cenová soustava' označeny popisem 'CS ÚRS' a úrovní příslušného kalendářního pololetí. Veškeré další informace vymezující popis a podmínky použití těchto položek z Cenové soustavy, které nejsou uvedeny přímo v soupisu prací, jsou neomezeně dálkově k dispozici na webu podminky.urs.cz.
D30: Cena bez DPH | J30: =ROUND(J94, 2) -> 0
F32: Základ daně | I32: Sazba daně | J32: Výše daně
D33: DPH | E33: základní | F33: =ROUND((SUM(BE94:BE329)), 2) -> 0 | I33: 0.21 | J33: =ROUND(((SUM(BE94:BE329))*I33), 2) -> 0
E34: snížená | F34: =ROUND((SUM(BF94:BF329)), 2) -> 0 | I34: 0.12 | J34: =ROUND(((SUM(BF94:BF329))*I34), 2) -> 0
E35: zákl. přenesená | F35: =ROUND((SUM(BG94:BG329)), 2) -> 0 | I35: 0.21 | J35: =0 -> 0
E36: sníž. přenesená | F36: =ROUND((SUM(BH94:BH329)), 2) -> 0 | I36: 0.12 | J36: =0 -> 0
E37: nulová | F37: =ROUND((SUM(BI94:BI329)), 2) -> 0 | I37: 0 | J37: =0 -> 0
D39: Cena s DPH | G39: v | H39: CZK | J39: =SUM(J30:J37) -> 0
C45: REKAPITULACE ČLENĚNÍ SOUPISU PRACÍ
C47: Stavba:
E48: =E7 -> Rekonstrukce dvou bytových jednotek
C49: Objekt:
E50: =E9 -> 01 - Bourací práce a demontáže
C52: Místo: | F52: =F12 -> Dlouhá 126 | I52: Datum: | J52: =IF(J12="","",J12) -> 31. 7. 2026
C54: Zadavatel: | F54: =E15 -> Městys Lomnice | I54: Projektant: | J54: =E21 -> Proiectura Dana s.r.o.
C55: Účastník: | F55: =IF(E18="","",E18) -> Vyplň údaj | I55: Zpracovatel: | J55: =E24 -> Proiectura Dana s.r.o.
C57: Kód dílu - Popis | J57: Cena celkem [CZK]
C59: Náklady stavby celkem | J59: =J94 -> 0 | AU59: -1
D60: HSV - Práce a dodávky HSV | J60: =J95 -> 0
D61: 9 - Ostatní konstrukce a práce, bourání | J61: =J96 -> 0
D62: 997 - Doprava suti a vybouraných hmot | J62: =J219 -> 0
D63: PSV - Práce a dodávky PSV | J63: =J237 -> 0
D64: 721 - Zdravotechnika - vnitřní kanalizace | J64: =J238 -> 0
D65: 722 - Zdravotechnika - vnitřní vodovod | J65: =J243 -> 0
D66: 725 - Zdravotechnika - zařizovací předměty | J66: =J248 -> 0
D67: 731 - Ústřední vytápění - kotelny | J67: =J257 -> 0
D68: 735 - Ústřední vytápění - otopná tělesa | J68: =J260 -> 0
D69: 741 - Elektroinstalace | J69: =J263 -> 0
D70: 751 - Vzduchotechnika | J70: =J266 -> 0
D71: 766 - Konstrukce truhlářské | J71: =J269 -> 0
D72: 771 - Podlahy z dlaždic | J72: =J277 -> 0
D73: 775 - Podlahy skládané | J73: =J310 -> 0
D74: 781 - Dokončovací práce - obklady | J74: =J324 -> 0
C81: SOUPIS PRACÍ
C83: Stavba:
E84: =E7 -> Rekonstrukce dvou bytových jednotek
C85: Objekt:
E86: =E9 -> 01 - Bourací práce a demontáže
C88: Místo: | F88: =F12 -> Dlouhá 126 | I88: Datum: | J88: =IF(J12="","",J12) -> 31. 7. 2026
C90: Zadavatel: | F90: =E15 -> Městys Lomnice | I90: Projektant: | J90: =E21 -> Proiectura Dana s.r.o.
C91: Účastník: | F91: =IF(E18="","",E18) -> Vyplň údaj | I91: Zpracovatel: | J91: =E24 -> Proiectura Dana s.r.o.
C93: PČ | D93: Typ | E93: Kód | F93: Popis | G93: MJ | H93: Množství | I93: J.cena [CZK] | J93: Cena celkem [CZK] | K93: Cenová soustava | N93: DPH | O93: J. Nh [h] | P93: Nh celkem [h] | Q93: J. hmotnost [t] | R93: Hmotnost celkem [t] | S93: J. suť [t] | T93: Suť Celkem [t]
C94: Náklady soupisu celkem | J94: =BK94 -> 0 | P94: =P95+P237 -> 0 | R94: =R95+R237 -> 0.0048875875 | T94: =T95+T237 -> 56.512131 | AT94: D | AU94: -1 | BK94: =BK95+BK237 -> 0
D95: D | E95: HSV | F95: Práce a dodávky HSV | J95: =BK95 -> 0 | P95: =P96+P219 -> 0 | R95: =R96+R219 -> 0.0045995875 | T95: =T96+T219 -> 50.325273 | AR95: 1 | AT95: D | AU95: 0 | AY95: ROZPOCET | BK95: =BK96+BK219 -> 0
D96: D | E96: 9 | F96: Ostatní konstrukce a práce, bourání | J96: =BK96 -> 0 | P96: =SUM(P97:P218) -> 0 | R96: =SUM(R97:R218) -> 0.0045995875 | T96: =SUM(T97:T218) -> 50.325273 | AR96: 1 | AT96: D | AU96: 1 | AY96: ROZPOCET | BK96: =SUM(BK97:BK218) -> 0
C97: 1 | D97: K | E97: 949101111 | F97: Lešení pomocné pracovní pro objekty pozemních staveb pro zatížení do 150 kg/m2, o výšce lešeňové podlahy do 1,9 m | G97: m2 | H97: 50 | J97: =ROUND(I97*H97,2) -> 0 | K97: CS ÚRS 2026 02 | N97: snížená | P97: =O97*H97 -> 0 | Q97: 0 | R97: =Q97*H97 -> 0 | S97: 0 | T97: =S97*H97 -> 0 | AR97: 4 | AT97: K | AU97: 2 | AY97: ROZPOCET | BE97: =IF(N97="základní",J97,0) -> 0 | BF97: =IF(N97="snížená",J97,0) -> 0 | BG97: =IF(N97="zákl. přenesená",J97,0) -> 0 | BH97: =IF(N97="sníž. přenesená",J97,0) -> 0 | BI97: =IF(N97="nulová",J97,0) -> 0 | BJ97: 2 | BK97: =ROUND(I97*H97,2) -> 0 | BL97: 4 | BM97: 1056020129
D98: Online PSC | F98: https://podminky.urs.cz/item/CS_URS_2026_02/949101111 | AT98: Online PSC | AU98: 2
C99: 2 | D99: K | E99: 962031013 | F99: Bourání příček nebo přizdívek z cihel děrovaných, tloušťky přes 100 do 150 mm | G99: m2 | H99: 104.94 | J99: =ROUND(I99*H99,2) -> 0 | K99: CS ÚRS 2026 02 | N99: snížená | P99: =O99*H99 -> 0 | Q99: 0 | R99: =Q99*H99 -> 0 | S99: 0.248 | T99: =S99*H99 -> 26.02512 | AR99: 4 | AT99: K | AU99: 2 | AY99: ROZPOCET | BE99: =IF(N99="základní",J99,0) -> 0 | BF99: =IF(N99="snížená",J99,0) -> 0 | BG99: =IF(N99="zákl. přenesená",J99,0) -> 0 | BH99: =IF(N99="sníž. přenesená",J99,0) -> 0 | BI99: =IF(N99="nulová",J99,0) -> 0 | BJ99: 2 | BK99: =ROUND(I99*H99,2) -> 0 | BL99: 4 | BM99: -1469249656
D100: Online PSC | F100: https://podminky.urs.cz/item/CS_URS_2026_02/962031013 | AT100: Online PSC | AU100: 2
D101: VV | F101: (2,05+1,55+0,25+0,3+2,25+1,1+0,5+0,4+2,1+2,1+1,05*3,0+2,1+1,05+1,05+0,9+0,95)*3,3 | H101: 71.94 | AT101: VV | AU101: 2 | AV101: 2 | AW101: True | AX101: 0 | AY101: ROZPOCET
D102: VV | F102: 10,0*3,3 "rezerva | H102: 33 | AT102: VV | AU102: 2 | AV102: 2 | AW102: True | AX102: 0 | AY102: ROZPOCET
D103: VV | F103: Součet | H103: 104.94 | AT103: VV | AU103: 2 | AV103: 4 | AW103: True | AX103: 1 | AY103: ROZPOCET
C104: 3 | D104: K | E104: 962032631 | F104: Bourání zdiva nadzákladového komínového z cihel pálených, šamotových nebo vápenopískových, na maltu vápennou nebo vápenocementovou | G104: m3 | H104: 0.613 | J104: =ROUND(I104*H104,2) -> 0 | K104: CS ÚRS 2026 02 | N104: snížená | P104: =O104*H104 -> 0 | Q104: 0 | R104: =Q104*H104 -> 0 | S104: 1.594 | T104: =S104*H104 -> 0.977122 | AR104: 4 | AT104: K | AU104: 2 | AY104: ROZPOCET | BE104: =IF(N104="základní",J104,0) -> 0 | BF104: =IF(N104="snížená",J104,0) -> 0 | BG104: =IF(N104="zákl. přenesená",J104,0) -> 0 | BH104: =IF(N104="sníž. přenesená",J104,0) -> 0 | BI104: =IF(N104="nulová",J104,0) -> 0 | BJ104: 2 | BK104: =ROUND(I104*H104,2) -> 0 | BL104: 4 | BM104: 1461735217
D105: Online PSC | F105: https://podminky.urs.cz/item/CS_URS_2026_02/962032631 | AT105: Online PSC | AU105: 2
D106: VV | F106: Vybourání včetně následného zapravení průduchu | AT106: VV | AU106: 2 | AV106: 1 | AW106: True | AX106: 0 | AY106: ROZPOCET
D107: VV | F107: 0,5*0,35*3,5 | H107: 0.613 | AT107: VV | AU107: 2 | AV107: 2 | AW107: True | AX107: 1 | AY107: ROZPOCET
C108: 4 | D108: K | E108: 965042141 | F108: Bourání mazanin betonových nebo z litého asfaltu tl. do 100 mm, plochy přes 4 m2 | G108: m3 | H108: 4.884 | J108: =ROUND(I108*H108,2) -> 0 | K108: CS ÚRS 2026 02 | N108: snížená | P108: =O108*H108 -> 0 | Q108: 0 | R108: =Q108*H108 -> 0 | S108: 2.2 | T108: =S108*H108 -> 10.7448 | AR108: 4 | AT108: K | AU108: 2 | AY108: ROZPOCET | BE108: =IF(N108="základní",J108,0) -> 0 | BF108: =IF(N108="snížená",J108,0) -> 0 | BG108: =IF(N108="zákl. přenesená",J108,0) -> 0 | BH108: =IF(N108="sníž. přenesená",J108,0) -> 0 | BI108: =IF(N108="nulová",J108,0) -> 0 | BJ108: 2 | BK108: =ROUND(I108*H108,2) -> 0 | BL108: 4 | BM108: -1848203545
D109: Online PSC | F109: https://podminky.urs.cz/item/CS_URS_2026_02/965042141 | AT109: Online PSC | AU109: 2
D110: VV | F110: Rezerva, bude upřesněno při realizaci, není znám stávající stav stropu | AT110: VV | AU110: 2 | AV110: 1 | AW110: True | AX110: 0 | AY110: ROZPOCET
D111: VV | F111: 146,52*0,1/3 | H111: 4.884 | AT111: VV | AU111: 2 | AV111: 2 | AW111: True | AX111: 0 | AY111: ROZPOCET
D112: VV | F112: Součet | H112: 4.884 | AT112: VV | AU112: 2 | AV112: 4 | AW112: True | AX112: 1 | AY112: ROZPOCET
C113: 5 | D113: K | E113: 965046111 | F113: Broušení stávajících betonových podlah úběr do 3 mm | G113: m2 | H113: 52.693 | J113: =ROUND(I113*H113,2) -> 0 | K113: CS ÚRS 2026 02 | N113: snížená | P113: =O113*H113 -> 0 | Q113: 3.472e-06 | R113: =Q113*H113 -> 0.0001829501 | S113: 0 | T113: =S113*H113 -> 0 | AR113: 4 | AT113: K | AU113: 2 | AY113: ROZPOCET | BE113: =IF(N113="základní",J113,0) -> 0 | BF113: =IF(N113="snížená",J113,0) -> 0 | BG113: =IF(N113="zákl. přenesená",J113,0) -> 0 | BH113: =IF(N113="sníž. přenesená",J113,0) -> 0 | BI113: =IF(N113="nulová",J113,0) -> 0 | BJ113: 2 | BK113: =ROUND(I113*H113,2) -> 0 | BL113: 4 | BM113: 1821164984
D114: Online PSC | F114: https://podminky.urs.cz/item/CS_URS_2026_02/965046111 | AT114: Online PSC | AU114: 2
D115: VV | F115: Po odstranění dlažby | AT115: VV | AU115: 2 | AV115: 1 | AW115: True | AX115: 0 | AY115: ROZPOCET
D116: VV | F116: 2.01 CHODBA | AT116: VV | AU116: 2 | AV116: 1 | AW116: True | AX116: 0 | AY116: ROZPOCET
D117: VV | F117: 8,4 | H117: 8.4 | AT117: VV | AU117: 2 | AV117: 2 | AW117: True | AX117: 0 | AY117: ROZPOCET
D118: VV | F118: 2.02 LODŽIE | AT118: VV | AU118: 2 | AV118: 1 | AW118: True | AX118: 0 | AY118: ROZPOCET
D119: VV | F119: 3,78 | H119: 3.78 | AT119: VV | AU119: 2 | AV119: 2 | AW119: True | AX119: 0 | AY119: ROZPOCET
D120: VV | F120: 2.03 WC | AT120: VV | AU120: 2 | AV120: 1 | AW120: True | AX120: 0 | AY120: ROZPOCET
D121: VV | F121: 0,95 | H121: 0.95 | AT121: VV | AU121: 2 | AV121: 2 | AW121: True | AX121: 0 | AY121: ROZPOCET
D122: VV | F122: 2.04 TECH. MÍSTNOST | AT122: VV | AU122: 2 | AV122: 1 | AW122: True | AX122: 0 | AY122: ROZPOCET
D123: VV | F123: 1,18 | H123: 1.18 | AT123: VV | AU123: 2 | AV123: 2 | AW123: True | AX123: 0 | AY123: ROZPOCET
D124: VV | F124: 2.05 ZÁDVEŘÍ | AT124: VV | AU124: 2 | AV124: 1 | AW124: True | AX124: 0 | AY124: ROZPOCET
D125: VV | F125: 5,8 | H125: 5.8 | AT125: VV | AU125: 2 | AV125: 2 | AW125: True | AX125: 0 | AY125: ROZPOCET
D126: VV | F126: 2.07 SKLAD | AT126: VV | AU126: 2 | AV126: 1 | AW126: True | AX126: 0 | AY126: ROZPOCET
D127: VV | F127: 3,17 | H127: 3.17 | AT127: VV | AU127: 2 | AV127: 2 | AW127: True | AX127: 0 | AY127: ROZPOCET
D128: VV | F128: 2.10 KOUPELNA | AT128: VV | AU128: 2 | AV128: 1 | AW128: True | AX128: 0 | AY128: ROZPOCET
D129: VV | F129: 3,57 | H129: 3.57 | AT129: VV | AU129: 2 | AV129: 2 | AW129: True | AX129: 0 | AY129: ROZPOCET
D130: VV | F130: 2.11 ZÁDVEŘÍ | AT130: VV | AU130: 2 | AV130: 1 | AW130: True | AX130: 0 | AY130: ROZPOCET
D131: VV | F131: 4,79 | H131: 4.79 | AT131: VV | AU131: 2 | AV131: 2 | AW131: True | AX131: 0 | AY131: ROZPOCET
D132: VV | F132: 2.12 SKLAD | AT132: VV | AU132: 2 | AV132: 1 | AW132: True | AX132: 0 | AY132: ROZPOCET
...

Sheet 02 - ASŘ
AT2: {cc0b9bb4-1890-4c5c-b79f-0b0310a556d4}
AT3: 1
D4: KRYCÍ LIST SOUPISU PRACÍ | M4: v --- níže se nacházejí doplnkové a pomocné údaje k sestavám --- v | AT4: False
D6: Stavba:
E7: ='Rekapitulace stavby'!K6 -> Rekonstrukce dvou bytových jednotek
D8: Objekt:
E9: 02 - ASŘ
D11: KSO: | I11: CC-CZ:
D12: Místo: | F12: Dlouhá 126 | I12: Datum: | J12: ='Rekapitulace stavby'!AN8 -> 31. 7. 2026
D14: Zadavatel: | I14: IČ:
E15: Městys Lomnice | I15: DIČ:
D17: Účastník: | I17: IČ: | J17: ='Rekapitulace stavby'!AN13 -> Vyplň údaj
E18: ='Rekapitulace stavby'!E14 -> Vyplň údaj | I18: DIČ: | J18: ='Rekapitulace stavby'!AN14 -> Vyplň údaj
D20: Projektant: | I20: IČ: | J20: 17219787
E21: Proiectura Dana s.r.o. | I21: DIČ: | J21: CZ17219787
D23: Zpracovatel: | I23: IČ: | J23: 17219787
E24: Proiectura Dana s.r.o. | I24: DIČ: | J24: CZ17219787
D26: Poznámka:
E27: Soupis prací je sestaven s využitím Cenové soustavy ÚRS. Položky, které pochází z této cenové soustavy, jsou ve sloupci 'Cenová soustava' označeny popisem 'CS ÚRS' a úrovní příslušného kalendářního pololetí. Veškeré další informace vymezující popis a podmínky použití těchto položek z Cenové soustavy, které nejsou uvedeny přímo v soupisu prací, jsou neomezeně dálkově k dispozici na webu podminky.urs.cz.
D30: Cena bez DPH | J30: =ROUND(J95, 2) -> 0
F32: Základ daně | I32: Sazba daně | J32: Výše daně
D33: DPH | E33: základní | F33: =ROUND((SUM(BE95:BE506)), 2) -> 0 | I33: 0.21 | J33: =ROUND(((SUM(BE95:BE506))*I33), 2) -> 0
E34: snížená | F34: =ROUND((SUM(BF95:BF506)), 2) -> 0 | I34: 0.12 | J34: =ROUND(((SUM(BF95:BF506))*I34), 2) -> 0
E35: zákl. přenesená | F35: =ROUND((SUM(BG95:BG506)), 2) -> 0 | I35: 0.21 | J35: =0 -> 0
E36: sníž. přenesená | F36: =ROUND((SUM(BH95:BH506)), 2) -> 0 | I36: 0.12 | J36: =0 -> 0
E37: nulová | F37: =ROUND((SUM(BI95:BI506)), 2) -> 0 | I37: 0 | J37: =0 -> 0
D39: Cena s DPH | G39: v | H39: CZK | J39: =SUM(J30:J37) -> 0
C45: REKAPITULACE ČLENĚNÍ SOUPISU PRACÍ
C47: Stavba:
E48: =E7 -> Rekonstrukce dvou bytových jednotek
C49: Objekt:
E50: =E9 -> 02 - ASŘ
C52: Místo: | F52: =F12 -> Dlouhá 126 | I52: Datum: | J52: =IF(J12="","",J12) -> 31. 7. 2026
C54: Zadavatel: | F54: =E15 -> Městys Lomnice | I54: Projektant: | J54: =E21 -> Proiectura Dana s.r.o.
C55: Účastník: | F55: =IF(E18="","",E18) -> Vyplň údaj | I55: Zpracovatel: | J55: =E24 -> Proiectura Dana s.r.o.
C57: Kód dílu - Popis | J57: Cena celkem [CZK]
C59: Náklady stavby celkem | J59: =J95 -> 0 | AU59: -1
D60: HSV - Práce a dodávky HSV | J60: =J96 -> 0
D61: 3 - Svislé a kompletní konstrukce | J61: =J97 -> 0
D62: 6 - Úpravy povrchů, podlahy a osazování výplní | J62: =J127 -> 0
D63: 9 - Ostatní konstrukce a práce, bourání | J63: =J163 -> 0
D64: 998 - Přesun hmot | J64: =J174 -> 0
D65: PSV - Práce a dodávky PSV | J65: =J177 -> 0
D66: 762 - Konstrukce tesařské | J66: =J178 -> 0
D67: 763 - Konstrukce suché výstavby | J67: =J181 -> 0
D68: 764 - Konstrukce klempířské | J68: =J232 -> 0
D69: 766 - Konstrukce truhlářské | J69: =J241 -> 0
D70: 751 - Vzduchotechnika | J70: =J295 -> 0
D71: 771 - Podlahy z dlaždic | J71: =J298 -> 0
D72: 776 - Podlahy povlakové | J72: =J355 -> 0
D73: 781 - Dokončovací práce - obklady | J73: =J396 -> 0
D74: 784 - Dokončovací práce - malby a tapety | J74: =J440 -> 0
D75: HZS - Hodinové zúčtovací sazby | J75: =J504 -> 0
C82: SOUPIS PRACÍ
C84: Stavba:
E85: =E7 -> Rekonstrukce dvou bytových jednotek
C86: Objekt:
E87: =E9 -> 02 - ASŘ
C89: Místo: | F89: =F12 -> Dlouhá 126 | I89: Datum: | J89: =IF(J12="","",J12) -> 31. 7. 2026
C91: Zadavatel: | F91: =E15 -> Městys Lomnice | I91: Projektant: | J91: =E21 -> Proiectura Dana s.r.o.
C92: Účastník: | F92: =IF(E18="","",E18) -> Vyplň údaj | I92: Zpracovatel: | J92: =E24 -> Proiectura Dana s.r.o.
C94: PČ | D94: Typ | E94: Kód | F94: Popis | G94: MJ | H94: Množství | I94: J.cena [CZK] | J94: Cena celkem [CZK] | K94: Cenová soustava | N94: DPH | O94: J. Nh [h] | P94: Nh celkem [h] | Q94: J. hmotnost [t] | R94: Hmotnost celkem [t] | S94: J. suť [t] | T94: Suť Celkem [t]
C95: Náklady soupisu celkem | J95: =BK95 -> 0 | P95: =P96+P177+P504 -> 0 | R95: =R96+R177+R504 -> 46.950078 | T95: =T96+T177+T504 -> 0 | AT95: D | AU95: -1 | BK95: =BK96+BK177+BK504 -> 0
D96: D | E96: HSV | F96: Práce a dodávky HSV | J96: =BK96 -> 0 | P96: =P97+P127+P163+P174 -> 0 | R96: =R97+R127+R163+R174 -> 36.5456 | T96: =T97+T127+T163+T174 -> 0 | AR96: 1 | AT96: D | AU96: 0 | AY96: ROZPOCET | BK96: =BK97+BK127+BK163+BK174 -> 0
D97: D | E97: 3 | F97: Svislé a kompletní konstrukce | J97: =BK97 -> 0 | P97: =SUM(P98:P126) -> 0 | R97: =SUM(R98:R126) -> 9.0469538 | T97: =SUM(T98:T126) -> 0 | AR97: 1 | AT97: D | AU97: 1 | AY97: ROZPOCET | BK97: =SUM(BK98:BK126) -> 0
C98: 1 | D98: K | E98: 317142422 | F98: Překlady nenosné z pórobetonu osazené do tenkého maltového lože, výšky do 250 mm, šířky překladu 100 mm, délky překladu přes 1000 do 1250 mm | G98: kus | H98: 5 | J98: =ROUND(I98*H98,2) -> 0 | K98: CS ÚRS 2026 02 | N98: snížená | P98: =O98*H98 -> 0 | Q98: 0.02628 | R98: =Q98*H98 -> 0.1314 | S98: 0 | T98: =S98*H98 -> 0 | AR98: 4 | AT98: K | AU98: 2 | AY98: ROZPOCET | BE98: =IF(N98="základní",J98,0) -> 0 | BF98: =IF(N98="snížená",J98,0) -> 0 | BG98: =IF(N98="zákl. přenesená",J98,0) -> 0 | BH98: =IF(N98="sníž. přenesená",J98,0) -> 0 | BI98: =IF(N98="nulová",J98,0) -> 0 | BJ98: 2 | BK98: =ROUND(I98*H98,2) -> 0 | BL98: 4 | BM98: -1061426213
D99: Online PSC | F99: https://podminky.urs.cz/item/CS_URS_2026_02/317142422 | AT99: Online PSC | AU99: 2
D100: VV | F100: 5,0 | H100: 5 | AT100: VV | AU100: 2 | AV100: 2 | AW100: True | AX100: 0 | AY100: ROZPOCET
D101: VV | F101: Součet | H101: 5 | AT101: VV | AU101: 2 | AV101: 4 | AW101: True | AX101: 1 | AY101: ROZPOCET
C102: 2 | D102: K | E102: 317142442 | F102: Překlady nenosné z pórobetonu osazené do tenkého maltového lože, výšky do 250 mm, šířky překladu 150 mm, délky překladu přes 1000 do 1250 mm | G102: kus | H102: 1 | J102: =ROUND(I102*H102,2) -> 0 | K102: CS ÚRS 2026 02 | N102: snížená | P102: =O102*H102 -> 0 | Q102: 0.03193 | R102: =Q102*H102 -> 0.03193 | S102: 0 | T102: =S102*H102 -> 0 | AR102: 4 | AT102: K | AU102: 2 | AY102: ROZPOCET | BE102: =IF(N102="základní",J102,0) -> 0 | BF102: =IF(N102="snížená",J102,0) -> 0 | BG102: =IF(N102="zákl. přenesená",J102,0) -> 0 | BH102: =IF(N102="sníž. přenesená",J102,0) -> 0 | BI102: =IF(N102="nulová",J102,0) -> 0 | BJ102: 2 | BK102: =ROUND(I102*H102,2) -> 0 | BL102: 4 | BM102: 1637704258
D103: Online PSC | F103: https://podminky.urs.cz/item/CS_URS_2026_02/317142442 | AT103: Online PSC | AU103: 2
D104: VV | F104: 1,0 | H104: 1 | AT104: VV | AU104: 2 | AV104: 2 | AW104: True | AX104: 1 | AY104: ROZPOCET
C105: 3 | D105: K | E105: 340271021 | F105: Zazdívka otvorů v příčkách nebo stěnách pórobetonovými tvárnicemi plochy přes 0,25 m2 do 1 m2, objemová hmotnost 500 kg/m3, tloušťka příčky 100 mm | G105: m2 | H105: 10 | J105: =ROUND(I105*H105,2) -> 0 | K105: CS ÚRS 2026 02 | N105: snížená | P105: =O105*H105 -> 0 | Q105: 0.06307 | R105: =Q105*H105 -> 0.6307 | S105: 0 | T105: =S105*H105 -> 0 | AR105: 4 | AT105: K | AU105: 2 | AY105: ROZPOCET | BE105: =IF(N105="základní",J105,0) -> 0 | BF105: =IF(N105="snížená",J105,0) -> 0 | BG105: =IF(N105="zákl. přenesená",J105,0) -> 0 | BH105: =IF(N105="sníž. přenesená",J105,0) -> 0 | BI105: =IF(N105="nulová",J105,0) -> 0 | BJ105: 2 | BK105: =ROUND(I105*H105,2) -> 0 | BL105: 4 | BM105: 632045729
D106: Online PSC | F106: https://podminky.urs.cz/item/CS_URS_2026_02/340271021 | AT106: Online PSC | AU106: 2
D107: VV | F107: Zazdívky a vyzdívky po vybouraných tzb | AT107: VV | AU107: 2 | AV107: 1 | AW107: True | AX107: 0 | AY107: ROZPOCET
D108: VV | F108: Předpoklad, skutečný rozsah bude určen po vybourání | AT108: VV | AU108: 2 | AV108: 1 | AW108: True | AX108: 0 | AY108: ROZPOCET
D109: VV | F109: 10,0 | H109: 10 | AT109: VV | AU109: 2 | AV109: 2 | AW109: True | AX109: 0 | AY109: ROZPOCET
D110: VV | F110: Součet | H110: 10 | AT110: VV | AU110: 2 | AV110: 4 | AW110: True | AX110: 1 | AY110: ROZPOCET
C111: 4 | D111: K | E111: 342272225 | F111: Příčky z pórobetonových tvárnic hladkých na tenké maltové lože objemová hmotnost do 500 kg/m3, tloušťka příčky 100 mm | G111: m2 | H111: 73.966 | J111: =ROUND(I111*H111,2) -> 0 | K111: CS ÚRS 2026 02 | N111: snížená | P111: =O111*H111 -> 0 | Q111: 0.06172 | R111: =Q111*H111 -> 4.5651815 | S111: 0 | T111: =S111*H111 -> 0 | AR111: 4 | AT111: K | AU111: 2 | AY111: ROZPOCET | BE111: =IF(N111="základní",J111,0) -> 0 | BF111: =IF(N111="snížená",J111,0) -> 0 | BG111: =IF(N111="zákl. přenesená",J111,0) -> 0 | BH111: =IF(N111="sníž. přenesená",J111,0) -> 0 | BI111: =IF(N111="nulová",J111,0) -> 0 | BJ111: 2 | BK111: =ROUND(I111*H111,2) -> 0 | BL111: 4 | BM111: -2091881469
D112: Online PSC | F112: https://podminky.urs.cz/item/CS_URS_2026_02/342272225 | AT112: Online PSC | AU112: 2
D113: VV | F113: 3,7*3,65 | H113: 13.505 | AT113: VV | AU113: 2 | AV113: 2 | AW113: True | AX113: 0 | AY113: ROZPOCET
D114: VV | F114: (1,6+1,6+0,9)*3,65 | H114: 14.965 | AT114: VV | AU114: 2 | AV114: 2 | AW114: True | AX114: 0 | AY114: ROZPOCET
D115: VV | F115: 1,125*3,65 | H115: 4.106 | AT115: VV | AU115: 2 | AV115: 2 | AW115: True | AX115: 0 | AY115: ROZPOCET
D116: VV | F116: (2,1+1,95+0,9+3,65)*3,65 | H116: 31.39 | AT116: VV | AU116: 2 | AV116: 2 | AW116: True | AX116: 0 | AY116: ROZPOCET
D117: VV | F117: Rezerva pro nepřesnosti po vybourání | AT117: VV | AU117: 2 | AV117: 1 | AW117: True | AX117: 0 | AY117: ROZPOCET
D118: VV | F118: 10,0 | H118: 10 | AT118: VV | AU118: 2 | AV118: 2 | AW118: True | AX118: 0 | AY118: ROZPOCET
D119: VV | F119: Součet | H119: 73.966 | AT119: VV | AU119: 2 | AV119: 4 | AW119: True | AX119: 1 | AY119: ROZPOCET
C120: 5 | D120: K | E120: 342272245 | F120: Příčky z pórobetonových tvárnic hladkých na tenké maltové lože objemová hmotnost do 500 kg/m3, tloušťka příčky 150 mm | G120: m2 | H120: 20.988 | J120: =ROUND(I120*H120,2) -> 0 | K120: CS ÚRS 2026 02 | N120: snížená | P120: =O120*H120 -> 0 | Q120: 0.07921 | R120: =Q120*H120 -> 1.6624595 | S120: 0 | T120: =S120*H120 -> 0 | AR120: 4 | AT120: K | AU120: 2 | AY120: ROZPOCET | BE120: =IF(N120="základní",J120,0) -> 0 | BF120: =IF(N120="snížená",J120,0) -> 0 | BG120: =IF(N120="zákl. přenesená",J120,0) -> 0 | BH120: =IF(N120="sníž. přenesená",J120,0) -> 0 | BI120: =IF(N120="nulová",J120,0) -> 0 | BJ120: 2 | BK120: =ROUND(I120*H120,2) -> 0 | BL120: 4 | BM120: -1908153024
D121: Online PSC | F121: https://podminky.urs.cz/item/CS_URS_2026_02/342272245 | AT121: Online PSC | AU121: 2
D122: VV | F122: (2,1+3,65)*3,65 | H122: 20.988 | AT122: VV | AU122: 2 | AV122: 2 | AW122: True | AX122: 0 | AY122: ROZPOCET
D123: VV | F123: Součet | H123: 20.988 | AT123: VV | AU123: 2 | AV123: 4 | AW123: True | AX123: 1 | AY123: ROZPOCET
C124: 6 | D124: K | E124: 346272236 | F124: Přizdívky z pórobetonových tvárnic objemová hmotnost do 500 kg/m3, na tenké maltové lože, tloušťka přizdívky 100 mm | G124: m2 | H124: 31.39 | J124: =ROUND(I124*H124,2) -> 0 | K124: CS ÚRS 2026 02 | N124: snížená | P124: =O124*H124 -> 0 | Q124: 0.06452 | R124: =Q124*H124 -> 2.0252828 | S124: 0 | T124: =S124*H124 -> 0 | AR124: 4 | AT124: K | AU124: 2 | AY124: ROZPOCET | BE124: =IF(N124="základní",J124,0) -> 0 | BF124: =IF(N124="snížená",J124,0) -> 0 | BG124: =IF(N124="zákl. přenesená",J124,0) -> 0 | BH124: =IF(N124="sníž. přenesená",J124,0) -> 0 | BI124: =IF(N124="nulová",J124,0) -> 0 | BJ124: 2 | BK124: =ROUND(I124*H124,2) -> 0 | BL124: 4 | BM124: -396723177
D125: Online PSC | F125: https://podminky.urs.cz/item/CS_URS_2026_02/346272236 | AT125: Online PSC | AU125: 2
D126: VV | F126: (2,05+2,15+4,4)*3,65 | H126: 31.39 | AT126: VV | AU126: 2 | AV126: 2 | AW126: True | AX126: 1 | AY126: ROZPOCET
D127: D | E127: 6 | F127: Úpravy povrchů, podlahy a osazování výplní | J127: =BK127 -> 0 | P127: =SUM(P128:P162) -> 0 | R127: =SUM(R128:R162) -> 27.471872 | T127: =SUM(T128:T162) -> 0 | AR127: 1 | AT127: D | AU127: 1 | AY127: ROZPOCET | BK127: =SUM(BK128:BK162) -> 0
C128: 7 | D128: K | E128: 612131121 | F128: Podkladní a spojovací vrstva vnitřních omítaných ploch penetrace disperzní nanášená ručně stěn | G128: m2 | H128: 775.074 | J128: =ROUND(I128*H128,2) -> 0 | K128: CS ÚRS 2026 02 | N128: snížená | P128: =O128*H128 -> 0 | Q128: 0.000263 | R128: =Q128*H128 -> 0.20384446 | S128: 0 | T128: =S128*H128 -> 0 | AR128: 4 | AT128: K | AU128: 2 | AY128: ROZPOCET | BE128: =IF(N128="základní",J128,0) -> 0 | BF128: =IF(N128="snížená",J128,0) -> 0 | BG128: =IF(N128="zákl. přenesená",J128,0) -> 0 | BH128: =IF(N128="sníž. přenesená",J128,0) -> 0 | BI128: =IF(N128="nulová",J128,0) -> 0 | BJ128: 2 | BK128: =ROUND(I128*H128,2) -> 0 | BL128: 4 | BM128: -1567887283
D129: Online PSC | F129: https://podminky.urs.cz/item/CS_URS_2026_02/612131121 | AT129: Online PSC | AU129: 2
D130: VV | F130: 272,688+502,386 | H130: 775.074 | AT130: VV | AU130: 2 | AV130: 2 | AW130: True | AX130: 0 | AY130: ROZPOCET
D131: VV | F131: Součet | H131: 775.074 | AT131: VV | AU131: 2 | AV131: 4 | AW131: True | AX131: 1 | AY131: ROZPOCET
C132: 8 | D132: K | E132: 612142001 | F132: Pletivo vnitřních ploch v ploše nebo pruzích, na plném podkladu sklovláknité vtlačené do tmelu včetně tmelu stěn | G132: m2 | H132: 348.046 | J132: =ROUND(I132*H132,2) -> 0 | K132: CS ÚRS 2026 02 | N132: snížená | P132: =O132*H132 -> 0 | Q132: 0.004384 | R132: =Q132*H132 -> 1.5258337 | S132: 0 | T132: =S132*H132 -> 0 | AR132: 4 | AT132: K | AU132: 2 | AY132: ROZPOCET | BE132: =IF(N132="základní",J132,0) -> 0 | BF132: =IF(N132="snížená",J132,0) -> 0 | BG132: =IF(N132="zákl. přenesená",J132,0) -> 0 | BH132: =IF(N132="sníž. přenesená",J132,0) -> 0 | BI132: =IF(N132="nulová",J132,0) -> 0 | BJ132: 2 | BK132: =ROUND(I132*H132,2) -> 0 | BL132: 4 | BM132: 1915570308
...

Sheet 03 - ZTI
AT2: {86ada23b-5a26-4d80-b017-447d016a15aa}
AT3: 1
D4: KRYCÍ LIST SOUPISU PRACÍ | M4: v --- níže se nacházejí doplnkové a pomocné údaje k sestavám --- v | AT4: False
D6: Stavba:
E7: ='Rekapitulace stavby'!K6 -> Rekonstrukce dvou bytových jednotek
D8: Objekt:
E9: 03 - ZTI
D11: KSO: | I11: CC-CZ:
D12: Místo: | F12: Dlouhá 126 | I12: Datum: | J12: ='Rekapitulace stavby'!AN8 -> 31. 7. 2026
D14: Zadavatel: | I14: IČ:
E15: Městys Lomnice | I15: DIČ:
D17: Účastník: | I17: IČ: | J17: ='Rekapitulace stavby'!AN13 -> Vyplň údaj
E18: ='Rekapitulace stavby'!E14 -> Vyplň údaj | I18: DIČ: | J18: ='Rekapitulace stavby'!AN14 -> Vyplň údaj
D20: Projektant: | I20: IČ: | J20: 17219787
E21: Proiectura Dana s.r.o. | I21: DIČ: | J21: CZ17219787
D23: Zpracovatel: | I23: IČ: | J23: 17219787
E24: Proiectura Dana s.r.o. | I24: DIČ: | J24: CZ17219787
D26: Poznámka:
E27: Soupis prací je sestaven s využitím Cenové soustavy ÚRS. Položky, které pochází z této cenové soustavy, jsou ve sloupci 'Cenová soustava' označeny popisem 'CS ÚRS' a úrovní příslušného kalendářního pololetí. Veškeré další informace vymezující popis a podmínky použití těchto položek z Cenové soustavy, které nejsou uvedeny přímo v soupisu prací, jsou neomezeně dálkově k dispozici na webu podminky.urs.cz.
D30: Cena bez DPH | J30: =ROUND(J86, 2) -> 0
F32: Základ daně | I32: Sazba daně | J32: Výše daně
D33: DPH | E33: základní | F33: =ROUND((SUM(BE86:BE143)), 2) -> 0 | I33: 0.21 | J33: =ROUND(((SUM(BE86:BE143))*I33), 2) -> 0
E34: snížená | F34: =ROUND((SUM(BF86:BF143)), 2) -> 0 | I34: 0.12 | J34: =ROUND(((SUM(BF86:BF143))*I34), 2) -> 0
E35: zákl. přenesená | F35: =ROUND((SUM(BG86:BG143)), 2) -> 0 | I35: 0.21 | J35: =0 -> 0
E36: sníž. přenesená | F36: =ROUND((SUM(BH86:BH143)), 2) -> 0 | I36: 0.12 | J36: =0 -> 0
E37: nulová | F37: =ROUND((SUM(BI86:BI143)), 2) -> 0 | I37: 0 | J37: =0 -> 0
D39: Cena s DPH | G39: v | H39: CZK | J39: =SUM(J30:J37) -> 0
C45: REKAPITULACE ČLENĚNÍ SOUPISU PRACÍ
C47: Stavba:
E48: =E7 -> Rekonstrukce dvou bytových jednotek
C49: Objekt:
E50: =E9 -> 03 - ZTI
C52: Místo: | F52: =F12 -> Dlouhá 126 | I52: Datum: | J52: =IF(J12="","",J12) -> 31. 7. 2026
C54: Zadavatel: | F54: =E15 -> Městys Lomnice | I54: Projektant: | J54: =E21 -> Proiectura Dana s.r.o.
C55: Účastník: | F55: =IF(E18="","",E18) -> Vyplň údaj | I55: Zpracovatel: | J55: =E24 -> Proiectura Dana s.r.o.
C57: Kód dílu - Popis | J57: Cena celkem [CZK]
C59: Náklady stavby celkem | J59: =J86 -> 0 | AU59: -1
D60: 201 - ZAŘIZOVACÍ PŘEDMĚTY | J60: =J87 -> 0
D61: D1 - Vnitřní rozvod vody | J61: =J102 -> 0
D62: 1 - PPR porubí pro rozvody pitné a teplé vody PN16 - 95C | J62: =J103 -> 0
D63: D2 - Ostatní | J63: =J108 -> 0
D64: 203 - Kanalizace vnitřní | J64: =J125 -> 0
D65: D3 - Kanalizační potrubí a tvarovky HT - systém | J65: =J126 -> 0
D66: D2 - Ostatní | J66: =J132 -> 0
C73: SOUPIS PRACÍ
C75: Stavba:
E76: =E7 -> Rekonstrukce dvou bytových jednotek
C77: Objekt:
E78: =E9 -> 03 - ZTI
C80: Místo: | F80: =F12 -> Dlouhá 126 | I80: Datum: | J80: =IF(J12="","",J12) -> 31. 7. 2026
C82: Zadavatel: | F82: =E15 -> Městys Lomnice | I82: Projektant: | J82: =E21 -> Proiectura Dana s.r.o.
C83: Účastník: | F83: =IF(E18="","",E18) -> Vyplň údaj | I83: Zpracovatel: | J83: =E24 -> Proiectura Dana s.r.o.
C85: PČ | D85: Typ | E85: Kód | F85: Popis | G85: MJ | H85: Množství | I85: J.cena [CZK] | J85: Cena celkem [CZK] | K85: Cenová soustava | N85: DPH | O85: J. Nh [h] | P85: Nh celkem [h] | Q85: J. hmotnost [t] | R85: Hmotnost celkem [t] | S85: J. suť [t] | T85: Suť Celkem [t]
C86: Náklady soupisu celkem | J86: =BK86 -> 0 | P86: =P87+P102+P125 -> 0 | R86: =R87+R102+R125 -> 0 | T86: =T87+T102+T125 -> 0 | AT86: D | AU86: -1 | BK86: =BK87+BK102+BK125 -> 0
D87: D | E87: 201 | F87: ZAŘIZOVACÍ PŘEDMĚTY | J87: =BK87 -> 0 | P87: =SUM(P88:P101) -> 0 | R87: =SUM(R88:R101) -> 0 | T87: =SUM(T88:T101) -> 0 | AR87: 1 | AT87: D | AU87: 0 | AY87: ROZPOCET | BK87: =SUM(BK88:BK101) -> 0
C88: 1 | D88: K | E88: 1 | F88: Umyvadlo keramické připevněné na stěnu šrouby bílé bez krytu na sifon 550 mm | G88: ks | H88: 2 | J88: =ROUND(I88*H88,2) -> 0 | N88: snížená | P88: =O88*H88 -> 0 | Q88: 0 | R88: =Q88*H88 -> 0 | S88: 0 | T88: =S88*H88 -> 0 | AR88: 4 | AT88: K | AU88: 1 | AY88: ROZPOCET | BE88: =IF(N88="základní",J88,0) -> 0 | BF88: =IF(N88="snížená",J88,0) -> 0 | BG88: =IF(N88="zákl. přenesená",J88,0) -> 0 | BH88: =IF(N88="sníž. přenesená",J88,0) -> 0 | BI88: =IF(N88="nulová",J88,0) -> 0 | BJ88: 2 | BK88: =ROUND(I88*H88,2) -> 0 | BL88: 4 | BM88: 2
C89: 2 | D89: K | E89: Pol1 | F89: Kryt na sifon - bílý | G89: ks | H89: 2 | J89: =ROUND(I89*H89,2) -> 0 | N89: snížená | P89: =O89*H89 -> 0 | Q89: 0 | R89: =Q89*H89 -> 0 | S89: 0 | T89: =S89*H89 -> 0 | AR89: 4 | AT89: K | AU89: 1 | AY89: ROZPOCET | BE89: =IF(N89="základní",J89,0) -> 0 | BF89: =IF(N89="snížená",J89,0) -> 0 | BG89: =IF(N89="zákl. přenesená",J89,0) -> 0 | BH89: =IF(N89="sníž. přenesená",J89,0) -> 0 | BI89: =IF(N89="nulová",J89,0) -> 0 | BJ89: 2 | BK89: =ROUND(I89*H89,2) -> 0 | BL89: 4 | BM89: 4
C90: 3 | D90: K | E90: Pol2 | F90: Umývátko keramické připevněné na stěnu šrouby bílé bez krytu na sifon 350 mm, otvor pro baterii vpravo | G90: ks | H90: 1 | J90: =ROUND(I90*H90,2) -> 0 | N90: snížená | P90: =O90*H90 -> 0 | Q90: 0 | R90: =Q90*H90 -> 0 | S90: 0 | T90: =S90*H90 -> 0 | AR90: 4 | AT90: K | AU90: 1 | AY90: ROZPOCET | BE90: =IF(N90="základní",J90,0) -> 0 | BF90: =IF(N90="snížená",J90,0) -> 0 | BG90: =IF(N90="zákl. přenesená",J90,0) -> 0 | BH90: =IF(N90="sníž. přenesená",J90,0) -> 0 | BI90: =IF(N90="nulová",J90,0) -> 0 | BJ90: 2 | BK90: =ROUND(I90*H90,2) -> 0 | BL90: 4 | BM90: 6
C91: 4 | D91: K | E91: Pol3 | F91: Instalační sada pro umyvadlo | G91: ks | H91: 3 | J91: =ROUND(I91*H91,2) -> 0 | N91: snížená | P91: =O91*H91 -> 0 | Q91: 0 | R91: =Q91*H91 -> 0 | S91: 0 | T91: =S91*H91 -> 0 | AR91: 4 | AT91: K | AU91: 1 | AY91: ROZPOCET | BE91: =IF(N91="základní",J91,0) -> 0 | BF91: =IF(N91="snížená",J91,0) -> 0 | BG91: =IF(N91="zákl. přenesená",J91,0) -> 0 | BH91: =IF(N91="sníž. přenesená",J91,0) -> 0 | BI91: =IF(N91="nulová",J91,0) -> 0 | BJ91: 2 | BK91: =ROUND(I91*H91,2) -> 0 | BL91: 4 | BM91: 8
C92: 5 | D92: K | E92: Pol4 | F92: Podomítkový modul pro závěsné WC - samonosný rám (uchycení do podlahy), pro zabudování do vyzdívky předstěnové konstrukce | G92: ks | H92: 2 | J92: =ROUND(I92*H92,2) -> 0 | N92: snížená | P92: =O92*H92 -> 0 | Q92: 0 | R92: =Q92*H92 -> 0 | S92: 0 | T92: =S92*H92 -> 0 | AR92: 4 | AT92: K | AU92: 1 | AY92: ROZPOCET | BE92: =IF(N92="základní",J92,0) -> 0 | BF92: =IF(N92="snížená",J92,0) -> 0 | BG92: =IF(N92="zákl. přenesená",J92,0) -> 0 | BH92: =IF(N92="sníž. přenesená",J92,0) -> 0 | BI92: =IF(N92="nulová",J92,0) -> 0 | BJ92: 2 | BK92: =ROUND(I92*H92,2) -> 0 | BL92: 4 | BM92: 10
C93: 6 | D93: K | E93: Pol5 | F93: Klozet závěsný + sedátko tvrzené antibakteriální | G93: ks | H93: 2 | J93: =ROUND(I93*H93,2) -> 0 | N93: snížená | P93: =O93*H93 -> 0 | Q93: 0 | R93: =Q93*H93 -> 0 | S93: 0 | T93: =S93*H93 -> 0 | AR93: 4 | AT93: K | AU93: 1 | AY93: ROZPOCET | BE93: =IF(N93="základní",J93,0) -> 0 | BF93: =IF(N93="snížená",J93,0) -> 0 | BG93: =IF(N93="zákl. přenesená",J93,0) -> 0 | BH93: =IF(N93="sníž. přenesená",J93,0) -> 0 | BI93: =IF(N93="nulová",J93,0) -> 0 | BJ93: 2 | BK93: =ROUND(I93*H93,2) -> 0 | BL93: 4 | BM93: 12
C94: 7 | D94: K | E94: Pol6 | F94: Ovládací tlačítko - dvounožstevní | G94: ks | H94: 2 | J94: =ROUND(I94*H94,2) -> 0 | N94: snížená | P94: =O94*H94 -> 0 | Q94: 0 | R94: =Q94*H94 -> 0 | S94: 0 | T94: =S94*H94 -> 0 | AR94: 4 | AT94: K | AU94: 1 | AY94: ROZPOCET | BE94: =IF(N94="základní",J94,0) -> 0 | BF94: =IF(N94="snížená",J94,0) -> 0 | BG94: =IF(N94="zákl. přenesená",J94,0) -> 0 | BH94: =IF(N94="sníž. přenesená",J94,0) -> 0 | BI94: =IF(N94="nulová",J94,0) -> 0 | BJ94: 2 | BK94: =ROUND(I94*H94,2) -> 0 | BL94: 4 | BM94: 14
C95: 8 | D95: K | E95: Pol7 | F95: Rohový ventil | G95: ks | H95: 6 | J95: =ROUND(I95*H95,2) -> 0 | N95: snížená | P95: =O95*H95 -> 0 | Q95: 0 | R95: =Q95*H95 -> 0 | S95: 0 | T95: =S95*H95 -> 0 | AR95: 4 | AT95: K | AU95: 1 | AY95: ROZPOCET | BE95: =IF(N95="základní",J95,0) -> 0 | BF95: =IF(N95="snížená",J95,0) -> 0 | BG95: =IF(N95="zákl. přenesená",J95,0) -> 0 | BH95: =IF(N95="sníž. přenesená",J95,0) -> 0 | BI95: =IF(N95="nulová",J95,0) -> 0 | BJ95: 2 | BK95: =ROUND(I95*H95,2) -> 0 | BL95: 4 | BM95: 16
C96: 9 | D96: K | E96: Pol8 | F96: Baterie umyvadlové stojánkové pákové bez výpusti | G96: ks | H96: 3 | J96: =ROUND(I96*H96,2) -> 0 | N96: snížená | P96: =O96*H96 -> 0 | Q96: 0 | R96: =Q96*H96 -> 0 | S96: 0 | T96: =S96*H96 -> 0 | AR96: 4 | AT96: K | AU96: 1 | AY96: ROZPOCET | BE96: =IF(N96="základní",J96,0) -> 0 | BF96: =IF(N96="snížená",J96,0) -> 0 | BG96: =IF(N96="zákl. přenesená",J96,0) -> 0 | BH96: =IF(N96="sníž. přenesená",J96,0) -> 0 | BI96: =IF(N96="nulová",J96,0) -> 0 | BJ96: 2 | BK96: =ROUND(I96*H96,2) -> 0 | BL96: 4 | BM96: 18
C97: 10 | D97: K | E97: Pol9 | F97: Baterie stojánková dřezová s horním výtokem | G97: ks | H97: 2 | J97: =ROUND(I97*H97,2) -> 0 | N97: snížená | P97: =O97*H97 -> 0 | Q97: 0 | R97: =Q97*H97 -> 0 | S97: 0 | T97: =S97*H97 -> 0 | AR97: 4 | AT97: K | AU97: 1 | AY97: ROZPOCET | BE97: =IF(N97="základní",J97,0) -> 0 | BF97: =IF(N97="snížená",J97,0) -> 0 | BG97: =IF(N97="zákl. přenesená",J97,0) -> 0 | BH97: =IF(N97="sníž. přenesená",J97,0) -> 0 | BI97: =IF(N97="nulová",J97,0) -> 0 | BJ97: 2 | BK97: =ROUND(I97*H97,2) -> 0 | BL97: 4 | BM97: 20
C98: 11 | D98: K | E98: Pol10 | F98: Baterie sprchové nástěnné pákové ozteč 150mm, úsporný průtok 5 l/min. | G98: ks | H98: 2 | J98: =ROUND(I98*H98,2) -> 0 | N98: snížená | P98: =O98*H98 -> 0 | Q98: 0 | R98: =Q98*H98 -> 0 | S98: 0 | T98: =S98*H98 -> 0 | AR98: 4 | AT98: K | AU98: 1 | AY98: ROZPOCET | BE98: =IF(N98="základní",J98,0) -> 0 | BF98: =IF(N98="snížená",J98,0) -> 0 | BG98: =IF(N98="zákl. přenesená",J98,0) -> 0 | BH98: =IF(N98="sníž. přenesená",J98,0) -> 0 | BI98: =IF(N98="nulová",J98,0) -> 0 | BJ98: 2 | BK98: =ROUND(I98*H98,2) -> 0 | BL98: 4 | BM98: 22
C99: 12 | D99: K | E99: Pol11 | F99: Sprchový set chrom + sprchový držák | G99: ks | H99: 2 | J99: =ROUND(I99*H99,2) -> 0 | N99: snížená | P99: =O99*H99 -> 0 | Q99: 0 | R99: =Q99*H99 -> 0 | S99: 0 | T99: =S99*H99 -> 0 | AR99: 4 | AT99: K | AU99: 1 | AY99: ROZPOCET | BE99: =IF(N99="základní",J99,0) -> 0 | BF99: =IF(N99="snížená",J99,0) -> 0 | BG99: =IF(N99="zákl. přenesená",J99,0) -> 0 | BH99: =IF(N99="sníž. přenesená",J99,0) -> 0 | BI99: =IF(N99="nulová",J99,0) -> 0 | BJ99: 2 | BK99: =ROUND(I99*H99,2) -> 0 | BL99: 4 | BM99: 24
... C101: 14 | D101: K | E101: Pol13 | F101: Sprchová vanička z litého mramoru 900x900 mm | G101: ks | H101: 2 | J101: =ROUND(I101*H101,2) -> 0 | N101: snížená | P101: =O101*H101 -> 0 | Q101: 0 | R101: =Q101*H101 -> 0 | S101: 0 | T101: =S101*H101 -> 0 | AR101: 4 | AT101: K | AU101: 1 | AY101: ROZPOCET | BE101: =IF(N101="základní",J101,0) -> 0 | BF101: =IF(N101="snížená",J101,0) -> 0 | BG101: =IF(N101="zákl. přenesená",J101,0) -> 0 | BH101: =IF(N101="sníž. přenesená",J101,0) -> 0 | BI101: =IF(N101="nulová",J101,0) -> 0 | BJ101: 2 | BK101: =ROUND(I101*H101,2) -> 0 | BL101: 4 | BM101: 28
D102: D | E102: D1 | F102: Vnitřní rozvod vody | J102: =BK102 -> 0 | P102: =P103+P108 -> 0 | R102: =R103+R108 -> 0 | T102: =T103+T108 -> 0 | AR102: 1 | AT102: D | AU102: 0 | AY102: ROZPOCET | BK102: =BK103+BK108 -> 0
D103: D | E103: 1 | F103: PPR porubí pro rozvody pitné a teplé vody PN16 - 95C | J103: =BK103 -> 0 | P103: =SUM(P104:P107) -> 0 | R103: =SUM(R104:R107) -> 0 | T103: =SUM(T104:T107) -> 0 | AR103: 1 | AT103: D | AU103: 1 | AY103: ROZPOCET | BK103: =SUM(BK104:BK107) -> 0
C104: 15 | D104: K | E104: Pol14 | F104: Potrubí z PPR, D 25 PN 16 | G104: bm | H104: 32 | J104: =ROUND(I104*H104,2) -> 0 | N104: snížená | P104: =O104*H104 -> 0 | Q104: 0 | R104: =Q104*H104 -> 0 | S104: 0 | T104: =S104*H104 -> 0 | AR104: 4 | AT104: K | AU104: 2 | AY104: ROZPOCET | BE104: =IF(N104="základní",J104,0) -> 0 | BF104: =IF(N104="snížená",J104,0) -> 0 | BG104: =IF(N104="zákl. přenesená",J104,0) -> 0 | BH104: =IF(N104="sníž. přenesená",J104,0) -> 0 | BI104: =IF(N104="nulová",J104,0) -> 0 | BJ104: 2 | BK104: =ROUND(I104*H104,2) -> 0 | BL104: 4 | BM104: 30
C105: 16 | D105: K | E105: Pol15 | F105: Potrubí z PPR, D 20 PN 16 | G105: bm | H105: 56 | J105: =ROUND(I105*H105,2) -> 0 | N105: snížená | P105: =O105*H105 -> 0 | Q105: 0 | R105: =Q105*H105 -> 0 | S105: 0 | T105: =S105*H105 -> 0 | AR105: 4 | AT105: K | AU105: 2 | AY105: ROZPOCET | BE105: =IF(N105="základní",J105,0) -> 0 | BF105: =IF(N105="snížená",J105,0) -> 0 | BG105: =IF(N105="zákl. přenesená",J105,0) -> 0 | BH105: =IF(N105="sníž. přenesená",J105,0) -> 0 | BI105: =IF(N105="nulová",J105,0) -> 0 | BJ105: 2 | BK105: =ROUND(I105*H105,2) -> 0 | BL105: 4 | BM105: 32
C106: 17 | D106: K | E106: 2 | F106: Závěsný a montážní materiál | G106: ks | H106: 1 | J106: =ROUND(I106*H106,2) -> 0 | N106: snížená | P106: =O106*H106 -> 0 | Q106: 0 | R106: =Q106*H106 -> 0 | S106: 0 | T106: =S106*H106 -> 0 | AR106: 4 | AT106: K | AU106: 2 | AY106: ROZPOCET | BE106: =IF(N106="základní",J106,0) -> 0 | BF106: =IF(N106="snížená",J106,0) -> 0 | BG106: =IF(N106="zákl. přenesená",J106,0) -> 0 | BH106: =IF(N106="sníž. přenesená",J106,0) -> 0 | BI106: =IF(N106="nulová",J106,0) -> 0 | BJ106: 2 | BK106: =ROUND(I106*H106,2) -> 0 | BL106: 4 | BM106: 34
C107: 18 | D107: K | E107: Pol16 | F107: Izolační materiál se strukturou uzavřených buněk, tepelná vodivost při 10°C max.0,038 W.m-1.K-1. Izo | G107: bm | H107: 88 | J107: =ROUND(I107*H107,2) -> 0 | N107: snížená | P107: =O107*H107 -> 0 | Q107: 0 | R107: =Q107*H107 -> 0 | S107: 0 | T107: =S107*H107 -> 0 | AR107: 4 | AT107: K | AU107: 2 | AY107: ROZPOCET | BE107: =IF(N107="základní",J107,0) -> 0 | BF107: =IF(N107="snížená",J107,0) -> 0 | BG107: =IF(N107="zákl. přenesená",J107,0) -> 0 | BH107: =IF(N107="sníž. přenesená",J107,0) -> 0 | BI107: =IF(N107="nulová",J107,0) -> 0 | BJ107: 2 | BK107: =ROUND(I107*H107,2) -> 0 | BL107: 4 | BM107: 36
D108: D | E108: D2 | F108: Ostatní | J108: =BK108 -> 0 | P108: =SUM(P109:P124) -> 0 | R108: =SUM(R109:R124) -> 0 | T108: =SUM(T109:T124) -> 0 | AR108: 1 | AT108: D | AU108: 1 | AY108: ROZPOCET | BK108: =SUM(BK109:BK124) -> 0
C109: 19 | D109: K | E109: Pol17 | F109: Pomocný a spojovací materiál | G109: ks | H109: 1 | J109: =ROUND(I109*H109,2) -> 0 | N109: snížená | P109: =O109*H109 -> 0 | Q109: 0 | R109: =Q109*H109 -> 0 | S109: 0 | T109: =S109*H109 -> 0 | AR109: 4 | AT109: K | AU109: 2 | AY109: ROZPOCET | BE109: =IF(N109="základní",J109,0) -> 0 | BF109: =IF(N109="snížená",J109,0) -> 0 | BG109: =IF(N109="zákl. přenesená",J109,0) -> 0 | BH109: =IF(N109="sníž. přenesená",J109,0) -> 0 | BI109: =IF(N109="nulová",J109,0) -> 0 | BJ109: 2 | BK109: =ROUND(I109*H109,2) -> 0 | BL109: 4 | BM109: 38
C110: 20 | D110: K | E110: Pol18 | F110: Kulový kohout -DN20 | G110: ks | H110: 8 | J110: =ROUND(I110*H110,2) -> 0 | N110: snížená | P110: =O110*H110 -> 0 | Q110: 0 | R110: =Q110*H110 -> 0 | S110: 0 | T110: =S110*H110 -> 0 | AR110: 4 | AT110: K | AU110: 2 | AY110: ROZPOCET | BE110: =IF(N110="základní",J110,0) -> 0 | BF110: =IF(N110="snížená",J110,0) -> 0 | BG110: =IF(N110="zákl. přenesená",J110,0) -> 0 | BH110: =IF(N110="sníž. přenesená",J110,0) -> 0 | BI110: =IF(N110="nulová",J110,0) -> 0 | BJ110: 2 | BK110: =ROUND(I110*H110,2) -> 0 | BL110: 4 | BM110: 40
C111: 21 | D111: K | E111: Pol19 | F111: Kulový kohout-DN15 | G111: ks | H111: 12 | J111: =ROUND(I111*H111,2) -> 0 | N111: snížená | P111: =O111*H111 -> 0 | Q111: 0 | R111: =Q111*H111 -> 0 | S111: 0 | T111: =S111*H111 -> 0 | AR111: 4 | AT111: K | AU111: 2 | AY111: ROZPOCET | BE111: =IF(N111="základní",J111,0) -> 0 | BF111: =IF(N111="snížená",J111,0) -> 0 | BG111: =IF(N111="zákl. přenesená",J111,0) -> 0 | BH111: =IF(N111="sníž. přenesená",J111,0) -> 0 | BI111: =IF(N111="nulová",J111,0) -> 0 | BJ111: 2 | BK111: =ROUND(I111*H111,2) -> 0 | BL111: 4 | BM111: 42
C112: 22 | D112: K | E112: Pol20 | F112: Vypouštěcí kohout 1/2" | G112: ks | H112: 4 | J112: =ROUND(I112*H112,2) -> 0 | N112: snížená | P112: =O112*H112 -> 0 | Q112: 0 | R112: =Q112*H112 -> 0 | S112: 0 | T112: =S112*H112 -> 0 | AR112: 4 | AT112: K | AU112: 2 | AY112: ROZPOCET | BE112: =IF(N112="základní",J112,0) -> 0 | BF112: =IF(N112="snížená",J112,0) -> 0 | BG112: =IF(N112="zákl. přenesená",J112,0) -> 0 | BH112: =IF(N112="sníž. přenesená",J112,0) -> 0 | BI112: =IF(N112="nulová",J112,0) -> 0 | BJ112: 2 | BK112: =ROUND(I112*H112,2) -> 0 | BL112: 4 | BM112: 44
C113: 23 | D113: K | E113: Pol21 | F113: Nástěnka pro výtokový ventil G 1/2 s jedním závitem | G113: ks | H113: 10 | J113: =ROUND(I113*H113,2) -> 0 | N113: snížená | P113: =O113*H113 -> 0 | Q113: 0 | R113: =Q113*H113 -> 0 | S113: 0 | T113: =S113*H113 -> 0 | AR113: 4 | AT113: K | AU113: 2 | AY113: ROZPOCET | BE113: =IF(N113="základní",J113,0) -> 0 | BF113: =IF(N113="snížená",J113,0) -> 0 | BG113: =IF(N113="zákl. přenesená",J113,0) -> 0 | BH113: =IF(N113="sníž. přenesená",J113,0) -> 0 | BI113: =IF(N113="nulová",J113,0) -> 0 | BJ113: 2 | BK113: =ROUND(I113*H113,2) -> 0 | BL113: 4 | BM113: 46
C114: 24 | D114: K | E114: Pol22 | F114: Nástěnka pro baterii G 1/2 s jedním závitem | G114: pár | H114: 7 | J114: =ROUND(I114*H114,2) -> 0 | N114: snížená | P114: =O114*H114 -> 0 | Q114: 0 | R114: =Q114*H114 -> 0 | S114: 0 | T114: =S114*H114 -> 0 | AR114: 4 | AT114: K | AU114: 2 | AY114: ROZPOCET | BE114: =IF(N114="základní",J114,0) -> 0 | BF114: =IF(N114="snížená",J114,0) -> 0 | BG114: =IF(N114="zákl. přenesená",J114,0) -> 0 | BH114: =IF(N114="sníž. přenesená",J114,0) -> 0 | BI114: =IF(N114="nulová",J114,0) -> 0 | BJ114: 2 | BK114: =ROUND(I114*H114,2) -> 0 | BL114: 4 | BM114: 48
C115: 25 | D115: K | E115: Pol23 | F115: Pojistný ventil DN15 - TUV | G115: ks | H115: 2 | J115: =ROUND(I115*H115,2) -> 0 | N115: snížená | P115: =O115*H115 -> 0 | Q115: 0 | R115: =Q115*H115 -> 0 | S115: 0 | T115: =S115*H115 -> 0 | AR115: 4 | AT115: K | AU115: 2 | AY115: ROZPOCET | BE115: =IF(N115="základní",J115,0) -> 0 | BF115: =IF(N115="snížená",J115,0) -> 0 | BG115: =IF(N115="zákl. přenesená",J115,0) -> 0 | BH115: =IF(N115="sníž. přenesená",J115,0) -> 0 | BI115: =IF(N115="nulová",J115,0) -> 0 | BJ115: 2 | BK115: =ROUND(I115*H115,2) -> 0 | BL115: 4 | BM115: 50
C116: 26 | D116: K | E116: Pol24 | F116: Filtr DN20 | G116: ks | H116: 2 | J116: =ROUND(I116*H116,2) -> 0 | N116: snížená | P116: =O116*H116 -> 0 | Q116: 0 | R116: =Q116*H116 -> 0 | S116: 0 | T116: =S116*H116 -> 0 | AR116: 4 | AT116: K | AU116: 2 | AY116: ROZPOCET | BE116: =IF(N116="základní",J116,0) -> 0 | BF116: =IF(N116="snížená",J116,0) -> 0 | BG116: =IF(N116="zákl. přenesená",J116,0) -> 0 | BH116: =IF(N116="sníž. přenesená",J116,0) -> 0 | BI116: =IF(N116="nulová",J116,0) -> 0 | BJ116: 2 | BK116: =ROUND(I116*H116,2) -> 0 | BL116: 4 | BM116: 52
C117: 27 | D117: K | E117: Pol25 | F117: Zpětná klapka DN20 | G117: ks | H117: 4 | J117: =ROUND(I117*H117,2) -> 0 | N117: snížená | P117: =O117*H117 -> 0 | Q117: 0 | R117: =Q117*H117 -> 0 | S117: 0 | T117: =S117*H117 -> 0 | AR117: 4 | AT117: K | AU117: 2 | AY117: ROZPOCET | BE117: =IF(N117="základní",J117,0) -> 0 | BF117: =IF(N117="snížená",J117,0) -> 0 | BG117: =IF(N117="zákl. přenesená",J117,0) -> 0 | BH117: =IF(N117="sníž. přenesená",J117,0) -> 0 | BI117: =IF(N117="nulová",J117,0) -> 0 | BJ117: 2 | BK117: =ROUND(I117*H117,2) -> 0 | BL117: 4 | BM117: 54
C118: 28 | D118: K | E118: Pol26 | F118: Membránové tlakové expanzní nádoby vhodné pro rozvody pitné a provozní vody a také pro speciální použití v uzavřených vodních systémech. Veškeré díly ve styku s vodou jsou chráněny proti korozi; voda je akumulována v membránách ve formě vaku. 12l - 10 bar | G118: ks | H118: 2 | J118: =ROUND(I118*H118,2) -> 0 | N118: snížená | P118: =O118*H118 -> 0 | Q118: 0 | R118: =Q118*H118 -> 0 | S118: 0 | T118: =S118*H118 -> 0 | AR118: 4 | AT118: K | AU118: 2 | AY118: ROZPOCET | BE118: =IF(N118="základní",J118,0) -> 0 | BF118: =IF(N118="snížená",J118,0) -> 0 | BG118: =IF(N118="zákl. přenesená",J118,0) -> 0 | BH118: =IF(N118="sníž. přenesená",J118,0) -> 0 | BI118: =IF(N118="nulová",J118,0) -> 0 | BJ118: 2 | BK118: =ROUND(I118*H118,2) -> 0 | BL118: 4 | BM118: 56
C119: 29 | D119: K | E119: Pol27 | F119: Připojení expanzní nádoby - uzávěr, vypuštění, propojení | G119: ks | H119: 2 | J119: =ROUND(I119*H119,2) -> 0 | N119: snížená | P119: =O119*H119 -> 0 | Q119: 0 | R119: =Q119*H119 -> 0 | S119: 0 | T119: =S119*H119 -> 0 | AR119: 4 | AT119: K | AU119: 2 | AY119: ROZPOCET | BE119: =IF(N119="základní",J119,0) -> 0 | BF119: =IF(N119="snížená",J119,0) -> 0 | BG119: =IF(N119="zákl. přenesená",J119,0) -> 0 | BH119: =IF(N119="sníž. přenesená",J119,0) -> 0 | BI119: =IF(N119="nulová",J119,0) -> 0 | BJ119: 2 | BK119: =ROUND(I119*H119,2) -> 0 | BL119: 4 | BM119: 58
C120: 30 | D120: K | E120: Pol28 | F120: Podružný jednovtokový vodoměr pro studenou vodu - bytový | G120: ks | H120: 2 | J120: =ROUND(I120*H120,2) -> 0 | N120: snížená | P120: =O120*H120 -> 0 | Q120: 0 | R120: =Q120*H120 -> 0 | S120: 0 | T120: =S120*H120 -> 0 | AR120: 4 | AT120: K | AU120: 2 | AY120: ROZPOCET | BE120: =IF(N120="základní",J120,0) -> 0 | BF120: =IF(N120="snížená",J120,0) -> 0 | BG120: =IF(N120="zákl. přenesená",J120,0) -> 0 | BH120: =IF(N120="sníž. přenesená",J120,0) -> 0 | BI120: =IF(N120="nulová",J120,0) -> 0 | BJ120: 2 | BK120: =ROUND(I120*H120,2) -> 0 | BL120: 4 | BM120: 60
... C124: 34 | D124: K | E124: Pol31 | F124: Tlaková zkouška | G124: ks | H124: 1 | J124: =ROUND(I124*H124,2) -> 0 | N124: snížená | P124: =O124*H124 -> 0 | Q124: 0 | R124: =Q124*H124 -> 0 | S124: 0 | T124: =S124*H124 -> 0 | AR124: 4 | AT124: K | AU124: 2 | AY124: ROZPOCET | BE124: =IF(N124="základní",J124,0) -> 0 | BF124: =IF(N124="snížená",J124,0) -> 0 | BG124: =IF(N124="zákl. přenesená",J124,0) -> 0 | BH124: =IF(N124="sníž. přenesená",J124,0) -> 0 | BI124: =IF(N124="nulová",J124,0) -> 0 | BJ124: 2 | BK124: =ROUND(I124*H124,2) -> 0 | BL124: 4 | BM124: 68
D125: D | E125: 203 | F125: Kanalizace vnitřní | J125: =BK125 -> 0 | P125: =P126+P132 -> 0 | R125: =R126+R132 -> 0 | T125: =T126+T132 -> 0 | AR125: 1 | AT125: D | AU125: 0 | AY125: ROZPOCET | BK125: =BK126+BK132 -> 0
D126: D | E126: D3 | F126: Kanalizační potrubí a tvarovky HT - systém | J126: =BK126 -> 0 | P126: =SUM(P127:P131) -> 0 | R126: =SUM(R127:R131) -> 0 | T126: =SUM(T127:T131) -> 0 | AR126: 1 | AT126: D | AU126: 1 | AY126: ROZPOCET | BK126: =SUM(BK127:BK131) -> 0
C127: 35 | D127: K | E127: Pol32 | F127: 110 | G127: bm | H127: 51 | J127: =ROUND(I127*H127,2) -> 0 | N127: snížená | P127: =O127*H127 -> 0 | Q127: 0 | R127: =Q127*H127 -> 0 | S127: 0 | T127: =S127*H127 -> 0 | AR127: 4 | AT127: K | AU127: 2 | AY127: ROZPOCET | BE127: =IF(N127="základní",J127,0) -> 0 | BF127: =IF(N127="snížená",J127,0) -> 0 | BG127: =IF(N127="zákl. přenesená",J127,0) -> 0 | BH127: =IF(N127="sníž. přenesená",J127,0) -> 0 | BI127: =IF(N127="nulová",J127,0) -> 0 | BJ127: 2 | BK127: =ROUND(I127*H127,2) -> 0 | BL127: 4 | BM127: 70
C128: 36 | D128: K | E128: Pol33 | F128: 75 | G128: bm | H128: 4 | J128: =ROUND(I128*H128,2) -> 0 | N128: snížená | P128: =O128*H128 -> 0 | Q128: 0 | R128: =Q128*H128 -> 0 | S128: 0 | T128: =S128*H128 -> 0 | AR128: 4 | AT128: K | AU128: 2 | AY128: ROZPOCET | BE128: =IF(N128="základní",J128,0) -> 0 | BF128: =IF(N128="snížená",J128,0) -> 0 | BG128: =IF(N128="zákl. přenesená",J128,0) -> 0 | BH128: =IF(N128="sníž. přenesená",J128,0) -> 0 | BI128: =IF(N128="nulová",J128,0) -> 0 | BJ128: 2 | BK128: =ROUND(I128*H128,2) -> 0 | BL128: 4 | BM128: 72
C129: 37 | D129: K | E129: Pol34 | F129: 63 | G129: bm | H129: 8 | J129: =ROUND(I129*H129,2) -> 0 | N129: snížená | P129: =O129*H129 -> 0 | Q129: 0 | R129: =Q129*H129 -> 0 | S129: 0 | T129: =S129*H129 -> 0 | AR129: 4 | AT129: K | AU129: 2 | AY129: ROZPOCET | BE129: =IF(N129="základní",J129,0) -> 0 | BF129: =IF(N129="snížená",J129,0) -> 0 | BG129: =IF(N129="zákl. přenesená",J129,0) -> 0 | BH129: =IF(N129="sníž. přenesená",J129,0) -> 0 | BI129: =IF(N129="nulová",J129,0) -> 0 | BJ129: 2 | BK129: =ROUND(I129*H129,2) -> 0 | BL129: 4 | BM129: 74
C130: 38 | D130: K | E130: Pol35 | F130: 50 | G130: bm | H130: 31 | J130: =ROUND(I130*H130,2) -> 0 | N130: snížená | P130: =O130*H130 -> 0 | Q130: 0 | R130: =Q130*H130 -> 0 | S130: 0 | T130: =S130*H130 -> 0 | AR130: 4 | AT130: K | AU130: 2 | AY130: ROZPOCET | BE130: =IF(N130="základní",J130,0) -> 0 | BF130: =IF(N130="snížená",J130,0) -> 0 | BG130: =IF(N130="zákl. přenesená",J130,0) -> 0 | BH130: =IF(N130="sníž. přenesená",J130,0) -> 0 | BI130: =IF(N130="nulová",J130,0) -> 0 | BJ130: 2 | BK130: =ROUND(I130*H130,2) -> 0 | BL130: 4 | BM130: 76
C131: 39 | D131: K | E131: Pol36 | F131: 40 | G131: bm | H131: 8 | J131: =ROUND(I131*H131,2) -> 0 | N131: snížená | P131: =O131*H131 -> 0 | Q131: 0 | R131: =Q131*H131 -> 0 | S131: 0 | T131: =S131*H131 -> 0 | AR131: 4 | AT131: K | AU131: 2 | AY131: ROZPOCET | BE131: =IF(N131="základní",J131,0) -> 0 | BF131: =IF(N131="snížená",J131,0) -> 0 | BG131: =IF(N131="zákl. přenesená",J131,0) -> 0 | BH131: =IF(N131="sníž. přenesená",J131,0) -> 0 | BI131: =IF(N131="nulová",J131,0) -> 0 | BJ131: 2 | BK131: =ROUND(I131*H131,2) -> 0 | BL131: 4 | BM131: 78
D132: D | E132: D2 | F132: Ostatní | J132: =BK132 -> 0 | P132: =SUM(P133:P143) -> 0 | R132: =SUM(R133:R143) -> 0 | T132: =SUM(T133:T143) -> 0 | AR132: 1 | AT132: D | AU132: 1 | AY132: ROZPOCET | BK132: =SUM(BK133:BK143) -> 0
C133: 40 | D133: K | E133: 2.1 | F133: Sifon umyvadlový bez výpusti - chrom | G133: ks | H133: 3 | J133: =ROUND(I133*H133,2) -> 0 | N133: snížená | P133: =O133*H133 -> 0 | Q133: 0 | R133: =Q133*H133 -> 0 | S133: 0 | T133: =S133*H133 -> 0 | AR133: 4 | AT133: K | AU133: 2 | AY133: ROZPOCET | BE133: =IF(N133="základní",J133,0) -> 0 | BF133: =IF(N133="snížená",J133,0) -> 0 | BG133: =IF(N133="zákl. přenesená",J133,0) -> 0 | BH133: =IF(N133="sníž. přenesená",J133,0) -> 0 | BI133: =IF(N133="nulová",J133,0) -> 0 | BJ133: 2 | BK133: =ROUND(I133*H133,2) -> 0 | BL133: 4 | BM133: 80
C134: 41 | D134: K | E134: Pol37 | F134: Výpust umyvadlová doteková | G134: ks | H134: 3 | J134: =ROUND(I134*H134,2) -> 0 | N134: snížená | P134: =O134*H134 -> 0 | Q134: 0 | R134: =Q134*H134 -> 0 | S134: 0 | T134: =S134*H134 -> 0 | AR134: 4 | AT134: K | AU134: 2 | AY134: ROZPOCET | BE134: =IF(N134="základní",J134,0) -> 0 | BF134: =IF(N134="snížená",J134,0) -> 0 | BG134: =IF(N134="zákl. přenesená",J134,0) -> 0 | BH134: =IF(N134="sníž. přenesená",J134,0) -> 0 | BI134: =IF(N134="nulová",J134,0) -> 0 | BJ134: 2 | BK134: =ROUND(I134*H134,2) -> 0 | BL134: 4 | BM134: 82
C135: 42 | D135: K | E135: Pol38 | F135: Sifon pro dřez | G135: ks | H135: 2 | J135: =ROUND(I135*H135,2) -> 0 | N135: snížená | P135: =O135*H135 -> 0 | Q135: 0 | R135: =Q135*H135 -> 0 | S135: 0 | T135: =S135*H135 -> 0 | AR135: 4 | AT135: K | AU135: 2 | AY135: ROZPOCET | BE135: =IF(N135="základní",J135,0) -> 0 | BF135: =IF(N135="snížená",J135,0) -> 0 | BG135: =IF(N135="zákl. přenesená",J135,0) -> 0 | BH135: =IF(N135="sníž. přenesená",J135,0) -> 0 | BI135: =IF(N135="nulová",J135,0) -> 0 | BJ135: 2 | BK135: =ROUND(I135*H135,2) -> 0 | BL135: 4 | BM135: 84
C136: 43 | D136: K | E136: Pol39 | F136: Souprva pro připojení WC a výlevky | G136: ks | H136: 2 | J136: =ROUND(I136*H136,2) -> 0 | N136: snížená | P136: =O136*H136 -> 0 | Q136: 0 | R136: =Q136*H136 -> 0 | S136: 0 | T136: =S136*H136 -> 0 | AR136: 4 | AT136: K | AU136: 2 | AY136: ROZPOCET | BE136: =IF(N136="základní",J136,0) -> 0 | BF136: =IF(N136="snížená",J136,0) -> 0 | BG136: =IF(N136="zákl. přenesená",J136,0) -> 0 | BH136: =IF(N136="sníž. přenesená",J136,0) -> 0 | BI136: =IF(N136="nulová",J136,0) -> 0 | BJ136: 2 | BK136: =ROUND(I136*H136,2) -> 0 | BL136: 4 | BM136: 86
...

Sheet 04 - VYTÁPĚNÍ
AT2: {0dd39b8a-2eb3-4e6a-9f13-4f069723706a}
AT3: 1
D4: KRYCÍ LIST SOUPISU PRACÍ | M4: v --- níže se nacházejí doplnkové a pomocné údaje k sestavám --- v | AT4: False
D6: Stavba:
E7: ='Rekapitulace stavby'!K6 -> Rekonstrukce dvou bytových jednotek
D8: Objekt:
E9: 04 - VYTÁPĚNÍ
D11: KSO: | I11: CC-CZ:
D12: Místo: | F12: Dlouhá 126 | I12: Datum: | J12: ='Rekapitulace stavby'!AN8 -> 31. 7. 2026
D14: Zadavatel: | I14: IČ:
E15: Městys Lomnice | I15: DIČ:
D17: Účastník: | I17: IČ: | J17: ='Rekapitulace stavby'!AN13 -> Vyplň údaj
E18: ='Rekapitulace stavby'!E14 -> Vyplň údaj | I18: DIČ: | J18: ='Rekapitulace stavby'!AN14 -> Vyplň údaj
D20: Projektant: | I20: IČ: | J20: 17219787
E21: Proiectura Dana s.r.o. | I21: DIČ: | J21: CZ17219787
D23: Zpracovatel: | I23: IČ: | J23: 17219787
E24: Proiectura Dana s.r.o. | I24: DIČ: | J24: CZ17219787
D26: Poznámka:
E27: Soupis prací je sestaven s využitím Cenové soustavy ÚRS. Položky, které pochází z této cenové soustavy, jsou ve sloupci 'Cenová soustava' označeny popisem 'CS ÚRS' a úrovní příslušného kalendářního pololetí. Veškeré další informace vymezující popis a podmínky použití těchto položek z Cenové soustavy, které nejsou uvedeny přímo v soupisu prací, jsou neomezeně dálkově k dispozici na webu podminky.urs.cz.
D30: Cena bez DPH | J30: =ROUND(J86, 2) -> 0
F32: Základ daně | I32: Sazba daně | J32: Výše daně
D33: DPH | E33: základní | F33: =ROUND((SUM(BE86:BE140)), 2) -> 0 | I33: 0.21 | J33: =ROUND(((SUM(BE86:BE140))*I33), 2) -> 0
E34: snížená | F34: =ROUND((SUM(BF86:BF140)), 2) -> 0 | I34: 0.12 | J34: =ROUND(((SUM(BF86:BF140))*I34), 2) -> 0
E35: zákl. přenesená | F35: =ROUND((SUM(BG86:BG140)), 2) -> 0 | I35: 0.21 | J35: =0 -> 0
E36: sníž. přenesená | F36: =ROUND((SUM(BH86:BH140)), 2) -> 0 | I36: 0.12 | J36: =0 -> 0
E37: nulová | F37: =ROUND((SUM(BI86:BI140)), 2) -> 0 | I37: 0 | J37: =0 -> 0
D39: Cena s DPH | G39: v | H39: CZK | J39: =SUM(J30:J37) -> 0
C45: REKAPITULACE ČLENĚNÍ SOUPISU PRACÍ
C47: Stavba:
E48: =E7 -> Rekonstrukce dvou bytových jednotek
C49: Objekt:
E50: =E9 -> 04 - VYTÁPĚNÍ
C52: Místo: | F52: =F12 -> Dlouhá 126 | I52: Datum: | J52: =IF(J12="","",J12) -> 31. 7. 2026
C54: Zadavatel: | F54: =E15 -> Městys Lomnice | I54: Projektant: | J54: =E21 -> Proiectura Dana s.r.o.
C55: Účastník: | F55: =IF(E18="","",E18) -> Vyplň údaj | I55: Zpracovatel: | J55: =E24 -> Proiectura Dana s.r.o.
C57: Kód dílu - Popis | J57: Cena celkem [CZK]
C59: Náklady stavby celkem | J59: =J86 -> 0 | AU59: -1
D60: 301 - VYTÁPĚNÍ | J60: =J87 -> 0
D61: 1 - Otopná tělesa trubkové - topný žebřík do koupelny | J61: =J88 -> 0
D62: D1 - Ocelová desková otopná tělesa, s ventilem s pravým spodním připojením - typ VK | J62: =J92 -> 0
D63: 2 - Připojení radiátorů na otopnou soustavu | J63: =J99 -> 0
D64: 3 - CU potrubí | J64: =J106 -> 0
D65: 302 - ZDROJ VYTÁPĚNÍ | J65: =J115 -> 0
D66: D2 - ODKOUŘENÍ | J66: =J133 -> 0
C73: SOUPIS PRACÍ
C75: Stavba:
E76: =E7 -> Rekonstrukce dvou bytových jednotek
C77: Objekt:
E78: =E9 -> 04 - VYTÁPĚNÍ
C80: Místo: | F80: =F12 -> Dlouhá 126 | I80: Datum: | J80: =IF(J12="","",J12) -> 31. 7. 2026
C82: Zadavatel: | F82: =E15 -> Městys Lomnice | I82: Projektant: | J82: =E21 -> Proiectura Dana s.r.o.
C83: Účastník: | F83: =IF(E18="","",E18) -> Vyplň údaj | I83: Zpracovatel: | J83: =E24 -> Proiectura Dana s.r.o.
C85: PČ | D85: Typ | E85: Kód | F85: Popis | G85: MJ | H85: Množství | I85: J.cena [CZK] | J85: Cena celkem [CZK] | K85: Cenová soustava | N85: DPH | O85: J. Nh [h] | P85: Nh celkem [h] | Q85: J. hmotnost [t] | R85: Hmotnost celkem [t] | S85: J. suť [t] | T85: Suť Celkem [t]
C86: Náklady soupisu celkem | J86: =BK86 -> 0 | P86: =P87+P115 -> 0 | R86: =R87+R115 -> 0 | T86: =T87+T115 -> 0 | AT86: D | AU86: -1 | BK86: =BK87+BK115 -> 0
D87: D | E87: 301 | F87: VYTÁPĚNÍ | J87: =BK87 -> 0 | P87: =P88+P92+P99+P106 -> 0 | R87: =R88+R92+R99+R106 -> 0 | T87: =T88+T92+T99+T106 -> 0 | AR87: 1 | AT87: D | AU87: 0 | AY87: ROZPOCET | BK87: =BK88+BK92+BK99+BK106 -> 0
D88: D | E88: 1 | F88: Otopná tělesa trubkové - topný žebřík do koupelny | J88: =BK88 -> 0 | P88: =SUM(P89:P91) -> 0 | R88: =SUM(R89:R91) -> 0 | T88: =SUM(T89:T91) -> 0 | AR88: 1 | AT88: D | AU88: 1 | AY88: ROZPOCET | BK88: =SUM(BK89:BK91) -> 0
C89: 1 | D89: K | E89: Pol47 | F89: Trubkové otopné těleso, koupelnový topný žebřík, provedení z ocelových vodorovných trubek uchycených na svislých kolektorech umožňující zavěšení a sušení ručníků, o rozměrech 1820 × 450 mm (výška × šířka), v povrchové úpravě bílá, určené pro teplovodní otopné soustavy, dodané včetně nástěnných upevňovacích konzol, odvzdušňovacího ventilu, zaslepovacích zátek a veškerého montážního příslušenství, odzkoušené z výroby na těsnost a splňující požadavky příslušných platných technických norem a předpisů, včetně dopravy, osazení, připojení, odvzdušnění a uvedení do provozu. | G89: ks | H89: 1 | J89: =ROUND(I89*H89,2) -> 0 | N89: snížená | P89: =O89*H89 -> 0 | Q89: 0 | R89: =Q89*H89 -> 0 | S89: 0 | T89: =S89*H89 -> 0 | AR89: 4 | AT89: K | AU89: 2 | AY89: ROZPOCET | BE89: =IF(N89="základní",J89,0) -> 0 | BF89: =IF(N89="snížená",J89,0) -> 0 | BG89: =IF(N89="zákl. přenesená",J89,0) -> 0 | BH89: =IF(N89="sníž. přenesená",J89,0) -> 0 | BI89: =IF(N89="nulová",J89,0) -> 0 | BJ89: 2 | BK89: =ROUND(I89*H89,2) -> 0 | BL89: 4 | BM89: 2
C90: 2 | D90: K | E90: Pol48 | F90: Trubkové otopné těleso, koupelnový topný žebřík, provedení z ocelových vodorovných trubek uchycených na svislých kolektorech umožňující zavěšení a sušení ručníků, o rozměrech 1200 × 600 mm (výška × šířka), v povrchové úpravě bílá, určené pro teplovodní otopné soustavy, dodané včetně nástěnných upevňovacích konzol, odvzdušňovacího ventilu, zaslepovacích zátek a veškerého montážního příslušenství, odzkoušené z výroby na těsnost a splňující požadavky příslušných platných technických norem a předpisů, včetně dopravy, osazení, připojení, odvzdušnění a uvedení do provozu. | G90: ks | H90: 1 | J90: =ROUND(I90*H90,2) -> 0 | N90: snížená | P90: =O90*H90 -> 0 | Q90: 0 | R90: =Q90*H90 -> 0 | S90: 0 | T90: =S90*H90 -> 0 | AR90: 4 | AT90: K | AU90: 2 | AY90: ROZPOCET | BE90: =IF(N90="základní",J90,0) -> 0 | BF90: =IF(N90="snížená",J90,0) -> 0 | BG90: =IF(N90="zákl. přenesená",J90,0) -> 0 | BH90: =IF(N90="sníž. přenesená",J90,0) -> 0 | BI90: =IF(N90="nulová",J90,0) -> 0 | BJ90: 2 | BK90: =ROUND(I90*H90,2) -> 0 | BL90: 4 | BM90: 4
C91: 3 | D91: K | E91: Pol49 | F91: Standartní kovení do stěny | G91: sada | H91: 2 | J91: =ROUND(I91*H91,2) -> 0 | N91: snížená | P91: =O91*H91 -> 0 | Q91: 0 | R91: =Q91*H91 -> 0 | S91: 0 | T91: =S91*H91 -> 0 | AR91: 4 | AT91: K | AU91: 2 | AY91: ROZPOCET | BE91: =IF(N91="základní",J91,0) -> 0 | BF91: =IF(N91="snížená",J91,0) -> 0 | BG91: =IF(N91="zákl. přenesená",J91,0) -> 0 | BH91: =IF(N91="sníž. přenesená",J91,0) -> 0 | BI91: =IF(N91="nulová",J91,0) -> 0 | BJ91: 2 | BK91: =ROUND(I91*H91,2) -> 0 | BL91: 4 | BM91: 6
D92: D | E92: D1 | F92: Ocelová desková otopná tělesa, s ventilem s pravým spodním připojením - typ VK | J92: =BK92 -> 0 | P92: =SUM(P93:P98) -> 0 | R92: =SUM(R93:R98) -> 0 | T92: =SUM(T93:T98) -> 0 | AR92: 1 | AT92: D | AU92: 1 | AY92: ROZPOCET | BK92: =SUM(BK93:BK98) -> 0
C93: 4 | D93: K | E93: Pol50 | F93: Ocelové deskové otopné těleso se dvěma deskami a jedním přídavným konvektorem (typ 21), v provedení ventil kompakt (VK) s integrovanou ventilovou vložkou pro pravé spodní připojení s vnitřním závitem G 1/2". Těleso má stavební výšku 900 mm, stavební délku 600 mm a stavební hloubku odpovídající typu 21 (cca 66 mm). Součástí dodávky je odvzdušňovací ventil, zaslepovací zátka a příslušné upevňovací konzoly na stěnu včetně montážního příslušenství. | G93: ks | H93: 2 | J93: =ROUND(I93*H93,2) -> 0 | N93: snížená | P93: =O93*H93 -> 0 | Q93: 0 | R93: =Q93*H93 -> 0 | S93: 0 | T93: =S93*H93 -> 0 | AR93: 4 | AT93: K | AU93: 2 | AY93: ROZPOCET | BE93: =IF(N93="základní",J93,0) -> 0 | BF93: =IF(N93="snížená",J93,0) -> 0 | BG93: =IF(N93="zákl. přenesená",J93,0) -> 0 | BH93: =IF(N93="sníž. přenesená",J93,0) -> 0 | BI93: =IF(N93="nulová",J93,0) -> 0 | BJ93: 2 | BK93: =ROUND(I93*H93,2) -> 0 | BL93: 4 | BM93: 8
C94: 5 | D94: K | E94: Pol51 | F94: Ocelové deskové otopné těleso se dvěma deskami a dvěma přídavnými konvektory (typ 22), v provedení ventil kompakt (VK) s integrovanou ventilovou vložkou pro pravé spodní připojení s vnitřním závitem G 1/2". Těleso má stavební výšku 500 mm, stavební délku 1000 mm a stavební hloubku odpovídající typu 22 (cca 100 mm). Součástí dodávky je odvzdušňovací ventil, zaslepovací zátka a příslušné upevňovací konzoly na stěnu včetně montážního příslušenství. | G94: ks | H94: 1 | J94: =ROUND(I94*H94,2) -> 0 | N94: snížená | P94: =O94*H94 -> 0 | Q94: 0 | R94: =Q94*H94 -> 0 | S94: 0 | T94: =S94*H94 -> 0 | AR94: 4 | AT94: K | AU94: 2 | AY94: ROZPOCET | BE94: =IF(N94="základní",J94,0) -> 0 | BF94: =IF(N94="snížená",J94,0) -> 0 | BG94: =IF(N94="zákl. přenesená",J94,0) -> 0 | BH94: =IF(N94="sníž. přenesená",J94,0) -> 0 | BI94: =IF(N94="nulová",J94,0) -> 0 | BJ94: 2 | BK94: =ROUND(I94*H94,2) -> 0 | BL94: 4 | BM94: 10
C95: 6 | D95: K | E95: Pol52 | F95: Ocelové deskové otopné těleso se dvěma deskami a dvěma přídavnými konvektory (typ 22), v provedení ventil kompakt (VK) s integrovanou ventilovou vložkou pro pravé spodní připojení s vnitřním závitem G 1/2". Těleso má stavební výšku 500 mm, stavební délku 1400 mm a stavební hloubku odpovídající typu 22 (cca 100 mm). Součástí dodávky je odvzdušňovací ventil, zaslepovací zátka a příslušné upevňovací konzoly na stěnu včetně montážního příslušenství. | G95: ks | H95: 1 | J95: =ROUND(I95*H95,2) -> 0 | N95: snížená | P95: =O95*H95 -> 0 | Q95: 0 | R95: =Q95*H95 -> 0 | S95: 0 | T95: =S95*H95 -> 0 | AR95: 4 | AT95: K | AU95: 2 | AY95: ROZPOCET | BE95: =IF(N95="základní",J95,0) -> 0 | BF95: =IF(N95="snížená",J95,0) -> 0 | BG95: =IF(N95="zákl. přenesená",J95,0) -> 0 | BH95: =IF(N95="sníž. přenesená",J95,0) -> 0 | BI95: =IF(N95="nulová",J95,0) -> 0 | BJ95: 2 | BK95: =ROUND(I95*H95,2) -> 0 | BL95: 4 | BM95: 12
C96: 7 | D96: K | E96: Pol53 | F96: Ocelové deskové otopné těleso se dvěma deskami a dvěma přídavnými konvektory (typ 22), v provedení ventil kompakt (VK) s integrovanou ventilovou vložkou pro pravé spodní připojení s vnitřním závitem G 1/2". Těleso má stavební výšku 500 mm, stavební délku 1600 mm a stavební hloubku odpovídající typu 22 (cca 100 mm). Součástí dodávky je odvzdušňovací ventil, zaslepovací zátka a příslušné upevňovací konzoly na stěnu včetně montážního příslušenství. | G96: ks | H96: 2 | J96: =ROUND(I96*H96,2) -> 0 | N96: snížená | P96: =O96*H96 -> 0 | Q96: 0 | R96: =Q96*H96 -> 0 | S96: 0 | T96: =S96*H96 -> 0 | AR96: 4 | AT96: K | AU96: 2 | AY96: ROZPOCET | BE96: =IF(N96="základní",J96,0) -> 0 | BF96: =IF(N96="snížená",J96,0) -> 0 | BG96: =IF(N96="zákl. přenesená",J96,0) -> 0 | BH96: =IF(N96="sníž. přenesená",J96,0) -> 0 | BI96: =IF(N96="nulová",J96,0) -> 0 | BJ96: 2 | BK96: =ROUND(I96*H96,2) -> 0 | BL96: 4 | BM96: 14
C97: 8 | D97: K | E97: Pol54 | F97: Ocelové deskové otopné těleso se dvěma deskami a dvěma přídavnými konvektory (typ 22), v provedení ventil kompakt (VK) s integrovanou ventilovou vložkou pro pravé spodní připojení s vnitřním závitem G 1/2". Těleso má stavební výšku 500 mm, stavební délku 1800 mm a stavební hloubku odpovídající typu 22 (cca 100 mm). Součástí dodávky je odvzdušňovací ventil, zaslepovací zátka a příslušné upevňovací konzoly na stěnu včetně montážního příslušenství. | G97: ks | H97: 2 | J97: =ROUND(I97*H97,2) -> 0 | N97: snížená | P97: =O97*H97 -> 0 | Q97: 0 | R97: =Q97*H97 -> 0 | S97: 0 | T97: =S97*H97 -> 0 | AR97: 4 | AT97: K | AU97: 2 | AY97: ROZPOCET | BE97: =IF(N97="základní",J97,0) -> 0 | BF97: =IF(N97="snížená",J97,0) -> 0 | BG97: =IF(N97="zákl. přenesená",J97,0) -> 0 | BH97: =IF(N97="sníž. přenesená",J97,0) -> 0 | BI97: =IF(N97="nulová",J97,0) -> 0 | BJ97: 2 | BK97: =ROUND(I97*H97,2) -> 0 | BL97: 4 | BM97: 16
C98: 9 | D98: K | E98: Pol55 | F98: Konzola stěnová dvojtá, upevnění na stěně ve vzdálenosti 23mm od stěny | G98: sada | H98: 8 | J98: =ROUND(I98*H98,2) -> 0 | N98: snížená | P98: =O98*H98 -> 0 | Q98: 0 | R98: =Q98*H98 -> 0 | S98: 0 | T98: =S98*H98 -> 0 | AR98: 4 | AT98: K | AU98: 2 | AY98: ROZPOCET | BE98: =IF(N98="základní",J98,0) -> 0 | BF98: =IF(N98="snížená",J98,0) -> 0 | BG98: =IF(N98="zákl. přenesená",J98,0) -> 0 | BH98: =IF(N98="sníž. přenesená",J98,0) -> 0 | BI98: =IF(N98="nulová",J98,0) -> 0 | BJ98: 2 | BK98: =ROUND(I98*H98,2) -> 0 | BL98: 4 | BM98: 18
D99: D | E99: 2 | F99: Připojení radiátorů na otopnou soustavu | J99: =BK99 -> 0 | P99: =SUM(P100:P105) -> 0 | R99: =SUM(R100:R105) -> 0 | T99: =SUM(T100:T105) -> 0 | AR99: 1 | AT99: D | AU99: 1 | AY99: ROZPOCET | BK99: =SUM(BK100:BK105) -> 0
C100: 10 | D100: K | E100: Pol56 | F100: Termostatická hlavice | G100: ks | H100: 10 | J100: =ROUND(I100*H100,2) -> 0 | N100: snížená | P100: =O100*H100 -> 0 | Q100: 0 | R100: =Q100*H100 -> 0 | S100: 0 | T100: =S100*H100 -> 0 | AR100: 4 | AT100: K | AU100: 2 | AY100: ROZPOCET | BE100: =IF(N100="základní",J100,0) -> 0 | BF100: =IF(N100="snížená",J100,0) -> 0 | BG100: =IF(N100="zákl. přenesená",J100,0) -> 0 | BH100: =IF(N100="sníž. přenesená",J100,0) -> 0 | BI100: =IF(N100="nulová",J100,0) -> 0 | BJ100: 2 | BK100: =ROUND(I100*H100,2) -> 0 | BL100: 4 | BM100: 20
C101: 11 | D101: K | E101: Pol57 | F101: Regulační uzavírací šroubení pro otopná tělesa VK | G101: ks | H101: 8 | J101: =ROUND(I101*H101,2) -> 0 | N101: snížená | P101: =O101*H101 -> 0 | Q101: 0 | R101: =Q101*H101 -> 0 | S101: 0 | T101: =S101*H101 -> 0 | AR101: 4 | AT101: K | AU101: 2 | AY101: ROZPOCET | BE101: =IF(N101="základní",J101,0) -> 0 | BF101: =IF(N101="snížená",J101,0) -> 0 | BG101: =IF(N101="zákl. přenesená",J101,0) -> 0 | BH101: =IF(N101="sníž. přenesená",J101,0) -> 0 | BI101: =IF(N101="nulová",J101,0) -> 0 | BJ101: 2 | BK101: =ROUND(I101*H101,2) -> 0 | BL101: 4 | BM101: 22
C102: 12 | D102: K | E102: Pol58 | F102: Termostratický ventil DN15 | G102: ks | H102: 2 | J102: =ROUND(I102*H102,2) -> 0 | N102: snížená | P102: =O102*H102 -> 0 | Q102: 0 | R102: =Q102*H102 -> 0 | S102: 0 | T102: =S102*H102 -> 0 | AR102: 4 | AT102: K | AU102: 2 | AY102: ROZPOCET | BE102: =IF(N102="základní",J102,0) -> 0 | BF102: =IF(N102="snížená",J102,0) -> 0 | BG102: =IF(N102="zákl. přenesená",J102,0) -> 0 | BH102: =IF(N102="sníž. přenesená",J102,0) -> 0 | BI102: =IF(N102="nulová",J102,0) -> 0 | BJ102: 2 | BK102: =ROUND(I102*H102,2) -> 0 | BL102: 4 | BM102: 24
C103: 13 | D103: K | E103: Pol59 | F103: Regulační uzavírací šroubení pro otopná tělesa | G103: ks | H103: 2 | J103: =ROUND(I103*H103,2) -> 0 | N103: snížená | P103: =O103*H103 -> 0 | Q103: 0 | R103: =Q103*H103 -> 0 | S103: 0 | T103: =S103*H103 -> 0 | AR103: 4 | AT103: K | AU103: 2 | AY103: ROZPOCET | BE103: =IF(N103="základní",J103,0) -> 0 | BF103: =IF(N103="snížená",J103,0) -> 0 | BG103: =IF(N103="zákl. přenesená",J103,0) -> 0 | BH103: =IF(N103="sníž. přenesená",J103,0) -> 0 | BI103: =IF(N103="nulová",J103,0) -> 0 | BJ103: 2 | BK103: =ROUND(I103*H103,2) -> 0 | BL103: 4 | BM103: 26
C104: 14 | D104: K | E104: Pol60 | F104: Odbočka T - pro el. topné těleso | G104: ks | H104: 2 | J104: =ROUND(I104*H104,2) -> 0 | N104: snížená | P104: =O104*H104 -> 0 | Q104: 0 | R104: =Q104*H104 -> 0 | S104: 0 | T104: =S104*H104 -> 0 | AR104: 4 | AT104: K | AU104: 2 | AY104: ROZPOCET | BE104: =IF(N104="základní",J104,0) -> 0 | BF104: =IF(N104="snížená",J104,0) -> 0 | BG104: =IF(N104="zákl. přenesená",J104,0) -> 0 | BH104: =IF(N104="sníž. přenesená",J104,0) -> 0 | BI104: =IF(N104="nulová",J104,0) -> 0 | BJ104: 2 | BK104: =ROUND(I104*H104,2) -> 0 | BL104: 4 | BM104: 28
C105: 15 | D105: K | E105: Pol61 | F105: Elektrické topné těleso s integrovaným regulátorem teploty | G105: ks | H105: 2 | J105: =ROUND(I105*H105,2) -> 0 | N105: snížená | P105: =O105*H105 -> 0 | Q105: 0 | R105: =Q105*H105 -> 0 | S105: 0 | T105: =S105*H105 -> 0 | AR105: 4 | AT105: K | AU105: 2 | AY105: ROZPOCET | BE105: =IF(N105="základní",J105,0) -> 0 | BF105: =IF(N105="snížená",J105,0) -> 0 | BG105: =IF(N105="zákl. přenesená",J105,0) -> 0 | BH105: =IF(N105="sníž. přenesená",J105,0) -> 0 | BI105: =IF(N105="nulová",J105,0) -> 0 | BJ105: 2 | BK105: =ROUND(I105*H105,2) -> 0 | BL105: 4 | BM105: 30
D106: D | E106: 3 | F106: CU potrubí | J106: =BK106 -> 0 | P106: =SUM(P107:P114) -> 0 | R106: =SUM(R107:R114) -> 0 | T106: =SUM(T107:T114) -> 0 | AR106: 1 | AT106: D | AU106: 1 | AY106: ROZPOCET | BK106: =SUM(BK107:BK114) -> 0
C107: 16 | D107: K | E107: Pol62 | F107: 15x1 | G107: bm | H107: 65 | J107: =ROUND(I107*H107,2) -> 0 | N107: snížená | P107: =O107*H107 -> 0 | Q107: 0 | R107: =Q107*H107 -> 0 | S107: 0 | T107: =S107*H107 -> 0 | AR107: 4 | AT107: K | AU107: 2 | AY107: ROZPOCET | BE107: =IF(N107="základní",J107,0) -> 0 | BF107: =IF(N107="snížená",J107,0) -> 0 | BG107: =IF(N107="zákl. přenesená",J107,0) -> 0 | BH107: =IF(N107="sníž. přenesená",J107,0) -> 0 | BI107: =IF(N107="nulová",J107,0) -> 0 | BJ107: 2 | BK107: =ROUND(I107*H107,2) -> 0 | BL107: 4 | BM107: 32
C108: 17 | D108: K | E108: Pol63 | F108: 18x1 | G108: bm | H108: 40 | J108: =ROUND(I108*H108,2) -> 0 | N108: snížená | P108: =O108*H108 -> 0 | Q108: 0 | R108: =Q108*H108 -> 0 | S108: 0 | T108: =S108*H108 -> 0 | AR108: 4 | AT108: K | AU108: 2 | AY108: ROZPOCET | BE108: =IF(N108="základní",J108,0) -> 0 | BF108: =IF(N108="snížená",J108,0) -> 0 | BG108: =IF(N108="zákl. přenesená",J108,0) -> 0 | BH108: =IF(N108="sníž. přenesená",J108,0) -> 0 | BI108: =IF(N108="nulová",J108,0) -> 0 | BJ108: 2 | BK108: =ROUND(I108*H108,2) -> 0 | BL108: 4 | BM108: 34
C109: 18 | D109: K | E109: Pol64 | F109: 22x1 | G109: bm | H109: 20 | J109: =ROUND(I109*H109,2) -> 0 | N109: snížená | P109: =O109*H109 -> 0 | Q109: 0 | R109: =Q109*H109 -> 0 | S109: 0 | T109: =S109*H109 -> 0 | AR109: 4 | AT109: K | AU109: 2 | AY109: ROZPOCET | BE109: =IF(N109="základní",J109,0) -> 0 | BF109: =IF(N109="snížená",J109,0) -> 0 | BG109: =IF(N109="zákl. přenesená",J109,0) -> 0 | BH109: =IF(N109="sníž. přenesená",J109,0) -> 0 | BI109: =IF(N109="nulová",J109,0) -> 0 | BJ109: 2 | BK109: =ROUND(I109*H109,2) -> 0 | BL109: 4 | BM109: 36
C110: 19 | D110: K | E110: Pol16 | F110: Izolační materiál se strukturou uzavřených buněk, tepelná vodivost při 10°C max.0,038 W.m-1.K-1. Izo | G110: bm | H110: 125 | J110: =ROUND(I110*H110,2) -> 0 | N110: snížená | P110: =O110*H110 -> 0 | Q110: 0 | R110: =Q110*H110 -> 0 | S110: 0 | T110: =S110*H110 -> 0 | AR110: 4 | AT110: K | AU110: 2 | AY110: ROZPOCET | BE110: =IF(N110="základní",J110,0) -> 0 | BF110: =IF(N110="snížená",J110,0) -> 0 | BG110: =IF(N110="zákl. přenesená",J110,0) -> 0 | BH110: =IF(N110="sníž. přenesená",J110,0) -> 0 | BI110: =IF(N110="nulová",J110,0) -> 0 | BJ110: 2 | BK110: =ROUND(I110*H110,2) -> 0 | BL110: 4 | BM110: 38
C111: 20 | D111: K | E111: Pol65 | F111: Kolena, redukce, t-kusy | G111: soubor | H111: 1 | J111: =ROUND(I111*H111,2) -> 0 | N111: snížená | P111: =O111*H111 -> 0 | Q111: 0 | R111: =Q111*H111 -> 0 | S111: 0 | T111: =S111*H111 -> 0 | AR111: 4 | AT111: K | AU111: 2 | AY111: ROZPOCET | BE111: =IF(N111="základní",J111,0) -> 0 | BF111: =IF(N111="snížená",J111,0) -> 0 | BG111: =IF(N111="zákl. přenesená",J111,0) -> 0 | BH111: =IF(N111="sníž. přenesená",J111,0) -> 0 | BI111: =IF(N111="nulová",J111,0) -> 0 | BJ111: 2 | BK111: =ROUND(I111*H111,2) -> 0 | BL111: 4 | BM111: 40
C112: 21 | D112: K | E112: Pol66 | F112: Odvzdušňovací armatura - rad | G112: ks | H112: 10 | J112: =ROUND(I112*H112,2) -> 0 | N112: snížená | P112: =O112*H112 -> 0 | Q112: 0 | R112: =Q112*H112 -> 0 | S112: 0 | T112: =S112*H112 -> 0 | AR112: 4 | AT112: K | AU112: 2 | AY112: ROZPOCET | BE112: =IF(N112="základní",J112,0) -> 0 | BF112: =IF(N112="snížená",J112,0) -> 0 | BG112: =IF(N112="zákl. přenesená",J112,0) -> 0 | BH112: =IF(N112="sníž. přenesená",J112,0) -> 0 | BI112: =IF(N112="nulová",J112,0) -> 0 | BJ112: 2 | BK112: =ROUND(I112*H112,2) -> 0 | BL112: 4 | BM112: 42
C113: 22 | D113: K | E113: Pol67 | F113: Automatický odvzdušňovací ventil | G113: ks | H113: 4 | J113: =ROUND(I113*H113,2) -> 0 | N113: snížená | P113: =O113*H113 -> 0 | Q113: 0 | R113: =Q113*H113 -> 0 | S113: 0 | T113: =S113*H113 -> 0 | AR113: 4 | AT113: K | AU113: 2 | AY113: ROZPOCET | BE113: =IF(N113="základní",J113,0) -> 0 | BF113: =IF(N113="snížená",J113,0) -> 0 | BG113: =IF(N113="zákl. přenesená",J113,0) -> 0 | BH113: =IF(N113="sníž. přenesená",J113,0) -> 0 | BI113: =IF(N113="nulová",J113,0) -> 0 | BJ113: 2 | BK113: =ROUND(I113*H113,2) -> 0 | BL113: 4 | BM113: 44
C114: 23 | D114: K | E114: Pol68 | F114: Vypouštěcí kohout 1/2" | G114: ks | H114: 4 | J114: =ROUND(I114*H114,2) -> 0 | N114: snížená | P114: =O114*H114 -> 0 | Q114: 0 | R114: =Q114*H114 -> 0 | S114: 0 | T114: =S114*H114 -> 0 | AR114: 4 | AT114: K | AU114: 2 | AY114: ROZPOCET | BE114: =IF(N114="základní",J114,0) -> 0 | BF114: =IF(N114="snížená",J114,0) -> 0 | BG114: =IF(N114="zákl. přenesená",J114,0) -> 0 | BH114: =IF(N114="sníž. přenesená",J114,0) -> 0 | BI114: =IF(N114="nulová",J114,0) -> 0 | BJ114: 2 | BK114: =ROUND(I114*H114,2) -> 0 | BL114: 4 | BM114: 46
D115: D | E115: 302 | F115: ZDROJ VYTÁPĚNÍ | J115: =BK115 -> 0 | P115: =P116+SUM(P117:P133) -> 0 | R115: =R116+SUM(R117:R133) -> 0 | T115: =T116+SUM(T117:T133) -> 0 | AR115: 1 | AT115: D | AU115: 0 | AY115: ROZPOCET | BK115: =BK116+SUM(BK117:BK133) -> 0
C116: 24 | D116: K | E116: Pol69 | F116: Závěsný kondezační kotel pro vytápění s integrovynýmnerozovým zásobníkem TUV, 3.4 - 23.5 kW, objem zásobníku 48 l | G116: ks | H116: 2 | J116: =ROUND(I116*H116,2) -> 0 | N116: snížená | P116: =O116*H116 -> 0 | Q116: 0 | R116: =Q116*H116 -> 0 | S116: 0 | T116: =S116*H116 -> 0 | AR116: 4 | AT116: K | AU116: 1 | AY116: ROZPOCET | BE116: =IF(N116="základní",J116,0) -> 0 | BF116: =IF(N116="snížená",J116,0) -> 0 | BG116: =IF(N116="zákl. přenesená",J116,0) -> 0 | BH116: =IF(N116="sníž. přenesená",J116,0) -> 0 | BI116: =IF(N116="nulová",J116,0) -> 0 | BJ116: 2 | BK116: =ROUND(I116*H116,2) -> 0 | BL116: 4 | BM116: 48
C117: 25 | D117: K | E117: Pol70 | F117: Ekvitermní regulace | G117: ks | H117: 2 | J117: =ROUND(I117*H117,2) -> 0 | N117: snížená | P117: =O117*H117 -> 0 | Q117: 0 | R117: =Q117*H117 -> 0 | S117: 0 | T117: =S117*H117 -> 0 | AR117: 4 | AT117: K | AU117: 1 | AY117: ROZPOCET | BE117: =IF(N117="základní",J117,0) -> 0 | BF117: =IF(N117="snížená",J117,0) -> 0 | BG117: =IF(N117="zákl. přenesená",J117,0) -> 0 | BH117: =IF(N117="sníž. přenesená",J117,0) -> 0 | BI117: =IF(N117="nulová",J117,0) -> 0 | BJ117: 2 | BK117: =ROUND(I117*H117,2) -> 0 | BL117: 4 | BM117: 50
C118: 26 | D118: K | E118: Pol71 | F118: Prostorový termostat (drátový) | G118: ks | H118: 2 | J118: =ROUND(I118*H118,2) -> 0 | N118: snížená | P118: =O118*H118 -> 0 | Q118: 0 | R118: =Q118*H118 -> 0 | S118: 0 | T118: =S118*H118 -> 0 | AR118: 4 | AT118: K | AU118: 1 | AY118: ROZPOCET | BE118: =IF(N118="základní",J118,0) -> 0 | BF118: =IF(N118="snížená",J118,0) -> 0 | BG118: =IF(N118="zákl. přenesená",J118,0) -> 0 | BH118: =IF(N118="sníž. přenesená",J118,0) -> 0 | BI118: =IF(N118="nulová",J118,0) -> 0 | BJ118: 2 | BK118: =ROUND(I118*H118,2) -> 0 | BL118: 4 | BM118: 52
C119: 27 | D119: K | E119: Pol72 | F119: Externí spínací modul pro jeden okruh | G119: ks | H119: 2 | J119: =ROUND(I119*H119,2) -> 0 | N119: snížená | P119: =O119*H119 -> 0 | Q119: 0 | R119: =Q119*H119 -> 0 | S119: 0 | T119: =S119*H119 -> 0 | AR119: 4 | AT119: K | AU119: 1 | AY119: ROZPOCET | BE119: =IF(N119="základní",J119,0) -> 0 | BF119: =IF(N119="snížená",J119,0) -> 0 | BG119: =IF(N119="zákl. přenesená",J119,0) -> 0 | BH119: =IF(N119="sníž. přenesená",J119,0) -> 0 | BI119: =IF(N119="nulová",J119,0) -> 0 | BJ119: 2 | BK119: =ROUND(I119*H119,2) -> 0 | BL119: 4 | BM119: 54
C120: 28 | D120: K | E120: Pol73 | F120: Venkovní čidlo | G120: ks | H120: 2 | J120: =ROUND(I120*H120,2) -> 0 | N120: snížená | P120: =O120*H120 -> 0 | Q120: 0 | R120: =Q120*H120 -> 0 | S120: 0 | T120: =S120*H120 -> 0 | AR120: 4 | AT120: K | AU120: 1 | AY120: ROZPOCET | BE120: =IF(N120="základní",J120,0) -> 0 | BF120: =IF(N120="snížená",J120,0) -> 0 | BG120: =IF(N120="zákl. přenesená",J120,0) -> 0 | BH120: =IF(N120="sníž. přenesená",J120,0) -> 0 | BI120: =IF(N120="nulová",J120,0) -> 0 | BJ120: 2 | BK120: =ROUND(I120*H120,2) -> 0 | BL120: 4 | BM120: 56
C121: 29 | D121: K | E121: Pol74 | F121: Dopouštění otopného systému | G121: ks | H121: 2 | J121: =ROUND(I121*H121,2) -> 0 | N121: snížená | P121: =O121*H121 -> 0 | Q121: 0 | R121: =Q121*H121 -> 0 | S121: 0 | T121: =S121*H121 -> 0 | AR121: 4 | AT121: K | AU121: 1 | AY121: ROZPOCET | BE121: =IF(N121="základní",J121,0) -> 0 | BF121: =IF(N121="snížená",J121,0) -> 0 | BG121: =IF(N121="zákl. přenesená",J121,0) -> 0 | BH121: =IF(N121="sníž. přenesená",J121,0) -> 0 | BI121: =IF(N121="nulová",J121,0) -> 0 | BJ121: 2 | BK121: =ROUND(I121*H121,2) -> 0 | BL121: 4 | BM121: 58
C122: 30 | D122: K | E122: Pol68 | F122: Vypouštěcí kohout 1/2" | G122: ks | H122: 4 | J122: =ROUND(I122*H122,2) -> 0 | N122: snížená | P122: =O122*H122 -> 0 | Q122: 0 | R122: =Q122*H122 -> 0 | S122: 0 | T122: =S122*H122 -> 0 | AR122: 4 | AT122: K | AU122: 1 | AY122: ROZPOCET | BE122: =IF(N122="základní",J122,0) -> 0 | BF122: =IF(N122="snížená",J122,0) -> 0 | BG122: =IF(N122="zákl. přenesená",J122,0) -> 0 | BH122: =IF(N122="sníž. přenesená",J122,0) -> 0 | BI122: =IF(N122="nulová",J122,0) -> 0 | BJ122: 2 | BK122: =ROUND(I122*H122,2) -> 0 | BL122: 4 | BM122: 60
C123: 31 | D123: K | E123: Pol75 | F123: Kulový kohout KK-DN25 | G123: ks | H123: 6 | J123: =ROUND(I123*H123,2) -> 0 | N123: snížená | P123: =O123*H123 -> 0 | Q123: 0 | R123: =Q123*H123 -> 0 | S123: 0 | T123: =S123*H123 -> 0 | AR123: 4 | AT123: K | AU123: 1 | AY123: ROZPOCET | BE123: =IF(N123="základní",J123,0) -> 0 | BF123: =IF(N123="snížená",J123,0) -> 0 | BG123: =IF(N123="zákl. přenesená",J123,0) -> 0 | BH123: =IF(N123="sníž. přenesená",J123,0) -> 0 | BI123: =IF(N123="nulová",J123,0) -> 0 | BJ123: 2 | BK123: =ROUND(I123*H123,2) -> 0 | BL123: 4 | BM123: 62
C124: 32 | D124: K | E124: Pol76 | F124: Filr - DN25 | G124: ks | H124: 2 | J124: =ROUND(I124*H124,2) -> 0 | N124: snížená | P124: =O124*H124 -> 0 | Q124: 0 | R124: =Q124*H124 -> 0 | S124: 0 | T124: =S124*H124 -> 0 | AR124: 4 | AT124: K | AU124: 1 | AY124: ROZPOCET | BE124: =IF(N124="základní",J124,0) -> 0 | BF124: =IF(N124="snížená",J124,0) -> 0 | BG124: =IF(N124="zákl. přenesená",J124,0) -> 0 | BH124: =IF(N124="sníž. přenesená",J124,0) -> 0 | BI124: =IF(N124="nulová",J124,0) -> 0 | BJ124: 2 | BK124: =ROUND(I124*H124,2) -> 0 | BL124: 4 | BM124: 64
C125: 33 | D125: K | E125: Pol77 | F125: Automatický odvzdušňovací ventil | G125: ks | H125: 4 | J125: =ROUND(I125*H125,2) -> 0 | N125: snížená | P125: =O125*H125 -> 0 | Q125: 0 | R125: =Q125*H125 -> 0 | S125: 0 | T125: =S125*H125 -> 0 | AR125: 4 | AT125: K | AU125: 1 | AY125: ROZPOCET | BE125: =IF(N125="základní",J125,0) -> 0 | BF125: =IF(N125="snížená",J125,0) -> 0 | BG125: =IF(N125="zákl. přenesená",J125,0) -> 0 | BH125: =IF(N125="sníž. přenesená",J125,0) -> 0 | BI125: =IF(N125="nulová",J125,0) -> 0 | BJ125: 2 | BK125: =ROUND(I125*H125,2) -> 0 | BL125: 4 | BM125: 66
C126: 34 | D126: K | E126: Pol78 | F126: Kolena, redukce, t-kusy | G126: kpl | H126: 1 | J126: =ROUND(I126*H126,2) -> 0 | N126: snížená | P126: =O126*H126 -> 0 | Q126: 0 | R126: =Q126*H126 -> 0 | S126: 0 | T126: =S126*H126 -> 0 | AR126: 4 | AT126: K | AU126: 1 | AY126: ROZPOCET | BE126: =IF(N126="základní",J126,0) -> 0 | BF126: =IF(N126="snížená",J126,0) -> 0 | BG126: =IF(N126="zákl. přenesená",J126,0) -> 0 | BH126: =IF(N126="sníž. přenesená",J126,0) -> 0 | BI126: =IF(N126="nulová",J126,0) -> 0 | BJ126: 2 | BK126: =ROUND(I126*H126,2) -> 0 | BL126: 4 | BM126: 68
C127: 35 | D127: K | E127: Pol79 | F127: Závěšný a montážní materiál | G127: kpl | H127: 1 | J127: =ROUND(I127*H127,2) -> 0 | N127: snížená | P127: =O127*H127 -> 0 | Q127: 0 | R127: =Q127*H127 -> 0 | S127: 0 | T127: =S127*H127 -> 0 | AR127: 4 | AT127: K | AU127: 1 | AY127: ROZPOCET | BE127: =IF(N127="základní",J127,0) -> 0 | BF127: =IF(N127="snížená",J127,0) -> 0 | BG127: =IF(N127="zákl. přenesená",J127,0) -> 0 | BH127: =IF(N127="sníž. přenesená",J127,0) -> 0 | BI127: =IF(N127="nulová",J127,0) -> 0 | BJ127: 2 | BK127: =ROUND(I127*H127,2) -> 0 | BL127: 4 | BM127: 70
... C132: 40 | D132: K | E132: Pol83 | F132: Stavební přípomoc (prostupy, drážky, výklenky, požární ucpávky na prostupu požárně dělící konstrukcí) | G132: kpl | H132: 1 | J132: =ROUND(I132*H132,2) -> 0 | N132: snížená | P132: =O132*H132 -> 0 | Q132: 0 | R132: =Q132*H132 -> 0 | S132: 0 | T132: =S132*H132 -> 0 | AR132: 4 | AT132: K | AU132: 1 | AY132: ROZPOCET | BE132: =IF(N132="základní",J132,0) -> 0 | BF132: =IF(N132="snížená",J132,0) -> 0 | BG132: =IF(N132="zákl. přenesená",J132,0) -> 0 | BH132: =IF(N132="sníž. přenesená",J132,0) -> 0 | BI132: =IF(N132="nulová",J132,0) -> 0 | BJ132: 2 | BK132: =ROUND(I132*H132,2) -> 0 | BL132: 4 | BM132: 80
D133: D | E133: D2 | F133: ODKOUŘENÍ | J133: =BK133 -> 0 | P133: =SUM(P134:P140) -> 0 | R133: =SUM(R134:R140) -> 0 | T133: =SUM(T134:T140) -> 0 | AR133: 1 | AT133: D | AU133: 1 | AY133: ROZPOCET | BK133: =SUM(BK134:BK140) -> 0
C134: 41 | D134: K | E134: Pol84 | F134: Připoj.koleno DN60/110, 87st. | G134: ks | H134: 2 | J134: =ROUND(I134*H134,2) -> 0 | N134: snížená | P134: =O134*H134 -> 0 | Q134: 0 | R134: =Q134*H134 -> 0 | S134: 0 | T134: =S134*H134 -> 0 | AR134: 4 | AT134: K | AU134: 2 | AY134: ROZPOCET | BE134: =IF(N134="základní",J134,0) -> 0 | BF134: =IF(N134="snížená",J134,0) -> 0 | BG134: =IF(N134="zákl. přenesená",J134,0) -> 0 | BH134: =IF(N134="sníž. přenesená",J134,0) -> 0 | BI134: =IF(N134="nulová",J134,0) -> 0 | BJ134: 2 | BK134: =ROUND(I134*H134,2) -> 0 | BL134: 4 | BM134: 82
C135: 42 | D135: K | E135: Pol85 | F135: Trubka DN60/110 reviz. 0,25m | G135: ks | H135: 2 | J135: =ROUND(I135*H135,2) -> 0 | N135: snížená | P135: =O135*H135 -> 0 | Q135: 0 | R135: =Q135*H135 -> 0 | S135: 0 | T135: =S135*H135 -> 0 | AR135: 4 | AT135: K | AU135: 2 | AY135: ROZPOCET | BE135: =IF(N135="základní",J135,0) -> 0 | BF135: =IF(N135="snížená",J135,0) -> 0 | BG135: =IF(N135="zákl. přenesená",J135,0) -> 0 | BH135: =IF(N135="sníž. přenesená",J135,0) -> 0 | BI135: =IF(N135="nulová",J135,0) -> 0 | BJ135: 2 | BK135: =ROUND(I135*H135,2) -> 0 | BL135: 4 | BM135: 84
C136: 43 | D136: K | E136: Pol86 | F136: Trubka DN60/110, 1m | G136: ks | H136: 4 | J136: =ROUND(I136*H136,2) -> 0 | N136: snížená | P136: =O136*H136 -> 0 | Q136: 0 | R136: =Q136*H136 -> 0 | S136: 0 | T136: =S136*H136 -> 0 | AR136: 4 | AT136: K | AU136: 2 | AY136: ROZPOCET | BE136: =IF(N136="základní",J136,0) -> 0 | BF136: =IF(N136="snížená",J136,0) -> 0 | BG136: =IF(N136="zákl. přenesená",J136,0) -> 0 | BH136: =IF(N136="sníž. přenesená",J136,0) -> 0 | BI136: =IF(N136="nulová",J136,0) -> 0 | BJ136: 2 | BK136: =ROUND(I136*H136,2) -> 0 | BL136: 4 | BM136: 86
...

Sheet 05 - NTL ROZVOD PLYNU
AT2: {f4aa16df-7e00-4744-8131-419283491cd4}
AT3: 1
D4: KRYCÍ LIST SOUPISU PRACÍ | M4: v --- níže se nacházejí doplnkové a pomocné údaje k sestavám --- v | AT4: False
D6: Stavba:
E7: ='Rekapitulace stavby'!K6 -> Rekonstrukce dvou bytových jednotek
D8: Objekt:
E9: 05 - NTL ROZVOD PLYNU
D11: KSO: | I11: CC-CZ:
D12: Místo: | F12: Dlouhá 126 | I12: Datum: | J12: ='Rekapitulace stavby'!AN8 -> 31. 7. 2026
D14: Zadavatel: | I14: IČ:
E15: Městys Lomnice | I15: DIČ:
D17: Účastník: | I17: IČ: | J17: ='Rekapitulace stavby'!AN13 -> Vyplň údaj
E18: ='Rekapitulace stavby'!E14 -> Vyplň údaj | I18: DIČ: | J18: ='Rekapitulace stavby'!AN14 -> Vyplň údaj
D20: Projektant: | I20: IČ: | J20: 17219787
E21: Proiectura Dana s.r.o. | I21: DIČ: | J21: CZ17219787
D23: Zpracovatel: | I23: IČ: | J23: 17219787
E24: Proiectura Dana s.r.o. | I24: DIČ: | J24: CZ17219787
D26: Poznámka:
E27: Soupis prací je sestaven s využitím Cenové soustavy ÚRS. Položky, které pochází z této cenové soustavy, jsou ve sloupci 'Cenová soustava' označeny popisem 'CS ÚRS' a úrovní příslušného kalendářního pololetí. Veškeré další informace vymezující popis a podmínky použití těchto položek z Cenové soustavy, které nejsou uvedeny přímo v soupisu prací, jsou neomezeně dálkově k dispozici na webu podminky.urs.cz.
D30: Cena bez DPH | J30: =ROUND(J83, 2) -> 0
F32: Základ daně | I32: Sazba daně | J32: Výše daně
D33: DPH | E33: základní | F33: =ROUND((SUM(BE83:BE101)), 2) -> 0 | I33: 0.21 | J33: =ROUND(((SUM(BE83:BE101))*I33), 2) -> 0
E34: snížená | F34: =ROUND((SUM(BF83:BF101)), 2) -> 0 | I34: 0.12 | J34: =ROUND(((SUM(BF83:BF101))*I34), 2) -> 0
E35: zákl. přenesená | F35: =ROUND((SUM(BG83:BG101)), 2) -> 0 | I35: 0.21 | J35: =0 -> 0
E36: sníž. přenesená | F36: =ROUND((SUM(BH83:BH101)), 2) -> 0 | I36: 0.12 | J36: =0 -> 0
E37: nulová | F37: =ROUND((SUM(BI83:BI101)), 2) -> 0 | I37: 0 | J37: =0 -> 0
D39: Cena s DPH | G39: v | H39: CZK | J39: =SUM(J30:J37) -> 0
C45: REKAPITULACE ČLENĚNÍ SOUPISU PRACÍ
C47: Stavba:
E48: =E7 -> Rekonstrukce dvou bytových jednotek
C49: Objekt:
E50: =E9 -> 05 - NTL ROZVOD PLYNU
C52: Místo: | F52: =F12 -> Dlouhá 126 | I52: Datum: | J52: =IF(J12="","",J12) -> 31. 7. 2026
C54: Zadavatel: | F54: =E15 -> Městys Lomnice | I54: Projektant: | J54: =E21 -> Proiectura Dana s.r.o.
C55: Účastník: | F55: =IF(E18="","",E18) -> Vyplň údaj | I55: Zpracovatel: | J55: =E24 -> Proiectura Dana s.r.o.
C57: Kód dílu - Popis | J57: Cena celkem [CZK]
C59: Náklady stavby celkem | J59: =J83 -> 0 | AU59: -1
D60: 100 - NTL domovní rozvod plynu | J60: =J84 -> 0
D61: 3 - Ochranná trubka - prostup stěnou | J61: =J88 -> 0
D62: 4 - Armatury | J62: =J90 -> 0
D63: D1 - Ostatní práce a přípomoce | J63: =J95 -> 0
C70: SOUPIS PRACÍ
C72: Stavba:
E73: =E7 -> Rekonstrukce dvou bytových jednotek
C74: Objekt:
E75: =E9 -> 05 - NTL ROZVOD PLYNU
C77: Místo: | F77: =F12 -> Dlouhá 126 | I77: Datum: | J77: =IF(J12="","",J12) -> 31. 7. 2026
C79: Zadavatel: | F79: =E15 -> Městys Lomnice | I79: Projektant: | J79: =E21 -> Proiectura Dana s.r.o.
C80: Účastník: | F80: =IF(E18="","",E18) -> Vyplň údaj | I80: Zpracovatel: | J80: =E24 -> Proiectura Dana s.r.o.
C82: PČ | D82: Typ | E82: Kód | F82: Popis | G82: MJ | H82: Množství | I82: J.cena [CZK] | J82: Cena celkem [CZK] | K82: Cenová soustava | N82: DPH | O82: J. Nh [h] | P82: Nh celkem [h] | Q82: J. hmotnost [t] | R82: Hmotnost celkem [t] | S82: J. suť [t] | T82: Suť Celkem [t]
C83: Náklady soupisu celkem | J83: =BK83 -> 0 | P83: =P84+P88+P90+P95 -> 0 | R83: =R84+R88+R90+R95 -> 0 | T83: =T84+T88+T90+T95 -> 0 | AT83: D | AU83: -1 | BK83: =BK84+BK88+BK90+BK95 -> 0
D84: D | E84: 100 | F84: NTL domovní rozvod plynu | J84: =BK84 -> 0 | P84: =SUM(P85:P87) -> 0 | R84: =SUM(R85:R87) -> 0 | T84: =SUM(T85:T87) -> 0 | AR84: 1 | AT84: D | AU84: 0 | AY84: ROZPOCET | BK84: =SUM(BK85:BK87) -> 0
C85: 1 | D85: K | E85: 1 | F85: Trubka OC DN20, včetně tvarovek a montáže | G85: bm | H85: 17 | J85: =ROUND(I85*H85,2) -> 0 | N85: snížená | P85: =O85*H85 -> 0 | Q85: 0 | R85: =Q85*H85 -> 0 | S85: 0 | T85: =S85*H85 -> 0 | AR85: 4 | AT85: K | AU85: 1 | AY85: ROZPOCET | BE85: =IF(N85="základní",J85,0) -> 0 | BF85: =IF(N85="snížená",J85,0) -> 0 | BG85: =IF(N85="zákl. přenesená",J85,0) -> 0 | BH85: =IF(N85="sníž. přenesená",J85,0) -> 0 | BI85: =IF(N85="nulová",J85,0) -> 0 | BJ85: 2 | BK85: =ROUND(I85*H85,2) -> 0 | BL85: 4 | BM85: 2
C86: 2 | D86: K | E86: Pol91 | F86: Trubka OC DN25, včetně tvarovek a montáže | G86: bm | H86: 27 | J86: =ROUND(I86*H86,2) -> 0 | N86: snížená | P86: =O86*H86 -> 0 | Q86: 0 | R86: =Q86*H86 -> 0 | S86: 0 | T86: =S86*H86 -> 0 | AR86: 4 | AT86: K | AU86: 1 | AY86: ROZPOCET | BE86: =IF(N86="základní",J86,0) -> 0 | BF86: =IF(N86="snížená",J86,0) -> 0 | BG86: =IF(N86="zákl. přenesená",J86,0) -> 0 | BH86: =IF(N86="sníž. přenesená",J86,0) -> 0 | BI86: =IF(N86="nulová",J86,0) -> 0 | BJ86: 2 | BK86: =ROUND(I86*H86,2) -> 0 | BL86: 4 | BM86: 4
C87: 3 | D87: K | E87: 2 | F87: Závěsný a montážní materiál | G87: kpl | H87: 1 | J87: =ROUND(I87*H87,2) -> 0 | N87: snížená | P87: =O87*H87 -> 0 | Q87: 0 | R87: =Q87*H87 -> 0 | S87: 0 | T87: =S87*H87 -> 0 | AR87: 4 | AT87: K | AU87: 1 | AY87: ROZPOCET | BE87: =IF(N87="základní",J87,0) -> 0 | BF87: =IF(N87="snížená",J87,0) -> 0 | BG87: =IF(N87="zákl. přenesená",J87,0) -> 0 | BH87: =IF(N87="sníž. přenesená",J87,0) -> 0 | BI87: =IF(N87="nulová",J87,0) -> 0 | BJ87: 2 | BK87: =ROUND(I87*H87,2) -> 0 | BL87: 4 | BM87: 6
D88: D | E88: 3 | F88: Ochranná trubka - prostup stěnou | J88: =BK88 -> 0 | P88: =P89 -> 0 | R88: =R89 -> 0 | T88: =T89 -> 0 | AR88: 1 | AT88: D | AU88: 0 | AY88: ROZPOCET | BK88: =BK89 -> 0
C89: 4 | D89: K | E89: Pol92 | F89: Potrubí ocelové ČSN 425715 - DN50 | G89: bm | H89: 4 | J89: =ROUND(I89*H89,2) -> 0 | N89: snížená | P89: =O89*H89 -> 0 | Q89: 0 | R89: =Q89*H89 -> 0 | S89: 0 | T89: =S89*H89 -> 0 | AR89: 4 | AT89: K | AU89: 1 | AY89: ROZPOCET | BE89: =IF(N89="základní",J89,0) -> 0 | BF89: =IF(N89="snížená",J89,0) -> 0 | BG89: =IF(N89="zákl. přenesená",J89,0) -> 0 | BH89: =IF(N89="sníž. přenesená",J89,0) -> 0 | BI89: =IF(N89="nulová",J89,0) -> 0 | BJ89: 2 | BK89: =ROUND(I89*H89,2) -> 0 | BL89: 4 | BM89: 8
D90: D | E90: 4 | F90: Armatury | J90: =BK90 -> 0 | P90: =SUM(P91:P94) -> 0 | R90: =SUM(R91:R94) -> 0 | T90: =SUM(T91:T94) -> 0 | AR90: 1 | AT90: D | AU90: 0 | AY90: ROZPOCET | BK90: =SUM(BK91:BK94) -> 0
C91: 5 | D91: K | E91: Pol93 | F91: Uzávěr na plynovodu KK-DN25 - za planoměrem | G91: ks | H91: 2 | J91: =ROUND(I91*H91,2) -> 0 | N91: snížená | P91: =O91*H91 -> 0 | Q91: 0 | R91: =Q91*H91 -> 0 | S91: 0 | T91: =S91*H91 -> 0 | AR91: 4 | AT91: K | AU91: 1 | AY91: ROZPOCET | BE91: =IF(N91="základní",J91,0) -> 0 | BF91: =IF(N91="snížená",J91,0) -> 0 | BG91: =IF(N91="zákl. přenesená",J91,0) -> 0 | BH91: =IF(N91="sníž. přenesená",J91,0) -> 0 | BI91: =IF(N91="nulová",J91,0) -> 0 | BJ91: 2 | BK91: =ROUND(I91*H91,2) -> 0 | BL91: 4 | BM91: 10
C92: 6 | D92: K | E92: Pol94 | F92: Uzávěr na plynovodu KK-DN20 - plynový kotel | G92: ks | H92: 2 | J92: =ROUND(I92*H92,2) -> 0 | N92: snížená | P92: =O92*H92 -> 0 | Q92: 0 | R92: =Q92*H92 -> 0 | S92: 0 | T92: =S92*H92 -> 0 | AR92: 4 | AT92: K | AU92: 1 | AY92: ROZPOCET | BE92: =IF(N92="základní",J92,0) -> 0 | BF92: =IF(N92="snížená",J92,0) -> 0 | BG92: =IF(N92="zákl. přenesená",J92,0) -> 0 | BH92: =IF(N92="sníž. přenesená",J92,0) -> 0 | BI92: =IF(N92="nulová",J92,0) -> 0 | BJ92: 2 | BK92: =ROUND(I92*H92,2) -> 0 | BL92: 4 | BM92: 12
C93: 7 | D93: K | E93: Pol95 | F93: Rozpěrka plynoměru | G93: ks | H93: 2 | J93: =ROUND(I93*H93,2) -> 0 | N93: snížená | P93: =O93*H93 -> 0 | Q93: 0 | R93: =Q93*H93 -> 0 | S93: 0 | T93: =S93*H93 -> 0 | AR93: 4 | AT93: K | AU93: 1 | AY93: ROZPOCET | BE93: =IF(N93="základní",J93,0) -> 0 | BF93: =IF(N93="snížená",J93,0) -> 0 | BG93: =IF(N93="zákl. přenesená",J93,0) -> 0 | BH93: =IF(N93="sníž. přenesená",J93,0) -> 0 | BI93: =IF(N93="nulová",J93,0) -> 0 | BJ93: 2 | BK93: =ROUND(I93*H93,2) -> 0 | BL93: 4 | BM93: 14
C94: 8 | D94: K | E94: Pol96 | F94: Napojení na stávající plynoměr | G94: ks | H94: 2 | J94: =ROUND(I94*H94,2) -> 0 | N94: snížená | P94: =O94*H94 -> 0 | Q94: 0 | R94: =Q94*H94 -> 0 | S94: 0 | T94: =S94*H94 -> 0 | AR94: 4 | AT94: K | AU94: 1 | AY94: ROZPOCET | BE94: =IF(N94="základní",J94,0) -> 0 | BF94: =IF(N94="snížená",J94,0) -> 0 | BG94: =IF(N94="zákl. přenesená",J94,0) -> 0 | BH94: =IF(N94="sníž. přenesená",J94,0) -> 0 | BI94: =IF(N94="nulová",J94,0) -> 0 | BJ94: 2 | BK94: =ROUND(I94*H94,2) -> 0 | BL94: 4 | BM94: 16
D95: D | E95: D1 | F95: Ostatní práce a přípomoce | J95: =BK95 -> 0 | P95: =SUM(P96:P101) -> 0 | R95: =SUM(R96:R101) -> 0 | T95: =SUM(T96:T101) -> 0 | AR95: 1 | AT95: D | AU95: 0 | AY95: ROZPOCET | BK95: =SUM(BK96:BK101) -> 0
C96: 9 | D96: K | E96: Pol97 | F96: Nátěr potrubí do DN50, barva syntetická základní antikorozní | G96: bm | H96: 44 | J96: =ROUND(I96*H96,2) -> 0 | N96: snížená | P96: =O96*H96 -> 0 | Q96: 0 | R96: =Q96*H96 -> 0 | S96: 0 | T96: =S96*H96 -> 0 | AR96: 4 | AT96: K | AU96: 1 | AY96: ROZPOCET | BE96: =IF(N96="základní",J96,0) -> 0 | BF96: =IF(N96="snížená",J96,0) -> 0 | BG96: =IF(N96="zákl. přenesená",J96,0) -> 0 | BH96: =IF(N96="sníž. přenesená",J96,0) -> 0 | BI96: =IF(N96="nulová",J96,0) -> 0 | BJ96: 2 | BK96: =ROUND(I96*H96,2) -> 0 | BL96: 4 | BM96: 18
C97: 10 | D97: K | E97: Pol98 | F97: Nátěr potrubí do DN50, barva syntetická konečná antikorozní - odstín žlutá | G97: bm | H97: 44 | J97: =ROUND(I97*H97,2) -> 0 | N97: snížená | P97: =O97*H97 -> 0 | Q97: 0 | R97: =Q97*H97 -> 0 | S97: 0 | T97: =S97*H97 -> 0 | AR97: 4 | AT97: K | AU97: 1 | AY97: ROZPOCET | BE97: =IF(N97="základní",J97,0) -> 0 | BF97: =IF(N97="snížená",J97,0) -> 0 | BG97: =IF(N97="zákl. přenesená",J97,0) -> 0 | BH97: =IF(N97="sníž. přenesená",J97,0) -> 0 | BI97: =IF(N97="nulová",J97,0) -> 0 | BJ97: 2 | BK97: =ROUND(I97*H97,2) -> 0 | BL97: 4 | BM97: 20
C98: 11 | D98: K | E98: Pol99 | F98: Kotvení | G98: ks | H98: 1 | J98: =ROUND(I98*H98,2) -> 0 | N98: snížená | P98: =O98*H98 -> 0 | Q98: 0 | R98: =Q98*H98 -> 0 | S98: 0 | T98: =S98*H98 -> 0 | AR98: 4 | AT98: K | AU98: 1 | AY98: ROZPOCET | BE98: =IF(N98="základní",J98,0) -> 0 | BF98: =IF(N98="snížená",J98,0) -> 0 | BG98: =IF(N98="zákl. přenesená",J98,0) -> 0 | BH98: =IF(N98="sníž. přenesená",J98,0) -> 0 | BI98: =IF(N98="nulová",J98,0) -> 0 | BJ98: 2 | BK98: =ROUND(I98*H98,2) -> 0 | BL98: 4 | BM98: 22
C99: 12 | D99: K | E99: Pol100 | F99: Kolena, příruby, těsnění, pomocný a spojovací materiá | G99: ks | H99: 1 | J99: =ROUND(I99*H99,2) -> 0 | N99: snížená | P99: =O99*H99 -> 0 | Q99: 0 | R99: =Q99*H99 -> 0 | S99: 0 | T99: =S99*H99 -> 0 | AR99: 4 | AT99: K | AU99: 1 | AY99: ROZPOCET | BE99: =IF(N99="základní",J99,0) -> 0 | BF99: =IF(N99="snížená",J99,0) -> 0 | BG99: =IF(N99="zákl. přenesená",J99,0) -> 0 | BH99: =IF(N99="sníž. přenesená",J99,0) -> 0 | BI99: =IF(N99="nulová",J99,0) -> 0 | BJ99: 2 | BK99: =ROUND(I99*H99,2) -> 0 | BL99: 4 | BM99: 24
C100: 13 | D100: K | E100: Pol101 | F100: Stavební přípomoc (prostupy, drážky, výklenky, požární ucpávky při prostupu požárně dělící konstrukcí) | G100: kpl | H100: 1 | J100: =ROUND(I100*H100,2) -> 0 | N100: snížená | P100: =O100*H100 -> 0 | Q100: 0 | R100: =Q100*H100 -> 0 | S100: 0 | T100: =S100*H100 -> 0 | AR100: 4 | AT100: K | AU100: 1 | AY100: ROZPOCET | BE100: =IF(N100="základní",J100,0) -> 0 | BF100: =IF(N100="snížená",J100,0) -> 0 | BG100: =IF(N100="zákl. přenesená",J100,0) -> 0 | BH100: =IF(N100="sníž. přenesená",J100,0) -> 0 | BI100: =IF(N100="nulová",J100,0) -> 0 | BJ100: 2 | BK100: =ROUND(I100*H100,2) -> 0 | BL100: 4 | BM100: 26
C101: 14 | D101: K | E101: Pol102 | F101: Tlaková zkouška a revize plynového potrubí | G101: ks | H101: 1 | J101: =ROUND(I101*H101,2) -> 0 | N101: snížená | P101: =O101*H101 -> 0 | Q101: 0 | R101: =Q101*H101 -> 0 | S101: 0 | T101: =S101*H101 -> 0 | AR101: 4 | AT101: K | AU101: 1 | AY101: ROZPOCET | BE101: =IF(N101="základní",J101,0) -> 0 | BF101: =IF(N101="snížená",J101,0) -> 0 | BG101: =IF(N101="zákl. přenesená",J101,0) -> 0 | BH101: =IF(N101="sníž. přenesená",J101,0) -> 0 | BI101: =IF(N101="nulová",J101,0) -> 0 | BJ101: 2 | BK101: =ROUND(I101*H101,2) -> 0 | BL101: 4 | BM101: 28

Sheet 06 - EL
AT2: {955a54f4-1e7f-460b-ad75-1f6e3b662d50}
AT3: 1
D4: KRYCÍ LIST SOUPISU PRACÍ | M4: v --- níže se nacházejí doplnkové a pomocné údaje k sestavám --- v | AT4: False
D6: Stavba:
E7: ='Rekapitulace stavby'!K6 -> Rekonstrukce dvou bytových jednotek
D8: Objekt:
E9: 06 - EL
D11: KSO: | I11: CC-CZ:
D12: Místo: | F12: Dlouhá 126 | I12: Datum: | J12: ='Rekapitulace stavby'!AN8 -> 31. 7. 2026
D14: Zadavatel: | I14: IČ:
E15: Městys Lomnice | I15: DIČ:
D17: Účastník: | I17: IČ: | J17: ='Rekapitulace stavby'!AN13 -> Vyplň údaj
E18: ='Rekapitulace stavby'!E14 -> Vyplň údaj | I18: DIČ: | J18: ='Rekapitulace stavby'!AN14 -> Vyplň údaj
D20: Projektant: | I20: IČ: | J20: 17219787
E21: Proiectura Dana s.r.o. | I21: DIČ: | J21: CZ17219787
D23: Zpracovatel: | I23: IČ: | J23: 17219787
E24: Proiectura Dana s.r.o. | I24: DIČ: | J24: CZ17219787
D26: Poznámka:
E27: Soupis prací je sestaven s využitím Cenové soustavy ÚRS. Položky, které pochází z této cenové soustavy, jsou ve sloupci 'Cenová soustava' označeny popisem 'CS ÚRS' a úrovní příslušného kalendářního pololetí. Veškeré další informace vymezující popis a podmínky použití těchto položek z Cenové soustavy, které nejsou uvedeny přímo v soupisu prací, jsou neomezeně dálkově k dispozici na webu podminky.urs.cz.
D30: Cena bez DPH | J30: =ROUND(J84, 2) -> 0
F32: Základ daně | I32: Sazba daně | J32: Výše daně
D33: DPH | E33: základní | F33: =ROUND((SUM(BE84:BE181)), 2) -> 0 | I33: 0.21 | J33: =ROUND(((SUM(BE84:BE181))*I33), 2) -> 0
E34: snížená | F34: =ROUND((SUM(BF84:BF181)), 2) -> 0 | I34: 0.12 | J34: =ROUND(((SUM(BF84:BF181))*I34), 2) -> 0
E35: zákl. přenesená | F35: =ROUND((SUM(BG84:BG181)), 2) -> 0 | I35: 0.21 | J35: =0 -> 0
E36: sníž. přenesená | F36: =ROUND((SUM(BH84:BH181)), 2) -> 0 | I36: 0.12 | J36: =0 -> 0
E37: nulová | F37: =ROUND((SUM(BI84:BI181)), 2) -> 0 | I37: 0 | J37: =0 -> 0
D39: Cena s DPH | G39: v | H39: CZK | J39: =SUM(J30:J37) -> 0
C45: REKAPITULACE ČLENĚNÍ SOUPISU PRACÍ
C47: Stavba:
E48: =E7 -> Rekonstrukce dvou bytových jednotek
C49: Objekt:
E50: =E9 -> 06 - EL
C52: Místo: | F52: =F12 -> Dlouhá 126 | I52: Datum: | J52: =IF(J12="","",J12) -> 31. 7. 2026
C54: Zadavatel: | F54: =E15 -> Městys Lomnice | I54: Projektant: | J54: =E21 -> Proiectura Dana s.r.o.
C55: Účastník: | F55: =IF(E18="","",E18) -> Vyplň údaj | I55: Zpracovatel: | J55: =E24 -> Proiectura Dana s.r.o.
C57: Kód dílu - Popis | J57: Cena celkem [CZK]
C59: Náklady stavby celkem | J59: =J84 -> 0 | AU59: -1
D60: D1 - Dodávky zařízení | J60: =J85 -> 0
D61: D2 - Materiál elektromontážní | J61: =J90 -> 0
D62: D3 - Elektromontáže | J62: =J130 -> 0
D63: D4 - Ostatní náklady | J63: =J176 -> 0
D64: D5 - Revize | J64: =J180 -> 0
C71: SOUPIS PRACÍ
C73: Stavba:
E74: =E7 -> Rekonstrukce dvou bytových jednotek
C75: Objekt:
E76: =E9 -> 06 - EL
C78: Místo: | F78: =F12 -> Dlouhá 126 | I78: Datum: | J78: =IF(J12="","",J12) -> 31. 7. 2026
C80: Zadavatel: | F80: =E15 -> Městys Lomnice | I80: Projektant: | J80: =E21 -> Proiectura Dana s.r.o.
C81: Účastník: | F81: =IF(E18="","",E18) -> Vyplň údaj | I81: Zpracovatel: | J81: =E24 -> Proiectura Dana s.r.o.
C83: PČ | D83: Typ | E83: Kód | F83: Popis | G83: MJ | H83: Množství | I83: J.cena [CZK] | J83: Cena celkem [CZK] | K83: Cenová soustava | N83: DPH | O83: J. Nh [h] | P83: Nh celkem [h] | Q83: J. hmotnost [t] | R83: Hmotnost celkem [t] | S83: J. suť [t] | T83: Suť Celkem [t]
C84: Náklady soupisu celkem | J84: =BK84 -> 0 | P84: =P85+P90+P130+P176+P180 -> 0 | R84: =R85+R90+R130+R176+R180 -> 0 | T84: =T85+T90+T130+T176+T180 -> 0 | AT84: D | AU84: -1 | BK84: =BK85+BK90+BK130+BK176+BK180 -> 0
D85: D | E85: D1 | F85: Dodávky zařízení | J85: =BK85 -> 0 | P85: =SUM(P86:P89) -> 0 | R85: =SUM(R86:R89) -> 0 | T85: =SUM(T86:T89) -> 0 | AR85: 1 | AT85: D | AU85: 0 | AY85: ROZPOCET | BK85: =SUM(BK86:BK89) -> 0
C86: 1 | D86: K | E86: Pol103 | F86: ventilátor d300 IP44 axiální | G86: ks | H86: 4 | J86: =ROUND(I86*H86,2) -> 0 | N86: snížená | P86: =O86*H86 -> 0 | Q86: 0 | R86: =Q86*H86 -> 0 | S86: 0 | T86: =S86*H86 -> 0 | AR86: 4 | AT86: K | AU86: 1 | AY86: ROZPOCET | BE86: =IF(N86="základní",J86,0) -> 0 | BF86: =IF(N86="snížená",J86,0) -> 0 | BG86: =IF(N86="zákl. přenesená",J86,0) -> 0 | BH86: =IF(N86="sníž. přenesená",J86,0) -> 0 | BI86: =IF(N86="nulová",J86,0) -> 0 | BJ86: 2 | BK86: =ROUND(I86*H86,2) -> 0 | BL86: 4 | BM86: 2
C87: 2 | D87: K | E87: Pol104 | F87: vest LED svítidlo 3000K kryt PMMA pr190mm 350mA | G87: ks | H87: 6 | J87: =ROUND(I87*H87,2) -> 0 | N87: snížená | P87: =O87*H87 -> 0 | Q87: 0 | R87: =Q87*H87 -> 0 | S87: 0 | T87: =S87*H87 -> 0 | AR87: 4 | AT87: K | AU87: 1 | AY87: ROZPOCET | BE87: =IF(N87="základní",J87,0) -> 0 | BF87: =IF(N87="snížená",J87,0) -> 0 | BG87: =IF(N87="zákl. přenesená",J87,0) -> 0 | BH87: =IF(N87="sníž. přenesená",J87,0) -> 0 | BI87: =IF(N87="nulová",J87,0) -> 0 | BJ87: 2 | BK87: =ROUND(I87*H87,2) -> 0 | BL87: 4 | BM87: 4
C88: 3 | D88: K | E88: Pol105 | F88: rozvaděč RB2.1 s výzbrojí a vydrátováním dle PD s uložením pod omítku | G88: ks | H88: 1 | J88: =ROUND(I88*H88,2) -> 0 | N88: snížená | P88: =O88*H88 -> 0 | Q88: 0 | R88: =Q88*H88 -> 0 | S88: 0 | T88: =S88*H88 -> 0 | AR88: 4 | AT88: K | AU88: 1 | AY88: ROZPOCET | BE88: =IF(N88="základní",J88,0) -> 0 | BF88: =IF(N88="snížená",J88,0) -> 0 | BG88: =IF(N88="zákl. přenesená",J88,0) -> 0 | BH88: =IF(N88="sníž. přenesená",J88,0) -> 0 | BI88: =IF(N88="nulová",J88,0) -> 0 | BJ88: 2 | BK88: =ROUND(I88*H88,2) -> 0 | BL88: 4 | BM88: 6
C89: 4 | D89: K | E89: Pol106 | F89: rozvaděč RB2.2 s výzbrojí a vydrátováním dle PD s uložením pod omítku | G89: ks | H89: 1 | J89: =ROUND(I89*H89,2) -> 0 | N89: snížená | P89: =O89*H89 -> 0 | Q89: 0 | R89: =Q89*H89 -> 0 | S89: 0 | T89: =S89*H89 -> 0 | AR89: 4 | AT89: K | AU89: 1 | AY89: ROZPOCET | BE89: =IF(N89="základní",J89,0) -> 0 | BF89: =IF(N89="snížená",J89,0) -> 0 | BG89: =IF(N89="zákl. přenesená",J89,0) -> 0 | BH89: =IF(N89="sníž. přenesená",J89,0) -> 0 | BI89: =IF(N89="nulová",J89,0) -> 0 | BJ89: 2 | BK89: =ROUND(I89*H89,2) -> 0 | BL89: 4 | BM89: 8
D90: D | E90: D2 | F90: Materiál elektromontážní | J90: =BK90 -> 0 | P90: =SUM(P91:P129) -> 0 | R90: =SUM(R91:R129) -> 0 | T90: =SUM(T91:T129) -> 0 | AR90: 1 | AT90: D | AU90: 0 | AY90: ROZPOCET | BK90: =SUM(BK91:BK129) -> 0
C91: 5 | D91: K | E91: Pol107 | F91: vodič CY 6 /H07V-U/ | G91: m | H91: 80 | J91: =ROUND(I91*H91,2) -> 0 | N91: snížená | P91: =O91*H91 -> 0 | Q91: 0 | R91: =Q91*H91 -> 0 | S91: 0 | T91: =S91*H91 -> 0 | AR91: 4 | AT91: K | AU91: 1 | AY91: ROZPOCET | BE91: =IF(N91="základní",J91,0) -> 0 | BF91: =IF(N91="snížená",J91,0) -> 0 | BG91: =IF(N91="zákl. přenesená",J91,0) -> 0 | BH91: =IF(N91="sníž. přenesená",J91,0) -> 0 | BI91: =IF(N91="nulová",J91,0) -> 0 | BJ91: 2 | BK91: =ROUND(I91*H91,2) -> 0 | BL91: 4 | BM91: 10
C92: 6 | D92: K | E92: Pol108 | F92: kabel CYKY 3x1,5 | G92: m | H92: 200 | J92: =ROUND(I92*H92,2) -> 0 | N92: snížená | P92: =O92*H92 -> 0 | Q92: 0 | R92: =Q92*H92 -> 0 | S92: 0 | T92: =S92*H92 -> 0 | AR92: 4 | AT92: K | AU92: 1 | AY92: ROZPOCET | BE92: =IF(N92="základní",J92,0) -> 0 | BF92: =IF(N92="snížená",J92,0) -> 0 | BG92: =IF(N92="zákl. přenesená",J92,0) -> 0 | BH92: =IF(N92="sníž. přenesená",J92,0) -> 0 | BI92: =IF(N92="nulová",J92,0) -> 0 | BJ92: 2 | BK92: =ROUND(I92*H92,2) -> 0 | BL92: 4 | BM92: 12
C93: 7 | D93: K | E93: Pol108 | F93: kabel CYKY 3x1,5 | G93: m | H93: 60 | J93: =ROUND(I93*H93,2) -> 0 | N93: snížená | P93: =O93*H93 -> 0 | Q93: 0 | R93: =Q93*H93 -> 0 | S93: 0 | T93: =S93*H93 -> 0 | AR93: 4 | AT93: K | AU93: 1 | AY93: ROZPOCET | BE93: =IF(N93="základní",J93,0) -> 0 | BF93: =IF(N93="snížená",J93,0) -> 0 | BG93: =IF(N93="zákl. přenesená",J93,0) -> 0 | BH93: =IF(N93="sníž. přenesená",J93,0) -> 0 | BI93: =IF(N93="nulová",J93,0) -> 0 | BJ93: 2 | BK93: =ROUND(I93*H93,2) -> 0 | BL93: 4 | BM93: 14
C94: 8 | D94: K | E94: Pol109 | F94: kabel CYKY 3x2,5 | G94: m | H94: 260 | J94: =ROUND(I94*H94,2) -> 0 | N94: snížená | P94: =O94*H94 -> 0 | Q94: 0 | R94: =Q94*H94 -> 0 | S94: 0 | T94: =S94*H94 -> 0 | AR94: 4 | AT94: K | AU94: 1 | AY94: ROZPOCET | BE94: =IF(N94="základní",J94,0) -> 0 | BF94: =IF(N94="snížená",J94,0) -> 0 | BG94: =IF(N94="zákl. přenesená",J94,0) -> 0 | BH94: =IF(N94="sníž. přenesená",J94,0) -> 0 | BI94: =IF(N94="nulová",J94,0) -> 0 | BJ94: 2 | BK94: =ROUND(I94*H94,2) -> 0 | BL94: 4 | BM94: 16
C95: 9 | D95: K | E95: Pol109 | F95: kabel CYKY 3x2,5 | G95: m | H95: 80 | J95: =ROUND(I95*H95,2) -> 0 | N95: snížená | P95: =O95*H95 -> 0 | Q95: 0 | R95: =Q95*H95 -> 0 | S95: 0 | T95: =S95*H95 -> 0 | AR95: 4 | AT95: K | AU95: 1 | AY95: ROZPOCET | BE95: =IF(N95="základní",J95,0) -> 0 | BF95: =IF(N95="snížená",J95,0) -> 0 | BG95: =IF(N95="zákl. přenesená",J95,0) -> 0 | BH95: =IF(N95="sníž. přenesená",J95,0) -> 0 | BI95: =IF(N95="nulová",J95,0) -> 0 | BJ95: 2 | BK95: =ROUND(I95*H95,2) -> 0 | BL95: 4 | BM95: 18
C96: 10 | D96: K | E96: Pol110 | F96: kabel CYKY 5x1,5 | G96: m | H96: 40 | J96: =ROUND(I96*H96,2) -> 0 | N96: snížená | P96: =O96*H96 -> 0 | Q96: 0 | R96: =Q96*H96 -> 0 | S96: 0 | T96: =S96*H96 -> 0 | AR96: 4 | AT96: K | AU96: 1 | AY96: ROZPOCET | BE96: =IF(N96="základní",J96,0) -> 0 | BF96: =IF(N96="snížená",J96,0) -> 0 | BG96: =IF(N96="zákl. přenesená",J96,0) -> 0 | BH96: =IF(N96="sníž. přenesená",J96,0) -> 0 | BI96: =IF(N96="nulová",J96,0) -> 0 | BJ96: 2 | BK96: =ROUND(I96*H96,2) -> 0 | BL96: 4 | BM96: 20
C97: 11 | D97: K | E97: Pol110 | F97: kabel CYKY 5x1,5 | G97: m | H97: 20 | J97: =ROUND(I97*H97,2) -> 0 | N97: snížená | P97: =O97*H97 -> 0 | Q97: 0 | R97: =Q97*H97 -> 0 | S97: 0 | T97: =S97*H97 -> 0 | AR97: 4 | AT97: K | AU97: 1 | AY97: ROZPOCET | BE97: =IF(N97="základní",J97,0) -> 0 | BF97: =IF(N97="snížená",J97,0) -> 0 | BG97: =IF(N97="zákl. přenesená",J97,0) -> 0 | BH97: =IF(N97="sníž. přenesená",J97,0) -> 0 | BI97: =IF(N97="nulová",J97,0) -> 0 | BJ97: 2 | BK97: =ROUND(I97*H97,2) -> 0 | BL97: 4 | BM97: 22
C98: 12 | D98: K | E98: Pol111 | F98: kabel CYKY 5x2,5 | G98: m | H98: 30 | J98: =ROUND(I98*H98,2) -> 0 | N98: snížená | P98: =O98*H98 -> 0 | Q98: 0 | R98: =Q98*H98 -> 0 | S98: 0 | T98: =S98*H98 -> 0 | AR98: 4 | AT98: K | AU98: 1 | AY98: ROZPOCET | BE98: =IF(N98="základní",J98,0) -> 0 | BF98: =IF(N98="snížená",J98,0) -> 0 | BG98: =IF(N98="zákl. přenesená",J98,0) -> 0 | BH98: =IF(N98="sníž. přenesená",J98,0) -> 0 | BI98: =IF(N98="nulová",J98,0) -> 0 | BJ98: 2 | BK98: =ROUND(I98*H98,2) -> 0 | BL98: 4 | BM98: 24
C99: 13 | D99: K | E99: Pol111 | F99: kabel CYKY 5x2,5 | G99: m | H99: 20 | J99: =ROUND(I99*H99,2) -> 0 | N99: snížená | P99: =O99*H99 -> 0 | Q99: 0 | R99: =Q99*H99 -> 0 | S99: 0 | T99: =S99*H99 -> 0 | AR99: 4 | AT99: K | AU99: 1 | AY99: ROZPOCET | BE99: =IF(N99="základní",J99,0) -> 0 | BF99: =IF(N99="snížená",J99,0) -> 0 | BG99: =IF(N99="zákl. přenesená",J99,0) -> 0 | BH99: =IF(N99="sníž. přenesená",J99,0) -> 0 | BI99: =IF(N99="nulová",J99,0) -> 0 | BJ99: 2 | BK99: =ROUND(I99*H99,2) -> 0 | BL99: 4 | BM99: 26
C100: 14 | D100: K | E100: Pol110 | F100: kabel CYKY 5x1,5 | G100: m | H100: 35 | J100: =ROUND(I100*H100,2) -> 0 | N100: snížená | P100: =O100*H100 -> 0 | Q100: 0 | R100: =Q100*H100 -> 0 | S100: 0 | T100: =S100*H100 -> 0 | AR100: 4 | AT100: K | AU100: 1 | AY100: ROZPOCET | BE100: =IF(N100="základní",J100,0) -> 0 | BF100: =IF(N100="snížená",J100,0) -> 0 | BG100: =IF(N100="zákl. přenesená",J100,0) -> 0 | BH100: =IF(N100="sníž. přenesená",J100,0) -> 0 | BI100: =IF(N100="nulová",J100,0) -> 0 | BJ100: 2 | BK100: =ROUND(I100*H100,2) -> 0 | BL100: 4 | BM100: 28
C101: 15 | D101: K | E101: Pol112 | F101: kabel CYKY 5x6 | G101: m | H101: 35 | J101: =ROUND(I101*H101,2) -> 0 | N101: snížená | P101: =O101*H101 -> 0 | Q101: 0 | R101: =Q101*H101 -> 0 | S101: 0 | T101: =S101*H101 -> 0 | AR101: 4 | AT101: K | AU101: 1 | AY101: ROZPOCET | BE101: =IF(N101="základní",J101,0) -> 0 | BF101: =IF(N101="snížená",J101,0) -> 0 | BG101: =IF(N101="zákl. přenesená",J101,0) -> 0 | BH101: =IF(N101="sníž. přenesená",J101,0) -> 0 | BI101: =IF(N101="nulová",J101,0) -> 0 | BJ101: 2 | BK101: =ROUND(I101*H101,2) -> 0 | BL101: 4 | BM101: 30
C102: 16 | D102: K | E102: Pol112 | F102: kabel CYKY 5x6 | G102: m | H102: 15 | J102: =ROUND(I102*H102,2) -> 0 | N102: snížená | P102: =O102*H102 -> 0 | Q102: 0 | R102: =Q102*H102 -> 0 | S102: 0 | T102: =S102*H102 -> 0 | AR102: 4 | AT102: K | AU102: 1 | AY102: ROZPOCET | BE102: =IF(N102="základní",J102,0) -> 0 | BF102: =IF(N102="snížená",J102,0) -> 0 | BG102: =IF(N102="zákl. přenesená",J102,0) -> 0 | BH102: =IF(N102="sníž. přenesená",J102,0) -> 0 | BI102: =IF(N102="nulová",J102,0) -> 0 | BJ102: 2 | BK102: =ROUND(I102*H102,2) -> 0 | BL102: 4 | BM102: 32
... C128: 42 | D128: K | E128: Pol137 | F128: jistič LTE-25B-3 3pól/ch.B/ 25A/6kA | G128: ks | H128: 2 | J128: =ROUND(I128*H128,2) -> 0 | N128: snížená | P128: =O128*H128 -> 0 | Q128: 0 | R128: =Q128*H128 -> 0 | S128: 0 | T128: =S128*H128 -> 0 | AR128: 4 | AT128: K | AU128: 1 | AY128: ROZPOCET | BE128: =IF(N128="základní",J128,0) -> 0 | BF128: =IF(N128="snížená",J128,0) -> 0 | BG128: =IF(N128="zákl. přenesená",J128,0) -> 0 | BH128: =IF(N128="sníž. přenesená",J128,0) -> 0 | BI128: =IF(N128="nulová",J128,0) -> 0 | BJ128: 2 | BK128: =ROUND(I128*H128,2) -> 0 | BL128: 4 | BM128: 84
C129: 43 | D129: K | E129: Pol138 | F129: dobný montážní materiál jinde neuvedený | G129: % | J129: =ROUND(I129*H129,2) -> 0 | N129: snížená | P129: =O129*H129 -> 0 | Q129: 0 | R129: =Q129*H129 -> 0 | S129: 0 | T129: =S129*H129 -> 0 | AR129: 4 | AT129: K | AU129: 1 | AY129: ROZPOCET | BE129: =IF(N129="základní",J129,0) -> 0 | BF129: =IF(N129="snížená",J129,0) -> 0 | BG129: =IF(N129="zákl. přenesená",J129,0) -> 0 | BH129: =IF(N129="sníž. přenesená",J129,0) -> 0 | BI129: =IF(N129="nulová",J129,0) -> 0 | BJ129: 2 | BK129: =ROUND(I129*H129,2) -> 0 | BL129: 4 | BM129: 86
D130: D | E130: D3 | F130: Elektromontáže | J130: =BK130 -> 0 | P130: =SUM(P131:P175) -> 0 | R130: =SUM(R131:R175) -> 0 | T130: =SUM(T131:T175) -> 0 | AR130: 1 | AT130: D | AU130: 0 | AY130: ROZPOCET | BK130: =SUM(BK131:BK175) -> 0
C131: 44 | D131: K | E131: Pol139 | F131: vodič Cu(-CY,CYA) pevně uložený do 1x35 | G131: m | H131: 80 | J131: =ROUND(I131*H131,2) -> 0 | N131: snížená | P131: =O131*H131 -> 0 | Q131: 0 | R131: =Q131*H131 -> 0 | S131: 0 | T131: =S131*H131 -> 0 | AR131: 4 | AT131: K | AU131: 1 | AY131: ROZPOCET | BE131: =IF(N131="základní",J131,0) -> 0 | BF131: =IF(N131="snížená",J131,0) -> 0 | BG131: =IF(N131="zákl. přenesená",J131,0) -> 0 | BH131: =IF(N131="sníž. přenesená",J131,0) -> 0 | BI131: =IF(N131="nulová",J131,0) -> 0 | BJ131: 2 | BK131: =ROUND(I131*H131,2) -> 0 | BL131: 4 | BM131: 88
C132: 45 | D132: K | E132: Pol140 | F132: kabel(-CYKY) volně uložený do 3x6/4x4/7x2,5 | G132: m | H132: 200 | J132: =ROUND(I132*H132,2) -> 0 | N132: snížená | P132: =O132*H132 -> 0 | Q132: 0 | R132: =Q132*H132 -> 0 | S132: 0 | T132: =S132*H132 -> 0 | AR132: 4 | AT132: K | AU132: 1 | AY132: ROZPOCET | BE132: =IF(N132="základní",J132,0) -> 0 | BF132: =IF(N132="snížená",J132,0) -> 0 | BG132: =IF(N132="zákl. přenesená",J132,0) -> 0 | BH132: =IF(N132="sníž. přenesená",J132,0) -> 0 | BI132: =IF(N132="nulová",J132,0) -> 0 | BJ132: 2 | BK132: =ROUND(I132*H132,2) -> 0 | BL132: 4 | BM132: 90
C133: 46 | D133: K | E133: Pol141 | F133: kabel Cu(-CYKY) pod omítkou do 2x4/3x2,5/5x1,5 | G133: m | H133: 60 | J133: =ROUND(I133*H133,2) -> 0 | N133: snížená | P133: =O133*H133 -> 0 | Q133: 0 | R133: =Q133*H133 -> 0 | S133: 0 | T133: =S133*H133 -> 0 | AR133: 4 | AT133: K | AU133: 1 | AY133: ROZPOCET | BE133: =IF(N133="základní",J133,0) -> 0 | BF133: =IF(N133="snížená",J133,0) -> 0 | BG133: =IF(N133="zákl. přenesená",J133,0) -> 0 | BH133: =IF(N133="sníž. přenesená",J133,0) -> 0 | BI133: =IF(N133="nulová",J133,0) -> 0 | BJ133: 2 | BK133: =ROUND(I133*H133,2) -> 0 | BL133: 4 | BM133: 92
C134: 47 | D134: K | E134: Pol142 | F134: kabel(-CYKY) volně uložený do 3x6/4x4/7x2,5 | G134: m | H134: 260 | J134: =ROUND(I134*H134,2) -> 0 | N134: snížená | P134: =O134*H134 -> 0 | Q134: 0 | R134: =Q134*H134 -> 0 | S134: 0 | T134: =S134*H134 -> 0 | AR134: 4 | AT134: K | AU134: 1 | AY134: ROZPOCET | BE134: =IF(N134="základní",J134,0) -> 0 | BF134: =IF(N134="snížená",J134,0) -> 0 | BG134: =IF(N134="zákl. přenesená",J134,0) -> 0 | BH134: =IF(N134="sníž. přenesená",J134,0) -> 0 | BI134: =IF(N134="nulová",J134,0) -> 0 | BJ134: 2 | BK134: =ROUND(I134*H134,2) -> 0 | BL134: 4 | BM134: 94
C135: 48 | D135: K | E135: Pol143 | F135: kabel Cu(-CYKY) pod omítkou do 2x4/3x2,5/5x1,5 | G135: m | H135: 80 | J135: =ROUND(I135*H135,2) -> 0 | N135: snížená | P135: =O135*H135 -> 0 | Q135: 0 | R135: =Q135*H135 -> 0 | S135: 0 | T135: =S135*H135 -> 0 | AR135: 4 | AT135: K | AU135: 1 | AY135: ROZPOCET | BE135: =IF(N135="základní",J135,0) -> 0 | BF135: =IF(N135="snížená",J135,0) -> 0 | BG135: =IF(N135="zákl. přenesená",J135,0) -> 0 | BH135: =IF(N135="sníž. přenesená",J135,0) -> 0 | BI135: =IF(N135="nulová",J135,0) -> 0 | BJ135: 2 | BK135: =ROUND(I135*H135,2) -> 0 | BL135: 4 | BM135: 96
C136: 49 | D136: K | E136: Pol144 | F136: kabel Cu(-CYKY) pod omítkou do 2x4/3x2,5/5x1,5 | G136: m | H136: 40 | J136: =ROUND(I136*H136,2) -> 0 | N136: snížená | P136: =O136*H136 -> 0 | Q136: 0 | R136: =Q136*H136 -> 0 | S136: 0 | T136: =S136*H136 -> 0 | AR136: 4 | AT136: K | AU136: 1 | AY136: ROZPOCET | BE136: =IF(N136="základní",J136,0) -> 0 | BF136: =IF(N136="snížená",J136,0) -> 0 | BG136: =IF(N136="zákl. přenesená",J136,0) -> 0 | BH136: =IF(N136="sníž. přenesená",J136,0) -> 0 | BI136: =IF(N136="nulová",J136,0) -> 0 | BJ136: 2 | BK136: =ROUND(I136*H136,2) -> 0 | BL136: 4 | BM136: 98
C137: 50 | D137: K | E137: Pol145 | F137: kabel(-CYKY) volně uložený do 3x6/4x4/7x2,5 | G137: m | H137: 20 | J137: =ROUND(I137*H137,2) -> 0 | N137: snížená | P137: =O137*H137 -> 0 | Q137: 0 | R137: =Q137*H137 -> 0 | S137: 0 | T137: =S137*H137 -> 0 | AR137: 4 | AT137: K | AU137: 1 | AY137: ROZPOCET | BE137: =IF(N137="základní",J137,0) -> 0 | BF137: =IF(N137="snížená",J137,0) -> 0 | BG137: =IF(N137="zákl. přenesená",J137,0) -> 0 | BH137: =IF(N137="sníž. přenesená",J137,0) -> 0 | BI137: =IF(N137="nulová",J137,0) -> 0 | BJ137: 2 | BK137: =ROUND(I137*H137,2) -> 0 | BL137: 4 | BM137: 100
C138: 51 | D138: K | E138: Pol146 | F138: kabel(-CYKY) volně uložený do 3x6/4x4/7x2,5 | G138: m | H138: 30 | J138: =ROUND(I138*H138,2) -> 0 | N138: snížená | P138: =O138*H138 -> 0 | Q138: 0 | R138: =Q138*H138 -> 0 | S138: 0 | T138: =S138*H138 -> 0 | AR138: 4 | AT138: K | AU138: 1 | AY138: ROZPOCET | BE138: =IF(N138="základní",J138,0) -> 0 | BF138: =IF(N138="snížená",J138,0) -> 0 | BG138: =IF(N138="zákl. přenesená",J138,0) -> 0 | BH138: =IF(N138="sníž. přenesená",J138,0) -> 0 | BI138: =IF(N138="nulová",J138,0) -> 0 | BJ138: 2 | BK138: =ROUND(I138*H138,2) -> 0 | BL138: 4 | BM138: 102
C139: 52 | D139: K | E139: Pol147 | F139: kabel Cu(-CYKY) pod omítkou do 5x6 | G139: m | H139: 20 | J139: =ROUND(I139*H139,2) -> 0 | N139: snížená | P139: =O139*H139 -> 0 | Q139: 0 | R139: =Q139*H139 -> 0 | S139: 0 | T139: =S139*H139 -> 0 | AR139: 4 | AT139: K | AU139: 1 | AY139: ROZPOCET | BE139: =IF(N139="základní",J139,0) -> 0 | BF139: =IF(N139="snížená",J139,0) -> 0 | BG139: =IF(N139="zákl. přenesená",J139,0) -> 0 | BH139: =IF(N139="sníž. přenesená",J139,0) -> 0 | BI139: =IF(N139="nulová",J139,0) -> 0 | BJ139: 2 | BK139: =ROUND(I139*H139,2) -> 0 | BL139: 4 | BM139: 104
C140: 53 | D140: K | E140: Pol145 | F140: kabel(-CYKY) volně uložený do 3x6/4x4/7x2,5 | G140: m | H140: 35 | J140: =ROUND(I140*H140,2) -> 0 | N140: snížená | P140: =O140*H140 -> 0 | Q140: 0 | R140: =Q140*H140 -> 0 | S140: 0 | T140: =S140*H140 -> 0 | AR140: 4 | AT140: K | AU140: 1 | AY140: ROZPOCET | BE140: =IF(N140="základní",J140,0) -> 0 | BF140: =IF(N140="snížená",J140,0) -> 0 | BG140: =IF(N140="zákl. přenesená",J140,0) -> 0 | BH140: =IF(N140="sníž. přenesená",J140,0) -> 0 | BI140: =IF(N140="nulová",J140,0) -> 0 | BJ140: 2 | BK140: =ROUND(I140*H140,2) -> 0 | BL140: 4 | BM140: 106
C141: 54 | D141: K | E141: Pol148 | F141: kabel(-CYKY) volně uložený do 5x6/7x4/12x1,5 | G141: m | H141: 35 | J141: =ROUND(I141*H141,2) -> 0 | N141: snížená | P141: =O141*H141 -> 0 | Q141: 0 | R141: =Q141*H141 -> 0 | S141: 0 | T141: =S141*H141 -> 0 | AR141: 4 | AT141: K | AU141: 1 | AY141: ROZPOCET | BE141: =IF(N141="základní",J141,0) -> 0 | BF141: =IF(N141="snížená",J141,0) -> 0 | BG141: =IF(N141="zákl. přenesená",J141,0) -> 0 | BH141: =IF(N141="sníž. přenesená",J141,0) -> 0 | BI141: =IF(N141="nulová",J141,0) -> 0 | BJ141: 2 | BK141: =ROUND(I141*H141,2) -> 0 | BL141: 4 | BM141: 108
C142: 55 | D142: K | E142: Pol149 | F142: kabel Cu(-CYKY) pod omítkou do 5x6 | G142: m | H142: 15 | J142: =ROUND(I142*H142,2) -> 0 | N142: snížená | P142: =O142*H142 -> 0 | Q142: 0 | R142: =Q142*H142 -> 0 | S142: 0 | T142: =S142*H142 -> 0 | AR142: 4 | AT142: K | AU142: 1 | AY142: ROZPOCET | BE142: =IF(N142="základní",J142,0) -> 0 | BF142: =IF(N142="snížená",J142,0) -> 0 | BG142: =IF(N142="zákl. přenesená",J142,0) -> 0 | BH142: =IF(N142="sníž. přenesená",J142,0) -> 0 | BI142: =IF(N142="nulová",J142,0) -> 0 | BJ142: 2 | BK142: =ROUND(I142*H142,2) -> 0 | BL142: 4 | BM142: 110
... C173: 86 | D173: K | E173: Pol180 | F173: svítidlo žárovkové vestavné/více zdrojů | G173: ks | H173: 6 | J173: =ROUND(I173*H173,2) -> 0 | N173: snížená | P173: =O173*H173 -> 0 | Q173: 0 | R173: =Q173*H173 -> 0 | S173: 0 | T173: =S173*H173 -> 0 | AR173: 4 | AT173: K | AU173: 1 | AY173: ROZPOCET | BE173: =IF(N173="základní",J173,0) -> 0 | BF173: =IF(N173="snížená",J173,0) -> 0 | BG173: =IF(N173="zákl. přenesená",J173,0) -> 0 | BH173: =IF(N173="sníž. přenesená",J173,0) -> 0 | BI173: =IF(N173="nulová",J173,0) -> 0 | BJ173: 2 | BK173: =ROUND(I173*H173,2) -> 0 | BL173: 4 | BM173: 172
C174: 87 | D174: K | E174: Pol181 | F174: obecná položka montáže - drobný materiál a přípomoce | G174: % | J174: =ROUND(I174*H174,2) -> 0 | N174: snížená | P174: =O174*H174 -> 0 | Q174: 0 | R174: =Q174*H174 -> 0 | S174: 0 | T174: =S174*H174 -> 0 | AR174: 4 | AT174: K | AU174: 1 | AY174: ROZPOCET | BE174: =IF(N174="základní",J174,0) -> 0 | BF174: =IF(N174="snížená",J174,0) -> 0 | BG174: =IF(N174="zákl. přenesená",J174,0) -> 0 | BH174: =IF(N174="sníž. přenesená",J174,0) -> 0 | BI174: =IF(N174="nulová",J174,0) -> 0 | BJ174: 2 | BK174: =ROUND(I174*H174,2) -> 0 | BL174: 4 | BM174: 174
C175: 88 | D175: K | E175: Pol182 | F175: rozvodnice/elektrozařízení do hmotnosti 20kg | G175: ks | H175: 2 | J175: =ROUND(I175*H175,2) -> 0 | N175: snížená | P175: =O175*H175 -> 0 | Q175: 0 | R175: =Q175*H175 -> 0 | S175: 0 | T175: =S175*H175 -> 0 | AR175: 4 | AT175: K | AU175: 1 | AY175: ROZPOCET | BE175: =IF(N175="základní",J175,0) -> 0 | BF175: =IF(N175="snížená",J175,0) -> 0 | BG175: =IF(N175="zákl. přenesená",J175,0) -> 0 | BH175: =IF(N175="sníž. přenesená",J175,0) -> 0 | BI175: =IF(N175="nulová",J175,0) -> 0 | BJ175: 2 | BK175: =ROUND(I175*H175,2) -> 0 | BL175: 4 | BM175: 176
D176: D | E176: D4 | F176: Ostatní náklady | J176: =BK176 -> 0 | P176: =SUM(P177:P179) -> 0 | R176: =SUM(R177:R179) -> 0 | T176: =SUM(T177:T179) -> 0 | AR176: 1 | AT176: D | AU176: 0 | AY176: ROZPOCET | BK176: =SUM(BK177:BK179) -> 0
C177: 89 | D177: K | E177: Pol183 | F177: vysekání rýhy/zeď cihla/ hl.do 30mm/š.do 100mm | G177: m | H177: 45 | J177: =ROUND(I177*H177,2) -> 0 | N177: snížená | P177: =O177*H177 -> 0 | Q177: 0 | R177: =Q177*H177 -> 0 | S177: 0 | T177: =S177*H177 -> 0 | AR177: 4 | AT177: K | AU177: 1 | AY177: ROZPOCET | BE177: =IF(N177="základní",J177,0) -> 0 | BF177: =IF(N177="snížená",J177,0) -> 0 | BG177: =IF(N177="zákl. přenesená",J177,0) -> 0 | BH177: =IF(N177="sníž. přenesená",J177,0) -> 0 | BI177: =IF(N177="nulová",J177,0) -> 0 | BJ177: 2 | BK177: =ROUND(I177*H177,2) -> 0 | BL177: 4 | BM177: 178
C178: 90 | D178: K | E178: Pol184 | F178: omítka na stěně/jednotl.plocha do 1,00m2/vč.malty | G178: ks | H178: 45 | J178: =ROUND(I178*H178,2) -> 0 | N178: snížená | P178: =O178*H178 -> 0 | Q178: 0 | R178: =Q178*H178 -> 0 | S178: 0 | T178: =S178*H178 -> 0 | AR178: 4 | AT178: K | AU178: 1 | AY178: ROZPOCET | BE178: =IF(N178="základní",J178,0) -> 0 | BF178: =IF(N178="snížená",J178,0) -> 0 | BG178: =IF(N178="zákl. přenesená",J178,0) -> 0 | BH178: =IF(N178="sníž. přenesená",J178,0) -> 0 | BI178: =IF(N178="nulová",J178,0) -> 0 | BJ178: 2 | BK178: =ROUND(I178*H178,2) -> 0 | BL178: 4 | BM178: 180
C179: 91 | D179: K | E179: Pol185 | F179: doprava | G179: kpl | H179: 1 | J179: =ROUND(I179*H179,2) -> 0 | N179: snížená | P179: =O179*H179 -> 0 | Q179: 0 | R179: =Q179*H179 -> 0 | S179: 0 | T179: =S179*H179 -> 0 | AR179: 4 | AT179: K | AU179: 1 | AY179: ROZPOCET | BE179: =IF(N179="základní",J179,0) -> 0 | BF179: =IF(N179="snížená",J179,0) -> 0 | BG179: =IF(N179="zákl. přenesená",J179,0) -> 0 | BH179: =IF(N179="sníž. přenesená",J179,0) -> 0 | BI179: =IF(N179="nulová",J179,0) -> 0 | BJ179: 2 | BK179: =ROUND(I179*H179,2) -> 0 | BL179: 4 | BM179: 182
D180: D | E180: D5 | F180: Revize | J180: =BK180 -> 0 | P180: =P181 -> 0 | R180: =R181 -> 0 | T180: =T181 -> 0 | AR180: 1 | AT180: D | AU180: 0 | AY180: ROZPOCET | BK180: =BK181 -> 0
C181: 92 | D181: K | E181: Pol186 | F181: vypracování zprávy VR | G181: ks | H181: 1 | J181: =ROUND(I181*H181,2) -> 0 | N181: snížená | P181: =O181*H181 -> 0 | Q181: 0 | R181: =Q181*H181 -> 0 | S181: 0 | T181: =S181*H181 -> 0 | AR181: 4 | AT181: K | AU181: 1 | AY181: ROZPOCET | BE181: =IF(N181="základní",J181,0) -> 0 | BF181: =IF(N181="snížená",J181,0) -> 0 | BG181: =IF(N181="zákl. přenesená",J181,0) -> 0 | BH181: =IF(N181="sníž. přenesená",J181,0) -> 0 | BI181: =IF(N181="nulová",J181,0) -> 0 | BJ181: 2 | BK181: =ROUND(I181*H181,2) -> 0 | BL181: 4 | BM181: 184

Sheet 07 - VRN
AT2: {a891242b-c744-408b-9065-cfe65f99bc05}
AT3: 1
D4: KRYCÍ LIST SOUPISU PRACÍ | M4: v --- níže se nacházejí doplnkové a pomocné údaje k sestavám --- v | AT4: False
D6: Stavba:
E7: ='Rekapitulace stavby'!K6 -> Rekonstrukce dvou bytových jednotek
D8: Objekt:
E9: 07 - VRN
D11: KSO: | I11: CC-CZ:
D12: Místo: | F12: Dlouhá 126 | I12: Datum: | J12: ='Rekapitulace stavby'!AN8 -> 31. 7. 2026
D14: Zadavatel: | I14: IČ:
E15: Městys Lomnice | I15: DIČ:
D17: Účastník: | I17: IČ: | J17: ='Rekapitulace stavby'!AN13 -> Vyplň údaj
E18: ='Rekapitulace stavby'!E14 -> Vyplň údaj | I18: DIČ: | J18: ='Rekapitulace stavby'!AN14 -> Vyplň údaj
D20: Projektant: | I20: IČ: | J20: 17219787
E21: Proiectura Dana s.r.o. | I21: DIČ: | J21: CZ17219787
D23: Zpracovatel: | I23: IČ: | J23: 17219787
E24: Proiectura Dana s.r.o. | I24: DIČ: | J24: CZ17219787
D26: Poznámka:
E27: Soupis prací je sestaven s využitím Cenové soustavy ÚRS. Položky, které pochází z této cenové soustavy, jsou ve sloupci 'Cenová soustava' označeny popisem 'CS ÚRS' a úrovní příslušného kalendářního pololetí. Veškeré další informace vymezující popis a podmínky použití těchto položek z Cenové soustavy, které nejsou uvedeny přímo v soupisu prací, jsou neomezeně dálkově k dispozici na webu podminky.urs.cz.
D30: Cena bez DPH | J30: =ROUND(J86, 2) -> 0
F32: Základ daně | I32: Sazba daně | J32: Výše daně
D33: DPH | E33: základní | F33: =ROUND((SUM(BE86:BE119)), 2) -> 0 | I33: 0.21 | J33: =ROUND(((SUM(BE86:BE119))*I33), 2) -> 0
E34: snížená | F34: =ROUND((SUM(BF86:BF119)), 2) -> 0 | I34: 0.12 | J34: =ROUND(((SUM(BF86:BF119))*I34), 2) -> 0
E35: zákl. přenesená | F35: =ROUND((SUM(BG86:BG119)), 2) -> 0 | I35: 0.21 | J35: =0 -> 0
E36: sníž. přenesená | F36: =ROUND((SUM(BH86:BH119)), 2) -> 0 | I36: 0.12 | J36: =0 -> 0
E37: nulová | F37: =ROUND((SUM(BI86:BI119)), 2) -> 0 | I37: 0 | J37: =0 -> 0
D39: Cena s DPH | G39: v | H39: CZK | J39: =SUM(J30:J37) -> 0
C45: REKAPITULACE ČLENĚNÍ SOUPISU PRACÍ
C47: Stavba:
E48: =E7 -> Rekonstrukce dvou bytových jednotek
C49: Objekt:
E50: =E9 -> 07 - VRN
C52: Místo: | F52: =F12 -> Dlouhá 126 | I52: Datum: | J52: =IF(J12="","",J12) -> 31. 7. 2026
C54: Zadavatel: | F54: =E15 -> Městys Lomnice | I54: Projektant: | J54: =E21 -> Proiectura Dana s.r.o.
C55: Účastník: | F55: =IF(E18="","",E18) -> Vyplň údaj | I55: Zpracovatel: | J55: =E24 -> Proiectura Dana s.r.o.
C57: Kód dílu - Popis | J57: Cena celkem [CZK]
C59: Náklady stavby celkem | J59: =J86 -> 0 | AU59: -1
D60: VRN - Vedlejší rozpočtové náklady | J60: =J87 -> 0
D61: VRN1 - Průzkumné, zeměměřičské a projektové práce | J61: =J88 -> 0
D62: VRN2 - Příprava staveniště | J62: =J97 -> 0
D63: VRN3 - Zařízení staveniště | J63: =J103 -> 0
D64: VRN4 - Inženýrská činnost | J64: =J106 -> 0
D65: VRN7 - Provozní vlivy | J65: =J109 -> 0
D66: VRN9 - Ostatní náklady | J66: =J112 -> 0
C73: SOUPIS PRACÍ
C75: Stavba:
E76: =E7 -> Rekonstrukce dvou bytových jednotek
C77: Objekt:
E78: =E9 -> 07 - VRN
C80: Místo: | F80: =F12 -> Dlouhá 126 | I80: Datum: | J80: =IF(J12="","",J12) -> 31. 7. 2026
C82: Zadavatel: | F82: =E15 -> Městys Lomnice | I82: Projektant: | J82: =E21 -> Proiectura Dana s.r.o.
C83: Účastník: | F83: =IF(E18="","",E18) -> Vyplň údaj | I83: Zpracovatel: | J83: =E24 -> Proiectura Dana s.r.o.
C85: PČ | D85: Typ | E85: Kód | F85: Popis | G85: MJ | H85: Množství | I85: J.cena [CZK] | J85: Cena celkem [CZK] | K85: Cenová soustava | N85: DPH | O85: J. Nh [h] | P85: Nh celkem [h] | Q85: J. hmotnost [t] | R85: Hmotnost celkem [t] | S85: J. suť [t] | T85: Suť Celkem [t]
C86: Náklady soupisu celkem | J86: =BK86 -> 0 | P86: =P87 -> 0 | R86: =R87 -> 0 | T86: =T87 -> 0 | AT86: D | AU86: -1 | BK86: =BK87 -> 0
D87: D | E87: VRN | F87: Vedlejší rozpočtové náklady | J87: =BK87 -> 0 | P87: =P88+P97+P103+P106+P109+P112 -> 0 | R87: =R88+R97+R103+R106+R109+R112 -> 0 | T87: =T88+T97+T103+T106+T109+T112 -> 0 | AR87: 5 | AT87: D | AU87: 0 | AY87: ROZPOCET | BK87: =BK88+BK97+BK103+BK106+BK109+BK112 -> 0
D88: D | E88: VRN1 | F88: Průzkumné, zeměměřičské a projektové práce | J88: =BK88 -> 0 | P88: =SUM(P89:P96) -> 0 | R88: =SUM(R89:R96) -> 0 | T88: =SUM(T89:T96) -> 0 | AR88: 5 | AT88: D | AU88: 1 | AY88: ROZPOCET | BK88: =SUM(BK89:BK96) -> 0
C89: 1 | D89: K | E89: 010001000 | F89: Průzkumné, geodetické a projektové práce | G89: kpl | H89: 1 | J89: =ROUND(I89*H89,2) -> 0 | K89: CS ÚRS 2026 02 | N89: snížená | P89: =O89*H89 -> 0 | Q89: 0 | R89: =Q89*H89 -> 0 | S89: 0 | T89: =S89*H89 -> 0 | AR89: 4 | AT89: K | AU89: 2 | AY89: ROZPOCET | BE89: =IF(N89="základní",J89,0) -> 0 | BF89: =IF(N89="snížená",J89,0) -> 0 | BG89: =IF(N89="zákl. přenesená",J89,0) -> 0 | BH89: =IF(N89="sníž. přenesená",J89,0) -> 0 | BI89: =IF(N89="nulová",J89,0) -> 0 | BJ89: 2 | BK89: =ROUND(I89*H89,2) -> 0 | BL89: 4 | BM89: 1485827677
D90: Online PSC | F90: https://podminky.urs.cz/item/CS_URS_2026_02/010001000 | AT90: Online PSC | AU90: 2
C91: 2 | D91: K | E91: 013203000 | F91: Vyřízení podmínek závazných stanovisek DOSS (měření hluku, měření osvětlení apod.) Tlakové zkoušky a věci k uvedení do provozu | G91: kpl | H91: 1 | J91: =ROUND(I91*H91,2) -> 0 | K91: CS ÚRS 2026 02 | N91: snížená | P91: =O91*H91 -> 0 | Q91: 0 | R91: =Q91*H91 -> 0 | S91: 0 | T91: =S91*H91 -> 0 | AR91: 1024 | AT91: K | AU91: 2 | AY91: ROZPOCET | BE91: =IF(N91="základní",J91,0) -> 0 | BF91: =IF(N91="snížená",J91,0) -> 0 | BG91: =IF(N91="zákl. přenesená",J91,0) -> 0 | BH91: =IF(N91="sníž. přenesená",J91,0) -> 0 | BI91: =IF(N91="nulová",J91,0) -> 0 | BJ91: 2 | BK91: =ROUND(I91*H91,2) -> 0 | BL91: 1024 | BM91: 261137151
D92: Online PSC | F92: https://podminky.urs.cz/item/CS_URS_2026_02/013203000 | AT92: Online PSC | AU92: 2
C93: 3 | D93: K | E93: 013254000 | F93: Dokumentace skutečného provedení stavby | G93: kpl | H93: 1 | J93: =ROUND(I93*H93,2) -> 0 | K93: CS ÚRS 2026 02 | N93: snížená | P93: =O93*H93 -> 0 | Q93: 0 | R93: =Q93*H93 -> 0 | S93: 0 | T93: =S93*H93 -> 0 | AR93: 1024 | AT93: K | AU93: 2 | AY93: ROZPOCET | BE93: =IF(N93="základní",J93,0) -> 0 | BF93: =IF(N93="snížená",J93,0) -> 0 | BG93: =IF(N93="zákl. přenesená",J93,0) -> 0 | BH93: =IF(N93="sníž. přenesená",J93,0) -> 0 | BI93: =IF(N93="nulová",J93,0) -> 0 | BJ93: 2 | BK93: =ROUND(I93*H93,2) -> 0 | BL93: 1024 | BM93: -822880446
D94: Online PSC | F94: https://podminky.urs.cz/item/CS_URS_2026_02/013254000 | AT94: Online PSC | AU94: 2
C95: 4 | D95: K | E95: 013294000 | F95: Ostatní dokumentace stavby | G95: kpl | H95: 1 | J95: =ROUND(I95*H95,2) -> 0 | K95: CS ÚRS 2026 02 | N95: snížená | P95: =O95*H95 -> 0 | Q95: 0 | R95: =Q95*H95 -> 0 | S95: 0 | T95: =S95*H95 -> 0 | AR95: 1024 | AT95: K | AU95: 2 | AY95: ROZPOCET | BE95: =IF(N95="základní",J95,0) -> 0 | BF95: =IF(N95="snížená",J95,0) -> 0 | BG95: =IF(N95="zákl. přenesená",J95,0) -> 0 | BH95: =IF(N95="sníž. přenesená",J95,0) -> 0 | BI95: =IF(N95="nulová",J95,0) -> 0 | BJ95: 2 | BK95: =ROUND(I95*H95,2) -> 0 | BL95: 1024 | BM95: -942198297
D96: Online PSC | F96: https://podminky.urs.cz/item/CS_URS_2026_02/013294000 | AT96: Online PSC | AU96: 2
D97: D | E97: VRN2 | F97: Příprava staveniště | J97: =BK97 -> 0 | P97: =SUM(P98:P102) -> 0 | R97: =SUM(R98:R102) -> 0 | T97: =SUM(T98:T102) -> 0 | AR97: 5 | AT97: D | AU97: 1 | AY97: ROZPOCET | BK97: =SUM(BK98:BK102) -> 0
C98: 5 | D98: K | E98: 020001000.1 | F98: Příprava staveniště | G98: kpl | H98: 1 | J98: =ROUND(I98*H98,2) -> 0 | K98: CS ÚRS 2026 02 | N98: snížená | P98: =O98*H98 -> 0 | Q98: 0 | R98: =Q98*H98 -> 0 | S98: 0 | T98: =S98*H98 -> 0 | AR98: 1024 | AT98: K | AU98: 2 | AY98: ROZPOCET | BE98: =IF(N98="základní",J98,0) -> 0 | BF98: =IF(N98="snížená",J98,0) -> 0 | BG98: =IF(N98="zákl. přenesená",J98,0) -> 0 | BH98: =IF(N98="sníž. přenesená",J98,0) -> 0 | BI98: =IF(N98="nulová",J98,0) -> 0 | BJ98: 2 | BK98: =ROUND(I98*H98,2) -> 0 | BL98: 1024 | BM98: -1685725833
D99: Online PSC | F99: https://podminky.urs.cz/item/CS_URS_2026_02/020001000.1 | AT99: Online PSC | AU99: 2
D100: P | F100: Poznámka k položce: Přípravné práce pro zahájení stavby, ochrana přístupových cest před poškozením, různé ochrané prvky proti prachu a znečištění. | AT100: P | AU100: 2
D101: VV | F101: Ochrana přístupových cest proti poničení, zajištění zdrojů pro provádení stavby, odpojení objektu od připojených technologií a medií | AT101: VV | AU101: 2 | AV101: 1 | AW101: True | AX101: 0 | AY101: ROZPOCET
D102: VV | F102: 1,0 | H102: 1 | AT102: VV | AU102: 2 | AV102: 2 | AW102: True | AX102: 1 | AY102: ROZPOCET
D103: D | E103: VRN3 | F103: Zařízení staveniště | J103: =BK103 -> 0 | P103: =SUM(P104:P105) -> 0 | R103: =SUM(R104:R105) -> 0 | T103: =SUM(T104:T105) -> 0 | AR103: 5 | AT103: D | AU103: 1 | AY103: ROZPOCET | BK103: =SUM(BK104:BK105) -> 0
C104: 6 | D104: K | E104: 030001000 | F104: Zařízení staveniště | G104: kpl | H104: 1 | J104: =ROUND(I104*H104,2) -> 0 | K104: CS ÚRS 2026 02 | N104: snížená | P104: =O104*H104 -> 0 | Q104: 0 | R104: =Q104*H104 -> 0 | S104: 0 | T104: =S104*H104 -> 0 | AR104: 1024 | AT104: K | AU104: 2 | AY104: ROZPOCET | BE104: =IF(N104="základní",J104,0) -> 0 | BF104: =IF(N104="snížená",J104,0) -> 0 | BG104: =IF(N104="zákl. přenesená",J104,0) -> 0 | BH104: =IF(N104="sníž. přenesená",J104,0) -> 0 | BI104: =IF(N104="nulová",J104,0) -> 0 | BJ104: 2 | BK104: =ROUND(I104*H104,2) -> 0 | BL104: 1024 | BM104: -1793785220
D105: Online PSC | F105: https://podminky.urs.cz/item/CS_URS_2026_02/030001000 | AT105: Online PSC | AU105: 2
D106: D | E106: VRN4 | F106: Inženýrská činnost | J106: =BK106 -> 0 | P106: =SUM(P107:P108) -> 0 | R106: =SUM(R107:R108) -> 0 | T106: =SUM(T107:T108) -> 0 | AR106: 5 | AT106: D | AU106: 1 | AY106: ROZPOCET | BK106: =SUM(BK107:BK108) -> 0
C107: 7 | D107: K | E107: 045002000 | F107: Kompletační a koordinační činnost | G107: kpl | H107: 1 | J107: =ROUND(I107*H107,2) -> 0 | K107: CS ÚRS 2026 02 | N107: snížená | P107: =O107*H107 -> 0 | Q107: 0 | R107: =Q107*H107 -> 0 | S107: 0 | T107: =S107*H107 -> 0 | AR107: 1024 | AT107: K | AU107: 2 | AY107: ROZPOCET | BE107: =IF(N107="základní",J107,0) -> 0 | BF107: =IF(N107="snížená",J107,0) -> 0 | BG107: =IF(N107="zákl. přenesená",J107,0) -> 0 | BH107: =IF(N107="sníž. přenesená",J107,0) -> 0 | BI107: =IF(N107="nulová",J107,0) -> 0 | BJ107: 2 | BK107: =ROUND(I107*H107,2) -> 0 | BL107: 1024 | BM107: -878106807
D108: Online PSC | F108: https://podminky.urs.cz/item/CS_URS_2026_02/045002000 | AT108: Online PSC | AU108: 2
D109: D | E109: VRN7 | F109: Provozní vlivy | J109: =BK109 -> 0 | P109: =SUM(P110:P111) -> 0 | R109: =SUM(R110:R111) -> 0 | T109: =SUM(T110:T111) -> 0 | AR109: 5 | AT109: D | AU109: 1 | AY109: ROZPOCET | BK109: =SUM(BK110:BK111) -> 0
C110: 8 | D110: K | E110: 070001000 | F110: Provozní vlivy | G110: kpl | H110: 1 | J110: =ROUND(I110*H110,2) -> 0 | K110: CS ÚRS 2026 02 | N110: snížená | P110: =O110*H110 -> 0 | Q110: 0 | R110: =Q110*H110 -> 0 | S110: 0 | T110: =S110*H110 -> 0 | AR110: 1024 | AT110: K | AU110: 2 | AY110: ROZPOCET | BE110: =IF(N110="základní",J110,0) -> 0 | BF110: =IF(N110="snížená",J110,0) -> 0 | BG110: =IF(N110="zákl. přenesená",J110,0) -> 0 | BH110: =IF(N110="sníž. přenesená",J110,0) -> 0 | BI110: =IF(N110="nulová",J110,0) -> 0 | BJ110: 2 | BK110: =ROUND(I110*H110,2) -> 0 | BL110: 1024 | BM110: 285481363
D111: Online PSC | F111: https://podminky.urs.cz/item/CS_URS_2026_02/070001000 | AT111: Online PSC | AU111: 2
D112: D | E112: VRN9 | F112: Ostatní náklady | J112: =BK112 -> 0 | P112: =SUM(P113:P119) -> 0 | R112: =SUM(R113:R119) -> 0 | T112: =SUM(T113:T119) -> 0 | AR112: 5 | AT112: D | AU112: 1 | AY112: ROZPOCET | BK112: =SUM(BK113:BK119) -> 0
C113: 9 | D113: K | E113: 090001000 | F113: Ostatní náklady | G113: kpl | H113: 1 | J113: =ROUND(I113*H113,2) -> 0 | K113: CS ÚRS 2026 02 | N113: snížená | P113: =O113*H113 -> 0 | Q113: 0 | R113: =Q113*H113 -> 0 | S113: 0 | T113: =S113*H113 -> 0 | AR113: 1024 | AT113: K | AU113: 2 | AY113: ROZPOCET | BE113: =IF(N113="základní",J113,0) -> 0 | BF113: =IF(N113="snížená",J113,0) -> 0 | BG113: =IF(N113="zákl. přenesená",J113,0) -> 0 | BH113: =IF(N113="sníž. přenesená",J113,0) -> 0 | BI113: =IF(N113="nulová",J113,0) -> 0 | BJ113: 2 | BK113: =ROUND(I113*H113,2) -> 0 | BL113: 1024 | BM113: 686009252
D114: Online PSC | F114: https://podminky.urs.cz/item/CS_URS_2026_02/090001000 | AT114: Online PSC | AU114: 2
C115: 10 | D115: K | E115: 090001000.R | F115: Ostatní náklady - Likvidace obalového materiálu a komunálního odpadu | G115: kpl | H115: 1 | J115: =ROUND(I115*H115,2) -> 0 | N115: snížená | P115: =O115*H115 -> 0 | Q115: 0 | R115: =Q115*H115 -> 0 | S115: 0 | T115: =S115*H115 -> 0 | AR115: 1024 | AT115: K | AU115: 2 | AY115: ROZPOCET | BE115: =IF(N115="základní",J115,0) -> 0 | BF115: =IF(N115="snížená",J115,0) -> 0 | BG115: =IF(N115="zákl. přenesená",J115,0) -> 0 | BH115: =IF(N115="sníž. přenesená",J115,0) -> 0 | BI115: =IF(N115="nulová",J115,0) -> 0 | BJ115: 2 | BK115: =ROUND(I115*H115,2) -> 0 | BL115: 1024 | BM115: 1857951530
C116: 11 | D116: K | E116: 090001000.R1 | F116: Ostatní náklady - Průzkum | G116: kpl | H116: 1 | J116: =ROUND(I116*H116,2) -> 0 | N116: snížená | P116: =O116*H116 -> 0 | Q116: 0 | R116: =Q116*H116 -> 0 | S116: 0 | T116: =S116*H116 -> 0 | AR116: 1024 | AT116: K | AU116: 2 | AY116: ROZPOCET | BE116: =IF(N116="základní",J116,0) -> 0 | BF116: =IF(N116="snížená",J116,0) -> 0 | BG116: =IF(N116="zákl. přenesená",J116,0) -> 0 | BH116: =IF(N116="sníž. přenesená",J116,0) -> 0 | BI116: =IF(N116="nulová",J116,0) -> 0 | BJ116: 2 | BK116: =ROUND(I116*H116,2) -> 0 | BL116: 1024 | BM116: -234978421
D117: P | F117: Poznámka k položce: Technický průzkum bude proveden z podlahy 2.NP po odkrytí záklopu podlahy pro ověření skutečného stavu storpní konstrukce. Tato položka pokrývá provedení 3 sond 20x20 cm do stropní konstrukce z úrovně 2.NP, přizvání projektanta stavby a provedení statického posouzení v případě zjištění poruchy. | AT117: P | AU117: 2
C118: 12 | D118: K | E118: 090001000.R2 | F118: Ostatní náklady - Rezerva pro statické zajištění | G118: kpl | H118: 1 | J118: =ROUND(I118*H118,2) -> 0 | N118: snížená | P118: =O118*H118 -> 0 | Q118: 0 | R118: =Q118*H118 -> 0 | S118: 0 | T118: =S118*H118 -> 0 | AR118: 1024 | AT118: K | AU118: 2 | AY118: ROZPOCET | BE118: =IF(N118="základní",J118,0) -> 0 | BF118: =IF(N118="snížená",J118,0) -> 0 | BG118: =IF(N118="zákl. přenesená",J118,0) -> 0 | BH118: =IF(N118="sníž. přenesená",J118,0) -> 0 | BI118: =IF(N118="nulová",J118,0) -> 0 | BJ118: 2 | BK118: =ROUND(I118*H118,2) -> 0 | BL118: 1024 | BM118: 186817943
D119: P | F119: Poznámka k položce: Rezerva statického zajištění, nutnost využití bude určeno dle výsledku průzkumu. V případě nevyužití bude odečtenovou formou méněpráce. Každý uchazeč nacení tuto položku na fixní částku 250 tis kč bez DPH. | AT119: P | AU119: 2

Sheet Pokyny pro vyplnění
C3: Poznámka k ocenění výkazu výměr
C4: Informace k výběrovému řízení
C6: Realizaci stavby je nutné provádět v souladu s touto dokumentací pro provádění stavby a vydaným stavebním povolením.
C7: Zhotovitel je povinen v průběhu výzvy před podáním cenové nabídky upozornit na případné nesrovnalosti mezi výkresovou dokumentací a výkazem výměr. V souladu obecnými ustanoveními zákona č. 134/2016 Sb., o zadávání veřejných zakázek, je účastník oprávněn požadovat po zadavateli vysvětlení zadávací dokumentace, pokud zjistí rozpory nebo nejasnosti. V zájmu zajištění transparentnosti a rovného zacházení je takové upozornění považováno za nezbytné pro řádný průběh zadávacího řízení.
C8: Položky ve výkazu výměr:
C9: Položky ve výkazu výměr jsou definovány platným ceníkem stavebních prací nebo neceníkovou položkou. Veškeré uvedené položky obsahují náklady na montáž, případně demontáž prvku, včetně pomocného materiálu a stavebních přípomocí. Neceníkové položky vždy obsahují také náklady na montáž prvku.
C10: Vymezení rozsahu díla:
C11: Předmětem díla je kompletní realizace stavby dle přiložené projektové dokumentace a všech jejích příloh. Dokumentace zahrnuje stavební řešení a projekty jednotlivých profesních částí. Součástí díla je provedení všech těchto částí, včetně případných demolic, stavebních přípomocí, montáže veškerého vybavení a dalších souvisejících prací.
C12: V případě, že je stavba realizována s využitím dotační podpory, je zhotovitel povinen dodržovat veškeré závazné podmínky daného dotačního titulu v návaznosti na projektovou dokumentaci a související dokumenty.
C13: Zhotovitel je dále povinen zajistit před předáním díla veškeré doklady nezbytné pro řádnou kolaudaci stavby, zejména:
C14: prohlášení o shodě použitých výrobků,
C15: doklady o likvidaci odpadů vzniklých během výstavby,
... C33: Rekapitulace stavby obsahuje sestavu Rekapitulace stavby a Rekapitulace objektů stavby a soupisů prací.
D34: V sestavě Rekapitulace stavby jsou uvedeny informace identifikující předmět veřejné zakázky na stavební práce, KSO, CC-CZ, CZ-CPV, CZ-CPA a rekapitulaci
D35: celkové nabídkové ceny účastníka.
D37: Termínem "učastník" (resp. zhotovitel) se myslí "účastník zadávacího řízení" ve smyslu zákona o zadávání veřejných zakázek.
D39: V sestavě Rekapitulace objektů stavby a soupisů prací je uvedena rekapitulace stavebních objektů, inženýrských objektů, provozních souborů,
D40: vedlejších a ostatních nákladů a ostatních nákladů s rekapitulací nabídkové ceny za jednotlivé soupisy prací. Na základě údaje Typ je možné
D41: identifikovat, zda se jedná o objekt nebo soupis prací pro daný objekt:
E42: STA | F42: Stavební objekt pozemní
E43: ING | F43: Stavební objekt inženýrský
E44: PRO | F44: Provozní soubor
E45: VON | F45: Vedlejší a ostatní náklady
E46: OST | F46: Ostatní
E47: Soupis | F47: Soupis prací pro daný typ objektu
C49: Soupis prací pro jednotlivé objekty obsahuje sestavy Krycí list soupisu prací, Rekapitulace členění soupisu prací, Soupis prací. Za soupis prací může být považován
C50: i objekt stavby v případě, že neobsahuje podřízenou zakázku.
D51: Krycí list soupisu obsahuje rekapitulaci informací o předmětu veřejné zakázky ze sestavy Rekapitulace stavby, informaci o zařazení objektu do KSO,
D52: CC-CZ, CZ-CPV, CZ-CPA a rekapitulaci celkové nabídkové ceny účastníka za aktuální soupis prací.
D54: Rekapitulace členění soupisu prací obsahuje rekapitulaci soupisu prací ve všech úrovních členění soupisu tak, jak byla tato členění použita (např.
D55: stavební díly, funkční díly, případně jiné členění) s rekapitulací nabídkové ceny.
D57: Soupis prací obsahuje položky veškerých stavebních nebo montážních prací, dodávek materiálů a služeb nezbytných pro zhotovení stavebního objektu,
D58: inženýrského objektu, provozního souboru, vedlejších a ostatních nákladů.
D59: Pro položky soupisu prací se zobrazují následující informace:
E60: PČ | G60: Pořadové číslo položky v aktuálním soupisu
E61: TYP | G61: Typ položky: K - konstrukce, M - materiál, PP - plný popis, PSC - poznámka k souboru cen, P - poznámka k položce, VV - výkaz výměr, FIG - rozpad figur
E62: Kód | G62: Kód položky
E63: Popis | G63: Zkrácený popis položky
E64: MJ | G64: Měrná jednotka položky
E65: Množství | G65: Množství v měrné jednotce
E66: J.cena | G66: Jednotková cena položky. Zadaní může obsahovat namísto J.ceny sloupce J.materiál a J.montáž, jejichž součet definuje
G67: J.cenu položky.
E68: Cena celkem | G68: Celková cena položky daná jako součin množství a j.ceny
E69: Cenová soustava | G69: Příslušnost položky do cenové soustavy
D71: Ke každé položce soupisu prací se na samostatných řádcích může zobrazovat:
E72: Plný popis položky
E73: Poznámka k souboru cen a poznámka zadavatele
E74: Výkaz výměr
D75: Pokud je k řádku výkazu výměr evidovaný údaj ve sloupci Kód, jedná se o definovaný odkaz, na který se může odvolávat výkaz výměr z jiné položky.
C76: Metodika pro zpracování
C78: Jednotlivé sestavy jsou v souboru provázány. Editovatelné pole jsou zvýrazněny žlutým podbarvením, ostatní pole neslouží k editaci a nesmí být jakkoliv
C79: modifikovány.
C81: Účastník je pro podání nabídky povinen vyplnit žlutě podbarvená pole:
D82: Pole Účastník v sestavě Rekapitulace stavby - zde účastník vyplní svůj název (název subjektu)
D83: Pole IČ a DIČ v sestavě Rekapitulace stavby - zde účastník vyplní svoje IČ a DIČ
D84: Datum v sestavě Rekapitulace stavby - zde účastník vyplní datum vytvoření nabídky
D85: J.cena = jednotková cena v sestavě Soupis prací o maximálním počtu desetinných míst uvedených v poli
D86: - pokud sestavy soupisů prací obsahují pole J.cena, měla by být všechna tato pole vyplněna nenulovými
D87: Poznámka - nepovinný údaj pro položku soupisu
D89: V případě, že sestavy soupisů prací neobsahují pole J.cena, potom ve všech soupisech prací obsahují pole:
D90: - J.materiál - jednotková cena materiálu
D91: - J.montáž - jednotková cena montáže
D92: Účastník v tomto případě by měl vyplnit všechna pole J.materiál a pole J.montáž nenulovými kladnými číslicemi. V případech, kdy položka
D93: neobsahuje žádný materiál je přípustné, aby pole J.materiál bylo vyplněno nulou. V případech, kdy položka neobsahuje žádnou montáž je přípustné,
D94: aby pole J.montáž bylo vyplněno nulou. Obě pole - J.materiál, J.Montáž u jedné položky by však neměly být vyplněny nulou.
C99: Rekapitulace stavby
C100: Název | F100: Povinný | H100: Popis | I100: Typ | J100: Max. počet
C101: atributu | F101: (A/N) | J101: znaků
C103: Kód | F103: A | H103: Kód stavby | I103: String | J103: 20
C104: Stavba | F104: A | H104: Název stavby | I104: String | J104: 120
C105: Místo | F105: N | H105: Místo stavby | I105: String | J105: 50
C106: Datum | F106: A | H106: Datum vykonaného exportu | I106: Date
C107: KSO | F107: N | H107: Klasifikace stavebního objektu | I107: String | J107: 15
C108: CC-CZ | F108: N | H108: Klasifikace stavbeních děl | I108: String | J108: 15
C109: CZ-CPV | F109: N | H109: Společný slovník pro veřejné zakázky | I109: String | J109: 20
C110: CZ-CPA | F110: N | H110: Klasifikace produkce podle činností | I110: String | J110: 20
C111: Zadavatel | F111: N | H111: Zadavatel zadaní | I111: String | J111: 50
C112: IČ | F112: N | H112: IČ zadavatele zadaní | I112: String | J112: 20
C113: DIČ | F113: N | H113: DIČ zadavatele zadaní | I113: String | J113: 20
C114: Účastník | F114: N | H114: Účastník veřejné zakázky | I114: String | J114: 50
C115: Projektant | F115: N | H115: Projektant | I115: String | J115: 50
C116: Poznámka | F116: N | H116: Poznámka k zadání | I116: String | J116: 255
C117: Sazba DPH | F117: A | H117: Rekapitulace sazeb DPH u položek soupisů | I117: eGSazbaDph
C118: Základna DPH | F118: A | H118: Základna DPH určena součtem celkové ceny z položek soupisů | I118: Double
C119: Hodnota DPH | F119: A | H119: Hodnota DPH | I119: Double
C120: Cena bez DPH | F120: A | H120: Celková cena bez DPH za celou stavbu. Sčítává se ze všech listů. | I120: Double
C121: Cena s DPH | F121: A | H121: Celková cena s DPH za celou stavbu | I121: Double
C126: Rekapitulace objektů stavby a soupisů prací
C127: Název | F127: Povinný | H127: Popis | I127: Typ | J127: Max. počet
C128: atributu | F128: (A/N) | J128: znaků
C130: Kód | F130: A | H130: Přebírá se z Rekapitulace stavby | I130: String | J130: 20
C131: Stavba | F131: A | H131: Přebírá se z Rekapitulace stavby | I131: String | J131: 120
C132: Místo | F132: N | H132: Přebírá se z Rekapitulace stavby | I132: String | J132: 50
C133: Datum | F133: A | H133: Přebírá se z Rekapitulace stavby | I133: Date
C134: Zadavatel | F134: N | H134: Přebírá se z Rekapitulace stavby | I134: String | J134: 50
C135: Projektant | F135: N | H135: Přebírá se z Rekapitulace stavby | I135: String | J135: 50
C136: Účastník | F136: N | H136: Přebírá se z Rekapitulace stavby | I136: String | J136: 50
C137: Kód | F137: A | H137: Kód objektu | I137: String | J137: 20
C138: Objektu, Soupis prací | F138: A | H138: Název objektu | I138: String | J138: 120
C139: Cena bez DPH | F139: A | H139: Cena bez DPH za daný objekt | I139: Double
...
