Workbook

Sheet Rekapitulace stavby
A1: Export Komplet | BA1: 2.0 | BB1: ZAMOK | BT1: False | BU1: False | BV1: {a58fa42a-6ebb-4356-93f6-7e99206d28f9}
BS2: 0,01 | BT2: 21
BS3: 0,01 | BT3: 12
D4: REKAPITULACE STAVBY | AS4: v --- níže se nacházejí doplnkové a pomocné údaje k sestavám --- v | BE4: Návod na vyplnění | BS4: 0,001
D5: Kód: | K5: 26_26 | BE5: Měnit lze pouze buňky se žlutým podbarvením!_x000D_ _x000D_ 1) na prvním listu Rekapitulace stavby vyplňte v sestavě_x000D_ _x000D_ a) Souhrnný list_x000D_ - údaje o Uchazeči_x000D_ (přenesou se do ostatních sestav i v jiných listech)_x000D_ _x000D_ b) Rekapitulace objektů_x000D_ - potřebné Ostatní náklady_x000D_ _x000D_ 2) na vybraných listech vyplňte v sestavě_x000D_ _x000D_ a) Krycí list_x000D_ - údaje o Uchazeči, pokud se liší od údajů o Uchazeči na Souhrnném listu_x000D_ (údaje se přenesou do ostatních sestav v daném listu)_x000D_ _x000D_ b) Rekapitulace rozpočtu_x000D_ - potřebné Ostatní náklady_x000D_ _x000D_ c) Celkové náklady za stavbu_x000D_ - ceny u položek_x000D_ - množství, pokud má žluté podbarvení_x000D_ - a v případě potřeby poznámku (ta je ve skrytém sloupci) | BS5: 0,01
D6: Stavba: | K6: Stavební úpravy střešní konstrukce s vybudováním konstrukce pro uložení FVE panelů Starý Máteřov 34 | BS6: 0,01
D7: KSO: | AK7: CC-CZ: | BS7: 0,01
D8: Místo: | K8: k.ú, Starý Máteřov | AK8: Datum: | AN8: 23. 2. 2026 | BS8: 0,01
BS9: 0,01
D10: Zadavatel: | AK10: IČ: | BS10: 0,01
E11: Obec Starý Máteřov, Starý Máteřov 38, 530 02 | AK11: DIČ: | BS11: 0,01
BS12: 0,01
D13: Uchazeč: | AK13: IČ: | AN13: Vyplň údaj | BS13: 0,01
E14: Vyplň údaj | AK14: DIČ: | AN14: Vyplň údaj | BS14: 0,01
BS15: False
D16: Projektant: | AK16: IČ: | BS16: False
E17: IPOKa, s.r.o.,Blanky Waleské 558, 281 02 Cerhenice | AK17: DIČ: | BS17: True
BS18: 0,01
D19: Zpracovatel: | AK19: IČ: | BS19: 0,01
AK20: DIČ: | BS20: True
D22: Poznámka:
D26: Cena bez DPH | AK26: =ROUND(AG94,2) -> 0
L28: Sazba daně | W28: Základ daně | AK28: Výše daně
D29: DPH | F29: základní | L29: 0.21 | W29: =ROUND(AZ94, 2) -> 0 | AK29: =ROUND(AV94, 2) -> 0
F30: snížená | L30: 0.12 | W30: =ROUND(BA94, 2) -> 0 | AK30: =ROUND(AW94, 2) -> 0
F31: zákl. přenesená | L31: 0.21 | W31: =ROUND(BB94, 2) -> 0 | AK31: 0
F32: sníž. přenesená | L32: 0.12 | W32: =ROUND(BC94, 2) -> 0 | AK32: 0
F33: nulová | L33: 0 | W33: =ROUND(BD94, 2) -> 0 | AK33: 0
D35: Cena s DPH | T35: v | X35: CZK | AK35: =SUM(AK26:AK33) -> 0
D49: Projektant | AH49: Zpracovatel
D60: Datum a podpis: | V60: Razítko | AH60: Datum a podpis: | AM60: Razítko
D64: Objednavatel | AH64: Uchazeč
D75: Datum a podpis: | V75: Razítko | AH75: Datum a podpis: | AM75: Razítko
C82: REKAPITULACE OBJEKTŮ STAVBY A SOUPISŮ PRACÍ
C84: Kód: | L84: =K5 -> 26_26
C85: Stavba: | L85: =K6 -> Stavební úpravy střešní konstrukce s vybudováním konstrukce pro uložení FVE panelů Starý Máteřov 34
C87: Místo: | L87: =IF(K8="","",K8) -> k.ú, Starý Máteřov | AI87: Datum: | AM87: =IF(AN8= "","",AN8) -> 23. 2. 2026
C89: Zadavatel: | L89: =IF(E11= "","",E11) -> Obec Starý Máteřov, Starý Máteřov 38, 530 02 | AI89: Projektant: | AM89: =IF(E17="","",E17) -> IPOKa, s.r.o.,Blanky Waleské 558, 281 02 Cerhenice | AS89: Informatívní údaje z listů zakázek
C90: Uchazeč: | L90: =IF(E14= "Vyplň údaj","",E14) | AI90: Zpracovatel: | AM90: =IF(E20="","",E20)
C92: Kód | I92: Popis | AG92: Cena bez DPH [CZK] | AN92: Cena s DPH [CZK] | AQ92: Typ | AS92: z toho Ostat._x000D_ náklady [CZK] | AT92: DPH [CZK] | AU92: Normohodiny [h] | AV92: DPH základní [CZK] | AW92: DPH snížená [CZK] | AX92: DPH základní přenesená_x000D_ [CZK] | AY92: DPH snížená přenesená_x000D_ [CZK] | AZ92: Základna_x000D_ DPH základní | BA92: Základna_x000D_ DPH snížená | BB92: Základna_x000D_ DPH zákl. přenesená | BC92: Základna_x000D_ DPH sníž. přenesená | BD92: Základna_x000D_ DPH nulová
C94: Náklady z rozpočtů | AG94: =ROUND(SUM(AG95:AG96),2) -> 0 | AN94: =SUM(AG94,AT94) -> 0 | AS94: =ROUND(SUM(AS95:AS96),2) -> 0 | AT94: =ROUND(SUM(AV94:AW94),2) -> 0 | AU94: =ROUND(SUM(AU95:AU96),5) -> 0 | AV94: =ROUND(AZ94*L29,2) -> 0 | AW94: =ROUND(BA94*L30,2) -> 0 | AX94: =ROUND(BB94*L29,2) -> 0 | AY94: =ROUND(BC94*L30,2) -> 0 | AZ94: =ROUND(SUM(AZ95:AZ96),2) -> 0 | BA94: =ROUND(SUM(BA95:BA96),2) -> 0 | BB94: =ROUND(SUM(BB95:BB96),2) -> 0 | BC94: =ROUND(SUM(BC95:BC96),2) -> 0 | BD94: =ROUND(SUM(BD95:BD96),2) -> 0 | BS94: D | BT94: 0 | BU94: ###NOIMPORT### | BV94: IMPORT | BW94: {a58fa42a-6ebb-4356-93f6-7e99206d28f9} | BX94: {00000000-0000-0000-0000-000000000000}
A95: / | D95: 01 | J95: Architektonicko-stavební řešení | AG95: ='01 - Architektonicko-stav...'!J30 -> 0 | AN95: =SUM(AG95,AT95) -> 0 | AQ95: STA | AS95: 0 | AT95: =ROUND(SUM(AV95:AW95),2) -> 0 | AU95: ='01 - Architektonicko-stav...'!P133 -> 0 | AV95: ='01 - Architektonicko-stav...'!J33 -> 0 | AW95: ='01 - Architektonicko-stav...'!J34 -> 0 | AX95: ='01 - Architektonicko-stav...'!J35 -> 0 | AY95: ='01 - Architektonicko-stav...'!J36 -> 0 | AZ95: ='01 - Architektonicko-stav...'!F33 -> 0 | BA95: ='01 - Architektonicko-stav...'!F34 -> 0 | BB95: ='01 - Architektonicko-stav...'!F35 -> 0 | BC95: ='01 - Architektonicko-stav...'!F36 -> 0 | BD95: ='01 - Architektonicko-stav...'!F37 -> 0 | BT95: 1 | BV95: IMPORT | BW95: {3b5617f5-4bd4-4e44-a978-afd4953d867b} | BX95: {a58fa42a-6ebb-4356-93f6-7e99206d28f9} | CM95: 2
A96: / | D96: VON | J96: VRN+ON | AG96: ='VON - VRN+ON'!J30 -> 0 | AN96: =SUM(AG96,AT96) -> 0 | AQ96: VON | AS96: 0 | AT96: =ROUND(SUM(AV96:AW96),2) -> 0 | AU96: ='VON - VRN+ON'!P119 -> 0 | AV96: ='VON - VRN+ON'!J33 -> 0 | AW96: ='VON - VRN+ON'!J34 -> 0 | AX96: ='VON - VRN+ON'!J35 -> 0 | AY96: ='VON - VRN+ON'!J36 -> 0 | AZ96: ='VON - VRN+ON'!F33 -> 0 | BA96: ='VON - VRN+ON'!F34 -> 0 | BB96: ='VON - VRN+ON'!F35 -> 0 | BC96: ='VON - VRN+ON'!F36 -> 0 | BD96: ='VON - VRN+ON'!F37 -> 0 | BT96: 1 | BV96: IMPORT | BW96: {df4ba1b6-fa5a-4f0a-ab7e-4444d6807e77} | BX96: {a58fa42a-6ebb-4356-93f6-7e99206d28f9} | CM96: 2

Sheet 01 - Architektonicko-stav...
AT2: {3b5617f5-4bd4-4e44-a978-afd4953d867b}
AT3: 2
D4: KRYCÍ LIST SOUPISU PRACÍ | M4: v --- níže se nacházejí doplnkové a pomocné údaje k sestavám --- v | AT4: False
D6: Stavba:
E7: ='Rekapitulace stavby'!K6 -> Stavební úpravy střešní konstrukce s vybudováním konstrukce pro uložení FVE panelů Starý Máteřov 34
D8: Objekt:
E9: 01 - Architektonicko-stavební řešení
D11: KSO: | I11: CC-CZ:
D12: Místo: | F12: k.ú, Starý Máteřov | I12: Datum: | J12: ='Rekapitulace stavby'!AN8 -> 23. 2. 2026
D14: Zadavatel: | I14: IČ:
E15: Obec Starý Máteřov, Starý Máteřov 38, 530 02 | I15: DIČ:
D17: Uchazeč: | I17: IČ: | J17: ='Rekapitulace stavby'!AN13 -> Vyplň údaj
E18: ='Rekapitulace stavby'!E14 -> Vyplň údaj | I18: DIČ: | J18: ='Rekapitulace stavby'!AN14 -> Vyplň údaj
D20: Projektant: | I20: IČ:
E21: IPOKa, s.r.o.,Blanky Waleské 558, 281 02 Cerhenice | I21: DIČ:
D23: Zpracovatel: | I23: IČ: | J23: =IF('Rekapitulace stavby'!AN19="","",'Rekapitulace stavby'!AN19)
E24: =IF('Rekapitulace stavby'!E20="","",'Rekapitulace stavby'!E20) | I24: DIČ: | J24: =IF('Rekapitulace stavby'!AN20="","",'Rekapitulace stavby'!AN20)
D26: Poznámka:
D30: Cena bez DPH | J30: =ROUND(J133, 2) -> 0
F32: Základ daně | I32: Sazba daně | J32: Výše daně
D33: DPH | E33: základní | F33: =ROUND((SUM(BE133:BE393)), 2) -> 0 | I33: 0.21 | J33: =ROUND(((SUM(BE133:BE393))*I33), 2) -> 0
E34: snížená | F34: =ROUND((SUM(BF133:BF393)), 2) -> 0 | I34: 0.12 | J34: =ROUND(((SUM(BF133:BF393))*I34), 2) -> 0
E35: zákl. přenesená | F35: =ROUND((SUM(BG133:BG393)), 2) -> 0 | I35: 0.21 | J35: =0 -> 0
E36: sníž. přenesená | F36: =ROUND((SUM(BH133:BH393)), 2) -> 0 | I36: 0.12 | J36: =0 -> 0
E37: nulová | F37: =ROUND((SUM(BI133:BI393)), 2) -> 0 | I37: 0 | J37: =0 -> 0
D39: Cena s DPH | G39: v | H39: CZK | J39: =SUM(J30:J37) -> 0
D50: Projektant | G50: Zpracovatel
D61: Datum a podpis: | F61: Razítko | G61: Datum a podpis: | J61: Razítko
D65: Objednavatel | G65: Uchazeč
D76: Datum a podpis: | F76: Razítko | G76: Datum a podpis: | J76: Razítko
C82: REKAPITULACE ČLENĚNÍ SOUPISU PRACÍ
C84: Stavba:
E85: =E7 -> Stavební úpravy střešní konstrukce s vybudováním konstrukce pro uložení FVE panelů Starý Máteřov 34
C86: Objekt:
E87: =E9 -> 01 - Architektonicko-stavební řešení
C89: Místo: | F89: =F12 -> k.ú, Starý Máteřov | I89: Datum: | J89: =IF(J12="","",J12) -> 23. 2. 2026
C91: Zadavatel: | F91: =E15 -> Obec Starý Máteřov, Starý Máteřov 38, 530 02 | I91: Projektant: | J91: =E21 -> IPOKa, s.r.o.,Blanky Waleské 558, 281 02 Cerhenice
C92: Uchazeč: | F92: =IF(E18="","",E18) -> Vyplň údaj | I92: Zpracovatel: | J92: =E24
C94: Kód dílu - Popis | J94: Cena celkem [CZK]
C96: Náklady ze soupisu prací | J96: =J133 -> 0 | AU96: -1
D97: HSV - Práce a dodávky HSV | J97: =J134 -> 0
D98: 1 - Zemní práce | J98: =J135 -> 0
D99: 2 - Zakládání | J99: =J170 -> 0
D100: 3 - Svislé a kompletní konstrukce | J100: =J183 -> 0
D101: 4 - Vodorovné konstrukce | J101: =J188 -> 0
D102: 5 - Komunikace pozemní | J102: =J193 -> 0
D103: 6 - Úpravy povrchů, podlahy a osazování výplní | J103: =J198 -> 0
D104: 8 - Vedení trubní dálková a přípojná | J104: =J211 -> 0
D105: 9 - Ostatní konstrukce a práce, bourání | J105: =J227 -> 0
D106: 997 - Doprava suti a vybouraných hmot | J106: =J232 -> 0
D107: 998 - Přesun hmot | J107: =J241 -> 0
D108: PSV - Práce a dodávky PSV | J108: =J243 -> 0
D109: 762 - Konstrukce tesařské | J109: =J244 -> 0
D110: 764 - Konstrukce klempířské | J110: =J324 -> 0
D111: 765 - Krytina skládaná | J111: =J352 -> 0
D112: 783 - Dokončovací práce - nátěry | J112: =J377 -> 0
D113: 784 - Dokončovací práce - malby a tapety | J113: =J388 -> 0
C120: SOUPIS PRACÍ
C122: Stavba:
E123: =E7 -> Stavební úpravy střešní konstrukce s vybudováním konstrukce pro uložení FVE panelů Starý Máteřov 34
C124: Objekt:
E125: =E9 -> 01 - Architektonicko-stavební řešení
C127: Místo: | F127: =F12 -> k.ú, Starý Máteřov | I127: Datum: | J127: =IF(J12="","",J12) -> 23. 2. 2026
C129: Zadavatel: | F129: =E15 -> Obec Starý Máteřov, Starý Máteřov 38, 530 02 | I129: Projektant: | J129: =E21 -> IPOKa, s.r.o.,Blanky Waleské 558, 281 02 Cerhenice
C130: Uchazeč: | F130: =IF(E18="","",E18) -> Vyplň údaj | I130: Zpracovatel: | J130: =E24
C132: PČ | D132: Typ | E132: Kód | F132: Popis | G132: MJ | H132: Množství | I132: J.cena [CZK] | J132: Cena celkem [CZK] | K132: Cenová soustava | N132: DPH | O132: J. Nh [h] | P132: Nh celkem [h] | Q132: J. hmotnost [t] | R132: Hmotnost celkem [t] | S132: J. suť [t] | T132: Suť Celkem [t]
C133: Náklady soupisu celkem | J133: =BK133 -> 0 | P133: =P134+P243 -> 0 | R133: =R134+R243 -> 12.131582 | T133: =T134+T243 -> 1.959624 | AT133: D | AU133: -1 | BK133: =BK134+BK243 -> 0
D134: D | E134: HSV | F134: Práce a dodávky HSV | J134: =BK134 -> 0 | P134: =P135+P170+P183+P188+P193+P198+P211+P227+P232+P241 -> 0 | R134: =R135+R170+R183+R188+R193+R198+R211+R227+R232+R241 -> 6.3214239 | T134: =T135+T170+T183+T188+T193+T198+T211+T227+T232+T241 -> 0.12 | AR134: 1 | AT134: D | AU134: 0 | AY134: ROZPOCET | BK134: =BK135+BK170+BK183+BK188+BK193+BK198+BK211+BK227+BK232+BK241 -> 0
D135: D | E135: 1 | F135: Zemní práce | J135: =BK135 -> 0 | P135: =SUM(P136:P169) -> 0 | R135: =SUM(R136:R169) -> 2.46 | T135: =SUM(T136:T169) -> 0 | AR135: 1 | AT135: D | AU135: 1 | AY135: ROZPOCET | BK135: =SUM(BK136:BK169) -> 0
C136: 1 | D136: K | E136: 113106123 | F136: Rozebrání dlažeb ze zámkových dlaždic komunikací pro pěší ručně | G136: m2 | H136: 4 | J136: =ROUND(I136*H136,2) -> 0 | N136: základní | P136: =O136*H136 -> 0 | Q136: 0.26 | R136: =Q136*H136 -> 1.04 | S136: 0 | T136: =S136*H136 -> 0 | AR136: 16 | AT136: K | AU136: 2 | AY136: ROZPOCET | BE136: =IF(N136="základní",J136,0) -> 0 | BF136: =IF(N136="snížená",J136,0) -> 0 | BG136: =IF(N136="zákl. přenesená",J136,0) -> 0 | BH136: =IF(N136="sníž. přenesená",J136,0) -> 0 | BI136: =IF(N136="nulová",J136,0) -> 0 | BJ136: 1 | BK136: =ROUND(I136*H136,2) -> 0 | BL136: 16 | BM136: 251547989
D137: VV | F137: příloha PD - D.1.1.2.1.1, D.1.1.2.2.1 | AT137: VV | AU137: 2 | AV137: 1 | AW137: True | AX137: 0 | AY137: ROZPOCET
D138: VV | F138: rozebrání stávající dlažby k dalšímu použití | AT138: VV | AU138: 2 | AV138: 1 | AW138: True | AX138: 0 | AY138: ROZPOCET
D139: VV | F139: 1,0*1,0*4 | H139: 4 | AT139: VV | AU139: 2 | AV139: 2 | AW139: True | AX139: 0 | AY139: ROZPOCET
D140: VV | F140: Součet | H140: 4 | AT140: VV | AU140: 2 | AV140: 4 | AW140: True | AX140: 1 | AY140: ROZPOCET
C141: 2 | D141: K | E141: 131212531 | F141: Hloubení jamek objem do 0,5 m3 v soudržných horninách třídy těžitelnosti I skupiny 3 ručně | G141: m3 | H141: 0.9 | J141: =ROUND(I141*H141,2) -> 0 | N141: základní | P141: =O141*H141 -> 0 | Q141: 0 | R141: =Q141*H141 -> 0 | S141: 0 | T141: =S141*H141 -> 0 | AR141: 4 | AT141: K | AU141: 2 | AY141: ROZPOCET | BE141: =IF(N141="základní",J141,0) -> 0 | BF141: =IF(N141="snížená",J141,0) -> 0 | BG141: =IF(N141="zákl. přenesená",J141,0) -> 0 | BH141: =IF(N141="sníž. přenesená",J141,0) -> 0 | BI141: =IF(N141="nulová",J141,0) -> 0 | BJ141: 1 | BK141: =ROUND(I141*H141,2) -> 0 | BL141: 4 | BM141: -335229568
D142: VV | F142: příloha PD - D.1.1.2.1.1., D.1.1.2.2.1 | AT142: VV | AU142: 2 | AV142: 1 | AW142: True | AX142: 0 | AY142: ROZPOCET
D143: VV | F143: hloubení jamek pro základy konstrukce | AT143: VV | AU143: 2 | AV143: 1 | AW143: True | AX143: 0 | AY143: ROZPOCET
D144: VV | F144: 0,50*0,50*0,90*4 | H144: 0.9 | AT144: VV | AU144: 2 | AV144: 2 | AW144: True | AX144: 0 | AY144: ROZPOCET
D145: VV | F145: Součet | H145: 0.9 | AT145: VV | AU145: 2 | AV145: 4 | AW145: True | AX145: 1 | AY145: ROZPOCET
C146: 3 | D146: K | E146: 132251101 | F146: Hloubení rýh nezapažených š do 800 mm v hornině třídy těžitelnosti I skupiny 3 objem do 20 m3 strojně | G146: m3 | H146: 1.62 | J146: =ROUND(I146*H146,2) -> 0 | N146: základní | P146: =O146*H146 -> 0 | Q146: 0 | R146: =Q146*H146 -> 0 | S146: 0 | T146: =S146*H146 -> 0 | AR146: 4 | AT146: K | AU146: 2 | AY146: ROZPOCET | BE146: =IF(N146="základní",J146,0) -> 0 | BF146: =IF(N146="snížená",J146,0) -> 0 | BG146: =IF(N146="zákl. přenesená",J146,0) -> 0 | BH146: =IF(N146="sníž. přenesená",J146,0) -> 0 | BI146: =IF(N146="nulová",J146,0) -> 0 | BJ146: 1 | BK146: =ROUND(I146*H146,2) -> 0 | BL146: 4 | BM146: 572912945
D147: VV | F147: rýha pro odvod dešťové vody | AT147: VV | AU147: 2 | AV147: 1 | AW147: True | AX147: 0 | AY147: ROZPOCET
D148: VV | F148: 0,60*0,90*3,0 | H148: 1.62 | AT148: VV | AU148: 2 | AV148: 2 | AW148: True | AX148: 0 | AY148: ROZPOCET
D149: VV | F149: Součet | H149: 1.62 | AT149: VV | AU149: 2 | AV149: 4 | AW149: True | AX149: 1 | AY149: ROZPOCET
C150: 4 | D150: K | E150: 162751117 | F150: Vodorovné přemístění přes 9 000 do 10000 m výkopku/sypaniny z horniny třídy těžitelnosti I skupiny 1 až 3 | G150: m3 | H150: 1.818 | J150: =ROUND(I150*H150,2) -> 0 | N150: základní | P150: =O150*H150 -> 0 | Q150: 0 | R150: =Q150*H150 -> 0 | S150: 0 | T150: =S150*H150 -> 0 | AR150: 4 | AT150: K | AU150: 2 | AY150: ROZPOCET | BE150: =IF(N150="základní",J150,0) -> 0 | BF150: =IF(N150="snížená",J150,0) -> 0 | BG150: =IF(N150="zákl. přenesená",J150,0) -> 0 | BH150: =IF(N150="sníž. přenesená",J150,0) -> 0 | BI150: =IF(N150="nulová",J150,0) -> 0 | BJ150: 1 | BK150: =ROUND(I150*H150,2) -> 0 | BL150: 4 | BM150: -1659971605
D151: VV | F151: přebytečná zemina na skládku | AT151: VV | AU151: 2 | AV151: 1 | AW151: True | AX151: 0 | AY151: ROZPOCET
D152: VV | F152: 0,90+1,62-0,702 | H152: 1.818 | AT152: VV | AU152: 2 | AV152: 2 | AW152: True | AX152: 0 | AY152: ROZPOCET
D153: VV | F153: Součet | H153: 1.818 | AT153: VV | AU153: 2 | AV153: 4 | AW153: True | AX153: 1 | AY153: ROZPOCET
C154: 5 | D154: K | E154: 171201231 | F154: Poplatek za předání recyklačnímu zařízení zeminy a kamení kód odpadu 17 05 04 | G154: t | H154: 3.091 | J154: =ROUND(I154*H154,2) -> 0 | N154: základní | P154: =O154*H154 -> 0 | Q154: 0 | R154: =Q154*H154 -> 0 | S154: 0 | T154: =S154*H154 -> 0 | AR154: 4 | AT154: K | AU154: 2 | AY154: ROZPOCET | BE154: =IF(N154="základní",J154,0) -> 0 | BF154: =IF(N154="snížená",J154,0) -> 0 | BG154: =IF(N154="zákl. přenesená",J154,0) -> 0 | BH154: =IF(N154="sníž. přenesená",J154,0) -> 0 | BI154: =IF(N154="nulová",J154,0) -> 0 | BJ154: 1 | BK154: =ROUND(I154*H154,2) -> 0 | BL154: 4 | BM154: 1386357237
D155: VV | F155: 1,818*1,70 | H155: 3.091 | AT155: VV | AU155: 2 | AV155: 2 | AW155: True | AX155: 0 | AY155: ROZPOCET
D156: VV | F156: Součet | H156: 3.091 | AT156: VV | AU156: 2 | AV156: 4 | AW156: True | AX156: 1 | AY156: ROZPOCET
C157: 6 | D157: K | E157: 174151101 | F157: Zásyp jam, šachet rýh nebo kolem objektů sypaninou se zhutněním | G157: m3 | H157: 0.702 | J157: =ROUND(I157*H157,2) -> 0 | N157: základní | P157: =O157*H157 -> 0 | Q157: 0 | R157: =Q157*H157 -> 0 | S157: 0 | T157: =S157*H157 -> 0 | AR157: 4 | AT157: K | AU157: 2 | AY157: ROZPOCET | BE157: =IF(N157="základní",J157,0) -> 0 | BF157: =IF(N157="snížená",J157,0) -> 0 | BG157: =IF(N157="zákl. přenesená",J157,0) -> 0 | BH157: =IF(N157="sníž. přenesená",J157,0) -> 0 | BI157: =IF(N157="nulová",J157,0) -> 0 | BJ157: 1 | BK157: =ROUND(I157*H157,2) -> 0 | BL157: 4 | BM157: -1375992979
D158: VV | F158: 1,62 "výkop rýh | H158: 1.62 | AT158: VV | AU158: 2 | AV158: 2 | AW158: True | AX158: 0 | AY158: ROZPOCET
D159: VV | F159: odečet | AT159: VV | AU159: 2 | AV159: 1 | AW159: True | AX159: 0 | AY159: ROZPOCET
D160: VV | F160: -0,18 "podsyp | H160: -0.18 | AT160: VV | AU160: 2 | AV160: 2 | AW160: True | AX160: 0 | AY160: ROZPOCET
D161: VV | F161: -0,71 "obsyp | H161: -0.71 | AT161: VV | AU161: 2 | AV161: 2 | AW161: True | AX161: 0 | AY161: ROZPOCET
D162: VV | F162: -3,14*0,055*0,055*3,0 "potrubí | H162: -0.028 | AT162: VV | AU162: 2 | AV162: 2 | AW162: True | AX162: 0 | AY162: ROZPOCET
D163: VV | F163: Součet | H163: 0.702 | AT163: VV | AU163: 2 | AV163: 4 | AW163: True | AX163: 1 | AY163: ROZPOCET
C164: 7 | D164: K | E164: 175151101 | F164: Obsypání potrubí strojně sypaninou bez prohození, uloženou do 3 m | G164: m3 | H164: 0.71 | J164: =ROUND(I164*H164,2) -> 0 | N164: základní | P164: =O164*H164 -> 0 | Q164: 0 | R164: =Q164*H164 -> 0 | S164: 0 | T164: =S164*H164 -> 0 | AR164: 4 | AT164: K | AU164: 2 | AY164: ROZPOCET | BE164: =IF(N164="základní",J164,0) -> 0 | BF164: =IF(N164="snížená",J164,0) -> 0 | BG164: =IF(N164="zákl. přenesená",J164,0) -> 0 | BH164: =IF(N164="sníž. přenesená",J164,0) -> 0 | BI164: =IF(N164="nulová",J164,0) -> 0 | BJ164: 1 | BK164: =ROUND(I164*H164,2) -> 0 | BL164: 4 | BM164: 1572544124
D165: VV | F165: odvod dešťové vody | AT165: VV | AU165: 2 | AV165: 1 | AW165: True | AX165: 0 | AY165: ROZPOCET
D166: VV | F166: 0,60*(0,110+0,30)*3,0-3,14*0,055*0,055*3,0 | H166: 0.71 | AT166: VV | AU166: 2 | AV166: 2 | AW166: True | AX166: 0 | AY166: ROZPOCET
...

Sheet VON - VRN+ON
AT2: {df4ba1b6-fa5a-4f0a-ab7e-4444d6807e77}
AT3: 2
D4: KRYCÍ LIST SOUPISU PRACÍ | M4: v --- níže se nacházejí doplnkové a pomocné údaje k sestavám --- v | AT4: False
D6: Stavba:
E7: ='Rekapitulace stavby'!K6 -> Stavební úpravy střešní konstrukce s vybudováním konstrukce pro uložení FVE panelů Starý Máteřov 34
D8: Objekt:
E9: VON - VRN+ON
D11: KSO: | I11: CC-CZ:
D12: Místo: | F12: k.ú, Starý Máteřov | I12: Datum: | J12: ='Rekapitulace stavby'!AN8 -> 23. 2. 2026
D14: Zadavatel: | I14: IČ:
E15: Obec Starý Máteřov, Starý Máteřov 38, 530 02 | I15: DIČ:
D17: Uchazeč: | I17: IČ: | J17: ='Rekapitulace stavby'!AN13 -> Vyplň údaj
E18: ='Rekapitulace stavby'!E14 -> Vyplň údaj | I18: DIČ: | J18: ='Rekapitulace stavby'!AN14 -> Vyplň údaj
D20: Projektant: | I20: IČ:
E21: IPOKa, s.r.o.,Blanky Waleské 558, 281 02 Cerhenice | I21: DIČ:
D23: Zpracovatel: | I23: IČ: | J23: =IF('Rekapitulace stavby'!AN19="","",'Rekapitulace stavby'!AN19)
E24: =IF('Rekapitulace stavby'!E20="","",'Rekapitulace stavby'!E20) | I24: DIČ: | J24: =IF('Rekapitulace stavby'!AN20="","",'Rekapitulace stavby'!AN20)
D26: Poznámka:
D30: Cena bez DPH | J30: =ROUND(J119, 2) -> 0
F32: Základ daně | I32: Sazba daně | J32: Výše daně
D33: DPH | E33: základní | F33: =ROUND((SUM(BE119:BE126)), 2) -> 0 | I33: 0.21 | J33: =ROUND(((SUM(BE119:BE126))*I33), 2) -> 0
E34: snížená | F34: =ROUND((SUM(BF119:BF126)), 2) -> 0 | I34: 0.12 | J34: =ROUND(((SUM(BF119:BF126))*I34), 2) -> 0
E35: zákl. přenesená | F35: =ROUND((SUM(BG119:BG126)), 2) -> 0 | I35: 0.21 | J35: =0 -> 0
E36: sníž. přenesená | F36: =ROUND((SUM(BH119:BH126)), 2) -> 0 | I36: 0.12 | J36: =0 -> 0
E37: nulová | F37: =ROUND((SUM(BI119:BI126)), 2) -> 0 | I37: 0 | J37: =0 -> 0
D39: Cena s DPH | G39: v | H39: CZK | J39: =SUM(J30:J37) -> 0
D50: Projektant | G50: Zpracovatel
D61: Datum a podpis: | F61: Razítko | G61: Datum a podpis: | J61: Razítko
D65: Objednavatel | G65: Uchazeč
D76: Datum a podpis: | F76: Razítko | G76: Datum a podpis: | J76: Razítko
C82: REKAPITULACE ČLENĚNÍ SOUPISU PRACÍ
C84: Stavba:
E85: =E7 -> Stavební úpravy střešní konstrukce s vybudováním konstrukce pro uložení FVE panelů Starý Máteřov 34
C86: Objekt:
E87: =E9 -> VON - VRN+ON
C89: Místo: | F89: =F12 -> k.ú, Starý Máteřov | I89: Datum: | J89: =IF(J12="","",J12) -> 23. 2. 2026
C91: Zadavatel: | F91: =E15 -> Obec Starý Máteřov, Starý Máteřov 38, 530 02 | I91: Projektant: | J91: =E21 -> IPOKa, s.r.o.,Blanky Waleské 558, 281 02 Cerhenice
C92: Uchazeč: | F92: =IF(E18="","",E18) -> Vyplň údaj | I92: Zpracovatel: | J92: =E24
C94: Kód dílu - Popis | J94: Cena celkem [CZK]
C96: Náklady ze soupisu prací | J96: =J119 -> 0 | AU96: -1
D97: VRN - Vedlejší rozpočtové náklady | J97: =J120 -> 0
D98: VRN1 - Průzkumné, geodetické a projektové práce | J98: =J121 -> 0
D99: VRN4 - Inženýrská činnost | J99: =J124 -> 0
C106: SOUPIS PRACÍ
C108: Stavba:
E109: =E7 -> Stavební úpravy střešní konstrukce s vybudováním konstrukce pro uložení FVE panelů Starý Máteřov 34
C110: Objekt:
E111: =E9 -> VON - VRN+ON
C113: Místo: | F113: =F12 -> k.ú, Starý Máteřov | I113: Datum: | J113: =IF(J12="","",J12) -> 23. 2. 2026
C115: Zadavatel: | F115: =E15 -> Obec Starý Máteřov, Starý Máteřov 38, 530 02 | I115: Projektant: | J115: =E21 -> IPOKa, s.r.o.,Blanky Waleské 558, 281 02 Cerhenice
C116: Uchazeč: | F116: =IF(E18="","",E18) -> Vyplň údaj | I116: Zpracovatel: | J116: =E24
C118: PČ | D118: Typ | E118: Kód | F118: Popis | G118: MJ | H118: Množství | I118: J.cena [CZK] | J118: Cena celkem [CZK] | K118: Cenová soustava | N118: DPH | O118: J. Nh [h] | P118: Nh celkem [h] | Q118: J. hmotnost [t] | R118: Hmotnost celkem [t] | S118: J. suť [t] | T118: Suť Celkem [t]
C119: Náklady soupisu celkem | J119: =BK119 -> 0 | P119: =P120 -> 0 | R119: =R120 -> 0 | T119: =T120 -> 0 | AT119: D | AU119: -1 | BK119: =BK120 -> 0
D120: D | E120: VRN | F120: Vedlejší rozpočtové náklady | J120: =BK120 -> 0 | P120: =P121+P124 -> 0 | R120: =R121+R124 -> 0 | T120: =T121+T124 -> 0 | AR120: 5 | AT120: D | AU120: 0 | AY120: ROZPOCET | BK120: =BK121+BK124 -> 0
D121: D | E121: VRN1 | F121: Průzkumné, geodetické a projektové práce | J121: =BK121 -> 0 | P121: =SUM(P122:P123) -> 0 | R121: =SUM(R122:R123) -> 0 | T121: =SUM(T122:T123) -> 0 | AR121: 5 | AT121: D | AU121: 1 | AY121: ROZPOCET | BK121: =SUM(BK122:BK123) -> 0
C122: 1 | D122: K | E122: 013254000 | F122: Dokumentace skutečného provedení stavby | G122: kpl | H122: 1 | J122: =ROUND(I122*H122,2) -> 0 | N122: základní | P122: =O122*H122 -> 0 | Q122: 0 | R122: =Q122*H122 -> 0 | S122: 0 | T122: =S122*H122 -> 0 | AR122: 1024 | AT122: K | AU122: 2 | AY122: ROZPOCET | BE122: =IF(N122="základní",J122,0) -> 0 | BF122: =IF(N122="snížená",J122,0) -> 0 | BG122: =IF(N122="zákl. přenesená",J122,0) -> 0 | BH122: =IF(N122="sníž. přenesená",J122,0) -> 0 | BI122: =IF(N122="nulová",J122,0) -> 0 | BJ122: 1 | BK122: =ROUND(I122*H122,2) -> 0 | BL122: 1024 | BM122: -1685263607
C123: 2 | D123: K | E123: 013294000 | F123: Vypracování výrobní dokumentace | G123: kpl | H123: 1 | J123: =ROUND(I123*H123,2) -> 0 | N123: základní | P123: =O123*H123 -> 0 | Q123: 0 | R123: =Q123*H123 -> 0 | S123: 0 | T123: =S123*H123 -> 0 | AR123: 1024 | AT123: K | AU123: 2 | AY123: ROZPOCET | BE123: =IF(N123="základní",J123,0) -> 0 | BF123: =IF(N123="snížená",J123,0) -> 0 | BG123: =IF(N123="zákl. přenesená",J123,0) -> 0 | BH123: =IF(N123="sníž. přenesená",J123,0) -> 0 | BI123: =IF(N123="nulová",J123,0) -> 0 | BJ123: 1 | BK123: =ROUND(I123*H123,2) -> 0 | BL123: 1024 | BM123: -1914242499
D124: D | E124: VRN4 | F124: Inženýrská činnost | J124: =BK124 -> 0 | P124: =SUM(P125:P126) -> 0 | R124: =SUM(R125:R126) -> 0 | T124: =SUM(T125:T126) -> 0 | AR124: 5 | AT124: D | AU124: 1 | AY124: ROZPOCET | BK124: =SUM(BK125:BK126) -> 0
C125: 3 | D125: K | E125: 041903001 | F125: Inženýrská činnost při realizaci stavby | G125: kpl | H125: 1 | J125: =ROUND(I125*H125,2) -> 0 | N125: základní | P125: =O125*H125 -> 0 | Q125: 0 | R125: =Q125*H125 -> 0 | S125: 0 | T125: =S125*H125 -> 0 | AR125: 1024 | AT125: K | AU125: 2 | AY125: ROZPOCET | BE125: =IF(N125="základní",J125,0) -> 0 | BF125: =IF(N125="snížená",J125,0) -> 0 | BG125: =IF(N125="zákl. přenesená",J125,0) -> 0 | BH125: =IF(N125="sníž. přenesená",J125,0) -> 0 | BI125: =IF(N125="nulová",J125,0) -> 0 | BJ125: 1 | BK125: =ROUND(I125*H125,2) -> 0 | BL125: 1024 | BM125: -1707946638
C126: 4 | D126: K | E126: 049303001 | F126: Doklady požadované k převzetí díla | G126: kpl | H126: 1 | J126: =ROUND(I126*H126,2) -> 0 | N126: základní | P126: =O126*H126 -> 0 | Q126: 0 | R126: =Q126*H126 -> 0 | S126: 0 | T126: =S126*H126 -> 0 | AR126: 1024 | AT126: K | AU126: 2 | AY126: ROZPOCET | BE126: =IF(N126="základní",J126,0) -> 0 | BF126: =IF(N126="snížená",J126,0) -> 0 | BG126: =IF(N126="zákl. přenesená",J126,0) -> 0 | BH126: =IF(N126="sníž. přenesená",J126,0) -> 0 | BI126: =IF(N126="nulová",J126,0) -> 0 | BJ126: 1 | BK126: =ROUND(I126*H126,2) -> 0 | BL126: 1024 | BM126: 15891633
