Workbook

Sheet Rozpiska
A3: revize / revision
A4: číslo / number | B4: datum / date | C4: popis / description | G4: vypracoval / drafted by
A6: REV-00 | B6: dd.mm.rrrr | C6: popis | G6: Ing. arch. Jmeno Přijmeni
A8: poznámka / notes
A9: Tato dokumentace slouží jako zadávací dokumentace projektu interiérových úprav. Autor zadávací dokumentace neručí za chyby vzniklé použitím k jiným účelům. Zadávací dokumentace je duševním majetkem autora projektu, bez jeho písemného souhlasu nesmí být použita k jinému účelu než realizaci projektu, pro nějž byla vytvořena. Informace z tohoto dokumentu mohou být použity jen v souvislosti s tímto projektem. Jakékoliv nejasnosti nebo rozpory v projektové dokumentaci musí být projednány se zodpovědným architektem (Studio Perspektiv s.r.o.) a jím odsouhlaseny před zahájením prací/výroby. Změna specifikace je možná pouze se souhlasem zodpovědného architekta. Informace na tomto dokumentu nesmí být svévolně pozměněny, doplněny nebo odstraněny. Žádné prvky, data ani jiné informace z této dokumentace nesmí být kopírovány, anebo použity pro jiné projekty bez výslovného předešlého souhlasu Studia Perspektiv s.r.o.
A10: projekt / project | E10: investor / investor
A11: Základní škola Kolovraty | E11: Městská část Praha-Kolovraty | G11: Miroslav Marinčič
E12: Mírová 364/34, 103 00, Praha-Kolovraty | G12: tel. +420 605 551 059, marincic@kolovraty.cz
A13: zpracovatel části / part designer | E13: zodpovědná osoba / person in charge | G13: vypracoval / drafted by
A14: Studio Perspektiv, s.r.o. | E14: Ing. arch. Martin Stára | G14: MgA. Aneta Rendlová
E15: tel. +420 724 548 462 | G15: Ing.arch. Nikol Zelmanová
E16: martin.stara@perspektiv.cz | G16: Miroslav Vacek
A17: Rohanské nábřeží 717/4, 180 00 Praha 8
A19: obsah / content
A20: TABULKA VOLNÉHO NÁBYTKU
A22: označení / label | B22: stupeň / phase | C22: č. výkresu / drawing no. | D22: verze / version | G22: datum / date
A23: KOL | B23: TD | C23: 801 | D23: 00 | G23: 27.05.2025
D51: Školní trojmístný počítačový stůl - 3x místo, 3x PC. Rozměry pracovní desky cca 2550 mm a hloubka cca 500 mm. Deska LTD tl. 25 mm s ostrými rohy a ABS hranou 2 mm, povrch melamin - buk a nebo deska Bond s HPL povrchem. Obsahuje kabelovou průchodku pro každé místo, umožňující uchycení ramene monitoru, žlab pro vedení kabeláže a konstrukce pod deskou umožňující zavěšení PC skříně. Kontstrukce tvořena z plochooválného profilu 50 x 30. Svařovaný kovový rám. Lakováno práškovou vypalovací barvou komaxit. Barevné provedení konstrukce v rozmezí RAL 9003, RAL 9016. Nohy stolu mají plastové koncovky s velkou třecí plochou, proti oděru a tlumí hluk , v rozmezí RAL 9003, RAL 7040
D52: Školní trojmístný počítačový stůl - 3x místo, 3x PC. Rozměry pracovní desky cca 2550 mm a hloubka cca 500 mm. Deska LTD tl. 25 mm s ostrými rohy a ABS hranou 2 mm, povrch melamin - buk a nebo deska Bond s HPL povrchem. Obsahuje kabelovou průchodku pro každé místo, umožňující uchycení ramene monitoru, žlab pro vedení kabeláže a konstrukce pod deskou umožňující zavěšení PC skříně. Kontstrukce tvořena z plochooválného profilu 50 x 30. Svařovaný kovový rám. Lakováno práškovou vypalovací barvou komaxit. Barevné provedení konstrukce v rozmezí RAL 9003, RAL 9016. Nohy stolu mají plastové koncovky s velkou třecí plochou, proti oděru a tlumí hluk , v rozmezí RAL 9003, RAL 7040

Sheet vybavení učeben a kabinetů
A1: typ tabulky / type of chart | I1: dátum / date | J1: verze / version
A2: =[1]Rozpiska!A20 -> TABULKA VOLNÉHO NÁBYTKU | H2: =Rozpiska!G23 -> 27.05.2025 | J2: =[1]Rozpiska!$D$23 -> 00
A4: ozn.projektu / project | B4: čast/ part | G4: č.výkresu / number | H4: jazyk / language | I4: formát / paper size | J4: strany / pages
A5: =[1]Rozpiska!$A$23 -> KOL | B5: =[1]Rozpiska!$B$23 -> TD | G5: =[1]Rozpiska!$C$23 -> 801 | H5: CZ | I5: A4 | J5: 8
A6: Poznámka | B6: Dodavatel může navrhnout alternativy s podobním vzhledem. Všechen nábytek a jeho materiálové řešení bude před objednáním vzorkováno a schváleno architektem. Dodavatel nábytku zodpovídá za ergonomickou kompatibilitu jednotlivých prvků a ověření počtu. Výběr materiálů soluží jako orientační podklad pro vzorkování, specifikace podléhají schválení klienta. Cena by měla reflektovat kompletní objem objednávky. Dodávku je možno etapizovat po dohodě s klientem. Prioritní objednávku mají kancelářské stoly a židle v rámci pracovišť. Rozměry se mohou lišit o +/- 1%
A8: označení / label | C8: produkt / product | D8: specifikace / specification | F8: počet / quantity | G8: ref. produkt / reference | J8: poznámky / notes
A10: IT 01 | C10: interaktivní tabule | D10: 86 palců model,dotykováobrazovka, možnost Google play, instalovat různé aplikace. Motorizovaný zvedák na stěnu, v bílé barvě. Dvě popisovatelné, přídavné tabule | F10: 25 | G10: #VALUE! | I10: =F10*H10 -> 0
A11: IT 02 | C11: 3D tiskárna | D11: 3D tiskárna s automatickou kalibrací, pro potřeby školní dílny | F11: 3 | G11: #VALUE! | I11: =H11*F11 -> 0
A12: JS 01 | C12: konzultační stůl | D12: Konzultační stůl o průměru cca Ø 800 mm. Výška stolu cca 730 - 750 mm. Materiál desky stolu je laminátová deska s jádrem z dřevotřísky, tl. cca 20 - 30 mm, plochá hrana ABS. Jedna sloupová noha o cca Ø 450 mm, ocelová s povlakem epoxidové pryskyřice. Hmotnost cca 18 kg. Barevné provedení celého stolu (deska, nohy/podnož) - rozptyl RAL 9003, RAL 9016. | F12: 18 | G12: #VALUE! | I12: =F12*H12 -> 0
C13: židle | D13: Stohovatelná židle bez područek. Skořepina je vyrobena ze 100% recyklovatelného polyproplyenu, která je odolná, hladká na dotek a ergonomicky tvarovaná pro komfortní sezení. Sedák je polstrovaný cca RAL 1019. Ocelové nohy, práškově lakované (thermoreinforced polyester). Rozměry: hloubka 505mm, šířka 590mm, výška 810mm, výška sedáku 450mm, hloubka sedáku 360mm. Barva skořepiny "taupe" cca RAL 1019, Barva nohou "taupe" cca RAL 1019 nebo Bílá RAL 9003. Výrobce splňuje normy ISO9001, ISO14001, výrobek ANSI/BIFMA. Produkt má Environmentální profil produktu. | F13: 72 | G13: #VALUE! | I13: =F13*H13 -> 0
A14: JS 02 | C14: studijní stůl | D14: Konzultační stůl o průměru cca Ø 800 mm. Výška stolu cca 730 - 750 mm. Materiál desky stolu je laminátová deska s jádrem z dřevotřísky, tl. cca 20 - 30 mm, plochá hrana ABS. Jedna sloupová noha o cca Ø 450 mm, ocelová s povlakem epoxidové pryskyřice. Hmotnost cca 18 kg. Barevné provedení celého stolu (deska, nohy/podnož) - rozptyl RAL 9003, RAL 9016. | F14: 2 | G14: #VALUE! | I14: =F14*H14 -> 0
C15: židle | D15: Stohovatelná židle bez područek. Skořepina je vyrobena ze 100% recyklovatelného polyproplyenu, která je odolná, hladká na dotek a ergonomicky tvarovaná pro komfortní sezení. Sedák je polstrovaný (fabric Duo cca RAL 1019. Ocelové nohy, práškově lakované (thermoreinforced polyester). Rozměry: hloubka 505mm, šířka 590mm, výška 810mm, výška sedáku 450mm, hloubka sedáku 360mm. Barva skořepiny "taupe" cca RAL 1019, Barva nohou "taupe" cca RAL 1019 nebo Bílá RAL 9003. Výrobce splňuje normy ISO9001, ISO14001, výrobek ANSI/BIFMA. Produkt má Environmentální profil produktu. | F15: 4 | G15: #VALUE! | I15: =F15*H15 -> 0
A16: JS 03 | C16: sestava sedacího nábytku - psycholog pohovka | D16: Čalouněná pohovka dvojmístná. Jednoduchý design. Sedák z tvarované pěny. Rám FSC certifikované dřevo. Rozměry: hloubka cca 820mm, šířka cca 1920mm, výška cca 750mm, hloubka sedáku 580mm. Kovová podnož, práškově lakovaná. Bez volných polštářů. Certifikáty: FSC® C1651 34, EN 16139 - L1, ISO9001, ISO14001. Potah Nantes ocelově šedá., Odolnost proti oděru 120.000 (martindale), cca 140 cm šíře role látky, odolnost vůči světlu 5, žmolkování 4-5, OEKO-TEX® STANDARD 100 - 1776-271 DTI, CAL TB 117-2013, EN 1021-1. | F16: 1 | G16: #VALUE! | I16: =F16*H16 -> 0
C17: sestava sedacího nábytku - psycholog křeslo | D17: Čalouněné křeslo. Jednoduchý design. Sedák z tvarované pěny. Rám FSC certifikované dřevo. Rozměry: hloubka cca 820mm, šířka cca 1020mm, výška cca 750mm, hloubka sedáku cca 580mm. Kovová podnož, práškově lakovaná. Bez volných polštářů. Certifikáty: FSC® C1651 34, EN 16139 - L1, ISO9001, ISO14001. Potah Nantes ocelově šedá., Odolnost proti oděru 120.000 (martindale), cca 140 cm šíře role látky, odolnost vůči světlu 5, žmolkování 4-5, OEKO-TEX® STANDARD 100 - 1776-271 DTI, CAL TB 117-2013, EN 1021-1. | F17: 2 | G17: #VALUE! | I17: =F17*H17 -> 0
C18: sestava sedacího nábytku - psycholog židle | D18: Čalouněná židle. Konstrukce dřevo a překližka. Vrchní část čalouněna expandovanou polyuretanovou pěnou. Nohy z masivního z černě mořeného dubu, opatřené černými plastovými kluzáky. Rozměry: hloubka 620mm, šířka cca 630mm, výška cca 790mm, výška sedáku cca 480mm, hloubka sedáku cca 480mm. Potah ccal RAL 1005 (Kvadrat Steelcut Trio 3 453). Odolnost proti oděru >100.000 (martindale), cca 140 cm šíře role látky, odolnost vůči světlu 5, žmolkování 4-4, OEKO-TEX® STANDARD 100, Indoor Advantage™ Gold, 320g/m2. Výrobce splňuje normy ISO9001, ISO14001, výrobek ANSI/BIFMA. Produkt má Environmentální profil produktu. | F18: 2 | G18: #VALUE! | I18: =F18*H18 -> 0
C19: sestava sedacího nábytku - psycholog stolek | D19: Nízky odkládací stolek. Materiál desky stolu je dřevotříska o cca tl. 18 mm. Stolek s klasickou podnoží (4 nohy) práškový nástřik. Barevnost konstrukce podnože i desky - rozptyl barev RAL 9005, RAL 9004, RAL 9011, RAL 9017. Rozměry: výška stolu cca 450 mm, šířka cca 650 mm a délka cca 650 mm. | F19: 1 | G19: #VALUE! | I19: =F19*H19 -> 0
A20: JS 04 | C20: sestava sedacího nábytku - ředitelna židle/křeslo | D20: Čalouněná židle. Konstrukce dřevo a překližka. Vrchní část čalouněna expandovanou polyuretanovou pěnou. Nohy z masivního z černě mořeného dubu, opatřené černými plastovými kluzáky. Rozměry: hloubka 620mm, šířka cca 630mm, výška cca 790mm, výška sedáku cca 480mm, hloubka sedáku cca 480mm. Potah ccal RAL 1005 (Kvadrat Steelcut Trio 3 453). Odolnost proti oděru >100.000 (martindale), cca 140 cm šíře role látky, odolnost vůči světlu 5, žmolkování 4-4, OEKO-TEX® STANDARD 100, Indoor Advantage™ Gold, 320g/m2. Výrobce splňuje normy ISO9001, ISO14001, výrobek ANSI/BIFMA. Produkt má Environmentální profil produktu. | F20: 6 | G20: #VALUE! | I20: =F20*H20 -> 0
C21: sestava sedacího nábytku - ředitelna stolek | D21: Konzultační stůl o průměru cca Ø 1200 mm. Výška stolu cca 730 - 750 mm. Materiál desky stolu je laminátová deska s jádrem z dřevotřísky, tl. cca 20 - 30 mm, plochá hrana ABS. Jedna sloupová noha o cca Ø 450 mm, ocelová s povlakem epoxidové pryskyřice. Hmotnost cca 18 kg. Barevné provedení celého stolu (deska, nohy/podnož) - rozptyl RAL 9003, RAL 9016. | F21: 1 | G21: #VALUE! | I21: =F21*H21 -> 0
A22: JS 05 | C22: jídelní stůl | D22: Jídelní stůl o rozměrecg cca 800mmx120mmx740mm Deska stolu je oboustranně potažena syntetickou pryskyřicí a je také chráněna průhlednou vrstvou proti poškrábání. Jádro tvoří dřevotřísková deska odpovídající normě DIN68765/E1. Horní deska je masivní nárazník o tloušťce 2 mm, nahoře, dole a v rozích zaoblený o 2 mm. Barva hrany odpovídá vrchní vrstvě. (Ocelové) nohy jsou pokryty vypalovaným práškovým lakem na bázi vrstev epoxid-polyesteru. Tento proces je mimořádně šetrný k životnímu prostředí, protože se nepoužívají žádná rozpouštědla, prášek se nanáší elektrostaticky a zbytky se regenerují. Výsledek je mimořádně odolný a vysoce odolný proti poškození a poškrábání. Základnu tvoří celokovová svařovaná konstrukce se čtvercovými nohami. Ty jsou spojeny pomocí boxů. Stůl lze opatřit různými plastovými krytkami a je k dispozici v různých výškách. Barevné provedení celého stolu (deska, nohy/podnož) - rozptyl RAL 9003, RAL 9016. | F22: 1 | G22: #VALUE! | I22: =F22*H22 -> 0
C23: židle | D23: Stohovatelná židle bez područek. Sedák vyroben ze 100% recyklovatelného polyproplyenu, který je odolný, hladký na dotek a ergonomicky tvarovaný pro komfortní sezení. Ocelové nohy, práškově lakované (thermoreinforced polyester). Rozměry: hloubka 505mm, šířka 590mm, výška 810mm, výška sedáku 450mm, hloubka sedáku 360mm. Barva skořepiny "yellow ochre" cca RAL 1011, Barva nohou Bílá RAL 9003. Výrobce splňuje normy ISO9001, ISO14001, výrobek ANSI/BIFMA. Produkt má Environmentální profil produktu. | F23: 4 | G23: #VALUE! | I23: =F23*H23 -> 0
A24: JS 06 | C24: jídelní stůl | D24: Jídelní stůl o rozměrecg cca 800mmx120mmx740mm Deska stolu je oboustranně potažena syntetickou pryskyřicí a je také chráněna průhlednou vrstvou proti poškrábání. Jádro tvoří dřevotřísková deska odpovídající normě DIN68765/E1. Horní deska je masivní nárazník o tloušťce 2 mm, nahoře, dole a v rozích zaoblený o 2 mm. Barva hrany odpovídá vrchní vrstvě. (Ocelové) nohy jsou pokryty vypalovaným práškovým lakem na bázi vrstev epoxid-polyesteru. Tento proces je mimořádně šetrný k životnímu prostředí, protože se nepoužívají žádná rozpouštědla, prášek se nanáší elektrostaticky a zbytky se regenerují. Výsledek je mimořádně odolný a vysoce odolný proti poškození a poškrábání. Základnu tvoří celokovová svařovaná konstrukce se čtvercovými nohami. Ty jsou spojeny pomocí boxů. Stůl lze opatřit různými plastovými krytkami a je k dispozici v různých výškách. Barevné provedení celého stolu (deska, nohy/podnož) - rozptyl RAL 9003, RAL 9016. | F24: 51 | G24: #VALUE! | I24: =F24*H24 -> 0
A25: JŽ 01 | C25: jídelní židle | D25: Stohovatelná židle bez područek. Sedák vyroben ze 100% recyklovatelného polyproplyenu, který je odolný, hladký na dotek a ergonomicky tvarovaný pro komfortní sezení. Ocelové nohy, práškově lakované (thermoreinforced polyester). Rozměry: hloubka 505mm, šířka 590mm, výška 810mm, výška sedáku 450mm, hloubka sedáku 360mm. Barva skořepiny "yellow ochre" cca RAL 1011, Barva nohou Bílá RAL 9003. Výrobce splňuje normy ISO9001, ISO14001, výrobek ANSI/BIFMA. Produkt má Environmentální profil produktu. | F25: 204 | G25: #VALUE! | I25: =F25*H25 -> 0
A26: KS 01 | C26: pracovní stůl - kabinety | D26: Pracovní stůl. Rozměry: šířka 1500mm, hloubka 600mm, výška 720mm. Pracovní plocha třívrstvá dřevotřísková lamino deska tloušťky 25mm, materiál splňující E1, polypropylenová hrana 3mm. Odolná spodní konstrukce z oceli tloušťky 2mm. Ocelový profil 45x45mm na spodním obvodu desky. Ocelové nohy 45x45mm kotveny do spodní konstrukce přes lakovaný hliníkový odlitek, ne do desky - vyšší pevnost a trvanlivost. Nohy i konstrukce lakované práškovou epoxidovou barvou. Nohy i rám mohou mít různé barvy. Výrobce splňuje normy ISO9001 a ISO 14001. Certifikace GS, Indoor Advantage™ Gold. Barva desky i spodní konstrukce šedá rozptyl RAL 7004, RAL 7035. | F26: 58 | G26: #VALUE! | I26: =F26*H26 -> 0
C27: polstrovaný paravan čelní strana | D27: Polstrovaný akustický paravan mezi stoly. Rozměry: šířka cca 1500mm, výška cca 600mm. Paravan je vyroben z recyklovaného PET vlákna (polyethylentereftalát), které pochází z recyklovaných plastových lahví. Tento materiál je ekologický, plně recyklovatelný a nabízí vysokou akustickou účinnost. Paravan má koeficient pohltivosti zvuku NRC 0,75. Paravan má jednoduchý a elegantní design s obšitým obvodem a zaoblenými rohy. Barva kovové konstrukce šedá rozptyl RAL 7004, RAL 7035. Barva akustického paravanu tmavě šedá cca RAL 7043. | F27: 29 | G27: #VALUE!
C28: polstrovaný paravan boční strana | D28: Polstrovaný akustický paravan mezi stoly. Paravan je vyroben z recyklovaného PET vlákna (polyethylentereftalát), které pochází z recyklovaných plastových lahví. Tento materiál je ekologický, plně recyklovatelný a nabízí vysokou akustickou účinnost. Paravan má koeficient pohltivosti zvuku NRC 0,75. Paravan má jednoduchý a elegantní design s obšitým obvodem a zaoblenými rohy. Barva kovové konstrukce šedá rozptyl RAL 7004, RAL 7035. Barva akustického paravanu tmavě šedá cca RAL 7043. | F28: 29 | G28: #VALUE!
C29: pracovní židle | D29: Kancelářská židle pro dlouhodobé sezení v práci u PC. Sedák potažený látkou a opěrák z nylonové síťoviny - prodyšnost. Sedák - vstřikovaná pěna min. 60kg/m3 - komfort. 4D nastavitelné loketní opěrky pro individuální přizpůsobení a ergonomii. Kolečka 65mm pro tvrdou podlahu. Černý rám opěráku umožňující pohyb uživatele. Černá síťovina opěráku - 100% polyester. Černý kompozitový kříž. Synchronní mechanika s možností nastavení odporu a uzamčení. Nastavitelná bederní opěrka. Nastavitelná hloubka sedáku 420 - 480mm. Nastavitelná výška sedáku 410 - 520mm. Rozměry: hloubka 640mm, šířka 660mm, výška 920mm. Potah sedáku Era 5ER9 černá. Odolnost proti oděru >100.000 (martindale), cca 140 cm šíře role látky, odolnost vůči světlu 5, žmolkování 4-4, OEKO-TEX® STANDARD 100, Indoor Advantage™ Gold, 320g/m2. Produkt má Environmentální profil produktu. Certifikát SCS Indoor Advantage Gold, GS, NF OEC. Výrobce splňuje normy ISO9001 a ISO 14001. Maximální hmotnost uživatele je 150kg. Židle je snadno rozebiratelná a je možno jednotlivé materiály oddělit k recyklaci. Podíl recyklovatelných materiálů musí činit nejméně 90 % | F29: 58 | G29: #VALUE! | I29: =F29*H29 -> 0
C30: box | D30: Osobní mobilní úložný kontejner pod pracovní stůl. Rozměry: šířka 419mm, hloubka 588mm, výška 566mm. 4 skrytá kolečka d37mm. Konstrukce z třívrstvé dřevotřískové lamino deska tloušťky 19mm a 16mm (dno a top), materiál splňující E1. Kovová oblá úchytka na čelech zásuvek. 3 zásuvky. Vrchní nízká zásuvka s pořadačem na psací potřeby. Vnitřní rozměr zásuvek: š327x h490mm. Procento recyklovaných mateirálů na výrobu: 51%. Po konci života recyklovatelné z 97% (dle hmotnosti). Výrobce splňuje normy ISO9001 a ISO 14001. Barva desky i spodní konstrukce bílá | F30: 58 | G30: #VALUE! | I30: =F30*H30 -> 0
A31: KS 02 | C31: kancelářský stůl | D31: Pracovní stůl. Rozměry: šířka 1200mm, hloubka 600mm, výška 720mm. Pracovní plocha třívrstvá dřevotřísková lamino deska tloušťky 25mm, materiál splňující E1, polypropylenová hrana 3mm. Odolná spodní konstrukce z oceli tloušťky 2mm. Ocelový profil 45x45mm na spodním obvodu desky. Ocelové nohy 45x45mm kotveny do spodní konstrukce přes lakovaný hliníkový odlitek, ne do desky - vyšší pevnost a trvanlivost. Nohy i konstrukce lakované práškovou epoxidovou barvou. Nohy i rám mohou mít různé barvy. Výrobce splňuje normy ISO9001 a ISO 14001. Certifikace GS, Indoor Advantage™ Gold. Produkt má Environmentální profil produktu. Barva desky i spodní konstrukce šedá rozptyl RAL 7004, RAL 7035. | F31: 15 | G31: #VALUE! | I31: =F31*H31 -> 0
A32: KS 03 | C32: pracovní židle | D32: Kancelářská židle pro dlouhodobé sezení v práci u PC. Sedák potažený látkou a opěrák z nylonové síťoviny - prodyšnost. Sedák - vstřikovaná pěna min. 60kg/m3 - komfort. 4D nastavitelné loketní opěrky pro individuální přizpůsobení a ergonomii. Kolečka 65mm pro tvrdou podlahu. Černý rám opěráku umožňující pohyb uživatele. Černá síťovina opěráku - 100% polyester. Černý kompozitový kříž. Synchronní mechanika s možností nastavení odporu a uzamčení. Nastavitelná bederní opěrka. Nastavitelná hloubka sedáku 420 - 480mm. Nastavitelná výška sedáku 410 - 520mm. Rozměry: hloubka 640mm, šířka 660mm, výška 920mm. Potah sedáku Era 5ER9 černá. Odolnost proti oděru >100.000 (martindale), cca 140 cm šíře role látky, odolnost vůči světlu 5, žmolkování 4-4, OEKO-TEX® STANDARD 100, Indoor Advantage™ Gold, 320g/m2. Produkt má Environmentální profil produktu. Certifikát SCS Indoor Advantage Gold, GS, NF OEC. Výrobce splňuje normy ISO9001 a ISO 14001. Maximální hmotnost uživatele je 150kg. Židle je snadno rozebiratelná a je možno jednotlivé materiály oddělit k recyklaci. Podíl recyklovatelných materiálů musí činit nejméně 90 % | F32: 4 | G32: #VALUE! | I32: =F32*H32 -> 0
A33: L 01 | C33: lavička - šatny 1.st + 2.st | D33: Školní šatní kovová lavice, bez opěrky. Délka lavice cca 150 cm, šířka cca 370 mm, výška cca 43 cm. Sedadlo z LTD (laminová dřevotříska) tl. cca 18 mm, povrchová úprava. Kovová konstrukce nohou - jáklové profily cca 30 x30 x 1,5 mm. Barevné provedení celé lavice - světle šedá - rozptyl barev RAL 7035, RAL 7004. | F33: 32 | G33: #VALUE! | I33: =F33*H33 -> 0
A34: L 02 | C34: lavička - šatny 1.st + 2.st | D34: Školní šatní kovová lavice, bez opěrky. Délka lavice cca 100 cm, šířka cca 370 mm, výška cca 43 cm. Sedadlo z LTD (laminová dřevotříska) tl. cca 18 mm, povrchová úprava. Kovová konstrukce nohou - jáklové profily cca 30 x30 x 1,5 mm. Barevné provedení celé lavice - světle šedá - rozptyl barev RAL 7035, RAL 7004. | F34: 2 | G34: #VALUE! | I34: =F34*H34 -> 0
A35: MS 01 | C35: MS01.a modulární nábytek sezení | D35: Čalouněný modul pro veřejné prostory. Rozměr 1200x600x395mm. Vnitřní struktura je z masivního dřeva (s PEFC certifikací). Struktura je potažená polyuretanovou pěnou. Potah vysoce odolná látka se snadným čištěním, antibakteriální úpravou a s úpravou proti skvrnám. Látka vhodná pro vysokou zátěž a veřejné prostory. Barva potahu je červenohnědá cca RAL 3011 Vlastnosti látky: oděruvzdornost >300.000 (martindale), světlostálost ISO 105 B02 7/8. Certifikáty: Carbon Neutral Certified EcoSense Greenguard Certified Indoor Air Emissions A+ Certified Indoor Air Quality Certified ISO 14001 Certified ISO 45001 Certified Reach Compliant RoHs Compliant | F35: 1 | G35: #VALUE! | J35: Zrušeno
A36: MS 01 | D36: Čalouněný modul pro veřejné prostory. Rozměr 1200x600x395mm. Vnitřní struktura je z masivního dřeva (s PEFC certifikací). Struktura je potažená polyuretanovou pěnou. Potah vysoce odolná látka se snadným čištěním, antibakteriální úpravou a s úpravou proti skvrnám. Látka vhodná pro vysokou zátěž a veřejné prostory. Barva potahu je tmavě tyrkysová cca RAL 6004 Vlastnosti látky: oděruvzdornost >300.000 (martindale), světlostálost ISO 105 B02 7/8. Certifikáty: Carbon Neutral Certified EcoSense Greenguard Certified Indoor Air Emissions A+ Certified Indoor Air Quality Certified ISO 14001 Certified ISO 45001 Certified Reach Compliant RoHs Compliant | F36: 2 | G36: #VALUE!
A37: MS 01 | D37: Čalouněný modul pro veřejné prostory. Rozměr 1200x600x395mm. Vnitřní struktura je z masivního dřeva (s PEFC certifikací). Struktura je potažená polyuretanovou pěnou. Potah vysoce odolná látka se snadným čištěním, antibakteriální úpravou a s úpravou proti skvrnám. Látka vhodná pro vysokou zátěž a veřejné prostory. Barva potahu je hořčicová cca RAL 1006 Vlastnosti látky: oděruvzdornost >300.000 (martindale), světlostálost ISO 105 B02 7/8. Certifikáty: Carbon Neutral Certified EcoSense Greenguard Certified Indoor Air Emissions A+ Certified Indoor Air Quality Certified ISO 14001 Certified ISO 45001 Certified Reach Compliant RoHs Compliant | F37: 1 | G37: #VALUE!
A38: MS 01 | C38: MS01.b modulární nábytek sezení | D38: Čalouněný modul pro veřejné prostory. Rozměr 1200x600x605mm. Vnitřní struktura je z masivního dřeva (s PEFC certifikací). Struktura je potažená polyuretanovou pěnou. Potah vysoce odolná látka se snadným čištěním, antibakteriální úpravou a s úpravou proti skvrnám. Látka vhodná pro vysokou zátěž a veřejné prostory. Barva potahu je béžovo růžová cca RAL 3012 Vlastnosti látky: oděruvzdornost >300.000 (martindale), světlostálost ISO 105 B02 7/8. Certifikáty: Carbon Neutral Certified EcoSense Greenguard Certified Indoor Air Emissions A+ Certified Indoor Air Quality Certified ISO 14001 Certified ISO 45001 Certified Reach Compliant RoHs Compliant | F38: 1 | G38: #VALUE!
A39: MS 01 | D39: Čalouněný modul pro veřejné prostory. Rozměr 1200x600x605mm. Vnitřní struktura je z masivního dřeva (s PEFC certifikací). Struktura je potažená polyuretanovou pěnou. Potah vysoce odolná látka se snadným čištěním, antibakteriální úpravou a s úpravou proti skvrnám. Látka vhodná pro vysokou zátěž a veřejné prostory. Barva potahu je červenohnědá cca RAL 3011 Vlastnosti látky: oděruvzdornost >300.000 (martindale), světlostálost ISO 105 B02 7/8. Certifikáty: Carbon Neutral Certified EcoSense Greenguard Certified Indoor Air Emissions A+ Certified Indoor Air Quality Certified ISO 14001 Certified ISO 45001 Certified Reach Compliant RoHs Compliant | F39: 1 | G39: #VALUE!
A40: MS 01 | D40: Čalouněný modul pro veřejné prostory. Rozměr 1200x600x605mm. Vnitřní struktura je z masivního dřeva (s PEFC certifikací). Struktura je potažená polyuretanovou pěnou. Potah vysoce odolná látka se snadným čištěním, antibakteriální úpravou a s úpravou proti skvrnám. Látka vhodná pro vysokou zátěž a veřejné prostory. Barva potahu je hořčicová cca RAL 1006 Vlastnosti látky: oděruvzdornost >300.000 (martindale), světlostálost ISO 105 B02 7/8. Certifikáty: Carbon Neutral Certified EcoSense Greenguard Certified Indoor Air Emissions A+ Certified Indoor Air Quality Certified ISO 14001 Certified ISO 45001 Certified Reach Compliant RoHs Compliant | F40: 1 | G40: #VALUE!
A41: MS 01 | C41: MS01.c modulární nábytek sezení | D41: Čalouněný modul pro veřejné prostory. Rozměr 1200x1200x395mm. Vnitřní struktura je z masivního dřeva (s PEFC certifikací). Struktura je potažená polyuretanovou pěnou. Potah vysoce odolná látka se snadným čištěním, antibakteriální úpravou a s úpravou proti skvrnám. Látka vhodná pro vysokou zátěž a veřejné prostory. Barva potahu je béžovo růžová cca RAL 3012 Vlastnosti látky: oděruvzdornost >300.000 (martindale), světlostálost ISO 105 B02 7/8. Certifikáty: Carbon Neutral Certified EcoSense Greenguard Certified Indoor Air Emissions A+ Certified Indoor Air Quality Certified ISO 14001 Certified ISO 45001 Certified Reach Compliant RoHs Compliant | F41: 2 | G41: #VALUE!
A42: MS 01 | C42: MS01.c modulární nábytek sezení | D42: Čalouněný modul pro veřejné prostory. Rozměr 1200x1200x395mm. Vnitřní struktura je z masivního dřeva (s PEFC certifikací). Struktura je potažená polyuretanovou pěnou. Potah vysoce odolná látka se snadným čištěním, antibakteriální úpravou a s úpravou proti skvrnám. Látka vhodná pro vysokou zátěž a veřejné prostory. Barva potahu je červenohnědá cca RAL 3011 Vlastnosti látky: oděruvzdornost >300.000 (martindale), světlostálost ISO 105 B02 7/8. Certifikáty: Carbon Neutral Certified EcoSense Greenguard Certified Indoor Air Emissions A+ Certified Indoor Air Quality Certified ISO 14001 Certified ISO 45001 Certified Reach Compliant RoHs Compliant | F42: 1 | G42: #VALUE!
A43: MS 01 | C43: MS01.d modulární nábytek sezení | D43: Čalouněný modul pro veřejné prostory. Rozměr 1800x1200x395mm. Vnitřní struktura je z masivního dřeva (s PEFC certifikací). Struktura je potažená polyuretanovou pěnou. Potah vysoce odolná látka se snadným čištěním, antibakteriální úpravou a s úpravou proti skvrnám. Látka vhodná pro vysokou zátěž a veřejné prostory. Barva potahu je tmavě tyrkysová cca RAL 6004 Vlastnosti látky: oděruvzdornost >300.000 (martindale), světlostálost ISO 105 B02 7/8. Certifikáty: Carbon Neutral Certified EcoSense Greenguard Certified Indoor Air Emissions A+ Certified Indoor Air Quality Certified ISO 14001 Certified ISO 45001 Certified Reach Compliant RoHs Compliant | F43: 2 | G43: #VALUE!
...

Sheet vybavení tělcovičny 
A1: typ tabulky / type of chart | I1: dátum / date | J1: verze / version
A2: =Rozpiska!A20 -> TABULKA VOLNÉHO NÁBYTKU | H2: =Rozpiska!$G$23 -> 27.05.2025 | J2: =Rozpiska!$D$23 -> 00
A4: ozn.projektu / project | B4: čast/ part | G4: č.výkresu / number | H4: jazyk / language | I4: formát / paper size | J4: strany / pages
A5: =Rozpiska!$A$23 -> KOL | B5: =Rozpiska!$B$23 -> TD | G5: =Rozpiska!$C$23 -> 801 | H5: CZ | I5: A4 | J5: 3
A6: Poznámka Note | B6: Dodavatel může navrhnout alternativy s podobním vzhledem. Všechen nábytek a jeho materiálové řešení bude před objednáním vzorkováno a schváleno architektem. Dodavatel nábytku zodpovídá za ergonomickou kompatibilitu jednotlivých prvků a ověření počtu. Výběr materiálů soluží jako orientační podklad pro vzorkování, specifikace podléhají schválení klienta. Cena by měla reflektovat kompletní objem objednávky. Dodávku je možno etapizovat po dohodě s klientem. Prioritní objednávku mají kancelářské stoly a židle v rámci pracovišť. Alternate objects with similar design appearance can be proposed by the supplier. All the furniture and its' material solutions are subject of sampling and architect confirmation prior to the final order. The material selection serves as an orientational base for sampling, specifications are subject of client's approval. The furniture supplier is respíonsible for the ergonoímic compatability of each particular item and the varification of components number. The delivery may be accepted in stages based on client's approval. Main priority belongs to the office tables and chairs within the workplace.
A8: označení / label | B8: výrobca / brand | C8: produkt / product | D8: specifikace / specification | F8: počet / quantity | G8: ref. produkt / reference | H8: MOC / unit price | I8: suma / total price | J8: poznámky / notes
A9: Tělocvična - cvičební prvky
A10: TV 08 | C10: Sada pro badminton - sloupky + síť | D10: Badmintonové sloupky mobilní, na kolečkách. Zařízení je volně stojící (typ 3) a splňuje normu ČSN EN 1509. Ocelová konstrukce se závažím, kolečky a záseky pro uchycení sítě. Závaží sloupků je z plného ocelového materiálu. Sada obsahuje 2x sloupky + síť. v. 1550 x š. 700 mm (včetně koleček). | F10: 4 | I10: =H10*F10 -> 0 | L10: https://www.sportclub.cz/basketbalova-konstrukce-elektricky-sklopna-pod-strop-do-12-m-275.html
A11: TV 09 | C11: Sada pro florbal - branka + síť + zástěrka + mantinel + vozík | D11: Branka - certifikovaná IFF (oficiální) včetně známky; síť - polyamid, bílá; zástěrka - polyamid, bílá; mantinely - sada certifikovaných (IFF) mantinelů, obsahuje: 52 ks díl rovný 2 m, 8 ks oblouk, díly se spojují pomocí gumového provazu, materiál: polypropylén, barva bílá, vysoká odolnost proti zlomení; 2xvozík - pro přepravu mantinelů, pro uložení 36ks mantinelů. branka - 160 x 115 mm; síť - oko 40mm, horní hl. 400mm, dolní hl.600 mm; zástěrka - oko 40mm; mantinel - 40 x 20 m | F11: 2 | I11: =H11*F11 -> 0 | L11: https://www.sportclub.cz/basketbalova-deska-180-x-105-cm-preklizka-interier-certifikat-898.html
A12: TV 10 | C12: Branka na házenou + síť | D12: Branka - z rozkládacího rámu (jekl AL 80/80) a pevné, ocelové (ZN) konstrukce pro síť. Součástí dodávky je kotvení proti převrácení branky. Branka je určena do interiéru i exteriéru. Branka je certifikovaná. Přesná poloha branky - osazení kotvení proti převrácení - bude určena v rámci AD a skutečného zaměření. Síť - polyamid, bez zástěrky. Odpovídá ČSN EN 749+A1. branka - 2000 x 3000mm; síť - 3100 x 2000 mm, oko 100 mm | F12: 2 | I12: =H12*F12 -> 0 | L12: https://www.sportclub.cz/hrazda-poloprenosna-vcetne-hrazdove-tyce-nerez-prum-30-mm-32050.html
A13: TV 10a | C13: Branka malá na házenou + síť | D13: Branka malá na házenou, velikost branky max. 1,8 x 1,2 m, branka vč. Záchytné sítě Branka je určena do interiéru i exteriéru. Branka je certifikovaná. | F13: 4 | I13: =H13*F13 -> 0 | L13: https://www.sportclub.cz/splhova-tyc-prum-43-mm-delka-5-m-188.html | M13: https://www.sportclub.cz/kotevni-hacek-pro-splhovou-tyc-prum-43-mm-846.html | N13: https://www.sportclub.cz/splhova-konstrukce-pro-lana-a-tyce-tvar-u-187.html
A14: TV 11 | C14: Švédská lavička | D14: Švédská lavička tělocvičná s kladinkou, s hranolem na žebřinu. Horní deska - překližková deska, lak průhledný, nohy - překližka, úhelníky - spojení desky a nohy, dřevěný hranol pro zavěšení na žebřinu. d.3000 mm x š.250mm x v. 280mm, tl. horní desky 27mm, tl.nohy 27 mm stejná guma | F14: 2 | I14: =H14*F14 -> 0 | L14: https://www.sportclub.cz/lano-na-splh-prum-35-mm-delka-5-m-366.html | M14: https://www.sportclub.cz/kotevni-hacek-pro-splhove-lano-komaxit-189.html | N14: https://www.sportclub.cz/splhova-konstrukce-pro-lana-a-tyce-tvar-u-187.html
A15: TV 12 | C15: Gymnastická trampolína | D15: Kovová konstrukce s nastavitelnou výškou, konstrukce povrchově ošetřena zinkováním. Odraziště vypnuté pružným lanem 10 mm, lano je zakryté ochranným krytem. Maximální zatížení 95 kg. Trampolínu lze nastavit do sklonu pro odrazy na gymnastické nářadí nebo vodorovně na běžné skákání. Ochranný kryt s výplní PE pěna vyhovuje ČSN EN 913. celkový rozměr 1100 x 1100 mm, odraziště 700 x 700 mm | F15: 4 | I15: =H15*F15 -> 0 | L15: https://www.sportclub.cz/gymnasticke-kruhy-civkove-mechanismus-241.html
A16: TV 13 | C16: Gymnastický koberec | D16: Jádro vyrobeno z robustního a odolného PE-molitanu s protiskluzovou vrstvou na spodní straně, horní strana s velurovým vpichovaným kobercem. Materiál - vícevrstvé složení pěn, povrch velur. Barva: žlutá, šedá Rozměr - délka 2 m, 1200x3,5 mm cena za 4x 2000 m | F16: =2*4 -> 8 | I16: =H16*F16 -> 0 | L16: https://www.sportclub.cz/zebrina-telocvicna-rozm-290x95-cm-16-pricek-196.html
A17: TV 14 | C17: Kladina | D17: Kládina - lepená, dřevěná, čalouněná; kovové nohy s možností nastavení výšky kladiny od 55 do 130 cm. délka 5m, šířka horní nášlapné plochy 100 mm | F17: 1 | I17: =H17*F17 -> 0 | L17: https://www.sportclub.cz/volejbalove-sloupky-komaxit-do-zdi-prum-60-mm-251.html
A18: TV 15 | C18: Odrazový můstek | D18: Odrazový můstek pro školní tělocvičny, povrch odrazové desky je pokrytý kobercem. Rozměr 1200 x 600 mm, náskoková hrana 150 mm | F18: 4 | I18: =H18*F18 -> 0
A19: TV 16 | C19: Gymnastická koza | D19: Kovové nastavitelné nohy (2x tvar T) + čalouněný korpus kozy umělou kůží. Ocelové nohy povrchově ošetřeny práškovou vypalovací barvou. Výšku kozy je možno nastavit od 90 cm do 120 cm. Po stranách válečky sloužící k přesouvání zařízení po tělocvičně. Nohy opatřeny protiskluzovou gumou, která chrání podlahu proti poškození a šmouhám. korpus - d. 620 x š. 320 mm | F19: 2 | I19: =H19*F19 -> 0
A20: TV 17 | C20: Švédská bedna | D20: Konická 7-dílná. Materiál korpusu - překližka (multiplex) tl.15 mm, víko-surová dřevotříska, ekoflex (PE pěna) 30 mm, umělá kůže. víko 500 x 1300 mm, v. bedny včetně čalounění 1060 mm | F20: 2 | I20: =H20*F20 -> 0
A21: TV 18 | C21: Bradla tréninková | D21: Nastavitelná výška bradel 105 – 195 cm (nastavitelné po 5-ti cm). Tyče oválné, dřevěné. Přepravní vozík je součástí dodávky. Vyrobeno dle normy EN 914. Délka tyčí – 3450 mm; šířka bradel 530 – 570 mm; základní rám – 2550 x 1530 mm | F21: 1 | I21: =H21*F21 -> 0
A22: TV 19 | C22: Stůl na stolní tenis, skládací | D22: stůl pro vnitřní použití, dřevěná hrací deska 19 mm, okrajový lub 36 mm barva stolu zelená; možnost pohybu stolu na 4 kolečkách o průměru 125 mm. Složení umožňuje hru jednoho hráče. Vyroben podle normy EN 14468-1 třída C. Stůl je vybaven držákem síťky a síťkou, držák pálek a míčků. rozměr stolu d.2740 x š.1525 x v.760 mm, rozměr pro uskladnění 1840 x 650 x 1890 mm | F22: 4 | I22: =H22*F22 -> 0
A23: TV 20 | C23: Žíněnka standartní, PE pěna | D23: Žíněnka tuhá, pružná podložka určena k utlumení nárazů při cvičení (doskoky za nářadím apod.). Materiál - pogumovaný (otíratelný) polyester + spodní část - protiskluz, vyztužené rohy, uzávěr. Náplň: PE (polyethylén) pěna 7 cm. Opatřeno úchyty k přenášení žíněnky. Odskoušeno na utlumení nárazu jako typ 3, 4 a 7 (jednoduché kontrolované skoky z nářadí a dopadová matrace) dle normy ČSN EN 12503. rozměr 2000 x 1000 x 70 mm | F23: 10 | I23: =H23*F23 -> 0
A24: TV 21 | C24: Žíněnka standartní, molitan | D24: Žíněnka měkčí, pružná podložka určena k utlumení nárazů při cvičení (cvičení v leže na podlaze, kotouly apod.). Materiál - pogumovaný (otíratelný) polyester + spodní část - protiskluz, vyztužené rohy, uzávěr. Náplň: molitanová PUR pěna 7 cm. Opatřeno úchyty k přenášení žíněnky. Odskoušeno na utlumení nárazu jako typ 1, 2 (pro cvičení na zemi se skákáním) dle normy ČSN EN 12503. rozměr 2000 x 1000 x 70 mm | F24: 10 | I24: =H24*F24 -> 0
A25: TV 22 | C25: Sada pro skok vysoký | D25: Sada pro skok vysoký se skládá z - žíněnky pro skok vysoký 2x, spojovací plachty1x, stojanu pro skok vysoký 1x, laminátová laťka 1x. Žíněnka - obal: polyester pogumovaný, úchyty, spodní strana protiskluz, průduchy pro únik vzduchu, náplň: pěna PUR; Spojovací plachta - Krycí plachta slouží k překrytí více doskokových žíněnek a tím se zabrání rozjíždění žíněnek při používání, plachta z pogumovaného polyesteru, opatřena pružnými gumami; Stojany pro skok vysoký - vyrobeny z ocelových profilů, Spodní (základová část ve tvaru T, opatřena podložkami proti poškození podlahy, konstrukce je povrchově ošetřena vypalovací práškovou barvou, na svislém sloupku instalován metr a jezdec se šroubem k nastavovení výšky laťky od 60 do 200 cm. žíněnka - 2000 x 1700 x 400 mm; spojovací plachta - 2000 x 3400 x 400mm; latka - 4000 mm | F25: 1 | I25: =H25*F25 -> 0
H27: Celkem | I27: =SUM(I10:I25) -> 0

Sheet osvětlení lobby, světlíky
A1: typ tabulky / type of chart | I1: dátum / date | J1: verze / version
A2: =Rozpiska!A20 -> TABULKA VOLNÉHO NÁBYTKU | H2: =Rozpiska!$G$23 -> 27.05.2025 | J2: =Rozpiska!$D$23 -> 00
A4: ozn.projektu / project | B4: čast/ part | G4: č.výkresu / number | H4: jazyk / language | I4: formát / paper size | J4: strany / pages
A5: =Rozpiska!$A$23 -> KOL | B5: =Rozpiska!$B$23 -> TD | G5: =Rozpiska!$C$23 -> 801 | H5: CZ | I5: A4 | J5: 1
A6: Poznámka Note | B6: Dodavatel může navrhnout alternativy s podobním vzhledem. Všechen nábytek a jeho materiálové řešení bude před objednáním vzorkováno a schváleno architektem. Dodavatel nábytku zodpovídá za ergonomickou kompatibilitu jednotlivých prvků a ověření počtu. Výběr materiálů soluží jako orientační podklad pro vzorkování, specifikace podléhají schválení klienta. Cena by měla reflektovat kompletní objem objednávky. Dodávku je možno etapizovat po dohodě s klientem. Prioritní objednávku mají kancelářské stoly a židle v rámci pracovišť. Alternate objects with similar design appearance can be proposed by the supplier. All the furniture and its' material solutions are subject of sampling and architect confirmation prior to the final order. The material selection serves as an orientational base for sampling, specifications are subject of client's approval. The furniture supplier is respíonsible for the ergonoímic compatability of each particular item and the varification of components number. The delivery may be accepted in stages based on client's approval. Main priority belongs to the office tables and chairs within the workplace.
A8: označení / label | B8: výrobca / brand | C8: produkt / product | D8: specifikace / specification | F8: počet / quantity | G8: ref. produkt / reference | J8: poznámky / notes
A9: Svítidla designová
A10: SV 01 | C10: světlík 1500x2250 | D10: rolety se solárním napájením dvojitý plisovaný materiál, 30-40% efekt zatemnění ochrana před horkem, tkanina má speciální hliníkovou vrstvu s voštinovou strukturou - zadržuje cca 51% slunečního tepla rychlá, snadná instalace vodící lišty z eloxovaného hliníku, bez viditelných šňůr spárovaný nástěnný vypínač jeden hlavní ovladač - dokáže řídit až 200 rolet současně baterie - vysoká výdrž, až 600 operací na jedno nabití RAL v rozmezí 9016, 9003 musí se zaměřit na místě! | F10: 4 | G10: #VALUE! | I10: =H10*F10 -> 0
A11: SV 02 | C11: světlík 1500x1500 | D11: rolety se solárním napájením dvojitý plisovaný materiál, 30-40% efekt zatemnění ochrana před horkem, tkanina má speciální hliníkovou vrstvu s voštinovou strukturou - zadržuje cca 51% slunečního tepla rychlá, snadná instalace vodící lišty z eloxovaného hliníku, bez viditelných šňůr spárovaný nástěnný vypínač jeden hlavní ovladač - dokáže řídit až 200 rolet současně baterie - vysoká výdrž, až 600 operací na jedno nabití RAL v rozmezí 9016, 9003 musí se zaměřit na místě! | F11: 19 | G11: #VALUE! | I11: =H11*F11 -> 0
A12: SV 03 | C12: světlík 1500x4000 | D12: rolety se solárním napájením dvojitý plisovaný materiál, 30-40% efekt zatemnění ochrana před horkem, tkanina má speciální hliníkovou vrstvu s voštinovou strukturou - zadržuje cca 51% slunečního tepla rychlá, snadná instalace vodící lišty z eloxovaného hliníku, bez viditelných šňůr spárovaný nástěnný vypínač jeden hlavní ovladač - dokáže řídit až 200 rolet současně baterie - vysoká výdrž, až 600 operací na jedno nabití RAL v rozmezí 9016, 9003 musí se zaměřit na místě! | F12: 2 | G12: #VALUE! | I12: =H12*F12 -> 0
A13: SV 04 | C13: světlík 1360x2360 | D13: rolety se solárním napájením dvojitý plisovaný materiál, 30-40% efekt zatemnění ochrana před horkem, tkanina má speciální hliníkovou vrstvu s voštinovou strukturou - zadržuje cca 51% slunečního tepla rychlá, snadná instalace vodící lišty z eloxovaného hliníku, bez viditelných šňůr spárovaný nástěnný vypínač jeden hlavní ovladač - dokáže řídit až 200 rolet současně baterie - vysoká výdrž, až 600 operací na jedno nabití RAL v rozmezí 9016, 9003 musí se zaměřit na místě! | F13: 4 | G13: #VALUE! | I13: =H13*F13 -> 0
A14: SV 05 | C14: světlík 1300x700 | D14: rolety se solárním napájením dvojitý plisovaný materiál, 30-40% efekt zatemnění ochrana před horkem, tkanina má speciální hliníkovou vrstvu s voštinovou strukturou - zadržuje cca 51% slunečního tepla rychlá, snadná instalace vodící lišty z eloxovaného hliníku, bez viditelných šňůr spárovaný nástěnný vypínač jeden hlavní ovladač - dokáže řídit až 200 rolet současně baterie - vysoká výdrž, až 600 operací na jedno nabití RAL v rozmezí 9016, 9003 musí se zaměřit na místě! | F14: 1 | G14: #VALUE! | I14: =H14*F14 -> 0
H16: Celkem | I16: =SUM(I10:I14) -> 0
D51: Školní trojmístný počítačový stůl - 3x místo, 3x PC. Rozměry pracovní desky cca 2550 mm a hloubka cca 500 mm. Deska LTD tl. 25 mm s ostrými rohy a ABS hranou 2 mm, povrch melamin - buk a nebo deska Bond s HPL povrchem. Obsahuje kabelovou průchodku pro každé místo, umožňující uchycení ramene monitoru, žlab pro vedení kabeláže a konstrukce pod deskou umožňující zavěšení PC skříně. Kontstrukce tvořena z plochooválného profilu 50 x 30. Svařovaný kovový rám. Lakováno práškovou vypalovací barvou komaxit. Barevné provedení konstrukce v rozmezí RAL 9003, RAL 9016. Nohy stolu mají plastové koncovky s velkou třecí plochou, proti oděru a tlumí hluk , v rozmezí RAL 9003, RAL 7040
D52: Školní trojmístný počítačový stůl - 3x místo, 3x PC. Rozměry pracovní desky cca 2550 mm a hloubka cca 500 mm. Deska LTD tl. 25 mm s ostrými rohy a ABS hranou 2 mm, povrch melamin - buk a nebo deska Bond s HPL povrchem. Obsahuje kabelovou průchodku pro každé místo, umožňující uchycení ramene monitoru, žlab pro vedení kabeláže a konstrukce pod deskou umožňující zavěšení PC skříně. Kontstrukce tvořena z plochooválného profilu 50 x 30. Svařovaný kovový rám. Lakováno práškovou vypalovací barvou komaxit. Barevné provedení konstrukce v rozmezí RAL 9003, RAL 9016. Nohy stolu mají plastové koncovky s velkou třecí plochou, proti oděru a tlumí hluk , v rozmezí RAL 9003, RAL 7040
