Workbook

Sheet Rekapitulace
A1: Název | B1: Hodnota A | C1: Hodnota B
A2: Základní náklady
A3: Dodávka | B3: 0
A4: Doprava 3,60%, Přesun 1,00% | B4: =B3 * Parametry!B15 / 100 -> 0 | C4: =B3 * Parametry!B16 / 100 -> 0
A5: Montáž - materiál | C5: =(Rozpočet!E53) + 0 -> 0
A6: Montáž - práce | C6: =Rozpočet!G53 -> 0
A7: Mezisoučet 1 | B7: =B3 + B4 -> 0 | C7: =C3 + C4 + C5 + C6 -> 0
A8: PPV z montáže: materiál + práce | C8: =CEILING((C5 + C6) * Parametry!B17 / 100,1) -> 0
A9: Nátěry | C9: =0 + 0 -> 0
A10: Zemní práce | C10: =(Rozpočet!E87) + (Rozpočet!G87) -> 0
A11: PPV z nátěrů a zemních prací | C11: =CEILING((C9 + C10) * Parametry!B18 / 100,1) -> 0
A12: Mezisoučet 2 | B12: =B7 -> 0 | C12: =C7 + C8 + C9 + C10 + C11 -> 0
A13: Dodav. Dokumentace | C13: =CEILING((B12 + C12) * Parametry!B19 / 100,1) -> 0
A14: Rizika a pojištění | C14: =CEILING((B12 + C12) * Parametry!B20 / 100,1) -> 0
A15: Opravy v záruce | C15: =(B7 + C7) * Parametry!B21 / 100 -> 0
A16: Základní náklady celkem | C16: =B12 + C12 + C13 + C14 + C15 -> 0
A17: Vedlejší náklady
A18: GZS z pravé strany mezisoučtu 2 | C18: =CEILING(C12 * Parametry!B22 / 100,1) -> 0
A19: Provozní vlivy | C19: =CEILING(C12 * Parametry!B23 / 100,1) -> 0
A20: Vedlejší náklady celkem | C20: =C18 + C19 -> 0
A21: Kompletační činnost | C21: =Parametry!B24 * Parametry!B27 * (C16 * Parametry!B26)^Parametry!B25 -> 0
A22: Náklady celkem | C22: =C16 + C20 + C21 -> 0
A23: Základ a hodnota DPH 21% | B23: =C22 -> 0 | C23: =B23 * Parametry!B30 / 100 -> 0
A24: Základ a hodnota DPH 15% | C24: =B24 * Parametry!B31 / 100 -> 0
A25: Náklady celkem s DPH | C25: =C22 + C23 + C24 -> 0

Sheet Rozpočet
A1: Název | B1: Mj | C1: Počet | D1: Materiál | E1: Materiál celkem | F1: Montáž | G1: Montáž celkem | H1: Cena | I1: Cena celkem | J1: =Parametry!B33/100*F51+Parametry!B33/100*F53+Parametry!B33/100*F54+Parametry!B32/100*F56+Parametry!B32/100*F58+Parametry!B32/100*F60+Parametry!B32/100*F62+Parametry!B32/100*F63+Parametry!B32/100*F64+Parametry!B32/100*F66+Parametry!B32/100*F67+Parametry!B32/100*F69+Parametry!B32/100*F71+Parametry!B32/100*F72+Parametry!B32/100*F74+Parametry!B32/100*F75+Parametry!B32/100*F77+Parametry!B32/100*F79+Parametry!B32/100*F81+Parametry!B32/100*F85
A2: Elektromontáže
A3: Označení G - LED 20W 2700K, 3050lm, IP66, regulace vstupním napětím | B3: ks | C3: 20 | D3: 0 | E3: =C3*D3 -> 0 | F3: 0 | G3: =C3*F3 -> 0 | H3: =D3+F3 -> 0 | I3: =E3+G3 -> 0
A4: recyklační poplatek | B4: ks | C4: =SUM(C3:C3) -> 20 | D4: 0 | E4: =C4*D4 -> 0 | F4: 0 | G4: =C4*F4 -> 0 | H4: =D4+F4 -> 0 | I4: =E4+G4 -> 0
A5: KABEL SILOVÝ,IZOLACE PVC
A6: CYKY-J 5x1.5 mm2 | B6: m | C6: 100 | D6: 0 | E6: =C6*D6 -> 0 | F6: 0 | G6: =C6*F6 -> 0 | H6: =D6+F6 -> 0 | I6: =E6+G6 -> 0
A7: KABEL SILOVÝ,IZOLACE PVC S VODIČEM PE
A8: CYKY-J 4x16 mm2 | B8: m | C8: 700 | D8: 0 | E8: =C8*D8 -> 0 | F8: 0 | G8: =C8*F8 -> 0 | H8: =D8+F8 -> 0 | I8: =E8+G8 -> 0
A9: KF 09063 TRUBKA DVOUPL. KOPOFLEX | B9: m | C9: 680 | D9: 0 | E9: =C9*D9 -> 0 | F9: 0 | G9: =C9*F9 -> 0 | H9: =D9+F9 -> 0 | I9: =E9+G9 -> 0
A10: UKONČENÍ VODIČŮ NA SVORKOVNICI
A11: Do 6 mm2 | B11: ks | C11: 360 | D11: 0 | E11: =C11*D11 -> 0 | F11: 0 | G11: =C11*F11 -> 0 | H11: =D11+F11 -> 0 | I11: =E11+G11 -> 0
A12: Stožár ocelový
A13: Sadový výška nad zemí 4,5m | B13: ks | C13: 20 | D13: 0 | E13: =C13*D13 -> 0 | F13: 0 | G13: =C13*F13 -> 0 | H13: =D13+F13 -> 0 | I13: =E13+G13 -> 0
A14: Stožárová svorkovnice
A15: průchozí | B15: ks | C15: 20 | D15: 0 | E15: =C15*D15 -> 0 | F15: 0 | G15: =C15*F15 -> 0 | H15: =D15+F15 -> 0 | I15: =E15+G15 -> 0
A16: Ochranná folie | B16: m | C16: 680 | D16: 0 | E16: =C16*D16 -> 0 | F16: 0 | G16: =C16*F16 -> 0 | H16: =D16+F16 -> 0 | I16: =E16+G16 -> 0
A17: OCELOVÝ VODIČ POZINKOVANÝ
A18: FeZn 10mm (1.0 kg/m) | B18: m | C18: 700 | D18: 0 | E18: =C18*D18 -> 0 | F18: 0 | G18: =C18*F18 -> 0 | H18: =D18+F18 -> 0 | I18: =E18+G18 -> 0
A19: SVORKA HROMOSVODNÍ, UZEMŇOVACÍ
A20: SZa zkušební | B20: ks | C20: 20 | D20: 0 | E20: =C20*D20 -> 0 | F20: 0 | G20: =C20*F20 -> 0 | H20: =D20+F20 -> 0 | I20: =E20+G20 -> 0
A21: HODINOVE ZUCTOVACI SAZBY
A22: Pronájem mobilní plošiny | B22: hod | C22: 25 | D22: 0 | E22: =C22*D22 -> 0 | F22: 0 | G22: =C22*F22 -> 0 | H22: =D22+F22 -> 0 | I22: =E22+G22 -> 0
A23: Pronájem jeřábu | B23: hod | C23: 20 | D23: 0 | E23: =C23*D23 -> 0 | F23: 0 | G23: =C23*F23 -> 0 | H23: =D23+F23 -> 0 | I23: =E23+G23 -> 0
A24: Zataření nového kabelu do stávajících stožárů | B24: ks | C24: 2 | D24: 0 | E24: =C24*D24 -> 0 | F24: 0 | G24: =C24*F24 -> 0 | H24: =D24+F24 -> 0 | I24: =E24+G24 -> 0
A25: Vyhledani pripojovaciho mista | B25: kpl | C25: 1 | D25: 0 | E25: =C25*D25 -> 0 | F25: 0 | G25: =C25*F25 -> 0 | H25: =D25+F25 -> 0 | I25: =E25+G25 -> 0
A26: Předběžné obhlídky st místa | B26: kpl | C26: 1 | D26: 0 | E26: =C26*D26 -> 0 | F26: 0 | G26: =C26*F26 -> 0 | H26: =D26+F26 -> 0 | I26: =E26+G26 -> 0
A27: Dokumentace příprava zakázky | B27: kpl | C27: 1 | D27: 0 | E27: =C27*D27 -> 0 | F27: 0 | G27: =C27*F27 -> 0 | H27: =D27+F27 -> 0 | I27: =E27+G27 -> 0
A28: Účast na koordinačních jednáních a kontrolních dnech | B28: kpl | C28: 1 | D28: 0 | E28: =C28*D28 -> 0 | F28: 0 | G28: =C28*F28 -> 0 | H28: =D28+F28 -> 0 | I28: =E28+G28 -> 0
A29: Likvidace a odvoz odpadu | B29: kpl | C29: 1 | D29: 0 | E29: =C29*D29 -> 0 | F29: 0 | G29: =C29*F29 -> 0 | H29: =D29+F29 -> 0 | I29: =E29+G29 -> 0
A30: Mimostaveništní doprava, přesun | B30: kpl | C30: 1 | D30: 0 | E30: =C30*D30 -> 0 | F30: 0 | G30: =C30*F30 -> 0 | H30: =D30+F30 -> 0 | I30: =E30+G30 -> 0
A31: Měření izolačních stavů kabelů | B31: kpl | C31: 1 | D31: 0 | E31: =C31*D31 -> 0 | F31: 0 | G31: =C31*F31 -> 0 | H31: =D31+F31 -> 0 | I31: =E31+G31 -> 0
A32: Úklid stanoviště | B32: kpl | C32: 1 | D32: 0 | E32: =C32*D32 -> 0 | F32: 0 | G32: =C32*F32 -> 0 | H32: =D32+F32 -> 0 | I32: =E32+G32 -> 0
A33: Vytýčení sítí | B33: kpl | C33: 1 | D33: 0 | E33: =C33*D33 -> 0 | F33: 0 | G33: =C33*F33 -> 0 | H33: =D33+F33 -> 0 | I33: =E33+G33 -> 0
... A38: Označení zemnícího vedení | B38: kpl | C38: 1 | D38: 0 | E38: =C38*D38 -> 0 | F38: 0 | G38: =C38*F38 -> 0 | H38: =D38+F38 -> 0 | I38: =E38+G38 -> 0
A39: Zakreslení do digitální mapy | B39: kpl | C39: 1 | D39: 0 | E39: =C39*D39 -> 0 | F39: 0 | G39: =C39*F39 -> 0 | H39: =D39+F39 -> 0 | I39: 0
A40: Zhotovení geometrického plánu | B40: kpl | C40: 1 | D40: 0 | E40: =C40*D40 -> 0 | F40: 0 | G40: =C40*F40 -> 0 | H40: =D40+F40 -> 0 | I40: =E40+G40 -> 0
A41: Spolupráce s investorem | B41: kpl | C41: 1 | D41: 0 | E41: =C41*D41 -> 0 | F41: 0 | G41: =C41*F41 -> 0 | H41: =D41+F41 -> 0 | I41: =E41+G41 -> 0
A42: Statický výpočet základu stožáru | B42: kpl | C42: 1 | D42: 0 | E42: =C42*D42 -> 0 | F42: 0 | G42: =C42*F42 -> 0 | H42: =D42+F42 -> 0 | I42: =E42+G42 -> 0
A43: PROVEDENI REVIZNICH ZKOUSEK DLE CSN
A44: Revizni technik | B44: hod | C44: 20 | D44: 0 | E44: =C44*D44 -> 0 | F44: 0 | G44: =C44*F44 -> 0 | H44: =D44+F44 -> 0 | I44: =E44+G44 -> 0
...

Sheet Parametry
A1: Název | B1: Hodnota
A2: Nadpis rekapitulace | B2: Seznam prací a dodávek elektrotechnických zařízení
A3: Akce | B3: Výstavba VO podél cyklostezky na Labském nábřeží, Poděbrady
A4: Projekt | B4: Část VO od ul. Mánesova po ČOV
A5: Investor | B5: Město Poděbrady
A6: Z. č. | B6: Z25-027
A7: A. č. | B7: Z25-027
A8: Smlouva
A9: Vypracoval
A10: Kontroloval
A11: Datum
A12: Zpracovatel
A13: CÚ
A14: Poznámka | B14: Uvedené ceny jsou v Kč a nezahrnují DPH, pokud to není uvedeno.
A15: Doprava dodávek (3,6) % | B15: 3,60
A16: Přesun dodávek (1) % | B16: 1,00
A17: PPV (1 nebo 6) % | B17: 1,00
A18: PPV zemních prací, nátěrů (1) % | B18: 1
A19: Dodavat. dokumentace (1 - 1,5) % | B19: 1
A20: Rizika a pojištění (1 - 1,5) % | B20: 1
A21: Opravy v záruce (5 - 7) % | B21: 5
A22: GZS (3,25 nebo 8,4) % | B22: 3,25
A23: Provozní vlivy % | B23: 5
A24: Kompletační činnost - a | B24: 0,00
A25: Kompletační činnost - b | B25: 0,952842
... A31: 2. sazba DPH % | B31: 15
A32: Procento PM % 1 | B32: 5
A33: Procento PM % 2 | B33: 20
