Workbook
Name CelkemDPHVypocet: Stavba!$H$52
Name CenaCelkem: Stavba!$G$29
Name CenaCelkemBezDPH: Stavba!$G$28
Name CenaCelkemVypocet: Stavba!$I$52
Name cisloobjektu: Stavba!$D$3
Name CisloRozpoctu: '[1]Krycí list'!$C$2
Name CisloStavby: Stavba!$D$2
Name cislostavby: '[1]Krycí list'!$A$7
Name CisloStavebnihoRozpoctu: Stavba!$D$4
Name dadresa: Stavba!$D$12:$G$12
Name DIČ: Stavba!$I$12
Name dmisto: Stavba!$E$13:$G$13
Name DPHSni: Stavba!$G$24
Name DPHZakl: Stavba!$G$26
Name dpsc: Stavba!$D$13
Name IČO: Stavba!$I$11
Name Mena: Stavba!$J$29
Name MistoStavby: Stavba!$D$4
Name nazevobjektu: Stavba!$E$3
Name NazevRozpoctu: '[1]Krycí list'!$D$2
Name NazevStavby: Stavba!$E$2
Name nazevstavby: '[1]Krycí list'!$C$7
Name NazevStavebnihoRozpoctu: Stavba!$E$4
Name oadresa: Stavba!$D$6
Name Objednatel: Stavba!$D$5
Name Objekt: Stavba!$B$38
Name odic: Stavba!$I$6
Name oico: Stavba!$I$5
Name omisto: Stavba!$E$7
Name onazev: Stavba!$D$6
Name opsc: Stavba!$D$7
Name padresa: Stavba!$D$9
Name pdic: Stavba!$I$9
Name pico: Stavba!$I$8
Name pmisto: Stavba!$E$10
Name PocetMJ: #REF!
Name PoptavkaID: Stavba!$A$1
Name pPSC: Stavba!$D$10
Name Projektant: Stavba!$D$8
Name SazbaDPH1: Stavba!$E$23
Name SazbaDPH1: '[1]Krycí list'!$C$30
Name SazbaDPH2: Stavba!$E$25
Name SazbaDPH2: '[1]Krycí list'!$C$32
Name SloupecCC: #REF!
Name SloupecCisloPol: #REF!
Name SloupecJC: #REF!
Name SloupecMJ: #REF!
Name SloupecMnozstvi: #REF!
Name SloupecNazPol: #REF!
Name SloupecPC: #REF!
Name Vypracoval: Stavba!$D$14
Name ZakladDPHSni: Stavba!$G$23
Name ZakladDPHSniVypocet: Stavba!$F$52
Name ZakladDPHZakl: Stavba!$G$25
Name ZakladDPHZaklVypocet: Stavba!$G$52
Name ZaObjednatele: Stavba!$G$34
Name Zaokrouhleni: Stavba!$G$27
Name ZaZhotovitele: Stavba!$D$34
Name Zhotovitel: Stavba!$D$11:$G$11

Sheet Pokyny pro vyplnění
A1: Pokyny pro vyplnění
A2: Ve všech listech tohoto souboru můžete měnit pouze buňky s modrým pozadím. Jedná se o tyto údaje : - údaje o firmě - jednotkové ceny položek zadané na maximálně dvě desetinná místa

Sheet Stavba
A1: #RTSROZP# | B1: Položkový soupis prací stavby
B2: Stavba: | D2: 2025/129 | E2: Parkovací stání ul.Dukelská, Zliv
B5: Objednatel: | H5: IČO:
H6: DIČ:
B8: Projektant: | H8: IČO:
H9: DIČ:
B11: Zhotovitel: | H11: IČO:
H12: DIČ:
B14: Vypracoval:
B15: Rozpis ceny | I15: Celkem
A16: HSV | B16: HSV | I16: =I59+I60+I61+I62+I63+I64+I65+I66+I67 -> 0
A17: PSV | B17: PSV | I17: =SUMIF(F59:F70,A17,I59:I70) -> 0
A18: MON | B18: MON | I18: =I71 -> 0
A19: VN | B19: Vedlejší náklady | I19: =I69 -> 0
A20: ON | B20: Ostatní náklady | I20: =I68 -> 0
B21: Celkem | I21: =SUM(I16:J20) -> 0
B22: Rekapitulace daní
A23: =ZakladDPHSni*SazbaDPH1/100 -> 0 | B23: Základ pro sníženou DPH | E23: 12 | F23: % | G23: =ZakladDPHSniVypocet -> 0 | J23: =Mena -> CZK
A24: =(A23-INT(A23))*100 -> 0 | B24: Snížená DPH | E24: =SazbaDPH1 -> 12 | F24: % | G24: =A23 -> 0 | J24: =Mena -> CZK
A25: =ZakladDPHZakl*SazbaDPH2/100 -> 0 | B25: Základ pro základní DPH | E25: 21 | F25: % | G25: =ZakladDPHZaklVypocet -> 0 | J25: =Mena -> CZK
A26: =(A25-INT(A25))*100 -> 0 | B26: Základní DPH | E26: =SazbaDPH2 -> 21 | F26: % | G26: =A25 -> 0 | J26: =Mena -> CZK
A27: =ZakladDPHSni+DPHSni+ZakladDPHZakl+DPHZakl -> 0 | B27: Zaokrouhlení | G27: =CenaCelkem-(ZakladDPHSni+DPHSni+ZakladDPHZakl+DPHZakl) -> 0 | J27: =Mena -> CZK
B28: Cena celkem bez DPH | G28: =ZakladDPHSniVypocet+ZakladDPHZaklVypocet -> 0 | J28: =Mena -> CZK
A29: =(A27-INT(A27))*100 -> 0 | B29: Cena celkem s DPH | G29: =A27 -> 0 | J29: CZK
C32: v | F32: dne
D35: Za zhotovitele | H35: Za objednatele
B37: Rekapitulace dílčích částí
A38: #CASTI>> | B38: Číslo | C38: Název | F38: =B23 -> Základ pro sníženou DPH | G38: =B25 -> Základ pro základní DPH | H38: DPH celkem | I38: Cena celkem
A39: 1 | B39: Stavba | F39: =OVN!AE31+'SO 101'!AE270+'SO 102'!AE286+'SO 103'!AE286+'SO 104'!AE167+'SO 105'!AE96 -> 0 | G39: =OVN!AF31+'SO 101'!AF270+'SO 102'!AF286+'SO 103'!AF286+'SO 104'!AF167+'SO 105'!AF96 -> 0 | H39: =(F39*SazbaDPH1/100)+(G39*SazbaDPH2/100) -> 0 | I39: =F39+G39+H39 -> 0
A40: 2 | B40: 00 | C40: Ostatní a vedlejší náklady | F40: =OVN!AE31 -> 0 | G40: =OVN!G31 -> 0 | H40: =(F40*SazbaDPH1/100)+(G40*SazbaDPH2/100) -> 0 | I40: =F40+G40+H40 -> 0
A42: 2 | B42: 01 | C42: SO 101 Ulice Dukelská | F42: ='SO 101'!AE270 -> 0 | G42: ='SO 101'!G270 -> 0 | H42: =(F42*SazbaDPH1/100)+(G42*SazbaDPH2/100) -> 0 | I42: =F42+G42+H42 -> 0
A44: 2 | B44: 02 | C44: SO 102 Chodníky Dukelská | F44: ='SO 102'!AE286 -> 0 | G44: ='SO 102'!G286 -> 0 | H44: =(F44*SazbaDPH1/100)+(G44*SazbaDPH2/100) -> 0 | I44: =F44+G44+H44 -> 0
A46: 2 | B46: 03 | C46: SO 103 Parkovací stání Dukelská | F46: ='SO 103'!AE286 -> 0 | G46: ='SO 103'!G286 -> 0 | H46: =(F46*SazbaDPH1/100)+(G46*SazbaDPH2/100) -> 0 | I46: =F46+G46+H46 -> 0
A48: 2 | B48: 04 | C48: SO 104 Parkovací stání Tyršova | F48: ='SO 104'!AE167 -> 0 | G48: ='SO 104'!G167 -> 0 | H48: =(F48*SazbaDPH1/100)+(G48*SazbaDPH2/100) -> 0 | I48: =F48+G48+H48 -> 0
A50: 2 | B50: 05 | C50: SO 105 Chodníky Tyršova | F50: ='SO 105'!AE96 -> 0 | G50: ='SO 105'!G96 -> 0 | H50: =(F50*SazbaDPH1/100)+(G50*SazbaDPH2/100) -> 0 | I50: =F50+G50+H50 -> 0
B52: Celkem za stavbu | F52: =SUMIF(A39:A51,"=1",F39:F51) -> 0 | G52: =SUM(G40:G51) -> 0 | H52: =SUM(H40:H51) -> 0 | I52: =SUM(I40:I51) -> 0
B56: Rekapitulace dílů
B58: Číslo | C58: Název | F58: Typ dílu | I58: Celkem
B59: 1 | C59: Zemní práce | F59: HSV | I59: ='SO 101'!G8+'SO 102'!G8+'SO 103'!G8+'SO 104'!G8+'SO 105'!G8 -> 0
B60: 2 | C60: Základy a zvláštní zakládání | F60: HSV | I60: ='SO 101'!G100+'SO 103'!G117 -> 0
B61: 3 | C61: Svislé a kompletní konstrukce | F61: HSV | I61: ='SO 102'!G157+'SO 103'!G138 -> 0
B62: 4 | C62: Vodorovné konstrukce | F62: HSV | I62: ='SO 101'!G113+'SO 103'!G147 -> 0
B63: 5 | C63: Komunikace | F63: HSV | I63: ='SO 101'!G116+'SO 102'!G163+'SO 103'!G153+'SO 104'!G66+'SO 105'!G41 -> 0
B64: 8 | C64: Trubní vedení | F64: HSV | I64: ='SO 101'!G142+'SO 102'!G214+'SO 103'!G199 -> 0
B65: 91 | C65: Doplňující práce na komunikaci | F65: HSV | I65: ='SO 101'!G174+'SO 102'!G245+'SO 103'!G243+'SO 104'!G111+'SO 105'!G69 -> 0
B66: 96 | C66: Bourání konstrukcí | F66: HSV | I66: ='SO 101'!G233+'SO 102'!G264+'SO 103'!G258+'SO 104'!G146+'SO 105'!G85 -> 0
B67: 99 | C67: Staveništní přesun hmot | F67: HSV | I67: ='SO 101'!G254+'SO 102'!G275+'SO 103'!G271+'SO 104'!G157+'SO 105'!G93 -> 0
B68: ON | C68: Ostatní náklady | F68: HSV | I68: =OVN!G8 -> 0
B69: VN | C69: Vedlejší náklady | F69: HSV | I69: =OVN!G24 -> 0
B70: 721 | C70: Vnitřní kanalizace | F70: PSV | I70: ='SO 101'!G256+'SO 103'!G273 -> 0
B71: M21 | C71: Elektromontáže | F71: MON | I71: ='SO 101'!G260+'SO 102'!G277+'SO 103'!G277+'SO 104'!G159 -> 0
B72: Cena celkem | I72: =SUM(I59:I71) -> 0

Sheet VzorPolozky
A1: Položkový rozpočet
A2: S:
A3: O:
A4: R:

Sheet OVN
A1: Položkový soupis prací | V1: #TypZaznamu#
A2: S: | B2: 2025/129 | C2: Parkovací stání ul.Dukelská, Zliv | V2: STA
A3: O: | B3: 00 | C3: Ostatní a vedlejší náklady | R3: STA | V3: OBJ
A4: R: | B4: 00 | C4: Ostatní a vedlejší náklady | V4: ROZ
A6: P.č. | B6: Číslo položky | C6: Název položky | D6: MJ | E6: Množství | F6: Cena / MJ | G6: Celkem | H6: Cen. soustava / platnost | I6: Cenová úroveň | J6: Nhod / MJ | K6: Nhod celk. | L6: Dodavatel | M6: Typ položky | N6: Stav položky
A8: Díl: | B8: ON | C8: Ostatní náklady | G8: =SUMIF(AG9:AG23,"<>NOR",G9:G23) -> 0 | K8: =SUM(K9:K23) -> #REF! | V8: DIL
A9: 1 | B9: 00511 R | C9: Geodetické zaměření skutečného provedení, "geometrický plán" | D9: soubor | E9: 1 | G9: =ROUND(E9*F9,2) -> 0 | H9: Vlastní | I9: Indiv | J9: 0 | K9: =ROUND(#REF!*J9,2) -> #REF! | M9: Práce | N9: Běžná | V9: POL1_1
C10: Náklady na provedení skutečného zaměření stavby v rozsahu nezbytném pro zápis změny do katastru nemovitostí. | V10: POP | BA10: =C10 -> Náklady na provedení skutečného zaměření stavby v rozsahu nezbytném pro zápis změny do katastru nemovitostí.
A11: 2 | B11: 005111020R | C11: Geodetické vytyčení před zahájením stavby vč.protokolu o vytýčení | D11: soubor | E11: 1 | G11: =ROUND(E11*F11,2) -> 0 | H11: Vlastní | I11: Indiv | J11: 0 | K11: =ROUND(#REF!*J11,2) -> #REF! | M11: Práce | N11: Běžná | V11: POL1_1
A12: 3 | B12: 005211020R | C12: Ochrana stávaj.inženýrských sítí na staveništi | D12: soubor | E12: 1 | G12: =ROUND(E12*F12,2) -> 0 | H12: Vlastní | I12: Indiv | J12: 0 | K12: =ROUND(#REF!*J12,2) -> #REF! | M12: Práce | N12: Běžná | V12: POL1_1
C13: Náklady na přezkoumání podkladů objednatele o stavu inženýrských sítí probíhajících staveništěm nebo dotčenými stavbou i mimo území staveniště, kontrola a vytýčení jejich skutečné trasy a provedení ochranných opatření pro zabezpečení stávajících inženýrských sítí. | V13: POP | BA13: =C13 -> Náklady na přezkoumání podkladů objednatele o stavu inženýrských sítí probíhajících staveništěm nebo dotčenými stavbou i mimo území staveniště, kontrola a vytýčení jejich skutečné trasy a provedení ochranných opatření pro zabezpečení stávajících inženýrských sítí.
A14: 4 | B14: 005211030R | C14: Dočasná dopravní opatření | D14: soubor | E14: 1 | G14: =ROUND(E14*F14,2) -> 0 | H14: Vlastní | I14: Indiv | J14: 0 | K14: =ROUND(#REF!*J14,2) -> #REF! | M14: Práce | N14: Běžná | V14: POL1_1
C15: Náklady na vyhotovení návrhu dočasného dopravního značení, jeho projednání s dotčenými orgány a organizacemi, dodání dopravních značek a světelné signalizace, jejich rozmístění a přemísťování a jejich údržba v průběhu výstavby včetně následného odstranění po ukončení stavebních prací. | V15: POP | BA15: =C15 -> Náklady na vyhotovení návrhu dočasného dopravního značení, jeho projednání s dotčenými orgány a organizacemi, dodání dopravních značek a světelné signalizace, jejich rozmístění a přemísťování a jejich údržba v průběhu výstavby včetně následného odstranění po ukončení stavebních prací.
A16: 5 | B16: 005211080R | C16: Naplnění podmínek a povinností vyplývajících z plánu BOZP, vč.oplocení stavby | D16: soubor | E16: 1 | G16: =ROUND(E16*F16,2) -> 0 | H16: Vlastní | I16: Indiv | J16: 0 | K16: =ROUND(#REF!*J16,2) -> #REF! | M16: Práce | N16: Běžná | V16: POL1_1
C17: Náklady na ochranu staveniště před vstupem nepovolaných osob, včetně příslušného značení, náklady na oplocení staveniště či na jeho osvětlení, náklady na vypracování potřebné dokumentace pro provoz staveniště z hlediska požární ochrany (požární řád a poplachová směrnice), z hlediska provozu staveniště (provozně dopravní řád) a z hlediska bezpečnosti práce (plán BOZP). | V17: POP | BA17: =C17 -> Náklady na ochranu staveniště před vstupem nepovolaných osob, včetně příslušného značení, náklady na oplocení staveniště či na jeho osvětlení, náklady na vypracování potřebné dokumentace pro provoz staveniště z hlediska požární ochrany (požární řád a poplachová směrnice), z hlediska provozu staveniště (provozně dopravní řád) a z hlediska bezpečnosti práce (plán BOZP).
A18: 6 | B18: 005241010R | C18: Dokumentace skutečného provedení stavby | D18: soubor | E18: 1 | G18: =ROUND(E18*F18,2) -> 0 | H18: Vlastní | I18: Indiv | J18: 0 | K18: =ROUND(#REF!*J18,2) -> #REF! | M18: Práce | N18: Běžná | V18: POL1_1
C19: Náklady na vyhotovení dokumentace skutečného provedení stavby a její předání objednateli dle podmínek smlouvy o dílo. | V19: POP | BA19: =C19 -> Náklady na vyhotovení dokumentace skutečného provedení stavby a její předání objednateli dle podmínek smlouvy o dílo.
A20: 7 | B20: 005256 | C20: Autorský dozor | D20: soubor | E20: 1 | G20: =ROUND(E20*F20,2) -> 0 | H20: Vlastní | I20: Indiv | J20: 0 | K20: =ROUND(#REF!*J20,2) -> #REF! | M20: Práce | N20: Běžná | V20: POL1_1
A21: 8 | B21: 00523 R | C21: Zkoušky, revize, atesty | D21: soubor | E21: 1 | G21: =ROUND(E21*F21,2) -> 0 | H21: Vlastní | I21: Indiv | J21: 0 | K21: =ROUND(#REF!*J21,2) -> #REF! | M21: Specifikace | N21: Běžná | V21: POL3_1
C22: Náklady na provedení všech nezbytných zkoušek, atestů a revizí podle ČSN, ČSN EN, podmínek projektové dokumentace, stavebního povolení a případných jiných právních nebo technických předpisů platných v době provádění a předání díla, | V22: POP | BA22: =C22 -> Náklady na provedení všech nezbytných zkoušek, atestů a revizí podle ČSN, ČSN EN, podmínek projektové dokumentace, stavebního povolení a případných jiných právních nebo technických předpisů platných v době provádění a předání díla,
C23: kterými bude prokázáno dosažení předepsané kvality a předepsanýchtechnických parametrů díla v průběhu stavby, při předání a převzetí díla a při kolaudaci stavby. | V23: POP | BA23: =C23 -> kterými bude prokázáno dosažení předepsané kvality a předepsanýchtechnických parametrů díla v průběhu stavby, při předání a převzetí díla a při kolaudaci stavby.
A24: Díl: | B24: VN | C24: Vedlejší náklady | G24: =SUMIF(AG25:AG29,"<>NOR",G25:G29) -> 0 | K24: =SUM(K25:K29) -> #REF! | V24: DIL
A25: 9 | B25: 005121010R | C25: Vybudování, provoz a likvidace zařízení staveniště | D25: soubor | E25: 1 | G25: =ROUND(E25*F25,2) -> 0 | H25: Vlastní | I25: Indiv | J25: 0 | K25: =ROUND(#REF!*J25,2) -> #REF! | M25: Práce | N25: Běžná | V25: POL1_1
C26: Náklady spojené s případným vypracováním projektové dokumentace zařízení staveniště, zřízením přípojek energií k objektům zařízení staveniště, vybudování případných měřících odběrných míst a zřízení, případná příprava území pro objekty zařízení staveniště a vlastní vybudování objektů zařízení staveniště. | V26: POP | BA26: =C26 -> Náklady spojené s případným vypracováním projektové dokumentace zařízení staveniště, zřízením přípojek energií k objektům zařízení staveniště, vybudování případných měřících odběrných míst a zřízení, případná příprava území pro objekty zařízení staveniště a vlastní vybudování objektů zařízení staveniště.
A27: 10 | B27: 005121030R | C27: Uvedení ploch dotčených stavbou do původního stavu vč.protokolárního předání | D27: soubor | E27: 1 | G27: =ROUND(E27*F27,2) -> 0 | H27: Vlastní | I27: Indiv | J27: 0 | K27: =ROUND(#REF!*J27,2) -> #REF! | M27: Práce | N27: Běžná | V27: POL1_1
A28: 11 | B28: 005121032R | C28: Opatření k zamezení vyvážení nečistot ze stavby vč.průběžného čištění stávajících komunikací | D28: soubor | E28: 1 | G28: =ROUND(E28*F28,2) -> 0 | H28: Vlastní | I28: Indiv | J28: 0 | K28: =ROUND(#REF!*J28,2) -> #REF! | M28: Práce | N28: Běžná | V28: POL1_1
A29: 12 | B29: 005121038R | C29: Nepředpokládané vlivy v průběhu stavby | D29: soubor | E29: 1 | G29: =ROUND(E29*F29,2) -> 0 | H29: Vlastní | I29: Indiv | J29: 0 | K29: =ROUND(#REF!*J29,2) -> #REF! | M29: Práce | N29: Běžná | V29: POL1_1
T30: 12 | U30: 21 | V30: DPH
B31: Celkem | G31: =G8+G24 -> 0 | T31: =SUMIF(A7:A29,T30,#REF!) -> #REF! | U31: =SUMIF(A7:A29,U30,#REF!) -> #REF! | V31: SUM

Sheet SO 101
A1: Položkový soupis prací | V1: #TypZaznamu#
A2: S: | B2: 2025/129 | C2: Parkovací stání ul.Dukelská, Zliv | V2: STA
A3: O: | B3: 01 | C3: SO 101 Ulice Dukelská | R3: STA | V3: OBJ
A4: R: | B4: 01 | C4: SO 101 Ulice Dukelská | V4: ROZ
A6: P.č. | B6: Číslo položky | C6: Název položky | D6: MJ | E6: Množství | F6: Cena / MJ | G6: Celkem | H6: Cen. soustava / platnost | I6: Cenová úroveň | J6: Nhod / MJ | K6: Nhod celk. | L6: Dodavatel | M6: Typ položky | N6: Stav položky
A8: Díl: | B8: 1 | C8: Zemní práce | G8: =SUMIF(AG9:AG99,"<>NOR",G9:G99) -> 0 | K8: =SUM(K9:K99) -> #REF! | V8: DIL
A9: 1 | B9: 113106121R00 | C9: Rozebrání dlažeb z betonových dlaždic na sucho | D9: m2 | E9: 13 | G9: =ROUND(E9*F9,2) -> 0 | H9: RTS 25/ II | I9: RTS 25/ II | J9: 0.16 | K9: =ROUND(#REF!*J9,2) -> #REF! | M9: Práce | N9: Běžná | V9: POL1_1
C10: stáv.přídlažba : 13 | E10: 13 | V10: VV | W10: 0
A11: 2 | B11: 113106231R00 | C11: Rozebrání dlažeb ze zámkové dlažby v kamenivu | D11: m2 | E11: 268 | G11: =ROUND(E11*F11,2) -> 0 | H11: RTS 25/ II | I11: RTS 25/ II | J11: 0.142 | K11: =ROUND(#REF!*J11,2) -> #REF! | M11: Práce | N11: Běžná | V11: POL1_1
C12: 268 | E12: 268 | V12: VV | W12: 0
A13: 3 | B13: 113107515R00 | C13: Odstranění podkladu pl. 50 m2,kam.drcené tl.15 cm | D13: m2 | E13: 43 | G13: =ROUND(E13*F13,2) -> 0 | H13: RTS 25/ II | I13: RTS 25/ II | J13: 0.5265 | K13: =ROUND(#REF!*J13,2) -> #REF! | M13: Práce | N13: Běžná | V13: POL1_1
C14: podklad pod bet.deskou : 30 | E14: 30 | V14: VV | W14: 0
C15: podklad pod přídlažbou : 13 | E15: 13 | V15: VV | W15: 0
A16: 4 | B16: 113107605R00 | C16: Odstranění podkladu nad 50 m2,kam.drcené tl.5 cm | D16: m2 | E16: 268 | G16: =ROUND(E16*F16,2) -> 0 | H16: RTS 25/ II | I16: RTS 25/ II | J16: 0.0259 | K16: =ROUND(#REF!*J16,2) -> #REF! | M16: Práce | N16: Běžná | V16: POL1_1
C17: podklad pod zámk.dlažbou (lože) : 268 | E17: 268 | V17: VV | W17: 0
A18: 5 | B18: 113107615R00 | C18: Odstranění podkladu nad 50 m2,kam.drcené tl.15 cm | D18: m2 | E18: 268 | G18: =ROUND(E18*F18,2) -> 0 | H18: RTS 25/ II | I18: RTS 25/ II | J18: 0.06 | K18: =ROUND(#REF!*J18,2) -> #REF! | M18: Práce | N18: Běžná | V18: POL1_1
C19: podklad pod zámk.dlažbou : 268 | E19: 268 | V19: VV | W19: 0
A20: 6 | B20: 113109310R00 | C20: Odstranění podkladu pl.50 m2, bet.prostý tl.10 cm | D20: m2 | E20: 13 | G20: =ROUND(E20*F20,2) -> 0 | H20: RTS 25/ II | I20: RTS 25/ II | J20: 0.80648 | K20: =ROUND(#REF!*J20,2) -> #REF! | M20: Práce | N20: Běžná | V20: POL1_1
C21: stáv.přídlažba - podklad : 13 | E21: 13 | V21: VV | W21: 0
A22: 7 | B22: 113151119R00 | C22: Fréz.živič.krytu pl.do 500 m2,pruh do 75cm,tl.10cm | D22: m2 | E22: 24 | G22: =ROUND(E22*F22,2) -> 0 | H22: RTS 25/ II | I22: RTS 25/ II | J22: 0.12 | K22: =ROUND(#REF!*J22,2) -> #REF! | M22: Práce | N22: Běžná | V22: POL1_1
C23: 24 | E23: 24 | V23: VV | W23: 0
A24: 8 | B24: 113151319R00 | C24: Fréz.živič.krytu nad 500 m2, s překážkami, tl.10cm | D24: m2 | E24: 969 | G24: =ROUND(E24*F24,2) -> 0 | H24: RTS 25/ II | I24: RTS 25/ II | J24: 0.0705 | K24: =ROUND(#REF!*J24,2) -> #REF! | M24: Práce | N24: Běžná | V24: POL1_1
C25: 969 | E25: 969 | V25: VV | W25: 0
A26: 9 | B26: 113201111R00 | C26: Vytrhání obrubníků chodníkových a parkových vč.vybourání betonového lože | D26: m | E26: 121 | G26: =ROUND(E26*F26,2) -> 0 | H26: RTS 25/ II | I26: RTS 25/ II | J26: 0.143 | K26: =ROUND(#REF!*J26,2) -> #REF! | M26: Práce | N26: Běžná | V26: POL1_1
C27: 27+62+1+31 | E27: 121 | V27: VV | W27: 0
A28: 10 | B28: 113202111R00 | C28: Vytrhání obrub obrubníků silničních vč.vybourání betonového lože | D28: m | E28: 213 | G28: =ROUND(E28*F28,2) -> 0 | H28: RTS 25/ II | I28: RTS 25/ II | J28: 0.123 | K28: =ROUND(#REF!*J28,2) -> #REF! | M28: Práce | N28: Běžná | V28: POL1_1
C29: 197+16 | E29: 213 | V29: VV | W29: 0
A30: 11 | B30: 121101100R00 | C30: Sejmutí ornice, pl. do 400 m2, přemístění do 50 m | D30: m3 | E30: 3.2 | G30: =ROUND(E30*F30,2) -> 0 | H30: RTS 25/ II | I30: RTS 25/ II | J30: 0.0952 | K30: =ROUND(#REF!*J30,2) -> #REF! | M30: Práce | N30: Běžná | V30: POL1_1
C31: (2+29+1)*0,1 | E31: 3.2 | V31: VV | W31: 0
A32: 12 | B32: 122202201R00 | C32: Odkopávky pro silnice v hor. 3 do 100 m3 | D32: m3 | E32: 95.6 | G32: =ROUND(E32*F32,2) -> 0 | H32: RTS 25/ II | I32: RTS 25/ II | J32: 0.422 | K32: =ROUND(#REF!*J32,2) -> #REF! | M32: Práce | N32: Běžná | V32: POL1_1
C33: odkopávky pro zpev.plochy : 268*0,25+30*0,1+32*0,4 | E33: 82.8 | V33: VV | W33: 0
C34: odkopávky pro sanaci : 32*0,4 | E34: 12.8 | V34: VV | W34: 0
A35: 13 | B35: 122202202R00 | C35: Odkopávky pro silnice v hor. 3 do 1000 m3 | D35: m3 | E35: 119.2 | G35: =ROUND(E35*F35,2) -> 0 | H35: RTS 25/ II | I35: RTS 25/ II | J35: 0.223 | K35: =ROUND(#REF!*J35,2) -> #REF! | M35: Práce | N35: Běžná | V35: POL1_1
C36: odkopávky pro sanaci : 298*0,4 | E36: 119.2 | V36: VV | W36: 0
A37: 14 | B37: 122202209R00 | C37: Příplatek za lepivost - odkop. pro silnice v hor.3 | D37: m3 | E37: 107.4 | G37: =ROUND(E37*F37,2) -> 0 | H37: RTS 25/ II | I37: RTS 25/ II | J37: 0.088 | K37: =ROUND(#REF!*J37,2) -> #REF! | M37: Práce | N37: Běžná | V37: POL1_1
C38: (95,6+119,2)/2 | E38: 107.4 | V38: VV | W38: 0
A39: 15 | B39: 132201110R00 | C39: Hloubení rýh š.do 60 cm v hor.3 do 50 m3, STROJNĚ | D39: m3 | E39: 33.6 | G39: =ROUND(E39*F39,2) -> 0 | H39: RTS 25/ II | I39: RTS 25/ II | J39: 0.365 | K39: =ROUND(#REF!*J39,2) -> #REF! | M39: Práce | N39: Běžná | V39: POL1_1
C40: výkop pro drenáž : 210*0,4*0,4 | E40: 33.6 | V40: VV | W40: 0
A41: 16 | B41: 132201119R00 | C41: Přípl.za lepivost,hloubení rýh 60 cm,hor.3,STROJNĚ | D41: m3 | E41: 41.28 | G41: =ROUND(E41*F41,2) -> 0 | H41: RTS 25/ II | I41: RTS 25/ II | J41: 0.3898 | K41: =ROUND(#REF!*J41,2) -> #REF! | M41: Práce | N41: Běžná | V41: POL1_1
C42: 82,56/2 | E42: 41.28 | V42: VV | W42: 0
A43: 17 | B43: 132201210R00 | C43: Hloubení rýh š.do 200 cm hor.3 do 50 m3,STROJNĚ | D43: m3 | E43: 48.96 | G43: =ROUND(E43*F43,2) -> 0 | H43: RTS 25/ II | I43: RTS 25/ II | J43: 0.365 | K43: =ROUND(#REF!*J43,2) -> #REF! | M43: Práce | N43: Běžná | V43: POL1_1
C44: výkopy pro přípojky UV : 51*0,8*1,2 | E44: 48.96 | V44: VV | W44: 0
A45: 18 | B45: 132201219R00 | C45: Přípl.za lepivost,hloubení rýh 200cm,hor.3,STROJNĚ | D45: m3 | E45: 24.48 | G45: =ROUND(E45*F45,2) -> 0 | H45: RTS 25/ II | I45: RTS 25/ II | J45: 0.084 | K45: =ROUND(#REF!*J45,2) -> #REF! | M45: Práce | N45: Běžná | V45: POL1_1
C46: 48,96/2 | E46: 24.48 | V46: VV | W46: 0
A47: 19 | B47: 133201101R00 | C47: Hloubení šachet v hor.3 do 100 m3 | D47: m3 | E47: 13.44 | G47: =ROUND(E47*F47,2) -> 0 | H47: RTS 25/ II | I47: RTS 25/ II | J47: 3.131 | K47: =ROUND(#REF!*J47,2) -> #REF! | M47: Práce | N47: Běžná | V47: POL1_1
C48: výkop pro nové UV : 0,8*0,8*1,5*14 | E48: 13.44 | V48: VV | W48: 0
A49: 20 | B49: 133201109R00 | C49: Příplatek za lepivost - hloubení šachet v hor.3 | D49: m3 | E49: 6.72 | G49: =ROUND(E49*F49,2) -> 0 | H49: RTS 25/ II | I49: RTS 25/ II | J49: 0.474 | K49: =ROUND(#REF!*J49,2) -> #REF! | M49: Práce | N49: Běžná | V49: POL1_1
C50: 13,44/2 | E50: 6.72 | V50: VV | W50: 0
A51: 21 | B51: 162701105R00 | C51: Vodorovné přemístění výkopku z hor.1-4 do 10000 m | D51: m3 | E51: 460.58 | G51: =ROUND(E51*F51,2) -> 0 | H51: RTS 25/ II | I51: RTS 25/ II | J51: 0.011 | K51: =ROUND(#REF!*J51,2) -> #REF! | M51: Práce | N51: Běžná | V51: POL1_1
C52: dovoz materiálu pro : | V52: VV | W52: 0
C53: zásyp jam po stáv.UV : 3,84 | E53: 3.84 | V53: VV | W53: 0
C54: zásyp jam kolem UV (ŠD) : 15,36 | E54: 15.36 | V54: VV | W54: 0
C55: sanace podloží : 132 | E55: 132 | V55: VV | W55: 0
C56: zemina por zel.plochy : 20 | E56: 20 | V56: VV | W56: 0
C57: odvoz zeminy : 13,44+33,6+48,96+95,6+119,2 | E57: 310.8 | V57: VV | W57: 0
C58: odečet výkopku pro zpětné zásypy : -21,42 | E58: -21.42 | V58: VV | W58: 0
A59: 22 | B59: 162701109R00 | C59: Příplatek k vod. přemístění hor.1-4 za další 1 km | D59: m3 | E59: 2302.9 | G59: =ROUND(E59*F59,2) -> 0 | H59: RTS 25/ II | I59: RTS 25/ II | J59: 0 | K59: =ROUND(#REF!*J59,2) -> #REF! | M59: Práce | N59: Běžná | V59: POL1_1
C60: dovoz materiálu pro : | V60: VV | W60: 0
C61: zásyp jam po stáv.UV : 3,84*5 | E61: 19.2 | V61: VV | W61: 0
C62: zásyp jam kolem UV (ŠD) : 15,36*5 | E62: 76.8 | V62: VV | W62: 0
C63: sanace podloží : 132*5 | E63: 660 | V63: VV | W63: 0
C64: zemina por zel.plochy : 20*5 | E64: 100 | V64: VV | W64: 0
C65: odvoz zeminy : 289,38*5 | E65: 1446.9 | V65: VV | W65: 0
A66: 23 | B66: 171102105R00 | C66: Uložení sypaniny do násypů, zhutn, na 103% PS | D66: m3 | E66: 132 | G66: =ROUND(E66*F66,2) -> 0 | H66: RTS 25/ II | I66: RTS 25/ II | J66: 0.068 | K66: =ROUND(#REF!*J66,2) -> #REF! | M66: Práce | N66: Běžná | V66: POL1_1
C67: sanace podloží : 132 | E67: 132 | V67: VV | W67: 0
A68: 24 | B68: 174101101R00 | C68: Zásyp jam, rýh, šachet se zhutněním | D68: m3 | E68: 40.62 | G68: =ROUND(E68*F68,2) -> 0 | H68: RTS 25/ II | I68: RTS 25/ II | J68: 0.202 | K68: =ROUND(#REF!*J68,2) -> #REF! | M68: Práce | N68: Běžná | V68: POL1_1
C69: zásyp jam po stáv.UV (ŠD) : 0,8*0,8*1,5*4 | E69: 3.84 | V69: VV | W69: 0
C70: zásyp jam kolem UV (ŠD) : 0,8*0,8*1,5*16 | E70: 15.36 | V70: VV | W70: 0
C71: zpětný zásyp přípojek UV : 48,96-5,1-22,44 | E71: 21.42 | V71: VV | W71: 0
A72: 25 | B72: 175101101RT2 | C72: Obsyp potrubí bez prohození sypaniny s dodáním štěrkopísku frakce 0 - 22 mm | D72: m3 | E72: 22.44 | G72: =ROUND(E72*F72,2) -> 0 | H72: RTS 25/ II | I72: RTS 25/ II | J72: 1.587 | K72: =ROUND(#REF!*J72,2) -> #REF! | M72: Práce | N72: Běžná | V72: POL1_0
C73: kolem přípojek UV : 51*0,8*0,55 | E73: 22.44 | V73: VV | W73: 0
A74: 26 | B74: 180402111R00 | C74: Založení trávníku parkového výsevem v rovině | D74: m2 | E74: 55 | G74: =ROUND(E74*F74,2) -> 0 | H74: RTS 25/ II | I74: RTS 25/ II | J74: 0.06 | K74: =ROUND(#REF!*J74,2) -> #REF! | M74: Práce | N74: Běžná | V74: POL1_1
C75: osetí : 55 | E75: 55 | V75: VV | W75: 0
A76: 27 | B76: 181101102R00 | C76: Úprava pláně v zářezech v hor. 1-4, se zhutněním na 45 MPa ! | D76: m2 | E76: 354 | G76: =ROUND(E76*F76,2) -> 0 | H76: RTS 25/ II | I76: RTS 25/ II | J76: 0.018 | K76: =ROUND(#REF!*J76,2) -> #REF! | M76: Práce | N76: Běžná | V76: POL1_1
C77: zhutnění pláně : 330+24 | E77: 354 | V77: VV | W77: 0
A78: 28 | B78: 181301106R00 | C78: Rozprostření ornice, rovina, tl. 30-40 cm,do 500m2 | D78: m2 | E78: 55 | G78: =ROUND(E78*F78,2) -> 0 | H78: RTS 25/ II | I78: RTS 25/ II | J78: 0.508 | K78: =ROUND(#REF!*J78,2) -> #REF! | M78: Práce | N78: Běžná | V78: POL1_1
C79: úprava terénu : 55 | E79: 55 | V79: VV | W79: 0
A80: 29 | B80: 182001121R00 | C80: Plošná úprava terénu, nerovnosti do 15 cm v rovině | D80: m2 | E80: 55 | G80: =ROUND(E80*F80,2) -> 0 | H80: RTS 25/ II | I80: RTS 25/ II | J80: 0.126 | K80: =ROUND(#REF!*J80,2) -> #REF! | M80: Práce | N80: Běžná | V80: POL1_1
C81: úprava terénu : 55 | E81: 55 | V81: VV | W81: 0
A82: 30 | B82: 185803211R00 | C82: Uválcování trávníku v rovině | D82: m2 | E82: 55 | G82: =ROUND(E82*F82,2) -> 0 | H82: RTS 25/ II | I82: RTS 25/ II | J82: 0.002 | K82: =ROUND(#REF!*J82,2) -> #REF! | M82: Práce | N82: Běžná | V82: POL1_1
C83: dtto osetí : 55 | E83: 55 | V83: VV | W83: 0
A84: 31 | B84: 185804312R00 | C84: Zalití rostlin vodou plochy nad 20 m2 | D84: m3 | E84: 1.65 | G84: =ROUND(E84*F84,2) -> 0 | H84: RTS 25/ II | I84: RTS 25/ II | J84: 0.26 | K84: =ROUND(#REF!*J84,2) -> #REF! | M84: Práce | N84: Běžná | V84: POL1_1
C85: dtto osetí : 55*0,03 | E85: 1.65 | V85: VV | W85: 0
A86: 32 | B86: 185851111R00 | C86: Dovoz vody pro zálivku rostlin do 6 km | D86: m3 | E86: 1.65 | G86: =ROUND(E86*F86,2) -> 0 | H86: RTS 25/ II | I86: RTS 25/ II | J86: 0.884 | K86: =ROUND(#REF!*J86,2) -> #REF! | M86: Práce | N86: Běžná | V86: POL1_1
C87: 1,65 | E87: 1.65 | V87: VV | W87: 0
A88: 33 | B88: 199000005R00 | C88: Poplatek za skládku zeminy 1- 4 | D88: t | E88: 463.008 | G88: =ROUND(E88*F88,2) -> 0 | H88: RTS 25/ II | I88: RTS 25/ II | J88: 0 | K88: =ROUND(#REF!*J88,2) -> #REF! | M88: Práce | N88: Běžná | V88: POL1_1
C89: přebytečná zemina : 289,38*1,6 | E89: 463.01 | V89: VV | W89: 0
A90: 34 | B90: 00572400 | C90: Směs travní parková běžná zátěž | D90: kg | E90: 3 | G90: =ROUND(E90*F90,2) -> 0 | H90: RTS 25/ II | I90: RTS 25/ II | J90: 0 | K90: =ROUND(#REF!*J90,2) -> #REF! | M90: Specifikace | N90: Běžná | V90: POL3_1
C91: pro osetí : 55*0,05+0,25 | E91: 3 | V91: VV | W91: 0
A92: 35 | B92: 10364100.A | C92: Zemina pro zelené plochy VL | D92: m3 | E92: 20 | G92: =ROUND(E92*F92,2) -> 0 | H92: RTS 23/ II | I92: RTS 23/ II | J92: 0 | K92: =ROUND(#REF!*J92,2) -> #REF! | M92: Specifikace | N92: Běžná | V92: POL3_1
C93: pro úpravu terénu : 55*0,4*1,05 | E93: 23.1 | V93: VV | W93: 0
C94: odečet pův.ornice : -3,2 | E94: -3.2 | V94: VV | W94: 0
C95: dopočet na celé m3 : 0,1 | E95: 0.1 | V95: VV | W95: 0
A96: 36 | B96: 583423602R | C96: Kamenivo drcené 0/63mm | D96: t | E96: 332.64 | G96: =ROUND(E96*F96,2) -> 0 | H96: RTS 25/ II | I96: RTS 25/ II | J96: 0 | K96: =ROUND(#REF!*J96,2) -> #REF! | M96: Specifikace | N96: Běžná | V96: POL3_1
C97: zásyp jam po stáv.UV : 3,84*2,2 | E97: 8.448 | V97: VV | W97: 0
C98: zásyp jam kolem UV (ŠD) : 15,36*2,2 | E98: 33.792 | V98: VV | W98: 0
C99: sanace podloží : 132*2,2 | E99: 290.4 | V99: VV | W99: 0
A100: Díl: | B100: 2 | C100: Základy a zvláštní zakládání | G100: =SUMIF(AG101:AG112,"<>NOR",G101:G112) -> 0 | K100: =SUM(K101:K112) -> #REF! | V100: DIL
A101: 37 | B101: 212532111R00 | C101: Lože trativodu z kameniva hrub.drceného,8/32 mm | D101: m3 | E101: 7.7 | G101: =ROUND(E101*F101,2) -> 0 | H101: RTS 25/ II | I101: RTS 25/ II | J101: 1.584 | K101: =ROUND(#REF!*J101,2) -> #REF! | M101: Práce | N101: Běžná | V101: POL1_1
C102: obsyp drenáže : 10,08-2,38 | E102: 7.7 | V102: VV | W102: 0
...

Sheet SO 102
A1: Položkový soupis prací | V1: #TypZaznamu#
A2: S: | B2: 2025/129 | C2: Parkovací stání ul.Dukelská, Zliv | V2: STA
A3: O: | B3: 02 | C3: SO 102 Chodníky Dukelská | R3: STA | V3: OBJ
A4: R: | B4: 02 | C4: SO 102 Chodníky Dukelská | V4: ROZ
A6: P.č. | B6: Číslo položky | C6: Název položky | D6: MJ | E6: Množství | F6: Cena / MJ | G6: Celkem | H6: Cen. soustava / platnost | I6: Cenová úroveň | J6: Nhod / MJ | K6: Nhod celk. | L6: Dodavatel | M6: Typ položky | N6: Stav položky
A8: Díl: | B8: 1 | C8: Zemní práce | G8: =SUMIF(AG9:AG156,"<>NOR",G9:G156) -> 0 | K8: =SUM(K9:K156) -> #REF! | V8: DIL
A9: 1 | B9: 111201101R00 | C9: Odstranění křovin i s kořeny na ploše do 1000 m2 | D9: m2 | E9: 6 | G9: =ROUND(E9*F9,2) -> 0 | H9: RTS 25/ II | I9: RTS 25/ II | J9: 0.172 | K9: =ROUND(#REF!*J9,2) -> #REF! | M9: Práce | N9: Běžná | V9: POL1_1
C10: 3+1+1+1 | E10: 6 | V10: VV | W10: 0
A11: 2 | B11: 112101102R00 | C11: Kácení stromů listnatých o průměru kmene 30-50 cm | D11: kus | E11: 2 | G11: =ROUND(E11*F11,2) -> 0 | H11: RTS 25/ II | I11: RTS 25/ II | J11: 0.88 | K11: =ROUND(#REF!*J11,2) -> #REF! | M11: Práce | N11: Běžná | V11: POL1_1
C12: stáv.zeleň : 1+1 | E12: 2 | V12: VV | W12: 0
A13: 3 | B13: 112101122R00 | C13: Kácení stromů jehličnatých o průměru kmene 30-50cm | D13: kus | E13: 4 | G13: =ROUND(E13*F13,2) -> 0 | H13: RTS 25/ II | I13: RTS 25/ II | J13: 0.55 | K13: =ROUND(#REF!*J13,2) -> #REF! | M13: Práce | N13: Běžná | V13: POL1_1
C14: stáv.zeleň : 4 | E14: 4 | V14: VV | W14: 0
A15: 4 | B15: 112201102R00 | C15: Odstranění pařezů pod úrovní, o průměru 30 - 50 cm | D15: kus | E15: 6 | G15: =ROUND(E15*F15,2) -> 0 | H15: RTS 25/ II | I15: RTS 25/ II | J15: 1.655 | K15: =ROUND(#REF!*J15,2) -> #REF! | M15: Práce | N15: Běžná | V15: POL1_1
C16: stáv.zeleň : 6 | E16: 6 | V16: VV | W16: 0
A17: 5 | B17: 113106231R00 | C17: Rozebrání dlažeb ze zámkové dlažby v kamenivu | D17: m2 | E17: 427 | G17: =ROUND(E17*F17,2) -> 0 | H17: RTS 25/ II | I17: RTS 25/ II | J17: 0.142 | K17: =ROUND(#REF!*J17,2) -> #REF! | M17: Práce | N17: Běžná | V17: POL1_1
C18: 45+41+15+13+22+137+2+3+4+69+12+16+8+2+16+4+18 | E18: 427 | V18: VV | W18: 0
A19: 6 | B19: 113107505R00 | C19: Odstranění podkladu pl. 50 m2,kam.drcené tl.5 cm | D19: m2 | E19: 221 | G19: =ROUND(E19*F19,2) -> 0 | H19: RTS 25/ II | I19: RTS 25/ II | J19: 0.2103 | K19: =ROUND(#REF!*J19,2) -> #REF! | M19: Práce | N19: Běžná | V19: POL1_1
C20: 45+41+15+13+22+2+3+4+12+16+8+2+16+4+18 | E20: 221 | V20: VV | W20: 0
A21: 7 | B21: 113107515R00 | C21: Odstranění podkladu pl. 50 m2,kam.drcené tl.15 cm | D21: m2 | E21: 252 | G21: =ROUND(E21*F21,2) -> 0 | H21: RTS 25/ II | I21: RTS 25/ II | J21: 0.5265 | K21: =ROUND(#REF!*J21,2) -> #REF! | M21: Práce | N21: Běžná | V21: POL1_1
C22: pod betonem : 4*2+3+13+7 | E22: 31 | V22: VV | W22: 0
C23: pod dlažbou : 45+41+15+13+22+2+3+4+12+16+8+2+16+4+18 | E23: 221 | V23: VV | W23: 0
A24: 8 | B24: 113107530R00 | C24: Odstranění podkladu pl. 50 m2,kam.drcené tl.30 cm | D24: m2 | E24: 17 | G24: =ROUND(E24*F24,2) -> 0 | H24: RTS 25/ II | I24: RTS 25/ II | J24: 1.053 | K24: =ROUND(#REF!*J24,2) -> #REF! | M24: Práce | N24: Běžná | V24: POL1_1
C25: dočasná plocha pro nádoby na odpad : 12+3+2 | E25: 17 | V25: VV | W25: 0
A26: 9 | B26: 113107605R00 | C26: Odstranění podkladu nad 50 m2,kam.drcené tl.5 cm | D26: m2 | E26: 206 | G26: =ROUND(E26*F26,2) -> 0 | H26: RTS 25/ II | I26: RTS 25/ II | J26: 0.0259 | K26: =ROUND(#REF!*J26,2) -> #REF! | M26: Práce | N26: Běžná | V26: POL1_1
C27: 137+69 | E27: 206 | V27: VV | W27: 0
A28: 10 | B28: 113107615R00 | C28: Odstranění podkladu nad 50 m2,kam.drcené tl.15 cm | D28: m2 | E28: 206 | G28: =ROUND(E28*F28,2) -> 0 | H28: RTS 25/ II | I28: RTS 25/ II | J28: 0.06 | K28: =ROUND(#REF!*J28,2) -> #REF! | M28: Práce | N28: Běžná | V28: POL1_1
C29: pod dlažbou : 137+69 | E29: 206 | V29: VV | W29: 0
A30: 11 | B30: 113107620R00 | C30: Odstranění podkladu nad 50 m2,kam.drcené tl.20 cm | D30: m2 | E30: 82 | G30: =ROUND(E30*F30,2) -> 0 | H30: RTS 25/ II | I30: RTS 25/ II | J30: 0.073 | K30: =ROUND(#REF!*J30,2) -> #REF! | M30: Práce | N30: Běžná | V30: POL1_1
C31: dočasná plocha pro dvojboxy na odpad : 82 | E31: 82 | V31: VV | W31: 0
A32: 12 | B32: 113151119R00 | C32: Fréz.živič.krytu pl.do 500 m2,pruh do 75cm,tl.10cm | D32: m2 | E32: 504 | G32: =ROUND(E32*F32,2) -> 0 | H32: RTS 25/ II | I32: RTS 25/ II | J32: 0.12 | K32: =ROUND(#REF!*J32,2) -> #REF! | M32: Práce | N32: Běžná | V32: POL1_1
C33: 94+75+102+17+44+58+62+20+23+9 | E33: 504 | V33: VV | W33: 0
A34: 13 | B34: 113201111R00 | C34: Vytrhání obrubníků chodníkových a parkových vč.vybourání betonového lože | D34: m | E34: 289 | G34: =ROUND(E34*F34,2) -> 0 | H34: RTS 25/ II | I34: RTS 25/ II | J34: 0.143 | K34: =ROUND(#REF!*J34,2) -> #REF! | M34: Práce | N34: Běžná | V34: POL1_1
C35: 22+8+16+6+5*4+7+8+9+22+40+1,5*2+34+11+9+10+7*2 | E35: 239 | V35: VV | W35: 0
C36: 6+12*2+3+2+11+4 | E36: 50 | V36: VV | W36: 0
A37: 14 | B37: 113202111R00 | C37: Vytrhání obrub obrubníků silničních vč.vybourání betonového lože | D37: m | E37: 265 | G37: =ROUND(E37*F37,2) -> 0 | H37: RTS 25/ II | I37: RTS 25/ II | J37: 0.123 | K37: =ROUND(#REF!*J37,2) -> #REF! | M37: Práce | N37: Běžná | V37: POL1_1
C38: 17+40+22+4+11+35+13+42+19+3+5+4+36+14 | E38: 265 | V38: VV | W38: 0
A39: 15 | B39: 121101100R00 | C39: Sejmutí ornice, pl. do 400 m2, přemístění do 50 m | D39: m3 | E39: 103.3 | G39: =ROUND(E39*F39,2) -> 0 | H39: RTS 25/ II | I39: RTS 25/ II | J39: 0.0952 | K39: =ROUND(#REF!*J39,2) -> #REF! | M39: Práce | N39: Běžná | V39: POL1_1
C40: (5+30+94+34+44+117+31+34+102)*0,1 | E40: 49.1 | V40: VV | W40: 0
C41: (165+168+157+30+22)*0,1 | E41: 54.2 | V41: VV | W41: 0
A42: 16 | B42: 122202202R00 | C42: Odkopávky pro silnice v hor. 3 do 1000 m3 | D42: m3 | E42: 736.3 | G42: =ROUND(E42*F42,2) -> 0 | H42: RTS 25/ II | I42: RTS 25/ II | J42: 0.223 | K42: =ROUND(#REF!*J42,2) -> #REF! | M42: Práce | N42: Běžná | V42: POL1_1
C43: odkopávky : 1156*0,25 | E43: 289 | V43: VV | W43: 0
C44: pro sanaci : (458+1033)*0,3 | E44: 447.3 | V44: VV | W44: 0
A45: 17 | B45: 122202209R00 | C45: Příplatek za lepivost - odkop. pro silnice v hor.3 | D45: m3 | E45: 368.15 | G45: =ROUND(E45*F45,2) -> 0 | H45: RTS 25/ II | I45: RTS 25/ II | J45: 0.088 | K45: =ROUND(#REF!*J45,2) -> #REF! | M45: Práce | N45: Běžná | V45: POL1_1
C46: 736,3/2 | E46: 368.15 | V46: VV | W46: 0
A47: 18 | B47: 162201102R00 | C47: Vodorovné přemístění výkopku z hor.1-4 do 50 m | D47: m3 | E47: 103.3 | G47: =ROUND(E47*F47,2) -> 0 | H47: RTS 25/ II | I47: RTS 25/ II | J47: 0.074 | K47: =ROUND(#REF!*J47,2) -> #REF! | M47: Práce | N47: Běžná | V47: POL1_1
C48: ornice pro zpět.úpravy : 103,3 | E48: 103.3 | V48: VV | W48: 0
A49: 19 | B49: 162301402R00 | C49: Vod.přemístění větví listnatých, D 50cm do 5000 m | D49: kus | E49: 4 | G49: =ROUND(E49*F49,2) -> 0 | H49: RTS 25/ II | I49: RTS 25/ II | J49: 0.245 | K49: =ROUND(#REF!*J49,2) -> #REF! | M49: Práce | N49: Běžná | V49: POL1_1
C50: 4 | E50: 4 | V50: VV | W50: 0
A51: 20 | B51: 162301406R00 | C51: Vod.přemístění větví jehlič., D 50cm do 5000 m | D51: kus | E51: 2 | G51: =ROUND(E51*F51,2) -> 0 | H51: RTS 25/ II | I51: RTS 25/ II | J51: 0.257 | K51: =ROUND(#REF!*J51,2) -> #REF! | M51: Práce | N51: Běžná | V51: POL1_1
C52: 2 | E52: 2 | V52: VV | W52: 0
A53: 21 | B53: 162301412R00 | C53: Vod.přemístění kmenů listnatých, D 50cm do 5000 m | D53: kus | E53: 4 | G53: =ROUND(E53*F53,2) -> 0 | H53: RTS 25/ II | I53: RTS 25/ II | J53: 0.96 | K53: =ROUND(#REF!*J53,2) -> #REF! | M53: Práce | N53: Běžná | V53: POL1_1
C54: 4 | E54: 4 | V54: VV | W54: 0
A55: 22 | B55: 162301416R00 | C55: Vod.přemístění kmenů jehlič., D 50cm do 5000 m | D55: kus | E55: 2 | G55: =ROUND(E55*F55,2) -> 0 | H55: RTS 25/ II | I55: RTS 25/ II | J55: 0.972 | K55: =ROUND(#REF!*J55,2) -> #REF! | M55: Práce | N55: Běžná | V55: POL1_1
C56: 2 | E56: 2 | V56: VV | W56: 0
A57: 23 | B57: 162301422R00 | C57: Vodorovné přemístění pařezů D 50 cm do 5000 m | D57: kus | E57: 6 | G57: =ROUND(E57*F57,2) -> 0 | H57: RTS 25/ II | I57: RTS 25/ II | J57: 0.303 | K57: =ROUND(#REF!*J57,2) -> #REF! | M57: Práce | N57: Běžná | V57: POL1_1
C58: 6 | E58: 6 | V58: VV | W58: 0
A59: 24 | B59: 162301501R00 | C59: Vodorovné přemístění křovin do 5000 m | D59: m2 | E59: 6 | G59: =ROUND(E59*F59,2) -> 0 | H59: RTS 25/ II | I59: RTS 25/ II | J59: 0 | K59: =ROUND(#REF!*J59,2) -> #REF! | M59: Práce | N59: Běžná | V59: POL1_1
C60: 6 | E60: 6 | V60: VV | W60: 0
A61: 25 | B61: 162301902R00 | C61: Příplatek za dalších 5000m - větve listnaté D 50cm | D61: kus | E61: 4 | G61: =ROUND(E61*F61,2) -> 0 | H61: RTS 25/ II | I61: RTS 25/ II | J61: 0 | K61: =ROUND(#REF!*J61,2) -> #REF! | M61: Práce | N61: Běžná | V61: POL1_1
C62: 4 | E62: 4 | V62: VV | W62: 0
A63: 26 | B63: 162301906R00 | C63: Příplatek za dalších 5000m - větve jehlič. D 50cm | D63: kus | E63: 2 | G63: =ROUND(E63*F63,2) -> 0 | H63: RTS 25/ II | I63: RTS 25/ II | J63: 0 | K63: =ROUND(#REF!*J63,2) -> #REF! | M63: Práce | N63: Běžná | V63: POL1_1
C64: 2 | E64: 2 | V64: VV | W64: 0
A65: 27 | B65: 162301912R00 | C65: Příplatek za dalších 5000m - kmeny listnaté D 50cm | D65: kus | E65: 4 | G65: =ROUND(E65*F65,2) -> 0 | H65: RTS 25/ II | I65: RTS 25/ II | J65: 0 | K65: =ROUND(#REF!*J65,2) -> #REF! | M65: Práce | N65: Běžná | V65: POL1_1
C66: 4 | E66: 4 | V66: VV | W66: 0
A67: 28 | B67: 162301916R00 | C67: Příplatek za dalších 5000m - kmeny jehlič. D 50cm | D67: kus | E67: 2 | G67: =ROUND(E67*F67,2) -> 0 | H67: RTS 25/ II | I67: RTS 25/ II | J67: 0 | K67: =ROUND(#REF!*J67,2) -> #REF! | M67: Práce | N67: Běžná | V67: POL1_1
C68: 2 | E68: 2 | V68: VV | W68: 0
A69: 29 | B69: 162301922R00 | C69: Příplatek za dalších 5000m - pařezy D 50cm | D69: kus | E69: 6 | G69: =ROUND(E69*F69,2) -> 0 | H69: RTS 25/ II | I69: RTS 25/ II | J69: 0 | K69: =ROUND(#REF!*J69,2) -> #REF! | M69: Práce | N69: Běžná | V69: POL1_1
C70: 6 | E70: 6 | V70: VV | W70: 0
A71: 30 | B71: 162701105R00 | C71: Vodorovné přemístění výkopku z hor.1-4 do 10000 m | D71: m3 | E71: 1341.42 | G71: =ROUND(E71*F71,2) -> 0 | H71: RTS 25/ II | I71: RTS 25/ II | J71: 0.011 | K71: =ROUND(#REF!*J71,2) -> #REF! | M71: Práce | N71: Běžná | V71: POL1_1
C72: dovoz materiálu pro : | V72: VV | W72: 0
C73: sanaci podloží : 501,3 | E73: 501.3 | V73: VV | W73: 0
C74: zemina : 88 | E74: 88 | V74: VV | W74: 0
C75: substrát : 4,5 | E75: 4.5 | V75: VV | W75: 0
C76: mulč.kůry : 2,52 | E76: 2.52 | V76: VV | W76: 0
C77: odvoz výkopku na skládku : 736,6+8+10*0,05 | E77: 745.1 | V77: VV | W77: 0
A78: 31 | B78: 162701109R00 | C78: Příplatek k vod. přemístění hor.1-4 za další 1 km | D78: m3 | E78: 6707.1 | G78: =ROUND(E78*F78,2) -> 0 | H78: RTS 25/ II | I78: RTS 25/ II | J78: 0 | K78: =ROUND(#REF!*J78,2) -> #REF! | M78: Práce | N78: Běžná | V78: POL1_1
C79: dovoz materiálu pro : | V79: VV | W79: 0
C80: sanaci podloží : 501,3*5 | E80: 2506.5 | V80: VV | W80: 0
C81: zemina : 88*5 | E81: 440 | V81: VV | W81: 0
C82: substrát : 4,5*5 | E82: 22.5 | V82: VV | W82: 0
C83: mulč.kůry : 2,52*5 | E83: 12.6 | V83: VV | W83: 0
C84: odvoz výkopku na skládku : 745,1*5 | E84: 3725.5 | V84: VV | W84: 0
A85: 32 | B85: 162702292R00 | C85: Poplatek za skládku: větve a kořeny | D85: t | E85: 21.9 | G85: =ROUND(E85*F85,2) -> 0 | H85: RTS 25/ II | I85: RTS 25/ II | J85: 0 | K85: =ROUND(#REF!*J85,2) -> #REF! | M85: Práce | N85: Běžná | V85: POL1_1
C86: pouze kořeny : 6*3,5+6*0,15 | E86: 21.9 | V86: VV | W86: 0
A87: 33 | B87: 167101102R00 | C87: Nakládání výkopku z hor.1-4 v množství nad 100 m3 | D87: m3 | E87: 103.3 | G87: =ROUND(E87*F87,2) -> 0 | H87: RTS 25/ II | I87: RTS 25/ II | J87: 0.053 | K87: =ROUND(#REF!*J87,2) -> #REF! | M87: Práce | N87: Běžná | V87: POL1_1
C88: ornice pro zpět.úpravy : 103,3 | E88: 103.3 | V88: VV | W88: 0
A89: 34 | B89: 171102105R00 | C89: Uložení sypaniny do násypů, zhutn, na 103% PS | D89: m3 | E89: 501.3 | G89: =ROUND(E89*F89,2) -> 0 | H89: RTS 25/ II | I89: RTS 25/ II | J89: 0.068 | K89: =ROUND(#REF!*J89,2) -> #REF! | M89: Práce | N89: Běžná | V89: POL1_1
C90: sanace podloží : | V90: VV | W90: 0
C91: tl.300mm : (1567-312)*0,3 | E91: 376.5 | V91: VV | W91: 0
C92: tl.400mm : 312*0,4 | E92: 124.8 | V92: VV | W92: 0
A93: 35 | B93: 180402111R00 | C93: Založení trávníku parkového výsevem v rovině | D93: m2 | E93: 1672 | G93: =ROUND(E93*F93,2) -> 0 | H93: RTS 25/ II | I93: RTS 25/ II | J93: 0.06 | K93: =ROUND(#REF!*J93,2) -> #REF! | M93: Práce | N93: Běžná | V93: POL1_1
C94: zel.plochy : 1672 | E94: 1672 | V94: VV | W94: 0
A95: 36 | B95: 181006111R00 | C95: Rozprostření zemin v rov./sklonu 1:5, tl. do 10 cm | D95: m2 | E95: 1672 | G95: =ROUND(E95*F95,2) -> 0 | H95: RTS 25/ II | I95: RTS 25/ II | J95: 0.007 | K95: =ROUND(#REF!*J95,2) -> #REF! | M95: Práce | N95: Běžná | V95: POL1_1
C96: zel.plochy - podklad : 56+18+6,5+22,5+25,5+10+20+124,5+18+21,5+111+10+17,5 | E96: 461 | V96: VV | W96: 0
C97: 33+10+89+58+174+10,5+32+2+55+174+146+51+228+100 | E97: 1162.5 | V97: VV | W97: 0
C98: 24,5+24 | E98: 48.5 | V98: VV | W98: 0
A99: 37 | B99: 181101102R00 | C99: Úprava pláně v zářezech v hor. 1-4, se zhutněním na 45 MPa ! | D99: m2 | E99: 1690 | G99: =ROUND(E99*F99,2) -> 0 | H99: RTS 25/ II | I99: RTS 25/ II | J99: 0.018 | K99: =ROUND(#REF!*J99,2) -> #REF! | M99: Práce | N99: Běžná | V99: POL1_1
C100: zhutnění pláně : 1567+103+20 | E100: 1690 | V100: VV | W100: 0
A101: 38 | B101: 181301101R00 | C101: Rozprostření ornice, rovina, tl. do 10 cm do 500m2 | D101: m2 | E101: 1672 | G101: =ROUND(E101*F101,2) -> 0 | H101: RTS 25/ II | I101: RTS 25/ II | J101: 0.13 | K101: =ROUND(#REF!*J101,2) -> #REF! | M101: Práce | N101: Běžná | V101: POL1_1
C102: rozpr.ornice (použita původní) : 56+18+6,5+22,5+25,5+10+20+124,5+18+21,5+111+10+17,5 | E102: 461 | V102: VV | W102: 0
...

Sheet SO 103
A1: Položkový soupis prací | V1: #TypZaznamu#
A2: S: | B2: 2025/129 | C2: Parkovací stání ul.Dukelská, Zliv | V2: STA
A3: O: | B3: 03 | C3: SO 103 Parkovací stání Dukelská | R3: STA | V3: OBJ
A4: R: | B4: 03 | C4: SO 103 Parkovací stání Dukelská | V4: ROZ
A6: P.č. | B6: Číslo položky | C6: Název položky | D6: MJ | E6: Množství | F6: Cena / MJ | G6: Celkem | H6: Cen. soustava / platnost | I6: Cenová úroveň | J6: Nhod / MJ | K6: Nhod celk. | L6: Dodavatel | M6: Typ položky | N6: Stav položky
A8: Díl: | B8: 1 | C8: Zemní práce | G8: =SUMIF(AG9:AG116,"<>NOR",G9:G116) -> 0 | K8: =SUM(K9:K116) -> #REF! | V8: DIL
A9: 1 | B9: 113106121R00 | C9: Rozebrání dlažeb z betonových dlaždic na sucho | D9: m2 | E9: 24 | G9: =ROUND(E9*F9,2) -> 0 | H9: RTS 25/ II | I9: RTS 25/ II | J9: 0.16 | K9: =ROUND(#REF!*J9,2) -> #REF! | M9: Práce | N9: Běžná | V9: POL1_1
C10: stáv.přídlažba : 24 | E10: 24 | V10: VV | W10: 0
A11: 2 | B11: 113106231R00 | C11: Rozebrání dlažeb ze zámkové dlažby v kamenivu | D11: m2 | E11: 68 | G11: =ROUND(E11*F11,2) -> 0 | H11: RTS 25/ II | I11: RTS 25/ II | J11: 0.142 | K11: =ROUND(#REF!*J11,2) -> #REF! | M11: Práce | N11: Běžná | V11: POL1_1
C12: 22+17,5+1,5+3+1+11+12 | E12: 68 | V12: VV | W12: 0
A13: 3 | B13: 113107605R00 | C13: Odstranění podkladu nad 50 m2,kam.drcené tl.5 cm | D13: m2 | E13: 68 | G13: =ROUND(E13*F13,2) -> 0 | H13: RTS 25/ II | I13: RTS 25/ II | J13: 0.0259 | K13: =ROUND(#REF!*J13,2) -> #REF! | M13: Práce | N13: Běžná | V13: POL1_1
C14: 22+17,5+1,5+3+1+11+12 | E14: 68 | V14: VV | W14: 0
A15: 4 | B15: 113109310R00 | C15: Odstranění podkladu pl.50 m2, bet.prostý tl.10 cm | D15: m2 | E15: 24 | G15: =ROUND(E15*F15,2) -> 0 | H15: RTS 25/ II | I15: RTS 25/ II | J15: 0.80648 | K15: =ROUND(#REF!*J15,2) -> #REF! | M15: Práce | N15: Běžná | V15: POL1_1
C16: stáv.přídlažba - podklad : 24 | E16: 24 | V16: VV | W16: 0
A17: 5 | B17: 113151119R00 | C17: Fréz.živič.krytu pl.do 500 m2,pruh do 75cm,tl.10cm | D17: m2 | E17: 848 | G17: =ROUND(E17*F17,2) -> 0 | H17: RTS 25/ II | I17: RTS 25/ II | J17: 0.12 | K17: =ROUND(#REF!*J17,2) -> #REF! | M17: Práce | N17: Běžná | V17: POL1_1
C18: 69+206,5+365+207,5 | E18: 848 | V18: VV | W18: 0
A19: 6 | B19: 113151319R00 | C19: Fréz.živič.krytu nad 500 m2, s překážkami, tl.10cm | D19: m2 | E19: 739 | G19: =ROUND(E19*F19,2) -> 0 | H19: RTS 25/ II | I19: RTS 25/ II | J19: 0.0705 | K19: =ROUND(#REF!*J19,2) -> #REF! | M19: Práce | N19: Běžná | V19: POL1_1
C20: 739 | E20: 739 | V20: VV | W20: 0
A21: 7 | B21: 113201111R00 | C21: Vytrhání obrubníků chodníkových a parkových vč.vybourání betonového lože | D21: m | E21: 98.5 | G21: =ROUND(E21*F21,2) -> 0 | H21: RTS 25/ II | I21: RTS 25/ II | J21: 0.143 | K21: =ROUND(#REF!*J21,2) -> #REF! | M21: Práce | N21: Běžná | V21: POL1_1
C22: 6,5+35+13+2*2+6+4+10*3 | E22: 98.5 | V22: VV | W22: 0
A23: 8 | B23: 113202111R00 | C23: Vytrhání obrub obrubníků silničních vč.vybourání betonového lože | D23: m | E23: 239.5 | G23: =ROUND(E23*F23,2) -> 0 | H23: RTS 25/ II | I23: RTS 25/ II | J23: 0.123 | K23: =ROUND(#REF!*J23,2) -> #REF! | M23: Práce | N23: Běžná | V23: POL1_1
C24: stáv.obruby : 10,5+26,5+18+43+41,5+88+12 | E24: 239.5 | V24: VV | W24: 0
A25: 9 | B25: 121101100R00 | C25: Sejmutí ornice, pl. do 400 m2, přemístění do 50 m | D25: m3 | E25: 179.05 | G25: =ROUND(E25*F25,2) -> 0 | H25: RTS 25/ II | I25: RTS 25/ II | J25: 0.0952 | K25: =ROUND(#REF!*J25,2) -> #REF! | M25: Práce | N25: Běžná | V25: POL1_1
C26: sejmutí ornice : (14+18,5+3,5+14,5+34+16+7+125+35+10+75+1438)*0,1 | E26: 179.05 | V26: VV | W26: 0
A27: 10 | B27: 122202202R00 | C27: Odkopávky pro silnice v hor. 3 do 1000 m3 | D27: m3 | E27: 2197.2 | G27: =ROUND(E27*F27,2) -> 0 | H27: RTS 25/ II | I27: RTS 25/ II | J27: 0.223 | K27: =ROUND(#REF!*J27,2) -> #REF! | M27: Práce | N27: Běžná | V27: POL1_1
C28: výkop pro skladby : (87+219+373+204+92+143+66+105+253*2+52+39+150)*0,25 | E28: 509 | V28: VV | W28: 0
C29: (13+1015)*0,45 | E29: 462.6 | V29: VV | W29: 0
C30: výkop pro sanaci : (2036+1028)*0,4 | E30: 1225.6 | V30: VV | W30: 0
A31: 11 | B31: 122202209R00 | C31: Příplatek za lepivost - odkop. pro silnice v hor.3 | D31: m3 | E31: 1098.6 | G31: =ROUND(E31*F31,2) -> 0 | H31: RTS 25/ II | I31: RTS 25/ II | J31: 0.088 | K31: =ROUND(#REF!*J31,2) -> #REF! | M31: Práce | N31: Běžná | V31: POL1_1
C32: 2197,2/2 | E32: 1098.6 | V32: VV | W32: 0
A33: 12 | B33: 132201110R00 | C33: Hloubení rýh š.do 60 cm v hor.3 do 50 m3, STROJNĚ | D33: m3 | E33: 21.76 | G33: =ROUND(E33*F33,2) -> 0 | H33: RTS 25/ II | I33: RTS 25/ II | J33: 0.365 | K33: =ROUND(#REF!*J33,2) -> #REF! | M33: Práce | N33: Běžná | V33: POL1_1
C34: výkop pro drenáž : 136*0,4*0,4 | E34: 21.76 | V34: VV | W34: 0
A35: 13 | B35: 132201119R00 | C35: Přípl.za lepivost,hloubení rýh 60 cm,hor.3,STROJNĚ | D35: m3 | E35: 10.88 | G35: =ROUND(E35*F35,2) -> 0 | H35: RTS 25/ II | I35: RTS 25/ II | J35: 0.3898 | K35: =ROUND(#REF!*J35,2) -> #REF! | M35: Práce | N35: Běžná | V35: POL1_1
C36: 21,76/2 | E36: 10.88 | V36: VV | W36: 0
A37: 14 | B37: 132201210R00 | C37: Hloubení rýh š.do 200 cm hor.3 do 50 m3,STROJNĚ | D37: m3 | E37: 40.32 | G37: =ROUND(E37*F37,2) -> 0 | H37: RTS 25/ II | I37: RTS 25/ II | J37: 0.365 | K37: =ROUND(#REF!*J37,2) -> #REF! | M37: Práce | N37: Běžná | V37: POL1_1
C38: výkop pro přípojky UV : (8+15+2+17)*0,8*1,2 | E38: 40.32 | V38: VV | W38: 0
A39: 15 | B39: 132201211R00 | C39: Hloubení rýh š.do 200 cm hor.3 do 100 m3,STROJNĚ | D39: m3 | E39: 70 | G39: =ROUND(E39*F39,2) -> 0 | H39: RTS 25/ II | I39: RTS 25/ II | J39: 0.2 | K39: =ROUND(#REF!*J39,2) -> #REF! | M39: Práce | N39: Běžná | V39: POL1_1
C40: výkop pro novou kanalizaci : 20*1*3,5 | E40: 70 | V40: VV | W40: 0
A41: 16 | B41: 132201219R00 | C41: Přípl.za lepivost,hloubení rýh 200cm,hor.3,STROJNĚ | D41: m3 | E41: 55.16 | G41: =ROUND(E41*F41,2) -> 0 | H41: RTS 25/ II | I41: RTS 25/ II | J41: 0.084 | K41: =ROUND(#REF!*J41,2) -> #REF! | M41: Práce | N41: Běžná | V41: POL1_1
C42: 40,32/2+70/2 | E42: 55.16 | V42: VV | W42: 0
A43: 17 | B43: 133201101R00 | C43: Hloubení šachet v hor.3 do 100 m3 | D43: m3 | E43: 12.51 | G43: =ROUND(E43*F43,2) -> 0 | H43: RTS 25/ II | I43: RTS 25/ II | J43: 3.131 | K43: =ROUND(#REF!*J43,2) -> #REF! | M43: Práce | N43: Běžná | V43: POL1_1
C44: jámy pro nové UV : 6*0,96 | E44: 5.76 | V44: VV | W44: 0
C45: jáma pro novou kan.šachtu : 1,5*1,5*3 | E45: 6.75 | V45: VV | W45: 0
A46: 18 | B46: 133201109R00 | C46: Příplatek za lepivost - hloubení šachet v hor.3 | D46: m3 | E46: 6.255 | G46: =ROUND(E46*F46,2) -> 0 | H46: RTS 25/ II | I46: RTS 25/ II | J46: 0.474 | K46: =ROUND(#REF!*J46,2) -> #REF! | M46: Práce | N46: Běžná | V46: POL1_1
C47: 12,51/2 | E47: 6.25 | V47: VV | W47: 0
A48: 19 | B48: 151101101R00 | C48: Pažení a rozepření stěn rýh - příložné - hl.do 2 m | D48: m2 | E48: 100.8 | G48: =ROUND(E48*F48,2) -> 0 | H48: RTS 25/ II | I48: RTS 25/ II | J48: 0.236 | K48: =ROUND(#REF!*J48,2) -> #REF! | M48: Práce | N48: Běžná | V48: POL1_1
C49: výkop pro přípojky UV : (8+15+2+17)*1,2*2 | E49: 100.8 | V49: VV | W49: 0
A50: 20 | B50: 151101102R00 | C50: Pažení a rozepření stěn rýh - příložné - hl.do 4 m | D50: m2 | E50: 140 | G50: =ROUND(E50*F50,2) -> 0 | H50: RTS 25/ II | I50: RTS 25/ II | J50: 0.479 | K50: =ROUND(#REF!*J50,2) -> #REF! | M50: Práce | N50: Běžná | V50: POL1_1
C51: výkop pro novou kanalizaci : 20*3,5*2 | E51: 140 | V51: VV | W51: 0
A52: 21 | B52: 151101111R00 | C52: Odstranění pažení stěn rýh - příložné - hl. do 2 m | D52: m2 | E52: 100.8 | G52: =ROUND(E52*F52,2) -> 0 | H52: RTS 25/ II | I52: RTS 25/ II | J52: 0.07 | K52: =ROUND(#REF!*J52,2) -> #REF! | M52: Práce | N52: Běžná | V52: POL1_1
C53: 100,8 | E53: 100.8 | V53: VV | W53: 0
A54: 22 | B54: 151101112R00 | C54: Odstranění pažení stěn rýh - příložné - hl. do 4 m | D54: m2 | E54: 140 | G54: =ROUND(E54*F54,2) -> 0 | H54: RTS 25/ II | I54: RTS 25/ II | J54: 0.327 | K54: =ROUND(#REF!*J54,2) -> #REF! | M54: Práce | N54: Běžná | V54: POL1_1
C55: 140 | E55: 140 | V55: VV | W55: 0
A56: 23 | B56: 162701105R00 | C56: Vodorovné přemístění výkopku z hor.1-4 do 10000 m | D56: m3 | E56: 3693.8412 | G56: =ROUND(E56*F56,2) -> 0 | H56: RTS 25/ II | I56: RTS 25/ II | J56: 0.011 | K56: =ROUND(#REF!*J56,2) -> #REF! | M56: Práce | N56: Běžná | V56: POL1_1
C57: dovoz materiálu : | V57: VV | W57: 0
C58: zásyp jam po stáv.UV (ŠD) : 5,76 | E58: 5.76 | V58: VV | W58: 0
C59: zásyp jam kolem nových UV (ŠD) : 5,76 | E59: 5.76 | V59: VV | W59: 0
C60: zásyp nové kanalizace (ŠD 16/32) : 54 | E60: 54 | V60: VV | W60: 0
C61: sanace podloží : 1225,6 | E61: 1225.6 | V61: VV | W61: 0
C62: zemina a substrát pro zatrav.dlažbu : 86 | E62: 86 | V62: VV | W62: 0
C63: odvoz výkopku na skládku : 2197,2+21,76+5,76+40,32+12,51+70 | E63: 2347.55 | V63: VV | W63: 0
C64: odečet výkopku pro zpětné zásypy : -16,8-4,0288-10 | E64: -30.83 | V64: VV | W64: 0
A65: 24 | B65: 162701109R00 | C65: Příplatek k vod. přemístění hor.1-4 za další 1 km | D65: m3 | E65: 18469.206 | G65: =ROUND(E65*F65,2) -> 0 | H65: RTS 25/ II | I65: RTS 25/ II | J65: 0 | K65: =ROUND(#REF!*J65,2) -> #REF! | M65: Práce | N65: Běžná | V65: POL1_1
C66: dovoz materiálu : | V66: VV | W66: 0
C67: zásyp jam po stáv.UV (ŠD) : 5,76*5 | E67: 28.8 | V67: VV | W67: 0
C68: zásyp jam kolem nových UV (ŠD) : 5,76*5 | E68: 28.8 | V68: VV | W68: 0
C69: zásyp nové kanalizace (ŠD 16/32) : 54*5 | E69: 270 | V69: VV | W69: 0
C70: sanace podloží : 1225,6*5 | E70: 6128 | V70: VV | W70: 0
C71: zemina a substrát pro zatrav.dlažbu : 86*5 | E71: 430 | V71: VV | W71: 0
C72: odvoz výkopku na skládku : 2316,7212*5 | E72: 11583.61 | V72: VV | W72: 0
A73: 25 | B73: 171102105R00 | C73: Uložení sypaniny do násypů, zhutn, na 103% PS | D73: m3 | E73: 1225.6 | G73: =ROUND(E73*F73,2) -> 0 | H73: RTS 25/ II | I73: RTS 25/ II | J73: 0.068 | K73: =ROUND(#REF!*J73,2) -> #REF! | M73: Práce | N73: Běžná | V73: POL1_1
C74: sanace podloží : 3064*0,4 | E74: 1225.6 | V74: VV | W74: 0
A75: 26 | B75: 174101101R00 | C75: Zásyp jam, rýh, šachet se zhutněním | D75: m3 | E75: 96.3487 | G75: =ROUND(E75*F75,2) -> 0 | H75: RTS 25/ II | I75: RTS 25/ II | J75: 0.202 | K75: =ROUND(#REF!*J75,2) -> #REF! | M75: Práce | N75: Běžná | V75: POL1_1
C76: zásyp jam po stáv.UV (ŠD) : 0,8*0,8*1,5*6 | E76: 5.76 | V76: VV | W76: 0
C77: zásyp jam kolem nových UV (ŠD) : 0,8*0,8*1,5*6 | E77: 5.76 | V77: VV | W77: 0
C78: zásyp nové kanalizace (ŠD 16/32) : 20*1*2,7 | E78: 54 | V78: VV | W78: 0
C79: zpětný zásyp přípojek UV : (8+15+2+17)*0,8*0,5 | E79: 16.8 | V79: VV | W79: 0
C80: zpětný zásyp jámy pro novou kan.šachtu : 1,5*1,5*3-1,5*1,5*0,25-3,14*0,5*0,5*2,75 | E80: 4.03 | V80: VV | W80: 0
C81: zpětný zásyp nové kanalizace : 20*1*0,5 | E81: 10 | V81: VV | W81: 0
A82: 27 | B82: 175101101RT2 | C82: Obsyp potrubí bez prohození sypaniny s dodáním štěrkopísku frakce 0 - 22 mm | D82: m3 | E82: 18.48 | G82: =ROUND(E82*F82,2) -> 0 | H82: RTS 25/ II | I82: RTS 25/ II | J82: 1.587 | K82: =ROUND(#REF!*J82,2) -> #REF! | M82: Práce | N82: Běžná | V82: POL1_0
C83: zásyp přípojek UV : 42*0,8*0,55 | E83: 18.48 | V83: VV | W83: 0
A84: 28 | B84: 180402111R00 | C84: Založení trávníku parkového výsevem v rovině | D84: m2 | E84: 319 | G84: =ROUND(E84*F84,2) -> 0 | H84: RTS 25/ II | I84: RTS 25/ II | J84: 0.06 | K84: =ROUND(#REF!*J84,2) -> #REF! | M84: Práce | N84: Běžná | V84: POL1_1
C85: osetí ornice : 319 | E85: 319 | V85: VV | W85: 0
A86: 29 | B86: 180405111R00 | C86: Založení trávníků ve veget. prefa.výsevem v rovině | D86: m2 | E86: 2036 | G86: =ROUND(E86*F86,2) -> 0 | H86: RTS 25/ II | I86: RTS 25/ II | J86: 0.18 | K86: =ROUND(#REF!*J86,2) -> #REF! | M86: Práce | N86: Běžná | V86: POL1_1
C87: Včetně zasypání semene zeminou nebo substrátem. | V87: POP
C88: zatrav.dlažba - osetí : 2036 | E88: 2036 | V88: VV | W88: 0
A89: 30 | B89: 181101102R00 | C89: Úprava pláně v zářezech v hor. 1-4, se zhutněním na 45 MPa ! | D89: m2 | E89: 3064 | G89: =ROUND(E89*F89,2) -> 0 | H89: RTS 25/ II | I89: RTS 25/ II | J89: 0.018 | K89: =ROUND(#REF!*J89,2) -> #REF! | M89: Práce | N89: Běžná | V89: POL1_1
C90: zhutnění pláně : 3064 | E90: 3064 | V90: VV | W90: 0
A91: 31 | B91: 181301102R00 | C91: Rozprostření ornice, rovina, tl. 10-15 cm,do 500m2 | D91: m2 | E91: 319 | G91: =ROUND(E91*F91,2) -> 0 | H91: RTS 25/ II | I91: RTS 25/ II | J91: 0.177 | K91: =ROUND(#REF!*J91,2) -> #REF! | M91: Práce | N91: Běžná | V91: POL1_1
C92: rozprostření ornice : 319 | E92: 319 | V92: VV | W92: 0
A93: 32 | B93: 182001121R00 | C93: Plošná úprava terénu, nerovnosti do 15 cm v rovině | D93: m2 | E93: 319 | G93: =ROUND(E93*F93,2) -> 0 | H93: RTS 25/ II | I93: RTS 25/ II | J93: 0.126 | K93: =ROUND(#REF!*J93,2) -> #REF! | M93: Práce | N93: Běžná | V93: POL1_1
C94: úprava ornice : 319 | E94: 319 | V94: VV | W94: 0
A95: 33 | B95: 185803211R00 | C95: Uválcování trávníku v rovině | D95: m2 | E95: 319 | G95: =ROUND(E95*F95,2) -> 0 | H95: RTS 25/ II | I95: RTS 25/ II | J95: 0.002 | K95: =ROUND(#REF!*J95,2) -> #REF! | M95: Práce | N95: Běžná | V95: POL1_1
C96: dtto osetí ornice : 319 | E96: 319 | V96: VV | W96: 0
A97: 34 | B97: 185804312R00 | C97: Zalití rostlin vodou plochy nad 20 m2 | D97: m3 | E97: 4.785 | G97: =ROUND(E97*F97,2) -> 0 | H97: RTS 25/ II | I97: RTS 25/ II | J97: 0.26 | K97: =ROUND(#REF!*J97,2) -> #REF! | M97: Práce | N97: Běžná | V97: POL1_1
C98: dtto osetí ornice : 319*0,015 | E98: 4.79 | V98: VV | W98: 0
A99: 35 | B99: 185851111R00 | C99: Dovoz vody pro zálivku rostlin do 6 km | D99: m3 | E99: 4.785 | G99: =ROUND(E99*F99,2) -> 0 | H99: RTS 25/ II | I99: RTS 25/ II | J99: 0.884 | K99: =ROUND(#REF!*J99,2) -> #REF! | M99: Práce | N99: Běžná | V99: POL1_1
C100: 4,785 | E100: 4.79 | V100: VV | W100: 0
A101: 36 | B101: 199000005R00 | C101: Poplatek za skládku zeminy 1- 4 | D101: t | E101: 3706.7539 | G101: =ROUND(E101*F101,2) -> 0 | H101: RTS 25/ II | I101: RTS 25/ II | J101: 0 | K101: =ROUND(#REF!*J101,2) -> #REF! | M101: Práce | N101: Běžná | V101: POL1_1
C102: výkopek na skládku : 2316,7212*1,6 | E102: 3706.75 | V102: VV | W102: 0
...

Sheet SO 104
A1: Položkový soupis prací | V1: #TypZaznamu#
A2: S: | B2: 2025/129 | C2: Parkovací stání ul.Dukelská, Zliv | V2: STA
A3: O: | B3: 04 | C3: SO 104 Parkovací stání Tyršova | R3: STA | V3: OBJ
A4: R: | B4: 04 | C4: SO 104 Parkovací stání Tyršova | V4: ROZ
A6: P.č. | B6: Číslo položky | C6: Název položky | D6: MJ | E6: Množství | F6: Cena / MJ | G6: Celkem | H6: Cen. soustava / platnost | I6: Cenová úroveň | J6: Nhod / MJ | K6: Nhod celk. | L6: Dodavatel | M6: Typ položky | N6: Stav položky
A8: Díl: | B8: 1 | C8: Zemní práce | G8: =SUMIF(AG9:AG65,"<>NOR",G9:G65) -> 0 | K8: =SUM(K9:K65) -> #REF! | V8: DIL
A9: 1 | B9: 113106231R00 | C9: Rozebrání dlažeb ze zámkové dlažby v kamenivu | D9: m2 | E9: 58 | G9: =ROUND(E9*F9,2) -> 0 | H9: RTS 25/ II | I9: RTS 25/ II | J9: 0.142 | K9: =ROUND(#REF!*J9,2) -> #REF! | M9: Práce | N9: Běžná | V9: POL1_1
C10: stáv.dlažba : 17 | E10: 17 | V10: VV | W10: 0
C11: stáv.dlažba (pro zpětnou montáž) : 41 | E11: 41 | V11: VV | W11: 0
A12: 2 | B12: 113107512R00 | C12: Odstranění podkladu pl. 50 m2,kam.drcené tl.12 cm | D12: m2 | E12: 17 | G12: =ROUND(E12*F12,2) -> 0 | H12: RTS 25/ II | I12: RTS 25/ II | J12: 0.4632 | K12: =ROUND(#REF!*J12,2) -> #REF! | M12: Práce | N12: Běžná | V12: POL1_1
C13: stáv.dlažba - podklad : 17 | E13: 17 | V13: VV | W13: 0
A14: 3 | B14: 113107605R00 | C14: Odstranění podkladu nad 50 m2,kam.drcené tl.5 cm | D14: m2 | E14: 17 | G14: =ROUND(E14*F14,2) -> 0 | H14: RTS 25/ II | I14: RTS 25/ II | J14: 0.0259 | K14: =ROUND(#REF!*J14,2) -> #REF! | M14: Práce | N14: Běžná | V14: POL1_1
C15: stáv.dlažba - podsyp : 17 | E15: 17 | V15: VV | W15: 0
A16: 4 | B16: 113151119R00 | C16: Fréz.živič.krytu pl.do 500 m2,pruh do 75cm,tl.10cm | D16: m2 | E16: 26 | G16: =ROUND(E16*F16,2) -> 0 | H16: RTS 25/ II | I16: RTS 25/ II | J16: 0.12 | K16: =ROUND(#REF!*J16,2) -> #REF! | M16: Práce | N16: Běžná | V16: POL1_0
C17: stáv.asfalt : 26 | E17: 26 | V17: VV | W17: 0
A18: 5 | B18: 113201111R00 | C18: Vytrhání obrubníků chodníkových a parkových vč.vybourání betonového lože | D18: m | E18: 23 | G18: =ROUND(E18*F18,2) -> 0 | H18: RTS 25/ II | I18: RTS 25/ II | J18: 0.143 | K18: =ROUND(#REF!*J18,2) -> #REF! | M18: Práce | N18: Běžná | V18: POL1_1
C19: stáv.obruby : 23 | E19: 23 | V19: VV | W19: 0
A20: 6 | B20: 113202111R00 | C20: Vytrhání obrub obrubníků silničních vč.vybourání betonového lože | D20: m | E20: 30 | G20: =ROUND(E20*F20,2) -> 0 | H20: RTS 25/ II | I20: RTS 25/ II | J20: 0.123 | K20: =ROUND(#REF!*J20,2) -> #REF! | M20: Práce | N20: Běžná | V20: POL1_1
C21: stáv.obruby : 30 | E21: 30 | V21: VV | W21: 0
A22: 7 | B22: 121101100R00 | C22: Sejmutí ornice, pl. do 400 m2, přemístění do 50 m | D22: m3 | E22: 12.8 | G22: =ROUND(E22*F22,2) -> 0 | H22: RTS 25/ II | I22: RTS 25/ II | J22: 0.0952 | K22: =ROUND(#REF!*J22,2) -> #REF! | M22: Práce | N22: Běžná | V22: POL1_1
C23: sejmutí ornice : 128*0,1 | E23: 12.8 | V23: VV | W23: 0
A24: 8 | B24: 122202201R00 | C24: Odkopávky pro silnice v hor. 3 do 100 m3 | D24: m3 | E24: 108.25 | G24: =ROUND(E24*F24,2) -> 0 | H24: RTS 25/ II | I24: RTS 25/ II | J24: 0.422 | K24: =ROUND(#REF!*J24,2) -> #REF! | M24: Práce | N24: Běžná | V24: POL1_1
C25: výkop pro skladbu : 110*0,6+17*0,25 | E25: 70.25 | V25: VV | W25: 0
C26: výkop pro sanaci : 95*0,4 | E26: 38 | V26: VV | W26: 0
A27: 9 | B27: 122202209R00 | C27: Příplatek za lepivost - odkop. pro silnice v hor.3 | D27: m3 | E27: 54.125 | G27: =ROUND(E27*F27,2) -> 0 | H27: RTS 25/ II | I27: RTS 25/ II | J27: 0.088 | K27: =ROUND(#REF!*J27,2) -> #REF! | M27: Práce | N27: Běžná | V27: POL1_1
C28: 108,25/2 | E28: 54.13 | V28: VV | W28: 0
A29: 10 | B29: 162701105R00 | C29: Vodorovné přemístění výkopku z hor.1-4 do 10000 m | D29: m3 | E29: 148.25 | G29: =ROUND(E29*F29,2) -> 0 | H29: RTS 25/ II | I29: RTS 25/ II | J29: 0.011 | K29: =ROUND(#REF!*J29,2) -> #REF! | M29: Práce | N29: Běžná | V29: POL1_1
C30: dovoz materiálu : | V30: VV | W30: 0
C31: sanace (ŠD) : 38 | E31: 38 | V31: VV | W31: 0
C32: substrát : 2 | E32: 2 | V32: VV | W32: 0
C33: odvoz výkopku na skládku : 108,25 | E33: 108.25 | V33: VV | W33: 0
A34: 11 | B34: 162701109R00 | C34: Příplatek k vod. přemístění hor.1-4 za další 1 km | D34: m3 | E34: 741.25 | G34: =ROUND(E34*F34,2) -> 0 | H34: RTS 25/ II | I34: RTS 25/ II | J34: 0 | K34: =ROUND(#REF!*J34,2) -> #REF! | M34: Práce | N34: Běžná | V34: POL1_1
C35: dovoz materiálu : | V35: VV | W35: 0
C36: sanace (ŠD) : 38*5 | E36: 190 | V36: VV | W36: 0
C37: substrát : 2*5 | E37: 10 | V37: VV | W37: 0
C38: odvoz výkopku na skládku : 108,25*5 | E38: 541.25 | V38: VV | W38: 0
A39: 12 | B39: 171102105R00 | C39: Uložení sypaniny do násypů, zhutn, na 103% PS | D39: m3 | E39: 38 | G39: =ROUND(E39*F39,2) -> 0 | H39: RTS 25/ II | I39: RTS 25/ II | J39: 0.068 | K39: =ROUND(#REF!*J39,2) -> #REF! | M39: Práce | N39: Běžná | V39: POL1_1
C40: sanace (ŠD) : 95*0,4 | E40: 38 | V40: VV | W40: 0
A41: 13 | B41: 180402111R00 | C41: Založení trávníku parkového výsevem v rovině | D41: m2 | E41: 164 | G41: =ROUND(E41*F41,2) -> 0 | H41: RTS 25/ II | I41: RTS 25/ II | J41: 0.06 | K41: =ROUND(#REF!*J41,2) -> #REF! | M41: Práce | N41: Běžná | V41: POL1_1
C42: osetí zeminy : 164 | E42: 164 | V42: VV | W42: 0
A43: 14 | B43: 180405111R00 | C43: Založení trávníků ve veget. prefa.výsevem v rovině | D43: m2 | E43: 92 | G43: =ROUND(E43*F43,2) -> 0 | H43: RTS 25/ II | I43: RTS 25/ II | J43: 0.18 | K43: =ROUND(#REF!*J43,2) -> #REF! | M43: Práce | N43: Běžná | V43: POL1_1
C44: Včetně zasypání semene zeminou nebo substrátem. | V44: POP
C45: osetí zatrav.dlažby : 92 | E45: 92 | V45: VV | W45: 0
A46: 15 | B46: 181101102R00 | C46: Úprava pláně v zářezech v hor. 1-4, se zhutněním na 45 MPa ! | D46: m2 | E46: 95 | G46: =ROUND(E46*F46,2) -> 0 | H46: RTS 25/ II | I46: RTS 25/ II | J46: 0.018 | K46: =ROUND(#REF!*J46,2) -> #REF! | M46: Práce | N46: Běžná | V46: POL1_1
C47: zhutnění pláně : 95 | E47: 95 | V47: VV | W47: 0
A48: 16 | B48: 181301102R00 | C48: Rozprostření ornice, rovina, tl. 10-15 cm,do 500m2 | D48: m2 | E48: 164 | G48: =ROUND(E48*F48,2) -> 0 | H48: RTS 25/ II | I48: RTS 25/ II | J48: 0.177 | K48: =ROUND(#REF!*J48,2) -> #REF! | M48: Práce | N48: Běžná | V48: POL1_1
C49: zel.plochy : 164 | E49: 164 | V49: VV | W49: 0
A50: 17 | B50: 182001121R00 | C50: Plošná úprava terénu, nerovnosti do 15 cm v rovině | D50: m2 | E50: 164 | G50: =ROUND(E50*F50,2) -> 0 | H50: RTS 25/ II | I50: RTS 25/ II | J50: 0.126 | K50: =ROUND(#REF!*J50,2) -> #REF! | M50: Práce | N50: Běžná | V50: POL1_1
C51: zel.plochy : 164 | E51: 164 | V51: VV | W51: 0
A52: 18 | B52: 185803211R00 | C52: Uválcování trávníku v rovině | D52: m2 | E52: 164 | G52: =ROUND(E52*F52,2) -> 0 | H52: RTS 25/ II | I52: RTS 25/ II | J52: 0.002 | K52: =ROUND(#REF!*J52,2) -> #REF! | M52: Práce | N52: Běžná | V52: POL1_1
C53: dtto osetí zeminy : 164 | E53: 164 | V53: VV | W53: 0
A54: 19 | B54: 185804312R00 | C54: Zalití rostlin vodou plochy nad 20 m2 | D54: m3 | E54: 3.84 | G54: =ROUND(E54*F54,2) -> 0 | H54: RTS 25/ II | I54: RTS 25/ II | J54: 0.26 | K54: =ROUND(#REF!*J54,2) -> #REF! | M54: Práce | N54: Běžná | V54: POL1_1
C55: dtto osetí zeminy a zatrav.dlažby : 256*0,015 | E55: 3.84 | V55: VV | W55: 0
A56: 20 | B56: 185851111R00 | C56: Dovoz vody pro zálivku rostlin do 6 km | D56: m3 | E56: 3.84 | G56: =ROUND(E56*F56,2) -> 0 | H56: RTS 25/ II | I56: RTS 25/ II | J56: 0.884 | K56: =ROUND(#REF!*J56,2) -> #REF! | M56: Práce | N56: Běžná | V56: POL1_1
C57: 3,84 | E57: 3.84 | V57: VV | W57: 0
A58: 21 | B58: 199000005R00 | C58: Poplatek za skládku zeminy 1- 4 | D58: t | E58: 173.2 | G58: =ROUND(E58*F58,2) -> 0 | H58: RTS 25/ II | I58: RTS 25/ II | J58: 0 | K58: =ROUND(#REF!*J58,2) -> #REF! | M58: Práce | N58: Běžná | V58: POL1_1
C59: 108,25*1,6 | E59: 173.2 | V59: VV | W59: 0
A60: 22 | B60: 00572400 | C60: Směs travní parková běžná zátěž | D60: kg | E60: 13 | G60: =ROUND(E60*F60,2) -> 0 | H60: RTS 25/ II | I60: RTS 25/ II | J60: 0 | K60: =ROUND(#REF!*J60,2) -> #REF! | M60: Specifikace | N60: Běžná | V60: POL3_1
C61: osivo : (164+92)*0,05+0,2 | E61: 13 | V61: VV | W61: 0
A62: 23 | B62: 10371500 | C62: Substrát zahradnický VL | D62: m3 | E62: 2 | G62: =ROUND(E62*F62,2) -> 0 | H62: RTS 25/ II | I62: RTS 25/ II | J62: 0 | K62: =ROUND(#REF!*J62,2) -> #REF! | M62: Specifikace | N62: Běžná | V62: POL3_1
C63: do zatrav.dlažby (1/2) : 92*0,04/2*1,05+0,068 | E63: 2 | V63: VV | W63: 0
A64: 24 | B64: 583423602R | C64: Kamenivo drcené 0/63mm | D64: t | E64: 83.6 | G64: =ROUND(E64*F64,2) -> 0 | H64: RTS 25/ II | I64: RTS 25/ II | J64: 0 | K64: =ROUND(#REF!*J64,2) -> #REF! | M64: Specifikace | N64: Běžná | V64: POL3_1
C65: sanace (ŠD) : 38*2,2 | E65: 83.6 | V65: VV | W65: 0
A66: Díl: | B66: 5 | C66: Komunikace | G66: =SUMIF(AG67:AG110,"<>NOR",G67:G110) -> 0 | K66: =SUM(K67:K110) -> #REF! | V66: DIL
A67: 25 | B67: 5645501Rpol | C67: Podklad ze směsi zeminy a štěrkodrtě 0/32mm,tl.5cm (poměr zemina/ŠD = 1:2), vč.promíchání | D67: m2 | E67: 92 | G67: =ROUND(E67*F67,2) -> 0 | H67: Vlastní | I67: Indiv | J67: 0 | K67: =ROUND(#REF!*J67,2) -> #REF! | M67: Práce | N67: Běžná | V67: POL1_1
C68: podkladní vrstva : 92 | E68: 92 | V68: VV | W68: 0
A69: 26 | B69: 564871111RT4 | C69: Podklad ze štěrkodrti po zhutnění tloušťky 25 cm štěrkodrť frakce 0-63 mm | D69: m2 | E69: 92 | G69: =ROUND(E69*F69,2) -> 0 | H69: RTS 25/ II | I69: RTS 25/ II | J69: 0.027 | K69: =ROUND(#REF!*J69,2) -> #REF! | M69: Práce | N69: Běžná | V69: POL1_1
C70: podkladní vrstva : 92 | E70: 92 | V70: VV | W70: 0
A71: 27 | B71: 565141111RT3 | C71: Podklad z obal kam.ACP 16+,ACP 22+,do 3 m,tl. 6 cm plochy 101-200 m2 | D71: m2 | E71: 26 | G71: =ROUND(E71*F71,2) -> 0 | H71: RTS 25/ II | I71: RTS 25/ II | J71: 0.056 | K71: =ROUND(#REF!*J71,2) -> #REF! | M71: Práce | N71: Běžná | V71: POL1_1
C72: podkladní vrstva : 26 | E72: 26 | V72: VV | W72: 0
A73: 28 | B73: 568111111R00 | C73: Zřízení vrstvy z geotextilie skl.do 1:5, š.do 3 m | D73: m2 | E73: 187 | G73: =ROUND(E73*F73,2) -> 0 | H73: RTS 25/ II | I73: RTS 25/ II | J73: 0.091 | K73: =ROUND(#REF!*J73,2) -> #REF! | M73: Práce | N73: Běžná | V73: POL1_1
C74: separační textílie : 95 | E74: 95 | V74: VV | W74: 0
C75: separační textílie : 92 | E75: 92 | V75: VV | W75: 0
A76: 29 | B76: 568119111R00 | C76: Příplatek-upevnění geotex.,do 1:5, 4 skoby/10 m2 | D76: m2 | E76: 187 | G76: =ROUND(E76*F76,2) -> 0 | H76: RTS 25/ II | I76: RTS 25/ II | J76: 0.008 | K76: =ROUND(#REF!*J76,2) -> #REF! | M76: Práce | N76: Běžná | V76: POL1_1
C77: separační textílie : 95 | E77: 95 | V77: VV | W77: 0
C78: separační textílie : 92 | E78: 92 | V78: VV | W78: 0
A79: 30 | B79: 573111121R00 | C79: Postřik infiltrační, množství zbytkového asfaltového pojiva 0,60 kg/m2 | D79: m2 | E79: 26 | G79: =ROUND(E79*F79,2) -> 0 | H79: RTS 25/ II | I79: RTS 25/ II | J79: 0.004 | K79: =ROUND(#REF!*J79,2) -> #REF! | M79: Práce | N79: Běžná | V79: POL1_1
C80: podkladní vrstva : 26 | E80: 26 | V80: VV | W80: 0
A81: 31 | B81: 573231125R00 | C81: Postřik spojovací z KAE, množství zbytkového asfaltu 0,5 kg/m2 | D81: m2 | E81: 26 | G81: =ROUND(E81*F81,2) -> 0 | H81: RTS 25/ II | I81: RTS 25/ II | J81: 0.002 | K81: =ROUND(#REF!*J81,2) -> #REF! | M81: Práce | N81: Běžná | V81: POL1_1
C82: podkladní vrstva : 26 | E82: 26 | V82: VV | W82: 0
A83: 32 | B83: 577131211RT3 | C83: Beton asfalt. ACO 8,nebo ACO 11, do 3 m, tl. 4 cm plochy 101-200 m2 | D83: m2 | E83: 26 | G83: =ROUND(E83*F83,2) -> 0 | H83: RTS 25/ II | I83: RTS 25/ II | J83: 0.064 | K83: =ROUND(#REF!*J83,2) -> #REF! | M83: Práce | N83: Běžná | V83: POL1_1
C84: vrchní vrstva : 26 | E84: 26 | V84: VV | W84: 0
A85: 33 | B85: 596215021R00 | C85: Kladení zámkové dlažby tl. 6 cm do drtě tl. 4 cm | D85: m2 | E85: 41 | G85: =ROUND(E85*F85,2) -> 0 | H85: RTS 25/ II | I85: RTS 25/ II | J85: 0.452 | K85: =ROUND(#REF!*J85,2) -> #REF! | M85: Práce | N85: Běžná | V85: POL1_1
C86: V položce jsou zakalkulovány i náklady na dodání hmot pro lože a na dodání materiálu na výplň spár. | V86: POP
C87: stáv.dlažba - zpětná montáž : 41 | E87: 41 | V87: VV | W87: 0
A88: 34 | B88: 596215040R00 | C88: Kladení zámkové dlažby tl. 8 cm do drtě tl. 4 cm | D88: m2 | E88: 17.5 | G88: =ROUND(E88*F88,2) -> 0 | H88: RTS 25/ II | I88: RTS 25/ II | J88: 0.478 | K88: =ROUND(#REF!*J88,2) -> #REF! | M88: Práce | N88: Běžná | V88: POL1_1
C89: V položce jsou zakalkulovány i náklady na dodání hmot pro lože a na dodání materiálu na výplň spár. | V89: POP
C90: zámk.dlažba : 17,5 | E90: 17.5 | V90: VV | W90: 0
A91: 35 | B91: 596291111R00 | C91: Řezání zámkové dlažby tl. 60 mm | D91: m | E91: 8.2 | G91: =ROUND(E91*F91,2) -> 0 | H91: RTS 25/ II | I91: RTS 25/ II | J91: 0.41 | K91: =ROUND(#REF!*J91,2) -> #REF! | M91: Práce | N91: Běžná | V91: POL1_1
C92: stáv.dlažba - zpětná montáž : 41*0,2 | E92: 8.2 | V92: VV | W92: 0
A93: 36 | B93: 596291113R00 | C93: Řezání zámkové dlažby tl. 80 mm | D93: m | E93: 4.375 | G93: =ROUND(E93*F93,2) -> 0 | H93: RTS 25/ II | I93: RTS 25/ II | J93: 0.43 | K93: =ROUND(#REF!*J93,2) -> #REF! | M93: Práce | N93: Běžná | V93: POL1_1
C94: 17,5*0,25 | E94: 4.38 | V94: VV | W94: 0
A95: 37 | B95: 596921212R00 | C95: Kladení plast.veget.dlaždic,lože 30mm,pl.do 100 m2 včetně lože z kameniva 4/8mm tl.30mm | D95: m2 | E95: 92 | G95: =ROUND(E95*F95,2) -> 0 | H95: RTS 25/ II | I95: RTS 25/ II | J95: 0.275 | K95: =ROUND(#REF!*J95,2) -> #REF! | M95: Práce | N95: Běžná | V95: POL1_1
C96: zatrav.dlažba : 92 | E96: 92 | V96: VV | W96: 0
A97: 38 | B97: 596921291R00 | C97: Přípl.za výpl.spár veg.plast.dlaždic,bez dodávky | D97: m3 | E97: 3.68 | G97: =ROUND(E97*F97,2) -> 0 | H97: RTS 25/ II | I97: RTS 25/ II | J97: 3 | K97: =ROUND(#REF!*J97,2) -> #REF! | M97: Práce | N97: Běžná | V97: POL1_1
C98: 92*0,04 | E98: 3.68 | V98: VV | W98: 0
A99: 39 | B99: 599141111R00 | C99: Vyplnění spár živičnou zálivkou | D99: m | E99: 28 | G99: =ROUND(E99*F99,2) -> 0 | H99: RTS 25/ II | I99: RTS 25/ II | J99: 0.046 | K99: =ROUND(#REF!*J99,2) -> #REF! | M99: Práce | N99: Běžná | V99: POL1_1
C100: V položce jsou zakalkulovány i náklady na vyčištění spár. | V100: POP
C101: 28 | E101: 28 | V101: VV | W101: 0
A102: 40 | B102: 59901Rpol | C102: Dlažba betonová zámková přírodní vlnka tl.6cm | D102: m2 | E102: 9 | G102: =ROUND(E102*F102,2) -> 0 | H102: Vlastní | I102: Indiv | J102: 0 | K102: =ROUND(#REF!*J102,2) -> #REF! | M102: Práce | N102: Běžná | V102: POL1_1
...

Sheet SO 105
A1: Položkový soupis prací | V1: #TypZaznamu#
A2: S: | B2: 2025/129 | C2: Parkovací stání ul.Dukelská, Zliv | V2: STA
A3: O: | B3: 05 | C3: SO 105 Chodníky Tyršova | R3: STA | V3: OBJ
A4: R: | B4: 05 | C4: SO 105 Chodníky Tyršova | V4: ROZ
A6: P.č. | B6: Číslo položky | C6: Název položky | D6: MJ | E6: Množství | F6: Cena / MJ | G6: Celkem | H6: Cen. soustava / platnost | I6: Cenová úroveň | J6: Nhod / MJ | K6: Nhod celk. | L6: Dodavatel | M6: Typ položky | N6: Stav položky
A8: Díl: | B8: 1 | C8: Zemní práce | G8: =SUMIF(AG9:AG40,"<>NOR",G9:G40) -> 0 | K8: =SUM(K9:K40) -> #REF! | V8: DIL
A9: 1 | B9: 113106231R00 | C9: Rozebrání dlažeb ze zámkové dlažby v kamenivu | D9: m2 | E9: 9 | G9: =ROUND(E9*F9,2) -> 0 | H9: RTS 25/ II | I9: RTS 25/ II | J9: 0.142 | K9: =ROUND(#REF!*J9,2) -> #REF! | M9: Práce | N9: Běžná | V9: POL1_1
C10: stáv.dlažba : 2+3 | E10: 5 | V10: VV | W10: 0
C11: v místě předláždění stáv.chodníku : 4 | E11: 4 | V11: VV | W11: 0
A12: 2 | B12: 113107505R00 | C12: Odstranění podkladu pl. 50 m2,kam.drcené tl.5 cm | D12: m2 | E12: 9 | G12: =ROUND(E12*F12,2) -> 0 | H12: RTS 25/ II | I12: RTS 25/ II | J12: 0.2103 | K12: =ROUND(#REF!*J12,2) -> #REF! | M12: Práce | N12: Běžná | V12: POL1_1
C13: stáv.dlažba - podsyp : 2+3 | E13: 5 | V13: VV | W13: 0
C14: v místě předláždění stáv.chodníku - podsyp : 4 | E14: 4 | V14: VV | W14: 0
A15: 3 | B15: 113107512R00 | C15: Odstranění podkladu pl. 50 m2,kam.drcené tl.12 cm | D15: m2 | E15: 5 | G15: =ROUND(E15*F15,2) -> 0 | H15: RTS 25/ II | I15: RTS 25/ II | J15: 0.4632 | K15: =ROUND(#REF!*J15,2) -> #REF! | M15: Práce | N15: Běžná | V15: POL1_1
C16: stáv.dlažba - podklad : 2+3 | E16: 5 | V16: VV | W16: 0
A17: 4 | B17: 113107525R00 | C17: Odstranění podkladu pl. 50 m2,kam.drcené tl.25 cm | D17: m2 | E17: 12 | G17: =ROUND(E17*F17,2) -> 0 | H17: RTS 25/ II | I17: RTS 25/ II | J17: 0.8477 | K17: =ROUND(#REF!*J17,2) -> #REF! | M17: Práce | N17: Běžná | V17: POL1_1
C18: stáv.asfalt - podklad : 12 | E18: 12 | V18: VV | W18: 0
A19: 5 | B19: 113151119R00 | C19: Fréz.živič.krytu pl.do 500 m2,pruh do 75cm,tl.10cm | D19: m2 | E19: 23 | G19: =ROUND(E19*F19,2) -> 0 | H19: RTS 25/ II | I19: RTS 25/ II | J19: 0.12 | K19: =ROUND(#REF!*J19,2) -> #REF! | M19: Práce | N19: Běžná | V19: POL1_0
C20: stáv.asfalt : 11+12 | E20: 23 | V20: VV | W20: 0
A21: 6 | B21: 113201111R00 | C21: Vytrhání obrubníků chodníkových a parkových vč.vybourání betonového lože | D21: m | E21: 3 | G21: =ROUND(E21*F21,2) -> 0 | H21: RTS 25/ II | I21: RTS 25/ II | J21: 0.143 | K21: =ROUND(#REF!*J21,2) -> #REF! | M21: Práce | N21: Běžná | V21: POL1_1
C22: stáv.obruby : 3 | E22: 3 | V22: VV | W22: 0
A23: 7 | B23: 113202111R00 | C23: Vytrhání obrub obrubníků silničních vč.vybourání betonového lože | D23: m | E23: 12 | G23: =ROUND(E23*F23,2) -> 0 | H23: RTS 25/ II | I23: RTS 25/ II | J23: 0.123 | K23: =ROUND(#REF!*J23,2) -> #REF! | M23: Práce | N23: Běžná | V23: POL1_1
C24: stáv.obruby : 5+3+4 | E24: 12 | V24: VV | W24: 0
A25: 8 | B25: 171201101R00 | C25: Uložení sypaniny do násypů nezhutněných | D25: m3 | E25: 0.2 | G25: =ROUND(E25*F25,2) -> 0 | H25: RTS 25/ II | I25: RTS 25/ II | J25: 0.031 | K25: =ROUND(#REF!*J25,2) -> #REF! | M25: Práce | N25: Běžná | V25: POL1_1
C26: násyp : 2*0,1 | E26: 0.2 | V26: VV | W26: 0
A27: 9 | B27: 180402111R00 | C27: Založení trávníku parkového výsevem v rovině | D27: m2 | E27: 2 | G27: =ROUND(E27*F27,2) -> 0 | H27: RTS 25/ II | I27: RTS 25/ II | J27: 0.06 | K27: =ROUND(#REF!*J27,2) -> #REF! | M27: Práce | N27: Běžná | V27: POL1_1
C28: zel.plochy : 2 | E28: 2 | V28: VV | W28: 0
A29: 10 | B29: 181101102R00 | C29: Úprava pláně v zářezech v hor. 1-4, se zhutněním na 45 MPa ! | D29: m2 | E29: 23 | G29: =ROUND(E29*F29,2) -> 0 | H29: RTS 25/ II | I29: RTS 25/ II | J29: 0.018 | K29: =ROUND(#REF!*J29,2) -> #REF! | M29: Práce | N29: Běžná | V29: POL1_1
C30: zhutnění pláně : 9+14 | E30: 23 | V30: VV | W30: 0
A31: 11 | B31: 181301102R00 | C31: Rozprostření ornice, rovina, tl. 10-15 cm,do 500m2 | D31: m2 | E31: 2 | G31: =ROUND(E31*F31,2) -> 0 | H31: RTS 25/ II | I31: RTS 25/ II | J31: 0.177 | K31: =ROUND(#REF!*J31,2) -> #REF! | M31: Práce | N31: Běžná | V31: POL1_1
C32: zel.plochy : 2 | E32: 2 | V32: VV | W32: 0
A33: 12 | B33: 182001121R00 | C33: Plošná úprava terénu, nerovnosti do 15 cm v rovině | D33: m2 | E33: 2 | G33: =ROUND(E33*F33,2) -> 0 | H33: RTS 25/ II | I33: RTS 25/ II | J33: 0.126 | K33: =ROUND(#REF!*J33,2) -> #REF! | M33: Práce | N33: Běžná | V33: POL1_1
C34: zel.plochy : 2 | E34: 2 | V34: VV | W34: 0
A35: 13 | B35: 185803211R00 | C35: Uválcování trávníku v rovině | D35: m2 | E35: 2 | G35: =ROUND(E35*F35,2) -> 0 | H35: RTS 25/ II | I35: RTS 25/ II | J35: 0.002 | K35: =ROUND(#REF!*J35,2) -> #REF! | M35: Práce | N35: Běžná | V35: POL1_1
C36: zel.plochy : 2 | E36: 2 | V36: VV | W36: 0
A37: 14 | B37: 185804312R00 | C37: Zalití rostlin vodou plochy nad 20 m2 | D37: m3 | E37: 0.03 | G37: =ROUND(E37*F37,2) -> 0 | H37: RTS 25/ II | I37: RTS 25/ II | J37: 0.26 | K37: =ROUND(#REF!*J37,2) -> #REF! | M37: Práce | N37: Běžná | V37: POL1_1
C38: zel.plochy : 2*0,015 | E38: 0.03 | V38: VV | W38: 0
A39: 15 | B39: 185851111R00 | C39: Dovoz vody pro zálivku rostlin do 6 km | D39: m3 | E39: 0.03 | G39: =ROUND(E39*F39,2) -> 0 | H39: RTS 25/ II | I39: RTS 25/ II | J39: 0.884 | K39: =ROUND(#REF!*J39,2) -> #REF! | M39: Práce | N39: Běžná | V39: POL1_1
C40: 0,03 | E40: 0.03 | V40: VV | W40: 0
A41: Díl: | B41: 5 | C41: Komunikace | G41: =SUMIF(AG42:AG68,"<>NOR",G42:G68) -> 0 | K41: =SUM(K42:K68) -> #REF! | V41: DIL
A42: 16 | B42: 564871111RT4 | C42: Podklad ze štěrkodrti po zhutnění tloušťky 25 cm štěrkodrť frakce 0-63 mm | D42: m2 | E42: 14 | G42: =ROUND(E42*F42,2) -> 0 | H42: RTS 25/ II | I42: RTS 25/ II | J42: 0.027 | K42: =ROUND(#REF!*J42,2) -> #REF! | M42: Práce | N42: Běžná | V42: POL1_1
C43: podkladní vrstva : 14 | E43: 14 | V43: VV | W43: 0
A44: 17 | B44: 565151111RT3 | C44: Podklad z obal kam.ACP 16+,ACP 22+,do 3 m,tl. 7 cm plochy 101-200 m2 | D44: m2 | E44: 9 | G44: =ROUND(E44*F44,2) -> 0 | H44: RTS 25/ II | I44: RTS 25/ II | J44: 0.064 | K44: =ROUND(#REF!*J44,2) -> #REF! | M44: Práce | N44: Běžná | V44: POL1_1
C45: podkladní vrstva : 9 | E45: 9 | V45: VV | W45: 0
A46: 18 | B46: 573111121R00 | C46: Postřik infiltrační, množství zbytkového asfaltového pojiva 0,60 kg/m2 | D46: m2 | E46: 9 | G46: =ROUND(E46*F46,2) -> 0 | H46: RTS 25/ II | I46: RTS 25/ II | J46: 0.004 | K46: =ROUND(#REF!*J46,2) -> #REF! | M46: Práce | N46: Běžná | V46: POL1_1
C47: podkladní vrstva : 9 | E47: 9 | V47: VV | W47: 0
A48: 19 | B48: 573231125R00 | C48: Postřik spojovací z KAE, množství zbytkového asfaltu 0,5 kg/m2 | D48: m2 | E48: 9 | G48: =ROUND(E48*F48,2) -> 0 | H48: RTS 25/ II | I48: RTS 25/ II | J48: 0.002 | K48: =ROUND(#REF!*J48,2) -> #REF! | M48: Práce | N48: Běžná | V48: POL1_1
C49: podkladní vrstva : 9 | E49: 9 | V49: VV | W49: 0
A50: 20 | B50: 577131211RT3 | C50: Beton asfalt. ACO 8,nebo ACO 11, do 3 m, tl. 4 cm plochy 101-200 m2 | D50: m2 | E50: 9 | G50: =ROUND(E50*F50,2) -> 0 | H50: RTS 25/ II | I50: RTS 25/ II | J50: 0.064 | K50: =ROUND(#REF!*J50,2) -> #REF! | M50: Práce | N50: Běžná | V50: POL1_1
C51: vrchní vrstva : 9 | E51: 9 | V51: VV | W51: 0
A52: 21 | B52: 596215021R00 | C52: Kladení zámkové dlažby tl. 6 cm do drtě tl. 4 cm | D52: m2 | E52: 4 | G52: =ROUND(E52*F52,2) -> 0 | H52: RTS 25/ II | I52: RTS 25/ II | J52: 0.452 | K52: =ROUND(#REF!*J52,2) -> #REF! | M52: Práce | N52: Běžná | V52: POL1_1
C53: V položce jsou zakalkulovány i náklady na dodání hmot pro lože a na dodání materiálu na výplň spár. | V53: POP
C54: předláždění stáv.chodníku : 4 | E54: 4 | V54: VV | W54: 0
A55: 22 | B55: 596215040R00 | C55: Kladení zámkové dlažby tl. 8 cm do drtě tl. 4 cm | D55: m2 | E55: 14 | G55: =ROUND(E55*F55,2) -> 0 | H55: RTS 25/ II | I55: RTS 25/ II | J55: 0.478 | K55: =ROUND(#REF!*J55,2) -> #REF! | M55: Práce | N55: Běžná | V55: POL1_1
C56: V položce jsou zakalkulovány i náklady na dodání hmot pro lože a na dodání materiálu na výplň spár. | V56: POP
C57: zámková dlažba : 14 | E57: 14 | V57: VV | W57: 0
A58: 23 | B58: 596291111R00 | C58: Řezání zámkové dlažby tl. 60 mm | D58: m | E58: 0.8 | G58: =ROUND(E58*F58,2) -> 0 | H58: RTS 25/ II | I58: RTS 25/ II | J58: 0.41 | K58: =ROUND(#REF!*J58,2) -> #REF! | M58: Práce | N58: Běžná | V58: POL1_1
C59: 4*0,2 | E59: 0.8 | V59: VV | W59: 0
A60: 24 | B60: 596291113R00 | C60: Řezání zámkové dlažby tl. 80 mm | D60: m | E60: 2.8 | G60: =ROUND(E60*F60,2) -> 0 | H60: RTS 25/ II | I60: RTS 25/ II | J60: 0.43 | K60: =ROUND(#REF!*J60,2) -> #REF! | M60: Práce | N60: Běžná | V60: POL1_1
C61: 14*0,2 | E61: 2.8 | V61: VV | W61: 0
A62: 25 | B62: 599141111R00 | C62: Vyplnění spár živičnou zálivkou | D62: m | E62: 11 | G62: =ROUND(E62*F62,2) -> 0 | H62: RTS 25/ II | I62: RTS 25/ II | J62: 0.046 | K62: =ROUND(#REF!*J62,2) -> #REF! | M62: Práce | N62: Běžná | V62: POL1_1
C63: V položce jsou zakalkulovány i náklady na vyčištění spár. | V63: POP
C64: 11 | E64: 11 | V64: VV | W64: 0
A65: 26 | B65: 59901Rpol | C65: Dlažba betonová zámková přírodní vlnka tl.6cm | D65: m2 | E65: 1 | G65: =ROUND(E65*F65,2) -> 0 | H65: Vlastní | I65: Indiv | J65: 0 | K65: =ROUND(#REF!*J65,2) -> #REF! | M65: Práce | N65: Běžná | V65: POL1_1
C66: předláždění stáv.chodníku - doplnění cca z 20% : 1 | E66: 1 | V66: VV | W66: 0
A67: 27 | B67: 59903Rpol | C67: Dlažba betonová zámková přírodní vlnka tl.8cm | D67: m2 | E67: 15 | G67: =ROUND(E67*F67,2) -> 0 | H67: Vlastní | I67: Indiv | J67: 0 | K67: =ROUND(#REF!*J67,2) -> #REF! | M67: Práce | N67: Běžná | V67: POL1_1
C68: zámková dlažba : 15 | E68: 15 | V68: VV | W68: 0
A69: Díl: | B69: 91 | C69: Doplňující práce na komunikaci | G69: =SUMIF(AG70:AG84,"<>NOR",G70:G84) -> 0 | K69: =SUM(K70:K84) -> #REF! | V69: DIL
A70: 28 | B70: 916661111R00 | C70: Osazení park. obrubníků do lože z C 12/15 s opěrou | D70: m | E70: 8 | G70: =ROUND(E70*F70,2) -> 0 | H70: RTS 25/ II | I70: RTS 25/ II | J70: 0.162 | K70: =ROUND(#REF!*J70,2) -> #REF! | M70: Práce | N70: Běžná | V70: POL1_1
C71: park.obruby : 2+6 | E71: 8 | V71: VV | W71: 0
A72: 29 | B72: 917862111R00 | C72: Osazení stojat. obrub.bet. s opěrou,lože z C 12/15 | D72: m | E72: 5 | G72: =ROUND(E72*F72,2) -> 0 | H72: RTS 25/ II | I72: RTS 25/ II | J72: 0.272 | K72: =ROUND(#REF!*J72,2) -> #REF! | M72: Práce | N72: Běžná | V72: POL1_1
C73: Včetně lože z betonu prostého tl. 8 až 10 cm. | V73: POP
C74: silniční obruby : 5 | E74: 5 | V74: VV | W74: 0
A75: 30 | B75: 918101111R00 | C75: Lože pod obrubníky nebo obruby dlažeb z C 12/15 | D75: m3 | E75: 0.305 | G75: =ROUND(E75*F75,2) -> 0 | H75: RTS 25/ II | I75: RTS 25/ II | J75: 1.442 | K75: =ROUND(#REF!*J75,2) -> #REF! | M75: Práce | N75: Běžná | V75: POL1_1
C76: pod obruby : 5*0,25*0,1+8*0,15*0,15 | E76: 0.3 | V76: VV | W76: 0
A77: 31 | B77: 919731122R00 | C77: Zarovnání styčné plochy živičné tl. do 10 cm | D77: m | E77: 11 | G77: =ROUND(E77*F77,2) -> 0 | H77: RTS 25/ II | I77: RTS 25/ II | J77: 0.093 | K77: =ROUND(#REF!*J77,2) -> #REF! | M77: Práce | N77: Běžná | V77: POL1_1
C78: 11 | E78: 11 | V78: VV | W78: 0
A79: 32 | B79: 919735113R00 | C79: Řezání stávajícího živičného krytu tl. 10 - 15 cm | D79: m | E79: 11 | G79: =ROUND(E79*F79,2) -> 0 | H79: RTS 25/ II | I79: RTS 25/ II | J79: 0.055 | K79: =ROUND(#REF!*J79,2) -> #REF! | M79: Práce | N79: Běžná | V79: POL1_1
C80: 11 | E80: 11 | V80: VV | W80: 0
A81: 33 | B81: 59217010R | C81: Obrubník silniční betonový 150 x 250 x 1000 mm přírodní | D81: kus | E81: 6 | G81: =ROUND(E81*F81,2) -> 0 | H81: RTS 25/ II | I81: RTS 25/ II | J81: 0 | K81: =ROUND(#REF!*J81,2) -> #REF! | M81: Specifikace | N81: Běžná | V81: POL3_1
C82: obruby : 6 | E82: 6 | V82: VV | W82: 0
A83: 34 | B83: 59217510 | C83: Obrubník parkový přírodní 100x8x25 cm | D83: kus | E83: 9 | G83: =ROUND(E83*F83,2) -> 0 | H83: RTS 25/ II | I83: RTS 25/ II | J83: 0 | K83: =ROUND(#REF!*J83,2) -> #REF! | M83: Specifikace | N83: Běžná | V83: POL3_1
C84: park.obruby : 9 | E84: 9 | V84: VV | W84: 0
A85: Díl: | B85: 96 | C85: Bourání konstrukcí | G85: =SUMIF(AG86:AG92,"<>NOR",G86:G92) -> 0 | K85: =SUM(K86:K92) -> #REF! | V85: DIL
A86: 35 | B86: 979054441R00 | C86: Očištění vybour. dlaždic s výplní kamen. těženým | D86: m2 | E86: 4 | G86: =ROUND(E86*F86,2) -> 0 | H86: RTS 25/ II | I86: RTS 25/ II | J86: 0.115 | K86: =ROUND(#REF!*J86,2) -> #REF! | M86: Práce | N86: Běžná | V86: POL1_1
C87: dlažba předláždění stáv.chodníku : 4 | E87: 4 | V87: VV | W87: 0
A88: 36 | B88: 979081111R00 | C88: Odvoz suti a vybour. hmot na skládku do 1 km | D88: t | E88: 19.895 | G88: =ROUND(E88*F88,2) -> 0 | H88: RTS 25/ II | I88: RTS 25/ II | J88: 0.49 | K88: =ROUND(#REF!*J88,2) -> #REF! | M88: Práce | N88: Běžná | V88: POL1_0
A89: 37 | B89: 979081121R00 | C89: Příplatek k odvozu za každý další 1 km | D89: t | E89: 378.005 | G89: =ROUND(E89*F89,2) -> 0 | H89: RTS 25/ II | I89: RTS 25/ II | J89: 0 | K89: =ROUND(#REF!*J89,2) -> #REF! | M89: Práce | N89: Běžná | V89: POL1_0
A90: 38 | B90: 979087212R00 | C90: Nakládání suti na dopravní prostředky - komunikace | D90: t | E90: 19.895 | G90: =ROUND(E90*F90,2) -> 0 | H90: RTS 25/ II | I90: RTS 25/ II | J90: 0.099 | K90: =ROUND(#REF!*J90,2) -> #REF! | M90: Práce | N90: Běžná | V90: POL1_0
A91: 39 | B91: 979999997R00 | C91: Poplatek za recyklaci směsi suti betonu,kameniva, kusovost do 1600 cm2 (170107) | D91: t | E91: 16.91075 | G91: =ROUND(E91*F91,2) -> 0 | H91: RTS 25/ II | I91: Indiv | J91: 0 | K91: =ROUND(#REF!*J91,2) -> #REF! | M91: Práce | N91: Běžná | V91: POL1_0
A92: 40 | B92: 979999996R00 | C92: Poplatek za recyklaci asfaltu, kusovost nad 1600 cm2 (skup.170302) | D92: t | E92: 2.98425 | G92: =ROUND(E92*F92,2) -> 0 | H92: RTS 25/ II | I92: RTS 25/ II | J92: 0 | K92: =ROUND(#REF!*J92,2) -> #REF! | M92: Práce | N92: Běžná | V92: POL1_0
A93: Díl: | B93: 99 | C93: Staveništní přesun hmot | G93: =SUMIF(AG94:AG94,"<>NOR",G94:G94) -> 0 | K93: =SUM(K94:K94) -> #REF! | V93: DIL
A94: 41 | B94: 998223011R00 | C94: Přesun hmot, pozemní komunikace, kryt dlážděný | D94: t | E94: 18.25065 | G94: =ROUND(E94*F94,2) -> 0 | H94: RTS 25/ II | I94: RTS 25/ II | J94: 0.39 | K94: =ROUND(#REF!*J94,2) -> #REF! | M94: Přesun hmot | N94: Běžná | V94: POL7_1
T95: 12 | U95: 21 | V95: DPH
B96: Celkem | G96: =G8+G41+G69+G85+G93 -> 0 | T96: =SUMIF(A7:A94,T95,#REF!) -> #REF! | U96: =SUMIF(A7:A94,U95,#REF!) -> #REF! | V96: SUM
