Workbook
Name CelkemDPHVypocet: Stavba!$H$52
Name CenaCelkem: Stavba!$G$29
Name CenaCelkemBezDPH: Stavba!$G$28
Name CenaCelkemVypocet: Stavba!$I$52
Name cisloobjektu: Stavba!$D$3
Name CisloRozpoctu: '[1]Krycí list'!$C$2
Name CisloStavby: Stavba!$D$2
Name cislostavby: '[1]Krycí list'!$A$7
Name CisloStavebnihoRozpoctu: Stavba!$D$4
Name dadresa: Stavba!$D$12:$G$12
Name DIČ: Stavba!$I$12
Name dmisto: Stavba!$E$13:$G$13
Name DPHSni: Stavba!$G$24
Name DPHZakl: Stavba!$G$26
Name dpsc: Stavba!$D$13
Name IČO: Stavba!$I$11
Name Mena: Stavba!$J$29
Name MistoStavby: Stavba!$D$4
Name nazevobjektu: Stavba!$E$3
Name NazevRozpoctu: '[1]Krycí list'!$D$2
Name NazevStavby: Stavba!$E$2
Name nazevstavby: '[1]Krycí list'!$C$7
Name NazevStavebnihoRozpoctu: Stavba!$E$4
Name oadresa: Stavba!$D$6
Name Objednatel: Stavba!$D$5
Name Objekt: Stavba!$B$38
Name odic: Stavba!$I$6
Name oico: Stavba!$I$5
Name omisto: Stavba!$E$7
Name onazev: Stavba!$D$6
Name opsc: Stavba!$D$7
Name padresa: Stavba!$D$9
Name pdic: Stavba!$I$9
Name pico: Stavba!$I$8
Name pmisto: Stavba!$E$10
Name PocetMJ: #REF!
Name PoptavkaID: Stavba!$A$1
Name pPSC: Stavba!$D$10
Name Projektant: Stavba!$D$8
Name SazbaDPH1: Stavba!$E$23
Name SazbaDPH1: '[1]Krycí list'!$C$30
Name SazbaDPH2: Stavba!$E$25
Name SazbaDPH2: '[1]Krycí list'!$C$32
Name SloupecCC: #REF!
Name SloupecCisloPol: #REF!
Name SloupecJC: #REF!
Name SloupecMJ: #REF!
Name SloupecMnozstvi: #REF!
Name SloupecNazPol: #REF!
Name SloupecPC: #REF!
Name Vypracoval: Stavba!$D$14
Name ZakladDPHSni: Stavba!$G$23
Name ZakladDPHSniVypocet: Stavba!$F$52
Name ZakladDPHZakl: Stavba!$G$25
Name ZakladDPHZaklVypocet: Stavba!$G$52
Name ZaObjednatele: Stavba!$G$34
Name Zaokrouhleni: Stavba!$G$27
Name ZaZhotovitele: Stavba!$D$34
Name Zhotovitel: Stavba!$D$11:$G$11

Sheet Pokyny pro vyplnění
A1: Pokyny pro vyplnění
A2: Ve všech listech tohoto souboru můžete měnit pouze buňky s modrým pozadím. Jedná se o tyto údaje : - údaje o firmě - jednotkové ceny položek zadané na maximálně dvě desetinná místa

Sheet Stavba
A1: #RTSROZP# | B1: Položkový soupis prací stavby
B2: Stavba: | D2: 2025/129 | E2: Parkovací stání ul.Dukelská, Zliv
B5: Objednatel: | H5: IČO:
H6: DIČ:
B8: Projektant: | H8: IČO:
H9: DIČ:
B11: Zhotovitel: | H11: IČO:
H12: DIČ:
B14: Vypracoval:
B15: Rozpis ceny | I15: Celkem
A16: HSV | B16: HSV | I16: =I59+I60+I61+I62+I63+I64+I65+I66+I67 -> 0
A17: PSV | B17: PSV | I17: =SUMIF(F59:F70,A17,I59:I70) -> 0
A18: MON | B18: MON | I18: =I71 -> 0
A19: VN | B19: Vedlejší náklady | I19: =I69 -> 0
A20: ON | B20: Ostatní náklady | I20: =I68 -> 0
B21: Celkem | I21: =SUM(I16:J20) -> 0
B22: Rekapitulace daní
A23: =ZakladDPHSni*SazbaDPH1/100 -> 0 | B23: Základ pro sníženou DPH | E23: 12 | F23: % | G23: =ZakladDPHSniVypocet -> 0 | J23: =Mena -> CZK
A24: =(A23-INT(A23))*100 -> 0 | B24: Snížená DPH | E24: =SazbaDPH1 -> 12 | F24: % | G24: =A23 -> 0 | J24: =Mena -> CZK
A25: =ZakladDPHZakl*SazbaDPH2/100 -> 0 | B25: Základ pro základní DPH | E25: 21 | F25: % | G25: =ZakladDPHZaklVypocet -> 0 | J25: =Mena -> CZK
A26: =(A25-INT(A25))*100 -> 0 | B26: Základní DPH | E26: =SazbaDPH2 -> 21 | F26: % | G26: =A25 -> 0 | J26: =Mena -> CZK
A27: =ZakladDPHSni+DPHSni+ZakladDPHZakl+DPHZakl -> 0 | B27: Zaokrouhlení | G27: =CenaCelkem-(ZakladDPHSni+DPHSni+ZakladDPHZakl+DPHZakl) -> 0 | J27: =Mena -> CZK
B28: Cena celkem bez DPH | G28: =ZakladDPHSniVypocet+ZakladDPHZaklVypocet -> 0 | J28: =Mena -> CZK
A29: =(A27-INT(A27))*100 -> 0 | B29: Cena celkem s DPH | G29: =A27 -> 0 | J29: CZK
C32: v | F32: dne
D35: Za zhotovitele | H35: Za objednatele
B37: Rekapitulace dílčích částí
A38: #CASTI>> | B38: Číslo | C38: Název | F38: =B23 -> Základ pro sníženou DPH | G38: =B25 -> Základ pro základní DPH | H38: DPH celkem | I38: Cena celkem
A39: 1 | B39: Stavba | F39: =OVN!AE31+'SO 101'!AE270+'SO 102'!AE286+'SO 103'!AE286+'SO 104'!AE167+'SO 105'!AE96 -> 0 | G39: =OVN!AF31+'SO 101'!AF270+'SO 102'!AF286+'SO 103'!AF286+'SO 104'!AF167+'SO 105'!AF96 -> 0 | H39: =(F39*SazbaDPH1/100)+(G39*SazbaDPH2/100) -> 0 | I39: =F39+G39+H39 -> 0
A40: 2 | B40: 00 | C40: Ostatní a vedlejší náklady | F40: =OVN!AE31 -> 0 | G40: =OVN!G31 -> 0 | H40: =(F40*SazbaDPH1/100)+(G40*SazbaDPH2/100) -> 0 | I40: =F40+G40+H40 -> 0
A42: 2 | B42: 01 | C42: SO 101 Ulice Dukelská | F42: ='SO 101'!AE270 -> 0 | G42: ='SO 101'!G270 -> 0 | H42: =(F42*SazbaDPH1/100)+(G42*SazbaDPH2/100) -> 0 | I42: =F42+G42+H42 -> 0
A44: 2 | B44: 02 | C44: SO 102 Chodníky Dukelská | F44: ='SO 102'!AE286 -> 0 | G44: ='SO 102'!G286 -> 0 | H44: =(F44*SazbaDPH1/100)+(G44*SazbaDPH2/100) -> 0 | I44: =F44+G44+H44 -> 0
A46: 2 | B46: 03 | C46: SO 103 Parkovací stání Dukelská | F46: ='SO 103'!AE286 -> 0 | G46: ='SO 103'!G286 -> 0 | H46: =(F46*SazbaDPH1/100)+(G46*SazbaDPH2/100) -> 0 | I46: =F46+G46+H46 -> 0
A48: 2 | B48: 04 | C48: SO 104 Parkovací stání Tyršova | F48: ='SO 104'!AE167 -> 0 | G48: ='SO 104'!G167 -> 0 | H48: =(F48*SazbaDPH1/100)+(G48*SazbaDPH2/100) -> 0 | I48: =F48+G48+H48 -> 0
A50: 2 | B50: 05 | C50: SO 105 Chodníky Tyršova | F50: ='SO 105'!AE96 -> 0 | G50: ='SO 105'!G96 -> 0 | H50: =(F50*SazbaDPH1/100)+(G50*SazbaDPH2/100) -> 0 | I50: =F50+G50+H50 -> 0
B52: Celkem za stavbu | F52: =SUMIF(A39:A51,"=1",F39:F51) -> 0 | G52: =SUM(G40:G51) -> 0 | H52: =SUM(H40:H51) -> 0 | I52: =SUM(I40:I51) -> 0
B56: Rekapitulace dílů
B58: Číslo | C58: Název | F58: Typ dílu | I58: Celkem
B59: 1 | C59: Zemní práce | F59: HSV | I59: ='SO 101'!G8+'SO 102'!G8+'SO 103'!G8+'SO 104'!G8+'SO 105'!G8 -> 0
B60: 2 | C60: Základy a zvláštní zakládání | F60: HSV | I60: ='SO 101'!G100+'SO 103'!G117 -> 0
...

Sheet VzorPolozky
A1: Položkový rozpočet
A2: S:
A3: O:
A4: R:

Sheet OVN
A1: Položkový soupis prací | V1: #TypZaznamu#
A2: S: | B2: 2025/129 | C2: Parkovací stání ul.Dukelská, Zliv | V2: STA
A3: O: | B3: 00 | C3: Ostatní a vedlejší náklady | R3: STA | V3: OBJ
A4: R: | B4: 00 | C4: Ostatní a vedlejší náklady | V4: ROZ
A6: P.č. | B6: Číslo položky | C6: Název položky | D6: MJ | E6: Množství | F6: Cena / MJ | G6: Celkem | H6: Cen. soustava / platnost | I6: Cenová úroveň | J6: Nhod / MJ | K6: Nhod celk. | L6: Dodavatel | M6: Typ položky | N6: Stav položky
A8: Díl: | B8: ON | C8: Ostatní náklady | G8: =SUMIF(AG9:AG23,"<>NOR",G9:G23) -> 0 | K8: =SUM(K9:K23) -> #REF! | V8: DIL
A9: 1 | B9: 00511 R | C9: Geodetické zaměření skutečného provedení, "geometrický plán" | D9: soubor | E9: 1 | G9: =ROUND(E9*F9,2) -> 0 | H9: Vlastní | I9: Indiv | J9: 0 | K9: =ROUND(#REF!*J9,2) -> #REF! | M9: Práce | N9: Běžná | V9: POL1_1
C10: Náklady na provedení skutečného zaměření stavby v rozsahu nezbytném pro zápis změny do katastru nemovitostí. | V10: POP | BA10: =C10 -> Náklady na provedení skutečného zaměření stavby v rozsahu nezbytném pro zápis změny do katastru nemovitostí.
A11: 2 | B11: 005111020R | C11: Geodetické vytyčení před zahájením stavby vč.protokolu o vytýčení | D11: soubor | E11: 1 | G11: =ROUND(E11*F11,2) -> 0 | H11: Vlastní | I11: Indiv | J11: 0 | K11: =ROUND(#REF!*J11,2) -> #REF! | M11: Práce | N11: Běžná | V11: POL1_1
A12: 3 | B12: 005211020R | C12: Ochrana stávaj.inženýrských sítí na staveništi | D12: soubor | E12: 1 | G12: =ROUND(E12*F12,2) -> 0 | H12: Vlastní | I12: Indiv | J12: 0 | K12: =ROUND(#REF!*J12,2) -> #REF! | M12: Práce | N12: Běžná | V12: POL1_1
C13: Náklady na přezkoumání podkladů objednatele o stavu inženýrských sítí probíhajících staveništěm nebo dotčenými stavbou i mimo území staveniště, kontrola a vytýčení jejich skutečné trasy a provedení ochranných opatření pro zabezpečení stávajících inženýrských sítí. | V13: POP | BA13: =C13 -> Náklady na přezkoumání podkladů objednatele o stavu inženýrských sítí probíhajících staveništěm nebo dotčenými stavbou i mimo území staveniště, kontrola a vytýčení jejich skutečné trasy a provedení ochranných opatření pro zabezpečení stávajících inženýrských sítí.
A14: 4 | B14: 005211030R | C14: Dočasná dopravní opatření | D14: soubor | E14: 1 | G14: =ROUND(E14*F14,2) -> 0 | H14: Vlastní | I14: Indiv | J14: 0 | K14: =ROUND(#REF!*J14,2) -> #REF! | M14: Práce | N14: Běžná | V14: POL1_1
C15: Náklady na vyhotovení návrhu dočasného dopravního značení, jeho projednání s dotčenými orgány a organizacemi, dodání dopravních značek a světelné signalizace, jejich rozmístění a přemísťování a jejich údržba v průběhu výstavby včetně následného odstranění po ukončení stavebních prací. | V15: POP | BA15: =C15 -> Náklady na vyhotovení návrhu dočasného dopravního značení, jeho projednání s dotčenými orgány a organizacemi, dodání dopravních značek a světelné signalizace, jejich rozmístění a přemísťování a jejich údržba v průběhu výstavby včetně následného odstranění po ukončení stavebních prací.
A16: 5 | B16: 005211080R | C16: Naplnění podmínek a povinností vyplývajících z plánu BOZP, vč.oplocení stavby | D16: soubor | E16: 1 | G16: =ROUND(E16*F16,2) -> 0 | H16: Vlastní | I16: Indiv | J16: 0 | K16: =ROUND(#REF!*J16,2) -> #REF! | M16: Práce | N16: Běžná | V16: POL1_1
C17: Náklady na ochranu staveniště před vstupem nepovolaných osob, včetně příslušného značení, náklady na oplocení staveniště či na jeho osvětlení, náklady na vypracování potřebné dokumentace pro provoz staveniště z hlediska požární ochrany (požární řád a poplachová směrnice), z hlediska provozu staveniště (provozně dopravní řád) a z hlediska bezpečnosti práce (plán BOZP). | V17: POP | BA17: =C17 -> Náklady na ochranu staveniště před vstupem nepovolaných osob, včetně příslušného značení, náklady na oplocení staveniště či na jeho osvětlení, náklady na vypracování potřebné dokumentace pro provoz staveniště z hlediska požární ochrany (požární řád a poplachová směrnice), z hlediska provozu staveniště (provozně dopravní řád) a z hlediska bezpečnosti práce (plán BOZP).
A18: 6 | B18: 005241010R | C18: Dokumentace skutečného provedení stavby | D18: soubor | E18: 1 | G18: =ROUND(E18*F18,2) -> 0 | H18: Vlastní | I18: Indiv | J18: 0 | K18: =ROUND(#REF!*J18,2) -> #REF! | M18: Práce | N18: Běžná | V18: POL1_1
C19: Náklady na vyhotovení dokumentace skutečného provedení stavby a její předání objednateli dle podmínek smlouvy o dílo. | V19: POP | BA19: =C19 -> Náklady na vyhotovení dokumentace skutečného provedení stavby a její předání objednateli dle podmínek smlouvy o dílo.
A20: 7 | B20: 005256 | C20: Autorský dozor | D20: soubor | E20: 1 | G20: =ROUND(E20*F20,2) -> 0 | H20: Vlastní | I20: Indiv | J20: 0 | K20: =ROUND(#REF!*J20,2) -> #REF! | M20: Práce | N20: Běžná | V20: POL1_1
A21: 8 | B21: 00523 R | C21: Zkoušky, revize, atesty | D21: soubor | E21: 1 | G21: =ROUND(E21*F21,2) -> 0 | H21: Vlastní | I21: Indiv | J21: 0 | K21: =ROUND(#REF!*J21,2) -> #REF! | M21: Specifikace | N21: Běžná | V21: POL3_1
C22: Náklady na provedení všech nezbytných zkoušek, atestů a revizí podle ČSN, ČSN EN, podmínek projektové dokumentace, stavebního povolení a případných jiných právních nebo technických předpisů platných v době provádění a předání díla, | V22: POP | BA22: =C22 -> Náklady na provedení všech nezbytných zkoušek, atestů a revizí podle ČSN, ČSN EN, podmínek projektové dokumentace, stavebního povolení a případných jiných právních nebo technických předpisů platných v době provádění a předání díla,
C23: kterými bude prokázáno dosažení předepsané kvality a předepsanýchtechnických parametrů díla v průběhu stavby, při předání a převzetí díla a při kolaudaci stavby. | V23: POP | BA23: =C23 -> kterými bude prokázáno dosažení předepsané kvality a předepsanýchtechnických parametrů díla v průběhu stavby, při předání a převzetí díla a při kolaudaci stavby.
A24: Díl: | B24: VN | C24: Vedlejší náklady | G24: =SUMIF(AG25:AG29,"<>NOR",G25:G29) -> 0 | K24: =SUM(K25:K29) -> #REF! | V24: DIL
A25: 9 | B25: 005121010R | C25: Vybudování, provoz a likvidace zařízení staveniště | D25: soubor | E25: 1 | G25: =ROUND(E25*F25,2) -> 0 | H25: Vlastní | I25: Indiv | J25: 0 | K25: =ROUND(#REF!*J25,2) -> #REF! | M25: Práce | N25: Běžná | V25: POL1_1
C26: Náklady spojené s případným vypracováním projektové dokumentace zařízení staveniště, zřízením přípojek energií k objektům zařízení staveniště, vybudování případných měřících odběrných míst a zřízení, případná příprava území pro objekty zařízení staveniště a vlastní vybudování objektů zařízení staveniště. | V26: POP | BA26: =C26 -> Náklady spojené s případným vypracováním projektové dokumentace zařízení staveniště, zřízením přípojek energií k objektům zařízení staveniště, vybudování případných měřících odběrných míst a zřízení, případná příprava území pro objekty zařízení staveniště a vlastní vybudování objektů zařízení staveniště.
A27: 10 | B27: 005121030R | C27: Uvedení ploch dotčených stavbou do původního stavu vč.protokolárního předání | D27: soubor | E27: 1 | G27: =ROUND(E27*F27,2) -> 0 | H27: Vlastní | I27: Indiv | J27: 0 | K27: =ROUND(#REF!*J27,2) -> #REF! | M27: Práce | N27: Běžná | V27: POL1_1
A28: 11 | B28: 005121032R | C28: Opatření k zamezení vyvážení nečistot ze stavby vč.průběžného čištění stávajících komunikací | D28: soubor | E28: 1 | G28: =ROUND(E28*F28,2) -> 0 | H28: Vlastní | I28: Indiv | J28: 0 | K28: =ROUND(#REF!*J28,2) -> #REF! | M28: Práce | N28: Běžná | V28: POL1_1
A29: 12 | B29: 005121038R | C29: Nepředpokládané vlivy v průběhu stavby | D29: soubor | E29: 1 | G29: =ROUND(E29*F29,2) -> 0 | H29: Vlastní | I29: Indiv | J29: 0 | K29: =ROUND(#REF!*J29,2) -> #REF! | M29: Práce | N29: Běžná | V29: POL1_1
T30: 12 | U30: 21 | V30: DPH
B31: Celkem | G31: =G8+G24 -> 0 | T31: =SUMIF(A7:A29,T30,#REF!) -> #REF! | U31: =SUMIF(A7:A29,U30,#REF!) -> #REF! | V31: SUM

Sheet SO 101
A1: Položkový soupis prací | V1: #TypZaznamu#
A2: S: | B2: 2025/129 | C2: Parkovací stání ul.Dukelská, Zliv | V2: STA
A3: O: | B3: 01 | C3: SO 101 Ulice Dukelská | R3: STA | V3: OBJ
A4: R: | B4: 01 | C4: SO 101 Ulice Dukelská | V4: ROZ
A6: P.č. | B6: Číslo položky | C6: Název položky | D6: MJ | E6: Množství | F6: Cena / MJ | G6: Celkem | H6: Cen. soustava / platnost | I6: Cenová úroveň | J6: Nhod / MJ | K6: Nhod celk. | L6: Dodavatel | M6: Typ položky | N6: Stav položky
A8: Díl: | B8: 1 | C8: Zemní práce | G8: =SUMIF(AG9:AG99,"<>NOR",G9:G99) -> 0 | K8: =SUM(K9:K99) -> #REF! | V8: DIL
A9: 1 | B9: 113106121R00 | C9: Rozebrání dlažeb z betonových dlaždic na sucho | D9: m2 | E9: 13 | G9: =ROUND(E9*F9,2) -> 0 | H9: RTS 25/ II | I9: RTS 25/ II | J9: 0.16 | K9: =ROUND(#REF!*J9,2) -> #REF! | M9: Práce | N9: Běžná | V9: POL1_1
C10: stáv.přídlažba : 13 | E10: 13 | V10: VV | W10: 0
A11: 2 | B11: 113106231R00 | C11: Rozebrání dlažeb ze zámkové dlažby v kamenivu | D11: m2 | E11: 268 | G11: =ROUND(E11*F11,2) -> 0 | H11: RTS 25/ II | I11: RTS 25/ II | J11: 0.142 | K11: =ROUND(#REF!*J11,2) -> #REF! | M11: Práce | N11: Běžná | V11: POL1_1
C12: 268 | E12: 268 | V12: VV | W12: 0
A13: 3 | B13: 113107515R00 | C13: Odstranění podkladu pl. 50 m2,kam.drcené tl.15 cm | D13: m2 | E13: 43 | G13: =ROUND(E13*F13,2) -> 0 | H13: RTS 25/ II | I13: RTS 25/ II | J13: 0.5265 | K13: =ROUND(#REF!*J13,2) -> #REF! | M13: Práce | N13: Běžná | V13: POL1_1
C14: podklad pod bet.deskou : 30 | E14: 30 | V14: VV | W14: 0
C15: podklad pod přídlažbou : 13 | E15: 13 | V15: VV | W15: 0
A16: 4 | B16: 113107605R00 | C16: Odstranění podkladu nad 50 m2,kam.drcené tl.5 cm | D16: m2 | E16: 268 | G16: =ROUND(E16*F16,2) -> 0 | H16: RTS 25/ II | I16: RTS 25/ II | J16: 0.0259 | K16: =ROUND(#REF!*J16,2) -> #REF! | M16: Práce | N16: Běžná | V16: POL1_1
C17: podklad pod zámk.dlažbou (lože) : 268 | E17: 268 | V17: VV | W17: 0
A18: 5 | B18: 113107615R00 | C18: Odstranění podkladu nad 50 m2,kam.drcené tl.15 cm | D18: m2 | E18: 268 | G18: =ROUND(E18*F18,2) -> 0 | H18: RTS 25/ II | I18: RTS 25/ II | J18: 0.06 | K18: =ROUND(#REF!*J18,2) -> #REF! | M18: Práce | N18: Běžná | V18: POL1_1
C19: podklad pod zámk.dlažbou : 268 | E19: 268 | V19: VV | W19: 0
A20: 6 | B20: 113109310R00 | C20: Odstranění podkladu pl.50 m2, bet.prostý tl.10 cm | D20: m2 | E20: 13 | G20: =ROUND(E20*F20,2) -> 0 | H20: RTS 25/ II | I20: RTS 25/ II | J20: 0.80648 | K20: =ROUND(#REF!*J20,2) -> #REF! | M20: Práce | N20: Běžná | V20: POL1_1
C21: stáv.přídlažba - podklad : 13 | E21: 13 | V21: VV | W21: 0
A22: 7 | B22: 113151119R00 | C22: Fréz.živič.krytu pl.do 500 m2,pruh do 75cm,tl.10cm | D22: m2 | E22: 24 | G22: =ROUND(E22*F22,2) -> 0 | H22: RTS 25/ II | I22: RTS 25/ II | J22: 0.12 | K22: =ROUND(#REF!*J22,2) -> #REF! | M22: Práce | N22: Běžná | V22: POL1_1
C23: 24 | E23: 24 | V23: VV | W23: 0
A24: 8 | B24: 113151319R00 | C24: Fréz.živič.krytu nad 500 m2, s překážkami, tl.10cm | D24: m2 | E24: 969 | G24: =ROUND(E24*F24,2) -> 0 | H24: RTS 25/ II | I24: RTS 25/ II | J24: 0.0705 | K24: =ROUND(#REF!*J24,2) -> #REF! | M24: Práce | N24: Běžná | V24: POL1_1
C25: 969 | E25: 969 | V25: VV | W25: 0
A26: 9 | B26: 113201111R00 | C26: Vytrhání obrubníků chodníkových a parkových vč.vybourání betonového lože | D26: m | E26: 121 | G26: =ROUND(E26*F26,2) -> 0 | H26: RTS 25/ II | I26: RTS 25/ II | J26: 0.143 | K26: =ROUND(#REF!*J26,2) -> #REF! | M26: Práce | N26: Běžná | V26: POL1_1
C27: 27+62+1+31 | E27: 121 | V27: VV | W27: 0
A28: 10 | B28: 113202111R00 | C28: Vytrhání obrub obrubníků silničních vč.vybourání betonového lože | D28: m | E28: 213 | G28: =ROUND(E28*F28,2) -> 0 | H28: RTS 25/ II | I28: RTS 25/ II | J28: 0.123 | K28: =ROUND(#REF!*J28,2) -> #REF! | M28: Práce | N28: Běžná | V28: POL1_1
C29: 197+16 | E29: 213 | V29: VV | W29: 0
A30: 11 | B30: 121101100R00 | C30: Sejmutí ornice, pl. do 400 m2, přemístění do 50 m | D30: m3 | E30: 3.2 | G30: =ROUND(E30*F30,2) -> 0 | H30: RTS 25/ II | I30: RTS 25/ II | J30: 0.0952 | K30: =ROUND(#REF!*J30,2) -> #REF! | M30: Práce | N30: Běžná | V30: POL1_1
C31: (2+29+1)*0,1 | E31: 3.2 | V31: VV | W31: 0
A32: 12 | B32: 122202201R00 | C32: Odkopávky pro silnice v hor. 3 do 100 m3 | D32: m3 | E32: 95.6 | G32: =ROUND(E32*F32,2) -> 0 | H32: RTS 25/ II | I32: RTS 25/ II | J32: 0.422 | K32: =ROUND(#REF!*J32,2) -> #REF! | M32: Práce | N32: Běžná | V32: POL1_1
C33: odkopávky pro zpev.plochy : 268*0,25+30*0,1+32*0,4 | E33: 82.8 | V33: VV | W33: 0
C34: odkopávky pro sanaci : 32*0,4 | E34: 12.8 | V34: VV | W34: 0
A35: 13 | B35: 122202202R00 | C35: Odkopávky pro silnice v hor. 3 do 1000 m3 | D35: m3 | E35: 119.2 | G35: =ROUND(E35*F35,2) -> 0 | H35: RTS 25/ II | I35: RTS 25/ II | J35: 0.223 | K35: =ROUND(#REF!*J35,2) -> #REF! | M35: Práce | N35: Běžná | V35: POL1_1
C36: odkopávky pro sanaci : 298*0,4 | E36: 119.2 | V36: VV | W36: 0
A37: 14 | B37: 122202209R00 | C37: Příplatek za lepivost - odkop. pro silnice v hor.3 | D37: m3 | E37: 107.4 | G37: =ROUND(E37*F37,2) -> 0 | H37: RTS 25/ II | I37: RTS 25/ II | J37: 0.088 | K37: =ROUND(#REF!*J37,2) -> #REF! | M37: Práce | N37: Běžná | V37: POL1_1
C38: (95,6+119,2)/2 | E38: 107.4 | V38: VV | W38: 0
A39: 15 | B39: 132201110R00 | C39: Hloubení rýh š.do 60 cm v hor.3 do 50 m3, STROJNĚ | D39: m3 | E39: 33.6 | G39: =ROUND(E39*F39,2) -> 0 | H39: RTS 25/ II | I39: RTS 25/ II | J39: 0.365 | K39: =ROUND(#REF!*J39,2) -> #REF! | M39: Práce | N39: Běžná | V39: POL1_1
C40: výkop pro drenáž : 210*0,4*0,4 | E40: 33.6 | V40: VV | W40: 0
A41: 16 | B41: 132201119R00 | C41: Přípl.za lepivost,hloubení rýh 60 cm,hor.3,STROJNĚ | D41: m3 | E41: 41.28 | G41: =ROUND(E41*F41,2) -> 0 | H41: RTS 25/ II | I41: RTS 25/ II | J41: 0.3898 | K41: =ROUND(#REF!*J41,2) -> #REF! | M41: Práce | N41: Běžná | V41: POL1_1
C42: 82,56/2 | E42: 41.28 | V42: VV | W42: 0
...

Sheet SO 102
A1: Položkový soupis prací | V1: #TypZaznamu#
A2: S: | B2: 2025/129 | C2: Parkovací stání ul.Dukelská, Zliv | V2: STA
A3: O: | B3: 02 | C3: SO 102 Chodníky Dukelská | R3: STA | V3: OBJ
A4: R: | B4: 02 | C4: SO 102 Chodníky Dukelská | V4: ROZ
A6: P.č. | B6: Číslo položky | C6: Název položky | D6: MJ | E6: Množství | F6: Cena / MJ | G6: Celkem | H6: Cen. soustava / platnost | I6: Cenová úroveň | J6: Nhod / MJ | K6: Nhod celk. | L6: Dodavatel | M6: Typ položky | N6: Stav položky
A8: Díl: | B8: 1 | C8: Zemní práce | G8: =SUMIF(AG9:AG156,"<>NOR",G9:G156) -> 0 | K8: =SUM(K9:K156) -> #REF! | V8: DIL
A9: 1 | B9: 111201101R00 | C9: Odstranění křovin i s kořeny na ploše do 1000 m2 | D9: m2 | E9: 6 | G9: =ROUND(E9*F9,2) -> 0 | H9: RTS 25/ II | I9: RTS 25/ II | J9: 0.172 | K9: =ROUND(#REF!*J9,2) -> #REF! | M9: Práce | N9: Běžná | V9: POL1_1
C10: 3+1+1+1 | E10: 6 | V10: VV | W10: 0
A11: 2 | B11: 112101102R00 | C11: Kácení stromů listnatých o průměru kmene 30-50 cm | D11: kus | E11: 2 | G11: =ROUND(E11*F11,2) -> 0 | H11: RTS 25/ II | I11: RTS 25/ II | J11: 0.88 | K11: =ROUND(#REF!*J11,2) -> #REF! | M11: Práce | N11: Běžná | V11: POL1_1
C12: stáv.zeleň : 1+1 | E12: 2 | V12: VV | W12: 0
A13: 3 | B13: 112101122R00 | C13: Kácení stromů jehličnatých o průměru kmene 30-50cm | D13: kus | E13: 4 | G13: =ROUND(E13*F13,2) -> 0 | H13: RTS 25/ II | I13: RTS 25/ II | J13: 0.55 | K13: =ROUND(#REF!*J13,2) -> #REF! | M13: Práce | N13: Běžná | V13: POL1_1
C14: stáv.zeleň : 4 | E14: 4 | V14: VV | W14: 0
A15: 4 | B15: 112201102R00 | C15: Odstranění pařezů pod úrovní, o průměru 30 - 50 cm | D15: kus | E15: 6 | G15: =ROUND(E15*F15,2) -> 0 | H15: RTS 25/ II | I15: RTS 25/ II | J15: 1.655 | K15: =ROUND(#REF!*J15,2) -> #REF! | M15: Práce | N15: Běžná | V15: POL1_1
C16: stáv.zeleň : 6 | E16: 6 | V16: VV | W16: 0
A17: 5 | B17: 113106231R00 | C17: Rozebrání dlažeb ze zámkové dlažby v kamenivu | D17: m2 | E17: 427 | G17: =ROUND(E17*F17,2) -> 0 | H17: RTS 25/ II | I17: RTS 25/ II | J17: 0.142 | K17: =ROUND(#REF!*J17,2) -> #REF! | M17: Práce | N17: Běžná | V17: POL1_1
C18: 45+41+15+13+22+137+2+3+4+69+12+16+8+2+16+4+18 | E18: 427 | V18: VV | W18: 0
A19: 6 | B19: 113107505R00 | C19: Odstranění podkladu pl. 50 m2,kam.drcené tl.5 cm | D19: m2 | E19: 221 | G19: =ROUND(E19*F19,2) -> 0 | H19: RTS 25/ II | I19: RTS 25/ II | J19: 0.2103 | K19: =ROUND(#REF!*J19,2) -> #REF! | M19: Práce | N19: Běžná | V19: POL1_1
C20: 45+41+15+13+22+2+3+4+12+16+8+2+16+4+18 | E20: 221 | V20: VV | W20: 0
A21: 7 | B21: 113107515R00 | C21: Odstranění podkladu pl. 50 m2,kam.drcené tl.15 cm | D21: m2 | E21: 252 | G21: =ROUND(E21*F21,2) -> 0 | H21: RTS 25/ II | I21: RTS 25/ II | J21: 0.5265 | K21: =ROUND(#REF!*J21,2) -> #REF! | M21: Práce | N21: Běžná | V21: POL1_1
C22: pod betonem : 4*2+3+13+7 | E22: 31 | V22: VV | W22: 0
C23: pod dlažbou : 45+41+15+13+22+2+3+4+12+16+8+2+16+4+18 | E23: 221 | V23: VV | W23: 0
A24: 8 | B24: 113107530R00 | C24: Odstranění podkladu pl. 50 m2,kam.drcené tl.30 cm | D24: m2 | E24: 17 | G24: =ROUND(E24*F24,2) -> 0 | H24: RTS 25/ II | I24: RTS 25/ II | J24: 1.053 | K24: =ROUND(#REF!*J24,2) -> #REF! | M24: Práce | N24: Běžná | V24: POL1_1
C25: dočasná plocha pro nádoby na odpad : 12+3+2 | E25: 17 | V25: VV | W25: 0
A26: 9 | B26: 113107605R00 | C26: Odstranění podkladu nad 50 m2,kam.drcené tl.5 cm | D26: m2 | E26: 206 | G26: =ROUND(E26*F26,2) -> 0 | H26: RTS 25/ II | I26: RTS 25/ II | J26: 0.0259 | K26: =ROUND(#REF!*J26,2) -> #REF! | M26: Práce | N26: Běžná | V26: POL1_1
C27: 137+69 | E27: 206 | V27: VV | W27: 0
A28: 10 | B28: 113107615R00 | C28: Odstranění podkladu nad 50 m2,kam.drcené tl.15 cm | D28: m2 | E28: 206 | G28: =ROUND(E28*F28,2) -> 0 | H28: RTS 25/ II | I28: RTS 25/ II | J28: 0.06 | K28: =ROUND(#REF!*J28,2) -> #REF! | M28: Práce | N28: Běžná | V28: POL1_1
C29: pod dlažbou : 137+69 | E29: 206 | V29: VV | W29: 0
A30: 11 | B30: 113107620R00 | C30: Odstranění podkladu nad 50 m2,kam.drcené tl.20 cm | D30: m2 | E30: 82 | G30: =ROUND(E30*F30,2) -> 0 | H30: RTS 25/ II | I30: RTS 25/ II | J30: 0.073 | K30: =ROUND(#REF!*J30,2) -> #REF! | M30: Práce | N30: Běžná | V30: POL1_1
C31: dočasná plocha pro dvojboxy na odpad : 82 | E31: 82 | V31: VV | W31: 0
A32: 12 | B32: 113151119R00 | C32: Fréz.živič.krytu pl.do 500 m2,pruh do 75cm,tl.10cm | D32: m2 | E32: 504 | G32: =ROUND(E32*F32,2) -> 0 | H32: RTS 25/ II | I32: RTS 25/ II | J32: 0.12 | K32: =ROUND(#REF!*J32,2) -> #REF! | M32: Práce | N32: Běžná | V32: POL1_1
C33: 94+75+102+17+44+58+62+20+23+9 | E33: 504 | V33: VV | W33: 0
A34: 13 | B34: 113201111R00 | C34: Vytrhání obrubníků chodníkových a parkových vč.vybourání betonového lože | D34: m | E34: 289 | G34: =ROUND(E34*F34,2) -> 0 | H34: RTS 25/ II | I34: RTS 25/ II | J34: 0.143 | K34: =ROUND(#REF!*J34,2) -> #REF! | M34: Práce | N34: Běžná | V34: POL1_1
C35: 22+8+16+6+5*4+7+8+9+22+40+1,5*2+34+11+9+10+7*2 | E35: 239 | V35: VV | W35: 0
C36: 6+12*2+3+2+11+4 | E36: 50 | V36: VV | W36: 0
A37: 14 | B37: 113202111R00 | C37: Vytrhání obrub obrubníků silničních vč.vybourání betonového lože | D37: m | E37: 265 | G37: =ROUND(E37*F37,2) -> 0 | H37: RTS 25/ II | I37: RTS 25/ II | J37: 0.123 | K37: =ROUND(#REF!*J37,2) -> #REF! | M37: Práce | N37: Běžná | V37: POL1_1
C38: 17+40+22+4+11+35+13+42+19+3+5+4+36+14 | E38: 265 | V38: VV | W38: 0
A39: 15 | B39: 121101100R00 | C39: Sejmutí ornice, pl. do 400 m2, přemístění do 50 m | D39: m3 | E39: 103.3 | G39: =ROUND(E39*F39,2) -> 0 | H39: RTS 25/ II | I39: RTS 25/ II | J39: 0.0952 | K39: =ROUND(#REF!*J39,2) -> #REF! | M39: Práce | N39: Běžná | V39: POL1_1
C40: (5+30+94+34+44+117+31+34+102)*0,1 | E40: 49.1 | V40: VV | W40: 0
C41: (165+168+157+30+22)*0,1 | E41: 54.2 | V41: VV | W41: 0
A42: 16 | B42: 122202202R00 | C42: Odkopávky pro silnice v hor. 3 do 1000 m3 | D42: m3 | E42: 736.3 | G42: =ROUND(E42*F42,2) -> 0 | H42: RTS 25/ II | I42: RTS 25/ II | J42: 0.223 | K42: =ROUND(#REF!*J42,2) -> #REF! | M42: Práce | N42: Běžná | V42: POL1_1
...

Sheet SO 103
A1: Položkový soupis prací | V1: #TypZaznamu#
A2: S: | B2: 2025/129 | C2: Parkovací stání ul.Dukelská, Zliv | V2: STA
A3: O: | B3: 03 | C3: SO 103 Parkovací stání Dukelská | R3: STA | V3: OBJ
A4: R: | B4: 03 | C4: SO 103 Parkovací stání Dukelská | V4: ROZ
A6: P.č. | B6: Číslo položky | C6: Název položky | D6: MJ | E6: Množství | F6: Cena / MJ | G6: Celkem | H6: Cen. soustava / platnost | I6: Cenová úroveň | J6: Nhod / MJ | K6: Nhod celk. | L6: Dodavatel | M6: Typ položky | N6: Stav položky
A8: Díl: | B8: 1 | C8: Zemní práce | G8: =SUMIF(AG9:AG116,"<>NOR",G9:G116) -> 0 | K8: =SUM(K9:K116) -> #REF! | V8: DIL
A9: 1 | B9: 113106121R00 | C9: Rozebrání dlažeb z betonových dlaždic na sucho | D9: m2 | E9: 24 | G9: =ROUND(E9*F9,2) -> 0 | H9: RTS 25/ II | I9: RTS 25/ II | J9: 0.16 | K9: =ROUND(#REF!*J9,2) -> #REF! | M9: Práce | N9: Běžná | V9: POL1_1
C10: stáv.přídlažba : 24 | E10: 24 | V10: VV | W10: 0
A11: 2 | B11: 113106231R00 | C11: Rozebrání dlažeb ze zámkové dlažby v kamenivu | D11: m2 | E11: 68 | G11: =ROUND(E11*F11,2) -> 0 | H11: RTS 25/ II | I11: RTS 25/ II | J11: 0.142 | K11: =ROUND(#REF!*J11,2) -> #REF! | M11: Práce | N11: Běžná | V11: POL1_1
C12: 22+17,5+1,5+3+1+11+12 | E12: 68 | V12: VV | W12: 0
A13: 3 | B13: 113107605R00 | C13: Odstranění podkladu nad 50 m2,kam.drcené tl.5 cm | D13: m2 | E13: 68 | G13: =ROUND(E13*F13,2) -> 0 | H13: RTS 25/ II | I13: RTS 25/ II | J13: 0.0259 | K13: =ROUND(#REF!*J13,2) -> #REF! | M13: Práce | N13: Běžná | V13: POL1_1
C14: 22+17,5+1,5+3+1+11+12 | E14: 68 | V14: VV | W14: 0
A15: 4 | B15: 113109310R00 | C15: Odstranění podkladu pl.50 m2, bet.prostý tl.10 cm | D15: m2 | E15: 24 | G15: =ROUND(E15*F15,2) -> 0 | H15: RTS 25/ II | I15: RTS 25/ II | J15: 0.80648 | K15: =ROUND(#REF!*J15,2) -> #REF! | M15: Práce | N15: Běžná | V15: POL1_1
C16: stáv.přídlažba - podklad : 24 | E16: 24 | V16: VV | W16: 0
A17: 5 | B17: 113151119R00 | C17: Fréz.živič.krytu pl.do 500 m2,pruh do 75cm,tl.10cm | D17: m2 | E17: 848 | G17: =ROUND(E17*F17,2) -> 0 | H17: RTS 25/ II | I17: RTS 25/ II | J17: 0.12 | K17: =ROUND(#REF!*J17,2) -> #REF! | M17: Práce | N17: Běžná | V17: POL1_1
C18: 69+206,5+365+207,5 | E18: 848 | V18: VV | W18: 0
A19: 6 | B19: 113151319R00 | C19: Fréz.živič.krytu nad 500 m2, s překážkami, tl.10cm | D19: m2 | E19: 739 | G19: =ROUND(E19*F19,2) -> 0 | H19: RTS 25/ II | I19: RTS 25/ II | J19: 0.0705 | K19: =ROUND(#REF!*J19,2) -> #REF! | M19: Práce | N19: Běžná | V19: POL1_1
C20: 739 | E20: 739 | V20: VV | W20: 0
A21: 7 | B21: 113201111R00 | C21: Vytrhání obrubníků chodníkových a parkových vč.vybourání betonového lože | D21: m | E21: 98.5 | G21: =ROUND(E21*F21,2) -> 0 | H21: RTS 25/ II | I21: RTS 25/ II | J21: 0.143 | K21: =ROUND(#REF!*J21,2) -> #REF! | M21: Práce | N21: Běžná | V21: POL1_1
C22: 6,5+35+13+2*2+6+4+10*3 | E22: 98.5 | V22: VV | W22: 0
A23: 8 | B23: 113202111R00 | C23: Vytrhání obrub obrubníků silničních vč.vybourání betonového lože | D23: m | E23: 239.5 | G23: =ROUND(E23*F23,2) -> 0 | H23: RTS 25/ II | I23: RTS 25/ II | J23: 0.123 | K23: =ROUND(#REF!*J23,2) -> #REF! | M23: Práce | N23: Běžná | V23: POL1_1
C24: stáv.obruby : 10,5+26,5+18+43+41,5+88+12 | E24: 239.5 | V24: VV | W24: 0
A25: 9 | B25: 121101100R00 | C25: Sejmutí ornice, pl. do 400 m2, přemístění do 50 m | D25: m3 | E25: 179.05 | G25: =ROUND(E25*F25,2) -> 0 | H25: RTS 25/ II | I25: RTS 25/ II | J25: 0.0952 | K25: =ROUND(#REF!*J25,2) -> #REF! | M25: Práce | N25: Běžná | V25: POL1_1
C26: sejmutí ornice : (14+18,5+3,5+14,5+34+16+7+125+35+10+75+1438)*0,1 | E26: 179.05 | V26: VV | W26: 0
A27: 10 | B27: 122202202R00 | C27: Odkopávky pro silnice v hor. 3 do 1000 m3 | D27: m3 | E27: 2197.2 | G27: =ROUND(E27*F27,2) -> 0 | H27: RTS 25/ II | I27: RTS 25/ II | J27: 0.223 | K27: =ROUND(#REF!*J27,2) -> #REF! | M27: Práce | N27: Běžná | V27: POL1_1
C28: výkop pro skladby : (87+219+373+204+92+143+66+105+253*2+52+39+150)*0,25 | E28: 509 | V28: VV | W28: 0
C29: (13+1015)*0,45 | E29: 462.6 | V29: VV | W29: 0
C30: výkop pro sanaci : (2036+1028)*0,4 | E30: 1225.6 | V30: VV | W30: 0
A31: 11 | B31: 122202209R00 | C31: Příplatek za lepivost - odkop. pro silnice v hor.3 | D31: m3 | E31: 1098.6 | G31: =ROUND(E31*F31,2) -> 0 | H31: RTS 25/ II | I31: RTS 25/ II | J31: 0.088 | K31: =ROUND(#REF!*J31,2) -> #REF! | M31: Práce | N31: Běžná | V31: POL1_1
C32: 2197,2/2 | E32: 1098.6 | V32: VV | W32: 0
A33: 12 | B33: 132201110R00 | C33: Hloubení rýh š.do 60 cm v hor.3 do 50 m3, STROJNĚ | D33: m3 | E33: 21.76 | G33: =ROUND(E33*F33,2) -> 0 | H33: RTS 25/ II | I33: RTS 25/ II | J33: 0.365 | K33: =ROUND(#REF!*J33,2) -> #REF! | M33: Práce | N33: Běžná | V33: POL1_1
C34: výkop pro drenáž : 136*0,4*0,4 | E34: 21.76 | V34: VV | W34: 0
A35: 13 | B35: 132201119R00 | C35: Přípl.za lepivost,hloubení rýh 60 cm,hor.3,STROJNĚ | D35: m3 | E35: 10.88 | G35: =ROUND(E35*F35,2) -> 0 | H35: RTS 25/ II | I35: RTS 25/ II | J35: 0.3898 | K35: =ROUND(#REF!*J35,2) -> #REF! | M35: Práce | N35: Běžná | V35: POL1_1
C36: 21,76/2 | E36: 10.88 | V36: VV | W36: 0
A37: 14 | B37: 132201210R00 | C37: Hloubení rýh š.do 200 cm hor.3 do 50 m3,STROJNĚ | D37: m3 | E37: 40.32 | G37: =ROUND(E37*F37,2) -> 0 | H37: RTS 25/ II | I37: RTS 25/ II | J37: 0.365 | K37: =ROUND(#REF!*J37,2) -> #REF! | M37: Práce | N37: Běžná | V37: POL1_1
C38: výkop pro přípojky UV : (8+15+2+17)*0,8*1,2 | E38: 40.32 | V38: VV | W38: 0
A39: 15 | B39: 132201211R00 | C39: Hloubení rýh š.do 200 cm hor.3 do 100 m3,STROJNĚ | D39: m3 | E39: 70 | G39: =ROUND(E39*F39,2) -> 0 | H39: RTS 25/ II | I39: RTS 25/ II | J39: 0.2 | K39: =ROUND(#REF!*J39,2) -> #REF! | M39: Práce | N39: Běžná | V39: POL1_1
C40: výkop pro novou kanalizaci : 20*1*3,5 | E40: 70 | V40: VV | W40: 0
A41: 16 | B41: 132201219R00 | C41: Přípl.za lepivost,hloubení rýh 200cm,hor.3,STROJNĚ | D41: m3 | E41: 55.16 | G41: =ROUND(E41*F41,2) -> 0 | H41: RTS 25/ II | I41: RTS 25/ II | J41: 0.084 | K41: =ROUND(#REF!*J41,2) -> #REF! | M41: Práce | N41: Běžná | V41: POL1_1
C42: 40,32/2+70/2 | E42: 55.16 | V42: VV | W42: 0
...

Sheet SO 104
A1: Položkový soupis prací | V1: #TypZaznamu#
A2: S: | B2: 2025/129 | C2: Parkovací stání ul.Dukelská, Zliv | V2: STA
A3: O: | B3: 04 | C3: SO 104 Parkovací stání Tyršova | R3: STA | V3: OBJ
A4: R: | B4: 04 | C4: SO 104 Parkovací stání Tyršova | V4: ROZ
A6: P.č. | B6: Číslo položky | C6: Název položky | D6: MJ | E6: Množství | F6: Cena / MJ | G6: Celkem | H6: Cen. soustava / platnost | I6: Cenová úroveň | J6: Nhod / MJ | K6: Nhod celk. | L6: Dodavatel | M6: Typ položky | N6: Stav položky
A8: Díl: | B8: 1 | C8: Zemní práce | G8: =SUMIF(AG9:AG65,"<>NOR",G9:G65) -> 0 | K8: =SUM(K9:K65) -> #REF! | V8: DIL
A9: 1 | B9: 113106231R00 | C9: Rozebrání dlažeb ze zámkové dlažby v kamenivu | D9: m2 | E9: 58 | G9: =ROUND(E9*F9,2) -> 0 | H9: RTS 25/ II | I9: RTS 25/ II | J9: 0.142 | K9: =ROUND(#REF!*J9,2) -> #REF! | M9: Práce | N9: Běžná | V9: POL1_1
C10: stáv.dlažba : 17 | E10: 17 | V10: VV | W10: 0
C11: stáv.dlažba (pro zpětnou montáž) : 41 | E11: 41 | V11: VV | W11: 0
A12: 2 | B12: 113107512R00 | C12: Odstranění podkladu pl. 50 m2,kam.drcené tl.12 cm | D12: m2 | E12: 17 | G12: =ROUND(E12*F12,2) -> 0 | H12: RTS 25/ II | I12: RTS 25/ II | J12: 0.4632 | K12: =ROUND(#REF!*J12,2) -> #REF! | M12: Práce | N12: Běžná | V12: POL1_1
C13: stáv.dlažba - podklad : 17 | E13: 17 | V13: VV | W13: 0
A14: 3 | B14: 113107605R00 | C14: Odstranění podkladu nad 50 m2,kam.drcené tl.5 cm | D14: m2 | E14: 17 | G14: =ROUND(E14*F14,2) -> 0 | H14: RTS 25/ II | I14: RTS 25/ II | J14: 0.0259 | K14: =ROUND(#REF!*J14,2) -> #REF! | M14: Práce | N14: Běžná | V14: POL1_1
C15: stáv.dlažba - podsyp : 17 | E15: 17 | V15: VV | W15: 0
A16: 4 | B16: 113151119R00 | C16: Fréz.živič.krytu pl.do 500 m2,pruh do 75cm,tl.10cm | D16: m2 | E16: 26 | G16: =ROUND(E16*F16,2) -> 0 | H16: RTS 25/ II | I16: RTS 25/ II | J16: 0.12 | K16: =ROUND(#REF!*J16,2) -> #REF! | M16: Práce | N16: Běžná | V16: POL1_0
C17: stáv.asfalt : 26 | E17: 26 | V17: VV | W17: 0
A18: 5 | B18: 113201111R00 | C18: Vytrhání obrubníků chodníkových a parkových vč.vybourání betonového lože | D18: m | E18: 23 | G18: =ROUND(E18*F18,2) -> 0 | H18: RTS 25/ II | I18: RTS 25/ II | J18: 0.143 | K18: =ROUND(#REF!*J18,2) -> #REF! | M18: Práce | N18: Běžná | V18: POL1_1
C19: stáv.obruby : 23 | E19: 23 | V19: VV | W19: 0
A20: 6 | B20: 113202111R00 | C20: Vytrhání obrub obrubníků silničních vč.vybourání betonového lože | D20: m | E20: 30 | G20: =ROUND(E20*F20,2) -> 0 | H20: RTS 25/ II | I20: RTS 25/ II | J20: 0.123 | K20: =ROUND(#REF!*J20,2) -> #REF! | M20: Práce | N20: Běžná | V20: POL1_1
C21: stáv.obruby : 30 | E21: 30 | V21: VV | W21: 0
A22: 7 | B22: 121101100R00 | C22: Sejmutí ornice, pl. do 400 m2, přemístění do 50 m | D22: m3 | E22: 12.8 | G22: =ROUND(E22*F22,2) -> 0 | H22: RTS 25/ II | I22: RTS 25/ II | J22: 0.0952 | K22: =ROUND(#REF!*J22,2) -> #REF! | M22: Práce | N22: Běžná | V22: POL1_1
C23: sejmutí ornice : 128*0,1 | E23: 12.8 | V23: VV | W23: 0
A24: 8 | B24: 122202201R00 | C24: Odkopávky pro silnice v hor. 3 do 100 m3 | D24: m3 | E24: 108.25 | G24: =ROUND(E24*F24,2) -> 0 | H24: RTS 25/ II | I24: RTS 25/ II | J24: 0.422 | K24: =ROUND(#REF!*J24,2) -> #REF! | M24: Práce | N24: Běžná | V24: POL1_1
C25: výkop pro skladbu : 110*0,6+17*0,25 | E25: 70.25 | V25: VV | W25: 0
C26: výkop pro sanaci : 95*0,4 | E26: 38 | V26: VV | W26: 0
A27: 9 | B27: 122202209R00 | C27: Příplatek za lepivost - odkop. pro silnice v hor.3 | D27: m3 | E27: 54.125 | G27: =ROUND(E27*F27,2) -> 0 | H27: RTS 25/ II | I27: RTS 25/ II | J27: 0.088 | K27: =ROUND(#REF!*J27,2) -> #REF! | M27: Práce | N27: Běžná | V27: POL1_1
C28: 108,25/2 | E28: 54.13 | V28: VV | W28: 0
A29: 10 | B29: 162701105R00 | C29: Vodorovné přemístění výkopku z hor.1-4 do 10000 m | D29: m3 | E29: 148.25 | G29: =ROUND(E29*F29,2) -> 0 | H29: RTS 25/ II | I29: RTS 25/ II | J29: 0.011 | K29: =ROUND(#REF!*J29,2) -> #REF! | M29: Práce | N29: Běžná | V29: POL1_1
C30: dovoz materiálu : | V30: VV | W30: 0
C31: sanace (ŠD) : 38 | E31: 38 | V31: VV | W31: 0
C32: substrát : 2 | E32: 2 | V32: VV | W32: 0
C33: odvoz výkopku na skládku : 108,25 | E33: 108.25 | V33: VV | W33: 0
A34: 11 | B34: 162701109R00 | C34: Příplatek k vod. přemístění hor.1-4 za další 1 km | D34: m3 | E34: 741.25 | G34: =ROUND(E34*F34,2) -> 0 | H34: RTS 25/ II | I34: RTS 25/ II | J34: 0 | K34: =ROUND(#REF!*J34,2) -> #REF! | M34: Práce | N34: Běžná | V34: POL1_1
C35: dovoz materiálu : | V35: VV | W35: 0
C36: sanace (ŠD) : 38*5 | E36: 190 | V36: VV | W36: 0
C37: substrát : 2*5 | E37: 10 | V37: VV | W37: 0
C38: odvoz výkopku na skládku : 108,25*5 | E38: 541.25 | V38: VV | W38: 0
A39: 12 | B39: 171102105R00 | C39: Uložení sypaniny do násypů, zhutn, na 103% PS | D39: m3 | E39: 38 | G39: =ROUND(E39*F39,2) -> 0 | H39: RTS 25/ II | I39: RTS 25/ II | J39: 0.068 | K39: =ROUND(#REF!*J39,2) -> #REF! | M39: Práce | N39: Běžná | V39: POL1_1
C40: sanace (ŠD) : 95*0,4 | E40: 38 | V40: VV | W40: 0
A41: 13 | B41: 180402111R00 | C41: Založení trávníku parkového výsevem v rovině | D41: m2 | E41: 164 | G41: =ROUND(E41*F41,2) -> 0 | H41: RTS 25/ II | I41: RTS 25/ II | J41: 0.06 | K41: =ROUND(#REF!*J41,2) -> #REF! | M41: Práce | N41: Běžná | V41: POL1_1
C42: osetí zeminy : 164 | E42: 164 | V42: VV | W42: 0
...

Sheet SO 105
A1: Položkový soupis prací | V1: #TypZaznamu#
A2: S: | B2: 2025/129 | C2: Parkovací stání ul.Dukelská, Zliv | V2: STA
A3: O: | B3: 05 | C3: SO 105 Chodníky Tyršova | R3: STA | V3: OBJ
A4: R: | B4: 05 | C4: SO 105 Chodníky Tyršova | V4: ROZ
A6: P.č. | B6: Číslo položky | C6: Název položky | D6: MJ | E6: Množství | F6: Cena / MJ | G6: Celkem | H6: Cen. soustava / platnost | I6: Cenová úroveň | J6: Nhod / MJ | K6: Nhod celk. | L6: Dodavatel | M6: Typ položky | N6: Stav položky
A8: Díl: | B8: 1 | C8: Zemní práce | G8: =SUMIF(AG9:AG40,"<>NOR",G9:G40) -> 0 | K8: =SUM(K9:K40) -> #REF! | V8: DIL
A9: 1 | B9: 113106231R00 | C9: Rozebrání dlažeb ze zámkové dlažby v kamenivu | D9: m2 | E9: 9 | G9: =ROUND(E9*F9,2) -> 0 | H9: RTS 25/ II | I9: RTS 25/ II | J9: 0.142 | K9: =ROUND(#REF!*J9,2) -> #REF! | M9: Práce | N9: Běžná | V9: POL1_1
C10: stáv.dlažba : 2+3 | E10: 5 | V10: VV | W10: 0
C11: v místě předláždění stáv.chodníku : 4 | E11: 4 | V11: VV | W11: 0
A12: 2 | B12: 113107505R00 | C12: Odstranění podkladu pl. 50 m2,kam.drcené tl.5 cm | D12: m2 | E12: 9 | G12: =ROUND(E12*F12,2) -> 0 | H12: RTS 25/ II | I12: RTS 25/ II | J12: 0.2103 | K12: =ROUND(#REF!*J12,2) -> #REF! | M12: Práce | N12: Běžná | V12: POL1_1
C13: stáv.dlažba - podsyp : 2+3 | E13: 5 | V13: VV | W13: 0
C14: v místě předláždění stáv.chodníku - podsyp : 4 | E14: 4 | V14: VV | W14: 0
A15: 3 | B15: 113107512R00 | C15: Odstranění podkladu pl. 50 m2,kam.drcené tl.12 cm | D15: m2 | E15: 5 | G15: =ROUND(E15*F15,2) -> 0 | H15: RTS 25/ II | I15: RTS 25/ II | J15: 0.4632 | K15: =ROUND(#REF!*J15,2) -> #REF! | M15: Práce | N15: Běžná | V15: POL1_1
C16: stáv.dlažba - podklad : 2+3 | E16: 5 | V16: VV | W16: 0
A17: 4 | B17: 113107525R00 | C17: Odstranění podkladu pl. 50 m2,kam.drcené tl.25 cm | D17: m2 | E17: 12 | G17: =ROUND(E17*F17,2) -> 0 | H17: RTS 25/ II | I17: RTS 25/ II | J17: 0.8477 | K17: =ROUND(#REF!*J17,2) -> #REF! | M17: Práce | N17: Běžná | V17: POL1_1
C18: stáv.asfalt - podklad : 12 | E18: 12 | V18: VV | W18: 0
A19: 5 | B19: 113151119R00 | C19: Fréz.živič.krytu pl.do 500 m2,pruh do 75cm,tl.10cm | D19: m2 | E19: 23 | G19: =ROUND(E19*F19,2) -> 0 | H19: RTS 25/ II | I19: RTS 25/ II | J19: 0.12 | K19: =ROUND(#REF!*J19,2) -> #REF! | M19: Práce | N19: Běžná | V19: POL1_0
C20: stáv.asfalt : 11+12 | E20: 23 | V20: VV | W20: 0
A21: 6 | B21: 113201111R00 | C21: Vytrhání obrubníků chodníkových a parkových vč.vybourání betonového lože | D21: m | E21: 3 | G21: =ROUND(E21*F21,2) -> 0 | H21: RTS 25/ II | I21: RTS 25/ II | J21: 0.143 | K21: =ROUND(#REF!*J21,2) -> #REF! | M21: Práce | N21: Běžná | V21: POL1_1
C22: stáv.obruby : 3 | E22: 3 | V22: VV | W22: 0
A23: 7 | B23: 113202111R00 | C23: Vytrhání obrub obrubníků silničních vč.vybourání betonového lože | D23: m | E23: 12 | G23: =ROUND(E23*F23,2) -> 0 | H23: RTS 25/ II | I23: RTS 25/ II | J23: 0.123 | K23: =ROUND(#REF!*J23,2) -> #REF! | M23: Práce | N23: Běžná | V23: POL1_1
C24: stáv.obruby : 5+3+4 | E24: 12 | V24: VV | W24: 0
A25: 8 | B25: 171201101R00 | C25: Uložení sypaniny do násypů nezhutněných | D25: m3 | E25: 0.2 | G25: =ROUND(E25*F25,2) -> 0 | H25: RTS 25/ II | I25: RTS 25/ II | J25: 0.031 | K25: =ROUND(#REF!*J25,2) -> #REF! | M25: Práce | N25: Běžná | V25: POL1_1
C26: násyp : 2*0,1 | E26: 0.2 | V26: VV | W26: 0
A27: 9 | B27: 180402111R00 | C27: Založení trávníku parkového výsevem v rovině | D27: m2 | E27: 2 | G27: =ROUND(E27*F27,2) -> 0 | H27: RTS 25/ II | I27: RTS 25/ II | J27: 0.06 | K27: =ROUND(#REF!*J27,2) -> #REF! | M27: Práce | N27: Běžná | V27: POL1_1
C28: zel.plochy : 2 | E28: 2 | V28: VV | W28: 0
A29: 10 | B29: 181101102R00 | C29: Úprava pláně v zářezech v hor. 1-4, se zhutněním na 45 MPa ! | D29: m2 | E29: 23 | G29: =ROUND(E29*F29,2) -> 0 | H29: RTS 25/ II | I29: RTS 25/ II | J29: 0.018 | K29: =ROUND(#REF!*J29,2) -> #REF! | M29: Práce | N29: Běžná | V29: POL1_1
C30: zhutnění pláně : 9+14 | E30: 23 | V30: VV | W30: 0
A31: 11 | B31: 181301102R00 | C31: Rozprostření ornice, rovina, tl. 10-15 cm,do 500m2 | D31: m2 | E31: 2 | G31: =ROUND(E31*F31,2) -> 0 | H31: RTS 25/ II | I31: RTS 25/ II | J31: 0.177 | K31: =ROUND(#REF!*J31,2) -> #REF! | M31: Práce | N31: Běžná | V31: POL1_1
C32: zel.plochy : 2 | E32: 2 | V32: VV | W32: 0
A33: 12 | B33: 182001121R00 | C33: Plošná úprava terénu, nerovnosti do 15 cm v rovině | D33: m2 | E33: 2 | G33: =ROUND(E33*F33,2) -> 0 | H33: RTS 25/ II | I33: RTS 25/ II | J33: 0.126 | K33: =ROUND(#REF!*J33,2) -> #REF! | M33: Práce | N33: Běžná | V33: POL1_1
C34: zel.plochy : 2 | E34: 2 | V34: VV | W34: 0
A35: 13 | B35: 185803211R00 | C35: Uválcování trávníku v rovině | D35: m2 | E35: 2 | G35: =ROUND(E35*F35,2) -> 0 | H35: RTS 25/ II | I35: RTS 25/ II | J35: 0.002 | K35: =ROUND(#REF!*J35,2) -> #REF! | M35: Práce | N35: Běžná | V35: POL1_1
C36: zel.plochy : 2 | E36: 2 | V36: VV | W36: 0
A37: 14 | B37: 185804312R00 | C37: Zalití rostlin vodou plochy nad 20 m2 | D37: m3 | E37: 0.03 | G37: =ROUND(E37*F37,2) -> 0 | H37: RTS 25/ II | I37: RTS 25/ II | J37: 0.26 | K37: =ROUND(#REF!*J37,2) -> #REF! | M37: Práce | N37: Běžná | V37: POL1_1
C38: zel.plochy : 2*0,015 | E38: 0.03 | V38: VV | W38: 0
A39: 15 | B39: 185851111R00 | C39: Dovoz vody pro zálivku rostlin do 6 km | D39: m3 | E39: 0.03 | G39: =ROUND(E39*F39,2) -> 0 | H39: RTS 25/ II | I39: RTS 25/ II | J39: 0.884 | K39: =ROUND(#REF!*J39,2) -> #REF! | M39: Práce | N39: Běžná | V39: POL1_1
C40: 0,03 | E40: 0.03 | V40: VV | W40: 0
A41: Díl: | B41: 5 | C41: Komunikace | G41: =SUMIF(AG42:AG68,"<>NOR",G42:G68) -> 0 | K41: =SUM(K42:K68) -> #REF! | V41: DIL
A42: 16 | B42: 564871111RT4 | C42: Podklad ze štěrkodrti po zhutnění tloušťky 25 cm štěrkodrť frakce 0-63 mm | D42: m2 | E42: 14 | G42: =ROUND(E42*F42,2) -> 0 | H42: RTS 25/ II | I42: RTS 25/ II | J42: 0.027 | K42: =ROUND(#REF!*J42,2) -> #REF! | M42: Práce | N42: Běžná | V42: POL1_1
...
