Workbook

Sheet Rekapitulace stavby
A1: Export Komplet | BH1: False | BI1: False | BJ1: {95d3eeaa-f1cd-4e1b-864d-0dc49bc88c5c}
BG2: 0,01 | BH2: 21
BG3: 0,01 | BH3: 12
D4: REKAPITULACE STAVBY | BG4: 0,001
D5: Kód: | BG5: 0,01
D6: Stavba: | K6: Městské koupaliště Štětí – WC, sprchy | BG6: 0,01
D7: KSO: | AK7: CC-CZ: | BG7: 0,01
D8: Místo: | AK8: Datum: | AN8: 46051 | BG8: 0,01
BG9: 0,01
D10: Zadavatel: | AK10: IČ: | AN10: 264466 | BG10: 0,01
E11: Město Štětí | AK11: DIČ: | BG11: 0,01
BG12: 0,01
D13: Zhotovitel: | AK13: IČ: | BG13: 0,01
AK14: DIČ: | BG14: 0,01
BG15: False
D16: Projektant: | AK16: IČ: | AN16: 61287059 | BG16: False
E17: Ing. Pavel Piskáček | AK17: DIČ: | BG17: True
BG18: 0,01
D19: Zpracovatel: | AK19: IČ: | AN19: 61287059 | BG19: 0,01
E20: Ing. Pavel Piskáček | AK20: DIČ: | BG20: True
D22: Poznámka:
E23: Soupis prací je sestaven s využitím Cenové soustavy ÚRS. Položky, které pochází z této cenové soustavy, jsou ve sloupci 'Cenová soustava' označeny popisem 'CS ÚRS' a úrovní příslušného kalendářního pololetí. Veškeré další informace vymezující popis a podmínky použití těchto položek z Cenové soustavy, které nejsou uvedeny přímo v soupisu prací, jsou neomezeně dálkově k dispozici na webu podminky.urs.cz. | AS23: úprava kanalizace WC DN 110
D26: Cena bez DPH | AK26: =ROUND(AG54,2) -> 0 | AS26: ='D.1.1. - Architektonicko-...'!O93+'D.1.1.2 - Zdravotechnická...'!M84 -> 0
L28: Sazba daně | W28: Základ daně | AK28: Výše daně
D29: DPH | F29: základní | L29: 0.21 | W29: =AK26 -> 0 | AK29: =ROUND(L29*W29, 2) -> 0
F30: snížená | L30: 0.12 | W30: 0 | AK30: =ROUND(L30*W30, 2) -> 0
F31: zákl. přenesená | L31: 0.21 | W31: =ROUND(#REF!, 2) -> #REF! | AK31: 0
F32: sníž. přenesená | L32: 0.12 | W32: =ROUND(#REF!, 2) -> #REF! | AK32: 0
F33: nulová | L33: 0 | W33: =ROUND(#REF!, 2) -> #REF! | AK33: 0
D35: Cena s DPH | T35: v | X35: CZK | AK35: =SUM(AK26:AK33) -> 0
C42: REKAPITULACE OBJEKTŮ STAVBY A SOUPISŮ PRACÍ
C44: Kód: | L44: =K5 -> 0
C45: Stavba: | L45: =K6 -> Městské koupaliště Štětí – WC, sprchy
C47: Místo: | L47: =IF(K8="","",K8) | AI47: Datum: | AM47: =IF(AN8= "","",AN8) -> 46051
C49: Zadavatel: | L49: =IF(E11= "","",E11) -> Město Štětí | AI49: Projektant: | AM49: =IF(E17="","",E17) -> Ing. Pavel Piskáček
C50: Zhotovitel: | L50: =IF(E14="","",E14) | AI50: Zpracovatel: | AM50: =IF(E20="","",E20) -> Ing. Pavel Piskáček
C52: Kód | I52: Popis | AG52: Cena bez DPH [CZK] | AN52: Cena s DPH [CZK] | AQ52: Typ
C54: Náklady stavby celkem | AG54: =SUM(AG55:AM58) -> 0 | AN54: =SUM(AN55:AP58) -> 0 | BG54: D | BH54: 0 | BI54: ###NOIMPORT### | BJ54: IMPORT | BK54: {95d3eeaa-f1cd-4e1b-864d-0dc49bc88c5c} | BL54: {00000000-0000-0000-0000-000000000000}
A55: / | D55: D.1.1. | J55: Architektonicko-stavební řešení | AG55: ='D.1.1. - Architektonicko-...'!L30 -> 0 | AN55: ='D.1.1. - Architektonicko-...'!L39 -> 0 | AQ55: STA | BH55: 1 | BJ55: IMPORT | BK55: {c28cf654-b76a-4522-8347-139d022bfabd} | BL55: {95d3eeaa-f1cd-4e1b-864d-0dc49bc88c5c} | CA55: 2
A56: / | D56: D.1.1.2 | J56: Zdravotechnická instalace | AG56: ='D.1.1.2 - Zdravotechnická...'!J30 -> 0 | AN56: =AG56*1.21 -> 0 | AQ56: STA | BH56: 1 | BJ56: IMPORT | BK56: {601a0bcf-c40e-4d12-b056-68eed4b75bcc} | BL56: {95d3eeaa-f1cd-4e1b-864d-0dc49bc88c5c} | CA56: 2
A57: / | D57: D.1.1.3 | J57: Elektroinstalace | AG57: ='D.1.1.3 - Elektroinstalace'!J30 -> 0 | AN57: =AG57*1.21 -> 0 | AQ57: STA | BH57: 1 | BJ57: IMPORT | BK57: {41719177-eb77-4613-b8e8-10995bea06c9} | BL57: {95d3eeaa-f1cd-4e1b-864d-0dc49bc88c5c} | CA57: 2
A58: / | D58: VRN | J58: Vedlejší rozpočtové náklady | AG58: ='VRN - Vedlejší rozpočtové...'!J30 -> 0 | AN58: =AG58*1.21 -> 0 | AQ58: STA | BH58: 1 | BJ58: IMPORT | BK58: {4eafa0b3-2443-4174-aa1f-8c857ef8fd86} | BL58: {95d3eeaa-f1cd-4e1b-864d-0dc49bc88c5c} | CA58: 2

Sheet D.1.1. - Architektonicko-...
D4: KRYCÍ LIST SOUPISU PRACÍ
D6: Stavba:
E7: ='Rekapitulace stavby'!K6 -> Městské koupaliště Štětí – WC, sprchy
D8: Objekt:
E9: D.1.1. - Architektonicko-stavební řešení
D11: KSO: | K11: CC-CZ:
D12: Místo: | K12: Datum: | L12: ='Rekapitulace stavby'!AN8 -> 46051
D14: Zadavatel: | K14: IČ: | L14: ='Rekapitulace stavby'!AN10 -> 264466
E15: ='Rekapitulace stavby'!E11 -> Město Štětí | K15: DIČ:
D17: Zhotovitel: | K17: IČ: | L17: ='Rekapitulace stavby'!AN13 -> 0
E18: ='Rekapitulace stavby'!E14 | K18: DIČ: | L18: ='Rekapitulace stavby'!AN14 -> 0
D20: Projektant: | K20: IČ: | L20: 61287059
E21: Ing. Pavel Piskáček | K21: DIČ:
D23: Zpracovatel: | K23: IČ: | L23: 61287059
E24: Ing. Pavel Piskáček | K24: DIČ:
D26: Poznámka:
D30: Cena bez DPH | L30: =ROUND(L93, 2) -> 0
F32: Základ daně | K32: Sazba daně | L32: Výše daně
D33: DPH | E33: základní | F33: =L59 -> 0 | K33: 0.21 | L33: =ROUND(((SUM(F33))*K33), 2) -> 0
E34: snížená | F34: 0 | K34: 0.12 | L34: =ROUND(((SUM(F34))*K34), 2) -> 0
E35: zákl. přenesená | F35: =ROUND((SUM(#REF!)), 2) -> #REF! | K35: 0.21 | L35: =0 -> 0
E36: sníž. přenesená | F36: =ROUND((SUM(#REF!)), 2) -> #REF! | K36: 0.12 | L36: =0 -> 0
E37: nulová | F37: =ROUND((SUM(#REF!)), 2) -> #REF! | K37: 0 | L37: =0 -> 0
D39: Cena s DPH | I39: v | J39: CZK | L39: =L30+L33+L34 -> 0
C45: REKAPITULACE ČLENĚNÍ SOUPISU PRACÍ
C47: Stavba:
E48: =E7 -> Městské koupaliště Štětí – WC, sprchy
C49: Objekt:
E50: =E9 -> D.1.1. - Architektonicko-stavební řešení
C52: Místo: | F52: =F12 | K52: Datum: | L52: =IF(L12="","",L12) -> 46051
C54: Zadavatel: | F54: =E15 -> Město Štětí | K54: Projektant: | L54: =E21 -> Ing. Pavel Piskáček
C55: Zhotovitel: | F55: =IF(E18="","",E18) | K55: Zpracovatel: | L55: =E24 -> Ing. Pavel Piskáček
C57: Kód dílu - Popis | L57: Cena celkem [CZK]
C59: Náklady stavby celkem | L59: =L93 -> 0
D60: HSV - Práce a dodávky HSV | L60: =SUM(L61:L66) -> 0
D61: 3 - Svislé a kompletní konstrukce | L61: =L95 -> 0
D62: 6 - Úpravy povrchů, podlahy a osazování výplní | L62: =L105 -> 0
D63: 63 - Podlahy a podlahové konstrukce | L63: =L157 -> 0
D64: 9 - Ostatní konstrukce a práce, bourání | L64: =L168 -> 0
D65: 997 - Doprava suti a vybouraných hmot | L65: =L221 -> 0
D66: 998 - Přesun hmot | L66: =L239 -> 0
D67: PSV - Práce a dodávky PSV | L67: =SUM(L68:L73) -> 0
D68: 711 - Izolace proti vodě, vlhkosti a plynům | L68: =L244 -> 0
D69: 763 - Konstrukce suché výstavby | L69: =L270 -> 0
D70: 766 - Konstrukce truhlářské | L70: =L288 -> 0
D71: 771 - Podlahy z dlaždic | L71: =L295 -> 0
D72: 781 - Dokončovací práce - obklady | L72: =L339 -> 0
D73: 784 - Dokončovací práce - malby a tapety | L73: =L391 -> 0
C80: SOUPIS PRACÍ
C82: Stavba:
E83: =E7 -> Městské koupaliště Štětí – WC, sprchy
C84: Objekt:
E85: =E9 -> D.1.1. - Architektonicko-stavební řešení
C87: Místo: | F87: =F12 | K87: Datum: | L87: =IF(L12="","",L12) -> 46051
C89: Zadavatel: | F89: =E15 -> Město Štětí | K89: Projektant: | L89: =E21 -> Ing. Pavel Piskáček
C90: Zhotovitel: | F90: =IF(E18="","",E18) | K90: Zpracovatel: | L90: =E24 -> Ing. Pavel Piskáček
C92: PČ | D92: Typ | E92: Kód | F92: Popis | I92: MJ | J92: Množství | K92: J.cena [CZK] | L92: Cena celkem [CZK] | M92: Cenová soustava | O92: bourání kvůli kanalizaci
C93: Náklady soupisu celkem | L93: =L94+L243 -> 0 | O93: =SUM(O95:O430) -> 0
D94: D | E94: HSV | F94: Práce a dodávky HSV | L94: =L95+L105+L157+L168+L221+L239 -> 0
D95: D | E95: 3 | F95: Svislé a kompletní konstrukce | L95: =SUM(L96:L104) -> 0
A96: alternativa SDK předstěny | C96: 1 | D96: K | E96: 342272245 | F96: Příčka z pórobetonových hladkých tvárnic na tenkovrstvou maltu tl 150 mm | I96: m2 | J96: 0 | L96: =ROUND(K96*J96,2) -> 0 | M96: CS ÚRS 2025 02 | N96: alternativa SDK předstěny
D97: PP | F97: Příčky z pórobetonových tvárnic hladkých na tenké maltové lože objemová hmotnost do 500 kg/m3, tloušťka příčky 150 mm
D98: Online PSC | F98: https://podminky.urs.cz/item/CS_URS_2025_02/342272245
D99: VV | F99: m.č. 30 – WC-M stěna s pisoáry
D100: VV | G100: 3.6 | H100: 2.3 | J100: =G100*H100 -> 8.28
C101: 2 | D101: K | E101: 342291121 | F101: Ukotvení příček k cihelným konstrukcím plochými kotvami | I101: m | J101: 0 | L101: =ROUND(K101*J101,2) -> 0 | M101: CS ÚRS 2025 02
D102: PP | F102: Ukotvení příček plochými kotvami, do konstrukce cihelné
D103: Online PSC | F103: https://podminky.urs.cz/item/CS_URS_2025_02/342291121
D104: VV | F104: m.č. 30 – WC-M stěna s pisoáry | G104: 2 | H104: 2.3 | J104: =G104*H104 -> 4.6
D105: D | E105: 6 | F105: Úpravy povrchů, podlahy a osazování výplní | L105: =SUM(L106:L156) -> 0
C106: 3 | D106: K | E106: 612131121 | F106: Penetrační disperzní nátěr vnitř. stěn nanášený ručně | I106: m2 | J106: =SUM(J111:J122) -> 172.85 | L106: =ROUND(K106*J106,2) -> 0 | M106: CS ÚRS 2025 02
D107: PP | F107: Podkladní a spojovací vrstva vnitřních omítaných ploch penetrace disperzní nanášená ručně stěn
D108: Online PSC | F108: https://podminky.urs.cz/item/CS_URS_2025_02/612131121
D109: VV | F109: Pod omítku
D110: VV | F110: m.č ….. v. obkladu x obvod
D111: VV | F111: 29 | G111: 1.35 | H111: 17 | J111: =G111*H111 -> 22.95
D112: VV | F112: 30 | G112: 1.35 | H112: 16 | J112: =G112*H112 -> 21.6
D113: VV | F113: 31.1 | G113: 1.35 | H113: 7 | J113: =G113*H113 -> 9.45
D114: VV | F114: 31.2 | G114: 2.1 | H114: 6 | J114: =G114*H114 -> 12.6
D115: VV | F115: 33 | G115: 1.35 | H115: 16 | J115: =G115*H115 -> 21.6
D116: VV | F116: 34.1 | G116: 1.35 | H116: 7 | J116: =G116*H116 -> 9.45
D117: VV | F117: 34.2 | G117: 2.1 | H117: 6 | J117: =G117*H117 -> 12.6
D118: VV | F118: 35 | G118: 1.35 | H118: 16 | J118: =G118*H118 -> 21.6
D119: VV | F119: Pod hydroizolační stěrku
D120: VV | F120: sokl v. 200 mm | G120: 0.2 | H120: =H111+H112+H113+H115+H116+H118 -> 79 | J120: =G120*H120 -> 15.8
D121: VV | F121: 31.2 – sprchy | G121: 2.1 | H121: 6 | J121: =G121*H121 -> 12.6
D122: VV | F122: 34.2 – sprchy | G122: 2.1 | H122: 6 | J122: =G122*H122 -> 12.6
C123: 4 | D123: K | E123: 612131100 | F123: Vápenný postřik vnitřních stěn nanášený ručně | I123: m2 | J123: =SUM(J127:J134) -> 131.85 | L123: =ROUND(K123*J123,2) -> 0 | M123: CS ÚRS 2025 02
D124: PP | F124: Podkladní a spojovací vrstva vnitřních omítaných ploch vápenný postřik nanášený ručně celoplošně stěn
D125: Online PSC | F125: https://podminky.urs.cz/item/CS_URS_2025_02/612131100
D126: VV | F126: m.č ….. v. obkladu x obvod
D127: VV | F127: 29 | G127: 1.35 | H127: 17 | J127: =G127*H127 -> 22.95
D128: VV | F128: 30 | G128: 1.35 | H128: 16 | J128: =G128*H128 -> 21.6
D129: VV | F129: 31.1 | G129: 1.35 | H129: 7 | J129: =G129*H129 -> 9.45
D130: VV | F130: 31.2 | G130: 2.1 | H130: 6 | J130: =G130*H130 -> 12.6
D131: VV | F131: 33 | G131: 1.35 | H131: 16 | J131: =G131*H131 -> 21.6
D132: VV | F132: 34.1 | G132: 1.35 | H132: 7 | J132: =G132*H132 -> 9.45
D133: VV | F133: 34.2 | G133: 2.1 | H133: 6 | J133: =G133*H133 -> 12.6
D134: VV | F134: 35 | G134: 1.35 | H134: 16 | J134: =G134*H134 -> 21.6
C135: 5 | D135: K | E135: 612321121 | F135: Vápenocementová omítka hladká jednovrstvá vnitřních stěn nanášená ručně | I135: m2 | J135: =SUM(J138:J145) -> 131.85 | L135: =ROUND(K135*J135,2) -> 0 | M135: CS ÚRS 2025 02
...

Sheet D.1.1.2 - Zdravotechnická...
AK2: {601a0bcf-c40e-4d12-b056-68eed4b75bcc}
AK3: 2
D4: KRYCÍ LIST SOUPISU PRACÍ | AK4: False
D6: Stavba:
E7: ='Rekapitulace stavby'!K6 -> Městské koupaliště Štětí – WC, sprchy
D8: Objekt:
E9: D.1.1.2 - Zdravotechnická instalace
D11: KSO: | I11: CC-CZ:
D12: Místo: | I12: Datum: | J12: ='Rekapitulace stavby'!AN8 -> 46051
D14: Zadavatel: | I14: IČ: | J14: ='Rekapitulace stavby'!AN10 -> 264466
E15: ='Rekapitulace stavby'!E11 -> Město Štětí | I15: DIČ:
D17: Zhotovitel: | I17: IČ: | J17: ='Rekapitulace stavby'!AN13 -> 0
E18: ='Rekapitulace stavby'!E14 | I18: DIČ: | J18: ='Rekapitulace stavby'!AN14 -> 0
D20: Projektant: | I20: IČ: | J20: 61287059
E21: Ing. Pavel Piskáček | I21: DIČ:
D23: Zpracovatel: | I23: IČ: | J23: 61287059
E24: Ing. Pavel Piskáček | I24: DIČ:
D26: Poznámka:
D30: Cena bez DPH | J30: =ROUND(J83, 2) -> 0
F32: Základ daně | I32: Sazba daně | J32: Výše daně
D33: DPH | E33: základní | F33: =J30 -> 0 | I33: 0.21 | J33: =ROUND(((SUM(F33))*I33), 2) -> 0
E34: snížená | F34: =ROUND((SUM(AW83:AW85)), 2) -> 0 | I34: 0.12 | J34: =ROUND(((SUM(AW83:AW85))*I34), 2) -> 0
E35: zákl. přenesená | F35: =ROUND((SUM(AX83:AX85)), 2) -> 0 | I35: 0.21 | J35: =0 -> 0
E36: sníž. přenesená | F36: =ROUND((SUM(AY83:AY85)), 2) -> 0 | I36: 0.12 | J36: =0 -> 0
E37: nulová | F37: =ROUND((SUM(AZ83:AZ85)), 2) -> 0 | I37: 0 | J37: =0 -> 0
D39: Cena s DPH | G39: v | H39: CZK | J39: =SUM(J30:J37) -> 0
C45: REKAPITULACE ČLENĚNÍ SOUPISU PRACÍ
C47: Stavba:
E48: =E7 -> Městské koupaliště Štětí – WC, sprchy
C49: Objekt:
E50: =E9 -> D.1.1.2 - Zdravotechnická instalace
C52: Místo: | F52: =F12 | I52: Datum: | J52: =IF(J12="","",J12) -> 46051
C54: Zadavatel: | F54: =E15 -> Město Štětí | I54: Projektant: | J54: =E21 -> Ing. Pavel Piskáček
C55: Zhotovitel: | F55: =IF(E18="","",E18) | I55: Zpracovatel: | J55: =E24 -> Ing. Pavel Piskáček
C57: Kód dílu - Popis | J57: Cena celkem [CZK]
C59: Náklady stavby celkem | J59: =J83 -> 0 | AL59: -1
D60: PSV - Práce a dodávky PSV | J60: =J84 -> 0
D61: 721 - Zdravotechnika - vnitřní kanalizace | J61: =J85 -> 0
D62: 721 - Zdravotechnika - vnitřní kanalizace | J62: =J94 -> 0
D63: 721 - Zdravotechnika - vnitřní kanalizace | J63: =J104 -> 0
C70: SOUPIS PRACÍ
C72: Stavba:
E73: =E7 -> Městské koupaliště Štětí – WC, sprchy
C74: Objekt:
E75: =E9 -> D.1.1.2 - Zdravotechnická instalace
C77: Místo: | F77: =F12 | I77: Datum: | J77: =IF(J12="","",J12) -> 46051
C79: Zadavatel: | F79: =E15 -> Město Štětí | I79: Projektant: | J79: =E21 -> Ing. Pavel Piskáček
C80: Zhotovitel: | F80: =IF(E18="","",E18) | I80: Zpracovatel: | J80: =E24 -> Ing. Pavel Piskáček
C82: PČ | D82: Typ | E82: Kód | F82: Popis | G82: MJ | H82: Množství | I82: J.cena [CZK] | J82: Cena celkem [CZK] | K82: Cenová soustava
C83: Náklady soupisu celkem | J83: =J84 -> 0 | AK83: D | AL83: -1
D84: D | E84: PSV | F84: Práce a dodávky PSV | J84: =J85+J94+J104 -> 0 | M84: =J87+J89 -> 0
D85: D | E85: 721 | F85: Zdravotechnika - vnitřní kanalizace | J85: =SUM(J86:J92) -> 0
C86: 1 | E86: 721176103R00 | F86: Potrubí HT připojovací D 50 x 1,8 mm | G86: m | H86: 5 | J86: =H86*I86 -> 0
C87: =C86+1 -> 2 | E87: 721176105R00 | F87: Potrubí HT připojovací D 110 x 2,7 mm | G87: m | H87: 9 | J87: =H87*I87 -> 0
C88: =C87+1 -> 3 | E88: 721226312U00 | F88: Zápachová uzávěrka umyvadlo DN 40 | G88: kus | H88: 2 | J88: =H88*I88 -> 0
C89: =C88+1 -> 4 | E89: 721273153 | F89: Hlavice ventilační přivětrávací D 110 | G89: kus | H89: 4 | J89: =H89*I89 -> 0 | M89: 3xWC + 1x PIS
C90: =C89+1 -> 5 | E90: 721211412 | F90: Podlah.vpusti s nerez mřížkou DN70/1 | G90: kus | H90: 6 | J90: =H90*I90 -> 0
C91: =C90+1 -> 6 | E91: 721290111R00 | F91: Zkouška těsnosti kanalizace vodou do DN 125 | G91: m | H91: 15 | J91: =H91*I91 -> 0
C92: =C91+1 -> 7 | E92: 998721202R00 | F92: Přesun hmot pro vnitřní kanalizaci, výšky do 12 m | G92: kpl | H92: 1 | J92: =H92*I92 -> 0
D94: D | E94: 722 | F94: Zdravotechnika - vnitřní vodovod | J94: =SUM(J95:J102) -> 0
C95: =C92+1 -> 8 | E95: 722130991U00 | F95: Vsaz odboč záv potr svěr spojka 20 | G95: kus | H95: 1 | J95: =H95*I95 -> 0
C96: =C95+1 -> 9 | E96: 722172311R00 | F96: Potrubí z PPR Instaplast, studená, D 20x2,8 mm | G96: m | H96: 21 | J96: =H96*I96 -> 0
C97: =C96+1 -> 10 | E97: 722181212RT7 | F97: Izol návlek MIRELON PRO tl. 9 mm, vnitř průměr 22 mm | G97: m | H97: =H96 -> 21 | J97: =H97*I97 -> 0
C98: =C97+1 -> 11 | E98: 722190901R00 | F98: Uzavření/otevření vodovodního potrubí při opravě | G98: kus | H98: 1 | J98: =H98*I98 -> 0
C99: =C98+1 -> 12 | E99: 722202442R00 | F99: Kohout kulový rozeb.s výpustí D 20 | G99: kus | H99: 1 | J99: =H99*I99 -> 0
C100: =C99+1 -> 13 | E100: 722280106R00 | F100: Tlaková zkouška vodovodního potrubí | G100: m | H100: 60 | J100: =H100*I100 -> 0
C101: =C100+1 -> 14 | E101: 722290234R00 | F101: Proplach a dezinfekce vodovod.potrubí | G101: m | H101: 60 | J101: =H101*I101 -> 0
C102: =C101+1 -> 15 | E102: 998722202R00 | F102: Přesun hmot pro vnitřní vodovod, výšky do 12 m | G102: kpl | H102: 1 | J102: =H102*I102 -> 0
D104: D | E104: 725 | F104: Zdravotechnika – zařizovací předměty | J104: =SUM(J109:J116) -> 0
C105: =C102+1 -> 16 | E105: 725122814R00 | F105: Demontáž pisoáru | G105: soubor | H105: 4 | J105: =H105*I105 -> 0
C106: =C105+1 -> 17 | E106: 725110814R00 | F106: Demontáž WC kombi | G106: soubor | H106: 12 | J106: =H106*I106 -> 0
C107: =C106+1 -> 18 | E107: 725820801R00 | F107: Demontáž umyvadlové baterie | G107: soubor | H107: 2 | J107: =H107*I107 -> 0
C108: =C107+1 -> 19 | E108: 725210821R00 | F108: Demontáž umyvadla | G108: soubor | H108: 2 | J108: =H108*I108 -> 0
C109: =C108+1 -> 20 | E109: 725016111R00 | F109: Pisoár závěsný, ovládání automatické, bílý | G109: soubor | H109: 4 | J109: =H109*I109 -> 0
C110: =C109+1 -> 21 | E110: 725033131RT1 | F110: WC kombi spodní odpad, bílý | G110: soubor | H110: 12 | J110: =H110*I110 -> 0
C111: =C110+1 -> 22 | E111: 725017162R00 | F111: Umyvadlo na šrouby, 55 x 45 cm, bílé | G111: soubor | H111: 2 | J111: =H111*I111 -> 0
C112: =C111+1 -> 23 | E112: 725823111RT1 | F112: Baterie umyvadlová stoján. ruční, standardní | G112: kus | H112: 2 | J112: =H112*I112 -> 0
C113: =C112+1 -> 24 | E113: 725810401R00 | F113: Ventil rohový + připojovací hadice | G113: soubor | H113: =H109+H111*2+H110 -> 20 | J113: =H113*I113 -> 0
C114: =C113+1 -> 25 | E114: 725980121R00 | F114: Dvířka z plastu, 300 x 300 mm | G114: kus | H114: 1 | J114: =H114*I114 -> 0
C115: =C114+1 -> 26 | E115: 998725202R00 | F115: Přesun hmot pro zařizovací předměty, výšky do 12 m | G115: ks | H115: 1 | J115: =H115*I115 -> 0
C116: =C115+1 -> 27 | F116: Doprava | G116: kpl | H116: 1 | J116: =H116*I116 -> 0

Sheet D.1.1.3 - Elektroinstalace
D4: KRYCÍ LIST SOUPISU PRACÍ
D6: Stavba:
E7: ='Rekapitulace stavby'!K6 -> Městské koupaliště Štětí – WC, sprchy
D8: Objekt:
E9: D.1.1.3 - Elektroinstalace
D11: KSO: | I11: CC-CZ:
D12: Místo: | I12: Datum: | J12: ='Rekapitulace stavby'!AN8 -> 46051
D14: Zadavatel: | I14: IČ: | J14: ='Rekapitulace stavby'!AN10 -> 264466
E15: ='Rekapitulace stavby'!E11 -> Město Štětí | I15: DIČ:
D17: Zhotovitel: | I17: IČ: | J17: ='Rekapitulace stavby'!AN13 -> 0
E18: ='Rekapitulace stavby'!E14 | I18: DIČ: | J18: ='Rekapitulace stavby'!AN14 -> 0
D20: Projektant: | I20: IČ: | J20: 61287059
E21: Ing. Pavel Piskáček | I21: DIČ:
D23: Zpracovatel: | I23: IČ: | J23: 61287059
E24: Ing. Pavel Piskáček | I24: DIČ:
D26: Poznámka:
D30: Cena bez DPH | J30: =ROUND(J59, 2) -> 0
F32: Základ daně | I32: Sazba daně | J32: Výše daně
D33: DPH | E33: základní | F33: =J30 -> 0 | I33: 0.21 | J33: =ROUND(((SUM(F33))*I33), 2) -> 0
E34: snížená | F34: 0 | I34: 0.12 | J34: =ROUND(((SUM(F34))*I34), 2) -> 0
E35: zákl. přenesená | F35: =ROUND((SUM(#REF!)), 2) -> #REF! | I35: 0.21 | J35: =0 -> 0
E36: sníž. přenesená | F36: =ROUND((SUM(#REF!)), 2) -> #REF! | I36: 0.12 | J36: =0 -> 0
E37: nulová | F37: =ROUND((SUM(#REF!)), 2) -> #REF! | I37: 0 | J37: =0 -> 0
D39: Cena s DPH | G39: v | H39: CZK | J39: =SUM(J30:J37) -> 0
C45: REKAPITULACE ČLENĚNÍ SOUPISU PRACÍ
C47: Stavba:
E48: =E7 -> Městské koupaliště Štětí – WC, sprchy
C49: Objekt:
E50: =E9 -> D.1.1.3 - Elektroinstalace
C52: Místo: | F52: =F12 | I52: Datum: | J52: =IF(J12="","",J12) -> 46051
C54: Zadavatel: | F54: =E15 -> Město Štětí | I54: Projektant: | J54: =E21 -> Ing. Pavel Piskáček
C55: Zhotovitel: | F55: =IF(E18="","",E18) | I55: Zpracovatel: | J55: =E24 -> Ing. Pavel Piskáček
C57: Kód dílu - Popis | J57: Cena celkem [CZK]
C59: Náklady stavby celkem | J59: =J82 -> 0
D60: PSV - Práce a dodávky PSV | J60: =SUM(J61:J62) -> 0
D61: 741 - Elektroinstalace – silnoproud (připojení pisoárů) | J61: =J84 -> 0
D62: 741 - Elektroinstalace – silnoproud (původní rozvody) | H62: ANO-1/NE-0 | I62: 0 | J62: =J94*I62 -> 0
C69: SOUPIS PRACÍ
C71: Stavba:
E72: =E7 -> Městské koupaliště Štětí – WC, sprchy
C73: Objekt:
E74: =E9 -> D.1.1.3 - Elektroinstalace
C76: Místo: | F76: =F12 | I76: Datum: | J76: =IF(J12="","",J12) -> 46051
C78: Zadavatel: | F78: =E15 -> Město Štětí | I78: Projektant: | J78: =E21 -> Ing. Pavel Piskáček
C79: Zhotovitel: | F79: =IF(E18="","",E18) | I79: Zpracovatel: | J79: =E24 -> Ing. Pavel Piskáček
C81: PČ | D81: Typ | E81: Kód | F81: Popis | G81: MJ | H81: Množství | I81: J.cena [CZK] | J81: Cena celkem [CZK] | K81: Cenová soustava
C82: Náklady soupisu celkem | J82: =J83 -> 0
D83: D | E83: PSV | F83: Práce a dodávky PSV | J83: =J84 -> 0
D84: D | E84: 741.1 | F84: Elektroinstalace – silnoproud (připojení pisoárů) | J84: =SUM(J85:J92) -> 0
C85: 1 | F85: Krabice instalační1055-41 se svorkovnicí | G85: ks | H85: 1 | J85: =I85*H85 -> 0
C86: =C85+1 -> 2 | F86: Podružný instalační materiál | G86: ks | H86: 1 | J86: =I86*H86 -> 0
C87: =C86+1 -> 3 | F87: kabel napájecí – přívod k trafu 230/24V | G87: m | H87: 7 | J87: =I87*H87 -> 0
C88: =C87+1 -> 4 | F88: rozvod 24 V | G88: m | H88: 5 | J88: =I88*H88 -> 0
C89: =C88+1 -> 5 | F89: napájecí zdroj – společný | G89: ks | H89: 1 | J89: =I89*H89 -> 0
C90: =C89+1 -> 6 | F90: elektroinstalační práce | G90: hod | H90: 4 | J90: =I90*H90 -> 0
C91: =C90+1 -> 7 | F91: Revize elektro | G91: kpl | H91: 1 | J91: =I91*H91 -> 0
C92: =C91+1 -> 8 | F92: Přesun hmot a doprava | G92: set | H92: 1 | J92: =I92*H92 -> 0
D94: D | E94: 741.2 | F94: Elektroinstalace – silnoproud (původní rozvody) | J94: =SUM(J95:J101) -> 0
C95: =C92+1 -> 9 | F95: Spínač jednopólový (řazení 1) vč. rámečků | G95: ks | H95: 6 | J95: =I95*H95 -> 0
C96: =C95+1 -> 10 | F96: Krabice instalační1055-41 se svorkovnicí | G96: ks | H96: 8 | J96: =I96*H96 -> 0
C97: =C96+1 -> 11 | F97: Podružný instalační materiál (úchyty. Stahovací pásky, sádra + recyklační poplatek světla) | G97: ks | H97: 1 | J97: =I97*H97 -> 0
C98: =C97+1 -> 12 | F98: Zásuvka 230/1 rámeček strojek + rámečky | G98: ks | H98: 2 | J98: =I98*H98 -> 0
C99: =C98+1 -> 13 | F99: Úprava původního osvětlení, elektrozásuvek a vypínačů | G99: hod | H99: 6 | J99: =I99*H99 -> 0
C100: =C99+1 -> 14 | F100: Revize elektro – zahrnuta v 741.1 | G100: kpl | H100: 0 | J100: =I100*H100 -> 0
C101: =C100+1 -> 15 | F101: Přesun hmot a doprava | G101: set | H101: 1 | J101: =I101*H101 -> 0

Sheet VRN - Vedlejší rozpočtové...
D4: KRYCÍ LIST SOUPISU PRACÍ
D6: Stavba:
E7: ='Rekapitulace stavby'!K6 -> Městské koupaliště Štětí – WC, sprchy
D8: Objekt:
E9: VRN - Vedlejší rozpočtové náklady
D11: KSO: | I11: CC-CZ:
D12: Místo: | I12: Datum: | J12: ='Rekapitulace stavby'!AN8 -> 46051
D14: Zadavatel: | I14: IČ: | J14: ='Rekapitulace stavby'!AN10 -> 264466
E15: ='Rekapitulace stavby'!E11 -> Město Štětí | I15: DIČ:
D17: Zhotovitel: | I17: IČ: | J17: ='Rekapitulace stavby'!AN13 -> 0
E18: ='Rekapitulace stavby'!E14 | I18: DIČ: | J18: ='Rekapitulace stavby'!AN14 -> 0
D20: Projektant: | I20: IČ: | J20: 61287059
E21: Ing. Pavel Piskáček | I21: DIČ:
D23: Zpracovatel: | I23: IČ: | J23: 61287059
E24: Ing. Pavel Piskáček | I24: DIČ:
D26: Poznámka:
D30: Cena bez DPH | J30: =ROUND(J84, 2) -> 0
F32: Základ daně | I32: Sazba daně | J32: Výše daně
D33: DPH | E33: základní | F33: =J30 -> 0 | I33: 0.21 | J33: =ROUND(((SUM(F33))*I33), 2) -> 0
E34: snížená | F34: =ROUND((SUM(AU84:AU113)), 2) -> 0 | I34: 0.12 | J34: =ROUND(((SUM(AU84:AU113))*I34), 2) -> 0
E35: zákl. přenesená | F35: =ROUND((SUM(AV84:AV113)), 2) -> 0 | I35: 0.21 | J35: =0 -> 0
E36: sníž. přenesená | F36: =ROUND((SUM(AW84:AW113)), 2) -> 0 | I36: 0.12 | J36: =0 -> 0
E37: nulová | F37: =ROUND((SUM(AX84:AX113)), 2) -> 0 | I37: 0 | J37: =0 -> 0
D39: Cena s DPH | G39: v | H39: CZK | J39: =SUM(J30:J37) -> 0
C45: REKAPITULACE ČLENĚNÍ SOUPISU PRACÍ
C47: Stavba:
E48: =E7 -> Městské koupaliště Štětí – WC, sprchy
C49: Objekt:
E50: =E9 -> VRN - Vedlejší rozpočtové náklady
C52: Místo: | F52: =F12 | I52: Datum: | J52: =IF(J12="","",J12) -> 46051
C54: Zadavatel: | F54: =E15 -> Město Štětí | I54: Projektant: | J54: =E21 -> Ing. Pavel Piskáček
C55: Zhotovitel: | F55: =IF(E18="","",E18) | I55: Zpracovatel: | J55: =E24 -> Ing. Pavel Piskáček
C57: Kód dílu - Popis | J57: Cena celkem [CZK]
C59: Náklady stavby celkem | J59: =J84 -> 0
D60: VRN - Vedlejší rozpočtové náklady | J60: =J85 -> 0
D61: VRN1 - Průzkumné, zeměměřičské a projektové práce | J61: =J86 -> 0
D62: VRN2 - Příprava staveniště | J62: =J93 -> 0
D63: VRN3 - Zařízení staveniště | J63: =J97 -> 0
D64: VRN4 - Inženýrská činnost | J64: =J110 -> 0
C71: SOUPIS PRACÍ
C73: Stavba:
E74: =E7 -> Městské koupaliště Štětí – WC, sprchy
C75: Objekt:
E76: =E9 -> VRN - Vedlejší rozpočtové náklady
C78: Místo: | F78: =F12 | I78: Datum: | J78: =IF(J12="","",J12) -> 46051
C80: Zadavatel: | F80: =E15 -> Město Štětí | I80: Projektant: | J80: =E21 -> Ing. Pavel Piskáček
C81: Zhotovitel: | F81: =IF(E18="","",E18) | I81: Zpracovatel: | J81: =E24 -> Ing. Pavel Piskáček
C83: PČ | D83: Typ | E83: Kód | F83: Popis | G83: MJ | H83: Množství | I83: J.cena [CZK] | J83: Cena celkem [CZK] | K83: Cenová soustava
C84: Náklady soupisu celkem | J84: =J85 -> 0
D85: D | E85: VRN | F85: Vedlejší rozpočtové náklady | J85: =J86+J93+J97+J110 -> 0
D86: D | E86: VRN1 | F86: Průzkumné, zeměměřičské a projektové práce | J86: =J89 -> 0
D87: PP | F87: Pasportizace objektu po provedení prací
D88: Online PSC | F88: https://podminky.urs.cz/item/CS_URS_2025_02/013284000
C89: 1 | D89: K | E89: 013294000 | F89: Ostatní dokumentace stavby | G89: kpl | H89: 1 | J89: =ROUND(I89*H89,2) -> 0 | K89: CS ÚRS 2025 02
D90: PP | F90: Ostatní dokumentace stavby
D91: Online PSC | F91: https://podminky.urs.cz/item/CS_URS_2025_02/013294000
D92: VV | F92: Výrobní dokumentace
D93: D | E93: VRN2 | F93: Příprava staveniště | J93: =J94 -> 0
C94: 2 | D94: K | E94: 020001000 | F94: Příprava staveniště | G94: kpl | H94: 1 | J94: =ROUND(I94*H94,2) -> 0 | K94: CS ÚRS 2025 02
D95: PP | F95: Příprava staveniště
D96: Online PSC | F96: https://podminky.urs.cz/item/CS_URS_2025_02/020001000
D97: D | E97: VRN3 | F97: Zařízení staveniště | J97: =J98+J101+J104+J107 -> 0
C98: 3 | D98: K | E98: 032103000 | F98: Náklady na stavební buňky, úpravu stávajících objektů | G98: kpl | H98: 1 | J98: =ROUND(I98*H98,2) -> 0 | K98: CS ÚRS 2025 02
D99: PP | F99: Náklady na stavební buňky, úpravu stávajících objektů
D100: Online PSC | F100: https://podminky.urs.cz/item/CS_URS_2025_02/032103000
C101: 4 | D101: K | E101: 033103000 | F101: Připojení energií pro zařízení staveniště | G101: kpl | H101: 1 | J101: =ROUND(I101*H101,2) -> 0 | K101: CS ÚRS 2025 02
D102: PP | F102: Připojení energií pro zařízení staveniště
D103: Online PSC | F103: https://podminky.urs.cz/item/CS_URS_2025_02/033103000
C104: 5 | D104: K | E104: 033203000 | F104: Spotřeba energií pro zařízení staveniště | G104: kpl | H104: 1 | J104: =ROUND(I104*H104,2) -> 0 | K104: CS ÚRS 2025 02
D105: PP | F105: Spotřeba energií pro zařízení staveniště
D106: Online PSC | F106: https://podminky.urs.cz/item/CS_URS_2025_02/033203000
C107: 6 | D107: K | E107: 039103000 | F107: Rozebrání, bourání a odvoz zařízení staveniště | G107: kpl | H107: 1 | J107: =ROUND(I107*H107,2) -> 0 | K107: CS ÚRS 2025 02
D108: PP | F108: Rozebrání, bourání a odvoz zařízení staveniště
D109: Online PSC | F109: https://podminky.urs.cz/item/CS_URS_2025_02/039103000
D110: D | E110: VRN4 | F110: Inženýrská činnost | J110: =J111 -> 0
C111: 9 | D111: K | E111: 041403000 | F111: Bezpečnost a ochrana zdraví při práci na staveništi | G111: kpl | H111: 1 | J111: =ROUND(I111*H111,2) -> 0 | K111: CS ÚRS 2025 02
D112: PP | F112: Generální zhotovitel stavby je povinen zajistit vyhodnocení rizik vyplývajících z činností vlastních i činností poddodavatelů, dále zpracování technologických postupů a současně zajistit, aby všechny osoby na stavbě byly s těmito riziky a technologickými postupy řádně seznámeny a proškoleny.
D113: Online PSC | F113: https://podminky.urs.cz/item/CS_URS_2025_02/041403000

Sheet Pokyny pro vyplnění
C3: Struktura údajů, formát souboru a metodika pro zpracování
C4: Struktura
C6: Soubor je složen ze záložky Rekapitulace stavby a záložek s názvem soupisu prací pro jednotlivé objekty ve formátu XLSX. Každá ze záložek přitom obsahuje
C7: ještě samostatné sestavy vymezené orámovaním a nadpisem sestavy.
C9: Rekapitulace stavby obsahuje sestavu Rekapitulace stavby a Rekapitulace objektů stavby a soupisů prací.
D10: V sestavě Rekapitulace stavby jsou uvedeny informace identifikující předmět veřejné zakázky na stavební práce, KSO, CC-CZ, CZ-CPV, CZ-CPA a rekapitulaci
D11: celkové nabídkové ceny účastníka.
D13: Termínem "učastník" (resp. zhotovitel) se myslí "účastník zadávacího řízení" ve smyslu zákona o zadávání veřejných zakázek.
D15: V sestavě Rekapitulace objektů stavby a soupisů prací je uvedena rekapitulace stavebních objektů, inženýrských objektů, provozních souborů,
D16: vedlejších a ostatních nákladů a ostatních nákladů s rekapitulací nabídkové ceny za jednotlivé soupisy prací. Na základě údaje Typ je možné
D17: identifikovat, zda se jedná o objekt nebo soupis prací pro daný objekt:
E18: STA | F18: Stavební objekt pozemní
E19: ING | F19: Stavební objekt inženýrský
E20: PRO | F20: Provozní soubor
E21: VON | F21: Vedlejší a ostatní náklady
E22: OST | F22: Ostatní
E23: Soupis | F23: Soupis prací pro daný typ objektu
C25: Soupis prací pro jednotlivé objekty obsahuje sestavy Krycí list soupisu prací, Rekapitulace členění soupisu prací, Soupis prací. Za soupis prací může být považován
C26: i objekt stavby v případě, že neobsahuje podřízenou zakázku.
D27: Krycí list soupisu obsahuje rekapitulaci informací o předmětu veřejné zakázky ze sestavy Rekapitulace stavby, informaci o zařazení objektu do KSO,
D28: CC-CZ, CZ-CPV, CZ-CPA a rekapitulaci celkové nabídkové ceny účastníka za aktuální soupis prací.
D30: Rekapitulace členění soupisu prací obsahuje rekapitulaci soupisu prací ve všech úrovních členění soupisu tak, jak byla tato členění použita (např.
D31: stavební díly, funkční díly, případně jiné členění) s rekapitulací nabídkové ceny.
D33: Soupis prací obsahuje položky veškerých stavebních nebo montážních prací, dodávek materiálů a služeb nezbytných pro zhotovení stavebního objektu,
D34: inženýrského objektu, provozního souboru, vedlejších a ostatních nákladů.
D35: Pro položky soupisu prací se zobrazují následující informace:
E36: PČ | G36: Pořadové číslo položky v aktuálním soupisu
E37: TYP | G37: Typ položky: K - konstrukce, M - materiál, PP - plný popis, PSC - poznámka k souboru cen, P - poznámka k položce, VV - výkaz výměr, FIG - rozpad figur
E38: Kód | G38: Kód položky
E39: Popis | G39: Zkrácený popis položky
E40: MJ | G40: Měrná jednotka položky
E41: Množství | G41: Množství v měrné jednotce
E42: J.cena | G42: Jednotková cena položky. Zadaní může obsahovat namísto J.ceny sloupce J.materiál a J.montáž, jejichž součet definuje
G43: J.cenu položky.
E44: Cena celkem | G44: Celková cena položky daná jako součin množství a j.ceny
E45: Cenová soustava | G45: Příslušnost položky do cenové soustavy
D47: Ke každé položce soupisu prací se na samostatných řádcích může zobrazovat:
E48: Plný popis položky
E49: Poznámka k souboru cen a poznámka zadavatele
E50: Výkaz výměr
D51: Pokud je k řádku výkazu výměr evidovaný údaj ve sloupci Kód, jedná se o definovaný odkaz, na který se může odvolávat výkaz výměr z jiné položky.
C52: Metodika pro zpracování
C54: Jednotlivé sestavy jsou v souboru provázány. Editovatelné pole jsou zvýrazněny žlutým podbarvením, ostatní pole neslouží k editaci a nesmí být jakkoliv
C55: modifikovány.
C57: Účastník je pro podání nabídky povinen vyplnit žlutě podbarvená pole:
D58: Pole Účastník v sestavě Rekapitulace stavby - zde účastník vyplní svůj název (název subjektu)
D59: Pole IČ a DIČ v sestavě Rekapitulace stavby - zde účastník vyplní svoje IČ a DIČ
D60: Datum v sestavě Rekapitulace stavby - zde účastník vyplní datum vytvoření nabídky
D61: J.cena = jednotková cena v sestavě Soupis prací o maximálním počtu desetinných míst uvedených v poli
D62: - pokud sestavy soupisů prací obsahují pole J.cena, měla by být všechna tato pole vyplněna nenulovými
D63: Poznámka - nepovinný údaj pro položku soupisu
D65: V případě, že sestavy soupisů prací neobsahují pole J.cena, potom ve všech soupisech prací obsahují pole:
D66: - J.materiál - jednotková cena materiálu
D67: - J.montáž - jednotková cena montáže
D68: Účastník v tomto případě by měl vyplnit všechna pole J.materiál a pole J.montáž nenulovými kladnými číslicemi. V případech, kdy položka
D69: neobsahuje žádný materiál je přípustné, aby pole J.materiál bylo vyplněno nulou. V případech, kdy položka neobsahuje žádnou montáž je přípustné,
D70: aby pole J.montáž bylo vyplněno nulou. Obě pole - J.materiál, J.Montáž u jedné položky by však neměly být vyplněny nulou.
C75: Rekapitulace stavby
C76: Název | F76: Povinný | H76: Popis | I76: Typ | J76: Max. počet
C77: atributu | F77: (A/N) | J77: znaků
C79: Kód | F79: A | H79: Kód stavby | I79: String | J79: 20
C80: Stavba | F80: A | H80: Název stavby | I80: String | J80: 120
C81: Místo | F81: N | H81: Místo stavby | I81: String | J81: 50
C82: Datum | F82: A | H82: Datum vykonaného exportu | I82: Date
C83: KSO | F83: N | H83: Klasifikace stavebního objektu | I83: String | J83: 15
C84: CC-CZ | F84: N | H84: Klasifikace stavbeních děl | I84: String | J84: 15
C85: CZ-CPV | F85: N | H85: Společný slovník pro veřejné zakázky | I85: String | J85: 20
C86: CZ-CPA | F86: N | H86: Klasifikace produkce podle činností | I86: String | J86: 20
C87: Zadavatel | F87: N | H87: Zadavatel zadaní | I87: String | J87: 50
C88: IČ | F88: N | H88: IČ zadavatele zadaní | I88: String | J88: 20
C89: DIČ | F89: N | H89: DIČ zadavatele zadaní | I89: String | J89: 20
C90: Účastník | F90: N | H90: Účastník veřejné zakázky | I90: String | J90: 50
C91: Projektant | F91: N | H91: Projektant | I91: String | J91: 50
C92: Poznámka | F92: N | H92: Poznámka k zadání | I92: String | J92: 255
C93: Sazba DPH | F93: A | H93: Rekapitulace sazeb DPH u položek soupisů | I93: eGSazbaDph
C94: Základna DPH | F94: A | H94: Základna DPH určena součtem celkové ceny z položek soupisů | I94: Double
C95: Hodnota DPH | F95: A | H95: Hodnota DPH | I95: Double
C96: Cena bez DPH | F96: A | H96: Celková cena bez DPH za celou stavbu. Sčítává se ze všech listů. | I96: Double
C97: Cena s DPH | F97: A | H97: Celková cena s DPH za celou stavbu | I97: Double
C102: Rekapitulace objektů stavby a soupisů prací
C103: Název | F103: Povinný | H103: Popis | I103: Typ | J103: Max. počet
C104: atributu | F104: (A/N) | J104: znaků
C106: Kód | F106: A | H106: Přebírá se z Rekapitulace stavby | I106: String | J106: 20
C107: Stavba | F107: A | H107: Přebírá se z Rekapitulace stavby | I107: String | J107: 120
C108: Místo | F108: N | H108: Přebírá se z Rekapitulace stavby | I108: String | J108: 50
C109: Datum | F109: A | H109: Přebírá se z Rekapitulace stavby | I109: Date
C110: Zadavatel | F110: N | H110: Přebírá se z Rekapitulace stavby | I110: String | J110: 50
C111: Projektant | F111: N | H111: Přebírá se z Rekapitulace stavby | I111: String | J111: 50
C112: Účastník | F112: N | H112: Přebírá se z Rekapitulace stavby | I112: String | J112: 50
C113: Kód | F113: A | H113: Kód objektu | I113: String | J113: 20
C114: Objektu, Soupis prací | F114: A | H114: Název objektu | I114: String | J114: 120
C115: Cena bez DPH | F115: A | H115: Cena bez DPH za daný objekt | I115: Double
C116: Cena s DPH | F116: A | H116: Cena spolu s DPH za daný objekt | I116: Double
C117: Typ | F117: A | H117: Typ zakázky | I117: eGTypZakazky
C122: Krycí list soupisu
C123: Název | F123: Povinný | H123: Popis | I123: Typ | J123: Max. počet
C124: atributu | F124: (A/N) | J124: znaků
C126: Stavba | F126: A | H126: Přebírá se z Rekapitulace stavby | I126: String | J126: 120
C127: Objekt | F127: A | H127: Kód a název objektu | I127: String | J127: 20 + 120
C128: Soupis | F128: A | H128: Kód a název soupisu | I128: String | J128: 20 + 120
...
