Workbook

Sheet Rekapitulace stavby
A1: Export Komplet | BH1: False | BI1: False | BJ1: {95d3eeaa-f1cd-4e1b-864d-0dc49bc88c5c}
BG2: 0,01 | BH2: 21
BG3: 0,01 | BH3: 12
D4: REKAPITULACE STAVBY | BG4: 0,001
D5: Kód: | BG5: 0,01
D6: Stavba: | K6: Městské koupaliště Štětí – WC, sprchy | BG6: 0,01
D7: KSO: | AK7: CC-CZ: | BG7: 0,01
D8: Místo: | AK8: Datum: | AN8: 46051 | BG8: 0,01
BG9: 0,01
D10: Zadavatel: | AK10: IČ: | AN10: 264466 | BG10: 0,01
E11: Město Štětí | AK11: DIČ: | BG11: 0,01
BG12: 0,01
D13: Zhotovitel: | AK13: IČ: | BG13: 0,01
AK14: DIČ: | BG14: 0,01
BG15: False
D16: Projektant: | AK16: IČ: | AN16: 61287059 | BG16: False
E17: Ing. Pavel Piskáček | AK17: DIČ: | BG17: True
BG18: 0,01
D19: Zpracovatel: | AK19: IČ: | AN19: 61287059 | BG19: 0,01
E20: Ing. Pavel Piskáček | AK20: DIČ: | BG20: True
D22: Poznámka:
E23: Soupis prací je sestaven s využitím Cenové soustavy ÚRS. Položky, které pochází z této cenové soustavy, jsou ve sloupci 'Cenová soustava' označeny popisem 'CS ÚRS' a úrovní příslušného kalendářního pololetí. Veškeré další informace vymezující popis a podmínky použití těchto položek z Cenové soustavy, které nejsou uvedeny přímo v soupisu prací, jsou neomezeně dálkově k dispozici na webu podminky.urs.cz. | AS23: úprava kanalizace WC DN 110
D26: Cena bez DPH | AK26: =ROUND(AG54,2) -> 0 | AS26: ='D.1.1. - Architektonicko-...'!O93+'D.1.1.2 - Zdravotechnická...'!M84 -> 0
L28: Sazba daně | W28: Základ daně | AK28: Výše daně
D29: DPH | F29: základní | L29: 0.21 | W29: =AK26 -> 0 | AK29: =ROUND(L29*W29, 2) -> 0
F30: snížená | L30: 0.12 | W30: 0 | AK30: =ROUND(L30*W30, 2) -> 0
F31: zákl. přenesená | L31: 0.21 | W31: =ROUND(#REF!, 2) -> #REF! | AK31: 0
F32: sníž. přenesená | L32: 0.12 | W32: =ROUND(#REF!, 2) -> #REF! | AK32: 0
F33: nulová | L33: 0 | W33: =ROUND(#REF!, 2) -> #REF! | AK33: 0
D35: Cena s DPH | T35: v | X35: CZK | AK35: =SUM(AK26:AK33) -> 0
C42: REKAPITULACE OBJEKTŮ STAVBY A SOUPISŮ PRACÍ
C44: Kód: | L44: =K5 -> 0
C45: Stavba: | L45: =K6 -> Městské koupaliště Štětí – WC, sprchy
C47: Místo: | L47: =IF(K8="","",K8) | AI47: Datum: | AM47: =IF(AN8= "","",AN8) -> 46051
C49: Zadavatel: | L49: =IF(E11= "","",E11) -> Město Štětí | AI49: Projektant: | AM49: =IF(E17="","",E17) -> Ing. Pavel Piskáček
C50: Zhotovitel: | L50: =IF(E14="","",E14) | AI50: Zpracovatel: | AM50: =IF(E20="","",E20) -> Ing. Pavel Piskáček
C52: Kód | I52: Popis | AG52: Cena bez DPH [CZK] | AN52: Cena s DPH [CZK] | AQ52: Typ
C54: Náklady stavby celkem | AG54: =SUM(AG55:AM58) -> 0 | AN54: =SUM(AN55:AP58) -> 0 | BG54: D | BH54: 0 | BI54: ###NOIMPORT### | BJ54: IMPORT | BK54: {95d3eeaa-f1cd-4e1b-864d-0dc49bc88c5c} | BL54: {00000000-0000-0000-0000-000000000000}
A55: / | D55: D.1.1. | J55: Architektonicko-stavební řešení | AG55: ='D.1.1. - Architektonicko-...'!L30 -> 0 | AN55: ='D.1.1. - Architektonicko-...'!L39 -> 0 | AQ55: STA | BH55: 1 | BJ55: IMPORT | BK55: {c28cf654-b76a-4522-8347-139d022bfabd} | BL55: {95d3eeaa-f1cd-4e1b-864d-0dc49bc88c5c} | CA55: 2
A56: / | D56: D.1.1.2 | J56: Zdravotechnická instalace | AG56: ='D.1.1.2 - Zdravotechnická...'!J30 -> 0 | AN56: =AG56*1.21 -> 0 | AQ56: STA | BH56: 1 | BJ56: IMPORT | BK56: {601a0bcf-c40e-4d12-b056-68eed4b75bcc} | BL56: {95d3eeaa-f1cd-4e1b-864d-0dc49bc88c5c} | CA56: 2
...

Sheet D.1.1. - Architektonicko-...
D4: KRYCÍ LIST SOUPISU PRACÍ
D6: Stavba:
E7: ='Rekapitulace stavby'!K6 -> Městské koupaliště Štětí – WC, sprchy
D8: Objekt:
E9: D.1.1. - Architektonicko-stavební řešení
D11: KSO: | K11: CC-CZ:
D12: Místo: | K12: Datum: | L12: ='Rekapitulace stavby'!AN8 -> 46051
D14: Zadavatel: | K14: IČ: | L14: ='Rekapitulace stavby'!AN10 -> 264466
E15: ='Rekapitulace stavby'!E11 -> Město Štětí | K15: DIČ:
D17: Zhotovitel: | K17: IČ: | L17: ='Rekapitulace stavby'!AN13 -> 0
E18: ='Rekapitulace stavby'!E14 | K18: DIČ: | L18: ='Rekapitulace stavby'!AN14 -> 0
D20: Projektant: | K20: IČ: | L20: 61287059
E21: Ing. Pavel Piskáček | K21: DIČ:
D23: Zpracovatel: | K23: IČ: | L23: 61287059
E24: Ing. Pavel Piskáček | K24: DIČ:
D26: Poznámka:
D30: Cena bez DPH | L30: =ROUND(L93, 2) -> 0
F32: Základ daně | K32: Sazba daně | L32: Výše daně
D33: DPH | E33: základní | F33: =L59 -> 0 | K33: 0.21 | L33: =ROUND(((SUM(F33))*K33), 2) -> 0
E34: snížená | F34: 0 | K34: 0.12 | L34: =ROUND(((SUM(F34))*K34), 2) -> 0
E35: zákl. přenesená | F35: =ROUND((SUM(#REF!)), 2) -> #REF! | K35: 0.21 | L35: =0 -> 0
E36: sníž. přenesená | F36: =ROUND((SUM(#REF!)), 2) -> #REF! | K36: 0.12 | L36: =0 -> 0
E37: nulová | F37: =ROUND((SUM(#REF!)), 2) -> #REF! | K37: 0 | L37: =0 -> 0
D39: Cena s DPH | I39: v | J39: CZK | L39: =L30+L33+L34 -> 0
C45: REKAPITULACE ČLENĚNÍ SOUPISU PRACÍ
C47: Stavba:
E48: =E7 -> Městské koupaliště Štětí – WC, sprchy
C49: Objekt:
E50: =E9 -> D.1.1. - Architektonicko-stavební řešení
C52: Místo: | F52: =F12 | K52: Datum: | L52: =IF(L12="","",L12) -> 46051
C54: Zadavatel: | F54: =E15 -> Město Štětí | K54: Projektant: | L54: =E21 -> Ing. Pavel Piskáček
C55: Zhotovitel: | F55: =IF(E18="","",E18) | K55: Zpracovatel: | L55: =E24 -> Ing. Pavel Piskáček
C57: Kód dílu - Popis | L57: Cena celkem [CZK]
C59: Náklady stavby celkem | L59: =L93 -> 0
D60: HSV - Práce a dodávky HSV | L60: =SUM(L61:L66) -> 0
D61: 3 - Svislé a kompletní konstrukce | L61: =L95 -> 0
D62: 6 - Úpravy povrchů, podlahy a osazování výplní | L62: =L105 -> 0
D63: 63 - Podlahy a podlahové konstrukce | L63: =L157 -> 0
D64: 9 - Ostatní konstrukce a práce, bourání | L64: =L168 -> 0
D65: 997 - Doprava suti a vybouraných hmot | L65: =L221 -> 0
...

Sheet D.1.1.2 - Zdravotechnická...
AK2: {601a0bcf-c40e-4d12-b056-68eed4b75bcc}
AK3: 2
D4: KRYCÍ LIST SOUPISU PRACÍ | AK4: False
D6: Stavba:
E7: ='Rekapitulace stavby'!K6 -> Městské koupaliště Štětí – WC, sprchy
D8: Objekt:
E9: D.1.1.2 - Zdravotechnická instalace
D11: KSO: | I11: CC-CZ:
D12: Místo: | I12: Datum: | J12: ='Rekapitulace stavby'!AN8 -> 46051
D14: Zadavatel: | I14: IČ: | J14: ='Rekapitulace stavby'!AN10 -> 264466
E15: ='Rekapitulace stavby'!E11 -> Město Štětí | I15: DIČ:
D17: Zhotovitel: | I17: IČ: | J17: ='Rekapitulace stavby'!AN13 -> 0
E18: ='Rekapitulace stavby'!E14 | I18: DIČ: | J18: ='Rekapitulace stavby'!AN14 -> 0
D20: Projektant: | I20: IČ: | J20: 61287059
E21: Ing. Pavel Piskáček | I21: DIČ:
D23: Zpracovatel: | I23: IČ: | J23: 61287059
E24: Ing. Pavel Piskáček | I24: DIČ:
D26: Poznámka:
D30: Cena bez DPH | J30: =ROUND(J83, 2) -> 0
F32: Základ daně | I32: Sazba daně | J32: Výše daně
D33: DPH | E33: základní | F33: =J30 -> 0 | I33: 0.21 | J33: =ROUND(((SUM(F33))*I33), 2) -> 0
E34: snížená | F34: =ROUND((SUM(AW83:AW85)), 2) -> 0 | I34: 0.12 | J34: =ROUND(((SUM(AW83:AW85))*I34), 2) -> 0
E35: zákl. přenesená | F35: =ROUND((SUM(AX83:AX85)), 2) -> 0 | I35: 0.21 | J35: =0 -> 0
E36: sníž. přenesená | F36: =ROUND((SUM(AY83:AY85)), 2) -> 0 | I36: 0.12 | J36: =0 -> 0
E37: nulová | F37: =ROUND((SUM(AZ83:AZ85)), 2) -> 0 | I37: 0 | J37: =0 -> 0
D39: Cena s DPH | G39: v | H39: CZK | J39: =SUM(J30:J37) -> 0
C45: REKAPITULACE ČLENĚNÍ SOUPISU PRACÍ
C47: Stavba:
E48: =E7 -> Městské koupaliště Štětí – WC, sprchy
C49: Objekt:
E50: =E9 -> D.1.1.2 - Zdravotechnická instalace
C52: Místo: | F52: =F12 | I52: Datum: | J52: =IF(J12="","",J12) -> 46051
C54: Zadavatel: | F54: =E15 -> Město Štětí | I54: Projektant: | J54: =E21 -> Ing. Pavel Piskáček
C55: Zhotovitel: | F55: =IF(E18="","",E18) | I55: Zpracovatel: | J55: =E24 -> Ing. Pavel Piskáček
C57: Kód dílu - Popis | J57: Cena celkem [CZK]
C59: Náklady stavby celkem | J59: =J83 -> 0 | AL59: -1
D60: PSV - Práce a dodávky PSV | J60: =J84 -> 0
D61: 721 - Zdravotechnika - vnitřní kanalizace | J61: =J85 -> 0
D62: 721 - Zdravotechnika - vnitřní kanalizace | J62: =J94 -> 0
D63: 721 - Zdravotechnika - vnitřní kanalizace | J63: =J104 -> 0
...

Sheet D.1.1.3 - Elektroinstalace
D4: KRYCÍ LIST SOUPISU PRACÍ
D6: Stavba:
E7: ='Rekapitulace stavby'!K6 -> Městské koupaliště Štětí – WC, sprchy
D8: Objekt:
E9: D.1.1.3 - Elektroinstalace
D11: KSO: | I11: CC-CZ:
D12: Místo: | I12: Datum: | J12: ='Rekapitulace stavby'!AN8 -> 46051
D14: Zadavatel: | I14: IČ: | J14: ='Rekapitulace stavby'!AN10 -> 264466
E15: ='Rekapitulace stavby'!E11 -> Město Štětí | I15: DIČ:
D17: Zhotovitel: | I17: IČ: | J17: ='Rekapitulace stavby'!AN13 -> 0
E18: ='Rekapitulace stavby'!E14 | I18: DIČ: | J18: ='Rekapitulace stavby'!AN14 -> 0
D20: Projektant: | I20: IČ: | J20: 61287059
E21: Ing. Pavel Piskáček | I21: DIČ:
D23: Zpracovatel: | I23: IČ: | J23: 61287059
E24: Ing. Pavel Piskáček | I24: DIČ:
D26: Poznámka:
D30: Cena bez DPH | J30: =ROUND(J59, 2) -> 0
F32: Základ daně | I32: Sazba daně | J32: Výše daně
D33: DPH | E33: základní | F33: =J30 -> 0 | I33: 0.21 | J33: =ROUND(((SUM(F33))*I33), 2) -> 0
E34: snížená | F34: 0 | I34: 0.12 | J34: =ROUND(((SUM(F34))*I34), 2) -> 0
E35: zákl. přenesená | F35: =ROUND((SUM(#REF!)), 2) -> #REF! | I35: 0.21 | J35: =0 -> 0
E36: sníž. přenesená | F36: =ROUND((SUM(#REF!)), 2) -> #REF! | I36: 0.12 | J36: =0 -> 0
E37: nulová | F37: =ROUND((SUM(#REF!)), 2) -> #REF! | I37: 0 | J37: =0 -> 0
D39: Cena s DPH | G39: v | H39: CZK | J39: =SUM(J30:J37) -> 0
C45: REKAPITULACE ČLENĚNÍ SOUPISU PRACÍ
C47: Stavba:
E48: =E7 -> Městské koupaliště Štětí – WC, sprchy
C49: Objekt:
E50: =E9 -> D.1.1.3 - Elektroinstalace
C52: Místo: | F52: =F12 | I52: Datum: | J52: =IF(J12="","",J12) -> 46051
C54: Zadavatel: | F54: =E15 -> Město Štětí | I54: Projektant: | J54: =E21 -> Ing. Pavel Piskáček
C55: Zhotovitel: | F55: =IF(E18="","",E18) | I55: Zpracovatel: | J55: =E24 -> Ing. Pavel Piskáček
C57: Kód dílu - Popis | J57: Cena celkem [CZK]
C59: Náklady stavby celkem | J59: =J82 -> 0
D60: PSV - Práce a dodávky PSV | J60: =SUM(J61:J62) -> 0
D61: 741 - Elektroinstalace – silnoproud (připojení pisoárů) | J61: =J84 -> 0
D62: 741 - Elektroinstalace – silnoproud (původní rozvody) | H62: ANO-1/NE-0 | I62: 0 | J62: =J94*I62 -> 0
C69: SOUPIS PRACÍ
C71: Stavba:
E72: =E7 -> Městské koupaliště Štětí – WC, sprchy
...

Sheet VRN - Vedlejší rozpočtové...
D4: KRYCÍ LIST SOUPISU PRACÍ
D6: Stavba:
E7: ='Rekapitulace stavby'!K6 -> Městské koupaliště Štětí – WC, sprchy
D8: Objekt:
E9: VRN - Vedlejší rozpočtové náklady
D11: KSO: | I11: CC-CZ:
D12: Místo: | I12: Datum: | J12: ='Rekapitulace stavby'!AN8 -> 46051
D14: Zadavatel: | I14: IČ: | J14: ='Rekapitulace stavby'!AN10 -> 264466
E15: ='Rekapitulace stavby'!E11 -> Město Štětí | I15: DIČ:
D17: Zhotovitel: | I17: IČ: | J17: ='Rekapitulace stavby'!AN13 -> 0
E18: ='Rekapitulace stavby'!E14 | I18: DIČ: | J18: ='Rekapitulace stavby'!AN14 -> 0
D20: Projektant: | I20: IČ: | J20: 61287059
E21: Ing. Pavel Piskáček | I21: DIČ:
D23: Zpracovatel: | I23: IČ: | J23: 61287059
E24: Ing. Pavel Piskáček | I24: DIČ:
D26: Poznámka:
D30: Cena bez DPH | J30: =ROUND(J84, 2) -> 0
F32: Základ daně | I32: Sazba daně | J32: Výše daně
D33: DPH | E33: základní | F33: =J30 -> 0 | I33: 0.21 | J33: =ROUND(((SUM(F33))*I33), 2) -> 0
E34: snížená | F34: =ROUND((SUM(AU84:AU113)), 2) -> 0 | I34: 0.12 | J34: =ROUND(((SUM(AU84:AU113))*I34), 2) -> 0
E35: zákl. přenesená | F35: =ROUND((SUM(AV84:AV113)), 2) -> 0 | I35: 0.21 | J35: =0 -> 0
E36: sníž. přenesená | F36: =ROUND((SUM(AW84:AW113)), 2) -> 0 | I36: 0.12 | J36: =0 -> 0
E37: nulová | F37: =ROUND((SUM(AX84:AX113)), 2) -> 0 | I37: 0 | J37: =0 -> 0
D39: Cena s DPH | G39: v | H39: CZK | J39: =SUM(J30:J37) -> 0
C45: REKAPITULACE ČLENĚNÍ SOUPISU PRACÍ
C47: Stavba:
E48: =E7 -> Městské koupaliště Štětí – WC, sprchy
C49: Objekt:
E50: =E9 -> VRN - Vedlejší rozpočtové náklady
C52: Místo: | F52: =F12 | I52: Datum: | J52: =IF(J12="","",J12) -> 46051
C54: Zadavatel: | F54: =E15 -> Město Štětí | I54: Projektant: | J54: =E21 -> Ing. Pavel Piskáček
C55: Zhotovitel: | F55: =IF(E18="","",E18) | I55: Zpracovatel: | J55: =E24 -> Ing. Pavel Piskáček
C57: Kód dílu - Popis | J57: Cena celkem [CZK]
C59: Náklady stavby celkem | J59: =J84 -> 0
D60: VRN - Vedlejší rozpočtové náklady | J60: =J85 -> 0
D61: VRN1 - Průzkumné, zeměměřičské a projektové práce | J61: =J86 -> 0
D62: VRN2 - Příprava staveniště | J62: =J93 -> 0
D63: VRN3 - Zařízení staveniště | J63: =J97 -> 0
D64: VRN4 - Inženýrská činnost | J64: =J110 -> 0
C71: SOUPIS PRACÍ
...

Sheet Pokyny pro vyplnění
C3: Struktura údajů, formát souboru a metodika pro zpracování
C4: Struktura
C6: Soubor je složen ze záložky Rekapitulace stavby a záložek s názvem soupisu prací pro jednotlivé objekty ve formátu XLSX. Každá ze záložek přitom obsahuje
C7: ještě samostatné sestavy vymezené orámovaním a nadpisem sestavy.
C9: Rekapitulace stavby obsahuje sestavu Rekapitulace stavby a Rekapitulace objektů stavby a soupisů prací.
D10: V sestavě Rekapitulace stavby jsou uvedeny informace identifikující předmět veřejné zakázky na stavební práce, KSO, CC-CZ, CZ-CPV, CZ-CPA a rekapitulaci
D11: celkové nabídkové ceny účastníka.
D13: Termínem "učastník" (resp. zhotovitel) se myslí "účastník zadávacího řízení" ve smyslu zákona o zadávání veřejných zakázek.
D15: V sestavě Rekapitulace objektů stavby a soupisů prací je uvedena rekapitulace stavebních objektů, inženýrských objektů, provozních souborů,
D16: vedlejších a ostatních nákladů a ostatních nákladů s rekapitulací nabídkové ceny za jednotlivé soupisy prací. Na základě údaje Typ je možné
D17: identifikovat, zda se jedná o objekt nebo soupis prací pro daný objekt:
E18: STA | F18: Stavební objekt pozemní
E19: ING | F19: Stavební objekt inženýrský
E20: PRO | F20: Provozní soubor
E21: VON | F21: Vedlejší a ostatní náklady
E22: OST | F22: Ostatní
E23: Soupis | F23: Soupis prací pro daný typ objektu
C25: Soupis prací pro jednotlivé objekty obsahuje sestavy Krycí list soupisu prací, Rekapitulace členění soupisu prací, Soupis prací. Za soupis prací může být považován
C26: i objekt stavby v případě, že neobsahuje podřízenou zakázku.
D27: Krycí list soupisu obsahuje rekapitulaci informací o předmětu veřejné zakázky ze sestavy Rekapitulace stavby, informaci o zařazení objektu do KSO,
D28: CC-CZ, CZ-CPV, CZ-CPA a rekapitulaci celkové nabídkové ceny účastníka za aktuální soupis prací.
D30: Rekapitulace členění soupisu prací obsahuje rekapitulaci soupisu prací ve všech úrovních členění soupisu tak, jak byla tato členění použita (např.
D31: stavební díly, funkční díly, případně jiné členění) s rekapitulací nabídkové ceny.
D33: Soupis prací obsahuje položky veškerých stavebních nebo montážních prací, dodávek materiálů a služeb nezbytných pro zhotovení stavebního objektu,
D34: inženýrského objektu, provozního souboru, vedlejších a ostatních nákladů.
D35: Pro položky soupisu prací se zobrazují následující informace:
E36: PČ | G36: Pořadové číslo položky v aktuálním soupisu
E37: TYP | G37: Typ položky: K - konstrukce, M - materiál, PP - plný popis, PSC - poznámka k souboru cen, P - poznámka k položce, VV - výkaz výměr, FIG - rozpad figur
E38: Kód | G38: Kód položky
E39: Popis | G39: Zkrácený popis položky
E40: MJ | G40: Měrná jednotka položky
E41: Množství | G41: Množství v měrné jednotce
E42: J.cena | G42: Jednotková cena položky. Zadaní může obsahovat namísto J.ceny sloupce J.materiál a J.montáž, jejichž součet definuje
G43: J.cenu položky.
E44: Cena celkem | G44: Celková cena položky daná jako součin množství a j.ceny
E45: Cenová soustava | G45: Příslušnost položky do cenové soustavy
D47: Ke každé položce soupisu prací se na samostatných řádcích může zobrazovat:
E48: Plný popis položky
E49: Poznámka k souboru cen a poznámka zadavatele
E50: Výkaz výměr
...
