Workbook
Name vorn_sum: VORN!$I$45

Sheet Stavební rozpočet
A1: Slepý stavební rozpočet | AS1: =SUM(AJ1:AJ2) | AT1: =SUM(AK1:AK2) | AU1: =SUM(AL1:AL2)
A2: Název stavby: | C2: ZLIV nad Mží - VODOVOD | E2: Doba výstavby: | G2: 153 dní | H2: Objednatel: | I2: Město Planá, náměstí Svobody 1, 348 15 Planá
A4: Druh stavby: | C4: Technická infrastruktura - Vodovod | E4: Začátek výstavby: | G4: 01.05.2025 | H4: Projektant: | I4: Václav Říha, Tuněchody 9, 34901 Stříbro
A6: Lokalita: | C6: Zliv nad Mží, SO-201 Přívodní řad Svahy - Zliv | E6: Konec výstavby: | G6: 30.09.2025 | H6: Zhotovitel:
A8: JKSO: | C8: 8271111 | E8: Zpracováno dne: | G8: 30.11.2024 | H8: Zpracoval: | I8: Václav Říha
A10: Č | B10: Kód | C10: Zkrácený popis | E10: MJ | F10: Množství | G10: Cena/MJ | H10: Náklady (Kč) | K10: Cenová | BK10: ISWORK | BL10: GROUPCODE | BW10: VATTAX
C11: Rozměry | G11: (Kč) | H11: Dodávka | I11: Montáž | J11: Celkem | K11: soustava | Z11: Přesuny | AA11: Typ skupiny | AB11: HSV mat | AC11: HSV prac | AD11: PSV mat | AE11: PSV prac | AF11: Mont mat | AG11: Mont prac | AH11: Ostatní mat. | BH11: MAT | BI11: WORK | BJ11: CELK
B12: 11 | C12: Přípravné a přidružené práce | H12: =SUM(H13:H16) | I12: =SUM(I13:I16) | J12: =SUM(J13:J16) | AS12: =SUM(AJ13:AJ16) | AT12: =SUM(AK13:AK16) | AU12: =SUM(AL13:AL16)
A13: 1 | B13: 115101201R00 | C13: Čerpání vody na výšku do 10 m, přítok do 500 l | E13: h | F13: 8 | G13: 0 | H13: =F13*AO13 | I13: =F13*AP13 | J13: =F13*G13 | K13: RTS II / 2024 | Z13: =IF(AQ13="5",BJ13,0) | AB13: =IF(AQ13="1",BH13,0) | AC13: =IF(AQ13="1",BI13,0) | AD13: =IF(AQ13="7",BH13,0) | AE13: =IF(AQ13="7",BI13,0) | AF13: =IF(AQ13="2",BH13,0) | AG13: =IF(AQ13="2",BI13,0) | AH13: =IF(AQ13="0",BJ13,0) | AJ13: =IF(AN13=0,J13,0) | AK13: =IF(AN13=12,J13,0) | AL13: =IF(AN13=21,J13,0) | AN13: 21 | AO13: =G13*0 | AP13: =G13*(1-0) | AQ13: 1 | AV13: =AW13+AX13 | AW13: =F13*AO13 | AX13: =F13*AP13 | AY13: 11_ | AZ13: 1_ | BA13: _ | BC13: =AW13+AX13 | BD13: =G13/(100-BE13)*100 | BE13: 0 | BF13: =13 | BH13: =F13*AO13 | BI13: =F13*AP13 | BJ13: =F13*G13 | BL13: 11 | BW13: 21 | BX13: Čerpání vody na výšku do 10 m, přítok do 500 l
A14: 2 | B14: 119001412R00 | C14: Dočasné zajištění vodovodního potrubí do DN 80 | E14: m | F14: 3 | G14: 0 | H14: =F14*AO14 | I14: =F14*AP14 | J14: =F14*G14 | K14: RTS II / 2024 | Z14: =IF(AQ14="5",BJ14,0) | AB14: =IF(AQ14="1",BH14,0) | AC14: =IF(AQ14="1",BI14,0) | AD14: =IF(AQ14="7",BH14,0) | AE14: =IF(AQ14="7",BI14,0) | AF14: =IF(AQ14="2",BH14,0) | AG14: =IF(AQ14="2",BI14,0) | AH14: =IF(AQ14="0",BJ14,0) | AJ14: =IF(AN14=0,J14,0) | AK14: =IF(AN14=12,J14,0) | AL14: =IF(AN14=21,J14,0) | AN14: 21 | AO14: =G14*0.244002525 | AP14: =G14*(1-0.244002525) | AQ14: 1 | AV14: =AW14+AX14 | AW14: =F14*AO14 | AX14: =F14*AP14 | AY14: 11_ | AZ14: 1_ | BA14: _ | BC14: =AW14+AX14 | BD14: =G14/(100-BE14)*100 | BE14: 0 | BF14: =14 | BH14: =F14*AO14 | BI14: =F14*AP14 | BJ14: =F14*G14 | BL14: 11 | BW14: 21 | BX14: Dočasné zajištění vodovodního potrubí do DN 80
A15: 3 | B15: 119001421R00 | C15: Dočasné zajištění kabelů - do počtu 3 kabelů | E15: m | F15: 3 | G15: 0 | H15: =F15*AO15 | I15: =F15*AP15 | J15: =F15*G15 | K15: RTS II / 2024 | Z15: =IF(AQ15="5",BJ15,0) | AB15: =IF(AQ15="1",BH15,0) | AC15: =IF(AQ15="1",BI15,0) | AD15: =IF(AQ15="7",BH15,0) | AE15: =IF(AQ15="7",BI15,0) | AF15: =IF(AQ15="2",BH15,0) | AG15: =IF(AQ15="2",BI15,0) | AH15: =IF(AQ15="0",BJ15,0) | AJ15: =IF(AN15=0,J15,0) | AK15: =IF(AN15=12,J15,0) | AL15: =IF(AN15=21,J15,0) | AN15: 21 | AO15: =G15*0.278084053 | AP15: =G15*(1-0.278084053) | AQ15: 1 | AV15: =AW15+AX15 | AW15: =F15*AO15 | AX15: =F15*AP15 | AY15: 11_ | AZ15: 1_ | BA15: _ | BC15: =AW15+AX15 | BD15: =G15/(100-BE15)*100 | BE15: 0 | BF15: =15 | BH15: =F15*AO15 | BI15: =F15*AP15 | BJ15: =F15*G15 | BL15: 11 | BW15: 21 | BX15: Dočasné zajištění kabelů - do počtu 3 kabelů
A16: 4 | B16: 113108315R00 | C16: Odstranění asfaltové vrstvy pl. do 50 m2, tl.15 cm | E16: m2 | F16: 2 | G16: 0 | H16: =F16*AO16 | I16: =F16*AP16 | J16: =F16*G16 | K16: RTS II / 2024 | Z16: =IF(AQ16="5",BJ16,0) | AB16: =IF(AQ16="1",BH16,0) | AC16: =IF(AQ16="1",BI16,0) | AD16: =IF(AQ16="7",BH16,0) | AE16: =IF(AQ16="7",BI16,0) | AF16: =IF(AQ16="2",BH16,0) | AG16: =IF(AQ16="2",BI16,0) | AH16: =IF(AQ16="0",BJ16,0) | AJ16: =IF(AN16=0,J16,0) | AK16: =IF(AN16=12,J16,0) | AL16: =IF(AN16=21,J16,0) | AN16: 21 | AO16: =G16*0 | AP16: =G16*(1-0) | AQ16: 1 | AV16: =AW16+AX16 | AW16: =F16*AO16 | AX16: =F16*AP16 | AY16: 11_ | AZ16: 1_ | BA16: _ | BC16: =AW16+AX16 | BD16: =G16/(100-BE16)*100 | BE16: 0 | BF16: =16 | BH16: =F16*AO16 | BI16: =F16*AP16 | BJ16: =F16*G16 | BL16: 11 | BW16: 21 | BX16: Odstranění asfaltové vrstvy pl. do 50 m2, tl.15 cm
B17: 12 | C17: Odkopávky a prokopávky | H17: =SUM(H18:H18) | I17: =SUM(I18:I18) | J17: =SUM(J18:J18) | AS17: =SUM(AJ18:AJ18) | AT17: =SUM(AK18:AK18) | AU17: =SUM(AL18:AL18)
A18: 5 | B18: 121101101R00 | C18: Sejmutí ornice s přemístěním do 50 m | E18: m3 | F18: 6 | G18: 0 | H18: =F18*AO18 | I18: =F18*AP18 | J18: =F18*G18 | K18: RTS II / 2024 | Z18: =IF(AQ18="5",BJ18,0) | AB18: =IF(AQ18="1",BH18,0) | AC18: =IF(AQ18="1",BI18,0) | AD18: =IF(AQ18="7",BH18,0) | AE18: =IF(AQ18="7",BI18,0) | AF18: =IF(AQ18="2",BH18,0) | AG18: =IF(AQ18="2",BI18,0) | AH18: =IF(AQ18="0",BJ18,0) | AJ18: =IF(AN18=0,J18,0) | AK18: =IF(AN18=12,J18,0) | AL18: =IF(AN18=21,J18,0) | AN18: 21 | AO18: =G18*0 | AP18: =G18*(1-0) | AQ18: 1 | AV18: =AW18+AX18 | AW18: =F18*AO18 | AX18: =F18*AP18 | AY18: 12_ | AZ18: 1_ | BA18: _ | BC18: =AW18+AX18 | BD18: =G18/(100-BE18)*100 | BE18: 0 | BF18: =18 | BH18: =F18*AO18 | BI18: =F18*AP18 | BJ18: =F18*G18 | BL18: 12 | BW18: 21 | BX18: Sejmutí ornice s přemístěním do 50 m
B19: 13 | C19: Hloubené vykopávky | H19: =SUM(H20:H22) | I19: =SUM(I20:I22) | J19: =SUM(J20:J22) | AS19: =SUM(AJ20:AJ22) | AT19: =SUM(AK20:AK22) | AU19: =SUM(AL20:AL22)
A20: 6 | B20: 133201102R00 | C20: Hloubení šachet v hor.3 nad 100 m3 - montážní šachty | E20: m3 | F20: 21.12 | G20: 0 | H20: =F20*AO20 | I20: =F20*AP20 | J20: =F20*G20 | K20: RTS II / 2024 | Z20: =IF(AQ20="5",BJ20,0) | AB20: =IF(AQ20="1",BH20,0) | AC20: =IF(AQ20="1",BI20,0) | AD20: =IF(AQ20="7",BH20,0) | AE20: =IF(AQ20="7",BI20,0) | AF20: =IF(AQ20="2",BH20,0) | AG20: =IF(AQ20="2",BI20,0) | AH20: =IF(AQ20="0",BJ20,0) | AJ20: =IF(AN20=0,J20,0) | AK20: =IF(AN20=12,J20,0) | AL20: =IF(AN20=21,J20,0) | AN20: 21 | AO20: =G20*0 | AP20: =G20*(1-0) | AQ20: 1 | AV20: =AW20+AX20 | AW20: =F20*AO20 | AX20: =F20*AP20 | AY20: 13_ | AZ20: 1_ | BA20: _ | BC20: =AW20+AX20 | BD20: =G20/(100-BE20)*100 | BE20: 0 | BF20: =20 | BH20: =F20*AO20 | BI20: =F20*AP20 | BJ20: =F20*G20 | BL20: 13 | BW20: 21 | BX20: Hloubení šachet v hor.3 nad 100 m3 - montážní šachty
A21: 7 | B21: 133301102R00 | C21: Hloubení šachet v hor.4 nad 100 m3 - montážní šachty | E21: m3 | F21: 31.68 | G21: 0 | H21: =F21*AO21 | I21: =F21*AP21 | J21: =F21*G21 | K21: RTS II / 2024 | Z21: =IF(AQ21="5",BJ21,0) | AB21: =IF(AQ21="1",BH21,0) | AC21: =IF(AQ21="1",BI21,0) | AD21: =IF(AQ21="7",BH21,0) | AE21: =IF(AQ21="7",BI21,0) | AF21: =IF(AQ21="2",BH21,0) | AG21: =IF(AQ21="2",BI21,0) | AH21: =IF(AQ21="0",BJ21,0) | AJ21: =IF(AN21=0,J21,0) | AK21: =IF(AN21=12,J21,0) | AL21: =IF(AN21=21,J21,0) | AN21: 21 | AO21: =G21*0 | AP21: =G21*(1-0) | AQ21: 1 | AV21: =AW21+AX21 | AW21: =F21*AO21 | AX21: =F21*AP21 | AY21: 13_ | AZ21: 1_ | BA21: _ | BC21: =AW21+AX21 | BD21: =G21/(100-BE21)*100 | BE21: 0 | BF21: =21 | BH21: =F21*AO21 | BI21: =F21*AP21 | BJ21: =F21*G21 | BL21: 13 | BW21: 21 | BX21: Hloubení šachet v hor.4 nad 100 m3 - montážní šachty
A22: 8 | B22: 130001101R00 | C22: Příplatek za ztížené hloubení v blízkosti vedení | E22: m3 | F22: 4.5 | G22: 0 | H22: =F22*AO22 | I22: =F22*AP22 | J22: =F22*G22 | K22: RTS II / 2024 | Z22: =IF(AQ22="5",BJ22,0) | AB22: =IF(AQ22="1",BH22,0) | AC22: =IF(AQ22="1",BI22,0) | AD22: =IF(AQ22="7",BH22,0) | AE22: =IF(AQ22="7",BI22,0) | AF22: =IF(AQ22="2",BH22,0) | AG22: =IF(AQ22="2",BI22,0) | AH22: =IF(AQ22="0",BJ22,0) | AJ22: =IF(AN22=0,J22,0) | AK22: =IF(AN22=12,J22,0) | AL22: =IF(AN22=21,J22,0) | AN22: 21 | AO22: =G22*0 | AP22: =G22*(1-0) | AQ22: 1 | AV22: =AW22+AX22 | AW22: =F22*AO22 | AX22: =F22*AP22 | AY22: 13_ | AZ22: 1_ | BA22: _ | BC22: =AW22+AX22 | BD22: =G22/(100-BE22)*100 | BE22: 0 | BF22: =22 | BH22: =F22*AO22 | BI22: =F22*AP22 | BJ22: =F22*G22 | BL22: 13 | BW22: 21 | BX22: Příplatek za ztížené hloubení v blízkosti vedení
B23: 14 | C23: Ražení a hloubení tunelářské | H23: =SUM(H24:H24) | I23: =SUM(I24:I24) | J23: =SUM(J24:J24) | AS23: =SUM(AJ24:AJ24) | AT23: =SUM(AK24:AK24) | AU23: =SUM(AL24:AL24)
A24: 9 | B24: 141721101R00 | C24: Řízené protlačení a vtažení PE d 75 mm, hor.1 - 4 | E24: m | F24: 1142 | G24: 0 | H24: =F24*AO24 | I24: =F24*AP24 | J24: =F24*G24 | K24: RTS II / 2024 | Z24: =IF(AQ24="5",BJ24,0) | AB24: =IF(AQ24="1",BH24,0) | AC24: =IF(AQ24="1",BI24,0) | AD24: =IF(AQ24="7",BH24,0) | AE24: =IF(AQ24="7",BI24,0) | AF24: =IF(AQ24="2",BH24,0) | AG24: =IF(AQ24="2",BI24,0) | AH24: =IF(AQ24="0",BJ24,0) | AJ24: =IF(AN24=0,J24,0) | AK24: =IF(AN24=12,J24,0) | AL24: =IF(AN24=21,J24,0) | AN24: 21 | AO24: =G24*0.008413223 | AP24: =G24*(1-0.008413223) | AQ24: 1 | AV24: =AW24+AX24 | AW24: =F24*AO24 | AX24: =F24*AP24 | AY24: 14_ | AZ24: 1_ | BA24: _ | BC24: =AW24+AX24 | BD24: =G24/(100-BE24)*100 | BE24: 0 | BF24: =24 | BH24: =F24*AO24 | BI24: =F24*AP24 | BJ24: =F24*G24 | BL24: 14 | BW24: 21 | BX24: Řízené protlačení a vtažení PE d 75 mm, hor.1 - 4
B25: 16 | C25: Přemístění výkopku | H25: =SUM(H26:H27) | I25: =SUM(I26:I27) | J25: =SUM(J26:J27) | AS25: =SUM(AJ26:AJ27) | AT25: =SUM(AK26:AK27) | AU25: =SUM(AL26:AL27)
A26: 10 | B26: 162701105R00 | C26: Vodorovné přemístění odstraněného asfaltu k recyklaci - do 10000 m | E26: m3 | F26: 0.3 | G26: 0 | H26: =F26*AO26 | I26: =F26*AP26 | J26: =F26*G26 | K26: RTS II / 2024 | Z26: =IF(AQ26="5",BJ26,0) | AB26: =IF(AQ26="1",BH26,0) | AC26: =IF(AQ26="1",BI26,0) | AD26: =IF(AQ26="7",BH26,0) | AE26: =IF(AQ26="7",BI26,0) | AF26: =IF(AQ26="2",BH26,0) | AG26: =IF(AQ26="2",BI26,0) | AH26: =IF(AQ26="0",BJ26,0) | AJ26: =IF(AN26=0,J26,0) | AK26: =IF(AN26=12,J26,0) | AL26: =IF(AN26=21,J26,0) | AN26: 21 | AO26: =G26*0 | AP26: =G26*(1-0) | AQ26: 1 | AV26: =AW26+AX26 | AW26: =F26*AO26 | AX26: =F26*AP26 | AY26: 16_ | AZ26: 1_ | BA26: _ | BC26: =AW26+AX26 | BD26: =G26/(100-BE26)*100 | BE26: 0 | BF26: =26 | BH26: =F26*AO26 | BI26: =F26*AP26 | BJ26: =F26*G26 | BL26: 16 | BW26: 21 | BX26: Vodorovné přemístění odstraněného asfaltu k recyklaci - do 10000 m
A27: 11 | B27: 162702199R00 | C27: Poplatek za recyklaci odstraněného asfaltového krytu | E27: t | F27: 0.75 | G27: 0 | H27: =F27*AO27 | I27: =F27*AP27 | J27: =F27*G27 | K27: RTS II / 2024 | Z27: =IF(AQ27="5",BJ27,0) | AB27: =IF(AQ27="1",BH27,0) | AC27: =IF(AQ27="1",BI27,0) | AD27: =IF(AQ27="7",BH27,0) | AE27: =IF(AQ27="7",BI27,0) | AF27: =IF(AQ27="2",BH27,0) | AG27: =IF(AQ27="2",BI27,0) | AH27: =IF(AQ27="0",BJ27,0) | AJ27: =IF(AN27=0,J27,0) | AK27: =IF(AN27=12,J27,0) | AL27: =IF(AN27=21,J27,0) | AN27: 21 | AO27: =G27*0 | AP27: =G27*(1-0) | AQ27: 1 | AV27: =AW27+AX27 | AW27: =F27*AO27 | AX27: =F27*AP27 | AY27: 16_ | AZ27: 1_ | BA27: _ | BC27: =AW27+AX27 | BD27: =G27/(100-BE27)*100 | BE27: 0 | BF27: =27 | BH27: =F27*AO27 | BI27: =F27*AP27 | BJ27: =F27*G27 | BL27: 16 | BW27: 21 | BX27: Poplatek za recyklaci odstraněného asfaltového krytu
B28: 17 | C28: Konstrukce ze zemin | H28: =SUM(H29:H30) | I28: =SUM(I29:I30) | J28: =SUM(J29:J30) | AS28: =SUM(AJ29:AJ30) | AT28: =SUM(AK29:AK30) | AU28: =SUM(AL29:AL30)
A29: 12 | B29: 174101101R00 | C29: Zásyp jam, rýh, šachet se zhutněním | E29: m3 | F29: 48.6 | G29: 0 | H29: =F29*AO29 | I29: =F29*AP29 | J29: =F29*G29 | K29: RTS II / 2024 | Z29: =IF(AQ29="5",BJ29,0) | AB29: =IF(AQ29="1",BH29,0) | AC29: =IF(AQ29="1",BI29,0) | AD29: =IF(AQ29="7",BH29,0) | AE29: =IF(AQ29="7",BI29,0) | AF29: =IF(AQ29="2",BH29,0) | AG29: =IF(AQ29="2",BI29,0) | AH29: =IF(AQ29="0",BJ29,0) | AJ29: =IF(AN29=0,J29,0) | AK29: =IF(AN29=12,J29,0) | AL29: =IF(AN29=21,J29,0) | AN29: 21 | AO29: =G29*0 | AP29: =G29*(1-0) | AQ29: 1 | AV29: =AW29+AX29 | AW29: =F29*AO29 | AX29: =F29*AP29 | AY29: 17_ | AZ29: 1_ | BA29: _ | BC29: =AW29+AX29 | BD29: =G29/(100-BE29)*100 | BE29: 0 | BF29: =29 | BH29: =F29*AO29 | BI29: =F29*AP29 | BJ29: =F29*G29 | BL29: 17 | BW29: 21 | BX29: Zásyp jam, rýh, šachet se zhutněním
A30: 13 | B30: 175101101R00 | C30: Obsyp potrubí bez prohození sypaniny | E30: m3 | F30: 2.8 | G30: 0 | H30: =F30*AO30 | I30: =F30*AP30 | J30: =F30*G30 | K30: RTS II / 2024 | Z30: =IF(AQ30="5",BJ30,0) | AB30: =IF(AQ30="1",BH30,0) | AC30: =IF(AQ30="1",BI30,0) | AD30: =IF(AQ30="7",BH30,0) | AE30: =IF(AQ30="7",BI30,0) | AF30: =IF(AQ30="2",BH30,0) | AG30: =IF(AQ30="2",BI30,0) | AH30: =IF(AQ30="0",BJ30,0) | AJ30: =IF(AN30=0,J30,0) | AK30: =IF(AN30=12,J30,0) | AL30: =IF(AN30=21,J30,0) | AN30: 21 | AO30: =G30*0 | AP30: =G30*(1-0) | AQ30: 1 | AV30: =AW30+AX30 | AW30: =F30*AO30 | AX30: =F30*AP30 | AY30: 17_ | AZ30: 1_ | BA30: _ | BC30: =AW30+AX30 | BD30: =G30/(100-BE30)*100 | BE30: 0 | BF30: =30 | BH30: =F30*AO30 | BI30: =F30*AP30 | BJ30: =F30*G30 | BL30: 17 | BW30: 21 | BX30: Obsyp potrubí bez prohození sypaniny
B31: 18 | C31: Povrchové úpravy terénu | H31: =SUM(H32:H34) | I31: =SUM(I32:I34) | J31: =SUM(J32:J34) | AS31: =SUM(AJ32:AJ34) | AT31: =SUM(AK32:AK34) | AU31: =SUM(AL32:AL34)
A32: 14 | B32: 181301113R00 | C32: Rozprostření ornice, rovina, tl.15-20 cm,nad 500m2 | E32: m2 | F32: 40 | G32: 0 | H32: =F32*AO32 | I32: =F32*AP32 | J32: =F32*G32 | K32: RTS II / 2024 | Z32: =IF(AQ32="5",BJ32,0) | AB32: =IF(AQ32="1",BH32,0) | AC32: =IF(AQ32="1",BI32,0) | AD32: =IF(AQ32="7",BH32,0) | AE32: =IF(AQ32="7",BI32,0) | AF32: =IF(AQ32="2",BH32,0) | AG32: =IF(AQ32="2",BI32,0) | AH32: =IF(AQ32="0",BJ32,0) | AJ32: =IF(AN32=0,J32,0) | AK32: =IF(AN32=12,J32,0) | AL32: =IF(AN32=21,J32,0) | AN32: 21 | AO32: =G32*0 | AP32: =G32*(1-0) | AQ32: 1 | AV32: =AW32+AX32 | AW32: =F32*AO32 | AX32: =F32*AP32 | AY32: 18_ | AZ32: 1_ | BA32: _ | BC32: =AW32+AX32 | BD32: =G32/(100-BE32)*100 | BE32: 0 | BF32: =32 | BH32: =F32*AO32 | BI32: =F32*AP32 | BJ32: =F32*G32 | BL32: 18 | BW32: 21 | BX32: Rozprostření ornice, rovina, tl.15-20 cm,nad 500m2
A33: 15 | B33: 180401211R00 | C33: Založení trávníku lučního výsevem v rovině | E33: m2 | F33: 40 | G33: 0 | H33: =F33*AO33 | I33: =F33*AP33 | J33: =F33*G33 | K33: RTS II / 2024 | Z33: =IF(AQ33="5",BJ33,0) | AB33: =IF(AQ33="1",BH33,0) | AC33: =IF(AQ33="1",BI33,0) | AD33: =IF(AQ33="7",BH33,0) | AE33: =IF(AQ33="7",BI33,0) | AF33: =IF(AQ33="2",BH33,0) | AG33: =IF(AQ33="2",BI33,0) | AH33: =IF(AQ33="0",BJ33,0) | AJ33: =IF(AN33=0,J33,0) | AK33: =IF(AN33=12,J33,0) | AL33: =IF(AN33=21,J33,0) | AN33: 21 | AO33: =G33*0.068199841 | AP33: =G33*(1-0.068199841) | AQ33: 1 | AV33: =AW33+AX33 | AW33: =F33*AO33 | AX33: =F33*AP33 | AY33: 18_ | AZ33: 1_ | BA33: _ | BC33: =AW33+AX33 | BD33: =G33/(100-BE33)*100 | BE33: 0 | BF33: =33 | BH33: =F33*AO33 | BI33: =F33*AP33 | BJ33: =F33*G33 | BL33: 18 | BW33: 21 | BX33: Založení trávníku lučního výsevem v rovině
A34: 16 | B34: 181006114R00 | C34: Rozprostření zemin v rov./sklonu 1:5, tl. do 30 cm - přebytek zeminy | E34: m2 | F34: 21 | G34: 0 | H34: =F34*AO34 | I34: =F34*AP34 | J34: =F34*G34 | K34: RTS II / 2024 | Z34: =IF(AQ34="5",BJ34,0) | AB34: =IF(AQ34="1",BH34,0) | AC34: =IF(AQ34="1",BI34,0) | AD34: =IF(AQ34="7",BH34,0) | AE34: =IF(AQ34="7",BI34,0) | AF34: =IF(AQ34="2",BH34,0) | AG34: =IF(AQ34="2",BI34,0) | AH34: =IF(AQ34="0",BJ34,0) | AJ34: =IF(AN34=0,J34,0) | AK34: =IF(AN34=12,J34,0) | AL34: =IF(AN34=21,J34,0) | AN34: 21 | AO34: =G34*0 | AP34: =G34*(1-0) | AQ34: 1 | AV34: =AW34+AX34 | AW34: =F34*AO34 | AX34: =F34*AP34 | AY34: 18_ | AZ34: 1_ | BA34: _ | BC34: =AW34+AX34 | BD34: =G34/(100-BE34)*100 | BE34: 0 | BF34: =34 | BH34: =F34*AO34 | BI34: =F34*AP34 | BJ34: =F34*G34 | BL34: 18 | BW34: 21 | BX34: Rozprostření zemin v rov./sklonu 1:5, tl. do 30 cm - přebytek zeminy
B35: 45 | C35: Podkladní a vedlejší konstrukce (inženýr. stavby kromě vozovek a železnič. svršku) | H35: =SUM(H36:H37) | I35: =SUM(I36:I37) | J35: =SUM(J36:J37) | AS35: =SUM(AJ36:AJ37) | AT35: =SUM(AK36:AK37) | AU35: =SUM(AL36:AL37)
A36: 17 | B36: 451572111R00 | C36: Lože pod potrubí z kameniva těženého 0 - 4 mm | E36: m3 | F36: 1.4 | G36: 0 | H36: =F36*AO36 | I36: =F36*AP36 | J36: =F36*G36 | K36: RTS II / 2024 | Z36: =IF(AQ36="5",BJ36,0) | AB36: =IF(AQ36="1",BH36,0) | AC36: =IF(AQ36="1",BI36,0) | AD36: =IF(AQ36="7",BH36,0) | AE36: =IF(AQ36="7",BI36,0) | AF36: =IF(AQ36="2",BH36,0) | AG36: =IF(AQ36="2",BI36,0) | AH36: =IF(AQ36="0",BJ36,0) | AJ36: =IF(AN36=0,J36,0) | AK36: =IF(AN36=12,J36,0) | AL36: =IF(AN36=21,J36,0) | AN36: 21 | AO36: =G36*0.467115987 | AP36: =G36*(1-0.467115987) | AQ36: 1 | AV36: =AW36+AX36 | AW36: =F36*AO36 | AX36: =F36*AP36 | AY36: 45_ | AZ36: 4_ | BA36: _ | BC36: =AW36+AX36 | BD36: =G36/(100-BE36)*100 | BE36: 0 | BF36: =36 | BH36: =F36*AO36 | BI36: =F36*AP36 | BJ36: =F36*G36 | BL36: 45 | BW36: 21 | BX36: Lože pod potrubí z kameniva těženého 0 - 4 mm
A37: 18 | B37: 451535111R00 | C37: Podkladní vrstva šachet tl. do 25 cm ze štěrkodrti 16/32 | E37: m3 | F37: 1.01 | G37: 0 | H37: =F37*AO37 | I37: =F37*AP37 | J37: =F37*G37 | K37: RTS II / 2024 | Z37: =IF(AQ37="5",BJ37,0) | AB37: =IF(AQ37="1",BH37,0) | AC37: =IF(AQ37="1",BI37,0) | AD37: =IF(AQ37="7",BH37,0) | AE37: =IF(AQ37="7",BI37,0) | AF37: =IF(AQ37="2",BH37,0) | AG37: =IF(AQ37="2",BI37,0) | AH37: =IF(AQ37="0",BJ37,0) | AJ37: =IF(AN37=0,J37,0) | AK37: =IF(AN37=12,J37,0) | AL37: =IF(AN37=21,J37,0) | AN37: 21 | AO37: =G37*0.655940722 | AP37: =G37*(1-0.655940722) | AQ37: 1 | AV37: =AW37+AX37 | AW37: =F37*AO37 | AX37: =F37*AP37 | AY37: 45_ | AZ37: 4_ | BA37: _ | BC37: =AW37+AX37 | BD37: =G37/(100-BE37)*100 | BE37: 0 | BF37: =37 | BH37: =F37*AO37 | BI37: =F37*AP37 | BJ37: =F37*G37 | BL37: 45 | BW37: 21 | BX37: Podkladní vrstva šachet tl. do 25 cm ze štěrkodrti 16/32
B38: 56 | C38: Podkladní vrstvy komunikací, letišť a ploch | H38: =SUM(H39:H40) | I38: =SUM(I39:I40) | J38: =SUM(J39:J40) | AS38: =SUM(AJ39:AJ40) | AT38: =SUM(AK39:AK40) | AU38: =SUM(AL39:AL40)
A39: 19 | B39: 564861111RT4 | C39: Podklad ze štěrkodrti 0/63 mm po zhutnění tloušťky 20 cm - oprava výkopů | E39: m2 | F39: 2 | G39: 0 | H39: =F39*AO39 | I39: =F39*AP39 | J39: =F39*G39 | K39: RTS II / 2024 | Z39: =IF(AQ39="5",BJ39,0) | AB39: =IF(AQ39="1",BH39,0) | AC39: =IF(AQ39="1",BI39,0) | AD39: =IF(AQ39="7",BH39,0) | AE39: =IF(AQ39="7",BI39,0) | AF39: =IF(AQ39="2",BH39,0) | AG39: =IF(AQ39="2",BI39,0) | AH39: =IF(AQ39="0",BJ39,0) | AJ39: =IF(AN39=0,J39,0) | AK39: =IF(AN39=12,J39,0) | AL39: =IF(AN39=21,J39,0) | AN39: 21 | AO39: =G39*0.844923027 | AP39: =G39*(1-0.844923027) | AQ39: 1 | AV39: =AW39+AX39 | AW39: =F39*AO39 | AX39: =F39*AP39 | AY39: 56_ | AZ39: 5_ | BA39: _ | BC39: =AW39+AX39 | BD39: =G39/(100-BE39)*100 | BE39: 0 | BF39: =39 | BH39: =F39*AO39 | BI39: =F39*AP39 | BJ39: =F39*G39 | BL39: 56 | BW39: 21 | BX39: Podklad ze štěrkodrti 0/63 mm po zhutnění tloušťky 20 cm - oprava výkopů
A40: 20 | B40: 567122114R00 | C40: Podklad z kameniva zpev.cementem SC C8/10 tl.15 cm | E40: m2 | F40: 2 | G40: 0 | H40: =F40*AO40 | I40: =F40*AP40 | J40: =F40*G40 | K40: RTS II / 2024 | Z40: =IF(AQ40="5",BJ40,0) | AB40: =IF(AQ40="1",BH40,0) | AC40: =IF(AQ40="1",BI40,0) | AD40: =IF(AQ40="7",BH40,0) | AE40: =IF(AQ40="7",BI40,0) | AF40: =IF(AQ40="2",BH40,0) | AG40: =IF(AQ40="2",BI40,0) | AH40: =IF(AQ40="0",BJ40,0) | AJ40: =IF(AN40=0,J40,0) | AK40: =IF(AN40=12,J40,0) | AL40: =IF(AN40=21,J40,0) | AN40: 21 | AO40: =G40*0.908647126 | AP40: =G40*(1-0.908647126) | AQ40: 1 | AV40: =AW40+AX40 | AW40: =F40*AO40 | AX40: =F40*AP40 | AY40: 56_ | AZ40: 5_ | BA40: _ | BC40: =AW40+AX40 | BD40: =G40/(100-BE40)*100 | BE40: 0 | BF40: =40 | BH40: =F40*AO40 | BI40: =F40*AP40 | BJ40: =F40*G40 | BL40: 56 | BW40: 21 | BX40: Podklad z kameniva zpev.cementem SC C8/10 tl.15 cm
B41: 57 | C41: Kryty pozemních komunikací, letišť a ploch z kameniva nebo živičné | H41: =SUM(H42:H43) | I41: =SUM(I42:I43) | J41: =SUM(J42:J43) | AS41: =SUM(AJ42:AJ43) | AT41: =SUM(AK42:AK43) | AU41: =SUM(AL42:AL43)
A42: 21 | B42: 577141112R00 | C42: Beton asfalt. ACO 11+,nebo ACO 16+,do 3 m, tl.5 cm | E42: m2 | F42: 3 | G42: 0 | H42: =F42*AO42 | I42: =F42*AP42 | J42: =F42*G42 | K42: RTS II / 2024 | Z42: =IF(AQ42="5",BJ42,0) | AB42: =IF(AQ42="1",BH42,0) | AC42: =IF(AQ42="1",BI42,0) | AD42: =IF(AQ42="7",BH42,0) | AE42: =IF(AQ42="7",BI42,0) | AF42: =IF(AQ42="2",BH42,0) | AG42: =IF(AQ42="2",BI42,0) | AH42: =IF(AQ42="0",BJ42,0) | AJ42: =IF(AN42=0,J42,0) | AK42: =IF(AN42=12,J42,0) | AL42: =IF(AN42=21,J42,0) | AN42: 21 | AO42: =G42*0.785733333 | AP42: =G42*(1-0.785733333) | AQ42: 1 | AV42: =AW42+AX42 | AW42: =F42*AO42 | AX42: =F42*AP42 | AY42: 57_ | AZ42: 5_ | BA42: _ | BC42: =AW42+AX42 | BD42: =G42/(100-BE42)*100 | BE42: 0 | BF42: =42 | BH42: =F42*AO42 | BI42: =F42*AP42 | BJ42: =F42*G42 | BL42: 57 | BW42: 21 | BX42: Beton asfalt. ACO 11+,nebo ACO 16+,do 3 m, tl.5 cm
A43: 22 | B43: 577161224R00 | C43: Beton asfalt. ACL 22 ložný, š. do 3 m, tl. 7 cm | E43: m2 | F43: 2 | G43: 0 | H43: =F43*AO43 | I43: =F43*AP43 | J43: =F43*G43 | K43: RTS II / 2024 | Z43: =IF(AQ43="5",BJ43,0) | AB43: =IF(AQ43="1",BH43,0) | AC43: =IF(AQ43="1",BI43,0) | AD43: =IF(AQ43="7",BH43,0) | AE43: =IF(AQ43="7",BI43,0) | AF43: =IF(AQ43="2",BH43,0) | AG43: =IF(AQ43="2",BI43,0) | AH43: =IF(AQ43="0",BJ43,0) | AJ43: =IF(AN43=0,J43,0) | AK43: =IF(AN43=12,J43,0) | AL43: =IF(AN43=21,J43,0) | AN43: 21 | AO43: =G43*0.815372544 | AP43: =G43*(1-0.815372544) | AQ43: 1 | AV43: =AW43+AX43 | AW43: =F43*AO43 | AX43: =F43*AP43 | AY43: 57_ | AZ43: 5_ | BA43: _ | BC43: =AW43+AX43 | BD43: =G43/(100-BE43)*100 | BE43: 0 | BF43: =43 | BH43: =F43*AO43 | BI43: =F43*AP43 | BJ43: =F43*G43 | BL43: 57 | BW43: 21 | BX43: Beton asfalt. ACL 22 ložný, š. do 3 m, tl. 7 cm
B44: 722 | C44: Vnitřní vodovod | H44: =SUM(H45:H45) | I44: =SUM(I45:I45) | J44: =SUM(J45:J45) | AS44: =SUM(AJ45:AJ45) | AT44: =SUM(AK45:AK45) | AU44: =SUM(AL45:AL45)
A45: 23 | B45: 722175327R00 | C45: Montáž trubního vystrojení šachty VŠ-1, včetně drobn. mont. materiálu | E45: kus | F45: 1 | G45: 0 | H45: =F45*AO45 | I45: =F45*AP45 | J45: =F45*G45 | K45: RTS II / 2024 | Z45: =IF(AQ45="5",BJ45,0) | AB45: =IF(AQ45="1",BH45,0) | AC45: =IF(AQ45="1",BI45,0) | AD45: =IF(AQ45="7",BH45,0) | AE45: =IF(AQ45="7",BI45,0) | AF45: =IF(AQ45="2",BH45,0) | AG45: =IF(AQ45="2",BI45,0) | AH45: =IF(AQ45="0",BJ45,0) | AJ45: =IF(AN45=0,J45,0) | AK45: =IF(AN45=12,J45,0) | AL45: =IF(AN45=21,J45,0) | AN45: 21 | AO45: =G45*0.013314448 | AP45: =G45*(1-0.013314448) | AQ45: 7 | AV45: =AW45+AX45 | AW45: =F45*AO45 | AX45: =F45*AP45 | AY45: 722_ | AZ45: 72_ | BA45: _ | BC45: =AW45+AX45 | BD45: =G45/(100-BE45)*100 | BE45: 0 | BF45: =45 | BH45: =F45*AO45 | BI45: =F45*AP45 | BJ45: =F45*G45 | BL45: 722 | BW45: 21 | BX45: Montáž trubního vystrojení šachty VŠ-1, včetně drobn. mont. materiálu
B46: 767 | C46: Konstrukce doplňkové stavební (zámečnické) | H46: =SUM(H47:H47) | I46: =SUM(I47:I47) | J46: =SUM(J47:J47) | AS46: =SUM(AJ47:AJ47) | AT46: =SUM(AK47:AK47) | AU46: =SUM(AL47:AL47)
A47: 24 | B47: 767822201R00 | C47: Montáž žebříku na vstupu šachty VŠ-1, včetně dodávky | E47: kus | F47: 1 | G47: 0 | H47: =F47*AO47 | I47: =F47*AP47 | J47: =F47*G47 | K47: RTS II / 2024 | Z47: =IF(AQ47="5",BJ47,0) | AB47: =IF(AQ47="1",BH47,0) | AC47: =IF(AQ47="1",BI47,0) | AD47: =IF(AQ47="7",BH47,0) | AE47: =IF(AQ47="7",BI47,0) | AF47: =IF(AQ47="2",BH47,0) | AG47: =IF(AQ47="2",BI47,0) | AH47: =IF(AQ47="0",BJ47,0) | AJ47: =IF(AN47=0,J47,0) | AK47: =IF(AN47=12,J47,0) | AL47: =IF(AN47=21,J47,0) | AN47: 21 | AO47: =G47*0.130063034 | AP47: =G47*(1-0.130063034) | AQ47: 7 | AV47: =AW47+AX47 | AW47: =F47*AO47 | AX47: =F47*AP47 | AY47: 767_ | AZ47: 76_ | BA47: _ | BC47: =AW47+AX47 | BD47: =G47/(100-BE47)*100 | BE47: 0 | BF47: =47 | BH47: =F47*AO47 | BI47: =F47*AP47 | BJ47: =F47*G47 | BL47: 767 | BW47: 21 | BX47: Montáž žebříku na vstupu šachty VŠ-1, včetně dodávky
B48: 85 | C48: Potrubí z trub litinových | H48: =SUM(H49:H50) | I48: =SUM(I49:I50) | J48: =SUM(J49:J50) | AS48: =SUM(AJ49:AJ50) | AT48: =SUM(AK49:AK50) | AU48: =SUM(AL49:AL50)
A49: 25 | B49: 857242121R00 | C49: Montáž tvarovek litin. jednoos.přír. výkop DN 50-80 | E49: kus | F49: 6 | G49: 0 | H49: =F49*AO49 | I49: =F49*AP49 | J49: =F49*G49 | K49: RTS II / 2024 | Z49: =IF(AQ49="5",BJ49,0) | AB49: =IF(AQ49="1",BH49,0) | AC49: =IF(AQ49="1",BI49,0) | AD49: =IF(AQ49="7",BH49,0) | AE49: =IF(AQ49="7",BI49,0) | AF49: =IF(AQ49="2",BH49,0) | AG49: =IF(AQ49="2",BI49,0) | AH49: =IF(AQ49="0",BJ49,0) | AJ49: =IF(AN49=0,J49,0) | AK49: =IF(AN49=12,J49,0) | AL49: =IF(AN49=21,J49,0) | AN49: 21 | AO49: =G49*0.163862333 | AP49: =G49*(1-0.163862333) | AQ49: 1 | AV49: =AW49+AX49 | AW49: =F49*AO49 | AX49: =F49*AP49 | AY49: 85_ | AZ49: 8_ | BA49: _ | BC49: =AW49+AX49 | BD49: =G49/(100-BE49)*100 | BE49: 0 | BF49: =49 | BH49: =F49*AO49 | BI49: =F49*AP49 | BJ49: =F49*G49 | BL49: 85 | BW49: 21 | BX49: Montáž tvarovek litin. jednoos.přír. výkop DN 50-80
A50: 26 | B50: 857244121R00 | C50: Montáž tvarovek litin. odboč. přír. výkop DN 50-80 | E50: kus | F50: 3 | G50: 0 | H50: =F50*AO50 | I50: =F50*AP50 | J50: =F50*G50 | K50: RTS II / 2024 | Z50: =IF(AQ50="5",BJ50,0) | AB50: =IF(AQ50="1",BH50,0) | AC50: =IF(AQ50="1",BI50,0) | AD50: =IF(AQ50="7",BH50,0) | AE50: =IF(AQ50="7",BI50,0) | AF50: =IF(AQ50="2",BH50,0) | AG50: =IF(AQ50="2",BI50,0) | AH50: =IF(AQ50="0",BJ50,0) | AJ50: =IF(AN50=0,J50,0) | AK50: =IF(AN50=12,J50,0) | AL50: =IF(AN50=21,J50,0) | AN50: 21 | AO50: =G50*0.169828269 | AP50: =G50*(1-0.169828269) | AQ50: 1 | AV50: =AW50+AX50 | AW50: =F50*AO50 | AX50: =F50*AP50 | AY50: 85_ | AZ50: 8_ | BA50: _ | BC50: =AW50+AX50 | BD50: =G50/(100-BE50)*100 | BE50: 0 | BF50: =50 | BH50: =F50*AO50 | BI50: =F50*AP50 | BJ50: =F50*G50 | BL50: 85 | BW50: 21 | BX50: Montáž tvarovek litin. odboč. přír. výkop DN 50-80
B51: 89 | C51: Ostatní konstrukce | H51: =SUM(H52:H63) | I51: =SUM(I52:I63) | J51: =SUM(J52:J63) | AS51: =SUM(AJ52:AJ63) | AT51: =SUM(AK52:AK63) | AU51: =SUM(AL52:AL63)
A52: 27 | B52: 891211221R00 | C52: Montáž vodovod. šoupátek šacht. kolečko DN 50 | E52: kus | F52: 1 | G52: 0 | H52: =F52*AO52 | I52: =F52*AP52 | J52: =F52*G52 | K52: RTS II / 2024 | Z52: =IF(AQ52="5",BJ52,0) | AB52: =IF(AQ52="1",BH52,0) | AC52: =IF(AQ52="1",BI52,0) | AD52: =IF(AQ52="7",BH52,0) | AE52: =IF(AQ52="7",BI52,0) | AF52: =IF(AQ52="2",BH52,0) | AG52: =IF(AQ52="2",BI52,0) | AH52: =IF(AQ52="0",BJ52,0) | AJ52: =IF(AN52=0,J52,0) | AK52: =IF(AN52=12,J52,0) | AL52: =IF(AN52=21,J52,0) | AN52: 21 | AO52: =G52*0.138385923 | AP52: =G52*(1-0.138385923) | AQ52: 1 | AV52: =AW52+AX52 | AW52: =F52*AO52 | AX52: =F52*AP52 | AY52: 89_ | AZ52: 8_ | BA52: _ | BC52: =AW52+AX52 | BD52: =G52/(100-BE52)*100 | BE52: 0 | BF52: =52 | BH52: =F52*AO52 | BI52: =F52*AP52 | BJ52: =F52*G52 | BL52: 89 | BW52: 21 | BX52: Montáž vodovod. šoupátek šacht. kolečko DN 50
A53: 28 | B53: 891231221R00 | C53: Montáž vodovod. šoupátek šacht. kolečko DN 65 | E53: kus | F53: 1 | G53: 0 | H53: =F53*AO53 | I53: =F53*AP53 | J53: =F53*G53 | K53: RTS II / 2024 | Z53: =IF(AQ53="5",BJ53,0) | AB53: =IF(AQ53="1",BH53,0) | AC53: =IF(AQ53="1",BI53,0) | AD53: =IF(AQ53="7",BH53,0) | AE53: =IF(AQ53="7",BI53,0) | AF53: =IF(AQ53="2",BH53,0) | AG53: =IF(AQ53="2",BI53,0) | AH53: =IF(AQ53="0",BJ53,0) | AJ53: =IF(AN53=0,J53,0) | AK53: =IF(AN53=12,J53,0) | AL53: =IF(AN53=21,J53,0) | AN53: 21 | AO53: =G53*0.136276355 | AP53: =G53*(1-0.136276355) | AQ53: 1 | AV53: =AW53+AX53 | AW53: =F53*AO53 | AX53: =F53*AP53 | AY53: 89_ | AZ53: 8_ | BA53: _ | BC53: =AW53+AX53 | BD53: =G53/(100-BE53)*100 | BE53: 0 | BF53: =53 | BH53: =F53*AO53 | BI53: =F53*AP53 | BJ53: =F53*G53 | BL53: 89 | BW53: 21 | BX53: Montáž vodovod. šoupátek šacht. kolečko DN 65
A54: 29 | B54: 891231111R00 | C54: Montáž vodovodních šoupátek ve výkopu DN 65 | E54: kus | F54: 3 | G54: 0 | H54: =F54*AO54 | I54: =F54*AP54 | J54: =F54*G54 | K54: RTS II / 2024 | Z54: =IF(AQ54="5",BJ54,0) | AB54: =IF(AQ54="1",BH54,0) | AC54: =IF(AQ54="1",BI54,0) | AD54: =IF(AQ54="7",BH54,0) | AE54: =IF(AQ54="7",BI54,0) | AF54: =IF(AQ54="2",BH54,0) | AG54: =IF(AQ54="2",BI54,0) | AH54: =IF(AQ54="0",BJ54,0) | AJ54: =IF(AN54=0,J54,0) | AK54: =IF(AN54=12,J54,0) | AL54: =IF(AN54=21,J54,0) | AN54: 21 | AO54: =G54*0.077076098 | AP54: =G54*(1-0.077076098) | AQ54: 1 | AV54: =AW54+AX54 | AW54: =F54*AO54 | AX54: =F54*AP54 | AY54: 89_ | AZ54: 8_ | BA54: _ | BC54: =AW54+AX54 | BD54: =G54/(100-BE54)*100 | BE54: 0 | BF54: =54 | BH54: =F54*AO54 | BI54: =F54*AP54 | BJ54: =F54*G54 | BL54: 89 | BW54: 21 | BX54: Montáž vodovodních šoupátek ve výkopu DN 65
A55: 30 | B55: 891247111R00 | C55: Montáž hydrantů podzemních DN 80 | E55: kus | F55: 3 | G55: 0 | H55: =F55*AO55 | I55: =F55*AP55 | J55: =F55*G55 | K55: RTS II / 2024 | Z55: =IF(AQ55="5",BJ55,0) | AB55: =IF(AQ55="1",BH55,0) | AC55: =IF(AQ55="1",BI55,0) | AD55: =IF(AQ55="7",BH55,0) | AE55: =IF(AQ55="7",BI55,0) | AF55: =IF(AQ55="2",BH55,0) | AG55: =IF(AQ55="2",BI55,0) | AH55: =IF(AQ55="0",BJ55,0) | AJ55: =IF(AN55=0,J55,0) | AK55: =IF(AN55=12,J55,0) | AL55: =IF(AN55=21,J55,0) | AN55: 21 | AO55: =G55*0.08141649 | AP55: =G55*(1-0.08141649) | AQ55: 1 | AV55: =AW55+AX55 | AW55: =F55*AO55 | AX55: =F55*AP55 | AY55: 89_ | AZ55: 8_ | BA55: _ | BC55: =AW55+AX55 | BD55: =G55/(100-BE55)*100 | BE55: 0 | BF55: =55 | BH55: =F55*AO55 | BI55: =F55*AP55 | BJ55: =F55*G55 | BL55: 89 | BW55: 21 | BX55: Montáž hydrantů podzemních DN 80
A56: 31 | B56: 899401112R00 | C56: Osazení poklopů litinových šoupátkových | E56: kus | F56: 3 | G56: 0 | H56: =F56*AO56 | I56: =F56*AP56 | J56: =F56*G56 | K56: RTS II / 2024 | Z56: =IF(AQ56="5",BJ56,0) | AB56: =IF(AQ56="1",BH56,0) | AC56: =IF(AQ56="1",BI56,0) | AD56: =IF(AQ56="7",BH56,0) | AE56: =IF(AQ56="7",BI56,0) | AF56: =IF(AQ56="2",BH56,0) | AG56: =IF(AQ56="2",BI56,0) | AH56: =IF(AQ56="0",BJ56,0) | AJ56: =IF(AN56=0,J56,0) | AK56: =IF(AN56=12,J56,0) | AL56: =IF(AN56=21,J56,0) | AN56: 21 | AO56: =G56*0.397211896 | AP56: =G56*(1-0.397211896) | AQ56: 1 | AV56: =AW56+AX56 | AW56: =F56*AO56 | AX56: =F56*AP56 | AY56: 89_ | AZ56: 8_ | BA56: _ | BC56: =AW56+AX56 | BD56: =G56/(100-BE56)*100 | BE56: 0 | BF56: =56 | BH56: =F56*AO56 | BI56: =F56*AP56 | BJ56: =F56*G56 | BL56: 89 | BW56: 21 | BX56: Osazení poklopů litinových šoupátkových
A57: 32 | B57: 899401113R00 | C57: Osazení poklopů litinových hydrantových | E57: kus | F57: 3 | G57: 0 | H57: =F57*AO57 | I57: =F57*AP57 | J57: =F57*G57 | K57: RTS II / 2024 | Z57: =IF(AQ57="5",BJ57,0) | AB57: =IF(AQ57="1",BH57,0) | AC57: =IF(AQ57="1",BI57,0) | AD57: =IF(AQ57="7",BH57,0) | AE57: =IF(AQ57="7",BI57,0) | AF57: =IF(AQ57="2",BH57,0) | AG57: =IF(AQ57="2",BI57,0) | AH57: =IF(AQ57="0",BJ57,0) | AJ57: =IF(AN57=0,J57,0) | AK57: =IF(AN57=12,J57,0) | AL57: =IF(AN57=21,J57,0) | AN57: 21 | AO57: =G57*0.56169515 | AP57: =G57*(1-0.56169515) | AQ57: 1 | AV57: =AW57+AX57 | AW57: =F57*AO57 | AX57: =F57*AP57 | AY57: 89_ | AZ57: 8_ | BA57: _ | BC57: =AW57+AX57 | BD57: =G57/(100-BE57)*100 | BE57: 0 | BF57: =57 | BH57: =F57*AO57 | BI57: =F57*AP57 | BJ57: =F57*G57 | BL57: 89 | BW57: 21 | BX57: Osazení poklopů litinových hydrantových
A58: 33 | B58: 892241111R00 | C58: Tlaková zkouška vodovodního potrubí DN 65 | E58: m | F58: 1142 | G58: 0 | H58: =F58*AO58 | I58: =F58*AP58 | J58: =F58*G58 | K58: RTS II / 2024 | Z58: =IF(AQ58="5",BJ58,0) | AB58: =IF(AQ58="1",BH58,0) | AC58: =IF(AQ58="1",BI58,0) | AD58: =IF(AQ58="7",BH58,0) | AE58: =IF(AQ58="7",BI58,0) | AF58: =IF(AQ58="2",BH58,0) | AG58: =IF(AQ58="2",BI58,0) | AH58: =IF(AQ58="0",BJ58,0) | AJ58: =IF(AN58=0,J58,0) | AK58: =IF(AN58=12,J58,0) | AL58: =IF(AN58=21,J58,0) | AN58: 21 | AO58: =G58*0.024050192 | AP58: =G58*(1-0.024050192) | AQ58: 1 | AV58: =AW58+AX58 | AW58: =F58*AO58 | AX58: =F58*AP58 | AY58: 89_ | AZ58: 8_ | BA58: _ | BC58: =AW58+AX58 | BD58: =G58/(100-BE58)*100 | BE58: 0 | BF58: =58 | BH58: =F58*AO58 | BI58: =F58*AP58 | BJ58: =F58*G58 | BL58: 89 | BW58: 21 | BX58: Tlaková zkouška vodovodního potrubí DN 65
A59: 34 | B59: 892233111R00 | C59: Desinfekce vodovodního potrubí DN 65 | E59: m | F59: 1142 | G59: 0 | H59: =F59*AO59 | I59: =F59*AP59 | J59: =F59*G59 | K59: RTS II / 2024 | Z59: =IF(AQ59="5",BJ59,0) | AB59: =IF(AQ59="1",BH59,0) | AC59: =IF(AQ59="1",BI59,0) | AD59: =IF(AQ59="7",BH59,0) | AE59: =IF(AQ59="7",BI59,0) | AF59: =IF(AQ59="2",BH59,0) | AG59: =IF(AQ59="2",BI59,0) | AH59: =IF(AQ59="0",BJ59,0) | AJ59: =IF(AN59=0,J59,0) | AK59: =IF(AN59=12,J59,0) | AL59: =IF(AN59=21,J59,0) | AN59: 21 | AO59: =G59*0.005572755 | AP59: =G59*(1-0.005572755) | AQ59: 1 | AV59: =AW59+AX59 | AW59: =F59*AO59 | AX59: =F59*AP59 | AY59: 89_ | AZ59: 8_ | BA59: _ | BC59: =AW59+AX59 | BD59: =G59/(100-BE59)*100 | BE59: 0 | BF59: =59 | BH59: =F59*AO59 | BI59: =F59*AP59 | BJ59: =F59*G59 | BL59: 89 | BW59: 21 | BX59: Desinfekce vodovodního potrubí DN 65
A60: 35 | B60: 893242111R00 | C60: Šachty armaturní beton, strop z dílců, do 4,50 m2 - VŠ-1 | E60: kus | F60: 1 | G60: 0 | H60: =F60*AO60 | I60: =F60*AP60 | J60: =F60*G60 | K60: RTS II / 2024 | Z60: =IF(AQ60="5",BJ60,0) | AB60: =IF(AQ60="1",BH60,0) | AC60: =IF(AQ60="1",BI60,0) | AD60: =IF(AQ60="7",BH60,0) | AE60: =IF(AQ60="7",BI60,0) | AF60: =IF(AQ60="2",BH60,0) | AG60: =IF(AQ60="2",BI60,0) | AH60: =IF(AQ60="0",BJ60,0) | AJ60: =IF(AN60=0,J60,0) | AK60: =IF(AN60=12,J60,0) | AL60: =IF(AN60=21,J60,0) | AN60: 21 | AO60: =G60*0.544806155 | AP60: =G60*(1-0.544806155) | AQ60: 1 | AV60: =AW60+AX60 | AW60: =F60*AO60 | AX60: =F60*AP60 | AY60: 89_ | AZ60: 8_ | BA60: _ | BC60: =AW60+AX60 | BD60: =G60/(100-BE60)*100 | BE60: 0 | BF60: =60 | BH60: =F60*AO60 | BI60: =F60*AP60 | BJ60: =F60*G60 | BL60: 89 | BW60: 21 | BX60: Šachty armaturní beton, strop z dílců, do 4,50 m2 - VŠ-1
A61: 36 | B61: 899101111R00 | C61: Osazení poklopu s rámem do 50 kg | E61: kus | F61: 1 | G61: 0 | H61: =F61*AO61 | I61: =F61*AP61 | J61: =F61*G61 | K61: RTS II / 2024 | Z61: =IF(AQ61="5",BJ61,0) | AB61: =IF(AQ61="1",BH61,0) | AC61: =IF(AQ61="1",BI61,0) | AD61: =IF(AQ61="7",BH61,0) | AE61: =IF(AQ61="7",BI61,0) | AF61: =IF(AQ61="2",BH61,0) | AG61: =IF(AQ61="2",BI61,0) | AH61: =IF(AQ61="0",BJ61,0) | AJ61: =IF(AN61=0,J61,0) | AK61: =IF(AN61=12,J61,0) | AL61: =IF(AN61=21,J61,0) | AN61: 21 | AO61: =G61*0.015254237 | AP61: =G61*(1-0.015254237) | AQ61: 1 | AV61: =AW61+AX61 | AW61: =F61*AO61 | AX61: =F61*AP61 | AY61: 89_ | AZ61: 8_ | BA61: _ | BC61: =AW61+AX61 | BD61: =G61/(100-BE61)*100 | BE61: 0 | BF61: =61 | BH61: =F61*AO61 | BI61: =F61*AP61 | BJ61: =F61*G61 | BL61: 89 | BW61: 21 | BX61: Osazení poklopu s rámem do 50 kg
A62: 37 | B62: 899713111R00 | C62: Orientační tabulky na sloupku, včetně sloupku Dl. 2,5 m | E62: kus | F62: 4 | G62: 0 | H62: =F62*AO62 | I62: =F62*AP62 | J62: =F62*G62 | K62: RTS II / 2024 | Z62: =IF(AQ62="5",BJ62,0) | AB62: =IF(AQ62="1",BH62,0) | AC62: =IF(AQ62="1",BI62,0) | AD62: =IF(AQ62="7",BH62,0) | AE62: =IF(AQ62="7",BI62,0) | AF62: =IF(AQ62="2",BH62,0) | AG62: =IF(AQ62="2",BI62,0) | AH62: =IF(AQ62="0",BJ62,0) | AJ62: =IF(AN62=0,J62,0) | AK62: =IF(AN62=12,J62,0) | AL62: =IF(AN62=21,J62,0) | AN62: 21 | AO62: =G62*0.317163458 | AP62: =G62*(1-0.317163458) | AQ62: 1 | AV62: =AW62+AX62 | AW62: =F62*AO62 | AX62: =F62*AP62 | AY62: 89_ | AZ62: 8_ | BA62: _ | BC62: =AW62+AX62 | BD62: =G62/(100-BE62)*100 | BE62: 0 | BF62: =62 | BH62: =F62*AO62 | BI62: =F62*AP62 | BJ62: =F62*G62 | BL62: 89 | BW62: 21 | BX62: Orientační tabulky na sloupku, včetně sloupku Dl. 2,5 m
A63: 38 | B63: 899731113R00 | C63: Vodič signalizační CYY 6 mm2 (nebo izolované lanko) | E63: m | F63: 1200 | G63: 0 | H63: =F63*AO63 | I63: =F63*AP63 | J63: =F63*G63 | K63: RTS II / 2024 | Z63: =IF(AQ63="5",BJ63,0) | AB63: =IF(AQ63="1",BH63,0) | AC63: =IF(AQ63="1",BI63,0) | AD63: =IF(AQ63="7",BH63,0) | AE63: =IF(AQ63="7",BI63,0) | AF63: =IF(AQ63="2",BH63,0) | AG63: =IF(AQ63="2",BI63,0) | AH63: =IF(AQ63="0",BJ63,0) | AJ63: =IF(AN63=0,J63,0) | AK63: =IF(AN63=12,J63,0) | AL63: =IF(AN63=21,J63,0) | AN63: 21 | AO63: =G63*0.512571429 | AP63: =G63*(1-0.512571429) | AQ63: 1 | AV63: =AW63+AX63 | AW63: =F63*AO63 | AX63: =F63*AP63 | AY63: 89_ | AZ63: 8_ | BA63: _ | BC63: =AW63+AX63 | BD63: =G63/(100-BE63)*100 | BE63: 0 | BF63: =63 | BH63: =F63*AO63 | BI63: =F63*AP63 | BJ63: =F63*G63 | BL63: 89 | BW63: 21 | BX63: Vodič signalizační CYY 6 mm2 (nebo izolované lanko)
B64: 91 | C64: Doplňující konstrukce a práce na pozemních komunikacích a zpevněných plochách | H64: =SUM(H65:H66) | I64: =SUM(I65:I66) | J64: =SUM(J65:J66) | AS64: =SUM(AJ65:AJ66) | AT64: =SUM(AK65:AK66) | AU64: =SUM(AL65:AL66)
A65: 39 | B65: 919735114R00 | C65: Řezání stávajícího živičného krytu tl. 15 - 20 cm | E65: m | F65: 3 | G65: 0 | H65: =F65*AO65 | I65: =F65*AP65 | J65: =F65*G65 | K65: RTS II / 2024 | Z65: =IF(AQ65="5",BJ65,0) | AB65: =IF(AQ65="1",BH65,0) | AC65: =IF(AQ65="1",BI65,0) | AD65: =IF(AQ65="7",BH65,0) | AE65: =IF(AQ65="7",BI65,0) | AF65: =IF(AQ65="2",BH65,0) | AG65: =IF(AQ65="2",BI65,0) | AH65: =IF(AQ65="0",BJ65,0) | AJ65: =IF(AN65=0,J65,0) | AK65: =IF(AN65=12,J65,0) | AL65: =IF(AN65=21,J65,0) | AN65: 21 | AO65: =G65*0.536697248 | AP65: =G65*(1-0.536697248) | AQ65: 1 | AV65: =AW65+AX65 | AW65: =F65*AO65 | AX65: =F65*AP65 | AY65: 91_ | AZ65: 9_ | BA65: _ | BC65: =AW65+AX65 | BD65: =G65/(100-BE65)*100 | BE65: 0 | BF65: =65 | BH65: =F65*AO65 | BI65: =F65*AP65 | BJ65: =F65*G65 | BL65: 91 | BW65: 21 | BX65: Řezání stávajícího živičného krytu tl. 15 - 20 cm
A66: 40 | B66: 919721211R00 | C66: Zálivka pracovních spár živičného krytu - horká | E66: m | F66: 3 | G66: 0 | H66: =F66*AO66 | I66: =F66*AP66 | J66: =F66*G66 | K66: RTS II / 2024 | Z66: =IF(AQ66="5",BJ66,0) | AB66: =IF(AQ66="1",BH66,0) | AC66: =IF(AQ66="1",BI66,0) | AD66: =IF(AQ66="7",BH66,0) | AE66: =IF(AQ66="7",BI66,0) | AF66: =IF(AQ66="2",BH66,0) | AG66: =IF(AQ66="2",BI66,0) | AH66: =IF(AQ66="0",BJ66,0) | AJ66: =IF(AN66=0,J66,0) | AK66: =IF(AN66=12,J66,0) | AL66: =IF(AN66=21,J66,0) | AN66: 21 | AO66: =G66*0.536150442 | AP66: =G66*(1-0.536150442) | AQ66: 1 | AV66: =AW66+AX66 | AW66: =F66*AO66 | AX66: =F66*AP66 | AY66: 91_ | AZ66: 9_ | BA66: _ | BC66: =AW66+AX66 | BD66: =G66/(100-BE66)*100 | BE66: 0 | BF66: =66 | BH66: =F66*AO66 | BI66: =F66*AP66 | BJ66: =F66*G66 | BL66: 91 | BW66: 21 | BX66: Zálivka pracovních spár živičného krytu - horká
B67: 93 | C67: Různé dokončovací konstrukce a práce inženýrských staveb | H67: =SUM(H68:H68) | I67: =SUM(I68:I68) | J67: =SUM(J68:J68) | AS67: =SUM(AJ68:AJ68) | AT67: =SUM(AK68:AK68) | AU67: =SUM(AL68:AL68)
A68: 41 | B68: 931981015R00 | C68: Těsnění trubních prostupů bentonit.páskou 20x5 mm | E68: m | F68: 2 | G68: 0 | H68: =F68*AO68 | I68: =F68*AP68 | J68: =F68*G68 | K68: RTS II / 2024 | Z68: =IF(AQ68="5",BJ68,0) | AB68: =IF(AQ68="1",BH68,0) | AC68: =IF(AQ68="1",BI68,0) | AD68: =IF(AQ68="7",BH68,0) | AE68: =IF(AQ68="7",BI68,0) | AF68: =IF(AQ68="2",BH68,0) | AG68: =IF(AQ68="2",BI68,0) | AH68: =IF(AQ68="0",BJ68,0) | AJ68: =IF(AN68=0,J68,0) | AK68: =IF(AN68=12,J68,0) | AL68: =IF(AN68=21,J68,0) | AN68: 21 | AO68: =G68*0.819371566 | AP68: =G68*(1-0.819371566) | AQ68: 1 | AV68: =AW68+AX68 | AW68: =F68*AO68 | AX68: =F68*AP68 | AY68: 93_ | AZ68: 9_ | BA68: _ | BC68: =AW68+AX68 | BD68: =G68/(100-BE68)*100 | BE68: 0 | BF68: =68 | BH68: =F68*AO68 | BI68: =F68*AP68 | BJ68: =F68*G68 | BL68: 93 | BW68: 21 | BX68: Těsnění trubních prostupů bentonit.páskou 20x5 mm
B69: 97 | C69: Prorážení otvorů a ostatní bourací práce | H69: =SUM(H70:H70) | I69: =SUM(I70:I70) | J69: =SUM(J70:J70) | AS69: =SUM(AJ70:AJ70) | AT69: =SUM(AK70:AK70) | AU69: =SUM(AL70:AL70)
A70: 42 | B70: 970051200R00 | C70: Vrtání jádrové do ŽB do D 200 mm - prostupy do ATS Svahy + VŠ-1 | E70: m | F70: 2 | G70: 0 | H70: =F70*AO70 | I70: =F70*AP70 | J70: =F70*G70 | K70: RTS II / 2024 | Z70: =IF(AQ70="5",BJ70,0) | AB70: =IF(AQ70="1",BH70,0) | AC70: =IF(AQ70="1",BI70,0) | AD70: =IF(AQ70="7",BH70,0) | AE70: =IF(AQ70="7",BI70,0) | AF70: =IF(AQ70="2",BH70,0) | AG70: =IF(AQ70="2",BI70,0) | AH70: =IF(AQ70="0",BJ70,0) | AJ70: =IF(AN70=0,J70,0) | AK70: =IF(AN70=12,J70,0) | AL70: =IF(AN70=21,J70,0) | AN70: 21 | AO70: =G70*0.262895522 | AP70: =G70*(1-0.262895522) | AQ70: 1 | AV70: =AW70+AX70 | AW70: =F70*AO70 | AX70: =F70*AP70 | AY70: 97_ | AZ70: 9_ | BA70: _ | BC70: =AW70+AX70 | BD70: =G70/(100-BE70)*100 | BE70: 0 | BF70: =70 | BH70: =F70*AO70 | BI70: =F70*AP70 | BJ70: =F70*G70 | BL70: 97 | BW70: 21 | BX70: Vrtání jádrové do ŽB do D 200 mm - prostupy do ATS Svahy + VŠ-1
B71: M22 | C71: Montáže sdělovací a zabezpečovací techniky | H71: =SUM(H72:H72) | I71: =SUM(I72:I72) | J71: =SUM(J72:J72) | AS71: =SUM(AJ72:AJ72) | AT71: =SUM(AK72:AK72) | AU71: =SUM(AL72:AL72)
A72: 43 | B72: 220711115R00 | C72: GSM telemetrická stanice dle tech. specifikace - průtok + přenos dat nové ATS ve VDJ Braun | E72: kus | F72: 1 | G72: 0 | H72: =F72*AO72 | I72: =F72*AP72 | J72: =F72*G72 | K72: RTS II / 2024 | Z72: =IF(AQ72="5",BJ72,0) | AB72: =IF(AQ72="1",BH72,0) | AC72: =IF(AQ72="1",BI72,0) | AD72: =IF(AQ72="7",BH72,0) | AE72: =IF(AQ72="7",BI72,0) | AF72: =IF(AQ72="2",BH72,0) | AG72: =IF(AQ72="2",BI72,0) | AH72: =IF(AQ72="0",BJ72,0) | AJ72: =IF(AN72=0,J72,0) | AK72: =IF(AN72=12,J72,0) | AL72: =IF(AN72=21,J72,0) | AN72: 21 | AO72: =G72*0.6120262 | AP72: =G72*(1-0.6120262) | AQ72: 2 | AV72: =AW72+AX72 | AW72: =F72*AO72 | AX72: =F72*AP72 | AY72: M22_ | AZ72: 9_ | BA72: _ | BC72: =AW72+AX72 | BD72: =G72/(100-BE72)*100 | BE72: 0 | BF72: =72 | BH72: =F72*AO72 | BI72: =F72*AP72 | BJ72: =F72*G72 | BW72: 21 | BX72: GSM telemetrická stanice dle tech. specifikace - průtok + přenos dat nové ATS ve VDJ Braun
B73: M | C73: Ostatní materiál | H73: =SUM(H74:H106) | I73: =SUM(I74:I106) | J73: =SUM(J74:J106) | AS73: =SUM(AJ74:AJ106) | AT73: =SUM(AK74:AK106) | AU73: =SUM(AL74:AL106)
A74: 44 | B74: 286134325 | C74: Trubka vodovodní PE100 RC-2 s ochr. vrstvou, SDR 11, PN 16, 75x6,8 mm | E74: m | F74: 1142 | G74: 0 | H74: =F74*AO74 | I74: =F74*AP74 | J74: =F74*G74 | K74: RTS II / 2024 | Z74: =IF(AQ74="5",BJ74,0) | AB74: =IF(AQ74="1",BH74,0) | AC74: =IF(AQ74="1",BI74,0) | AD74: =IF(AQ74="7",BH74,0) | AE74: =IF(AQ74="7",BI74,0) | AF74: =IF(AQ74="2",BH74,0) | AG74: =IF(AQ74="2",BI74,0) | AH74: =IF(AQ74="0",BJ74,0) | AJ74: =IF(AN74=0,J74,0) | AK74: =IF(AN74=12,J74,0) | AL74: =IF(AN74=21,J74,0) | AN74: 21 | AO74: =G74*1 | AP74: =G74*(1-1) | AQ74: 0 | AV74: =AW74+AX74 | AW74: =F74*AO74 | AX74: =F74*AP74 | AY74: Z99999_ | AZ74: Z_ | BA74: _ | BC74: =AW74+AX74 | BD74: =G74/(100-BE74)*100 | BE74: 0 | BF74: =74 | BH74: =F74*AO74 | BI74: =F74*AP74 | BJ74: =F74*G74 | BW74: 21 | BX74: Trubka vodovodní PE100 RC-2 s ochr. vrstvou, SDR 11, PN 16, 75x6,8 mm
A75: 45 | B75: 286538006 | C75: Elektrotvarovka - spojka d75, SDR 11, PE 100 | E75: kus | F75: 20 | G75: 0 | H75: =F75*AO75 | I75: =F75*AP75 | J75: =F75*G75 | K75: RTS II / 2024 | Z75: =IF(AQ75="5",BJ75,0) | AB75: =IF(AQ75="1",BH75,0) | AC75: =IF(AQ75="1",BI75,0) | AD75: =IF(AQ75="7",BH75,0) | AE75: =IF(AQ75="7",BI75,0) | AF75: =IF(AQ75="2",BH75,0) | AG75: =IF(AQ75="2",BI75,0) | AH75: =IF(AQ75="0",BJ75,0) | AJ75: =IF(AN75=0,J75,0) | AK75: =IF(AN75=12,J75,0) | AL75: =IF(AN75=21,J75,0) | AN75: 21 | AO75: =G75*1 | AP75: =G75*(1-1) | AQ75: 0 | AV75: =AW75+AX75 | AW75: =F75*AO75 | AX75: =F75*AP75 | AY75: Z99999_ | AZ75: Z_ | BA75: _ | BC75: =AW75+AX75 | BD75: =G75/(100-BE75)*100 | BE75: 0 | BF75: =75 | BH75: =F75*AO75 | BI75: =F75*AP75 | BJ75: =F75*G75 | BW75: 21 | BX75: Elektrotvarovka - spojka d75, SDR 11, PE 100
A76: 46 | B76: 286538110 | C76: Elektrotvarovka - koleno 45° d75, SDR 11, PN 16 | E76: kus | F76: 1 | G76: 0 | H76: =F76*AO76 | I76: =F76*AP76 | J76: =F76*G76 | K76: RTS II / 2024 | Z76: =IF(AQ76="5",BJ76,0) | AB76: =IF(AQ76="1",BH76,0) | AC76: =IF(AQ76="1",BI76,0) | AD76: =IF(AQ76="7",BH76,0) | AE76: =IF(AQ76="7",BI76,0) | AF76: =IF(AQ76="2",BH76,0) | AG76: =IF(AQ76="2",BI76,0) | AH76: =IF(AQ76="0",BJ76,0) | AJ76: =IF(AN76=0,J76,0) | AK76: =IF(AN76=12,J76,0) | AL76: =IF(AN76=21,J76,0) | AN76: 21 | AO76: =G76*1 | AP76: =G76*(1-1) | AQ76: 0 | AV76: =AW76+AX76 | AW76: =F76*AO76 | AX76: =F76*AP76 | AY76: Z99999_ | AZ76: Z_ | BA76: _ | BC76: =AW76+AX76 | BD76: =G76/(100-BE76)*100 | BE76: 0 | BF76: =76 | BH76: =F76*AO76 | BI76: =F76*AP76 | BJ76: =F76*G76 | BW76: 21 | BX76: Elektrotvarovka - koleno 45° d75, SDR 11, PN 16
A77: 47 | B77: 28653765 | C77: Nákružek lemový tlakový HDPE d75 mm + volná příruba DN 65 | E77: kus | F77: 6 | G77: 0 | H77: =F77*AO77 | I77: =F77*AP77 | J77: =F77*G77 | K77: RTS II / 2024 | Z77: =IF(AQ77="5",BJ77,0) | AB77: =IF(AQ77="1",BH77,0) | AC77: =IF(AQ77="1",BI77,0) | AD77: =IF(AQ77="7",BH77,0) | AE77: =IF(AQ77="7",BI77,0) | AF77: =IF(AQ77="2",BH77,0) | AG77: =IF(AQ77="2",BI77,0) | AH77: =IF(AQ77="0",BJ77,0) | AJ77: =IF(AN77=0,J77,0) | AK77: =IF(AN77=12,J77,0) | AL77: =IF(AN77=21,J77,0) | AN77: 21 | AO77: =G77*1 | AP77: =G77*(1-1) | AQ77: 0 | AV77: =AW77+AX77 | AW77: =F77*AO77 | AX77: =F77*AP77 | AY77: Z99999_ | AZ77: Z_ | BA77: _ | BC77: =AW77+AX77 | BD77: =G77/(100-BE77)*100 | BE77: 0 | BF77: =77 | BH77: =F77*AO77 | BI77: =F77*AP77 | BJ77: =F77*G77 | BW77: 21 | BX77: Nákružek lemový tlakový HDPE d75 mm + volná příruba DN 65
A78: 48 | B78: 42227202 | C78: Šoupátko přírubové DN 50 měkcetěsnící, F4, PN 10, č. 4000E1CZ | E78: kus | F78: 1 | G78: 0 | H78: =F78*AO78 | I78: =F78*AP78 | J78: =F78*G78 | K78: RTS II / 2024 | Z78: =IF(AQ78="5",BJ78,0) | AB78: =IF(AQ78="1",BH78,0) | AC78: =IF(AQ78="1",BI78,0) | AD78: =IF(AQ78="7",BH78,0) | AE78: =IF(AQ78="7",BI78,0) | AF78: =IF(AQ78="2",BH78,0) | AG78: =IF(AQ78="2",BI78,0) | AH78: =IF(AQ78="0",BJ78,0) | AJ78: =IF(AN78=0,J78,0) | AK78: =IF(AN78=12,J78,0) | AL78: =IF(AN78=21,J78,0) | AN78: 21 | AO78: =G78*1 | AP78: =G78*(1-1) | AQ78: 0 | AV78: =AW78+AX78 | AW78: =F78*AO78 | AX78: =F78*AP78 | AY78: Z99999_ | AZ78: Z_ | BA78: _ | BC78: =AW78+AX78 | BD78: =G78/(100-BE78)*100 | BE78: 0 | BF78: =78 | BH78: =F78*AO78 | BI78: =F78*AP78 | BJ78: =F78*G78 | BW78: 21 | BX78: Šoupátko přírubové DN 50 měkcetěsnící, F4, PN 10, č. 4000E1CZ
A79: 49 | B79: 42227203 | C79: Šoupátko přírubové DN 65 měkcetěsnící, F4, PN 10, č. 4000E1CZ | E79: kus | F79: 4 | G79: 0 | H79: =F79*AO79 | I79: =F79*AP79 | J79: =F79*G79 | K79: RTS II / 2024 | Z79: =IF(AQ79="5",BJ79,0) | AB79: =IF(AQ79="1",BH79,0) | AC79: =IF(AQ79="1",BI79,0) | AD79: =IF(AQ79="7",BH79,0) | AE79: =IF(AQ79="7",BI79,0) | AF79: =IF(AQ79="2",BH79,0) | AG79: =IF(AQ79="2",BI79,0) | AH79: =IF(AQ79="0",BJ79,0) | AJ79: =IF(AN79=0,J79,0) | AK79: =IF(AN79=12,J79,0) | AL79: =IF(AN79=21,J79,0) | AN79: 21 | AO79: =G79*1 | AP79: =G79*(1-1) | AQ79: 0 | AV79: =AW79+AX79 | AW79: =F79*AO79 | AX79: =F79*AP79 | AY79: Z99999_ | AZ79: Z_ | BA79: _ | BC79: =AW79+AX79 | BD79: =G79/(100-BE79)*100 | BE79: 0 | BF79: =79 | BH79: =F79*AO79 | BI79: =F79*AP79 | BJ79: =F79*G79 | BW79: 21 | BX79: Šoupátko přírubové DN 65 měkcetěsnící, F4, PN 10, č. 4000E1CZ
A80: 50 | B80: 422736062 | C80: Hydrant podzemní, jednoduché jištění, DN 80, PN 10, krytí 1250 mm. č. K244 | E80: kus | F80: 1 | G80: 0 | H80: =F80*AO80 | I80: =F80*AP80 | J80: =F80*G80 | K80: RTS II / 2024 | Z80: =IF(AQ80="5",BJ80,0) | AB80: =IF(AQ80="1",BH80,0) | AC80: =IF(AQ80="1",BI80,0) | AD80: =IF(AQ80="7",BH80,0) | AE80: =IF(AQ80="7",BI80,0) | AF80: =IF(AQ80="2",BH80,0) | AG80: =IF(AQ80="2",BI80,0) | AH80: =IF(AQ80="0",BJ80,0) | AJ80: =IF(AN80=0,J80,0) | AK80: =IF(AN80=12,J80,0) | AL80: =IF(AN80=21,J80,0) | AN80: 21 | AO80: =G80*1 | AP80: =G80*(1-1) | AQ80: 0 | AV80: =AW80+AX80 | AW80: =F80*AO80 | AX80: =F80*AP80 | AY80: Z99999_ | AZ80: Z_ | BA80: _ | BC80: =AW80+AX80 | BD80: =G80/(100-BE80)*100 | BE80: 0 | BF80: =80 | BH80: =F80*AO80 | BI80: =F80*AP80 | BJ80: =F80*G80 | BW80: 21 | BX80: Hydrant podzemní, jednoduché jištění, DN 80, PN 10, krytí 1250 mm. č. K244
A81: 51 | B81: 42265500 | C81: Zavzd. a odvz. souprava podz. mont., DN 80, PN 1-16, krytí 1,25 m, č.9822 | E81: kus | F81: 2 | G81: 0 | H81: =F81*AO81 | I81: =F81*AP81 | J81: =F81*G81 | K81: RTS II / 2024 | Z81: =IF(AQ81="5",BJ81,0) | AB81: =IF(AQ81="1",BH81,0) | AC81: =IF(AQ81="1",BI81,0) | AD81: =IF(AQ81="7",BH81,0) | AE81: =IF(AQ81="7",BI81,0) | AF81: =IF(AQ81="2",BH81,0) | AG81: =IF(AQ81="2",BI81,0) | AH81: =IF(AQ81="0",BJ81,0) | AJ81: =IF(AN81=0,J81,0) | AK81: =IF(AN81=12,J81,0) | AL81: =IF(AN81=21,J81,0) | AN81: 21 | AO81: =G81*1 | AP81: =G81*(1-1) | AQ81: 0 | AV81: =AW81+AX81 | AW81: =F81*AO81 | AX81: =F81*AP81 | AY81: Z99999_ | AZ81: Z_ | BA81: _ | BC81: =AW81+AX81 | BD81: =G81/(100-BE81)*100 | BE81: 0 | BF81: =81 | BH81: =F81*AO81 | BI81: =F81*AP81 | BJ81: =F81*G81 | BW81: 21 | BX81: Zavzd. a odvz. souprava podz. mont., DN 80, PN 1-16, krytí 1,25 m, č.9822
A82: 52 | B82: 38821400 | C82: Vodoměr lopatk.prům.na st.vodu FLOSTAR-M, DN 40, Qn 16 m3/h, závit 2" + snímač CYBLE | E82: kus | F82: 1 | G82: 0 | H82: =F82*AO82 | I82: =F82*AP82 | J82: =F82*G82 | K82: RTS II / 2024 | Z82: =IF(AQ82="5",BJ82,0) | AB82: =IF(AQ82="1",BH82,0) | AC82: =IF(AQ82="1",BI82,0) | AD82: =IF(AQ82="7",BH82,0) | AE82: =IF(AQ82="7",BI82,0) | AF82: =IF(AQ82="2",BH82,0) | AG82: =IF(AQ82="2",BI82,0) | AH82: =IF(AQ82="0",BJ82,0) | AJ82: =IF(AN82=0,J82,0) | AK82: =IF(AN82=12,J82,0) | AL82: =IF(AN82=21,J82,0) | AN82: 21 | AO82: =G82*1 | AP82: =G82*(1-1) | AQ82: 0 | AV82: =AW82+AX82 | AW82: =F82*AO82 | AX82: =F82*AP82 | AY82: Z99999_ | AZ82: Z_ | BA82: _ | BC82: =AW82+AX82 | BD82: =G82/(100-BE82)*100 | BE82: 0 | BF82: =82 | BH82: =F82*AO82 | BI82: =F82*AP82 | BJ82: =F82*G82 | BW82: 21 | BX82: Vodoměr lopatk.prům.na st.vodu FLOSTAR-M, DN 40, Qn 16 m3/h, závit 2" + snímač CYBLE
A83: 53 | B83: 42273531 | C83: Pas navrtávací na potrubí PE d 75mm, záv. výst. 1", č. 5250 | E83: kus | F83: 1 | G83: 0 | H83: =F83*AO83 | I83: =F83*AP83 | J83: =F83*G83 | K83: RTS II / 2024 | Z83: =IF(AQ83="5",BJ83,0) | AB83: =IF(AQ83="1",BH83,0) | AC83: =IF(AQ83="1",BI83,0) | AD83: =IF(AQ83="7",BH83,0) | AE83: =IF(AQ83="7",BI83,0) | AF83: =IF(AQ83="2",BH83,0) | AG83: =IF(AQ83="2",BI83,0) | AH83: =IF(AQ83="0",BJ83,0) | AJ83: =IF(AN83=0,J83,0) | AK83: =IF(AN83=12,J83,0) | AL83: =IF(AN83=21,J83,0) | AN83: 21 | AO83: =G83*1 | AP83: =G83*(1-1) | AQ83: 0 | AV83: =AW83+AX83 | AW83: =F83*AO83 | AX83: =F83*AP83 | AY83: Z99999_ | AZ83: Z_ | BA83: _ | BC83: =AW83+AX83 | BD83: =G83/(100-BE83)*100 | BE83: 0 | BF83: =83 | BH83: =F83*AO83 | BI83: =F83*AP83 | BJ83: =F83*G83 | BW83: 21 | BX83: Pas navrtávací na potrubí PE d 75mm, záv. výst. 1", č. 5250
A84: 54 | B84: 422122711 | C84: Ventil odvzdušňovací automatický, závitové připojení 1", č. 9876 | E84: kus | F84: 1 | G84: 0 | H84: =F84*AO84 | I84: =F84*AP84 | J84: =F84*G84 | K84: RTS II / 2024 | Z84: =IF(AQ84="5",BJ84,0) | AB84: =IF(AQ84="1",BH84,0) | AC84: =IF(AQ84="1",BI84,0) | AD84: =IF(AQ84="7",BH84,0) | AE84: =IF(AQ84="7",BI84,0) | AF84: =IF(AQ84="2",BH84,0) | AG84: =IF(AQ84="2",BI84,0) | AH84: =IF(AQ84="0",BJ84,0) | AJ84: =IF(AN84=0,J84,0) | AK84: =IF(AN84=12,J84,0) | AL84: =IF(AN84=21,J84,0) | AN84: 21 | AO84: =G84*1 | AP84: =G84*(1-1) | AQ84: 0 | AV84: =AW84+AX84 | AW84: =F84*AO84 | AX84: =F84*AP84 | AY84: Z99999_ | AZ84: Z_ | BA84: _ | BC84: =AW84+AX84 | BD84: =G84/(100-BE84)*100 | BE84: 0 | BF84: =84 | BH84: =F84*AO84 | BI84: =F84*AP84 | BJ84: =F84*G84 | BW84: 21 | BX84: Ventil odvzdušňovací automatický, závitové připojení 1", č. 9876
A85: 55 | B85: 551100012 | C85: Kohout kulový voda 1", páčka | E85: kus | F85: 1 | G85: 0 | H85: =F85*AO85 | I85: =F85*AP85 | J85: =F85*G85 | K85: RTS II / 2024 | Z85: =IF(AQ85="5",BJ85,0) | AB85: =IF(AQ85="1",BH85,0) | AC85: =IF(AQ85="1",BI85,0) | AD85: =IF(AQ85="7",BH85,0) | AE85: =IF(AQ85="7",BI85,0) | AF85: =IF(AQ85="2",BH85,0) | AG85: =IF(AQ85="2",BI85,0) | AH85: =IF(AQ85="0",BJ85,0) | AJ85: =IF(AN85=0,J85,0) | AK85: =IF(AN85=12,J85,0) | AL85: =IF(AN85=21,J85,0) | AN85: 21 | AO85: =G85*1 | AP85: =G85*(1-1) | AQ85: 0 | AV85: =AW85+AX85 | AW85: =F85*AO85 | AX85: =F85*AP85 | AY85: Z99999_ | AZ85: Z_ | BA85: _ | BC85: =AW85+AX85 | BD85: =G85/(100-BE85)*100 | BE85: 0 | BF85: =85 | BH85: =F85*AO85 | BI85: =F85*AP85 | BJ85: =F85*G85 | BW85: 21 | BX85: Kohout kulový voda 1", páčka
A86: 56 | B86: 42200860 | C86: Kolo ruční pro šoupátka DN 50 + DN 65 | E86: kus | F86: 2 | G86: 0 | H86: =F86*AO86 | I86: =F86*AP86 | J86: =F86*G86 | K86: RTS II / 2024 | Z86: =IF(AQ86="5",BJ86,0) | AB86: =IF(AQ86="1",BH86,0) | AC86: =IF(AQ86="1",BI86,0) | AD86: =IF(AQ86="7",BH86,0) | AE86: =IF(AQ86="7",BI86,0) | AF86: =IF(AQ86="2",BH86,0) | AG86: =IF(AQ86="2",BI86,0) | AH86: =IF(AQ86="0",BJ86,0) | AJ86: =IF(AN86=0,J86,0) | AK86: =IF(AN86=12,J86,0) | AL86: =IF(AN86=21,J86,0) | AN86: 21 | AO86: =G86*1 | AP86: =G86*(1-1) | AQ86: 0 | AV86: =AW86+AX86 | AW86: =F86*AO86 | AX86: =F86*AP86 | AY86: Z99999_ | AZ86: Z_ | BA86: _ | BC86: =AW86+AX86 | BD86: =G86/(100-BE86)*100 | BE86: 0 | BF86: =86 | BH86: =F86*AO86 | BI86: =F86*AP86 | BJ86: =F86*G86 | BW86: 21 | BX86: Kolo ruční pro šoupátka DN 50 + DN 65
A87: 57 | B87: 422913305 | C87: Souprava zemní teleskopická 1,3-1,8 m, pro šoupátka DN 65, č. 9500E1CZ | E87: kus | F87: 3 | G87: 0 | H87: =F87*AO87 | I87: =F87*AP87 | J87: =F87*G87 | K87: RTS II / 2024 | Z87: =IF(AQ87="5",BJ87,0) | AB87: =IF(AQ87="1",BH87,0) | AC87: =IF(AQ87="1",BI87,0) | AD87: =IF(AQ87="7",BH87,0) | AE87: =IF(AQ87="7",BI87,0) | AF87: =IF(AQ87="2",BH87,0) | AG87: =IF(AQ87="2",BI87,0) | AH87: =IF(AQ87="0",BJ87,0) | AJ87: =IF(AN87=0,J87,0) | AK87: =IF(AN87=12,J87,0) | AL87: =IF(AN87=21,J87,0) | AN87: 21 | AO87: =G87*1 | AP87: =G87*(1-1) | AQ87: 0 | AV87: =AW87+AX87 | AW87: =F87*AO87 | AX87: =F87*AP87 | AY87: Z99999_ | AZ87: Z_ | BA87: _ | BC87: =AW87+AX87 | BD87: =G87/(100-BE87)*100 | BE87: 0 | BF87: =87 | BH87: =F87*AO87 | BI87: =F87*AP87 | BJ87: =F87*G87 | BW87: 21 | BX87: Souprava zemní teleskopická 1,3-1,8 m, pro šoupátka DN 65, č. 9500E1CZ
A88: 58 | B88: 42291352 | C88: Poklop litinový šoupátkový | E88: kus | F88: 3 | G88: 0 | H88: =F88*AO88 | I88: =F88*AP88 | J88: =F88*G88 | K88: RTS II / 2024 | Z88: =IF(AQ88="5",BJ88,0) | AB88: =IF(AQ88="1",BH88,0) | AC88: =IF(AQ88="1",BI88,0) | AD88: =IF(AQ88="7",BH88,0) | AE88: =IF(AQ88="7",BI88,0) | AF88: =IF(AQ88="2",BH88,0) | AG88: =IF(AQ88="2",BI88,0) | AH88: =IF(AQ88="0",BJ88,0) | AJ88: =IF(AN88=0,J88,0) | AK88: =IF(AN88=12,J88,0) | AL88: =IF(AN88=21,J88,0) | AN88: 21 | AO88: =G88*1 | AP88: =G88*(1-1) | AQ88: 0 | AV88: =AW88+AX88 | AW88: =F88*AO88 | AX88: =F88*AP88 | AY88: Z99999_ | AZ88: Z_ | BA88: _ | BC88: =AW88+AX88 | BD88: =G88/(100-BE88)*100 | BE88: 0 | BF88: =88 | BH88: =F88*AO88 | BI88: =F88*AP88 | BJ88: =F88*G88 | BW88: 21 | BX88: Poklop litinový šoupátkový
A89: 59 | B89: 42291452 | C89: Poklop litinový hydrantový | E89: kus | F89: 1 | G89: 0 | H89: =F89*AO89 | I89: =F89*AP89 | J89: =F89*G89 | K89: RTS II / 2024 | Z89: =IF(AQ89="5",BJ89,0) | AB89: =IF(AQ89="1",BH89,0) | AC89: =IF(AQ89="1",BI89,0) | AD89: =IF(AQ89="7",BH89,0) | AE89: =IF(AQ89="7",BI89,0) | AF89: =IF(AQ89="2",BH89,0) | AG89: =IF(AQ89="2",BI89,0) | AH89: =IF(AQ89="0",BJ89,0) | AJ89: =IF(AN89=0,J89,0) | AK89: =IF(AN89=12,J89,0) | AL89: =IF(AN89=21,J89,0) | AN89: 21 | AO89: =G89*1 | AP89: =G89*(1-1) | AQ89: 0 | AV89: =AW89+AX89 | AW89: =F89*AO89 | AX89: =F89*AP89 | AY89: Z99999_ | AZ89: Z_ | BA89: _ | BC89: =AW89+AX89 | BD89: =G89/(100-BE89)*100 | BE89: 0 | BF89: =89 | BH89: =F89*AO89 | BI89: =F89*AP89 | BJ89: =F89*G89 | BW89: 21 | BX89: Poklop litinový hydrantový
A90: 60 | B90: 42291452 | C90: Poklop litinový odvzdušňovací soupravy | E90: kus | F90: 2 | G90: 0 | H90: =F90*AO90 | I90: =F90*AP90 | J90: =F90*G90 | K90: RTS II / 2024 | Z90: =IF(AQ90="5",BJ90,0) | AB90: =IF(AQ90="1",BH90,0) | AC90: =IF(AQ90="1",BI90,0) | AD90: =IF(AQ90="7",BH90,0) | AE90: =IF(AQ90="7",BI90,0) | AF90: =IF(AQ90="2",BH90,0) | AG90: =IF(AQ90="2",BI90,0) | AH90: =IF(AQ90="0",BJ90,0) | AJ90: =IF(AN90=0,J90,0) | AK90: =IF(AN90=12,J90,0) | AL90: =IF(AN90=21,J90,0) | AN90: 21 | AO90: =G90*1 | AP90: =G90*(1-1) | AQ90: 0 | AV90: =AW90+AX90 | AW90: =F90*AO90 | AX90: =F90*AP90 | AY90: Z99999_ | AZ90: Z_ | BA90: _ | BC90: =AW90+AX90 | BD90: =G90/(100-BE90)*100 | BE90: 0 | BF90: =90 | BH90: =F90*AO90 | BI90: =F90*AP90 | BJ90: =F90*G90 | BW90: 21 | BX90: Poklop litinový odvzdušňovací soupravy
A91: 61 | B91: 592110050000 | C91: Podkladní deska šoupatového poklopu | E91: kus | F91: 3 | G91: 0 | H91: =F91*AO91 | I91: =F91*AP91 | J91: =F91*G91 | K91: RTS II / 2024 | Z91: =IF(AQ91="5",BJ91,0) | AB91: =IF(AQ91="1",BH91,0) | AC91: =IF(AQ91="1",BI91,0) | AD91: =IF(AQ91="7",BH91,0) | AE91: =IF(AQ91="7",BI91,0) | AF91: =IF(AQ91="2",BH91,0) | AG91: =IF(AQ91="2",BI91,0) | AH91: =IF(AQ91="0",BJ91,0) | AJ91: =IF(AN91=0,J91,0) | AK91: =IF(AN91=12,J91,0) | AL91: =IF(AN91=21,J91,0) | AN91: 21 | AO91: =G91*1 | AP91: =G91*(1-1) | AQ91: 0 | AV91: =AW91+AX91 | AW91: =F91*AO91 | AX91: =F91*AP91 | AY91: Z99999_ | AZ91: Z_ | BA91: _ | BC91: =AW91+AX91 | BD91: =G91/(100-BE91)*100 | BE91: 0 | BF91: =91 | BH91: =F91*AO91 | BI91: =F91*AP91 | BJ91: =F91*G91 | BW91: 21 | BX91: Podkladní deska šoupatového poklopu
A92: 62 | B92: 59227960 | C92: Podkladní deska hydrantová | E92: kus | F92: 4 | G92: 0 | H92: =F92*AO92 | I92: =F92*AP92 | J92: =F92*G92 | K92: RTS II / 2024 | Z92: =IF(AQ92="5",BJ92,0) | AB92: =IF(AQ92="1",BH92,0) | AC92: =IF(AQ92="1",BI92,0) | AD92: =IF(AQ92="7",BH92,0) | AE92: =IF(AQ92="7",BI92,0) | AF92: =IF(AQ92="2",BH92,0) | AG92: =IF(AQ92="2",BI92,0) | AH92: =IF(AQ92="0",BJ92,0) | AJ92: =IF(AN92=0,J92,0) | AK92: =IF(AN92=12,J92,0) | AL92: =IF(AN92=21,J92,0) | AN92: 21 | AO92: =G92*1 | AP92: =G92*(1-1) | AQ92: 0 | AV92: =AW92+AX92 | AW92: =F92*AO92 | AX92: =F92*AP92 | AY92: Z99999_ | AZ92: Z_ | BA92: _ | BC92: =AW92+AX92 | BD92: =G92/(100-BE92)*100 | BE92: 0 | BF92: =92 | BH92: =F92*AO92 | BI92: =F92*AP92 | BJ92: =F92*G92 | BW92: 21 | BX92: Podkladní deska hydrantová
A93: 63 | B93: 55258530 | C93: Litinová tvarovka s přír. odbočkou "S2000", MMA d75/DN 65, č. 8525 | E93: kus | F93: 1 | G93: 0 | H93: =F93*AO93 | I93: =F93*AP93 | J93: =F93*G93 | K93: RTS II / 2024 | Z93: =IF(AQ93="5",BJ93,0) | AB93: =IF(AQ93="1",BH93,0) | AC93: =IF(AQ93="1",BI93,0) | AD93: =IF(AQ93="7",BH93,0) | AE93: =IF(AQ93="7",BI93,0) | AF93: =IF(AQ93="2",BH93,0) | AG93: =IF(AQ93="2",BI93,0) | AH93: =IF(AQ93="0",BJ93,0) | AJ93: =IF(AN93=0,J93,0) | AK93: =IF(AN93=12,J93,0) | AL93: =IF(AN93=21,J93,0) | AN93: 21 | AO93: =G93*1 | AP93: =G93*(1-1) | AQ93: 0 | AV93: =AW93+AX93 | AW93: =F93*AO93 | AX93: =F93*AP93 | AY93: Z99999_ | AZ93: Z_ | BA93: _ | BC93: =AW93+AX93 | BD93: =G93/(100-BE93)*100 | BE93: 0 | BF93: =93 | BH93: =F93*AO93 | BI93: =F93*AP93 | BJ93: =F93*G93 | BW93: 21 | BX93: Litinová tvarovka s přír. odbočkou "S2000", MMA d75/DN 65, č. 8525
A94: 64 | B94: 552599932 | C94: Litinová přírubová odbočka T DN 65/65, tvárná litina | E94: kus | F94: 2 | G94: 0 | H94: =F94*AO94 | I94: =F94*AP94 | J94: =F94*G94 | K94: RTS II / 2024 | Z94: =IF(AQ94="5",BJ94,0) | AB94: =IF(AQ94="1",BH94,0) | AC94: =IF(AQ94="1",BI94,0) | AD94: =IF(AQ94="7",BH94,0) | AE94: =IF(AQ94="7",BI94,0) | AF94: =IF(AQ94="2",BH94,0) | AG94: =IF(AQ94="2",BI94,0) | AH94: =IF(AQ94="0",BJ94,0) | AJ94: =IF(AN94=0,J94,0) | AK94: =IF(AN94=12,J94,0) | AL94: =IF(AN94=21,J94,0) | AN94: 21 | AO94: =G94*1 | AP94: =G94*(1-1) | AQ94: 0 | AV94: =AW94+AX94 | AW94: =F94*AO94 | AX94: =F94*AP94 | AY94: Z99999_ | AZ94: Z_ | BA94: _ | BC94: =AW94+AX94 | BD94: =G94/(100-BE94)*100 | BE94: 0 | BF94: =94 | BH94: =F94*AO94 | BI94: =F94*AP94 | BJ94: =F94*G94 | BW94: 21 | BX94: Litinová přírubová odbočka T DN 65/65, tvárná litina
A95: 65 | B95: 5526009702 | C95: Litinové přírubové koleno s patkou PP (N) DN 80, tvárná litina | E95: kus | F95: 3 | G95: 0 | H95: =F95*AO95 | I95: =F95*AP95 | J95: =F95*G95 | K95: RTS II / 2024 | Z95: =IF(AQ95="5",BJ95,0) | AB95: =IF(AQ95="1",BH95,0) | AC95: =IF(AQ95="1",BI95,0) | AD95: =IF(AQ95="7",BH95,0) | AE95: =IF(AQ95="7",BI95,0) | AF95: =IF(AQ95="2",BH95,0) | AG95: =IF(AQ95="2",BI95,0) | AH95: =IF(AQ95="0",BJ95,0) | AJ95: =IF(AN95=0,J95,0) | AK95: =IF(AN95=12,J95,0) | AL95: =IF(AN95=21,J95,0) | AN95: 21 | AO95: =G95*1 | AP95: =G95*(1-1) | AQ95: 0 | AV95: =AW95+AX95 | AW95: =F95*AO95 | AX95: =F95*AP95 | AY95: Z99999_ | AZ95: Z_ | BA95: _ | BC95: =AW95+AX95 | BD95: =G95/(100-BE95)*100 | BE95: 0 | BF95: =95 | BH95: =F95*AO95 | BI95: =F95*AP95 | BJ95: =F95*G95 | BW95: 21 | BX95: Litinové přírubové koleno s patkou PP (N) DN 80, tvárná litina
A96: 66 | B96: 552701043 | C96: Litinový přírubový přechod RP (FFR) - DN 80x65, tvárná litina | E96: kus | F96: 3 | G96: 0 | H96: =F96*AO96 | I96: =F96*AP96 | J96: =F96*G96 | K96: RTS II / 2024 | Z96: =IF(AQ96="5",BJ96,0) | AB96: =IF(AQ96="1",BH96,0) | AC96: =IF(AQ96="1",BI96,0) | AD96: =IF(AQ96="7",BH96,0) | AE96: =IF(AQ96="7",BI96,0) | AF96: =IF(AQ96="2",BH96,0) | AG96: =IF(AQ96="2",BI96,0) | AH96: =IF(AQ96="0",BJ96,0) | AJ96: =IF(AN96=0,J96,0) | AK96: =IF(AN96=12,J96,0) | AL96: =IF(AN96=21,J96,0) | AN96: 21 | AO96: =G96*1 | AP96: =G96*(1-1) | AQ96: 0 | AV96: =AW96+AX96 | AW96: =F96*AO96 | AX96: =F96*AP96 | AY96: Z99999_ | AZ96: Z_ | BA96: _ | BC96: =AW96+AX96 | BD96: =G96/(100-BE96)*100 | BE96: 0 | BF96: =96 | BH96: =F96*AO96 | BI96: =F96*AP96 | BJ96: =F96*G96 | BW96: 21 | BX96: Litinový přírubový přechod RP (FFR) - DN 80x65, tvárná litina
A97: 67 | B97: 55260046 | C97: Příruba litinová s vnitřním závitem X, DN 50 závit 2" | E97: kus | F97: 1 | G97: 0 | H97: =F97*AO97 | I97: =F97*AP97 | J97: =F97*G97 | K97: RTS II / 2024 | Z97: =IF(AQ97="5",BJ97,0) | AB97: =IF(AQ97="1",BH97,0) | AC97: =IF(AQ97="1",BI97,0) | AD97: =IF(AQ97="7",BH97,0) | AE97: =IF(AQ97="7",BI97,0) | AF97: =IF(AQ97="2",BH97,0) | AG97: =IF(AQ97="2",BI97,0) | AH97: =IF(AQ97="0",BJ97,0) | AJ97: =IF(AN97=0,J97,0) | AK97: =IF(AN97=12,J97,0) | AL97: =IF(AN97=21,J97,0) | AN97: 21 | AO97: =G97*1 | AP97: =G97*(1-1) | AQ97: 0 | AV97: =AW97+AX97 | AW97: =F97*AO97 | AX97: =F97*AP97 | AY97: Z99999_ | AZ97: Z_ | BA97: _ | BC97: =AW97+AX97 | BD97: =G97/(100-BE97)*100 | BE97: 0 | BF97: =97 | BH97: =F97*AO97 | BI97: =F97*AP97 | BJ97: =F97*G97 | BW97: 21 | BX97: Příruba litinová s vnitřním závitem X, DN 50 závit 2"
A98: 68 | B98: 55260050 | C98: Příruba litinová s vnitřním závitem X, DN 65 závit 2" | E98: kus | F98: 2 | G98: 0 | H98: =F98*AO98 | I98: =F98*AP98 | J98: =F98*G98 | K98: RTS II / 2024 | Z98: =IF(AQ98="5",BJ98,0) | AB98: =IF(AQ98="1",BH98,0) | AC98: =IF(AQ98="1",BI98,0) | AD98: =IF(AQ98="7",BH98,0) | AE98: =IF(AQ98="7",BI98,0) | AF98: =IF(AQ98="2",BH98,0) | AG98: =IF(AQ98="2",BI98,0) | AH98: =IF(AQ98="0",BJ98,0) | AJ98: =IF(AN98=0,J98,0) | AK98: =IF(AN98=12,J98,0) | AL98: =IF(AN98=21,J98,0) | AN98: 21 | AO98: =G98*1 | AP98: =G98*(1-1) | AQ98: 0 | AV98: =AW98+AX98 | AW98: =F98*AO98 | AX98: =F98*AP98 | AY98: Z99999_ | AZ98: Z_ | BA98: _ | BC98: =AW98+AX98 | BD98: =G98/(100-BE98)*100 | BE98: 0 | BF98: =98 | BH98: =F98*AO98 | BI98: =F98*AP98 | BJ98: =F98*G98 | BW98: 21 | BX98: Příruba litinová s vnitřním závitem X, DN 65 závit 2"
A99: 69 | B99: 27322613 | C99: Těsnění ploché přírubových spojů DN 50 | E99: kus | F99: 2 | G99: 0 | H99: =F99*AO99 | I99: =F99*AP99 | J99: =F99*G99 | K99: RTS II / 2024 | Z99: =IF(AQ99="5",BJ99,0) | AB99: =IF(AQ99="1",BH99,0) | AC99: =IF(AQ99="1",BI99,0) | AD99: =IF(AQ99="7",BH99,0) | AE99: =IF(AQ99="7",BI99,0) | AF99: =IF(AQ99="2",BH99,0) | AG99: =IF(AQ99="2",BI99,0) | AH99: =IF(AQ99="0",BJ99,0) | AJ99: =IF(AN99=0,J99,0) | AK99: =IF(AN99=12,J99,0) | AL99: =IF(AN99=21,J99,0) | AN99: 21 | AO99: =G99*1 | AP99: =G99*(1-1) | AQ99: 0 | AV99: =AW99+AX99 | AW99: =F99*AO99 | AX99: =F99*AP99 | AY99: Z99999_ | AZ99: Z_ | BA99: _ | BC99: =AW99+AX99 | BD99: =G99/(100-BE99)*100 | BE99: 0 | BF99: =99 | BH99: =F99*AO99 | BI99: =F99*AP99 | BJ99: =F99*G99 | BW99: 21 | BX99: Těsnění ploché přírubových spojů DN 50
A100: 70 | B100: 27322310 | C100: Těsnění ploché přírubový spojů DN 65 | E100: kus | F100: 14 | G100: 0 | H100: =F100*AO100 | I100: =F100*AP100 | J100: =F100*G100 | K100: RTS II / 2024 | Z100: =IF(AQ100="5",BJ100,0) | AB100: =IF(AQ100="1",BH100,0) | AC100: =IF(AQ100="1",BI100,0) | AD100: =IF(AQ100="7",BH100,0) | AE100: =IF(AQ100="7",BI100,0) | AF100: =IF(AQ100="2",BH100,0) | AG100: =IF(AQ100="2",BI100,0) | AH100: =IF(AQ100="0",BJ100,0) | AJ100: =IF(AN100=0,J100,0) | AK100: =IF(AN100=12,J100,0) | AL100: =IF(AN100=21,J100,0) | AN100: 21 | AO100: =G100*1 | AP100: =G100*(1-1) | AQ100: 0 | AV100: =AW100+AX100 | AW100: =F100*AO100 | AX100: =F100*AP100 | AY100: Z99999_ | AZ100: Z_ | BA100: _ | BC100: =AW100+AX100 | BD100: =G100/(100-BE100)*100 | BE100: 0 | BF100: =100 | BH100: =F100*AO100 | BI100: =F100*AP100 | BJ100: =F100*G100 | BW100: 21 | BX100: Těsnění ploché přírubový spojů DN 65
A101: 71 | B101: 27322311 | C101: Těsnění ploché přírubových spojů DN 80 | E101: kus | F101: 6 | G101: 0 | H101: =F101*AO101 | I101: =F101*AP101 | J101: =F101*G101 | K101: RTS II / 2024 | Z101: =IF(AQ101="5",BJ101,0) | AB101: =IF(AQ101="1",BH101,0) | AC101: =IF(AQ101="1",BI101,0) | AD101: =IF(AQ101="7",BH101,0) | AE101: =IF(AQ101="7",BI101,0) | AF101: =IF(AQ101="2",BH101,0) | AG101: =IF(AQ101="2",BI101,0) | AH101: =IF(AQ101="0",BJ101,0) | AJ101: =IF(AN101=0,J101,0) | AK101: =IF(AN101=12,J101,0) | AL101: =IF(AN101=21,J101,0) | AN101: 21 | AO101: =G101*1 | AP101: =G101*(1-1) | AQ101: 0 | AV101: =AW101+AX101 | AW101: =F101*AO101 | AX101: =F101*AP101 | AY101: Z99999_ | AZ101: Z_ | BA101: _ | BC101: =AW101+AX101 | BD101: =G101/(100-BE101)*100 | BE101: 0 | BF101: =101 | BH101: =F101*AO101 | BI101: =F101*AP101 | BJ101: =F101*G101 | BW101: 21 | BX101: Těsnění ploché přírubových spojů DN 80
A102: 72 | B102: 309001160000 | C102: Šroub M16x60 mm + matice M16 nerez A2 | E102: kus | F102: 112 | G102: 0 | H102: =F102*AO102 | I102: =F102*AP102 | J102: =F102*G102 | K102: RTS II / 2024 | Z102: =IF(AQ102="5",BJ102,0) | AB102: =IF(AQ102="1",BH102,0) | AC102: =IF(AQ102="1",BI102,0) | AD102: =IF(AQ102="7",BH102,0) | AE102: =IF(AQ102="7",BI102,0) | AF102: =IF(AQ102="2",BH102,0) | AG102: =IF(AQ102="2",BI102,0) | AH102: =IF(AQ102="0",BJ102,0) | AJ102: =IF(AN102=0,J102,0) | AK102: =IF(AN102=12,J102,0) | AL102: =IF(AN102=21,J102,0) | AN102: 21 | AO102: =G102*1 | AP102: =G102*(1-1) | AQ102: 0 | AV102: =AW102+AX102 | AW102: =F102*AO102 | AX102: =F102*AP102 | AY102: Z99999_ | AZ102: Z_ | BA102: _ | BC102: =AW102+AX102 | BD102: =G102/(100-BE102)*100 | BE102: 0 | BF102: =102 | BH102: =F102*AO102 | BI102: =F102*AP102 | BJ102: =F102*G102 | BW102: 21 | BX102: Šroub M16x60 mm + matice M16 nerez A2
A103: 73 | B103: 311240220000 | C103: Podložka nerez M16, A2 | E103: kus | F103: 224 | G103: 0 | H103: =F103*AO103 | I103: =F103*AP103 | J103: =F103*G103 | K103: RTS II / 2024 | Z103: =IF(AQ103="5",BJ103,0) | AB103: =IF(AQ103="1",BH103,0) | AC103: =IF(AQ103="1",BI103,0) | AD103: =IF(AQ103="7",BH103,0) | AE103: =IF(AQ103="7",BI103,0) | AF103: =IF(AQ103="2",BH103,0) | AG103: =IF(AQ103="2",BI103,0) | AH103: =IF(AQ103="0",BJ103,0) | AJ103: =IF(AN103=0,J103,0) | AK103: =IF(AN103=12,J103,0) | AL103: =IF(AN103=21,J103,0) | AN103: 21 | AO103: =G103*1 | AP103: =G103*(1-1) | AQ103: 0 | AV103: =AW103+AX103 | AW103: =F103*AO103 | AX103: =F103*AP103 | AY103: Z99999_ | AZ103: Z_ | BA103: _ | BC103: =AW103+AX103 | BD103: =G103/(100-BE103)*100 | BE103: 0 | BF103: =103 | BH103: =F103*AO103 | BI103: =F103*AP103 | BJ103: =F103*G103 | BW103: 21 | BX103: Podložka nerez M16, A2
A104: 74 | B104: 55244344 | C104: Poklop studniční kompozit s větr. hlavicí 700x700 | E104: kus | F104: 1 | G104: 0 | H104: =F104*AO104 | I104: =F104*AP104 | J104: =F104*G104 | K104: RTS II / 2024 | Z104: =IF(AQ104="5",BJ104,0) | AB104: =IF(AQ104="1",BH104,0) | AC104: =IF(AQ104="1",BI104,0) | AD104: =IF(AQ104="7",BH104,0) | AE104: =IF(AQ104="7",BI104,0) | AF104: =IF(AQ104="2",BH104,0) | AG104: =IF(AQ104="2",BI104,0) | AH104: =IF(AQ104="0",BJ104,0) | AJ104: =IF(AN104=0,J104,0) | AK104: =IF(AN104=12,J104,0) | AL104: =IF(AN104=21,J104,0) | AN104: 21 | AO104: =G104*1 | AP104: =G104*(1-1) | AQ104: 0 | AV104: =AW104+AX104 | AW104: =F104*AO104 | AX104: =F104*AP104 | AY104: Z99999_ | AZ104: Z_ | BA104: _ | BC104: =AW104+AX104 | BD104: =G104/(100-BE104)*100 | BE104: 0 | BF104: =104 | BH104: =F104*AO104 | BI104: =F104*AP104 | BJ104: =F104*G104 | BW104: 21 | BX104: Poklop studniční kompozit s větr. hlavicí 700x700
...

Sheet Výkaz výměr
A1: Výkaz výměr
A2: Název stavby: | C2: ='Stavební rozpočet'!C2 | E2: Objednatel: | F2: ='Stavební rozpočet'!I2
A4: Druh stavby: | C4: ='Stavební rozpočet'!C4 | E4: Projektant: | F4: ='Stavební rozpočet'!I4
A6: Lokalita: | C6: ='Stavební rozpočet'!C6 | E6: Zhotovitel: | F6: ='Stavební rozpočet'!I6
A8: Zpracoval: | C8: ='Stavební rozpočet'!I8 | E8: Zpracováno dne: | F8: ='Stavební rozpočet'!G8
A10: Č | B10: Objekt | C10: Kód | D10: Zkrácený popis | F10: MJ | G10: Množství | H10: Potřebné množství
A11: 1 | C11: 115101201R00 | D11: Čerpání vody na výšku do 10 m, přítok do 500 l | F11: h | G11: 8 | H11: 0
D12: 8 | G12: 8
A13: 2 | C13: 119001412R00 | D13: Dočasné zajištění vodovodního potrubí do DN 80 | F13: m | G13: 3 | H13: 0
D14: 3 | G14: 3
A15: 3 | C15: 119001421R00 | D15: Dočasné zajištění kabelů - do počtu 3 kabelů | F15: m | G15: 3 | H15: 0
D16: 3 | G16: 3
A17: 4 | C17: 113108315R00 | D17: Odstranění asfaltové vrstvy pl. do 50 m2, tl.15 cm | F17: m2 | G17: 2 | H17: 0
D18: 2,0*1,0 | G18: 2
A19: 5 | C19: 121101101R00 | D19: Sejmutí ornice s přemístěním do 50 m | F19: m3 | G19: 6 | H19: 0
D20: (14*2,0*1,0 + 4,0*3,0)*0,15 | G20: 6
A21: 6 | C21: 133201102R00 | D21: Hloubení šachet v hor.3 nad 100 m3 - montážní šachty | F21: m3 | G21: 21.12 | H21: 0
D22: (14*2,0*1,0*1,35 + 3,0*2,5*2,0)*0,4 | G22: 21.12
A23: 7 | C23: 133301102R00 | D23: Hloubení šachet v hor.4 nad 100 m3 - montážní šachty | F23: m3 | G23: 31.68 | H23: 0
D24: (14*2,0*1,0*1,35 + 3,0*2,5*2,0)*0,6 | G24: 31.68
A25: 8 | C25: 130001101R00 | D25: Příplatek za ztížené hloubení v blízkosti vedení | F25: m3 | G25: 4.5 | H25: 0
D26: 3,0*1,0*1,5 | G26: 4.5
A27: 9 | C27: 141721101R00 | D27: Řízené protlačení a vtažení PE d 75 mm, hor.1 - 4 | F27: m | G27: 1142 | H27: 0
D28: 1142 | G28: 1142
A29: 10 | C29: 162701105R00 | D29: Vodorovné přemístění odstraněného asfaltu k recyklaci - do 10000 m | F29: m3 | G29: 0.3 | H29: 0
D30: 2,0*1,0*0,15 | G30: 0.3
A31: 11 | C31: 162702199R00 | D31: Poplatek za recyklaci odstraněného asfaltového krytu | F31: t | G31: 0.75 | H31: 0
D32: 2,0*1,0*0,15*2,5 | G32: 0.75
A33: 12 | C33: 174101101R00 | D33: Zásyp jam, rýh, šachet se zhutněním | F33: m3 | G33: 48.6 | H33: 0
D34: 21,12+31,68-2,80-1,40 | G34: 48.6
A35: 13 | C35: 175101101R00 | D35: Obsyp potrubí bez prohození sypaniny | F35: m3 | G35: 2.8 | H35: 0
D36: 14*2,0*1,0*0,1 | G36: 2.8
A37: 14 | C37: 181301113R00 | D37: Rozprostření ornice, rovina, tl.15-20 cm,nad 500m2 | F37: m2 | G37: 40 | H37: 0
D38: 14*2,0*1,0 + 4,0*3,0 | G38: 40
A39: 15 | C39: 180401211R00 | D39: Založení trávníku lučního výsevem v rovině | F39: m2 | G39: 40 | H39: 0
D40: 40 | G40: 40
A41: 16 | C41: 181006114R00 | D41: Rozprostření zemin v rov./sklonu 1:5, tl. do 30 cm - přebytek zeminy | F41: m2 | G41: 21 | H41: 0
D42: (2,80+1,40)/0,20 | G42: 21
A43: 17 | C43: 451572111R00 | D43: Lože pod potrubí z kameniva těženého 0 - 4 mm | F43: m3 | G43: 1.4 | H43: 0
D44: 14*2,0*1,0*0,05 | G44: 1.4
A45: 18 | C45: 451535111R00 | D45: Podkladní vrstva šachet tl. do 25 cm ze štěrkodrti 16/32 | F45: m3 | G45: 1.01 | H45: 0
D46: 2,80*2,40*0,15 | G46: 1.01
A47: 19 | C47: 564861111RT4 | D47: Podklad ze štěrkodrti 0/63 mm po zhutnění tloušťky 20 cm - oprava výkopů | F47: m2 | G47: 2 | H47: 0
D48: 2 | G48: 2
A49: 20 | C49: 567122114R00 | D49: Podklad z kameniva zpev.cementem SC C8/10 tl.15 cm | F49: m2 | G49: 2 | H49: 0
D50: 2 | G50: 2
A51: 21 | C51: 577141112R00 | D51: Beton asfalt. ACO 11+,nebo ACO 16+,do 3 m, tl.5 cm | F51: m2 | G51: 3 | H51: 0
D52: 2*1,5 | G52: 3
A53: 22 | C53: 577161224R00 | D53: Beton asfalt. ACL 22 ložný, š. do 3 m, tl. 7 cm | F53: m2 | G53: 2 | H53: 0
D54: 2 | G54: 2
A55: 23 | C55: 722175327R00 | D55: Montáž trubního vystrojení šachty VŠ-1, včetně drobn. mont. materiálu | F55: kus | G55: 1 | H55: 0
D56: 1 | G56: 1
A57: 24 | C57: 767822201R00 | D57: Montáž žebříku na vstupu šachty VŠ-1, včetně dodávky | F57: kus | G57: 1 | H57: 0
D58: 1 | G58: 1
A59: 25 | C59: 857242121R00 | D59: Montáž tvarovek litin. jednoos.přír. výkop DN 50-80 | F59: kus | G59: 6 | H59: 0
D60: 6 | G60: 6
A61: 26 | C61: 857244121R00 | D61: Montáž tvarovek litin. odboč. přír. výkop DN 50-80 | F61: kus | G61: 3 | H61: 0
D62: 3 | G62: 3
A63: 27 | C63: 891211221R00 | D63: Montáž vodovod. šoupátek šacht. kolečko DN 50 | F63: kus | G63: 1 | H63: 0
D64: 1 | G64: 1
A65: 28 | C65: 891231221R00 | D65: Montáž vodovod. šoupátek šacht. kolečko DN 65 | F65: kus | G65: 1 | H65: 0
D66: 1 | G66: 1
A67: 29 | C67: 891231111R00 | D67: Montáž vodovodních šoupátek ve výkopu DN 65 | F67: kus | G67: 3 | H67: 0
D68: 3 | G68: 3
A69: 30 | C69: 891247111R00 | D69: Montáž hydrantů podzemních DN 80 | F69: kus | G69: 3 | H69: 0
D70: 1+2 | G70: 3
A71: 31 | C71: 899401112R00 | D71: Osazení poklopů litinových šoupátkových | F71: kus | G71: 3 | H71: 0
D72: 3 | G72: 3
A73: 32 | C73: 899401113R00 | D73: Osazení poklopů litinových hydrantových | F73: kus | G73: 3 | H73: 0
D74: 1+2 | G74: 3
A75: 33 | C75: 892241111R00 | D75: Tlaková zkouška vodovodního potrubí DN 65 | F75: m | G75: 1142 | H75: 0
D76: 1142 | G76: 1142
A77: 34 | C77: 892233111R00 | D77: Desinfekce vodovodního potrubí DN 65 | F77: m | G77: 1142 | H77: 0
D78: 1142 | G78: 1142
A79: 35 | C79: 893242111R00 | D79: Šachty armaturní beton, strop z dílců, do 4,50 m2 - VŠ-1 | F79: kus | G79: 1 | H79: 0
D80: 1 | G80: 1
A81: 36 | C81: 899101111R00 | D81: Osazení poklopu s rámem do 50 kg | F81: kus | G81: 1 | H81: 0
D82: 1 | G82: 1
A83: 37 | C83: 899713111R00 | D83: Orientační tabulky na sloupku, včetně sloupku Dl. 2,5 m | F83: kus | G83: 4 | H83: 0
D84: 4 | G84: 4
A85: 38 | C85: 899731113R00 | D85: Vodič signalizační CYY 6 mm2 (nebo izolované lanko) | F85: m | G85: 1200 | H85: 0
D86: 1200 | G86: 1200
A87: 39 | C87: 919735114R00 | D87: Řezání stávajícího živičného krytu tl. 15 - 20 cm | F87: m | G87: 3 | H87: 0
D88: 3 | G88: 3
A89: 40 | C89: 919721211R00 | D89: Zálivka pracovních spár živičného krytu - horká | F89: m | G89: 3 | H89: 0
D90: 3 | G90: 3
A91: 41 | C91: 931981015R00 | D91: Těsnění trubních prostupů bentonit.páskou 20x5 mm | F91: m | G91: 2 | H91: 0
D92: 2 | G92: 2
A93: 42 | C93: 970051200R00 | D93: Vrtání jádrové do ŽB do D 200 mm - prostupy do ATS Svahy + VŠ-1 | F93: m | G93: 2 | H93: 0
D94: 2 | G94: 2
A95: 43 | C95: 220711115R00 | D95: GSM telemetrická stanice dle tech. specifikace - průtok + přenos dat nové ATS ve VDJ Braun | F95: kus | G95: 1 | H95: 0
D96: 1 | G96: 1
A97: 44 | C97: 286134325 | D97: Trubka vodovodní PE100 RC-2 s ochr. vrstvou, SDR 11, PN 16, 75x6,8 mm | F97: m | G97: 1142 | H97: 0
D98: 1142 | G98: 1142
A99: 45 | C99: 286538006 | D99: Elektrotvarovka - spojka d75, SDR 11, PE 100 | F99: kus | G99: 20 | H99: 0
D100: 20 | G100: 20
A101: 46 | C101: 286538110 | D101: Elektrotvarovka - koleno 45° d75, SDR 11, PN 16 | F101: kus | G101: 1 | H101: 0
D102: 1 | G102: 1
A103: 47 | C103: 28653765 | D103: Nákružek lemový tlakový HDPE d75 mm + volná příruba DN 65 | F103: kus | G103: 6 | H103: 0
D104: 6 | G104: 6
...

Sheet Krycí list rozpočtu
A1: Krycí list slepého rozpočtu
A2: Název stavby: | C2: ='Stavební rozpočet'!C2 | E2: Objednatel: | F2: ='Stavební rozpočet'!I2 | H2: IČO/DIČ: | I2: 00260096/CZ00260096
A4: Druh stavby: | C4: ='Stavební rozpočet'!C4 | E4: Projektant: | F4: ='Stavební rozpočet'!I4 | H4: IČO/DIČ: | I4: 61130494/CZ7305252306
A6: Lokalita: | C6: ='Stavební rozpočet'!C6 | E6: Zhotovitel: | F6: ='Stavební rozpočet'!I6 | H6: IČO/DIČ:
A8: Začátek výstavby: | C8: ='Stavební rozpočet'!G4 | E8: Konec výstavby: | F8: ='Stavební rozpočet'!G6 | H8: Položek: | I8: 79
A10: JKSO: | C10: ='Stavební rozpočet'!C8 | E10: Zpracoval: | F10: ='Stavební rozpočet'!I8 | H10: Datum: | I10: ='Stavební rozpočet'!G8
A12: Rozpočtové náklady v Kč
A13: A | B13: Základní rozpočtové náklady | D13: B | E13: Doplňkové náklady | G13: C | H13: Náklady na umístění stavby (NUS)
A14: HSV | B14: Dodávky | C14: =SUM('Stavební rozpočet'!AB12:AB113) | D14: Práce přesčas | F14: =VORN!I15 | G14: Zařízení staveniště | I14: =VORN!I21
B15: Montáž | C15: =SUM('Stavební rozpočet'!AC12:AC113) | D15: Bez pevné podl. | F15: =VORN!I16 | G15: Mimostav. doprava | I15: =VORN!I22
A16: PSV | B16: Dodávky | C16: =SUM('Stavební rozpočet'!AD12:AD113) | D16: Kulturní památka | F16: =VORN!I17 | G16: Územní vlivy | I16: =VORN!I23
B17: Montáž | C17: =SUM('Stavební rozpočet'!AE12:AE113) | G17: Provozní vlivy | I17: =VORN!I24
A18: "M" | B18: Dodávky | C18: =SUM('Stavební rozpočet'!AF12:AF113) | G18: Ostatní | I18: =VORN!I25
B19: Montáž | C19: =SUM('Stavební rozpočet'!AG12:AG113) | G19: NUS z rozpočtu | I19: =VORN!I26
A20: Ostatní materiál | C20: =SUM('Stavební rozpočet'!AH12:AH113)
A21: Přesun hmot a sutí | C21: =SUM('Stavební rozpočet'!Z12:Z113)
A22: ZRN celkem | C22: =ROUND(SUM(C14:C21),-1) | D22: DN celkem | F22: =SUM(F14:F21) | G22: NUS celkem | I22: =SUM(I14:I21)
D23: DN celkem z obj. | F23: 0 | G23: NUS celkem z obj. | I23: 0
G24: VORN celkem | I24: =vorn_sum
G25: VORN celkem z obj. | I25: 0
A27: Základ 0% | C27: =ROUND(SUM('Stavební rozpočet'!AJ12:AJ113),-1)
A28: Základ 12% | C28: =ROUND(SUM('Stavební rozpočet'!AK12:AK113),-1) | D28: DPH 12% | F28: =ROUND(C28*(12/100),2) | G28: Celkem bez DPH | I28: =ROUND(SUM(C27:C29),-1)
A29: Základ 21% | C29: =ROUND(SUM('Stavební rozpočet'!AL12:AL113),-1) | D29: DPH 21% | F29: =ROUND(C29*(21/100),2) | G29: Celkem včetně DPH | I29: =ROUND(SUM(F28:F29)+I28,-1)
A31: Projektant | D31: Objednatel | G31: Zhotovitel
A35: Datum, razítko a podpis | D35: Datum, razítko a podpis | G35: Datum, razítko a podpis
A36: Poznámka:

Sheet VORN
A1: Vedlejší a ostatní rozpočtové náklady
A2: Název stavby: | C2: ='Stavební rozpočet'!C2 | E2: Objednatel: | F2: ='Stavební rozpočet'!I2 | H2: IČO/DIČ: | I2: 00260096/CZ00260096
A4: Druh stavby: | C4: ='Stavební rozpočet'!C4 | E4: Projektant: | F4: ='Stavební rozpočet'!I4 | H4: IČO/DIČ: | I4: 61130494/CZ7305252306
A6: Lokalita: | C6: ='Stavební rozpočet'!C6 | E6: Zhotovitel: | F6: ='Stavební rozpočet'!I6 | H6: IČO/DIČ:
A8: Začátek výstavby: | C8: ='Stavební rozpočet'!G4 | E8: Konec výstavby: | F8: ='Stavební rozpočet'!G6 | H8: Položek: | I8: 79
A10: JKSO: | C10: ='Stavební rozpočet'!C8 | E10: Zpracoval: | F10: ='Stavební rozpočet'!I8 | H10: Datum: | I10: ='Stavební rozpočet'!G8
A13: Vedlejší rozpočtové náklady VRN
A14: Doplňkové náklady DN | F14: Kč | G14: % | H14: Základna | I14: Kč
A15: Práce přesčas | F15: 0 | I15: =F15
A16: Bez pevné podl. | F16: 0 | I16: =F16
A17: Kulturní památka | F17: 0 | I17: =F17
A18: Celkem DN | I18: =SUM(I15:I17)
A20: Náklady na umístění stavby (NUS) | F20: Kč | G20: % | H20: Základna | I20: Kč
A21: Zařízení staveniště | F21: 0 | I21: =F21
A22: Mimostav. doprava | F22: 0 | I22: =F22
A23: Územní vlivy | F23: 0 | I23: =F23
A24: Provozní vlivy | F24: 0 | I24: =F24
A25: Ostatní | F25: 0 | I25: =F25
A26: NUS z rozpočtu | F26: 0 | I26: =F26
A27: Celkem NUS | I27: =SUM(I21:I26)
A29: Celkem VRN | F29: =I18+I27
A33: Vedlejší a ostatní rozpočtové náklady VORN
A34: Ostatní rozpočtové náklady (VORN) | F34: Kč | G34: % | H34: Základna | I34: Kč
A35: Průzkumy, geodetické a projektové práce | F35: =SUM('Stavební rozpočet'!BM12:BM113) | I35: =F35
A36: Příprava staveniště | F36: =SUM('Stavební rozpočet'!BN12:BN113) | I36: =F36
A37: Zařízení staveniště | F37: =SUM('Stavební rozpočet'!BO12:BO113) | I37: =F37
A38: Inženýrské činnosti | F38: =SUM('Stavební rozpočet'!BP12:BP113) | I38: =F38
A39: Finanční náklady | F39: =SUM('Stavební rozpočet'!BQ12:BQ113) | I39: =F39
A40: Územní vlivy | F40: =SUM('Stavební rozpočet'!BR12:BR113) | I40: =F40
A41: Provozní vlivy | F41: =SUM('Stavební rozpočet'!BS12:BS113) | I41: =F41
A42: Náklady na pracovníky | F42: =SUM('Stavební rozpočet'!BT12:BT113) | I42: =F42
A43: Ostatní náklady | F43: =SUM('Stavební rozpočet'!BU12:BU113) | I43: =F43
A44: Vlastní VORN | F44: =SUM('Stavební rozpočet'!BV12:BV113) | I44: =F44
A45: Celkem VORN | I45: =SUM(I35:I44)
