Workbook
Name vorn_sum: VORN!$I$45

Sheet Stavební rozpočet
A1: Slepý stavební rozpočet | AS1: =SUM(AJ1:AJ2) | AT1: =SUM(AK1:AK2) | AU1: =SUM(AL1:AL2)
A2: Název stavby: | C2: ZLIV nad Mží - VODOVOD | E2: Doba výstavby: | G2: 153 dní | H2: Objednatel: | I2: Město Planá, náměstí Svobody 1, 348 15 Planá
A4: Druh stavby: | C4: Technická infrastruktura - Vodovod | E4: Začátek výstavby: | G4: 01.05.2025 | H4: Projektant: | I4: Václav Říha, Tuněchody 9, 34901 Stříbro
A6: Lokalita: | C6: Zliv nad Mží, SO-201 Přívodní řad Svahy - Zliv | E6: Konec výstavby: | G6: 30.09.2025 | H6: Zhotovitel:
A8: JKSO: | C8: 8271111 | E8: Zpracováno dne: | G8: 30.11.2024 | H8: Zpracoval: | I8: Václav Říha
A10: Č | B10: Kód | C10: Zkrácený popis | E10: MJ | F10: Množství | G10: Cena/MJ | H10: Náklady (Kč) | K10: Cenová | BK10: ISWORK | BL10: GROUPCODE | BW10: VATTAX
C11: Rozměry | G11: (Kč) | H11: Dodávka | I11: Montáž | J11: Celkem | K11: soustava | Z11: Přesuny | AA11: Typ skupiny | AB11: HSV mat | AC11: HSV prac | AD11: PSV mat | AE11: PSV prac | AF11: Mont mat | AG11: Mont prac | AH11: Ostatní mat. | BH11: MAT | BI11: WORK | BJ11: CELK
B12: 11 | C12: Přípravné a přidružené práce | H12: =SUM(H13:H16) | I12: =SUM(I13:I16) | J12: =SUM(J13:J16) | AS12: =SUM(AJ13:AJ16) | AT12: =SUM(AK13:AK16) | AU12: =SUM(AL13:AL16)
A13: 1 | B13: 115101201R00 | C13: Čerpání vody na výšku do 10 m, přítok do 500 l | E13: h | F13: 8 | G13: 0 | H13: =F13*AO13 | I13: =F13*AP13 | J13: =F13*G13 | K13: RTS II / 2024 | Z13: =IF(AQ13="5",BJ13,0) | AB13: =IF(AQ13="1",BH13,0) | AC13: =IF(AQ13="1",BI13,0) | AD13: =IF(AQ13="7",BH13,0) | AE13: =IF(AQ13="7",BI13,0) | AF13: =IF(AQ13="2",BH13,0) | AG13: =IF(AQ13="2",BI13,0) | AH13: =IF(AQ13="0",BJ13,0) | AJ13: =IF(AN13=0,J13,0) | AK13: =IF(AN13=12,J13,0) | AL13: =IF(AN13=21,J13,0) | AN13: 21 | AO13: =G13*0 | AP13: =G13*(1-0) | AQ13: 1 | AV13: =AW13+AX13 | AW13: =F13*AO13 | AX13: =F13*AP13 | AY13: 11_ | AZ13: 1_ | BA13: _ | BC13: =AW13+AX13 | BD13: =G13/(100-BE13)*100 | BE13: 0 | BF13: =13 | BH13: =F13*AO13 | BI13: =F13*AP13 | BJ13: =F13*G13 | BL13: 11 | BW13: 21 | BX13: Čerpání vody na výšku do 10 m, přítok do 500 l
A14: 2 | B14: 119001412R00 | C14: Dočasné zajištění vodovodního potrubí do DN 80 | E14: m | F14: 3 | G14: 0 | H14: =F14*AO14 | I14: =F14*AP14 | J14: =F14*G14 | K14: RTS II / 2024 | Z14: =IF(AQ14="5",BJ14,0) | AB14: =IF(AQ14="1",BH14,0) | AC14: =IF(AQ14="1",BI14,0) | AD14: =IF(AQ14="7",BH14,0) | AE14: =IF(AQ14="7",BI14,0) | AF14: =IF(AQ14="2",BH14,0) | AG14: =IF(AQ14="2",BI14,0) | AH14: =IF(AQ14="0",BJ14,0) | AJ14: =IF(AN14=0,J14,0) | AK14: =IF(AN14=12,J14,0) | AL14: =IF(AN14=21,J14,0) | AN14: 21 | AO14: =G14*0.244002525 | AP14: =G14*(1-0.244002525) | AQ14: 1 | AV14: =AW14+AX14 | AW14: =F14*AO14 | AX14: =F14*AP14 | AY14: 11_ | AZ14: 1_ | BA14: _ | BC14: =AW14+AX14 | BD14: =G14/(100-BE14)*100 | BE14: 0 | BF14: =14 | BH14: =F14*AO14 | BI14: =F14*AP14 | BJ14: =F14*G14 | BL14: 11 | BW14: 21 | BX14: Dočasné zajištění vodovodního potrubí do DN 80
A15: 3 | B15: 119001421R00 | C15: Dočasné zajištění kabelů - do počtu 3 kabelů | E15: m | F15: 3 | G15: 0 | H15: =F15*AO15 | I15: =F15*AP15 | J15: =F15*G15 | K15: RTS II / 2024 | Z15: =IF(AQ15="5",BJ15,0) | AB15: =IF(AQ15="1",BH15,0) | AC15: =IF(AQ15="1",BI15,0) | AD15: =IF(AQ15="7",BH15,0) | AE15: =IF(AQ15="7",BI15,0) | AF15: =IF(AQ15="2",BH15,0) | AG15: =IF(AQ15="2",BI15,0) | AH15: =IF(AQ15="0",BJ15,0) | AJ15: =IF(AN15=0,J15,0) | AK15: =IF(AN15=12,J15,0) | AL15: =IF(AN15=21,J15,0) | AN15: 21 | AO15: =G15*0.278084053 | AP15: =G15*(1-0.278084053) | AQ15: 1 | AV15: =AW15+AX15 | AW15: =F15*AO15 | AX15: =F15*AP15 | AY15: 11_ | AZ15: 1_ | BA15: _ | BC15: =AW15+AX15 | BD15: =G15/(100-BE15)*100 | BE15: 0 | BF15: =15 | BH15: =F15*AO15 | BI15: =F15*AP15 | BJ15: =F15*G15 | BL15: 11 | BW15: 21 | BX15: Dočasné zajištění kabelů - do počtu 3 kabelů
A16: 4 | B16: 113108315R00 | C16: Odstranění asfaltové vrstvy pl. do 50 m2, tl.15 cm | E16: m2 | F16: 2 | G16: 0 | H16: =F16*AO16 | I16: =F16*AP16 | J16: =F16*G16 | K16: RTS II / 2024 | Z16: =IF(AQ16="5",BJ16,0) | AB16: =IF(AQ16="1",BH16,0) | AC16: =IF(AQ16="1",BI16,0) | AD16: =IF(AQ16="7",BH16,0) | AE16: =IF(AQ16="7",BI16,0) | AF16: =IF(AQ16="2",BH16,0) | AG16: =IF(AQ16="2",BI16,0) | AH16: =IF(AQ16="0",BJ16,0) | AJ16: =IF(AN16=0,J16,0) | AK16: =IF(AN16=12,J16,0) | AL16: =IF(AN16=21,J16,0) | AN16: 21 | AO16: =G16*0 | AP16: =G16*(1-0) | AQ16: 1 | AV16: =AW16+AX16 | AW16: =F16*AO16 | AX16: =F16*AP16 | AY16: 11_ | AZ16: 1_ | BA16: _ | BC16: =AW16+AX16 | BD16: =G16/(100-BE16)*100 | BE16: 0 | BF16: =16 | BH16: =F16*AO16 | BI16: =F16*AP16 | BJ16: =F16*G16 | BL16: 11 | BW16: 21 | BX16: Odstranění asfaltové vrstvy pl. do 50 m2, tl.15 cm
B17: 12 | C17: Odkopávky a prokopávky | H17: =SUM(H18:H18) | I17: =SUM(I18:I18) | J17: =SUM(J18:J18) | AS17: =SUM(AJ18:AJ18) | AT17: =SUM(AK18:AK18) | AU17: =SUM(AL18:AL18)
A18: 5 | B18: 121101101R00 | C18: Sejmutí ornice s přemístěním do 50 m | E18: m3 | F18: 6 | G18: 0 | H18: =F18*AO18 | I18: =F18*AP18 | J18: =F18*G18 | K18: RTS II / 2024 | Z18: =IF(AQ18="5",BJ18,0) | AB18: =IF(AQ18="1",BH18,0) | AC18: =IF(AQ18="1",BI18,0) | AD18: =IF(AQ18="7",BH18,0) | AE18: =IF(AQ18="7",BI18,0) | AF18: =IF(AQ18="2",BH18,0) | AG18: =IF(AQ18="2",BI18,0) | AH18: =IF(AQ18="0",BJ18,0) | AJ18: =IF(AN18=0,J18,0) | AK18: =IF(AN18=12,J18,0) | AL18: =IF(AN18=21,J18,0) | AN18: 21 | AO18: =G18*0 | AP18: =G18*(1-0) | AQ18: 1 | AV18: =AW18+AX18 | AW18: =F18*AO18 | AX18: =F18*AP18 | AY18: 12_ | AZ18: 1_ | BA18: _ | BC18: =AW18+AX18 | BD18: =G18/(100-BE18)*100 | BE18: 0 | BF18: =18 | BH18: =F18*AO18 | BI18: =F18*AP18 | BJ18: =F18*G18 | BL18: 12 | BW18: 21 | BX18: Sejmutí ornice s přemístěním do 50 m
B19: 13 | C19: Hloubené vykopávky | H19: =SUM(H20:H22) | I19: =SUM(I20:I22) | J19: =SUM(J20:J22) | AS19: =SUM(AJ20:AJ22) | AT19: =SUM(AK20:AK22) | AU19: =SUM(AL20:AL22)
A20: 6 | B20: 133201102R00 | C20: Hloubení šachet v hor.3 nad 100 m3 - montážní šachty | E20: m3 | F20: 21.12 | G20: 0 | H20: =F20*AO20 | I20: =F20*AP20 | J20: =F20*G20 | K20: RTS II / 2024 | Z20: =IF(AQ20="5",BJ20,0) | AB20: =IF(AQ20="1",BH20,0) | AC20: =IF(AQ20="1",BI20,0) | AD20: =IF(AQ20="7",BH20,0) | AE20: =IF(AQ20="7",BI20,0) | AF20: =IF(AQ20="2",BH20,0) | AG20: =IF(AQ20="2",BI20,0) | AH20: =IF(AQ20="0",BJ20,0) | AJ20: =IF(AN20=0,J20,0) | AK20: =IF(AN20=12,J20,0) | AL20: =IF(AN20=21,J20,0) | AN20: 21 | AO20: =G20*0 | AP20: =G20*(1-0) | AQ20: 1 | AV20: =AW20+AX20 | AW20: =F20*AO20 | AX20: =F20*AP20 | AY20: 13_ | AZ20: 1_ | BA20: _ | BC20: =AW20+AX20 | BD20: =G20/(100-BE20)*100 | BE20: 0 | BF20: =20 | BH20: =F20*AO20 | BI20: =F20*AP20 | BJ20: =F20*G20 | BL20: 13 | BW20: 21 | BX20: Hloubení šachet v hor.3 nad 100 m3 - montážní šachty
A21: 7 | B21: 133301102R00 | C21: Hloubení šachet v hor.4 nad 100 m3 - montážní šachty | E21: m3 | F21: 31.68 | G21: 0 | H21: =F21*AO21 | I21: =F21*AP21 | J21: =F21*G21 | K21: RTS II / 2024 | Z21: =IF(AQ21="5",BJ21,0) | AB21: =IF(AQ21="1",BH21,0) | AC21: =IF(AQ21="1",BI21,0) | AD21: =IF(AQ21="7",BH21,0) | AE21: =IF(AQ21="7",BI21,0) | AF21: =IF(AQ21="2",BH21,0) | AG21: =IF(AQ21="2",BI21,0) | AH21: =IF(AQ21="0",BJ21,0) | AJ21: =IF(AN21=0,J21,0) | AK21: =IF(AN21=12,J21,0) | AL21: =IF(AN21=21,J21,0) | AN21: 21 | AO21: =G21*0 | AP21: =G21*(1-0) | AQ21: 1 | AV21: =AW21+AX21 | AW21: =F21*AO21 | AX21: =F21*AP21 | AY21: 13_ | AZ21: 1_ | BA21: _ | BC21: =AW21+AX21 | BD21: =G21/(100-BE21)*100 | BE21: 0 | BF21: =21 | BH21: =F21*AO21 | BI21: =F21*AP21 | BJ21: =F21*G21 | BL21: 13 | BW21: 21 | BX21: Hloubení šachet v hor.4 nad 100 m3 - montážní šachty
A22: 8 | B22: 130001101R00 | C22: Příplatek za ztížené hloubení v blízkosti vedení | E22: m3 | F22: 4.5 | G22: 0 | H22: =F22*AO22 | I22: =F22*AP22 | J22: =F22*G22 | K22: RTS II / 2024 | Z22: =IF(AQ22="5",BJ22,0) | AB22: =IF(AQ22="1",BH22,0) | AC22: =IF(AQ22="1",BI22,0) | AD22: =IF(AQ22="7",BH22,0) | AE22: =IF(AQ22="7",BI22,0) | AF22: =IF(AQ22="2",BH22,0) | AG22: =IF(AQ22="2",BI22,0) | AH22: =IF(AQ22="0",BJ22,0) | AJ22: =IF(AN22=0,J22,0) | AK22: =IF(AN22=12,J22,0) | AL22: =IF(AN22=21,J22,0) | AN22: 21 | AO22: =G22*0 | AP22: =G22*(1-0) | AQ22: 1 | AV22: =AW22+AX22 | AW22: =F22*AO22 | AX22: =F22*AP22 | AY22: 13_ | AZ22: 1_ | BA22: _ | BC22: =AW22+AX22 | BD22: =G22/(100-BE22)*100 | BE22: 0 | BF22: =22 | BH22: =F22*AO22 | BI22: =F22*AP22 | BJ22: =F22*G22 | BL22: 13 | BW22: 21 | BX22: Příplatek za ztížené hloubení v blízkosti vedení
B23: 14 | C23: Ražení a hloubení tunelářské | H23: =SUM(H24:H24) | I23: =SUM(I24:I24) | J23: =SUM(J24:J24) | AS23: =SUM(AJ24:AJ24) | AT23: =SUM(AK24:AK24) | AU23: =SUM(AL24:AL24)
A24: 9 | B24: 141721101R00 | C24: Řízené protlačení a vtažení PE d 75 mm, hor.1 - 4 | E24: m | F24: 1142 | G24: 0 | H24: =F24*AO24 | I24: =F24*AP24 | J24: =F24*G24 | K24: RTS II / 2024 | Z24: =IF(AQ24="5",BJ24,0) | AB24: =IF(AQ24="1",BH24,0) | AC24: =IF(AQ24="1",BI24,0) | AD24: =IF(AQ24="7",BH24,0) | AE24: =IF(AQ24="7",BI24,0) | AF24: =IF(AQ24="2",BH24,0) | AG24: =IF(AQ24="2",BI24,0) | AH24: =IF(AQ24="0",BJ24,0) | AJ24: =IF(AN24=0,J24,0) | AK24: =IF(AN24=12,J24,0) | AL24: =IF(AN24=21,J24,0) | AN24: 21 | AO24: =G24*0.008413223 | AP24: =G24*(1-0.008413223) | AQ24: 1 | AV24: =AW24+AX24 | AW24: =F24*AO24 | AX24: =F24*AP24 | AY24: 14_ | AZ24: 1_ | BA24: _ | BC24: =AW24+AX24 | BD24: =G24/(100-BE24)*100 | BE24: 0 | BF24: =24 | BH24: =F24*AO24 | BI24: =F24*AP24 | BJ24: =F24*G24 | BL24: 14 | BW24: 21 | BX24: Řízené protlačení a vtažení PE d 75 mm, hor.1 - 4
B25: 16 | C25: Přemístění výkopku | H25: =SUM(H26:H27) | I25: =SUM(I26:I27) | J25: =SUM(J26:J27) | AS25: =SUM(AJ26:AJ27) | AT25: =SUM(AK26:AK27) | AU25: =SUM(AL26:AL27)
A26: 10 | B26: 162701105R00 | C26: Vodorovné přemístění odstraněného asfaltu k recyklaci - do 10000 m | E26: m3 | F26: 0.3 | G26: 0 | H26: =F26*AO26 | I26: =F26*AP26 | J26: =F26*G26 | K26: RTS II / 2024 | Z26: =IF(AQ26="5",BJ26,0) | AB26: =IF(AQ26="1",BH26,0) | AC26: =IF(AQ26="1",BI26,0) | AD26: =IF(AQ26="7",BH26,0) | AE26: =IF(AQ26="7",BI26,0) | AF26: =IF(AQ26="2",BH26,0) | AG26: =IF(AQ26="2",BI26,0) | AH26: =IF(AQ26="0",BJ26,0) | AJ26: =IF(AN26=0,J26,0) | AK26: =IF(AN26=12,J26,0) | AL26: =IF(AN26=21,J26,0) | AN26: 21 | AO26: =G26*0 | AP26: =G26*(1-0) | AQ26: 1 | AV26: =AW26+AX26 | AW26: =F26*AO26 | AX26: =F26*AP26 | AY26: 16_ | AZ26: 1_ | BA26: _ | BC26: =AW26+AX26 | BD26: =G26/(100-BE26)*100 | BE26: 0 | BF26: =26 | BH26: =F26*AO26 | BI26: =F26*AP26 | BJ26: =F26*G26 | BL26: 16 | BW26: 21 | BX26: Vodorovné přemístění odstraněného asfaltu k recyklaci - do 10000 m
A27: 11 | B27: 162702199R00 | C27: Poplatek za recyklaci odstraněného asfaltového krytu | E27: t | F27: 0.75 | G27: 0 | H27: =F27*AO27 | I27: =F27*AP27 | J27: =F27*G27 | K27: RTS II / 2024 | Z27: =IF(AQ27="5",BJ27,0) | AB27: =IF(AQ27="1",BH27,0) | AC27: =IF(AQ27="1",BI27,0) | AD27: =IF(AQ27="7",BH27,0) | AE27: =IF(AQ27="7",BI27,0) | AF27: =IF(AQ27="2",BH27,0) | AG27: =IF(AQ27="2",BI27,0) | AH27: =IF(AQ27="0",BJ27,0) | AJ27: =IF(AN27=0,J27,0) | AK27: =IF(AN27=12,J27,0) | AL27: =IF(AN27=21,J27,0) | AN27: 21 | AO27: =G27*0 | AP27: =G27*(1-0) | AQ27: 1 | AV27: =AW27+AX27 | AW27: =F27*AO27 | AX27: =F27*AP27 | AY27: 16_ | AZ27: 1_ | BA27: _ | BC27: =AW27+AX27 | BD27: =G27/(100-BE27)*100 | BE27: 0 | BF27: =27 | BH27: =F27*AO27 | BI27: =F27*AP27 | BJ27: =F27*G27 | BL27: 16 | BW27: 21 | BX27: Poplatek za recyklaci odstraněného asfaltového krytu
B28: 17 | C28: Konstrukce ze zemin | H28: =SUM(H29:H30) | I28: =SUM(I29:I30) | J28: =SUM(J29:J30) | AS28: =SUM(AJ29:AJ30) | AT28: =SUM(AK29:AK30) | AU28: =SUM(AL29:AL30)
A29: 12 | B29: 174101101R00 | C29: Zásyp jam, rýh, šachet se zhutněním | E29: m3 | F29: 48.6 | G29: 0 | H29: =F29*AO29 | I29: =F29*AP29 | J29: =F29*G29 | K29: RTS II / 2024 | Z29: =IF(AQ29="5",BJ29,0) | AB29: =IF(AQ29="1",BH29,0) | AC29: =IF(AQ29="1",BI29,0) | AD29: =IF(AQ29="7",BH29,0) | AE29: =IF(AQ29="7",BI29,0) | AF29: =IF(AQ29="2",BH29,0) | AG29: =IF(AQ29="2",BI29,0) | AH29: =IF(AQ29="0",BJ29,0) | AJ29: =IF(AN29=0,J29,0) | AK29: =IF(AN29=12,J29,0) | AL29: =IF(AN29=21,J29,0) | AN29: 21 | AO29: =G29*0 | AP29: =G29*(1-0) | AQ29: 1 | AV29: =AW29+AX29 | AW29: =F29*AO29 | AX29: =F29*AP29 | AY29: 17_ | AZ29: 1_ | BA29: _ | BC29: =AW29+AX29 | BD29: =G29/(100-BE29)*100 | BE29: 0 | BF29: =29 | BH29: =F29*AO29 | BI29: =F29*AP29 | BJ29: =F29*G29 | BL29: 17 | BW29: 21 | BX29: Zásyp jam, rýh, šachet se zhutněním
A30: 13 | B30: 175101101R00 | C30: Obsyp potrubí bez prohození sypaniny | E30: m3 | F30: 2.8 | G30: 0 | H30: =F30*AO30 | I30: =F30*AP30 | J30: =F30*G30 | K30: RTS II / 2024 | Z30: =IF(AQ30="5",BJ30,0) | AB30: =IF(AQ30="1",BH30,0) | AC30: =IF(AQ30="1",BI30,0) | AD30: =IF(AQ30="7",BH30,0) | AE30: =IF(AQ30="7",BI30,0) | AF30: =IF(AQ30="2",BH30,0) | AG30: =IF(AQ30="2",BI30,0) | AH30: =IF(AQ30="0",BJ30,0) | AJ30: =IF(AN30=0,J30,0) | AK30: =IF(AN30=12,J30,0) | AL30: =IF(AN30=21,J30,0) | AN30: 21 | AO30: =G30*0 | AP30: =G30*(1-0) | AQ30: 1 | AV30: =AW30+AX30 | AW30: =F30*AO30 | AX30: =F30*AP30 | AY30: 17_ | AZ30: 1_ | BA30: _ | BC30: =AW30+AX30 | BD30: =G30/(100-BE30)*100 | BE30: 0 | BF30: =30 | BH30: =F30*AO30 | BI30: =F30*AP30 | BJ30: =F30*G30 | BL30: 17 | BW30: 21 | BX30: Obsyp potrubí bez prohození sypaniny
B31: 18 | C31: Povrchové úpravy terénu | H31: =SUM(H32:H34) | I31: =SUM(I32:I34) | J31: =SUM(J32:J34) | AS31: =SUM(AJ32:AJ34) | AT31: =SUM(AK32:AK34) | AU31: =SUM(AL32:AL34)
A32: 14 | B32: 181301113R00 | C32: Rozprostření ornice, rovina, tl.15-20 cm,nad 500m2 | E32: m2 | F32: 40 | G32: 0 | H32: =F32*AO32 | I32: =F32*AP32 | J32: =F32*G32 | K32: RTS II / 2024 | Z32: =IF(AQ32="5",BJ32,0) | AB32: =IF(AQ32="1",BH32,0) | AC32: =IF(AQ32="1",BI32,0) | AD32: =IF(AQ32="7",BH32,0) | AE32: =IF(AQ32="7",BI32,0) | AF32: =IF(AQ32="2",BH32,0) | AG32: =IF(AQ32="2",BI32,0) | AH32: =IF(AQ32="0",BJ32,0) | AJ32: =IF(AN32=0,J32,0) | AK32: =IF(AN32=12,J32,0) | AL32: =IF(AN32=21,J32,0) | AN32: 21 | AO32: =G32*0 | AP32: =G32*(1-0) | AQ32: 1 | AV32: =AW32+AX32 | AW32: =F32*AO32 | AX32: =F32*AP32 | AY32: 18_ | AZ32: 1_ | BA32: _ | BC32: =AW32+AX32 | BD32: =G32/(100-BE32)*100 | BE32: 0 | BF32: =32 | BH32: =F32*AO32 | BI32: =F32*AP32 | BJ32: =F32*G32 | BL32: 18 | BW32: 21 | BX32: Rozprostření ornice, rovina, tl.15-20 cm,nad 500m2
A33: 15 | B33: 180401211R00 | C33: Založení trávníku lučního výsevem v rovině | E33: m2 | F33: 40 | G33: 0 | H33: =F33*AO33 | I33: =F33*AP33 | J33: =F33*G33 | K33: RTS II / 2024 | Z33: =IF(AQ33="5",BJ33,0) | AB33: =IF(AQ33="1",BH33,0) | AC33: =IF(AQ33="1",BI33,0) | AD33: =IF(AQ33="7",BH33,0) | AE33: =IF(AQ33="7",BI33,0) | AF33: =IF(AQ33="2",BH33,0) | AG33: =IF(AQ33="2",BI33,0) | AH33: =IF(AQ33="0",BJ33,0) | AJ33: =IF(AN33=0,J33,0) | AK33: =IF(AN33=12,J33,0) | AL33: =IF(AN33=21,J33,0) | AN33: 21 | AO33: =G33*0.068199841 | AP33: =G33*(1-0.068199841) | AQ33: 1 | AV33: =AW33+AX33 | AW33: =F33*AO33 | AX33: =F33*AP33 | AY33: 18_ | AZ33: 1_ | BA33: _ | BC33: =AW33+AX33 | BD33: =G33/(100-BE33)*100 | BE33: 0 | BF33: =33 | BH33: =F33*AO33 | BI33: =F33*AP33 | BJ33: =F33*G33 | BL33: 18 | BW33: 21 | BX33: Založení trávníku lučního výsevem v rovině
A34: 16 | B34: 181006114R00 | C34: Rozprostření zemin v rov./sklonu 1:5, tl. do 30 cm - přebytek zeminy | E34: m2 | F34: 21 | G34: 0 | H34: =F34*AO34 | I34: =F34*AP34 | J34: =F34*G34 | K34: RTS II / 2024 | Z34: =IF(AQ34="5",BJ34,0) | AB34: =IF(AQ34="1",BH34,0) | AC34: =IF(AQ34="1",BI34,0) | AD34: =IF(AQ34="7",BH34,0) | AE34: =IF(AQ34="7",BI34,0) | AF34: =IF(AQ34="2",BH34,0) | AG34: =IF(AQ34="2",BI34,0) | AH34: =IF(AQ34="0",BJ34,0) | AJ34: =IF(AN34=0,J34,0) | AK34: =IF(AN34=12,J34,0) | AL34: =IF(AN34=21,J34,0) | AN34: 21 | AO34: =G34*0 | AP34: =G34*(1-0) | AQ34: 1 | AV34: =AW34+AX34 | AW34: =F34*AO34 | AX34: =F34*AP34 | AY34: 18_ | AZ34: 1_ | BA34: _ | BC34: =AW34+AX34 | BD34: =G34/(100-BE34)*100 | BE34: 0 | BF34: =34 | BH34: =F34*AO34 | BI34: =F34*AP34 | BJ34: =F34*G34 | BL34: 18 | BW34: 21 | BX34: Rozprostření zemin v rov./sklonu 1:5, tl. do 30 cm - přebytek zeminy
B35: 45 | C35: Podkladní a vedlejší konstrukce (inženýr. stavby kromě vozovek a železnič. svršku) | H35: =SUM(H36:H37) | I35: =SUM(I36:I37) | J35: =SUM(J36:J37) | AS35: =SUM(AJ36:AJ37) | AT35: =SUM(AK36:AK37) | AU35: =SUM(AL36:AL37)
A36: 17 | B36: 451572111R00 | C36: Lože pod potrubí z kameniva těženého 0 - 4 mm | E36: m3 | F36: 1.4 | G36: 0 | H36: =F36*AO36 | I36: =F36*AP36 | J36: =F36*G36 | K36: RTS II / 2024 | Z36: =IF(AQ36="5",BJ36,0) | AB36: =IF(AQ36="1",BH36,0) | AC36: =IF(AQ36="1",BI36,0) | AD36: =IF(AQ36="7",BH36,0) | AE36: =IF(AQ36="7",BI36,0) | AF36: =IF(AQ36="2",BH36,0) | AG36: =IF(AQ36="2",BI36,0) | AH36: =IF(AQ36="0",BJ36,0) | AJ36: =IF(AN36=0,J36,0) | AK36: =IF(AN36=12,J36,0) | AL36: =IF(AN36=21,J36,0) | AN36: 21 | AO36: =G36*0.467115987 | AP36: =G36*(1-0.467115987) | AQ36: 1 | AV36: =AW36+AX36 | AW36: =F36*AO36 | AX36: =F36*AP36 | AY36: 45_ | AZ36: 4_ | BA36: _ | BC36: =AW36+AX36 | BD36: =G36/(100-BE36)*100 | BE36: 0 | BF36: =36 | BH36: =F36*AO36 | BI36: =F36*AP36 | BJ36: =F36*G36 | BL36: 45 | BW36: 21 | BX36: Lože pod potrubí z kameniva těženého 0 - 4 mm
A37: 18 | B37: 451535111R00 | C37: Podkladní vrstva šachet tl. do 25 cm ze štěrkodrti 16/32 | E37: m3 | F37: 1.01 | G37: 0 | H37: =F37*AO37 | I37: =F37*AP37 | J37: =F37*G37 | K37: RTS II / 2024 | Z37: =IF(AQ37="5",BJ37,0) | AB37: =IF(AQ37="1",BH37,0) | AC37: =IF(AQ37="1",BI37,0) | AD37: =IF(AQ37="7",BH37,0) | AE37: =IF(AQ37="7",BI37,0) | AF37: =IF(AQ37="2",BH37,0) | AG37: =IF(AQ37="2",BI37,0) | AH37: =IF(AQ37="0",BJ37,0) | AJ37: =IF(AN37=0,J37,0) | AK37: =IF(AN37=12,J37,0) | AL37: =IF(AN37=21,J37,0) | AN37: 21 | AO37: =G37*0.655940722 | AP37: =G37*(1-0.655940722) | AQ37: 1 | AV37: =AW37+AX37 | AW37: =F37*AO37 | AX37: =F37*AP37 | AY37: 45_ | AZ37: 4_ | BA37: _ | BC37: =AW37+AX37 | BD37: =G37/(100-BE37)*100 | BE37: 0 | BF37: =37 | BH37: =F37*AO37 | BI37: =F37*AP37 | BJ37: =F37*G37 | BL37: 45 | BW37: 21 | BX37: Podkladní vrstva šachet tl. do 25 cm ze štěrkodrti 16/32
B38: 56 | C38: Podkladní vrstvy komunikací, letišť a ploch | H38: =SUM(H39:H40) | I38: =SUM(I39:I40) | J38: =SUM(J39:J40) | AS38: =SUM(AJ39:AJ40) | AT38: =SUM(AK39:AK40) | AU38: =SUM(AL39:AL40)
A39: 19 | B39: 564861111RT4 | C39: Podklad ze štěrkodrti 0/63 mm po zhutnění tloušťky 20 cm - oprava výkopů | E39: m2 | F39: 2 | G39: 0 | H39: =F39*AO39 | I39: =F39*AP39 | J39: =F39*G39 | K39: RTS II / 2024 | Z39: =IF(AQ39="5",BJ39,0) | AB39: =IF(AQ39="1",BH39,0) | AC39: =IF(AQ39="1",BI39,0) | AD39: =IF(AQ39="7",BH39,0) | AE39: =IF(AQ39="7",BI39,0) | AF39: =IF(AQ39="2",BH39,0) | AG39: =IF(AQ39="2",BI39,0) | AH39: =IF(AQ39="0",BJ39,0) | AJ39: =IF(AN39=0,J39,0) | AK39: =IF(AN39=12,J39,0) | AL39: =IF(AN39=21,J39,0) | AN39: 21 | AO39: =G39*0.844923027 | AP39: =G39*(1-0.844923027) | AQ39: 1 | AV39: =AW39+AX39 | AW39: =F39*AO39 | AX39: =F39*AP39 | AY39: 56_ | AZ39: 5_ | BA39: _ | BC39: =AW39+AX39 | BD39: =G39/(100-BE39)*100 | BE39: 0 | BF39: =39 | BH39: =F39*AO39 | BI39: =F39*AP39 | BJ39: =F39*G39 | BL39: 56 | BW39: 21 | BX39: Podklad ze štěrkodrti 0/63 mm po zhutnění tloušťky 20 cm - oprava výkopů
A40: 20 | B40: 567122114R00 | C40: Podklad z kameniva zpev.cementem SC C8/10 tl.15 cm | E40: m2 | F40: 2 | G40: 0 | H40: =F40*AO40 | I40: =F40*AP40 | J40: =F40*G40 | K40: RTS II / 2024 | Z40: =IF(AQ40="5",BJ40,0) | AB40: =IF(AQ40="1",BH40,0) | AC40: =IF(AQ40="1",BI40,0) | AD40: =IF(AQ40="7",BH40,0) | AE40: =IF(AQ40="7",BI40,0) | AF40: =IF(AQ40="2",BH40,0) | AG40: =IF(AQ40="2",BI40,0) | AH40: =IF(AQ40="0",BJ40,0) | AJ40: =IF(AN40=0,J40,0) | AK40: =IF(AN40=12,J40,0) | AL40: =IF(AN40=21,J40,0) | AN40: 21 | AO40: =G40*0.908647126 | AP40: =G40*(1-0.908647126) | AQ40: 1 | AV40: =AW40+AX40 | AW40: =F40*AO40 | AX40: =F40*AP40 | AY40: 56_ | AZ40: 5_ | BA40: _ | BC40: =AW40+AX40 | BD40: =G40/(100-BE40)*100 | BE40: 0 | BF40: =40 | BH40: =F40*AO40 | BI40: =F40*AP40 | BJ40: =F40*G40 | BL40: 56 | BW40: 21 | BX40: Podklad z kameniva zpev.cementem SC C8/10 tl.15 cm
B41: 57 | C41: Kryty pozemních komunikací, letišť a ploch z kameniva nebo živičné | H41: =SUM(H42:H43) | I41: =SUM(I42:I43) | J41: =SUM(J42:J43) | AS41: =SUM(AJ42:AJ43) | AT41: =SUM(AK42:AK43) | AU41: =SUM(AL42:AL43)
A42: 21 | B42: 577141112R00 | C42: Beton asfalt. ACO 11+,nebo ACO 16+,do 3 m, tl.5 cm | E42: m2 | F42: 3 | G42: 0 | H42: =F42*AO42 | I42: =F42*AP42 | J42: =F42*G42 | K42: RTS II / 2024 | Z42: =IF(AQ42="5",BJ42,0) | AB42: =IF(AQ42="1",BH42,0) | AC42: =IF(AQ42="1",BI42,0) | AD42: =IF(AQ42="7",BH42,0) | AE42: =IF(AQ42="7",BI42,0) | AF42: =IF(AQ42="2",BH42,0) | AG42: =IF(AQ42="2",BI42,0) | AH42: =IF(AQ42="0",BJ42,0) | AJ42: =IF(AN42=0,J42,0) | AK42: =IF(AN42=12,J42,0) | AL42: =IF(AN42=21,J42,0) | AN42: 21 | AO42: =G42*0.785733333 | AP42: =G42*(1-0.785733333) | AQ42: 1 | AV42: =AW42+AX42 | AW42: =F42*AO42 | AX42: =F42*AP42 | AY42: 57_ | AZ42: 5_ | BA42: _ | BC42: =AW42+AX42 | BD42: =G42/(100-BE42)*100 | BE42: 0 | BF42: =42 | BH42: =F42*AO42 | BI42: =F42*AP42 | BJ42: =F42*G42 | BL42: 57 | BW42: 21 | BX42: Beton asfalt. ACO 11+,nebo ACO 16+,do 3 m, tl.5 cm
A43: 22 | B43: 577161224R00 | C43: Beton asfalt. ACL 22 ložný, š. do 3 m, tl. 7 cm | E43: m2 | F43: 2 | G43: 0 | H43: =F43*AO43 | I43: =F43*AP43 | J43: =F43*G43 | K43: RTS II / 2024 | Z43: =IF(AQ43="5",BJ43,0) | AB43: =IF(AQ43="1",BH43,0) | AC43: =IF(AQ43="1",BI43,0) | AD43: =IF(AQ43="7",BH43,0) | AE43: =IF(AQ43="7",BI43,0) | AF43: =IF(AQ43="2",BH43,0) | AG43: =IF(AQ43="2",BI43,0) | AH43: =IF(AQ43="0",BJ43,0) | AJ43: =IF(AN43=0,J43,0) | AK43: =IF(AN43=12,J43,0) | AL43: =IF(AN43=21,J43,0) | AN43: 21 | AO43: =G43*0.815372544 | AP43: =G43*(1-0.815372544) | AQ43: 1 | AV43: =AW43+AX43 | AW43: =F43*AO43 | AX43: =F43*AP43 | AY43: 57_ | AZ43: 5_ | BA43: _ | BC43: =AW43+AX43 | BD43: =G43/(100-BE43)*100 | BE43: 0 | BF43: =43 | BH43: =F43*AO43 | BI43: =F43*AP43 | BJ43: =F43*G43 | BL43: 57 | BW43: 21 | BX43: Beton asfalt. ACL 22 ložný, š. do 3 m, tl. 7 cm
B44: 722 | C44: Vnitřní vodovod | H44: =SUM(H45:H45) | I44: =SUM(I45:I45) | J44: =SUM(J45:J45) | AS44: =SUM(AJ45:AJ45) | AT44: =SUM(AK45:AK45) | AU44: =SUM(AL45:AL45)
...

Sheet Výkaz výměr
A1: Výkaz výměr
A2: Název stavby: | C2: ='Stavební rozpočet'!C2 | E2: Objednatel: | F2: ='Stavební rozpočet'!I2
A4: Druh stavby: | C4: ='Stavební rozpočet'!C4 | E4: Projektant: | F4: ='Stavební rozpočet'!I4
A6: Lokalita: | C6: ='Stavební rozpočet'!C6 | E6: Zhotovitel: | F6: ='Stavební rozpočet'!I6
A8: Zpracoval: | C8: ='Stavební rozpočet'!I8 | E8: Zpracováno dne: | F8: ='Stavební rozpočet'!G8
A10: Č | B10: Objekt | C10: Kód | D10: Zkrácený popis | F10: MJ | G10: Množství | H10: Potřebné množství
A11: 1 | C11: 115101201R00 | D11: Čerpání vody na výšku do 10 m, přítok do 500 l | F11: h | G11: 8 | H11: 0
D12: 8 | G12: 8
A13: 2 | C13: 119001412R00 | D13: Dočasné zajištění vodovodního potrubí do DN 80 | F13: m | G13: 3 | H13: 0
D14: 3 | G14: 3
A15: 3 | C15: 119001421R00 | D15: Dočasné zajištění kabelů - do počtu 3 kabelů | F15: m | G15: 3 | H15: 0
D16: 3 | G16: 3
A17: 4 | C17: 113108315R00 | D17: Odstranění asfaltové vrstvy pl. do 50 m2, tl.15 cm | F17: m2 | G17: 2 | H17: 0
D18: 2,0*1,0 | G18: 2
A19: 5 | C19: 121101101R00 | D19: Sejmutí ornice s přemístěním do 50 m | F19: m3 | G19: 6 | H19: 0
D20: (14*2,0*1,0 + 4,0*3,0)*0,15 | G20: 6
A21: 6 | C21: 133201102R00 | D21: Hloubení šachet v hor.3 nad 100 m3 - montážní šachty | F21: m3 | G21: 21.12 | H21: 0
D22: (14*2,0*1,0*1,35 + 3,0*2,5*2,0)*0,4 | G22: 21.12
A23: 7 | C23: 133301102R00 | D23: Hloubení šachet v hor.4 nad 100 m3 - montážní šachty | F23: m3 | G23: 31.68 | H23: 0
D24: (14*2,0*1,0*1,35 + 3,0*2,5*2,0)*0,6 | G24: 31.68
A25: 8 | C25: 130001101R00 | D25: Příplatek za ztížené hloubení v blízkosti vedení | F25: m3 | G25: 4.5 | H25: 0
D26: 3,0*1,0*1,5 | G26: 4.5
A27: 9 | C27: 141721101R00 | D27: Řízené protlačení a vtažení PE d 75 mm, hor.1 - 4 | F27: m | G27: 1142 | H27: 0
D28: 1142 | G28: 1142
A29: 10 | C29: 162701105R00 | D29: Vodorovné přemístění odstraněného asfaltu k recyklaci - do 10000 m | F29: m3 | G29: 0.3 | H29: 0
D30: 2,0*1,0*0,15 | G30: 0.3
A31: 11 | C31: 162702199R00 | D31: Poplatek za recyklaci odstraněného asfaltového krytu | F31: t | G31: 0.75 | H31: 0
D32: 2,0*1,0*0,15*2,5 | G32: 0.75
A33: 12 | C33: 174101101R00 | D33: Zásyp jam, rýh, šachet se zhutněním | F33: m3 | G33: 48.6 | H33: 0
D34: 21,12+31,68-2,80-1,40 | G34: 48.6
A35: 13 | C35: 175101101R00 | D35: Obsyp potrubí bez prohození sypaniny | F35: m3 | G35: 2.8 | H35: 0
D36: 14*2,0*1,0*0,1 | G36: 2.8
A37: 14 | C37: 181301113R00 | D37: Rozprostření ornice, rovina, tl.15-20 cm,nad 500m2 | F37: m2 | G37: 40 | H37: 0
D38: 14*2,0*1,0 + 4,0*3,0 | G38: 40
A39: 15 | C39: 180401211R00 | D39: Založení trávníku lučního výsevem v rovině | F39: m2 | G39: 40 | H39: 0
D40: 40 | G40: 40
A41: 16 | C41: 181006114R00 | D41: Rozprostření zemin v rov./sklonu 1:5, tl. do 30 cm - přebytek zeminy | F41: m2 | G41: 21 | H41: 0
D42: (2,80+1,40)/0,20 | G42: 21
A43: 17 | C43: 451572111R00 | D43: Lože pod potrubí z kameniva těženého 0 - 4 mm | F43: m3 | G43: 1.4 | H43: 0
D44: 14*2,0*1,0*0,05 | G44: 1.4
...

Sheet Krycí list rozpočtu
A1: Krycí list slepého rozpočtu
A2: Název stavby: | C2: ='Stavební rozpočet'!C2 | E2: Objednatel: | F2: ='Stavební rozpočet'!I2 | H2: IČO/DIČ: | I2: 00260096/CZ00260096
A4: Druh stavby: | C4: ='Stavební rozpočet'!C4 | E4: Projektant: | F4: ='Stavební rozpočet'!I4 | H4: IČO/DIČ: | I4: 61130494/CZ7305252306
A6: Lokalita: | C6: ='Stavební rozpočet'!C6 | E6: Zhotovitel: | F6: ='Stavební rozpočet'!I6 | H6: IČO/DIČ:
A8: Začátek výstavby: | C8: ='Stavební rozpočet'!G4 | E8: Konec výstavby: | F8: ='Stavební rozpočet'!G6 | H8: Položek: | I8: 79
A10: JKSO: | C10: ='Stavební rozpočet'!C8 | E10: Zpracoval: | F10: ='Stavební rozpočet'!I8 | H10: Datum: | I10: ='Stavební rozpočet'!G8
A12: Rozpočtové náklady v Kč
A13: A | B13: Základní rozpočtové náklady | D13: B | E13: Doplňkové náklady | G13: C | H13: Náklady na umístění stavby (NUS)
A14: HSV | B14: Dodávky | C14: =SUM('Stavební rozpočet'!AB12:AB113) | D14: Práce přesčas | F14: =VORN!I15 | G14: Zařízení staveniště | I14: =VORN!I21
B15: Montáž | C15: =SUM('Stavební rozpočet'!AC12:AC113) | D15: Bez pevné podl. | F15: =VORN!I16 | G15: Mimostav. doprava | I15: =VORN!I22
A16: PSV | B16: Dodávky | C16: =SUM('Stavební rozpočet'!AD12:AD113) | D16: Kulturní památka | F16: =VORN!I17 | G16: Územní vlivy | I16: =VORN!I23
B17: Montáž | C17: =SUM('Stavební rozpočet'!AE12:AE113) | G17: Provozní vlivy | I17: =VORN!I24
A18: "M" | B18: Dodávky | C18: =SUM('Stavební rozpočet'!AF12:AF113) | G18: Ostatní | I18: =VORN!I25
B19: Montáž | C19: =SUM('Stavební rozpočet'!AG12:AG113) | G19: NUS z rozpočtu | I19: =VORN!I26
A20: Ostatní materiál | C20: =SUM('Stavební rozpočet'!AH12:AH113)
A21: Přesun hmot a sutí | C21: =SUM('Stavební rozpočet'!Z12:Z113)
A22: ZRN celkem | C22: =ROUND(SUM(C14:C21),-1) | D22: DN celkem | F22: =SUM(F14:F21) | G22: NUS celkem | I22: =SUM(I14:I21)
D23: DN celkem z obj. | F23: 0 | G23: NUS celkem z obj. | I23: 0
G24: VORN celkem | I24: =vorn_sum
G25: VORN celkem z obj. | I25: 0
A27: Základ 0% | C27: =ROUND(SUM('Stavební rozpočet'!AJ12:AJ113),-1)
A28: Základ 12% | C28: =ROUND(SUM('Stavební rozpočet'!AK12:AK113),-1) | D28: DPH 12% | F28: =ROUND(C28*(12/100),2) | G28: Celkem bez DPH | I28: =ROUND(SUM(C27:C29),-1)
A29: Základ 21% | C29: =ROUND(SUM('Stavební rozpočet'!AL12:AL113),-1) | D29: DPH 21% | F29: =ROUND(C29*(21/100),2) | G29: Celkem včetně DPH | I29: =ROUND(SUM(F28:F29)+I28,-1)
A31: Projektant | D31: Objednatel | G31: Zhotovitel
A35: Datum, razítko a podpis | D35: Datum, razítko a podpis | G35: Datum, razítko a podpis
A36: Poznámka:

Sheet VORN
A1: Vedlejší a ostatní rozpočtové náklady
A2: Název stavby: | C2: ='Stavební rozpočet'!C2 | E2: Objednatel: | F2: ='Stavební rozpočet'!I2 | H2: IČO/DIČ: | I2: 00260096/CZ00260096
A4: Druh stavby: | C4: ='Stavební rozpočet'!C4 | E4: Projektant: | F4: ='Stavební rozpočet'!I4 | H4: IČO/DIČ: | I4: 61130494/CZ7305252306
A6: Lokalita: | C6: ='Stavební rozpočet'!C6 | E6: Zhotovitel: | F6: ='Stavební rozpočet'!I6 | H6: IČO/DIČ:
A8: Začátek výstavby: | C8: ='Stavební rozpočet'!G4 | E8: Konec výstavby: | F8: ='Stavební rozpočet'!G6 | H8: Položek: | I8: 79
A10: JKSO: | C10: ='Stavební rozpočet'!C8 | E10: Zpracoval: | F10: ='Stavební rozpočet'!I8 | H10: Datum: | I10: ='Stavební rozpočet'!G8
A13: Vedlejší rozpočtové náklady VRN
A14: Doplňkové náklady DN | F14: Kč | G14: % | H14: Základna | I14: Kč
A15: Práce přesčas | F15: 0 | I15: =F15
A16: Bez pevné podl. | F16: 0 | I16: =F16
A17: Kulturní památka | F17: 0 | I17: =F17
A18: Celkem DN | I18: =SUM(I15:I17)
A20: Náklady na umístění stavby (NUS) | F20: Kč | G20: % | H20: Základna | I20: Kč
A21: Zařízení staveniště | F21: 0 | I21: =F21
A22: Mimostav. doprava | F22: 0 | I22: =F22
A23: Územní vlivy | F23: 0 | I23: =F23
A24: Provozní vlivy | F24: 0 | I24: =F24
A25: Ostatní | F25: 0 | I25: =F25
A26: NUS z rozpočtu | F26: 0 | I26: =F26
A27: Celkem NUS | I27: =SUM(I21:I26)
A29: Celkem VRN | F29: =I18+I27
A33: Vedlejší a ostatní rozpočtové náklady VORN
A34: Ostatní rozpočtové náklady (VORN) | F34: Kč | G34: % | H34: Základna | I34: Kč
A35: Průzkumy, geodetické a projektové práce | F35: =SUM('Stavební rozpočet'!BM12:BM113) | I35: =F35
A36: Příprava staveniště | F36: =SUM('Stavební rozpočet'!BN12:BN113) | I36: =F36
A37: Zařízení staveniště | F37: =SUM('Stavební rozpočet'!BO12:BO113) | I37: =F37
A38: Inženýrské činnosti | F38: =SUM('Stavební rozpočet'!BP12:BP113) | I38: =F38
A39: Finanční náklady | F39: =SUM('Stavební rozpočet'!BQ12:BQ113) | I39: =F39
A40: Územní vlivy | F40: =SUM('Stavební rozpočet'!BR12:BR113) | I40: =F40
A41: Provozní vlivy | F41: =SUM('Stavební rozpočet'!BS12:BS113) | I41: =F41
A42: Náklady na pracovníky | F42: =SUM('Stavební rozpočet'!BT12:BT113) | I42: =F42
A43: Ostatní náklady | F43: =SUM('Stavební rozpočet'!BU12:BU113) | I43: =F43
A44: Vlastní VORN | F44: =SUM('Stavební rozpočet'!BV12:BV113) | I44: =F44
A45: Celkem VORN | I45: =SUM(I35:I44)
