Workbook
Name __290850C4_052B_4FF6_A0B3_6D189B03D21D_FIGURE__: #REF!
Name __290850C4_052B_4FF6_A0B3_6D189B03D21D_ITEM__: Zakázka!$A$10:$T$12
Name __290850C4_052B_4FF6_A0B3_6D189B03D21D_ITEM_GROUP1__: Zakázka!$A$6:$T$87
Name __290850C4_052B_4FF6_A0B3_6D189B03D21D_ITEM_GROUP1_RECAP__: Rekapitulace!$A$6:$G$9
Name __290850C4_052B_4FF6_A0B3_6D189B03D21D_ITEM_GROUP2__: Zakázka!$A$7:$T$13
Name __290850C4_052B_4FF6_A0B3_6D189B03D21D_ITEM_GROUP2_RECAP__: Rekapitulace!$A$7:$G$9
Name __290850C4_052B_4FF6_A0B3_6D189B03D21D_ITEM_GROUP3__X: Zakázka!$A$8:$T$13
Name __290850C4_052B_4FF6_A0B3_6D189B03D21D_ITEM_GROUP3_RECAP__: Rekapitulace!$A$8:$G$9
Name __290850C4_052B_4FF6_A0B3_6D189B03D21D_ITEM_GROUP4__X: Zakázka!$A$9:$T$13
Name __290850C4_052B_4FF6_A0B3_6D189B03D21D_ITEM_GROUP4_RECAP__: Rekapitulace!$A$9:$G$9
Name __290850C4_052B_4FF6_A0B3_6D189B03D21D_QBILL__: Zakázka!#REF!
Name __290850C4_052B_4FF6_A0B3_6D189B03D21D_QBILLFIG__: #REF!
Name __290850C4_052B_4FF6_A0B3_6D189B03D21D_QINDEX__: Zakázka!#REF!
Name GROUP_ID: Zakázka!$B$6:$B$88
Name ITEM_COUNTS: Zakázka!$T$6:$T$88
Name ITEM_FULLDESCR2: Zakázka!$X$11
Name ITEM_PRICES: Zakázka!$J$6:$J$88
Name VAT_RATES: Zakázka!$O$6:$O$88

Sheet Krycí List
C2: CENOVÁ NABÍDKA | J2: Set Column width to
A3: 0
A4: {=INDEX(VAT_RATES,MATCH(0,COUNTIF($A$2:A3,VAT_RATES),0))} -> 21 | D4: ZAKÁZKA | J4: =CELL("width",D2)+CELL("width",E2)+CELL("width",F2) -> 96
A5: {=INDEX(VAT_RATES,MATCH(0,COUNTIF($A$2:A4,VAT_RATES),0))} -> #N/A
A6: {=INDEX(VAT_RATES,MATCH(0,COUNTIF($A$2:A5,VAT_RATES),0))} -> #N/A | C6: Číslo: | D6: Frys 22/05
A7: =SUMIF(GROUP_ID,"",ITEM_PRICES) -> 0 | C7: Zakázka: | D7: Stavební úpravy objektu č.p.97, Sudkov SPOLKOVÝ DŮM | J7: =D7 -> Stavební úpravy objektu č.p.97, Sudkov SPOLKOVÝ DŮM
A8: =IF(ISNUMBER($A$4),SUMIF(VAT_RATES,$A$4,ITEM_PRICES),0) -> 0 | C8: Komentář: | J8: =D8 -> 0
A9: =IF(ISNUMBER($A$5),SUMIF(VAT_RATES,$A$5,ITEM_PRICES),0) -> 0 | C9: Verze: | D9: Dotace 25 gastro | J9: =D9 -> Dotace 25 gastro
A10: =IF(ISNUMBER($A$6),SUMIF(VAT_RATES,$A$6,ITEM_PRICES),0) -> 0 | C10: Komentář verze: | J10: =D10 -> 0
A11: =IF($A8=0,"","DPH " & $A4 & " % ze základny: " & TEXT($A8,"# ##0")&":") | C11: Adresa: | D11: Sudkov č.p.97 | E11: Datum zahájení: | F11: 45708
A12: =IF($A9=0,"","DPH " & $A5 & " % ze základny: " & TEXT($A9,"# ##0")&":") | C12: Rok: | D12: 44701.34 | E12: Datum dokončení:
A13: =IF($A10=0,"","DPH " & $A6 & " % ze základny: " & TEXT($A10,"# ##0")&":")
A14: =IF($A8=0,"",$A8*$A4/100) | C14: Typ Firmy | D14: Název | E14: Kontaktní osoba | F14: Telefon
A15: =IF($A9=0,"",$A9*$A5/100) | C15: Zpracovatel | D15: Pavel Kubela
A16: =IF($A10=0,"",$A10*$A6/100) | C16: Investor | D16: Obec Sudkov
C17: Projektant | D17: Jiří Frys - stavební projekce | F17: 583215988
C19: Význam (funkce) | D19: Jméno
C20: Zpracovatel | D20: Pavel Kubela | J20: =D20 -> Pavel Kubela
C22: REKAPITULACE
C23: Kód stavebního objektu | D23: Popis objektu | E23: Kód zatřídění | F23: Zatřídění
C24: SO 01-01 | D24: Stavební práce
C25: SO 01-02 | D25: Elektroinstalace
C26: SO 01-03 | D26: Ústřední vytápění
C27: SO 01-04 | D27: Zdravotně technické instalace
C28: SO 01-05 | D28: Vzduchotechnika
C29: SO 01-06 | D29: Tepelné čerpadlo a vrty
C30: SO 02-01 | D30: Stavební práce
C31: SO 02-02 | D31: Elektroinstalace
C32: SO 02-03 | D32: Ústřední vytápění
C33: SO 02-04 | D33: Zdravotně technické instalace
C34: SO 02-05 | D34: Vzduchotechnika
C35: SO 02-06 | D35: Tepelné čerpadlo a vrty
... C37: SO 02-08 | D37: Rozvody VO
D39: Celkem (bez DPH): | E39: =INDIRECT("A7") -> 0 | F39: Kč
D40: DPH: | E40: =SUM(E41:E42) -> 0 | F40: =F39 -> Kč
D41: =INDIRECT("A11") | E41: =INDIRECT("A14") | F41: =IF(D41="","",F39)
D42: =INDIRECT("A12") | E42: =INDIRECT("A15") | F42: =IF(D42="","",F39)
D43: Celkem (včetně DPH): | E43: =E39+E40 -> 0 | F43: =F39 -> Kč
C44: Za zhotovitele | E44: Za objednatele
C45: Jméno : | E45: Jméno :
...

Sheet Rekapitulace
B1: Stavební úpravy objektu č.p.97, Sudkov SPOLKOVÝ DŮM - Dotace 25 gastro
B4: Popis | C4: Cena | D4: Hmotnost | E4: DPH | F4: Cena s DPH | G4: Počet položek
A6: S | B6: S: Stavba | C6: =VLOOKUP($A6,Zakázka!$A:$T,10,FALSE) -> 0 | D6: =VLOOKUP($A6,Zakázka!$A:$T,12,FALSE) -> 0 | E6: =VLOOKUP($A6,Zakázka!$A:$T,16,FALSE) -> 0 | F6: =VLOOKUP($A6,Zakázka!$A:$T,17,FALSE) -> 0 | G6: =VLOOKUP($A6,Zakázka!$A:$T,20,FALSE) -> 24
A7: S/SSO-01 | B7: SSO-01: Způsobilé náklady | C7: =VLOOKUP($A7,Zakázka!$A:$T,10,FALSE) -> 0 | D7: =VLOOKUP($A7,Zakázka!$A:$T,12,FALSE) -> 0 | E7: =VLOOKUP($A7,Zakázka!$A:$T,16,FALSE) -> 0 | F7: =VLOOKUP($A7,Zakázka!$A:$T,17,FALSE) -> 0 | G7: =VLOOKUP($A7,Zakázka!$A:$T,20,FALSE) -> 1
A8: S/SSO-01/SO 01-01 | B8: SO 01-01: Stavební práce | C8: =VLOOKUP($A8,Zakázka!$A:$T,10,FALSE) -> 0 | D8: =VLOOKUP($A8,Zakázka!$A:$T,12,FALSE) -> 0 | E8: =VLOOKUP($A8,Zakázka!$A:$T,16,FALSE) -> 0 | F8: =VLOOKUP($A8,Zakázka!$A:$T,17,FALSE) -> 0 | G8: =VLOOKUP($A8,Zakázka!$A:$T,20,FALSE) -> 1
A9: S/SSO-01/SO 01-01/766 | B9: 766: Konstrukce truhlářské | C9: =VLOOKUP($A9,Zakázka!$A:$T,10,FALSE) -> 0 | D9: =VLOOKUP($A9,Zakázka!$A:$T,12,FALSE) -> 0 | E9: =VLOOKUP($A9,Zakázka!$A:$T,16,FALSE) -> 0 | F9: =VLOOKUP($A9,Zakázka!$A:$T,17,FALSE) -> 0 | G9: =VLOOKUP($A9,Zakázka!$A:$T,20,FALSE) -> 1
A10: S/SSO-02 | B10: SSO-02: Nezpůsobilé náklady | C10: =VLOOKUP($A10,Zakázka!$A:$T,10,FALSE) -> 0 | D10: =VLOOKUP($A10,Zakázka!$A:$T,12,FALSE) -> 0 | E10: =VLOOKUP($A10,Zakázka!$A:$T,16,FALSE) -> 0 | F10: =VLOOKUP($A10,Zakázka!$A:$T,17,FALSE) -> 0 | G10: =VLOOKUP($A10,Zakázka!$A:$T,20,FALSE) -> 23
A11: S/SSO-02/SO 02-01 | B11: SO 02-01: Stavební práce | C11: =VLOOKUP($A11,Zakázka!$A:$T,10,FALSE) -> 0 | D11: =VLOOKUP($A11,Zakázka!$A:$T,12,FALSE) -> 0 | E11: =VLOOKUP($A11,Zakázka!$A:$T,16,FALSE) -> 0 | F11: =VLOOKUP($A11,Zakázka!$A:$T,17,FALSE) -> 0 | G11: =VLOOKUP($A11,Zakázka!$A:$T,20,FALSE) -> 23
A12: S/SSO-02/SO 02-01/791 | B12: 791: Zařízení velkokuchyní | C12: =VLOOKUP($A12,Zakázka!$A:$T,10,FALSE) -> 0 | D12: =VLOOKUP($A12,Zakázka!$A:$T,12,FALSE) -> 0 | E12: =VLOOKUP($A12,Zakázka!$A:$T,16,FALSE) -> 0 | F12: =VLOOKUP($A12,Zakázka!$A:$T,17,FALSE) -> 0 | G12: =VLOOKUP($A12,Zakázka!$A:$T,20,FALSE) -> 23
B14: Celkem (bez DPH) | C14: =SUMIF(GROUP_ID,"",ITEM_PRICES) -> 0
B15: DPH | C15: =SUM(C16:C17) -> 0
B16: =INDIRECT(ADDRESS(11,1,,,"Krycí List")) | C16: =INDIRECT(ADDRESS(14,1,,,"Krycí List"))
B17: =INDIRECT(ADDRESS(12,1,,,"Krycí List")) | C17: =INDIRECT(ADDRESS(15,1,,,"Krycí List"))
B18: Celkem (včetně DPH) | C18: =C14+C15 -> 0

Sheet Zakázka
F1: Stavební úpravy objektu č.p.97, Sudkov SPOLKOVÝ DŮM - Dotace 25 gastro
X2: Set column width to
C4: Poř. | D4: Typ | E4: Kód | F4: Popis | G4: MJ | H4: Výměra | I4: Jedn. cena | J4: Cena | K4: Jedn. hmotn. | L4: Hmotnost | M4: Jedn. suť | N4: Suť | O4: Sazba DPH | P4: DPH | Q4: Cena s DPH | R4: Komentář | S4: Cen. soustava | T4: Počet | X4: =CELL("width",F4)+CELL("width",G4)+CELL("width",H4)+CELL("width",I4)+CELL("width",J4) -> 117
A6: S | B6: 1 | D6: Stavba | F6: S: Stavba | J6: =SUBTOTAL(9,J7:J87) -> 0 | L6: =SUBTOTAL(9,L7:L87) -> 0 | N6: =SUBTOTAL(9,N7:N87) -> 0 | P6: =SUBTOTAL(9,P7:P87) -> 0 | Q6: =SUBTOTAL(9,Q7:Q87) -> 0 | T6: =SUBTOTAL(9,T7:T87) -> 24
A7: S/SSO-01 | B7: 2 | D7: Skupina objektů | F7: SSO-01: Způsobilé náklady | J7: =SUBTOTAL(9,J8:J13) -> 0 | L7: =SUBTOTAL(9,L8:L13) -> 0 | N7: =SUBTOTAL(9,N8:N13) -> 0 | P7: =SUBTOTAL(9,P8:P13) -> 0 | Q7: =SUBTOTAL(9,Q8:Q13) -> 0 | T7: =SUBTOTAL(9,T8:T13) -> 1
A8: S/SSO-01/SO 01-01 | B8: 3 | D8: Objekt | F8: SO 01-01: Stavební práce | J8: =SUBTOTAL(9,J9:J13) -> 0 | L8: =SUBTOTAL(9,L9:L13) -> 0 | N8: =SUBTOTAL(9,N9:N13) -> 0 | P8: =SUBTOTAL(9,P9:P13) -> 0 | Q8: =SUBTOTAL(9,Q9:Q13) -> 0 | T8: =SUBTOTAL(9,T9:T13) -> 1
A9: S/SSO-01/SO 01-01/766 | B9: 4 | D9: Oddíl | F9: 766: Konstrukce truhlářské | J9: =SUBTOTAL(9,J10:J13) -> 0 | L9: =SUBTOTAL(9,L10:L13) -> 0 | N9: =SUBTOTAL(9,N10:N13) -> 0 | P9: =SUBTOTAL(9,P10:P13) -> 0 | Q9: =SUBTOTAL(9,Q10:Q13) -> 0 | T9: =SUBTOTAL(9,T10:T13) -> 1
C10: 1 | D10: SP | E10: 766-KL1 | F10: D+M, Kuchyňská linka s prac. deskou dl. 3095mm, šířky 600+300mm, dle výkresu č.D20, vestavěný nerez dřez | G10: kus | H10: 1 | J10: =H10*I10 -> 0 | L10: =H10*K10 -> 0 | N10: =H10*M10 -> 0 | O10: 21 | P10: =J10*(O10/100) -> 0 | Q10: =J10+P10 -> 0 | S10: VLASTNÍ | T10: 1
E11: Plný popis: | F11: --- | X11: =F11 -> ---
A14: S/SSO-02 | B14: 2 | D14: Skupina objektů | F14: SSO-02: Nezpůsobilé náklady | J14: =SUBTOTAL(9,J15:J86) -> 0 | L14: =SUBTOTAL(9,L15:L86) -> 0 | N14: =SUBTOTAL(9,N15:N86) -> 0 | P14: =SUBTOTAL(9,P15:P86) -> 0 | Q14: =SUBTOTAL(9,Q15:Q86) -> 0 | T14: =SUBTOTAL(9,T15:T86) -> 23
A15: S/SSO-02/SO 02-01 | B15: 3 | D15: Objekt | F15: SO 02-01: Stavební práce | J15: =SUBTOTAL(9,J16:J86) -> 0 | L15: =SUBTOTAL(9,L16:L86) -> 0 | N15: =SUBTOTAL(9,N16:N86) -> 0 | P15: =SUBTOTAL(9,P16:P86) -> 0 | Q15: =SUBTOTAL(9,Q16:Q86) -> 0 | T15: =SUBTOTAL(9,T16:T86) -> 23
A16: S/SSO-02/SO 02-01/791 | B16: 4 | D16: Oddíl | F16: 791: Zařízení velkokuchyní | J16: =SUBTOTAL(9,J17:J86) -> 0 | L16: =SUBTOTAL(9,L17:L86) -> 0 | N16: =SUBTOTAL(9,N17:N86) -> 0 | P16: =SUBTOTAL(9,P17:P86) -> 0 | Q16: =SUBTOTAL(9,Q17:Q86) -> 0 | T16: =SUBTOTAL(9,T17:T86) -> 23
C17: 1 | D17: H | E17: 791-01 | F17: Myčka nádobí dvouplášťová | G17: kus | H17: 1 | J17: =H17*I17 -> 0 | L17: =H17*K17 -> 0 | N17: =H17*M17 -> 0 | O17: 21 | P17: =J17*(O17/100) -> 0 | Q17: =J17+P17 -> 0 | S17: VLASTNÍ | T17: 1
E18: Plný popis: | F18: Dvouplášťové myčky nádobí a skla s novým intuitivním elektronickým ovládáním a LED displejem zobrazujícím teploty vany a bojleru, mycí cyklus a další provozní hlášení a případná alarmová hlášení. K dispozici jsou 4 různě dlouhé mycí programy dle potřeby, typu nádobí, stavu znečistění. Funkce měkkého startu, která poskytuje ochranu extra křehkým předmětům. Myčka v základní výbavě obsahuje elektronické ovládání touch (T), odpadové čerpadlo (PS) a dávkovače mycího a oplachového prostředku (DDE). BT = systém BREAK TANK s přídavným oplachovým čerpadlem FS = studený oplach (na konci cyklu) pro pivní sklo Technické údaje: Provedení: dvouplášťové Napájení: 400 V Příkon: max. 5,15 kW Šířka: 595 mm Odpadové čerpadlo: ano Oplachový systém s Break Tank: ano Oplachové čerpadlo: ano Studený oplach: ano Výbava: T/BT/PS Dávkovač mycího prostředku: ano Dávkovač oplachového prostředku: ano Thermostop: ano Dveřní mikrospínač: ano Horní mycí / oplachové rameno: ano / ano Mycí čerpadlo: max. 650 W (min. 340 l/min.) Mycí cyklus: min. 60 / 90 / 120 / 180 sec. Objem bojleru: min. 5,7 l Objem vany: min. 27 l Ovládání: elektronické Touch (LED) Příkon bojleru: max. 4,5 kW Příkon vany: max. 2,7 kW Rozměr koše: 500 x 500 mm Spodní mycí / oplachové rameno: ano / ano, Spotřeba vody na cyklus: max. 2,3 l, Výkon košů: min. 60/40/30/20 ks/h, Zásuvná výška: min. 310 mm | X18: =F18 -> Dvouplášťové myčky nádobí a skla s novým intuitivním elektronickým ovládáním a LED displejem zobrazujícím teploty vany a bojleru, mycí cyklus a další provozní hlášení a případná alarmová hlášení. K dispozici jsou 4 různě dlouhé mycí programy dle potřeby, typu nádobí, stavu znečistění. Funkce měkkého startu, která poskytuje ochranu extra křehkým předmětům. Myčka v základní výbavě obsahuje elektronické ovládání touch (T), odpadové čerpadlo (PS) a dávkovače mycího a oplachového prostředku (DDE). BT = systém BREAK TANK s přídavným oplachovým čerpadlem FS = studený oplach (na konci cyklu) pro pivní sklo Technické údaje: Provedení: dvouplášťové Napájení: 400 V Příkon: max. 5,15 kW Šířka: 595 mm Odpadové čerpadlo: ano Oplachový systém s Break Tank: ano Oplachové čerpadlo: ano Studený oplach: ano Výbava: T/BT/PS Dávkovač mycího prostředku: ano Dávkovač oplachového prostředku: ano Thermostop: ano Dveřní mikrospínač: ano Horní mycí / oplachové rameno: ano / ano Mycí čerpadlo: max. 650 W (min. 340 l/min.) Mycí cyklus: min. 60 / 90 / 120 / 180 sec. Objem bojleru: min. 5,7 l Objem vany: min. 27 l Ovládání: elektronické Touch (LED) Příkon bojleru: max. 4,5 kW Příkon vany: max. 2,7 kW Rozměr koše: 500 x 500 mm Spodní mycí / oplachové rameno: ano / ano, Spotřeba vody na cyklus: max. 2,3 l, Výkon košů: min. 60/40/30/20 ks/h, Zásuvná výška: min. 310 mm
C20: 2 | D20: H | E20: 791-02 | F20: Mycí stůl dvoudřez s policí a prostorem pro myčku 1600x700x900mm | G20: kus | H20: 1 | J20: =H20*I20 -> 0 | L20: =H20*K20 -> 0 | N20: =H20*M20 -> 0 | O20: 21 | P20: =J20*(O20/100) -> 0 | Q20: =J20+P20 -> 0 | S20: VLASTNÍ | T20: 1
E21: Plný popis: | F21: Celonerezový mycí stůl se dvěma lisovanými dřezy je postaven na svařovaném podnoží z uzavřených profilů min. 40 x 40, které jsou opatřeny seřiditelnými patkami - spodní police - prostor pro myčku vlevo - pracovní deska s prolisem - zadní lem | X21: =F21 -> Celonerezový mycí stůl se dvěma lisovanými dřezy je postaven na svařovaném podnoží z uzavřených profilů min. 40 x 40, které jsou opatřeny seřiditelnými patkami - spodní police - prostor pro myčku vlevo - pracovní deska s prolisem - zadní lem
C23: 3 | D23: H | E23: 791-03 | F23: Sprcha tlaková na nádobí - páková baterie | G23: kus | H23: 1 | J23: =H23*I23 -> 0 | L23: =H23*K23 -> 0 | N23: =H23*M23 -> 0 | O23: 21 | P23: =J23*(O23/100) -> 0 | Q23: =J23+P23 -> 0 | S23: VLASTNÍ | T23: 1
E24: Plný popis: | F24: Sprcha s pákovou baterií pro regulaci studené a teplé vody, navíc vybavena napouštěcím ramínkem ze sprchy. tlakovou sprchou tlakovou hadicí a vyvažovací pružinou úchytem na zeď a háčkem na sprchu max. průtok (3 bar): max. 17 l/min. max. tlak: 5 bar upevňovací otvor pro baterii: min. Ø30 mm. - max.Ø32 mm. Model pro montáž do desky pracovního stolu | X24: =F24 -> Sprcha s pákovou baterií pro regulaci studené a teplé vody, navíc vybavena napouštěcím ramínkem ze sprchy. tlakovou sprchou tlakovou hadicí a vyvažovací pružinou úchytem na zeď a háčkem na sprchu max. průtok (3 bar): max. 17 l/min. max. tlak: 5 bar upevňovací otvor pro baterii: min. Ø30 mm. - max.Ø32 mm. Model pro montáž do desky pracovního stolu
C26: 4 | D26: H | E26: 791-05 | F26: Pracovní stůl s dvěma policemi - rohový 1100x1100x900 mm | G26: kus | H26: 1 | J26: =H26*I26 -> 0 | L26: =H26*K26 -> 0 | N26: =H26*M26 -> 0 | O26: 21 | P26: =J26*(O26/100) -> 0 | Q26: =J26+P26 -> 0 | S26: VLASTNÍ | T26: 1
E27: Plný popis: | F27: Celonerezový pracovní stůl se dvěma policemi je postaven na svařovaném podnoží z uzavřených profilů min. 40 x 40, které jsou opatřeny seřiditelnými patkami. Ve spodní části je podnoží zpevněno roštovou policí pevně spojenou s nohami stolu. Pracovní deska, stejně jako police stolu, je zhotovena z plechu tl. min. 1 mm jakosti 17240 - zadní lemy | X27: =F27 -> Celonerezový pracovní stůl se dvěma policemi je postaven na svařovaném podnoží z uzavřených profilů min. 40 x 40, které jsou opatřeny seřiditelnými patkami. Ve spodní části je podnoží zpevněno roštovou policí pevně spojenou s nohami stolu. Pracovní deska, stejně jako police stolu, je zhotovena z plechu tl. min. 1 mm jakosti 17240 - zadní lemy
C29: 5 | D29: H | E29: 791-06 | F29: Mikrovlnná trouba - manuál | G29: kus | H29: 1 | J29: =H29*I29 -> 0 | L29: =H29*K29 -> 0 | N29: =H29*M29 -> 0 | O29: 21 | P29: =J29*(O29/100) -> 0 | Q29: =J29+P29 -> 0 | S29: VLASTNÍ | T29: 1
E30: Plný popis: | F30: Kompaktní mikrovlnná trouba. - plně nastavitelná úroveň výkonu 100 – 1000 W - min. 4 stupně výkonu – 1000 W (vysoká), 500 W (střední), 100 W (nízká), rozmrazování 340 W - manuální ovládání - 1 magnetron umístěný pod prostorem na vaření - prostor pro vaření z ušlechtilé oceli s keramickým dnem - nerezové provedení Ovládací panel je vybaven: - timerem max. 30 minut (mechanický) - knoflíkem s regulací výkonu a tlačítkem pro spuštění cyklu vaření Technické údaje: - napětí: 230 V - příkon: max. 1,49 kW - výkon: min. 500 W/1000 W/rozmraz.340 W - počet magnetronů: 1 - objem: min. 22 l - rozměr vnitřní: min. 330 x 330 x 200 mm - rozměr vnější: cca 510 x 360 x 306 mm | X30: =F30 -> Kompaktní mikrovlnná trouba. - plně nastavitelná úroveň výkonu 100 – 1000 W - min. 4 stupně výkonu – 1000 W (vysoká), 500 W (střední), 100 W (nízká), rozmrazování 340 W - manuální ovládání - 1 magnetron umístěný pod prostorem na vaření - prostor pro vaření z ušlechtilé oceli s keramickým dnem - nerezové provedení Ovládací panel je vybaven: - timerem max. 30 minut (mechanický) - knoflíkem s regulací výkonu a tlačítkem pro spuštění cyklu vaření Technické údaje: - napětí: 230 V - příkon: max. 1,49 kW - výkon: min. 500 W/1000 W/rozmraz.340 W - počet magnetronů: 1 - objem: min. 22 l - rozměr vnitřní: min. 330 x 330 x 200 mm - rozměr vnější: cca 510 x 360 x 306 mm
C32: 6 | D32: H | E32: 791-07 | F32: Váha gastro | G32: kus | H32: 1 | J32: =H32*I32 -> 0 | L32: =H32*K32 -> 0 | N32: =H32*M32 -> 0 | O32: 21 | P32: =J32*(O32/100) -> 0 | Q32: =J32+P32 -> 0 | S32: VLASTNÍ | T32: 1
E33: Plný popis: | F33: Jednoduchá profesionální váha pro kuchyně, výrobny, sklady do 6kg. Při váživosti do 3kg přesnost 1g a od 3kg do 6kg přesnost 2g. S provozem na síť i akumulátor Charakteristika: Funkce: tárování; nulování Automatické vypínání Indikace vybití baterie V ceně váhy je ověření, nerezová miska a síťový adaptér. Technická data: Váživost (kg): 3;6 Dílek - přesnost (g): 1;2 Rozměr vážní plochy (mm): min. 190x230 Certifikace: pro obchodní vážení - ES ověření Napájení váhy: AC 230V/ adaptér DC 9V Provedení vážní plochy: nerez Provedení konstrukce: plast Provedení (materiál): plast/nerez Alternativní napájení: vestavěný hermetický akumulátor 6V Displej: LCD numerický s LED podsvícením, výška číslic min. 25mm - operátorský LCD numerický s LED podsvícením, výška číslic min. 20mm - zákaznický Délka provozu na baterii: min. 100 hod. Prostředí: suché; prašné; vlhké Provozní teplota: min. 0°C » +40°C Příkon: max. 0,5 W Rozměr váhy š x v x h (mm): cca 235 x 130 x 240 Umístění displejů: na těle váhy pod miskou | X33: =F33 -> Jednoduchá profesionální váha pro kuchyně, výrobny, sklady do 6kg. Při váživosti do 3kg přesnost 1g a od 3kg do 6kg přesnost 2g. S provozem na síť i akumulátor Charakteristika: Funkce: tárování; nulování Automatické vypínání Indikace vybití baterie V ceně váhy je ověření, nerezová miska a síťový adaptér. Technická data: Váživost (kg): 3;6 Dílek - přesnost (g): 1;2 Rozměr vážní plochy (mm): min. 190x230 Certifikace: pro obchodní vážení - ES ověření Napájení váhy: AC 230V/ adaptér DC 9V Provedení vážní plochy: nerez Provedení konstrukce: plast Provedení (materiál): plast/nerez Alternativní napájení: vestavěný hermetický akumulátor 6V Displej: LCD numerický s LED podsvícením, výška číslic min. 25mm - operátorský LCD numerický s LED podsvícením, výška číslic min. 20mm - zákaznický Délka provozu na baterii: min. 100 hod. Prostředí: suché; prašné; vlhké Provozní teplota: min. 0°C » +40°C Příkon: max. 0,5 W Rozměr váhy š x v x h (mm): cca 235 x 130 x 240 Umístění displejů: na těle váhy pod miskou
C35: 7 | D35: H | E35: 791-08 | F35: Hot-dog 4 trny | G35: kus | H35: 1 | J35: =H35*I35 -> 0 | L35: =H35*K35 -> 0 | N35: =H35*M35 -> 0 | O35: 21 | P35: =J35*(O35/100) -> 0 | Q35: =J35+P35 -> 0 | S35: VLASTNÍ | T35: 1
E36: Plný popis: | F36: - čtyřtrnový ohřívač rohlíků z leštěného hliníku o min. průměru 25 mm a délce min. 190 mm - celonerezové provedení - příkon max. 0,1 kW - režim rychlého ohřevu - kontrolka chodu - nahřátí na 100 °C - pojistný termostat - stupeň krytí ovládacích prvků IPX4 - příkon max. 100W - rozměry cca 300x260x290mm | X36: =F36 -> - čtyřtrnový ohřívač rohlíků z leštěného hliníku o min. průměru 25 mm a délce min. 190 mm - celonerezové provedení - příkon max. 0,1 kW - režim rychlého ohřevu - kontrolka chodu - nahřátí na 100 °C - pojistný termostat - stupeň krytí ovládacích prvků IPX4 - příkon max. 100W - rozměry cca 300x260x290mm
C38: 8 | D38: H | E38: 791-09 | F38: Ohřívač uzenin | G38: kus | H38: 1 | J38: =H38*I38 -> 0 | L38: =H38*K38 -> 0 | N38: =H38*M38 -> 0 | O38: 21 | P38: =J38*(O38/100) -> 0 | Q38: =J38+P38 -> 0 | S38: VLASTNÍ | T38: 1
E39: Plný popis: | F39: - kapacita GN ½ - 150 mm - celonerezové provedení - příkon max. 1 kW - topná tělesa pod vanou - odklopné víko - falešné děrované dno - kontrolka chodu a nahřátí - ovládání teploty nádoby regulačním knoflíkem min. v rozsahu 30 – 90 °C - pojistný termostat - stupeň krytí ovládacích prvků IPX4 - napájení 230V 1N - rozměry cca 269x329x244mm | X39: =F39 -> - kapacita GN ½ - 150 mm - celonerezové provedení - příkon max. 1 kW - topná tělesa pod vanou - odklopné víko - falešné děrované dno - kontrolka chodu a nahřátí - ovládání teploty nádoby regulačním knoflíkem min. v rozsahu 30 – 90 °C - pojistný termostat - stupeň krytí ovládacích prvků IPX4 - napájení 230V 1N - rozměry cca 269x329x244mm
C41: 9 | D41: H | E41: 791-10 | F41: Indukční plotna | G41: kus | H41: 1 | J41: =H41*I41 -> 0 | L41: =H41*K41 -> 0 | N41: =H41*M41 -> 0 | O41: 21 | P41: =J41*(O41/100) -> 0 | Q41: =J41+P41 -> 0 | S41: VLASTNÍ | T41: 1
E42: Plný popis: | F42: Indukční plotna. - model s plochou varnou plochou - funguje na principu feromagnetické indukce - úspora elektrické energie – automatické vypnutí po sejmutí varné nádoby z indukční plotny - při ohřevu prázdné nádoby se automaticky aktivuje ochrana proti přehřátí a indukční plotna se vypne - nerezové provedení Technické parametry - napětí 230 V - příkon max. 3,5 kW - počet regulovatelných zón min. 1 - počet varných ploch min. 1 - rozměr desky min. 280 x 280 mm - rozměr (š.hl.v.) cca 330 x 425 x 105 mm | X42: =F42 -> Indukční plotna. - model s plochou varnou plochou - funguje na principu feromagnetické indukce - úspora elektrické energie – automatické vypnutí po sejmutí varné nádoby z indukční plotny - při ohřevu prázdné nádoby se automaticky aktivuje ochrana proti přehřátí a indukční plotna se vypne - nerezové provedení Technické parametry - napětí 230 V - příkon max. 3,5 kW - počet regulovatelných zón min. 1 - počet varných ploch min. 1 - rozměr desky min. 280 x 280 mm - rozměr (š.hl.v.) cca 330 x 425 x 105 mm
C44: 10 | D44: H | E44: 791-11 | F44: Pracovní stůl s dvěma policemi 1300x700x900 mm | G44: kus | H44: 1 | J44: =H44*I44 -> 0 | L44: =H44*K44 -> 0 | N44: =H44*M44 -> 0 | O44: 21 | P44: =J44*(O44/100) -> 0 | Q44: =J44+P44 -> 0 | S44: VLASTNÍ | T44: 1
E45: Plný popis: | F45: Celonerezový pracovní stůl se dvěma policemi je postaven na svařovaném podnoží z uzavřených profilů min. 40 x 40, které jsou opatřeny seřiditelnými patkami. Ve spodní části je podnoží zpevněno roštovou policí pevně spojenou s nohami stolu. Pracovní deska, stejně jako police stolu, je zhotovena z plechu tl. min. 1 mm jakosti 17240. | X45: =F45 -> Celonerezový pracovní stůl se dvěma policemi je postaven na svařovaném podnoží z uzavřených profilů min. 40 x 40, které jsou opatřeny seřiditelnými patkami. Ve spodní části je podnoží zpevněno roštovou policí pevně spojenou s nohami stolu. Pracovní deska, stejně jako police stolu, je zhotovena z plechu tl. min. 1 mm jakosti 17240.
C47: 11 | D47: H | E47: 791-12 | F47: Kontaktní gril hladký elektrický | G47: kus | H47: 1 | J47: =H47*I47 -> 0 | L47: =H47*K47 -> 0 | N47: =H47*M47 -> 0 | O47: 21 | P47: =J47*(O47/100) -> 0 | Q47: =J47+P47 -> 0 | S47: VLASTNÍ | T47: 1
E48: Plný popis: | F48: Technické údaje: Rozměry šxhxv: cca 409x407x186 mm Příkon elektrický: min. 3 kW Napájení: 230 V / 1N - 50 Hz Stupeň krytí ovládacích prvků: IPX4 Materiál: Nerez Kontrolky: chodu a nahřátí Povrchová úprava: pískovaný povrch bez povlaku Maximální teplota zařízení: 300 °C Minimální teplota zařízení: 50 °C Rozměr grilovací desky [mm x mm]: min. 365 x 240 Tloušťka grilovací desky [mm]: min. 8.00 Zásuvka na odpadní tuk: Ano Společné ovládání horní a spodní desky Rovnoměrné rozložení tepla: Ano Typ povrchu zařízení: Hladký | X48: =F48 -> Technické údaje: Rozměry šxhxv: cca 409x407x186 mm Příkon elektrický: min. 3 kW Napájení: 230 V / 1N - 50 Hz Stupeň krytí ovládacích prvků: IPX4 Materiál: Nerez Kontrolky: chodu a nahřátí Povrchová úprava: pískovaný povrch bez povlaku Maximální teplota zařízení: 300 °C Minimální teplota zařízení: 50 °C Rozměr grilovací desky [mm x mm]: min. 365 x 240 Tloušťka grilovací desky [mm]: min. 8.00 Zásuvka na odpadní tuk: Ano Společné ovládání horní a spodní desky Rovnoměrné rozložení tepla: Ano Typ povrchu zařízení: Hladký
C50: 12 | D50: H | E50: 791-13 | F50: Vodní lázeň s kohoutem | G50: kus | H50: 1 | J50: =H50*I50 -> 0 | L50: =H50*K50 -> 0 | N50: =H50*M50 -> 0 | O50: 21 | P50: =J50*(O50/100) -> 0 | Q50: =J50+P50 -> 0 | S50: VLASTNÍ | T50: 1
E51: Plný popis: | F51: Technické údaje: Provedení: elektrické Napájení: 230 V Příkon: max. 1,2 kW Rozměry šxhxv: 335x563x275 mm Centrální vypínač: ano Kontrolka chodu: ano Provedení pláště: nerez 18/10 Regulace teploty: min. 65 - 90°C Regulace výkonu: min. 5 poloh Rozměry vany: GN 1/1 - 200 mm Výpustní kohout: ano | X51: =F51 -> Technické údaje: Provedení: elektrické Napájení: 230 V Příkon: max. 1,2 kW Rozměry šxhxv: 335x563x275 mm Centrální vypínač: ano Kontrolka chodu: ano Provedení pláště: nerez 18/10 Regulace teploty: min. 65 - 90°C Regulace výkonu: min. 5 poloh Rozměry vany: GN 1/1 - 200 mm Výpustní kohout: ano
C53: 13 | D53: H | E53: 791-14 | F53: Chladící stůl 4x šuplík, dřez a baterie | G53: kus | H53: 1 | J53: =H53*I53 -> 0 | L53: =H53*K53 -> 0 | N53: =H53*M53 -> 0 | O53: 21 | P53: =J53*(O53/100) -> 0 | Q53: =J53+P53 -> 0 | S53: VLASTNÍ | T53: 1
E54: Plný popis: | F54: - Vnitřní i vnější opláštění vyrobeno z nerezové oceli (vyjma zadního panelu). - Izolace tlakem vstřikovaného PU o síle min. 50 mm a hustotě min. 40 kg/m3, bez CFC. - chlazení nuceným, optimalizovaným oběhem vzduchu. - termostat s displejem pro elektronické řízení teploty a odmrazování. - Akustický alarm v případě déle otevřených dveří. - Dveře se systémem automatického dovírání a fixací v otevřené poloze. - Vyjímatelné, výškově nastavitelné, oplastované ocelové rošty o rozměru 530 x 330 mm (GN 1/1) pro snadné čištění. - Perforované nerezové koše zásuvek s nosností až min. 40 kg. - Zadní lem Technické údaje: - Rozměry: cca 1342x700x850mm - Pracovní teplota: min. od 0 °C do +8 °C - Klimatická třída: B - Hrubý objem: min. 274l - Napájení: 230V 1N - Příkon: max. 203W - Počet sekcí: min. 2 - Počet zásuvek: 4 - Dřez - Baterie | X54: =F54 -> - Vnitřní i vnější opláštění vyrobeno z nerezové oceli (vyjma zadního panelu). - Izolace tlakem vstřikovaného PU o síle min. 50 mm a hustotě min. 40 kg/m3, bez CFC. - chlazení nuceným, optimalizovaným oběhem vzduchu. - termostat s displejem pro elektronické řízení teploty a odmrazování. - Akustický alarm v případě déle otevřených dveří. - Dveře se systémem automatického dovírání a fixací v otevřené poloze. - Vyjímatelné, výškově nastavitelné, oplastované ocelové rošty o rozměru 530 x 330 mm (GN 1/1) pro snadné čištění. - Perforované nerezové koše zásuvek s nosností až min. 40 kg. - Zadní lem Technické údaje: - Rozměry: cca 1342x700x850mm - Pracovní teplota: min. od 0 °C do +8 °C - Klimatická třída: B - Hrubý objem: min. 274l - Napájení: 230V 1N - Příkon: max. 203W - Počet sekcí: min. 2 - Počet zásuvek: 4 - Dřez - Baterie
C56: 15 | D56: H | E56: 791-15 | F56: Chladící skříň | G56: kus | H56: 2 | J56: =H56*I56 -> 0 | L56: =H56*K56 -> 0 | N56: =H56*M56 -> 0 | O56: 21 | P56: =J56*(O56/100) -> 0 | Q56: =J56+P56 -> 0 | S56: VLASTNÍ | T56: 1
E57: Plný popis: | F57: Chladicí skříň je ideální pro náročné gastronomické provozy a je vybavena nastavitelnými policemi s nosností až 15 kg na polici. Chladicí skříň je vybavena chlazením s ventilátorem a teplotu lze snadno nastavit na digitálním termostatu. Technické údaje: Teplotní rozsah: min. -2 až +8 °C Klimatická třída: max. 4 Hrubý / čistý objem: min. 361 / 350 l Hustota izolace: min. 38 kg/m³ Nožky / nohy: 2 nastavitelné nožky Kolečka: 2 pojezdové válečky Exteriér: Bílá Zámek: Ano Počet a typ dveří: 1 křídlové plné dveře Změna otevírání dveří: Ano Počet a typ polic: 4 roštové police bílé Maximální zatížení polic: min. 110 kg/m² Typ ovládání: Elektronické Typ chlazení: S pomocným ventilátorem Typ odtávání: Automatické, cyklus vypnutí Chladivo Energetická třída: A Příkon: max. 80 W Napětí / Frekvence: 220-240/50 V/Hz Hlučnost: max. 45 dB(A) Vnitřní rozměry (ŠxHxV): cca 510 x 485 x 1620 mm Vnější rozměry (ŠxHxV): cca 600 x 615 x 1855 mm | X57: =F57 -> Chladicí skříň je ideální pro náročné gastronomické provozy a je vybavena nastavitelnými policemi s nosností až 15 kg na polici. Chladicí skříň je vybavena chlazením s ventilátorem a teplotu lze snadno nastavit na digitálním termostatu. Technické údaje: Teplotní rozsah: min. -2 až +8 °C Klimatická třída: max. 4 Hrubý / čistý objem: min. 361 / 350 l Hustota izolace: min. 38 kg/m³ Nožky / nohy: 2 nastavitelné nožky Kolečka: 2 pojezdové válečky Exteriér: Bílá Zámek: Ano Počet a typ dveří: 1 křídlové plné dveře Změna otevírání dveří: Ano Počet a typ polic: 4 roštové police bílé Maximální zatížení polic: min. 110 kg/m² Typ ovládání: Elektronické Typ chlazení: S pomocným ventilátorem Typ odtávání: Automatické, cyklus vypnutí Chladivo Energetická třída: A Příkon: max. 80 W Napětí / Frekvence: 220-240/50 V/Hz Hlučnost: max. 45 dB(A) Vnitřní rozměry (ŠxHxV): cca 510 x 485 x 1620 mm Vnější rozměry (ŠxHxV): cca 600 x 615 x 1855 mm
...
