Workbook

Sheet Rekapitulace stavby
A1: Export Komplet | AZ1: VZ | BA1: 2.0 | BB1: ZAMOK | BT1: False | BU1: False | BV1: {e00c9e41-8b45-44f4-a35c-edada5650279}
BS2: 0,01 | BT2: 21
BS3: 0,01 | BT3: 12
D4: REKAPITULACE STAVBY | AS4: v --- níže se nacházejí doplnkové a pomocné údaje k sestavám --- v | BS4: 0,001
D5: Kód: | K5: 05/25 | BS5: 0,01
D6: Stavba: | K6: ÚPRAVY HŘBITOVA KBELY- ETAPA1 | BS6: 0,01
D7: KSO: | K7: 815 9 | AK7: CC-CZ: | AN7: 12 | BS7: 0,01
D8: Místo: | K8: Praha 9-Kbely | AK8: Datum: | BS8: 0,01
D9: CZ-CPV: | K9: 45000000-7 | AK9: CZ-CPA: | AN9: 41 | BS9: 0,01
D10: Zadavatel: | AK10: IČ: | AN10: 00231304 | BS10: 0,01
E11: MČ Praha 19, Semilská 43/1, 197 00 Praha 9 - Kbely | AK11: DIČ: | BS11: 0,01
BS12: 0,01
D13: Zhotovitel: | AK13: IČ: | AN13: 07395680 | BS13: 0,01
E14: IWU s.r.o. | AK14: DIČ: | AN14: CZ07395680 | BS14: 0,01
BS15: False
D16: Projektant: | AK16: IČ: | BS16: False
E17: Ing.Jan Pustějovský, Ph.D. | AK17: DIČ: | BS17: True
BS18: 0,01
D19: Zpracovatel: | AK19: IČ: | BS19: 0,01
AK20: DIČ: | BS20: False
D22: Poznámka:
E23: Položkový rozpočet zpracován v CS ÚRS s CH 2024/II na základě PD -10/2024
D26: Cena bez DPH | AK26: =ROUND(AG54,2) -> 10989687
L28: Sazba daně | W28: Základ daně | AK28: Výše daně
D29: DPH | F29: základní | L29: 0.21 | W29: =ROUND(AZ54, 2) -> 10989687 | AK29: =ROUND(AV54, 2) -> 2307834.2
F30: snížená | L30: 0.12 | W30: =ROUND(BA54, 2) -> 0 | AK30: =ROUND(AW54, 2) -> 0
F31: zákl. přenesená | L31: 0.21 | W31: =ROUND(BB54, 2) -> 0 | AK31: 0
F32: sníž. přenesená | L32: 0.12 | W32: =ROUND(BC54, 2) -> 0 | AK32: 0
F33: nulová | L33: 0 | W33: =ROUND(BD54, 2) -> 0 | AK33: 0
D35: Cena s DPH | T35: v | X35: CZK | AK35: =SUM(AK26:AK33) -> 13297521
C42: REKAPITULACE OBJEKTŮ STAVBY A SOUPISŮ PRACÍ
C44: Kód: | L44: =K5 -> 05/25
C45: Stavba: | L45: =K6 -> ÚPRAVY HŘBITOVA KBELY- ETAPA1
C47: Místo: | L47: =IF(K8="","",K8) -> Praha 9-Kbely | AI47: Datum: | AM47: =IF(AN8= "","",AN8)
C49: Zadavatel: | L49: =IF(E11= "","",E11) -> MČ Praha 19, Semilská 43/1, 197 00 Praha 9 - Kbely | AI49: Projektant: | AM49: =IF(E17="","",E17) -> Ing.Jan Pustějovský, Ph.D. | AS49: Informatívní údaje z listů zakázek
C50: Zhotovitel: | L50: =IF(E14="","",E14) -> IWU s.r.o. | AI50: Zpracovatel: | AM50: =IF(E20="","",E20)
C52: Kód | I52: Popis | AG52: Cena bez DPH [CZK] | AN52: Cena s DPH [CZK] | AQ52: Typ | AS52: z toho Ostat._x000D_ náklady [CZK] | AT52: DPH [CZK] | AU52: Normohodiny [h] | AV52: DPH základní [CZK] | AW52: DPH snížená [CZK] | AX52: DPH základní přenesená_x000D_ [CZK] | AY52: DPH snížená přenesená_x000D_ [CZK] | AZ52: Základna_x000D_ DPH základní | BA52: Základna_x000D_ DPH snížená | BB52: Základna_x000D_ DPH zákl. přenesená | BC52: Základna_x000D_ DPH sníž. přenesená | BD52: Základna_x000D_ DPH nulová
C54: Náklady stavby celkem | AG54: =ROUND(AG55+AG84+AG85+AG91+AG92+AG96,2) -> 10989687 | AN54: =SUM(AG54,AT54) -> 13297521 | AS54: =ROUND(AS55+AS84+AS85+AS91+AS92+AS96,2) -> 0 | AT54: =ROUND(SUM(AV54:AW54),2) -> 2307834.2 | AU54: =ROUND(AU55+AU84+AU85+AU91+AU92+AU96,5) -> 220.82697 | AV54: =ROUND(AZ54*L29,2) -> 2307834.2 | AW54: =ROUND(BA54*L30,2) -> 0 | AX54: =ROUND(BB54*L29,2) -> 0 | AY54: =ROUND(BC54*L30,2) -> 0 | AZ54: =ROUND(AZ55+AZ84+AZ85+AZ91+AZ92+AZ96,2) -> 10989687 | BA54: =ROUND(BA55+BA84+BA85+BA91+BA92+BA96,2) -> 0 | BB54: =ROUND(BB55+BB84+BB85+BB91+BB92+BB96,2) -> 0 | BC54: =ROUND(BC55+BC84+BC85+BC91+BC92+BC96,2) -> 0 | BD54: =ROUND(BD55+BD84+BD85+BD91+BD92+BD96,2) -> 0 | BS54: D | BT54: 0 | BU54: ###NOIMPORT### | BV54: IMPORT | BW54: {e00c9e41-8b45-44f4-a35c-edada5650279} | BX54: {00000000-0000-0000-0000-000000000000} | CL54: 815 9
D55: 01 | J55: Navrhované objekty | AG55: =ROUND(AG56+AG59+AG63+AG67+AG71+AG75+AG79+AG83,2) -> 8304712 | AN55: =SUM(AG55,AT55) -> 10048701 | AQ55: STA | AS55: =ROUND(AS56+AS59+AS63+AS67+AS71+AS75+AS79+AS83,2) -> 0 | AT55: =ROUND(SUM(AV55:AW55),2) -> 1743989.5 | AU55: =ROUND(AU56+AU59+AU63+AU67+AU71+AU75+AU79+AU83,5) -> 220.82697 | AV55: =ROUND(AZ55*L29,2) -> 1743989.5 | AW55: =ROUND(BA55*L30,2) -> 0 | AX55: =ROUND(BB55*L29,2) -> 0 | AY55: =ROUND(BC55*L30,2) -> 0 | AZ55: =ROUND(AZ56+AZ59+AZ63+AZ67+AZ71+AZ75+AZ79+AZ83,2) -> 8304712 | BA55: =ROUND(BA56+BA59+BA63+BA67+BA71+BA75+BA79+BA83,2) -> 0 | BB55: =ROUND(BB56+BB59+BB63+BB67+BB71+BB75+BB79+BB83,2) -> 0 | BC55: =ROUND(BC56+BC59+BC63+BC67+BC71+BC75+BC79+BC83,2) -> 0 | BD55: =ROUND(BD56+BD59+BD63+BD67+BD71+BD75+BD79+BD83,2) -> 0 | BS55: D | BT55: 1 | BU55: ###NOIMPORT### | BV55: IMPORT | BW55: {1fe41dd8-8cc0-4dd3-96fb-5e5554e15797} | BX55: {e00c9e41-8b45-44f4-a35c-edada5650279} | CL55: 815 9 | CM55: 2
E56: 01a | K56: Přípravné práce | AG56: =ROUND(SUM(AG57:AG58),2) -> 126555 | AN56: =SUM(AG56,AT56) -> 153131.55 | AQ56: Soupis | AS56: =ROUND(SUM(AS57:AS58),2) -> 0 | AT56: =ROUND(SUM(AV56:AW56),2) -> 26576.55 | AU56: =ROUND(SUM(AU57:AU58),5) -> 0 | AV56: =ROUND(AZ56*L29,2) -> 26576.55 | AW56: =ROUND(BA56*L30,2) -> 0 | AX56: =ROUND(BB56*L29,2) -> 0 | AY56: =ROUND(BC56*L30,2) -> 0 | AZ56: =ROUND(SUM(AZ57:AZ58),2) -> 126555 | BA56: =ROUND(SUM(BA57:BA58),2) -> 0 | BB56: =ROUND(SUM(BB57:BB58),2) -> 0 | BC56: =ROUND(SUM(BC57:BC58),2) -> 0 | BD56: =ROUND(SUM(BD57:BD58),2) -> 0 | BS56: D | BT56: 2 | BV56: IMPORT | BW56: {f144ebf1-619f-4441-8a74-6d9edd0e8bdc} | BX56: {1fe41dd8-8cc0-4dd3-96fb-5e5554e15797} | CL56: 815 9
...

Sheet 01a - Přípravné práce
AT2: {f144ebf1-619f-4441-8a74-6d9edd0e8bdc}
AT3: 2
D4: KRYCÍ LIST SOUPISU PRACÍ | M4: v --- níže se nacházejí doplnkové a pomocné údaje k sestavám --- v | AT4: False
D6: Stavba:
E7: ='Rekapitulace stavby'!K6 -> ÚPRAVY HŘBITOVA KBELY- ETAPA1
D8: Objekt:
E9: 01 - Navrhované objekty
D10: Soupis:
E11: 01a - Přípravné práce
D13: KSO: | F13: 815 9 | I13: CC-CZ:
D14: Místo: | F14: Praha 9-Kbely | I14: Datum: | J14: ='Rekapitulace stavby'!AN8 -> 0
D16: Zadavatel: | I16: IČ: | J16: 00231304
E17: MČ Praha 19, Semilská 43/1, 197 00 Praha 9 - Kbely | I17: DIČ:
D19: Zhotovitel: | I19: IČ: | J19: 07395680
E20: IWU s.r.o. | I20: DIČ: | J20: CZ07395680
D22: Projektant: | I22: IČ:
E23: Ing.Jan Pustějovský, Ph.D. | I23: DIČ:
D25: Zpracovatel: | I25: IČ:
I26: DIČ:
D28: Poznámka:
E29: Položkový rozpočet zpracován v CS ÚRS s CH 2024/II na základě PD -10/2024
D32: Cena bez DPH | J32: =ROUND(J87, 2) -> 208105
F34: Základ daně | I34: Sazba daně | J34: Výše daně
D35: DPH | E35: základní | F35: =ROUND((SUM(BE87:BE97)), 2) -> 208105 | I35: 0.21 | J35: =ROUND(((SUM(BE87:BE97))*I35), 2) -> 43702.05
E36: snížená | F36: =ROUND((SUM(BF87:BF97)), 2) -> 0 | I36: 0.12 | J36: =ROUND(((SUM(BF87:BF97))*I36), 2) -> 0
E37: zákl. přenesená | F37: =ROUND((SUM(BG87:BG97)), 2) -> 0 | I37: 0.21 | J37: =0 -> 0
E38: sníž. přenesená | F38: =ROUND((SUM(BH87:BH97)), 2) -> 0 | I38: 0.12 | J38: =0 -> 0
E39: nulová | F39: =ROUND((SUM(BI87:BI97)), 2) -> 0 | I39: 0 | J39: =0 -> 0
D41: Cena s DPH | G41: v | H41: CZK | J41: =SUM(J32:J39) -> 251807.05
C47: REKAPITULACE ČLENĚNÍ SOUPISU PRACÍ
C49: Stavba:
E50: =E7 -> ÚPRAVY HŘBITOVA KBELY- ETAPA1
C51: Objekt:
E52: 01 - Navrhované objekty
C53: Soupis:
E54: =E11 -> 01a - Přípravné práce
C56: Místo: | F56: =F14 -> Praha 9-Kbely | I56: Datum: | J56: =IF(J14="","",J14) -> 0
C58: Zadavatel: | F58: =E17 -> MČ Praha 19, Semilská 43/1, 197 00 Praha 9 - Kbely | I58: Projektant: | J58: =E23 -> Ing.Jan Pustějovský, Ph.D.
C59: Zhotovitel: | F59: =IF(E20="","",E20) -> IWU s.r.o. | I59: Zpracovatel: | J59: =E26
C61: Kód dílu - Popis | J61: Cena celkem [CZK]
...

Sheet ZBV-01a - méněpráce
AT2: {7072d825-8a85-4fa9-b817-ee2e7c402f39}
AT3: 2
D4: KRYCÍ LIST SOUPISU PRACÍ | M4: v --- níže se nacházejí doplnkové a pomocné údaje k sestavám --- v | AT4: False
D6: Stavba:
E7: ='Rekapitulace stavby'!K6 -> ÚPRAVY HŘBITOVA KBELY- ETAPA1
D8: Objekt:
E9: 01 - Navrhované objekty
D10: Soupis:
E11: 01a - Přípravné práce
D12: Úroveň 3:
E13: ZBV-01a - méněpráce
D15: KSO: | F15: 815 9 | I15: CC-CZ:
D16: Místo: | F16: Praha 9-Kbely | I16: Datum: | J16: ='Rekapitulace stavby'!AN8 -> 0
D18: Zadavatel: | I18: IČ: | J18: 00231304
E19: MČ Praha 19, Semilská 43/1, 197 00 Praha 9 - Kbely | I19: DIČ:
D21: Zhotovitel: | I21: IČ: | J21: 07395680
E22: IWU s.r.o. | I22: DIČ: | J22: CZ07395680
D24: Projektant: | I24: IČ:
E25: Ing.Jan Pustějovský, Ph.D. | I25: DIČ:
D27: Zpracovatel: | I27: IČ:
I28: DIČ:
D30: Poznámka:
D34: Cena bez DPH | J34: =ROUND(J93, 2) -> -81550
F36: Základ daně | I36: Sazba daně | J36: Výše daně
D37: DPH | E37: základní | F37: =ROUND((SUM(BE93:BE103)), 2) -> -81550 | I37: 0.21 | J37: =ROUND(((SUM(BE93:BE103))*I37), 2) -> -17125.5
E38: snížená | F38: =ROUND((SUM(BF93:BF103)), 2) -> 0 | I38: 0.12 | J38: =ROUND(((SUM(BF93:BF103))*I38), 2) -> 0
E39: zákl. přenesená | F39: =ROUND((SUM(BG93:BG103)), 2) -> 0 | I39: 0.21 | J39: =0 -> 0
E40: sníž. přenesená | F40: =ROUND((SUM(BH93:BH103)), 2) -> 0 | I40: 0.12 | J40: =0 -> 0
E41: nulová | F41: =ROUND((SUM(BI93:BI103)), 2) -> 0 | I41: 0 | J41: =0 -> 0
D43: Cena s DPH | G43: v | H43: CZK | J43: =SUM(J34:J41) -> -98675.5
C49: REKAPITULACE ČLENĚNÍ SOUPISU PRACÍ
C51: Stavba:
E52: =E7 -> ÚPRAVY HŘBITOVA KBELY- ETAPA1
C53: Objekt:
E54: 01 - Navrhované objekty
C55: Soupis:
E56: 01a - Přípravné práce
C57: Úroveň 3:
E58: =E13 -> ZBV-01a - méněpráce
C60: Místo: | F60: =F16 -> Praha 9-Kbely | I60: Datum: | J60: =IF(J16="","",J16) -> 0
...

Sheet 07 - KOLUMBÁRIUM
AT2: {12e068f8-e123-46e4-89ca-100ec925e7f4}
AT3: 2
D4: KRYCÍ LIST SOUPISU PRACÍ | M4: v --- níže se nacházejí doplnkové a pomocné údaje k sestavám --- v | AT4: False
D6: Stavba:
E7: ='Rekapitulace stavby'!K6 -> ÚPRAVY HŘBITOVA KBELY- ETAPA1
D8: Objekt:
E9: 01 - Navrhované objekty
D10: Soupis:
E11: 07 - KOLUMBÁRIUM
D13: KSO: | F13: 815 9 | I13: CC-CZ:
D14: Místo: | F14: Praha 9-Kbely | I14: Datum: | J14: ='Rekapitulace stavby'!AN8 -> 0
D16: Zadavatel: | I16: IČ: | J16: 00231304
E17: MČ Praha 19, Semilská 43/1, 197 00 Praha 9 - Kbely | I17: DIČ:
D19: Zhotovitel: | I19: IČ: | J19: 07395680
E20: IWU s.r.o. | I20: DIČ: | J20: CZ07395680
D22: Projektant: | I22: IČ:
E23: Ing.Jan Pustějovský, Ph.D. | I23: DIČ:
D25: Zpracovatel: | I25: IČ:
I26: DIČ:
D28: Poznámka:
E29: Položkový rozpočet zpracován v CS ÚRS s CH 2024/II na základě PD -10/2024
D32: Cena bez DPH | J32: =ROUND(J94, 2) -> 655733.58
F34: Základ daně | I34: Sazba daně | J34: Výše daně
D35: DPH | E35: základní | F35: =ROUND((SUM(BE94:BE200)), 2) -> 655733.58 | I35: 0.21 | J35: =ROUND(((SUM(BE94:BE200))*I35), 2) -> 137704.05
E36: snížená | F36: =ROUND((SUM(BF94:BF200)), 2) -> 0 | I36: 0.12 | J36: =ROUND(((SUM(BF94:BF200))*I36), 2) -> 0
E37: zákl. přenesená | F37: =ROUND((SUM(BG94:BG200)), 2) -> 0 | I37: 0.21 | J37: =0 -> 0
E38: sníž. přenesená | F38: =ROUND((SUM(BH94:BH200)), 2) -> 0 | I38: 0.12 | J38: =0 -> 0
E39: nulová | F39: =ROUND((SUM(BI94:BI200)), 2) -> 0 | I39: 0 | J39: =0 -> 0
D41: Cena s DPH | G41: v | H41: CZK | J41: =SUM(J32:J39) -> 793437.63
C47: REKAPITULACE ČLENĚNÍ SOUPISU PRACÍ
C49: Stavba:
E50: =E7 -> ÚPRAVY HŘBITOVA KBELY- ETAPA1
C51: Objekt:
E52: 01 - Navrhované objekty
C53: Soupis:
E54: =E11 -> 07 - KOLUMBÁRIUM
C56: Místo: | F56: =F14 -> Praha 9-Kbely | I56: Datum: | J56: =IF(J14="","",J14) -> 0
C58: Zadavatel: | F58: =E17 -> MČ Praha 19, Semilská 43/1, 197 00 Praha 9 - Kbely | I58: Projektant: | J58: =E23 -> Ing.Jan Pustějovský, Ph.D.
C59: Zhotovitel: | F59: =IF(E20="","",E20) -> IWU s.r.o. | I59: Zpracovatel: | J59: =E26
C61: Kód dílu - Popis | J61: Cena celkem [CZK]
...

Sheet ZBV-02a - méněpráce
AT2: {cfb8e07d-c672-4f8f-9ba4-6d0691c03800}
AT3: 2
D4: KRYCÍ LIST SOUPISU PRACÍ | M4: v --- níže se nacházejí doplnkové a pomocné údaje k sestavám --- v | AT4: False
D6: Stavba:
E7: ='Rekapitulace stavby'!K6 -> ÚPRAVY HŘBITOVA KBELY- ETAPA1
D8: Objekt:
E9: 01 - Navrhované objekty
D10: Soupis:
E11: 07 - KOLUMBÁRIUM
D12: Úroveň 3:
E13: ZBV-02a - méněpráce
D15: KSO: | F15: 815 9 | I15: CC-CZ:
D16: Místo: | F16: Praha 9-Kbely | I16: Datum: | J16: ='Rekapitulace stavby'!AN8 -> 0
D18: Zadavatel: | I18: IČ: | J18: 00231304
E19: MČ Praha 19, Semilská 43/1, 197 00 Praha 9 - Kbely | I19: DIČ:
D21: Zhotovitel: | I21: IČ: | J21: 07395680
E22: IWU s.r.o. | I22: DIČ: | J22: CZ07395680
D24: Projektant: | I24: IČ:
E25: Ing.Jan Pustějovský, Ph.D. | I25: DIČ:
D27: Zpracovatel: | I27: IČ:
I28: DIČ:
D30: Poznámka:
D34: Cena bez DPH | J34: =ROUND(J94, 2) -> -55452.53
F36: Základ daně | I36: Sazba daně | J36: Výše daně
D37: DPH | E37: základní | F37: =ROUND((SUM(BE94:BE145)), 2) -> -55452.53 | I37: 0.21 | J37: =ROUND(((SUM(BE94:BE145))*I37), 2) -> -11645.03
E38: snížená | F38: =ROUND((SUM(BF94:BF145)), 2) -> 0 | I38: 0.12 | J38: =ROUND(((SUM(BF94:BF145))*I38), 2) -> 0
E39: zákl. přenesená | F39: =ROUND((SUM(BG94:BG145)), 2) -> 0 | I39: 0.21 | J39: =0 -> 0
E40: sníž. přenesená | F40: =ROUND((SUM(BH94:BH145)), 2) -> 0 | I40: 0.12 | J40: =0 -> 0
E41: nulová | F41: =ROUND((SUM(BI94:BI145)), 2) -> 0 | I41: 0 | J41: =0 -> 0
D43: Cena s DPH | G43: v | H43: CZK | J43: =SUM(J34:J41) -> -67097.56
C49: REKAPITULACE ČLENĚNÍ SOUPISU PRACÍ
C51: Stavba:
E52: =E7 -> ÚPRAVY HŘBITOVA KBELY- ETAPA1
C53: Objekt:
E54: 01 - Navrhované objekty
C55: Soupis:
E56: 07 - KOLUMBÁRIUM
C57: Úroveň 3:
E58: =E13 -> ZBV-02a - méněpráce
C60: Místo: | F60: =F16 -> Praha 9-Kbely | I60: Datum: | J60: =IF(J16="","",J16) -> 0
...

Sheet ZBV-02b - vícepráce
AT2: {bd2d8957-1601-43b4-b23e-5631e3c54041}
AT3: 2
D4: KRYCÍ LIST SOUPISU PRACÍ | M4: v --- níže se nacházejí doplnkové a pomocné údaje k sestavám --- v | AT4: False
D6: Stavba:
E7: ='Rekapitulace stavby'!K6 -> ÚPRAVY HŘBITOVA KBELY- ETAPA1
D8: Objekt:
E9: 01 - Navrhované objekty
D10: Soupis:
E11: 07 - KOLUMBÁRIUM
D12: Úroveň 3:
E13: ZBV-02b - vícepráce
D15: KSO: | F15: 815 9 | I15: CC-CZ:
D16: Místo: | F16: Praha 9-Kbely | I16: Datum: | J16: ='Rekapitulace stavby'!AN8 -> 0
D18: Zadavatel: | I18: IČ: | J18: 00231304
E19: MČ Praha 19, Semilská 43/1, 197 00 Praha 9 - Kbely | I19: DIČ:
D21: Zhotovitel: | I21: IČ: | J21: 07395680
E22: IWU s.r.o. | I22: DIČ: | J22: CZ07395680
D24: Projektant: | I24: IČ:
E25: Ing.Jan Pustějovský, Ph.D. | I25: DIČ:
D27: Zpracovatel: | I27: IČ:
I28: DIČ:
D30: Poznámka:
D34: Cena bez DPH | J34: =ROUND(J94, 2) -> 89552.2
F36: Základ daně | I36: Sazba daně | J36: Výše daně
D37: DPH | E37: základní | F37: =ROUND((SUM(BE94:BE110)), 2) -> 89552.2 | I37: 0.21 | J37: =ROUND(((SUM(BE94:BE110))*I37), 2) -> 18805.96
E38: snížená | F38: =ROUND((SUM(BF94:BF110)), 2) -> 0 | I38: 0.12 | J38: =ROUND(((SUM(BF94:BF110))*I38), 2) -> 0
E39: zákl. přenesená | F39: =ROUND((SUM(BG94:BG110)), 2) -> 0 | I39: 0.21 | J39: =0 -> 0
E40: sníž. přenesená | F40: =ROUND((SUM(BH94:BH110)), 2) -> 0 | I40: 0.12 | J40: =0 -> 0
E41: nulová | F41: =ROUND((SUM(BI94:BI110)), 2) -> 0 | I41: 0 | J41: =0 -> 0
D43: Cena s DPH | G43: v | H43: CZK | J43: =SUM(J34:J41) -> 108358.16
C49: REKAPITULACE ČLENĚNÍ SOUPISU PRACÍ
C51: Stavba:
E52: =E7 -> ÚPRAVY HŘBITOVA KBELY- ETAPA1
C53: Objekt:
E54: 01 - Navrhované objekty
C55: Soupis:
E56: 07 - KOLUMBÁRIUM
C57: Úroveň 3:
E58: =E13 -> ZBV-02b - vícepráce
C60: Místo: | F60: =F16 -> Praha 9-Kbely | I60: Datum: | J60: =IF(J16="","",J16) -> 0
...

Sheet 08 - KOLUMBÁRIUM
AT2: {1648dd7c-8f79-4879-b56c-e2b8977b3a3f}
AT3: 2
D4: KRYCÍ LIST SOUPISU PRACÍ | M4: v --- níže se nacházejí doplnkové a pomocné údaje k sestavám --- v | AT4: False
D6: Stavba:
E7: ='Rekapitulace stavby'!K6 -> ÚPRAVY HŘBITOVA KBELY- ETAPA1
D8: Objekt:
E9: 01 - Navrhované objekty
D10: Soupis:
E11: 08 - KOLUMBÁRIUM
D13: KSO: | F13: 815 9 | I13: CC-CZ:
D14: Místo: | F14: Praha 9-Kbely | I14: Datum: | J14: ='Rekapitulace stavby'!AN8 -> 0
D16: Zadavatel: | I16: IČ: | J16: 00231304
E17: MČ Praha 19, Semilská 43/1, 197 00 Praha 9 - Kbely | I17: DIČ:
D19: Zhotovitel: | I19: IČ: | J19: 07395680
E20: IWU s.r.o. | I20: DIČ: | J20: CZ07395680
D22: Projektant: | I22: IČ:
E23: Ing.Jan Pustějovský, Ph.D. | I23: DIČ:
D25: Zpracovatel: | I25: IČ:
I26: DIČ:
D28: Poznámka:
E29: Položkový rozpočet zpracován v CS ÚRS s CH 2024/II na základě PD -10/2024
D32: Cena bez DPH | J32: =ROUND(J94, 2) -> 1779345.4
F34: Základ daně | I34: Sazba daně | J34: Výše daně
D35: DPH | E35: základní | F35: =ROUND((SUM(BE94:BE203)), 2) -> 1779345.4 | I35: 0.21 | J35: =ROUND(((SUM(BE94:BE203))*I35), 2) -> 373662.53
E36: snížená | F36: =ROUND((SUM(BF94:BF203)), 2) -> 0 | I36: 0.12 | J36: =ROUND(((SUM(BF94:BF203))*I36), 2) -> 0
E37: zákl. přenesená | F37: =ROUND((SUM(BG94:BG203)), 2) -> 0 | I37: 0.21 | J37: =0 -> 0
E38: sníž. přenesená | F38: =ROUND((SUM(BH94:BH203)), 2) -> 0 | I38: 0.12 | J38: =0 -> 0
E39: nulová | F39: =ROUND((SUM(BI94:BI203)), 2) -> 0 | I39: 0 | J39: =0 -> 0
D41: Cena s DPH | G41: v | H41: CZK | J41: =SUM(J32:J39) -> 2153007.9
C47: REKAPITULACE ČLENĚNÍ SOUPISU PRACÍ
C49: Stavba:
E50: =E7 -> ÚPRAVY HŘBITOVA KBELY- ETAPA1
C51: Objekt:
E52: 01 - Navrhované objekty
C53: Soupis:
E54: =E11 -> 08 - KOLUMBÁRIUM
C56: Místo: | F56: =F14 -> Praha 9-Kbely | I56: Datum: | J56: =IF(J14="","",J14) -> 0
C58: Zadavatel: | F58: =E17 -> MČ Praha 19, Semilská 43/1, 197 00 Praha 9 - Kbely | I58: Projektant: | J58: =E23 -> Ing.Jan Pustějovský, Ph.D.
C59: Zhotovitel: | F59: =IF(E20="","",E20) -> IWU s.r.o. | I59: Zpracovatel: | J59: =E26
C61: Kód dílu - Popis | J61: Cena celkem [CZK]
...

Sheet ZBV-03a - méněpráce
AT2: {98aded36-1a98-4da2-898d-841d1e4f348c}
AT3: 2
D4: KRYCÍ LIST SOUPISU PRACÍ | M4: v --- níže se nacházejí doplnkové a pomocné údaje k sestavám --- v | AT4: False
D6: Stavba:
E7: ='Rekapitulace stavby'!K6 -> ÚPRAVY HŘBITOVA KBELY- ETAPA1
D8: Objekt:
E9: 01 - Navrhované objekty
D10: Soupis:
E11: 08 - KOLUMBÁRIUM
D12: Úroveň 3:
E13: ZBV-03a - méněpráce
D15: KSO: | F15: 815 9 | I15: CC-CZ:
D16: Místo: | F16: Praha 9-Kbely | I16: Datum: | J16: ='Rekapitulace stavby'!AN8 -> 0
D18: Zadavatel: | I18: IČ: | J18: 00231304
E19: MČ Praha 19, Semilská 43/1, 197 00 Praha 9 - Kbely | I19: DIČ:
D21: Zhotovitel: | I21: IČ: | J21: 07395680
E22: IWU s.r.o. | I22: DIČ: | J22: CZ07395680
D24: Projektant: | I24: IČ:
E25: Ing.Jan Pustějovský, Ph.D. | I25: DIČ:
D27: Zpracovatel: | I27: IČ:
I28: DIČ:
D30: Poznámka:
D34: Cena bez DPH | J34: =ROUND(J94, 2) -> -229411.21
F36: Základ daně | I36: Sazba daně | J36: Výše daně
D37: DPH | E37: základní | F37: =ROUND((SUM(BE94:BE145)), 2) -> -229411.21 | I37: 0.21 | J37: =ROUND(((SUM(BE94:BE145))*I37), 2) -> -48176.35
E38: snížená | F38: =ROUND((SUM(BF94:BF145)), 2) -> 0 | I38: 0.12 | J38: =ROUND(((SUM(BF94:BF145))*I38), 2) -> 0
E39: zákl. přenesená | F39: =ROUND((SUM(BG94:BG145)), 2) -> 0 | I39: 0.21 | J39: =0 -> 0
E40: sníž. přenesená | F40: =ROUND((SUM(BH94:BH145)), 2) -> 0 | I40: 0.12 | J40: =0 -> 0
E41: nulová | F41: =ROUND((SUM(BI94:BI145)), 2) -> 0 | I41: 0 | J41: =0 -> 0
D43: Cena s DPH | G43: v | H43: CZK | J43: =SUM(J34:J41) -> -277587.56
C49: REKAPITULACE ČLENĚNÍ SOUPISU PRACÍ
C51: Stavba:
E52: =E7 -> ÚPRAVY HŘBITOVA KBELY- ETAPA1
C53: Objekt:
E54: 01 - Navrhované objekty
C55: Soupis:
E56: 08 - KOLUMBÁRIUM
C57: Úroveň 3:
E58: =E13 -> ZBV-03a - méněpráce
C60: Místo: | F60: =F16 -> Praha 9-Kbely | I60: Datum: | J60: =IF(J16="","",J16) -> 0
...

Sheet ZBV-03b - vícepráce
AT2: {122bf830-2ec7-4911-8f50-491624c88f16}
AT3: 2
D4: KRYCÍ LIST SOUPISU PRACÍ | M4: v --- níže se nacházejí doplnkové a pomocné údaje k sestavám --- v | AT4: False
D6: Stavba:
E7: ='Rekapitulace stavby'!K6 -> ÚPRAVY HŘBITOVA KBELY- ETAPA1
D8: Objekt:
E9: 01 - Navrhované objekty
D10: Soupis:
E11: 08 - KOLUMBÁRIUM
D12: Úroveň 3:
E13: ZBV-03b - vícepráce
D15: KSO: | F15: 815 9 | I15: CC-CZ:
D16: Místo: | F16: Praha 9-Kbely | I16: Datum: | J16: ='Rekapitulace stavby'!AN8 -> 0
D18: Zadavatel: | I18: IČ: | J18: 00231304
E19: MČ Praha 19, Semilská 43/1, 197 00 Praha 9 - Kbely | I19: DIČ:
D21: Zhotovitel: | I21: IČ: | J21: 07395680
E22: IWU s.r.o. | I22: DIČ: | J22: CZ07395680
D24: Projektant: | I24: IČ:
E25: Ing.Jan Pustějovský, Ph.D. | I25: DIČ:
D27: Zpracovatel: | I27: IČ:
I28: DIČ:
D30: Poznámka:
D34: Cena bez DPH | J34: =ROUND(J94, 2) -> 351561.13
F36: Základ daně | I36: Sazba daně | J36: Výše daně
D37: DPH | E37: základní | F37: =ROUND((SUM(BE94:BE110)), 2) -> 351561.13 | I37: 0.21 | J37: =ROUND(((SUM(BE94:BE110))*I37), 2) -> 73827.84
E38: snížená | F38: =ROUND((SUM(BF94:BF110)), 2) -> 0 | I38: 0.12 | J38: =ROUND(((SUM(BF94:BF110))*I38), 2) -> 0
E39: zákl. přenesená | F39: =ROUND((SUM(BG94:BG110)), 2) -> 0 | I39: 0.21 | J39: =0 -> 0
E40: sníž. přenesená | F40: =ROUND((SUM(BH94:BH110)), 2) -> 0 | I40: 0.12 | J40: =0 -> 0
E41: nulová | F41: =ROUND((SUM(BI94:BI110)), 2) -> 0 | I41: 0 | J41: =0 -> 0
D43: Cena s DPH | G43: v | H43: CZK | J43: =SUM(J34:J41) -> 425388.97
C49: REKAPITULACE ČLENĚNÍ SOUPISU PRACÍ
C51: Stavba:
E52: =E7 -> ÚPRAVY HŘBITOVA KBELY- ETAPA1
C53: Objekt:
E54: 01 - Navrhované objekty
C55: Soupis:
E56: 08 - KOLUMBÁRIUM
C57: Úroveň 3:
E58: =E13 -> ZBV-03b - vícepráce
C60: Místo: | F60: =F16 -> Praha 9-Kbely | I60: Datum: | J60: =IF(J16="","",J16) -> 0
...

Sheet 09 - KOLUMBÁRIUM
AT2: {318d45e2-cc03-49f6-adcc-6cfa3c94cc2b}
AT3: 2
D4: KRYCÍ LIST SOUPISU PRACÍ | M4: v --- níže se nacházejí doplnkové a pomocné údaje k sestavám --- v | AT4: False
D6: Stavba:
E7: ='Rekapitulace stavby'!K6 -> ÚPRAVY HŘBITOVA KBELY- ETAPA1
D8: Objekt:
E9: 01 - Navrhované objekty
D10: Soupis:
E11: 09 - KOLUMBÁRIUM
D13: KSO: | F13: 815 9 | I13: CC-CZ:
D14: Místo: | F14: Praha 9-Kbely | I14: Datum: | J14: ='Rekapitulace stavby'!AN8 -> 0
D16: Zadavatel: | I16: IČ: | J16: 00231304
E17: MČ Praha 19, Semilská 43/1, 197 00 Praha 9 - Kbely | I17: DIČ:
D19: Zhotovitel: | I19: IČ: | J19: 07395680
E20: IWU s.r.o. | I20: DIČ: | J20: CZ07395680
D22: Projektant: | I22: IČ:
E23: Ing.Jan Pustějovský, Ph.D. | I23: DIČ:
D25: Zpracovatel: | I25: IČ:
I26: DIČ:
D28: Poznámka:
E29: Položkový rozpočet zpracován v CS ÚRS s CH 2024/II na základě PD -10/2024
D32: Cena bez DPH | J32: =ROUND(J94, 2) -> 992020.21
F34: Základ daně | I34: Sazba daně | J34: Výše daně
D35: DPH | E35: základní | F35: =ROUND((SUM(BE94:BE192)), 2) -> 992020.21 | I35: 0.21 | J35: =ROUND(((SUM(BE94:BE192))*I35), 2) -> 208324.24
E36: snížená | F36: =ROUND((SUM(BF94:BF192)), 2) -> 0 | I36: 0.12 | J36: =ROUND(((SUM(BF94:BF192))*I36), 2) -> 0
E37: zákl. přenesená | F37: =ROUND((SUM(BG94:BG192)), 2) -> 0 | I37: 0.21 | J37: =0 -> 0
E38: sníž. přenesená | F38: =ROUND((SUM(BH94:BH192)), 2) -> 0 | I38: 0.12 | J38: =0 -> 0
E39: nulová | F39: =ROUND((SUM(BI94:BI192)), 2) -> 0 | I39: 0 | J39: =0 -> 0
D41: Cena s DPH | G41: v | H41: CZK | J41: =SUM(J32:J39) -> 1200344.4
C47: REKAPITULACE ČLENĚNÍ SOUPISU PRACÍ
C49: Stavba:
E50: =E7 -> ÚPRAVY HŘBITOVA KBELY- ETAPA1
C51: Objekt:
E52: 01 - Navrhované objekty
C53: Soupis:
E54: =E11 -> 09 - KOLUMBÁRIUM
C56: Místo: | F56: =F14 -> Praha 9-Kbely | I56: Datum: | J56: =IF(J14="","",J14) -> 0
C58: Zadavatel: | F58: =E17 -> MČ Praha 19, Semilská 43/1, 197 00 Praha 9 - Kbely | I58: Projektant: | J58: =E23 -> Ing.Jan Pustějovský, Ph.D.
C59: Zhotovitel: | F59: =IF(E20="","",E20) -> IWU s.r.o. | I59: Zpracovatel: | J59: =E26
C61: Kód dílu - Popis | J61: Cena celkem [CZK]
...

Sheet ZBV-04a - méněpráce
AT2: {7cd4c9f9-8373-44a4-b9f8-84d4560f5040}
AT3: 2
D4: KRYCÍ LIST SOUPISU PRACÍ | M4: v --- níže se nacházejí doplnkové a pomocné údaje k sestavám --- v | AT4: False
D6: Stavba:
E7: ='Rekapitulace stavby'!K6 -> ÚPRAVY HŘBITOVA KBELY- ETAPA1
D8: Objekt:
E9: 01 - Navrhované objekty
D10: Soupis:
E11: 09 - KOLUMBÁRIUM
D12: Úroveň 3:
E13: ZBV-04a - méněpráce
D15: KSO: | F15: 815 9 | I15: CC-CZ:
D16: Místo: | F16: Praha 9-Kbely | I16: Datum: | J16: ='Rekapitulace stavby'!AN8 -> 0
D18: Zadavatel: | I18: IČ: | J18: 00231304
E19: MČ Praha 19, Semilská 43/1, 197 00 Praha 9 - Kbely | I19: DIČ:
D21: Zhotovitel: | I21: IČ: | J21: 07395680
E22: IWU s.r.o. | I22: DIČ: | J22: CZ07395680
D24: Projektant: | I24: IČ:
E25: Ing.Jan Pustějovský, Ph.D. | I25: DIČ:
D27: Zpracovatel: | I27: IČ:
I28: DIČ:
D30: Poznámka:
D34: Cena bez DPH | J34: =ROUND(J94, 2) -> -86577.24
F36: Základ daně | I36: Sazba daně | J36: Výše daně
D37: DPH | E37: základní | F37: =ROUND((SUM(BE94:BE145)), 2) -> -86577.24 | I37: 0.21 | J37: =ROUND(((SUM(BE94:BE145))*I37), 2) -> -18181.22
E38: snížená | F38: =ROUND((SUM(BF94:BF145)), 2) -> 0 | I38: 0.12 | J38: =ROUND(((SUM(BF94:BF145))*I38), 2) -> 0
E39: zákl. přenesená | F39: =ROUND((SUM(BG94:BG145)), 2) -> 0 | I39: 0.21 | J39: =0 -> 0
E40: sníž. přenesená | F40: =ROUND((SUM(BH94:BH145)), 2) -> 0 | I40: 0.12 | J40: =0 -> 0
E41: nulová | F41: =ROUND((SUM(BI94:BI145)), 2) -> 0 | I41: 0 | J41: =0 -> 0
D43: Cena s DPH | G43: v | H43: CZK | J43: =SUM(J34:J41) -> -104758.46
C49: REKAPITULACE ČLENĚNÍ SOUPISU PRACÍ
C51: Stavba:
E52: =E7 -> ÚPRAVY HŘBITOVA KBELY- ETAPA1
C53: Objekt:
E54: 01 - Navrhované objekty
C55: Soupis:
E56: 09 - KOLUMBÁRIUM
C57: Úroveň 3:
E58: =E13 -> ZBV-04a - méněpráce
C60: Místo: | F60: =F16 -> Praha 9-Kbely | I60: Datum: | J60: =IF(J16="","",J16) -> 0
...

Sheet ZBV-04b - vícepráce
AT2: {af2788f6-1399-42c6-a115-91d698fb748b}
AT3: 2
D4: KRYCÍ LIST SOUPISU PRACÍ | M4: v --- níže se nacházejí doplnkové a pomocné údaje k sestavám --- v | AT4: False
D6: Stavba:
E7: ='Rekapitulace stavby'!K6 -> ÚPRAVY HŘBITOVA KBELY- ETAPA1
D8: Objekt:
E9: 01 - Navrhované objekty
D10: Soupis:
E11: 09 - KOLUMBÁRIUM
D12: Úroveň 3:
E13: ZBV-04b - vícepráce
D15: KSO: | F15: 815 9 | I15: CC-CZ:
D16: Místo: | F16: Praha 9-Kbely | I16: Datum: | J16: ='Rekapitulace stavby'!AN8 -> 0
D18: Zadavatel: | I18: IČ: | J18: 00231304
E19: MČ Praha 19, Semilská 43/1, 197 00 Praha 9 - Kbely | I19: DIČ:
D21: Zhotovitel: | I21: IČ: | J21: 07395680
E22: IWU s.r.o. | I22: DIČ: | J22: CZ07395680
D24: Projektant: | I24: IČ:
E25: Ing.Jan Pustějovský, Ph.D. | I25: DIČ:
D27: Zpracovatel: | I27: IČ:
I28: DIČ:
D30: Poznámka:
D34: Cena bez DPH | J34: =ROUND(J94, 2) -> 163046.12
F36: Základ daně | I36: Sazba daně | J36: Výše daně
D37: DPH | E37: základní | F37: =ROUND((SUM(BE94:BE111)), 2) -> 163046.12 | I37: 0.21 | J37: =ROUND(((SUM(BE94:BE111))*I37), 2) -> 34239.69
E38: snížená | F38: =ROUND((SUM(BF94:BF111)), 2) -> 0 | I38: 0.12 | J38: =ROUND(((SUM(BF94:BF111))*I38), 2) -> 0
E39: zákl. přenesená | F39: =ROUND((SUM(BG94:BG111)), 2) -> 0 | I39: 0.21 | J39: =0 -> 0
E40: sníž. přenesená | F40: =ROUND((SUM(BH94:BH111)), 2) -> 0 | I40: 0.12 | J40: =0 -> 0
E41: nulová | F41: =ROUND((SUM(BI94:BI111)), 2) -> 0 | I41: 0 | J41: =0 -> 0
D43: Cena s DPH | G43: v | H43: CZK | J43: =SUM(J34:J41) -> 197285.81
C49: REKAPITULACE ČLENĚNÍ SOUPISU PRACÍ
C51: Stavba:
E52: =E7 -> ÚPRAVY HŘBITOVA KBELY- ETAPA1
C53: Objekt:
E54: 01 - Navrhované objekty
C55: Soupis:
E56: 09 - KOLUMBÁRIUM
C57: Úroveň 3:
E58: =E13 -> ZBV-04b - vícepráce
C60: Místo: | F60: =F16 -> Praha 9-Kbely | I60: Datum: | J60: =IF(J16="","",J16) -> 0
...

Sheet 10 - KOLUMBÁRIUM
AT2: {47416657-0009-4f61-b0a3-af82d4e97114}
AT3: 2
D4: KRYCÍ LIST SOUPISU PRACÍ | M4: v --- níže se nacházejí doplnkové a pomocné údaje k sestavám --- v | AT4: False
D6: Stavba:
E7: ='Rekapitulace stavby'!K6 -> ÚPRAVY HŘBITOVA KBELY- ETAPA1
D8: Objekt:
E9: 01 - Navrhované objekty
D10: Soupis:
E11: 10 - KOLUMBÁRIUM
D13: KSO: | F13: 815 9 | I13: CC-CZ:
D14: Místo: | F14: Praha 9-Kbely | I14: Datum: | J14: ='Rekapitulace stavby'!AN8 -> 0
D16: Zadavatel: | I16: IČ: | J16: 00231304
E17: MČ Praha 19, Semilská 43/1, 197 00 Praha 9 - Kbely | I17: DIČ:
D19: Zhotovitel: | I19: IČ: | J19: 07395680
E20: IWU s.r.o. | I20: DIČ: | J20: CZ07395680
D22: Projektant: | I22: IČ:
E23: Ing.Jan Pustějovský, Ph.D. | I23: DIČ:
D25: Zpracovatel: | I25: IČ:
I26: DIČ:
D28: Poznámka:
E29: Položkový rozpočet zpracován v CS ÚRS s CH 2024/II na základě PD -10/2024
D32: Cena bez DPH | J32: =ROUND(J94, 2) -> 1003855.3
F34: Základ daně | I34: Sazba daně | J34: Výše daně
D35: DPH | E35: základní | F35: =ROUND((SUM(BE94:BE202)), 2) -> 1003855.3 | I35: 0.21 | J35: =ROUND(((SUM(BE94:BE202))*I35), 2) -> 210809.61
E36: snížená | F36: =ROUND((SUM(BF94:BF202)), 2) -> 0 | I36: 0.12 | J36: =ROUND(((SUM(BF94:BF202))*I36), 2) -> 0
E37: zákl. přenesená | F37: =ROUND((SUM(BG94:BG202)), 2) -> 0 | I37: 0.21 | J37: =0 -> 0
E38: sníž. přenesená | F38: =ROUND((SUM(BH94:BH202)), 2) -> 0 | I38: 0.12 | J38: =0 -> 0
E39: nulová | F39: =ROUND((SUM(BI94:BI202)), 2) -> 0 | I39: 0 | J39: =0 -> 0
D41: Cena s DPH | G41: v | H41: CZK | J41: =SUM(J32:J39) -> 1214664.9
C47: REKAPITULACE ČLENĚNÍ SOUPISU PRACÍ
C49: Stavba:
E50: =E7 -> ÚPRAVY HŘBITOVA KBELY- ETAPA1
C51: Objekt:
E52: 01 - Navrhované objekty
C53: Soupis:
E54: =E11 -> 10 - KOLUMBÁRIUM
C56: Místo: | F56: =F14 -> Praha 9-Kbely | I56: Datum: | J56: =IF(J14="","",J14) -> 0
C58: Zadavatel: | F58: =E17 -> MČ Praha 19, Semilská 43/1, 197 00 Praha 9 - Kbely | I58: Projektant: | J58: =E23 -> Ing.Jan Pustějovský, Ph.D.
C59: Zhotovitel: | F59: =IF(E20="","",E20) -> IWU s.r.o. | I59: Zpracovatel: | J59: =E26
C61: Kód dílu - Popis | J61: Cena celkem [CZK]
...

Sheet ZBV-05a - méněpráce
AT2: {e9223328-9947-4f5d-b51e-d0c1ee4e8339}
AT3: 2
D4: KRYCÍ LIST SOUPISU PRACÍ | M4: v --- níže se nacházejí doplnkové a pomocné údaje k sestavám --- v | AT4: False
D6: Stavba:
E7: ='Rekapitulace stavby'!K6 -> ÚPRAVY HŘBITOVA KBELY- ETAPA1
D8: Objekt:
E9: 01 - Navrhované objekty
D10: Soupis:
E11: 10 - KOLUMBÁRIUM
D12: Úroveň 3:
E13: ZBV-05a - méněpráce
D15: KSO: | F15: 815 9 | I15: CC-CZ:
D16: Místo: | F16: Praha 9-Kbely | I16: Datum: | J16: ='Rekapitulace stavby'!AN8 -> 0
D18: Zadavatel: | I18: IČ: | J18: 00231304
E19: MČ Praha 19, Semilská 43/1, 197 00 Praha 9 - Kbely | I19: DIČ:
D21: Zhotovitel: | I21: IČ: | J21: 07395680
E22: IWU s.r.o. | I22: DIČ: | J22: CZ07395680
D24: Projektant: | I24: IČ:
E25: Ing.Jan Pustějovský, Ph.D. | I25: DIČ:
D27: Zpracovatel: | I27: IČ:
I28: DIČ:
D30: Poznámka:
D34: Cena bez DPH | J34: =ROUND(J94, 2) -> -90565.67
F36: Základ daně | I36: Sazba daně | J36: Výše daně
D37: DPH | E37: základní | F37: =ROUND((SUM(BE94:BE145)), 2) -> -90565.67 | I37: 0.21 | J37: =ROUND(((SUM(BE94:BE145))*I37), 2) -> -19018.79
E38: snížená | F38: =ROUND((SUM(BF94:BF145)), 2) -> 0 | I38: 0.12 | J38: =ROUND(((SUM(BF94:BF145))*I38), 2) -> 0
E39: zákl. přenesená | F39: =ROUND((SUM(BG94:BG145)), 2) -> 0 | I39: 0.21 | J39: =0 -> 0
E40: sníž. přenesená | F40: =ROUND((SUM(BH94:BH145)), 2) -> 0 | I40: 0.12 | J40: =0 -> 0
E41: nulová | F41: =ROUND((SUM(BI94:BI145)), 2) -> 0 | I41: 0 | J41: =0 -> 0
D43: Cena s DPH | G43: v | H43: CZK | J43: =SUM(J34:J41) -> -109584.46
C49: REKAPITULACE ČLENĚNÍ SOUPISU PRACÍ
C51: Stavba:
E52: =E7 -> ÚPRAVY HŘBITOVA KBELY- ETAPA1
C53: Objekt:
E54: 01 - Navrhované objekty
C55: Soupis:
E56: 10 - KOLUMBÁRIUM
C57: Úroveň 3:
E58: =E13 -> ZBV-05a - méněpráce
C60: Místo: | F60: =F16 -> Praha 9-Kbely | I60: Datum: | J60: =IF(J16="","",J16) -> 0
...

Sheet ZBV-05b - vícepráce
AT2: {b4fa2778-3f34-46ef-8f75-3c928f957ad6}
AT3: 2
D4: KRYCÍ LIST SOUPISU PRACÍ | M4: v --- níže se nacházejí doplnkové a pomocné údaje k sestavám --- v | AT4: False
D6: Stavba:
E7: ='Rekapitulace stavby'!K6 -> ÚPRAVY HŘBITOVA KBELY- ETAPA1
D8: Objekt:
E9: 01 - Navrhované objekty
D10: Soupis:
E11: 10 - KOLUMBÁRIUM
D12: Úroveň 3:
E13: ZBV-05b - vícepráce
D15: KSO: | F15: 815 9 | I15: CC-CZ:
D16: Místo: | F16: Praha 9-Kbely | I16: Datum: | J16: ='Rekapitulace stavby'!AN8 -> 0
D18: Zadavatel: | I18: IČ: | J18: 00231304
E19: MČ Praha 19, Semilská 43/1, 197 00 Praha 9 - Kbely | I19: DIČ:
D21: Zhotovitel: | I21: IČ: | J21: 07395680
E22: IWU s.r.o. | I22: DIČ: | J22: CZ07395680
D24: Projektant: | I24: IČ:
E25: Ing.Jan Pustějovský, Ph.D. | I25: DIČ:
D27: Zpracovatel: | I27: IČ:
I28: DIČ:
D30: Poznámka:
D34: Cena bez DPH | J34: =ROUND(J94, 2) -> 163736.27
F36: Základ daně | I36: Sazba daně | J36: Výše daně
D37: DPH | E37: základní | F37: =ROUND((SUM(BE94:BE110)), 2) -> 163736.27 | I37: 0.21 | J37: =ROUND(((SUM(BE94:BE110))*I37), 2) -> 34384.62
E38: snížená | F38: =ROUND((SUM(BF94:BF110)), 2) -> 0 | I38: 0.12 | J38: =ROUND(((SUM(BF94:BF110))*I38), 2) -> 0
E39: zákl. přenesená | F39: =ROUND((SUM(BG94:BG110)), 2) -> 0 | I39: 0.21 | J39: =0 -> 0
E40: sníž. přenesená | F40: =ROUND((SUM(BH94:BH110)), 2) -> 0 | I40: 0.12 | J40: =0 -> 0
E41: nulová | F41: =ROUND((SUM(BI94:BI110)), 2) -> 0 | I41: 0 | J41: =0 -> 0
D43: Cena s DPH | G43: v | H43: CZK | J43: =SUM(J34:J41) -> 198120.89
C49: REKAPITULACE ČLENĚNÍ SOUPISU PRACÍ
C51: Stavba:
E52: =E7 -> ÚPRAVY HŘBITOVA KBELY- ETAPA1
C53: Objekt:
E54: 01 - Navrhované objekty
C55: Soupis:
E56: 10 - KOLUMBÁRIUM
C57: Úroveň 3:
E58: =E13 -> ZBV-05b - vícepráce
C60: Místo: | F60: =F16 -> Praha 9-Kbely | I60: Datum: | J60: =IF(J16="","",J16) -> 0
...

Sheet 11 - KOLUMBÁRIUM
AT2: {63f55a11-3cf9-4a58-861f-4ea081a91b95}
AT3: 2
D4: KRYCÍ LIST SOUPISU PRACÍ | M4: v --- níže se nacházejí doplnkové a pomocné údaje k sestavám --- v | AT4: False
D6: Stavba:
E7: ='Rekapitulace stavby'!K6 -> ÚPRAVY HŘBITOVA KBELY- ETAPA1
D8: Objekt:
E9: 01 - Navrhované objekty
D10: Soupis:
E11: 11 - KOLUMBÁRIUM
D13: KSO: | F13: 815 9 | I13: CC-CZ:
D14: Místo: | F14: Praha 9-Kbely | I14: Datum: | J14: ='Rekapitulace stavby'!AN8 -> 0
D16: Zadavatel: | I16: IČ: | J16: 00231304
E17: MČ Praha 19, Semilská 43/1, 197 00 Praha 9 - Kbely | I17: DIČ:
D19: Zhotovitel: | I19: IČ: | J19: 07395680
E20: IWU s.r.o. | I20: DIČ: | J20: CZ07395680
D22: Projektant: | I22: IČ:
E23: Ing.Jan Pustějovský, Ph.D. | I23: DIČ:
D25: Zpracovatel: | I25: IČ:
I26: DIČ:
D28: Poznámka:
E29: Položkový rozpočet zpracován v CS ÚRS s CH 2024/II na základě PD -10/2024
D32: Cena bez DPH | J32: =ROUND(J94, 2) -> 807716.22
F34: Základ daně | I34: Sazba daně | J34: Výše daně
D35: DPH | E35: základní | F35: =ROUND((SUM(BE94:BE187)), 2) -> 807716.22 | I35: 0.21 | J35: =ROUND(((SUM(BE94:BE187))*I35), 2) -> 169620.41
E36: snížená | F36: =ROUND((SUM(BF94:BF187)), 2) -> 0 | I36: 0.12 | J36: =ROUND(((SUM(BF94:BF187))*I36), 2) -> 0
E37: zákl. přenesená | F37: =ROUND((SUM(BG94:BG187)), 2) -> 0 | I37: 0.21 | J37: =0 -> 0
E38: sníž. přenesená | F38: =ROUND((SUM(BH94:BH187)), 2) -> 0 | I38: 0.12 | J38: =0 -> 0
E39: nulová | F39: =ROUND((SUM(BI94:BI187)), 2) -> 0 | I39: 0 | J39: =0 -> 0
D41: Cena s DPH | G41: v | H41: CZK | J41: =SUM(J32:J39) -> 977336.63
C47: REKAPITULACE ČLENĚNÍ SOUPISU PRACÍ
C49: Stavba:
E50: =E7 -> ÚPRAVY HŘBITOVA KBELY- ETAPA1
C51: Objekt:
E52: 01 - Navrhované objekty
C53: Soupis:
E54: =E11 -> 11 - KOLUMBÁRIUM
C56: Místo: | F56: =F14 -> Praha 9-Kbely | I56: Datum: | J56: =IF(J14="","",J14) -> 0
C58: Zadavatel: | F58: =E17 -> MČ Praha 19, Semilská 43/1, 197 00 Praha 9 - Kbely | I58: Projektant: | J58: =E23 -> Ing.Jan Pustějovský, Ph.D.
C59: Zhotovitel: | F59: =IF(E20="","",E20) -> IWU s.r.o. | I59: Zpracovatel: | J59: =E26
C61: Kód dílu - Popis | J61: Cena celkem [CZK]
...

Sheet ZBV-06a - méněpráce
AT2: {3a364fa1-bab6-4d23-9726-7b4aa15ed839}
AT3: 2
D4: KRYCÍ LIST SOUPISU PRACÍ | M4: v --- níže se nacházejí doplnkové a pomocné údaje k sestavám --- v | AT4: False
D6: Stavba:
E7: ='Rekapitulace stavby'!K6 -> ÚPRAVY HŘBITOVA KBELY- ETAPA1
D8: Objekt:
E9: 01 - Navrhované objekty
D10: Soupis:
E11: 11 - KOLUMBÁRIUM
D12: Úroveň 3:
E13: ZBV-06a - méněpráce
D15: KSO: | F15: 815 9 | I15: CC-CZ:
D16: Místo: | F16: Praha 9-Kbely | I16: Datum: | J16: ='Rekapitulace stavby'!AN8 -> 0
D18: Zadavatel: | I18: IČ: | J18: 00231304
E19: MČ Praha 19, Semilská 43/1, 197 00 Praha 9 - Kbely | I19: DIČ:
D21: Zhotovitel: | I21: IČ: | J21: 07395680
E22: IWU s.r.o. | I22: DIČ: | J22: CZ07395680
D24: Projektant: | I24: IČ:
E25: Ing.Jan Pustějovský, Ph.D. | I25: DIČ:
D27: Zpracovatel: | I27: IČ:
I28: DIČ:
D30: Poznámka:
D34: Cena bez DPH | J34: =ROUND(J94, 2) -> -67689.1
F36: Základ daně | I36: Sazba daně | J36: Výše daně
D37: DPH | E37: základní | F37: =ROUND((SUM(BE94:BE145)), 2) -> -67689.1 | I37: 0.21 | J37: =ROUND(((SUM(BE94:BE145))*I37), 2) -> -14214.71
E38: snížená | F38: =ROUND((SUM(BF94:BF145)), 2) -> 0 | I38: 0.12 | J38: =ROUND(((SUM(BF94:BF145))*I38), 2) -> 0
E39: zákl. přenesená | F39: =ROUND((SUM(BG94:BG145)), 2) -> 0 | I39: 0.21 | J39: =0 -> 0
E40: sníž. přenesená | F40: =ROUND((SUM(BH94:BH145)), 2) -> 0 | I40: 0.12 | J40: =0 -> 0
E41: nulová | F41: =ROUND((SUM(BI94:BI145)), 2) -> 0 | I41: 0 | J41: =0 -> 0
D43: Cena s DPH | G43: v | H43: CZK | J43: =SUM(J34:J41) -> -81903.81
C49: REKAPITULACE ČLENĚNÍ SOUPISU PRACÍ
C51: Stavba:
E52: =E7 -> ÚPRAVY HŘBITOVA KBELY- ETAPA1
C53: Objekt:
E54: 01 - Navrhované objekty
C55: Soupis:
E56: 11 - KOLUMBÁRIUM
C57: Úroveň 3:
E58: =E13 -> ZBV-06a - méněpráce
C60: Místo: | F60: =F16 -> Praha 9-Kbely | I60: Datum: | J60: =IF(J16="","",J16) -> 0
...

Sheet ZBV-06b - vícepráce
AT2: {fc369eec-68de-4208-8f19-f6a2101553e0}
AT3: 2
D4: KRYCÍ LIST SOUPISU PRACÍ | M4: v --- níže se nacházejí doplnkové a pomocné údaje k sestavám --- v | AT4: False
D6: Stavba:
E7: ='Rekapitulace stavby'!K6 -> ÚPRAVY HŘBITOVA KBELY- ETAPA1
D8: Objekt:
E9: 01 - Navrhované objekty
D10: Soupis:
E11: 11 - KOLUMBÁRIUM
D12: Úroveň 3:
E13: ZBV-06b - vícepráce
D15: KSO: | F15: 815 9 | I15: CC-CZ:
D16: Místo: | F16: Praha 9-Kbely | I16: Datum: | J16: ='Rekapitulace stavby'!AN8 -> 0
D18: Zadavatel: | I18: IČ: | J18: 00231304
E19: MČ Praha 19, Semilská 43/1, 197 00 Praha 9 - Kbely | I19: DIČ:
D21: Zhotovitel: | I21: IČ: | J21: 07395680
E22: IWU s.r.o. | I22: DIČ: | J22: CZ07395680
D24: Projektant: | I24: IČ:
E25: Ing.Jan Pustějovský, Ph.D. | I25: DIČ:
D27: Zpracovatel: | I27: IČ:
I28: DIČ:
D30: Poznámka:
D34: Cena bez DPH | J34: =ROUND(J94, 2) -> 127697.02
F36: Základ daně | I36: Sazba daně | J36: Výše daně
D37: DPH | E37: základní | F37: =ROUND((SUM(BE94:BE110)), 2) -> 127697.02 | I37: 0.21 | J37: =ROUND(((SUM(BE94:BE110))*I37), 2) -> 26816.37
E38: snížená | F38: =ROUND((SUM(BF94:BF110)), 2) -> 0 | I38: 0.12 | J38: =ROUND(((SUM(BF94:BF110))*I38), 2) -> 0
E39: zákl. přenesená | F39: =ROUND((SUM(BG94:BG110)), 2) -> 0 | I39: 0.21 | J39: =0 -> 0
E40: sníž. přenesená | F40: =ROUND((SUM(BH94:BH110)), 2) -> 0 | I40: 0.12 | J40: =0 -> 0
E41: nulová | F41: =ROUND((SUM(BI94:BI110)), 2) -> 0 | I41: 0 | J41: =0 -> 0
D43: Cena s DPH | G43: v | H43: CZK | J43: =SUM(J34:J41) -> 154513.39
C49: REKAPITULACE ČLENĚNÍ SOUPISU PRACÍ
C51: Stavba:
E52: =E7 -> ÚPRAVY HŘBITOVA KBELY- ETAPA1
C53: Objekt:
E54: 01 - Navrhované objekty
C55: Soupis:
E56: 11 - KOLUMBÁRIUM
C57: Úroveň 3:
E58: =E13 -> ZBV-06b - vícepráce
C60: Místo: | F60: =F16 -> Praha 9-Kbely | I60: Datum: | J60: =IF(J16="","",J16) -> 0
...

Sheet 12 - KOLUMBÁRIUM
AT2: {af0df53a-fd74-4753-ad06-1b34a3a1f33b}
AT3: 2
D4: KRYCÍ LIST SOUPISU PRACÍ | M4: v --- níže se nacházejí doplnkové a pomocné údaje k sestavám --- v | AT4: False
D6: Stavba:
E7: ='Rekapitulace stavby'!K6 -> ÚPRAVY HŘBITOVA KBELY- ETAPA1
D8: Objekt:
E9: 01 - Navrhované objekty
D10: Soupis:
E11: 12 - KOLUMBÁRIUM
D13: KSO: | F13: 815 9 | I13: CC-CZ:
D14: Místo: | F14: Praha 9-Kbely | I14: Datum: | J14: ='Rekapitulace stavby'!AN8 -> 0
D16: Zadavatel: | I16: IČ: | J16: 00231304
E17: MČ Praha 19, Semilská 43/1, 197 00 Praha 9 - Kbely | I17: DIČ:
D19: Zhotovitel: | I19: IČ: | J19: 07395680
E20: IWU s.r.o. | I20: DIČ: | J20: CZ07395680
D22: Projektant: | I22: IČ:
E23: Ing.Jan Pustějovský, Ph.D. | I23: DIČ:
D25: Zpracovatel: | I25: IČ:
I26: DIČ:
D28: Poznámka:
E29: Položkový rozpočet zpracován v CS ÚRS s CH 2024/II na základě PD -10/2024
D32: Cena bez DPH | J32: =ROUND(J94, 2) -> 530256.78
F34: Základ daně | I34: Sazba daně | J34: Výše daně
D35: DPH | E35: základní | F35: =ROUND((SUM(BE94:BE192)), 2) -> 530256.78 | I35: 0.21 | J35: =ROUND(((SUM(BE94:BE192))*I35), 2) -> 111353.92
E36: snížená | F36: =ROUND((SUM(BF94:BF192)), 2) -> 0 | I36: 0.12 | J36: =ROUND(((SUM(BF94:BF192))*I36), 2) -> 0
E37: zákl. přenesená | F37: =ROUND((SUM(BG94:BG192)), 2) -> 0 | I37: 0.21 | J37: =0 -> 0
E38: sníž. přenesená | F38: =ROUND((SUM(BH94:BH192)), 2) -> 0 | I38: 0.12 | J38: =0 -> 0
E39: nulová | F39: =ROUND((SUM(BI94:BI192)), 2) -> 0 | I39: 0 | J39: =0 -> 0
D41: Cena s DPH | G41: v | H41: CZK | J41: =SUM(J32:J39) -> 641610.7
C47: REKAPITULACE ČLENĚNÍ SOUPISU PRACÍ
C49: Stavba:
E50: =E7 -> ÚPRAVY HŘBITOVA KBELY- ETAPA1
C51: Objekt:
E52: 01 - Navrhované objekty
C53: Soupis:
E54: =E11 -> 12 - KOLUMBÁRIUM
C56: Místo: | F56: =F14 -> Praha 9-Kbely | I56: Datum: | J56: =IF(J14="","",J14) -> 0
C58: Zadavatel: | F58: =E17 -> MČ Praha 19, Semilská 43/1, 197 00 Praha 9 - Kbely | I58: Projektant: | J58: =E23 -> Ing.Jan Pustějovský, Ph.D.
C59: Zhotovitel: | F59: =IF(E20="","",E20) -> IWU s.r.o. | I59: Zpracovatel: | J59: =E26
C61: Kód dílu - Popis | J61: Cena celkem [CZK]
...

Sheet ZBV-07a - méněpráce
AT2: {9995098d-d540-49cc-92e2-c7832f64e49f}
AT3: 2
D4: KRYCÍ LIST SOUPISU PRACÍ | M4: v --- níže se nacházejí doplnkové a pomocné údaje k sestavám --- v | AT4: False
D6: Stavba:
E7: ='Rekapitulace stavby'!K6 -> ÚPRAVY HŘBITOVA KBELY- ETAPA1
D8: Objekt:
E9: 01 - Navrhované objekty
D10: Soupis:
E11: 12 - KOLUMBÁRIUM
D12: Úroveň 3:
E13: ZBV-07a - méněpráce
D15: KSO: | F15: 815 9 | I15: CC-CZ:
D16: Místo: | F16: Praha 9-Kbely | I16: Datum: | J16: ='Rekapitulace stavby'!AN8 -> 0
D18: Zadavatel: | I18: IČ: | J18: 00231304
E19: MČ Praha 19, Semilská 43/1, 197 00 Praha 9 - Kbely | I19: DIČ:
D21: Zhotovitel: | I21: IČ: | J21: 07395680
E22: IWU s.r.o. | I22: DIČ: | J22: CZ07395680
D24: Projektant: | I24: IČ:
E25: Ing.Jan Pustějovský, Ph.D. | I25: DIČ:
D27: Zpracovatel: | I27: IČ:
I28: DIČ:
D30: Poznámka:
D34: Cena bez DPH | J34: =ROUND(J94, 2) -> -35786.98
F36: Základ daně | I36: Sazba daně | J36: Výše daně
D37: DPH | E37: základní | F37: =ROUND((SUM(BE94:BE145)), 2) -> -35786.98 | I37: 0.21 | J37: =ROUND(((SUM(BE94:BE145))*I37), 2) -> -7515.27
E38: snížená | F38: =ROUND((SUM(BF94:BF145)), 2) -> 0 | I38: 0.12 | J38: =ROUND(((SUM(BF94:BF145))*I38), 2) -> 0
E39: zákl. přenesená | F39: =ROUND((SUM(BG94:BG145)), 2) -> 0 | I39: 0.21 | J39: =0 -> 0
E40: sníž. přenesená | F40: =ROUND((SUM(BH94:BH145)), 2) -> 0 | I40: 0.12 | J40: =0 -> 0
E41: nulová | F41: =ROUND((SUM(BI94:BI145)), 2) -> 0 | I41: 0 | J41: =0 -> 0
D43: Cena s DPH | G43: v | H43: CZK | J43: =SUM(J34:J41) -> -43302.25
C49: REKAPITULACE ČLENĚNÍ SOUPISU PRACÍ
C51: Stavba:
E52: =E7 -> ÚPRAVY HŘBITOVA KBELY- ETAPA1
C53: Objekt:
E54: 01 - Navrhované objekty
C55: Soupis:
E56: 12 - KOLUMBÁRIUM
C57: Úroveň 3:
E58: =E13 -> ZBV-07a - méněpráce
C60: Místo: | F60: =F16 -> Praha 9-Kbely | I60: Datum: | J60: =IF(J16="","",J16) -> 0
...

Sheet ZBV-07b - vícepráce
AT2: {6f0ea63e-83ba-4d87-9733-d5e6e4af6c76}
AT3: 2
D4: KRYCÍ LIST SOUPISU PRACÍ | M4: v --- níže se nacházejí doplnkové a pomocné údaje k sestavám --- v | AT4: False
D6: Stavba:
E7: ='Rekapitulace stavby'!K6 -> ÚPRAVY HŘBITOVA KBELY- ETAPA1
D8: Objekt:
E9: 01 - Navrhované objekty
D10: Soupis:
E11: 12 - KOLUMBÁRIUM
D12: Úroveň 3:
E13: ZBV-07b - vícepráce
D15: KSO: | F15: 815 9 | I15: CC-CZ:
D16: Místo: | F16: Praha 9-Kbely | I16: Datum: | J16: ='Rekapitulace stavby'!AN8 -> 0
D18: Zadavatel: | I18: IČ: | J18: 00231304
E19: MČ Praha 19, Semilská 43/1, 197 00 Praha 9 - Kbely | I19: DIČ:
D21: Zhotovitel: | I21: IČ: | J21: 07395680
E22: IWU s.r.o. | I22: DIČ: | J22: CZ07395680
D24: Projektant: | I24: IČ:
E25: Ing.Jan Pustějovský, Ph.D. | I25: DIČ:
D27: Zpracovatel: | I27: IČ:
I28: DIČ:
D30: Poznámka:
D34: Cena bez DPH | J34: =ROUND(J94, 2) -> 86454.23
F36: Základ daně | I36: Sazba daně | J36: Výše daně
D37: DPH | E37: základní | F37: =ROUND((SUM(BE94:BE110)), 2) -> 86454.23 | I37: 0.21 | J37: =ROUND(((SUM(BE94:BE110))*I37), 2) -> 18155.39
E38: snížená | F38: =ROUND((SUM(BF94:BF110)), 2) -> 0 | I38: 0.12 | J38: =ROUND(((SUM(BF94:BF110))*I38), 2) -> 0
E39: zákl. přenesená | F39: =ROUND((SUM(BG94:BG110)), 2) -> 0 | I39: 0.21 | J39: =0 -> 0
E40: sníž. přenesená | F40: =ROUND((SUM(BH94:BH110)), 2) -> 0 | I40: 0.12 | J40: =0 -> 0
E41: nulová | F41: =ROUND((SUM(BI94:BI110)), 2) -> 0 | I41: 0 | J41: =0 -> 0
D43: Cena s DPH | G43: v | H43: CZK | J43: =SUM(J34:J41) -> 104609.62
C49: REKAPITULACE ČLENĚNÍ SOUPISU PRACÍ
C51: Stavba:
E52: =E7 -> ÚPRAVY HŘBITOVA KBELY- ETAPA1
C53: Objekt:
E54: 01 - Navrhované objekty
C55: Soupis:
E56: 12 - KOLUMBÁRIUM
C57: Úroveň 3:
E58: =E13 -> ZBV-07b - vícepráce
C60: Místo: | F60: =F16 -> Praha 9-Kbely | I60: Datum: | J60: =IF(J16="","",J16) -> 0
...

Sheet 13 - PŘÍSTŘEŠEK
AT2: {57f801c0-9951-4675-9400-be1f58faf3a8}
AT3: 2
D4: KRYCÍ LIST SOUPISU PRACÍ | M4: v --- níže se nacházejí doplnkové a pomocné údaje k sestavám --- v | AT4: False
D6: Stavba:
E7: ='Rekapitulace stavby'!K6 -> ÚPRAVY HŘBITOVA KBELY- ETAPA1
D8: Objekt:
E9: 01 - Navrhované objekty
D10: Soupis:
E11: 13 - PŘÍSTŘEŠEK
D13: KSO: | F13: 815 9 | I13: CC-CZ:
D14: Místo: | F14: Praha 9-Kbely | I14: Datum: | J14: ='Rekapitulace stavby'!AN8 -> 0
D16: Zadavatel: | I16: IČ: | J16: 00231304
E17: MČ Praha 19, Semilská 43/1, 197 00 Praha 9 - Kbely | I17: DIČ:
D19: Zhotovitel: | I19: IČ: | J19: 07395680
E20: IWU s.r.o. | I20: DIČ: | J20: CZ07395680
D22: Projektant: | I22: IČ:
E23: Ing.Jan Pustějovský, Ph.D. | I23: DIČ:
D25: Zpracovatel: | I25: IČ:
I26: DIČ:
D28: Poznámka:
E29: Položkový rozpočet zpracován v CS ÚRS s CH 2024/II na základě PD -10/2024
D32: Cena bez DPH | J32: =ROUND(J101, 2) -> 1992665.3
F34: Základ daně | I34: Sazba daně | J34: Výše daně
D35: DPH | E35: základní | F35: =ROUND((SUM(BE101:BE301)), 2) -> 1992665.3 | I35: 0.21 | J35: =ROUND(((SUM(BE101:BE301))*I35), 2) -> 418459.7
E36: snížená | F36: =ROUND((SUM(BF101:BF301)), 2) -> 0 | I36: 0.12 | J36: =ROUND(((SUM(BF101:BF301))*I36), 2) -> 0
E37: zákl. přenesená | F37: =ROUND((SUM(BG101:BG301)), 2) -> 0 | I37: 0.21 | J37: =0 -> 0
E38: sníž. přenesená | F38: =ROUND((SUM(BH101:BH301)), 2) -> 0 | I38: 0.12 | J38: =0 -> 0
E39: nulová | F39: =ROUND((SUM(BI101:BI301)), 2) -> 0 | I39: 0 | J39: =0 -> 0
D41: Cena s DPH | G41: v | H41: CZK | J41: =SUM(J32:J39) -> 2411125
C47: REKAPITULACE ČLENĚNÍ SOUPISU PRACÍ
C49: Stavba:
E50: =E7 -> ÚPRAVY HŘBITOVA KBELY- ETAPA1
C51: Objekt:
E52: 01 - Navrhované objekty
C53: Soupis:
E54: =E11 -> 13 - PŘÍSTŘEŠEK
C56: Místo: | F56: =F14 -> Praha 9-Kbely | I56: Datum: | J56: =IF(J14="","",J14) -> 0
C58: Zadavatel: | F58: =E17 -> MČ Praha 19, Semilská 43/1, 197 00 Praha 9 - Kbely | I58: Projektant: | J58: =E23 -> Ing.Jan Pustějovský, Ph.D.
C59: Zhotovitel: | F59: =IF(E20="","",E20) -> IWU s.r.o. | I59: Zpracovatel: | J59: =E26
C61: Kód dílu - Popis | J61: Cena celkem [CZK]
...

Sheet 02 - Navrhovaný mobiliář
AT2: {9a825755-6f2d-41b2-b6eb-92f6aa18f55e}
AT3: 2
D4: KRYCÍ LIST SOUPISU PRACÍ | M4: v --- níže se nacházejí doplnkové a pomocné údaje k sestavám --- v | AT4: False
D6: Stavba:
E7: ='Rekapitulace stavby'!K6 -> ÚPRAVY HŘBITOVA KBELY- ETAPA1
D8: Objekt:
E9: 02 - Navrhovaný mobiliář
D11: KSO: | F11: 815 9 | I11: CC-CZ:
D12: Místo: | F12: Praha 9-Kbely | I12: Datum: | J12: ='Rekapitulace stavby'!AN8 -> 0
D14: Zadavatel: | I14: IČ: | J14: 00231304
E15: MČ Praha 19, Semilská 43/1, 197 00 Praha 9 - Kbely | I15: DIČ:
D17: Zhotovitel: | I17: IČ: | J17: 07395680
E18: IWU s.r.o. | I18: DIČ: | J18: CZ07395680
D20: Projektant: | I20: IČ:
E21: Ing.Jan Pustějovský, Ph.D. | I21: DIČ:
D23: Zpracovatel: | I23: IČ:
I24: DIČ:
D26: Poznámka:
E27: Položkový rozpočet zpracován v CS ÚRS s CH 2024/II na základě PD -10/2024
D30: Cena bez DPH | J30: =ROUND(J81, 2) -> 242000
F32: Základ daně | I32: Sazba daně | J32: Výše daně
D33: DPH | E33: základní | F33: =ROUND((SUM(BE81:BE89)), 2) -> 242000 | I33: 0.21 | J33: =ROUND(((SUM(BE81:BE89))*I33), 2) -> 50820
E34: snížená | F34: =ROUND((SUM(BF81:BF89)), 2) -> 0 | I34: 0.12 | J34: =ROUND(((SUM(BF81:BF89))*I34), 2) -> 0
E35: zákl. přenesená | F35: =ROUND((SUM(BG81:BG89)), 2) -> 0 | I35: 0.21 | J35: =0 -> 0
E36: sníž. přenesená | F36: =ROUND((SUM(BH81:BH89)), 2) -> 0 | I36: 0.12 | J36: =0 -> 0
E37: nulová | F37: =ROUND((SUM(BI81:BI89)), 2) -> 0 | I37: 0 | J37: =0 -> 0
D39: Cena s DPH | G39: v | H39: CZK | J39: =SUM(J30:J37) -> 292820
C45: REKAPITULACE ČLENĚNÍ SOUPISU PRACÍ
C47: Stavba:
E48: =E7 -> ÚPRAVY HŘBITOVA KBELY- ETAPA1
C49: Objekt:
E50: =E9 -> 02 - Navrhovaný mobiliář
C52: Místo: | F52: =F12 -> Praha 9-Kbely | I52: Datum: | J52: =IF(J12="","",J12) -> 0
C54: Zadavatel: | F54: =E15 -> MČ Praha 19, Semilská 43/1, 197 00 Praha 9 - Kbely | I54: Projektant: | J54: =E21 -> Ing.Jan Pustějovský, Ph.D.
C55: Zhotovitel: | F55: =IF(E18="","",E18) -> IWU s.r.o. | I55: Zpracovatel: | J55: =E24
C57: Kód dílu - Popis | J57: Cena celkem [CZK]
C59: Náklady stavby celkem | J59: =J81 -> 242000 | AU59: -1
D60: HSV - Práce a dodávky HSV | J60: =J82 -> 242000
D61: 9 - Ostatní konstrukce a práce, bourání | J61: =J83 -> 242000
C68: SOUPIS PRACÍ
...

Sheet A - Mlatový povrch
AT2: {ef37c9c7-cec5-4653-aa8d-f4c99c3f8bba}
AT3: 2
D4: KRYCÍ LIST SOUPISU PRACÍ | M4: v --- níže se nacházejí doplnkové a pomocné údaje k sestavám --- v | AT4: False
D6: Stavba:
E7: ='Rekapitulace stavby'!K6 -> ÚPRAVY HŘBITOVA KBELY- ETAPA1
D8: Objekt:
E9: 03 - Navrhované povrchy
D10: Soupis:
E11: A - Mlatový povrch
D13: KSO: | F13: 822 5 | I13: CC-CZ:
D14: Místo: | F14: Praha 9-Kbely | I14: Datum: | J14: ='Rekapitulace stavby'!AN8 -> 0
D16: Zadavatel: | I16: IČ: | J16: 00231304
E17: MČ Praha 19, Semilská 43/1, 197 00 Praha 9 - Kbely | I17: DIČ:
D19: Zhotovitel: | I19: IČ: | J19: 07395680
E20: IWU s.r.o. | I20: DIČ: | J20: CZ07395680
D22: Projektant: | I22: IČ:
E23: Ing.Jan Pustějovský, Ph.D. | I23: DIČ:
D25: Zpracovatel: | I25: IČ:
I26: DIČ:
D28: Poznámka:
E29: Položkový rozpočet zpracován v CS ÚRS s CH 2024/II na základě PD -10/2024
D32: Cena bez DPH | J32: =ROUND(J92, 2) -> 863851.5
F34: Základ daně | I34: Sazba daně | J34: Výše daně
D35: DPH | E35: základní | F35: =ROUND((SUM(BE92:BE137)), 2) -> 863851.5 | I35: 0.21 | J35: =ROUND(((SUM(BE92:BE137))*I35), 2) -> 181408.82
E36: snížená | F36: =ROUND((SUM(BF92:BF137)), 2) -> 0 | I36: 0.12 | J36: =ROUND(((SUM(BF92:BF137))*I36), 2) -> 0
E37: zákl. přenesená | F37: =ROUND((SUM(BG92:BG137)), 2) -> 0 | I37: 0.21 | J37: =0 -> 0
E38: sníž. přenesená | F38: =ROUND((SUM(BH92:BH137)), 2) -> 0 | I38: 0.12 | J38: =0 -> 0
E39: nulová | F39: =ROUND((SUM(BI92:BI137)), 2) -> 0 | I39: 0 | J39: =0 -> 0
D41: Cena s DPH | G41: v | H41: CZK | J41: =SUM(J32:J39) -> 1045260.3
C47: REKAPITULACE ČLENĚNÍ SOUPISU PRACÍ
C49: Stavba:
E50: =E7 -> ÚPRAVY HŘBITOVA KBELY- ETAPA1
C51: Objekt:
E52: 03 - Navrhované povrchy
C53: Soupis:
E54: =E11 -> A - Mlatový povrch
C56: Místo: | F56: =F14 -> Praha 9-Kbely | I56: Datum: | J56: =IF(J14="","",J14) -> 0
C58: Zadavatel: | F58: =E17 -> MČ Praha 19, Semilská 43/1, 197 00 Praha 9 - Kbely | I58: Projektant: | J58: =E23 -> Ing.Jan Pustějovský, Ph.D.
C59: Zhotovitel: | F59: =IF(E20="","",E20) -> IWU s.r.o. | I59: Zpracovatel: | J59: =E26
C61: Kód dílu - Popis | J61: Cena celkem [CZK]
...

Sheet B - Litý beton pochozí
AT2: {50410c3b-43b2-4c3f-a065-4f68165b27cb}
AT3: 2
D4: KRYCÍ LIST SOUPISU PRACÍ | M4: v --- níže se nacházejí doplnkové a pomocné údaje k sestavám --- v | AT4: False
D6: Stavba:
E7: ='Rekapitulace stavby'!K6 -> ÚPRAVY HŘBITOVA KBELY- ETAPA1
D8: Objekt:
E9: 03 - Navrhované povrchy
D10: Soupis:
E11: B - Litý beton pochozí
D13: KSO: | F13: 822 5 | I13: CC-CZ:
D14: Místo: | F14: Praha 9-Kbely | I14: Datum: | J14: ='Rekapitulace stavby'!AN8 -> 0
D16: Zadavatel: | I16: IČ: | J16: 00231304
E17: MČ Praha 19, Semilská 43/1, 197 00 Praha 9 - Kbely | I17: DIČ:
D19: Zhotovitel: | I19: IČ: | J19: 07395680
E20: IWU s.r.o. | I20: DIČ: | J20: CZ07395680
D22: Projektant: | I22: IČ:
E23: Ing.Jan Pustějovský, Ph.D. | I23: DIČ:
D25: Zpracovatel: | I25: IČ:
I26: DIČ:
D28: Poznámka:
E29: Položkový rozpočet zpracován v CS ÚRS s CH 2024/II na základě PD -10/2024
D32: Cena bez DPH | J32: =ROUND(J92, 2) -> 935676.4
F34: Základ daně | I34: Sazba daně | J34: Výše daně
D35: DPH | E35: základní | F35: =ROUND((SUM(BE92:BE142)), 2) -> 935676.4 | I35: 0.21 | J35: =ROUND(((SUM(BE92:BE142))*I35), 2) -> 196492.04
E36: snížená | F36: =ROUND((SUM(BF92:BF142)), 2) -> 0 | I36: 0.12 | J36: =ROUND(((SUM(BF92:BF142))*I36), 2) -> 0
E37: zákl. přenesená | F37: =ROUND((SUM(BG92:BG142)), 2) -> 0 | I37: 0.21 | J37: =0 -> 0
E38: sníž. přenesená | F38: =ROUND((SUM(BH92:BH142)), 2) -> 0 | I38: 0.12 | J38: =0 -> 0
E39: nulová | F39: =ROUND((SUM(BI92:BI142)), 2) -> 0 | I39: 0 | J39: =0 -> 0
D41: Cena s DPH | G41: v | H41: CZK | J41: =SUM(J32:J39) -> 1132168.4
C47: REKAPITULACE ČLENĚNÍ SOUPISU PRACÍ
C49: Stavba:
E50: =E7 -> ÚPRAVY HŘBITOVA KBELY- ETAPA1
C51: Objekt:
E52: 03 - Navrhované povrchy
C53: Soupis:
E54: =E11 -> B - Litý beton pochozí
C56: Místo: | F56: =F14 -> Praha 9-Kbely | I56: Datum: | J56: =IF(J14="","",J14) -> 0
C58: Zadavatel: | F58: =E17 -> MČ Praha 19, Semilská 43/1, 197 00 Praha 9 - Kbely | I58: Projektant: | J58: =E23 -> Ing.Jan Pustějovský, Ph.D.
C59: Zhotovitel: | F59: =IF(E20="","",E20) -> IWU s.r.o. | I59: Zpracovatel: | J59: =E26
C61: Kód dílu - Popis | J61: Cena celkem [CZK]
...

Sheet ZBV-08a - méněpráce
AT2: {8dbc307e-8e38-416e-ac8b-77cc613d450e}
AT3: 2
D4: KRYCÍ LIST SOUPISU PRACÍ | M4: v --- níže se nacházejí doplnkové a pomocné údaje k sestavám --- v | AT4: False
D6: Stavba:
E7: ='Rekapitulace stavby'!K6 -> ÚPRAVY HŘBITOVA KBELY- ETAPA1
D8: Objekt:
E9: 03 - Navrhované povrchy
D10: Soupis:
E11: B - Litý beton pochozí
D12: Úroveň 3:
E13: ZBV-08a - méněpráce
D15: KSO: | F15: 822 5 | I15: CC-CZ:
D16: Místo: | F16: Praha 9-Kbely | I16: Datum: | J16: ='Rekapitulace stavby'!AN8 -> 0
D18: Zadavatel: | I18: IČ: | J18: 00231304
E19: MČ Praha 19, Semilská 43/1, 197 00 Praha 9 - Kbely | I19: DIČ:
D21: Zhotovitel: | I21: IČ: | J21: 07395680
E22: IWU s.r.o. | I22: DIČ: | J22: CZ07395680
D24: Projektant: | I24: IČ:
E25: Ing.Jan Pustějovský, Ph.D. | I25: DIČ:
D27: Zpracovatel: | I27: IČ:
I28: DIČ:
D30: Poznámka:
D34: Cena bez DPH | J34: =ROUND(J95, 2) -> -337443.17
F36: Základ daně | I36: Sazba daně | J36: Výše daně
D37: DPH | E37: základní | F37: =ROUND((SUM(BE95:BE119)), 2) -> -337443.17 | I37: 0.21 | J37: =ROUND(((SUM(BE95:BE119))*I37), 2) -> -70863.07
E38: snížená | F38: =ROUND((SUM(BF95:BF119)), 2) -> 0 | I38: 0.12 | J38: =ROUND(((SUM(BF95:BF119))*I38), 2) -> 0
E39: zákl. přenesená | F39: =ROUND((SUM(BG95:BG119)), 2) -> 0 | I39: 0.21 | J39: =0 -> 0
E40: sníž. přenesená | F40: =ROUND((SUM(BH95:BH119)), 2) -> 0 | I40: 0.12 | J40: =0 -> 0
E41: nulová | F41: =ROUND((SUM(BI95:BI119)), 2) -> 0 | I41: 0 | J41: =0 -> 0
D43: Cena s DPH | G43: v | H43: CZK | J43: =SUM(J34:J41) -> -408306.24
C49: REKAPITULACE ČLENĚNÍ SOUPISU PRACÍ
C51: Stavba:
E52: =E7 -> ÚPRAVY HŘBITOVA KBELY- ETAPA1
C53: Objekt:
E54: 03 - Navrhované povrchy
C55: Soupis:
E56: B - Litý beton pochozí
C57: Úroveň 3:
E58: =E13 -> ZBV-08a - méněpráce
C60: Místo: | F60: =F16 -> Praha 9-Kbely | I60: Datum: | J60: =IF(J16="","",J16) -> 0
...

Sheet C - Kačírek pochozí vsak
AT2: {47f196cf-82e4-420f-bedc-d39801dc6d1c}
AT3: 2
D4: KRYCÍ LIST SOUPISU PRACÍ | M4: v --- níže se nacházejí doplnkové a pomocné údaje k sestavám --- v | AT4: False
D6: Stavba:
E7: ='Rekapitulace stavby'!K6 -> ÚPRAVY HŘBITOVA KBELY- ETAPA1
D8: Objekt:
E9: 03 - Navrhované povrchy
D10: Soupis:
E11: C - Kačírek pochozí vsak
D13: KSO: | F13: 822 5 | I13: CC-CZ:
D14: Místo: | F14: Praha 9-Kbely | I14: Datum: | J14: ='Rekapitulace stavby'!AN8 -> 0
D16: Zadavatel: | I16: IČ: | J16: 00231304
E17: MČ Praha 19, Semilská 43/1, 197 00 Praha 9 - Kbely | I17: DIČ:
D19: Zhotovitel: | I19: IČ: | J19: 07395680
E20: IWU s.r.o. | I20: DIČ: | J20: CZ07395680
D22: Projektant: | I22: IČ:
E23: Ing.Jan Pustějovský, Ph.D. | I23: DIČ:
D25: Zpracovatel: | I25: IČ:
I26: DIČ:
D28: Poznámka:
E29: Položkový rozpočet zpracován v CS ÚRS s CH 2024/II na základě PD -10/2024
D32: Cena bez DPH | J32: =ROUND(J90, 2) -> 68487.96
F34: Základ daně | I34: Sazba daně | J34: Výše daně
D35: DPH | E35: základní | F35: =ROUND((SUM(BE90:BE150)), 2) -> 68487.96 | I35: 0.21 | J35: =ROUND(((SUM(BE90:BE150))*I35), 2) -> 14382.47
E36: snížená | F36: =ROUND((SUM(BF90:BF150)), 2) -> 0 | I36: 0.12 | J36: =ROUND(((SUM(BF90:BF150))*I36), 2) -> 0
E37: zákl. přenesená | F37: =ROUND((SUM(BG90:BG150)), 2) -> 0 | I37: 0.21 | J37: =0 -> 0
E38: sníž. přenesená | F38: =ROUND((SUM(BH90:BH150)), 2) -> 0 | I38: 0.12 | J38: =0 -> 0
E39: nulová | F39: =ROUND((SUM(BI90:BI150)), 2) -> 0 | I39: 0 | J39: =0 -> 0
D41: Cena s DPH | G41: v | H41: CZK | J41: =SUM(J32:J39) -> 82870.43
C47: REKAPITULACE ČLENĚNÍ SOUPISU PRACÍ
C49: Stavba:
E50: =E7 -> ÚPRAVY HŘBITOVA KBELY- ETAPA1
C51: Objekt:
E52: 03 - Navrhované povrchy
C53: Soupis:
E54: =E11 -> C - Kačírek pochozí vsak
C56: Místo: | F56: =F14 -> Praha 9-Kbely | I56: Datum: | J56: =IF(J14="","",J14) -> 0
C58: Zadavatel: | F58: =E17 -> MČ Praha 19, Semilská 43/1, 197 00 Praha 9 - Kbely | I58: Projektant: | J58: =E23 -> Ing.Jan Pustějovský, Ph.D.
C59: Zhotovitel: | F59: =IF(E20="","",E20) -> IWU s.r.o. | I59: Zpracovatel: | J59: =E26
C61: Kód dílu - Popis | J61: Cena celkem [CZK]
...

Sheet 04 - Výsadba-SÚ
AT2: {9cd5b1dd-bd73-4554-bbb6-e9b90a900323}
AT3: 2
D4: KRYCÍ LIST SOUPISU PRACÍ | M4: v --- níže se nacházejí doplnkové a pomocné údaje k sestavám --- v | AT4: False
D6: Stavba:
E7: ='Rekapitulace stavby'!K6 -> ÚPRAVY HŘBITOVA KBELY- ETAPA1
D8: Objekt:
E9: 04 - Výsadba-SÚ
D11: KSO: | F11: 823 2 | I11: CC-CZ:
D12: Místo: | F12: Praha 9-Kbely | I12: Datum: | J12: ='Rekapitulace stavby'!AN8 -> 0
D14: Zadavatel: | I14: IČ: | J14: 00231304
E15: MČ Praha 19, Semilská 43/1, 197 00 Praha 9 - Kbely | I15: DIČ:
D17: Zhotovitel: | I17: IČ: | J17: 07395680
E18: IWU s.r.o. | I18: DIČ: | J18: CZ07395680
D20: Projektant: | I20: IČ:
E21: Ing.Jan Pustějovský, Ph.D. | I21: DIČ:
D23: Zpracovatel: | I23: IČ:
I24: DIČ:
D26: Poznámka:
E27: Položkový rozpočet zpracován v CS ÚRS s CH 2024/II na základě PD -10/2024
D30: Cena bez DPH | J30: =ROUND(J82, 2) -> 106719.54
F32: Základ daně | I32: Sazba daně | J32: Výše daně
D33: DPH | E33: základní | F33: =ROUND((SUM(BE82:BE118)), 2) -> 106719.54 | I33: 0.21 | J33: =ROUND(((SUM(BE82:BE118))*I33), 2) -> 22411.1
E34: snížená | F34: =ROUND((SUM(BF82:BF118)), 2) -> 0 | I34: 0.12 | J34: =ROUND(((SUM(BF82:BF118))*I34), 2) -> 0
E35: zákl. přenesená | F35: =ROUND((SUM(BG82:BG118)), 2) -> 0 | I35: 0.21 | J35: =0 -> 0
E36: sníž. přenesená | F36: =ROUND((SUM(BH82:BH118)), 2) -> 0 | I36: 0.12 | J36: =0 -> 0
E37: nulová | F37: =ROUND((SUM(BI82:BI118)), 2) -> 0 | I37: 0 | J37: =0 -> 0
D39: Cena s DPH | G39: v | H39: CZK | J39: =SUM(J30:J37) -> 129130.64
C45: REKAPITULACE ČLENĚNÍ SOUPISU PRACÍ
C47: Stavba:
E48: =E7 -> ÚPRAVY HŘBITOVA KBELY- ETAPA1
C49: Objekt:
E50: =E9 -> 04 - Výsadba-SÚ
C52: Místo: | F52: =F12 -> Praha 9-Kbely | I52: Datum: | J52: =IF(J12="","",J12) -> 0
C54: Zadavatel: | F54: =E15 -> MČ Praha 19, Semilská 43/1, 197 00 Praha 9 - Kbely | I54: Projektant: | J54: =E21 -> Ing.Jan Pustějovský, Ph.D.
C55: Zhotovitel: | F55: =IF(E18="","",E18) -> IWU s.r.o. | I55: Zpracovatel: | J55: =E24
C57: Kód dílu - Popis | J57: Cena celkem [CZK]
C59: Náklady stavby celkem | J59: =J82 -> 106719.54 | AU59: -1
D60: HSV - Práce a dodávky HSV | J60: =J83 -> 106719.54
D61: 1 - Zemní práce | J61: =J84 -> 106058.81
D62: 998 - Přesun hmot | J62: =J117 -> 660.73
...

Sheet 05a - ZTI-venkovní rozvod
AT2: {c5e6214a-5741-4779-99dc-46c70cc8722b}
AT3: 2
D4: KRYCÍ LIST SOUPISU PRACÍ | M4: v --- níže se nacházejí doplnkové a pomocné údaje k sestavám --- v | AT4: False
D6: Stavba:
E7: ='Rekapitulace stavby'!K6 -> ÚPRAVY HŘBITOVA KBELY- ETAPA1
D8: Objekt:
E9: 05 - Technické zařízení
D10: Soupis:
E11: 05a - ZTI-venkovní rozvod
D13: KSO: | F13: 827 1 | I13: CC-CZ:
D14: Místo: | F14: Praha 9-Kbely | I14: Datum: | J14: ='Rekapitulace stavby'!AN8 -> 0
D16: Zadavatel: | I16: IČ: | J16: 00231304
E17: MČ Praha 19, Semilská 43/1, 197 00 Praha 9 - Kbely | I17: DIČ:
D19: Zhotovitel: | I19: IČ: | J19: 07395680
E20: IWU s.r.o. | I20: DIČ: | J20: CZ07395680
D22: Projektant: | I22: IČ:
E23: Ing.Jan Pustějovský, Ph.D. | I23: DIČ:
D25: Zpracovatel: | I25: IČ:
I26: DIČ:
D28: Poznámka:
E29: Položkový rozpočet zpracován v CS ÚRS s CH 2024/II na základě PD -10/2024
D32: Cena bez DPH | J32: =ROUND(J92, 2) -> 161141.1
F34: Základ daně | I34: Sazba daně | J34: Výše daně
D35: DPH | E35: základní | F35: =ROUND((SUM(BE92:BE165)), 2) -> 161141.1 | I35: 0.21 | J35: =ROUND(((SUM(BE92:BE165))*I35), 2) -> 33839.63
E36: snížená | F36: =ROUND((SUM(BF92:BF165)), 2) -> 0 | I36: 0.12 | J36: =ROUND(((SUM(BF92:BF165))*I36), 2) -> 0
E37: zákl. přenesená | F37: =ROUND((SUM(BG92:BG165)), 2) -> 0 | I37: 0.21 | J37: =0 -> 0
E38: sníž. přenesená | F38: =ROUND((SUM(BH92:BH165)), 2) -> 0 | I38: 0.12 | J38: =0 -> 0
