Workbook

Sheet Rekapitulace stavby
A1: Export Komplet | AZ1: VZ | BA1: 2.0 | BB1: ZAMOK | BT1: False | BU1: False | BV1: {e00c9e41-8b45-44f4-a35c-edada5650279}
BS2: 0,01 | BT2: 21
BS3: 0,01 | BT3: 12
D4: REKAPITULACE STAVBY | AS4: v --- níže se nacházejí doplnkové a pomocné údaje k sestavám --- v | BS4: 0,001
D5: Kód: | K5: 05/25 | BS5: 0,01
D6: Stavba: | K6: ÚPRAVY HŘBITOVA KBELY- ETAPA1 | BS6: 0,01
D7: KSO: | K7: 815 9 | AK7: CC-CZ: | AN7: 12 | BS7: 0,01
D8: Místo: | K8: Praha 9-Kbely | AK8: Datum: | BS8: 0,01
D9: CZ-CPV: | K9: 45000000-7 | AK9: CZ-CPA: | AN9: 41 | BS9: 0,01
D10: Zadavatel: | AK10: IČ: | AN10: 00231304 | BS10: 0,01
E11: MČ Praha 19, Semilská 43/1, 197 00 Praha 9 - Kbely | AK11: DIČ: | BS11: 0,01
BS12: 0,01
D13: Zhotovitel: | AK13: IČ: | AN13: 07395680 | BS13: 0,01
E14: IWU s.r.o. | AK14: DIČ: | AN14: CZ07395680 | BS14: 0,01
BS15: False
D16: Projektant: | AK16: IČ: | BS16: False
E17: Ing.Jan Pustějovský, Ph.D. | AK17: DIČ: | BS17: True
BS18: 0,01
D19: Zpracovatel: | AK19: IČ: | BS19: 0,01
AK20: DIČ: | BS20: False
D22: Poznámka:
E23: Položkový rozpočet zpracován v CS ÚRS s CH 2024/II na základě PD -10/2024
D26: Cena bez DPH | AK26: =ROUND(AG54,2) -> 10989687
L28: Sazba daně | W28: Základ daně | AK28: Výše daně
D29: DPH | F29: základní | L29: 0.21 | W29: =ROUND(AZ54, 2) -> 10989687 | AK29: =ROUND(AV54, 2) -> 2307834.2
F30: snížená | L30: 0.12 | W30: =ROUND(BA54, 2) -> 0 | AK30: =ROUND(AW54, 2) -> 0
F31: zákl. přenesená | L31: 0.21 | W31: =ROUND(BB54, 2) -> 0 | AK31: 0
F32: sníž. přenesená | L32: 0.12 | W32: =ROUND(BC54, 2) -> 0 | AK32: 0
F33: nulová | L33: 0 | W33: =ROUND(BD54, 2) -> 0 | AK33: 0
D35: Cena s DPH | T35: v | X35: CZK | AK35: =SUM(AK26:AK33) -> 13297521
C42: REKAPITULACE OBJEKTŮ STAVBY A SOUPISŮ PRACÍ
C44: Kód: | L44: =K5 -> 05/25
C45: Stavba: | L45: =K6 -> ÚPRAVY HŘBITOVA KBELY- ETAPA1
C47: Místo: | L47: =IF(K8="","",K8) -> Praha 9-Kbely | AI47: Datum: | AM47: =IF(AN8= "","",AN8)
C49: Zadavatel: | L49: =IF(E11= "","",E11) -> MČ Praha 19, Semilská 43/1, 197 00 Praha 9 - Kbely | AI49: Projektant: | AM49: =IF(E17="","",E17) -> Ing.Jan Pustějovský, Ph.D. | AS49: Informatívní údaje z listů zakázek
C50: Zhotovitel: | L50: =IF(E14="","",E14) -> IWU s.r.o. | AI50: Zpracovatel: | AM50: =IF(E20="","",E20)
C52: Kód | I52: Popis | AG52: Cena bez DPH [CZK] | AN52: Cena s DPH [CZK] | AQ52: Typ | AS52: z toho Ostat._x000D_ náklady [CZK] | AT52: DPH [CZK] | AU52: Normohodiny [h] | AV52: DPH základní [CZK] | AW52: DPH snížená [CZK] | AX52: DPH základní přenesená_x000D_ [CZK] | AY52: DPH snížená přenesená_x000D_ [CZK] | AZ52: Základna_x000D_ DPH základní | BA52: Základna_x000D_ DPH snížená | BB52: Základna_x000D_ DPH zákl. přenesená | BC52: Základna_x000D_ DPH sníž. přenesená | BD52: Základna_x000D_ DPH nulová
C54: Náklady stavby celkem | AG54: =ROUND(AG55+AG84+AG85+AG91+AG92+AG96,2) -> 10989687 | AN54: =SUM(AG54,AT54) -> 13297521 | AS54: =ROUND(AS55+AS84+AS85+AS91+AS92+AS96,2) -> 0 | AT54: =ROUND(SUM(AV54:AW54),2) -> 2307834.2 | AU54: =ROUND(AU55+AU84+AU85+AU91+AU92+AU96,5) -> 220.82697 | AV54: =ROUND(AZ54*L29,2) -> 2307834.2 | AW54: =ROUND(BA54*L30,2) -> 0 | AX54: =ROUND(BB54*L29,2) -> 0 | AY54: =ROUND(BC54*L30,2) -> 0 | AZ54: =ROUND(AZ55+AZ84+AZ85+AZ91+AZ92+AZ96,2) -> 10989687 | BA54: =ROUND(BA55+BA84+BA85+BA91+BA92+BA96,2) -> 0 | BB54: =ROUND(BB55+BB84+BB85+BB91+BB92+BB96,2) -> 0 | BC54: =ROUND(BC55+BC84+BC85+BC91+BC92+BC96,2) -> 0 | BD54: =ROUND(BD55+BD84+BD85+BD91+BD92+BD96,2) -> 0 | BS54: D | BT54: 0 | BU54: ###NOIMPORT### | BV54: IMPORT | BW54: {e00c9e41-8b45-44f4-a35c-edada5650279} | BX54: {00000000-0000-0000-0000-000000000000} | CL54: 815 9
D55: 01 | J55: Navrhované objekty | AG55: =ROUND(AG56+AG59+AG63+AG67+AG71+AG75+AG79+AG83,2) -> 8304712 | AN55: =SUM(AG55,AT55) -> 10048701 | AQ55: STA | AS55: =ROUND(AS56+AS59+AS63+AS67+AS71+AS75+AS79+AS83,2) -> 0 | AT55: =ROUND(SUM(AV55:AW55),2) -> 1743989.5 | AU55: =ROUND(AU56+AU59+AU63+AU67+AU71+AU75+AU79+AU83,5) -> 220.82697 | AV55: =ROUND(AZ55*L29,2) -> 1743989.5 | AW55: =ROUND(BA55*L30,2) -> 0 | AX55: =ROUND(BB55*L29,2) -> 0 | AY55: =ROUND(BC55*L30,2) -> 0 | AZ55: =ROUND(AZ56+AZ59+AZ63+AZ67+AZ71+AZ75+AZ79+AZ83,2) -> 8304712 | BA55: =ROUND(BA56+BA59+BA63+BA67+BA71+BA75+BA79+BA83,2) -> 0 | BB55: =ROUND(BB56+BB59+BB63+BB67+BB71+BB75+BB79+BB83,2) -> 0 | BC55: =ROUND(BC56+BC59+BC63+BC67+BC71+BC75+BC79+BC83,2) -> 0 | BD55: =ROUND(BD56+BD59+BD63+BD67+BD71+BD75+BD79+BD83,2) -> 0 | BS55: D | BT55: 1 | BU55: ###NOIMPORT### | BV55: IMPORT | BW55: {1fe41dd8-8cc0-4dd3-96fb-5e5554e15797} | BX55: {e00c9e41-8b45-44f4-a35c-edada5650279} | CL55: 815 9 | CM55: 2
E56: 01a | K56: Přípravné práce | AG56: =ROUND(SUM(AG57:AG58),2) -> 126555 | AN56: =SUM(AG56,AT56) -> 153131.55 | AQ56: Soupis | AS56: =ROUND(SUM(AS57:AS58),2) -> 0 | AT56: =ROUND(SUM(AV56:AW56),2) -> 26576.55 | AU56: =ROUND(SUM(AU57:AU58),5) -> 0 | AV56: =ROUND(AZ56*L29,2) -> 26576.55 | AW56: =ROUND(BA56*L30,2) -> 0 | AX56: =ROUND(BB56*L29,2) -> 0 | AY56: =ROUND(BC56*L30,2) -> 0 | AZ56: =ROUND(SUM(AZ57:AZ58),2) -> 126555 | BA56: =ROUND(SUM(BA57:BA58),2) -> 0 | BB56: =ROUND(SUM(BB57:BB58),2) -> 0 | BC56: =ROUND(SUM(BC57:BC58),2) -> 0 | BD56: =ROUND(SUM(BD57:BD58),2) -> 0 | BS56: D | BT56: 2 | BV56: IMPORT | BW56: {f144ebf1-619f-4441-8a74-6d9edd0e8bdc} | BX56: {1fe41dd8-8cc0-4dd3-96fb-5e5554e15797} | CL56: 815 9
A57: / | F57: 01a | L57: Přípravné práce | AG57: ='01a - Přípravné práce'!J32 -> 208105 | AN57: =SUM(AG57,AT57) -> 251807.05 | AQ57: Soupis | AS57: 0 | AT57: =ROUND(SUM(AV57:AW57),2) -> 43702.05 | AU57: ='01a - Přípravné práce'!P87 -> 0 | AV57: ='01a - Přípravné práce'!J35 -> 43702.05 | AW57: ='01a - Přípravné práce'!J36 -> 0 | AX57: ='01a - Přípravné práce'!J37 -> 0 | AY57: ='01a - Přípravné práce'!J38 -> 0 | AZ57: ='01a - Přípravné práce'!F35 -> 208105 | BA57: ='01a - Přípravné práce'!F36 -> 0 | BB57: ='01a - Přípravné práce'!F37 -> 0 | BC57: ='01a - Přípravné práce'!F38 -> 0 | BD57: ='01a - Přípravné práce'!F39 -> 0 | BT57: 3 | BU57: ###NOINSERT### | BV57: IMPORT | BW57: {f144ebf1-619f-4441-8a74-6d9edd0e8bdc} | BX57: {1fe41dd8-8cc0-4dd3-96fb-5e5554e15797} | CL57: 815 9
A58: / | F58: ZBV-01a | L58: méněpráce | AG58: ='ZBV-01a - méněpráce'!J34 -> -81550 | AN58: =SUM(AG58,AT58) -> -98675.5 | AQ58: Soupis | AS58: 0 | AT58: =ROUND(SUM(AV58:AW58),2) -> -17125.5 | AU58: ='ZBV-01a - méněpráce'!P93 -> 0 | AV58: ='ZBV-01a - méněpráce'!J37 -> -17125.5 | AW58: ='ZBV-01a - méněpráce'!J38 -> 0 | AX58: ='ZBV-01a - méněpráce'!J39 -> 0 | AY58: ='ZBV-01a - méněpráce'!J40 -> 0 | AZ58: ='ZBV-01a - méněpráce'!F37 -> -81550 | BA58: ='ZBV-01a - méněpráce'!F38 -> 0 | BB58: ='ZBV-01a - méněpráce'!F39 -> 0 | BC58: ='ZBV-01a - méněpráce'!F40 -> 0 | BD58: ='ZBV-01a - méněpráce'!F41 -> 0 | BT58: 3 | BV58: IMPORT | BW58: {7072d825-8a85-4fa9-b817-ee2e7c402f39} | BX58: {f144ebf1-619f-4441-8a74-6d9edd0e8bdc} | CL58: 815 9
E59: 07 | K59: KOLUMBÁRIUM | AG59: =ROUND(SUM(AG60:AG62),2) -> 689833.25 | AN59: =SUM(AG59,AT59) -> 834698.23 | AQ59: Soupis | AS59: =ROUND(SUM(AS60:AS62),2) -> 0 | AT59: =ROUND(SUM(AV59:AW59),2) -> 144864.98 | AU59: =ROUND(SUM(AU60:AU62),5) -> 19.80432 | AV59: =ROUND(AZ59*L29,2) -> 144864.98 | AW59: =ROUND(BA59*L30,2) -> 0 | AX59: =ROUND(BB59*L29,2) -> 0 | AY59: =ROUND(BC59*L30,2) -> 0 | AZ59: =ROUND(SUM(AZ60:AZ62),2) -> 689833.25 | BA59: =ROUND(SUM(BA60:BA62),2) -> 0 | BB59: =ROUND(SUM(BB60:BB62),2) -> 0 | BC59: =ROUND(SUM(BC60:BC62),2) -> 0 | BD59: =ROUND(SUM(BD60:BD62),2) -> 0 | BS59: D | BT59: 2 | BV59: IMPORT | BW59: {12e068f8-e123-46e4-89ca-100ec925e7f4} | BX59: {1fe41dd8-8cc0-4dd3-96fb-5e5554e15797} | CL59: 815 9
A60: / | F60: 07 | L60: KOLUMBÁRIUM | AG60: ='07 - KOLUMBÁRIUM'!J32 -> 655733.58 | AN60: =SUM(AG60,AT60) -> 793437.63 | AQ60: Soupis | AS60: 0 | AT60: =ROUND(SUM(AV60:AW60),2) -> 137704.05 | AU60: ='07 - KOLUMBÁRIUM'!P94 -> 0 | AV60: ='07 - KOLUMBÁRIUM'!J35 -> 137704.05 | AW60: ='07 - KOLUMBÁRIUM'!J36 -> 0 | AX60: ='07 - KOLUMBÁRIUM'!J37 -> 0 | AY60: ='07 - KOLUMBÁRIUM'!J38 -> 0 | AZ60: ='07 - KOLUMBÁRIUM'!F35 -> 655733.58 | BA60: ='07 - KOLUMBÁRIUM'!F36 -> 0 | BB60: ='07 - KOLUMBÁRIUM'!F37 -> 0 | BC60: ='07 - KOLUMBÁRIUM'!F38 -> 0 | BD60: ='07 - KOLUMBÁRIUM'!F39 -> 0 | BT60: 3 | BU60: ###NOINSERT### | BV60: IMPORT | BW60: {12e068f8-e123-46e4-89ca-100ec925e7f4} | BX60: {1fe41dd8-8cc0-4dd3-96fb-5e5554e15797} | CL60: 815 9
A61: / | F61: ZBV-02a | L61: méněpráce | AG61: ='ZBV-02a - méněpráce'!J34 -> -55452.53 | AN61: =SUM(AG61,AT61) -> -67097.56 | AQ61: Soupis | AS61: 0 | AT61: =ROUND(SUM(AV61:AW61),2) -> -11645.03 | AU61: ='ZBV-02a - méněpráce'!P94 -> 0 | AV61: ='ZBV-02a - méněpráce'!J37 -> -11645.03 | AW61: ='ZBV-02a - méněpráce'!J38 -> 0 | AX61: ='ZBV-02a - méněpráce'!J39 -> 0 | AY61: ='ZBV-02a - méněpráce'!J40 -> 0 | AZ61: ='ZBV-02a - méněpráce'!F37 -> -55452.53 | BA61: ='ZBV-02a - méněpráce'!F38 -> 0 | BB61: ='ZBV-02a - méněpráce'!F39 -> 0 | BC61: ='ZBV-02a - méněpráce'!F40 -> 0 | BD61: ='ZBV-02a - méněpráce'!F41 -> 0 | BT61: 3 | BV61: IMPORT | BW61: {cfb8e07d-c672-4f8f-9ba4-6d0691c03800} | BX61: {12e068f8-e123-46e4-89ca-100ec925e7f4} | CL61: 815 9
A62: / | F62: ZBV-02b | L62: vícepráce | AG62: ='ZBV-02b - vícepráce'!J34 -> 89552.2 | AN62: =SUM(AG62,AT62) -> 108358.16 | AQ62: Soupis | AS62: 0 | AT62: =ROUND(SUM(AV62:AW62),2) -> 18805.96 | AU62: ='ZBV-02b - vícepráce'!P94 -> 19.804318 | AV62: ='ZBV-02b - vícepráce'!J37 -> 18805.96 | AW62: ='ZBV-02b - vícepráce'!J38 -> 0 | AX62: ='ZBV-02b - vícepráce'!J39 -> 0 | AY62: ='ZBV-02b - vícepráce'!J40 -> 0 | AZ62: ='ZBV-02b - vícepráce'!F37 -> 89552.2 | BA62: ='ZBV-02b - vícepráce'!F38 -> 0 | BB62: ='ZBV-02b - vícepráce'!F39 -> 0 | BC62: ='ZBV-02b - vícepráce'!F40 -> 0 | BD62: ='ZBV-02b - vícepráce'!F41 -> 0 | BT62: 3 | BV62: IMPORT | BW62: {bd2d8957-1601-43b4-b23e-5631e3c54041} | BX62: {12e068f8-e123-46e4-89ca-100ec925e7f4} | CL62: 815 9
E63: 08 | K63: KOLUMBÁRIUM | AG63: =ROUND(SUM(AG64:AG66),2) -> 1901495.3 | AN63: =SUM(AG63,AT63) -> 2300809.3 | AQ63: Soupis | AS63: =ROUND(SUM(AS64:AS66),2) -> 0 | AT63: =ROUND(SUM(AV63:AW63),2) -> 399314.02 | AU63: =ROUND(SUM(AU64:AU66),5) -> 79.59853 | AV63: =ROUND(AZ63*L29,2) -> 399314.02 | AW63: =ROUND(BA63*L30,2) -> 0 | AX63: =ROUND(BB63*L29,2) -> 0 | AY63: =ROUND(BC63*L30,2) -> 0 | AZ63: =ROUND(SUM(AZ64:AZ66),2) -> 1901495.3 | BA63: =ROUND(SUM(BA64:BA66),2) -> 0 | BB63: =ROUND(SUM(BB64:BB66),2) -> 0 | BC63: =ROUND(SUM(BC64:BC66),2) -> 0 | BD63: =ROUND(SUM(BD64:BD66),2) -> 0 | BS63: D | BT63: 2 | BV63: IMPORT | BW63: {1648dd7c-8f79-4879-b56c-e2b8977b3a3f} | BX63: {1fe41dd8-8cc0-4dd3-96fb-5e5554e15797} | CL63: 815 9
A64: / | F64: 08 | L64: KOLUMBÁRIUM | AG64: ='08 - KOLUMBÁRIUM'!J32 -> 1779345.4 | AN64: =SUM(AG64,AT64) -> 2153007.9 | AQ64: Soupis | AS64: 0 | AT64: =ROUND(SUM(AV64:AW64),2) -> 373662.53 | AU64: ='08 - KOLUMBÁRIUM'!P94 -> 0 | AV64: ='08 - KOLUMBÁRIUM'!J35 -> 373662.53 | AW64: ='08 - KOLUMBÁRIUM'!J36 -> 0 | AX64: ='08 - KOLUMBÁRIUM'!J37 -> 0 | AY64: ='08 - KOLUMBÁRIUM'!J38 -> 0 | AZ64: ='08 - KOLUMBÁRIUM'!F35 -> 1779345.4 | BA64: ='08 - KOLUMBÁRIUM'!F36 -> 0 | BB64: ='08 - KOLUMBÁRIUM'!F37 -> 0 | BC64: ='08 - KOLUMBÁRIUM'!F38 -> 0 | BD64: ='08 - KOLUMBÁRIUM'!F39 -> 0 | BT64: 3 | BU64: ###NOINSERT### | BV64: IMPORT | BW64: {1648dd7c-8f79-4879-b56c-e2b8977b3a3f} | BX64: {1fe41dd8-8cc0-4dd3-96fb-5e5554e15797} | CL64: 815 9
A65: / | F65: ZBV-03a | L65: méněpráce | AG65: ='ZBV-03a - méněpráce'!J34 -> -229411.21 | AN65: =SUM(AG65,AT65) -> -277587.56 | AQ65: Soupis | AS65: 0 | AT65: =ROUND(SUM(AV65:AW65),2) -> -48176.35 | AU65: ='ZBV-03a - méněpráce'!P94 -> 0 | AV65: ='ZBV-03a - méněpráce'!J37 -> -48176.35 | AW65: ='ZBV-03a - méněpráce'!J38 -> 0 | AX65: ='ZBV-03a - méněpráce'!J39 -> 0 | AY65: ='ZBV-03a - méněpráce'!J40 -> 0 | AZ65: ='ZBV-03a - méněpráce'!F37 -> -229411.21 | BA65: ='ZBV-03a - méněpráce'!F38 -> 0 | BB65: ='ZBV-03a - méněpráce'!F39 -> 0 | BC65: ='ZBV-03a - méněpráce'!F40 -> 0 | BD65: ='ZBV-03a - méněpráce'!F41 -> 0 | BT65: 3 | BV65: IMPORT | BW65: {98aded36-1a98-4da2-898d-841d1e4f348c} | BX65: {1648dd7c-8f79-4879-b56c-e2b8977b3a3f} | CL65: 815 9
A66: / | F66: ZBV-03b | L66: vícepráce | AG66: ='ZBV-03b - vícepráce'!J34 -> 351561.13 | AN66: =SUM(AG66,AT66) -> 425388.97 | AQ66: Soupis | AS66: 0 | AT66: =ROUND(SUM(AV66:AW66),2) -> 73827.84 | AU66: ='ZBV-03b - vícepráce'!P94 -> 79.598526 | AV66: ='ZBV-03b - vícepráce'!J37 -> 73827.84 | AW66: ='ZBV-03b - vícepráce'!J38 -> 0 | AX66: ='ZBV-03b - vícepráce'!J39 -> 0 | AY66: ='ZBV-03b - vícepráce'!J40 -> 0 | AZ66: ='ZBV-03b - vícepráce'!F37 -> 351561.13 | BA66: ='ZBV-03b - vícepráce'!F38 -> 0 | BB66: ='ZBV-03b - vícepráce'!F39 -> 0 | BC66: ='ZBV-03b - vícepráce'!F40 -> 0 | BD66: ='ZBV-03b - vícepráce'!F41 -> 0 | BT66: 3 | BV66: IMPORT | BW66: {122bf830-2ec7-4911-8f50-491624c88f16} | BX66: {1648dd7c-8f79-4879-b56c-e2b8977b3a3f} | CL66: 815 9
E67: 09 | K67: KOLUMBÁRIUM | AG67: =ROUND(SUM(AG68:AG70),2) -> 1068489.1 | AN67: =SUM(AG67,AT67) -> 1292871.8 | AQ67: Soupis | AS67: =ROUND(SUM(AS68:AS70),2) -> 0 | AT67: =ROUND(SUM(AV67:AW67),2) -> 224382.71 | AU67: =ROUND(SUM(AU68:AU70),5) -> 36.52199 | AV67: =ROUND(AZ67*L29,2) -> 224382.71 | AW67: =ROUND(BA67*L30,2) -> 0 | AX67: =ROUND(BB67*L29,2) -> 0 | AY67: =ROUND(BC67*L30,2) -> 0 | AZ67: =ROUND(SUM(AZ68:AZ70),2) -> 1068489.1 | BA67: =ROUND(SUM(BA68:BA70),2) -> 0 | BB67: =ROUND(SUM(BB68:BB70),2) -> 0 | BC67: =ROUND(SUM(BC68:BC70),2) -> 0 | BD67: =ROUND(SUM(BD68:BD70),2) -> 0 | BS67: D | BT67: 2 | BV67: IMPORT | BW67: {318d45e2-cc03-49f6-adcc-6cfa3c94cc2b} | BX67: {1fe41dd8-8cc0-4dd3-96fb-5e5554e15797} | CL67: 815 9
A68: / | F68: 09 | L68: KOLUMBÁRIUM | AG68: ='09 - KOLUMBÁRIUM'!J32 -> 992020.21 | AN68: =SUM(AG68,AT68) -> 1200344.4 | AQ68: Soupis | AS68: 0 | AT68: =ROUND(SUM(AV68:AW68),2) -> 208324.24 | AU68: ='09 - KOLUMBÁRIUM'!P94 -> 0 | AV68: ='09 - KOLUMBÁRIUM'!J35 -> 208324.24 | AW68: ='09 - KOLUMBÁRIUM'!J36 -> 0 | AX68: ='09 - KOLUMBÁRIUM'!J37 -> 0 | AY68: ='09 - KOLUMBÁRIUM'!J38 -> 0 | AZ68: ='09 - KOLUMBÁRIUM'!F35 -> 992020.21 | BA68: ='09 - KOLUMBÁRIUM'!F36 -> 0 | BB68: ='09 - KOLUMBÁRIUM'!F37 -> 0 | BC68: ='09 - KOLUMBÁRIUM'!F38 -> 0 | BD68: ='09 - KOLUMBÁRIUM'!F39 -> 0 | BT68: 3 | BU68: ###NOINSERT### | BV68: IMPORT | BW68: {318d45e2-cc03-49f6-adcc-6cfa3c94cc2b} | BX68: {1fe41dd8-8cc0-4dd3-96fb-5e5554e15797} | CL68: 815 9
A69: / | F69: ZBV-04a | L69: méněpráce | AG69: ='ZBV-04a - méněpráce'!J34 -> -86577.24 | AN69: =SUM(AG69,AT69) -> -104758.46 | AQ69: Soupis | AS69: 0 | AT69: =ROUND(SUM(AV69:AW69),2) -> -18181.22 | AU69: ='ZBV-04a - méněpráce'!P94 -> 0 | AV69: ='ZBV-04a - méněpráce'!J37 -> -18181.22 | AW69: ='ZBV-04a - méněpráce'!J38 -> 0 | AX69: ='ZBV-04a - méněpráce'!J39 -> 0 | AY69: ='ZBV-04a - méněpráce'!J40 -> 0 | AZ69: ='ZBV-04a - méněpráce'!F37 -> -86577.24 | BA69: ='ZBV-04a - méněpráce'!F38 -> 0 | BB69: ='ZBV-04a - méněpráce'!F39 -> 0 | BC69: ='ZBV-04a - méněpráce'!F40 -> 0 | BD69: ='ZBV-04a - méněpráce'!F41 -> 0 | BT69: 3 | BV69: IMPORT | BW69: {7cd4c9f9-8373-44a4-b9f8-84d4560f5040} | BX69: {318d45e2-cc03-49f6-adcc-6cfa3c94cc2b} | CL69: 815 9
A70: / | F70: ZBV-04b | L70: vícepráce | AG70: ='ZBV-04b - vícepráce'!J34 -> 163046.12 | AN70: =SUM(AG70,AT70) -> 197285.81 | AQ70: Soupis | AS70: 0 | AT70: =ROUND(SUM(AV70:AW70),2) -> 34239.69 | AU70: ='ZBV-04b - vícepráce'!P94 -> 36.52199 | AV70: ='ZBV-04b - vícepráce'!J37 -> 34239.69 | AW70: ='ZBV-04b - vícepráce'!J38 -> 0 | AX70: ='ZBV-04b - vícepráce'!J39 -> 0 | AY70: ='ZBV-04b - vícepráce'!J40 -> 0 | AZ70: ='ZBV-04b - vícepráce'!F37 -> 163046.12 | BA70: ='ZBV-04b - vícepráce'!F38 -> 0 | BB70: ='ZBV-04b - vícepráce'!F39 -> 0 | BC70: ='ZBV-04b - vícepráce'!F40 -> 0 | BD70: ='ZBV-04b - vícepráce'!F41 -> 0 | BT70: 3 | BV70: IMPORT | BW70: {af2788f6-1399-42c6-a115-91d698fb748b} | BX70: {318d45e2-cc03-49f6-adcc-6cfa3c94cc2b} | CL70: 815 9
E71: 10 | K71: KOLUMBÁRIUM | AG71: =ROUND(SUM(AG72:AG74),2) -> 1077025.9 | AN71: =SUM(AG71,AT71) -> 1303201.3 | AQ71: Soupis | AS71: =ROUND(SUM(AS72:AS74),2) -> 0 | AT71: =ROUND(SUM(AV71:AW71),2) -> 226175.43 | AU71: =ROUND(SUM(AU72:AU74),5) -> 36.44719 | AV71: =ROUND(AZ71*L29,2) -> 226175.43 | AW71: =ROUND(BA71*L30,2) -> 0 | AX71: =ROUND(BB71*L29,2) -> 0 | AY71: =ROUND(BC71*L30,2) -> 0 | AZ71: =ROUND(SUM(AZ72:AZ74),2) -> 1077025.9 | BA71: =ROUND(SUM(BA72:BA74),2) -> 0 | BB71: =ROUND(SUM(BB72:BB74),2) -> 0 | BC71: =ROUND(SUM(BC72:BC74),2) -> 0 | BD71: =ROUND(SUM(BD72:BD74),2) -> 0 | BS71: D | BT71: 2 | BV71: IMPORT | BW71: {47416657-0009-4f61-b0a3-af82d4e97114} | BX71: {1fe41dd8-8cc0-4dd3-96fb-5e5554e15797} | CL71: 815 9
A72: / | F72: 10 | L72: KOLUMBÁRIUM | AG72: ='10 - KOLUMBÁRIUM'!J32 -> 1003855.3 | AN72: =SUM(AG72,AT72) -> 1214664.9 | AQ72: Soupis | AS72: 0 | AT72: =ROUND(SUM(AV72:AW72),2) -> 210809.61 | AU72: ='10 - KOLUMBÁRIUM'!P94 -> 0 | AV72: ='10 - KOLUMBÁRIUM'!J35 -> 210809.61 | AW72: ='10 - KOLUMBÁRIUM'!J36 -> 0 | AX72: ='10 - KOLUMBÁRIUM'!J37 -> 0 | AY72: ='10 - KOLUMBÁRIUM'!J38 -> 0 | AZ72: ='10 - KOLUMBÁRIUM'!F35 -> 1003855.3 | BA72: ='10 - KOLUMBÁRIUM'!F36 -> 0 | BB72: ='10 - KOLUMBÁRIUM'!F37 -> 0 | BC72: ='10 - KOLUMBÁRIUM'!F38 -> 0 | BD72: ='10 - KOLUMBÁRIUM'!F39 -> 0 | BT72: 3 | BU72: ###NOINSERT### | BV72: IMPORT | BW72: {47416657-0009-4f61-b0a3-af82d4e97114} | BX72: {1fe41dd8-8cc0-4dd3-96fb-5e5554e15797} | CL72: 815 9
A73: / | F73: ZBV-05a | L73: méněpráce | AG73: ='ZBV-05a - méněpráce'!J34 -> -90565.67 | AN73: =SUM(AG73,AT73) -> -109584.46 | AQ73: Soupis | AS73: 0 | AT73: =ROUND(SUM(AV73:AW73),2) -> -19018.79 | AU73: ='ZBV-05a - méněpráce'!P94 -> 0 | AV73: ='ZBV-05a - méněpráce'!J37 -> -19018.79 | AW73: ='ZBV-05a - méněpráce'!J38 -> 0 | AX73: ='ZBV-05a - méněpráce'!J39 -> 0 | AY73: ='ZBV-05a - méněpráce'!J40 -> 0 | AZ73: ='ZBV-05a - méněpráce'!F37 -> -90565.67 | BA73: ='ZBV-05a - méněpráce'!F38 -> 0 | BB73: ='ZBV-05a - méněpráce'!F39 -> 0 | BC73: ='ZBV-05a - méněpráce'!F40 -> 0 | BD73: ='ZBV-05a - méněpráce'!F41 -> 0 | BT73: 3 | BV73: IMPORT | BW73: {e9223328-9947-4f5d-b51e-d0c1ee4e8339} | BX73: {47416657-0009-4f61-b0a3-af82d4e97114} | CL73: 815 9
A74: / | F74: ZBV-05b | L74: vícepráce | AG74: ='ZBV-05b - vícepráce'!J34 -> 163736.27 | AN74: =SUM(AG74,AT74) -> 198120.89 | AQ74: Soupis | AS74: 0 | AT74: =ROUND(SUM(AV74:AW74),2) -> 34384.62 | AU74: ='ZBV-05b - vícepráce'!P94 -> 36.447188 | AV74: ='ZBV-05b - vícepráce'!J37 -> 34384.62 | AW74: ='ZBV-05b - vícepráce'!J38 -> 0 | AX74: ='ZBV-05b - vícepráce'!J39 -> 0 | AY74: ='ZBV-05b - vícepráce'!J40 -> 0 | AZ74: ='ZBV-05b - vícepráce'!F37 -> 163736.27 | BA74: ='ZBV-05b - vícepráce'!F38 -> 0 | BB74: ='ZBV-05b - vícepráce'!F39 -> 0 | BC74: ='ZBV-05b - vícepráce'!F40 -> 0 | BD74: ='ZBV-05b - vícepráce'!F41 -> 0 | BT74: 3 | BV74: IMPORT | BW74: {b4fa2778-3f34-46ef-8f75-3c928f957ad6} | BX74: {47416657-0009-4f61-b0a3-af82d4e97114} | CL74: 815 9
E75: 11 | K75: KOLUMBÁRIUM | AG75: =ROUND(SUM(AG76:AG78),2) -> 867724.14 | AN75: =SUM(AG75,AT75) -> 1049946.2 | AQ75: Soupis | AS75: =ROUND(SUM(AS76:AS78),2) -> 0 | AT75: =ROUND(SUM(AV75:AW75),2) -> 182222.07 | AU75: =ROUND(SUM(AU76:AU78),5) -> 29.17872 | AV75: =ROUND(AZ75*L29,2) -> 182222.07 | AW75: =ROUND(BA75*L30,2) -> 0 | AX75: =ROUND(BB75*L29,2) -> 0 | AY75: =ROUND(BC75*L30,2) -> 0 | AZ75: =ROUND(SUM(AZ76:AZ78),2) -> 867724.14 | BA75: =ROUND(SUM(BA76:BA78),2) -> 0 | BB75: =ROUND(SUM(BB76:BB78),2) -> 0 | BC75: =ROUND(SUM(BC76:BC78),2) -> 0 | BD75: =ROUND(SUM(BD76:BD78),2) -> 0 | BS75: D | BT75: 2 | BV75: IMPORT | BW75: {63f55a11-3cf9-4a58-861f-4ea081a91b95} | BX75: {1fe41dd8-8cc0-4dd3-96fb-5e5554e15797} | CL75: 815 9
A76: / | F76: 11 | L76: KOLUMBÁRIUM | AG76: ='11 - KOLUMBÁRIUM'!J32 -> 807716.22 | AN76: =SUM(AG76,AT76) -> 977336.63 | AQ76: Soupis | AS76: 0 | AT76: =ROUND(SUM(AV76:AW76),2) -> 169620.41 | AU76: ='11 - KOLUMBÁRIUM'!P94 -> 0 | AV76: ='11 - KOLUMBÁRIUM'!J35 -> 169620.41 | AW76: ='11 - KOLUMBÁRIUM'!J36 -> 0 | AX76: ='11 - KOLUMBÁRIUM'!J37 -> 0 | AY76: ='11 - KOLUMBÁRIUM'!J38 -> 0 | AZ76: ='11 - KOLUMBÁRIUM'!F35 -> 807716.22 | BA76: ='11 - KOLUMBÁRIUM'!F36 -> 0 | BB76: ='11 - KOLUMBÁRIUM'!F37 -> 0 | BC76: ='11 - KOLUMBÁRIUM'!F38 -> 0 | BD76: ='11 - KOLUMBÁRIUM'!F39 -> 0 | BT76: 3 | BU76: ###NOINSERT### | BV76: IMPORT | BW76: {63f55a11-3cf9-4a58-861f-4ea081a91b95} | BX76: {1fe41dd8-8cc0-4dd3-96fb-5e5554e15797} | CL76: 815 9
A77: / | F77: ZBV-06a | L77: méněpráce | AG77: ='ZBV-06a - méněpráce'!J34 -> -67689.1 | AN77: =SUM(AG77,AT77) -> -81903.81 | AQ77: Soupis | AS77: 0 | AT77: =ROUND(SUM(AV77:AW77),2) -> -14214.71 | AU77: ='ZBV-06a - méněpráce'!P94 -> 0 | AV77: ='ZBV-06a - méněpráce'!J37 -> -14214.71 | AW77: ='ZBV-06a - méněpráce'!J38 -> 0 | AX77: ='ZBV-06a - méněpráce'!J39 -> 0 | AY77: ='ZBV-06a - méněpráce'!J40 -> 0 | AZ77: ='ZBV-06a - méněpráce'!F37 -> -67689.1 | BA77: ='ZBV-06a - méněpráce'!F38 -> 0 | BB77: ='ZBV-06a - méněpráce'!F39 -> 0 | BC77: ='ZBV-06a - méněpráce'!F40 -> 0 | BD77: ='ZBV-06a - méněpráce'!F41 -> 0 | BT77: 3 | BV77: IMPORT | BW77: {3a364fa1-bab6-4d23-9726-7b4aa15ed839} | BX77: {63f55a11-3cf9-4a58-861f-4ea081a91b95} | CL77: 815 9
A78: / | F78: ZBV-06b | L78: vícepráce | AG78: ='ZBV-06b - vícepráce'!J34 -> 127697.02 | AN78: =SUM(AG78,AT78) -> 154513.39 | AQ78: Soupis | AS78: 0 | AT78: =ROUND(SUM(AV78:AW78),2) -> 26816.37 | AU78: ='ZBV-06b - vícepráce'!P94 -> 29.178724 | AV78: ='ZBV-06b - vícepráce'!J37 -> 26816.37 | AW78: ='ZBV-06b - vícepráce'!J38 -> 0 | AX78: ='ZBV-06b - vícepráce'!J39 -> 0 | AY78: ='ZBV-06b - vícepráce'!J40 -> 0 | AZ78: ='ZBV-06b - vícepráce'!F37 -> 127697.02 | BA78: ='ZBV-06b - vícepráce'!F38 -> 0 | BB78: ='ZBV-06b - vícepráce'!F39 -> 0 | BC78: ='ZBV-06b - vícepráce'!F40 -> 0 | BD78: ='ZBV-06b - vícepráce'!F41 -> 0 | BT78: 3 | BV78: IMPORT | BW78: {fc369eec-68de-4208-8f19-f6a2101553e0} | BX78: {63f55a11-3cf9-4a58-861f-4ea081a91b95} | CL78: 815 9
E79: 12 | K79: KOLUMBÁRIUM | AG79: =ROUND(SUM(AG80:AG82),2) -> 580924.03 | AN79: =SUM(AG79,AT79) -> 702918.08 | AQ79: Soupis | AS79: =ROUND(SUM(AS80:AS82),2) -> 0 | AT79: =ROUND(SUM(AV79:AW79),2) -> 121994.05 | AU79: =ROUND(SUM(AU80:AU82),5) -> 19.27622 | AV79: =ROUND(AZ79*L29,2) -> 121994.05 | AW79: =ROUND(BA79*L30,2) -> 0 | AX79: =ROUND(BB79*L29,2) -> 0 | AY79: =ROUND(BC79*L30,2) -> 0 | AZ79: =ROUND(SUM(AZ80:AZ82),2) -> 580924.03 | BA79: =ROUND(SUM(BA80:BA82),2) -> 0 | BB79: =ROUND(SUM(BB80:BB82),2) -> 0 | BC79: =ROUND(SUM(BC80:BC82),2) -> 0 | BD79: =ROUND(SUM(BD80:BD82),2) -> 0 | BS79: D | BT79: 2 | BV79: IMPORT | BW79: {af0df53a-fd74-4753-ad06-1b34a3a1f33b} | BX79: {1fe41dd8-8cc0-4dd3-96fb-5e5554e15797} | CL79: 815 9
A80: / | F80: 12 | L80: KOLUMBÁRIUM | AG80: ='12 - KOLUMBÁRIUM'!J32 -> 530256.78 | AN80: =SUM(AG80,AT80) -> 641610.7 | AQ80: Soupis | AS80: 0 | AT80: =ROUND(SUM(AV80:AW80),2) -> 111353.92 | AU80: ='12 - KOLUMBÁRIUM'!P94 -> 0 | AV80: ='12 - KOLUMBÁRIUM'!J35 -> 111353.92 | AW80: ='12 - KOLUMBÁRIUM'!J36 -> 0 | AX80: ='12 - KOLUMBÁRIUM'!J37 -> 0 | AY80: ='12 - KOLUMBÁRIUM'!J38 -> 0 | AZ80: ='12 - KOLUMBÁRIUM'!F35 -> 530256.78 | BA80: ='12 - KOLUMBÁRIUM'!F36 -> 0 | BB80: ='12 - KOLUMBÁRIUM'!F37 -> 0 | BC80: ='12 - KOLUMBÁRIUM'!F38 -> 0 | BD80: ='12 - KOLUMBÁRIUM'!F39 -> 0 | BT80: 3 | BU80: ###NOINSERT### | BV80: IMPORT | BW80: {af0df53a-fd74-4753-ad06-1b34a3a1f33b} | BX80: {1fe41dd8-8cc0-4dd3-96fb-5e5554e15797} | CL80: 815 9
A81: / | F81: ZBV-07a | L81: méněpráce | AG81: ='ZBV-07a - méněpráce'!J34 -> -35786.98 | AN81: =SUM(AG81,AT81) -> -43302.25 | AQ81: Soupis | AS81: 0 | AT81: =ROUND(SUM(AV81:AW81),2) -> -7515.27 | AU81: ='ZBV-07a - méněpráce'!P94 -> 0 | AV81: ='ZBV-07a - méněpráce'!J37 -> -7515.27 | AW81: ='ZBV-07a - méněpráce'!J38 -> 0 | AX81: ='ZBV-07a - méněpráce'!J39 -> 0 | AY81: ='ZBV-07a - méněpráce'!J40 -> 0 | AZ81: ='ZBV-07a - méněpráce'!F37 -> -35786.98 | BA81: ='ZBV-07a - méněpráce'!F38 -> 0 | BB81: ='ZBV-07a - méněpráce'!F39 -> 0 | BC81: ='ZBV-07a - méněpráce'!F40 -> 0 | BD81: ='ZBV-07a - méněpráce'!F41 -> 0 | BT81: 3 | BV81: IMPORT | BW81: {9995098d-d540-49cc-92e2-c7832f64e49f} | BX81: {af0df53a-fd74-4753-ad06-1b34a3a1f33b} | CL81: 815 9
A82: / | F82: ZBV-07b | L82: vícepráce | AG82: ='ZBV-07b - vícepráce'!J34 -> 86454.23 | AN82: =SUM(AG82,AT82) -> 104609.62 | AQ82: Soupis | AS82: 0 | AT82: =ROUND(SUM(AV82:AW82),2) -> 18155.39 | AU82: ='ZBV-07b - vícepráce'!P94 -> 19.276222 | AV82: ='ZBV-07b - vícepráce'!J37 -> 18155.39 | AW82: ='ZBV-07b - vícepráce'!J38 -> 0 | AX82: ='ZBV-07b - vícepráce'!J39 -> 0 | AY82: ='ZBV-07b - vícepráce'!J40 -> 0 | AZ82: ='ZBV-07b - vícepráce'!F37 -> 86454.23 | BA82: ='ZBV-07b - vícepráce'!F38 -> 0 | BB82: ='ZBV-07b - vícepráce'!F39 -> 0 | BC82: ='ZBV-07b - vícepráce'!F40 -> 0 | BD82: ='ZBV-07b - vícepráce'!F41 -> 0 | BT82: 3 | BV82: IMPORT | BW82: {6f0ea63e-83ba-4d87-9733-d5e6e4af6c76} | BX82: {af0df53a-fd74-4753-ad06-1b34a3a1f33b} | CL82: 815 9
A83: / | E83: 13 | K83: PŘÍSTŘEŠEK | AG83: ='13 - PŘÍSTŘEŠEK'!J32 -> 1992665.3 | AN83: =SUM(AG83,AT83) -> 2411125 | AQ83: Soupis | AS83: 0 | AT83: =ROUND(SUM(AV83:AW83),2) -> 418459.7 | AU83: ='13 - PŘÍSTŘEŠEK'!P101 -> 0 | AV83: ='13 - PŘÍSTŘEŠEK'!J35 -> 418459.7 | AW83: ='13 - PŘÍSTŘEŠEK'!J36 -> 0 | AX83: ='13 - PŘÍSTŘEŠEK'!J37 -> 0 | AY83: ='13 - PŘÍSTŘEŠEK'!J38 -> 0 | AZ83: ='13 - PŘÍSTŘEŠEK'!F35 -> 1992665.3 | BA83: ='13 - PŘÍSTŘEŠEK'!F36 -> 0 | BB83: ='13 - PŘÍSTŘEŠEK'!F37 -> 0 | BC83: ='13 - PŘÍSTŘEŠEK'!F38 -> 0 | BD83: ='13 - PŘÍSTŘEŠEK'!F39 -> 0 | BT83: 2 | BV83: IMPORT | BW83: {57f801c0-9951-4675-9400-be1f58faf3a8} | BX83: {1fe41dd8-8cc0-4dd3-96fb-5e5554e15797} | CL83: 815 9
A84: / | D84: 02 | J84: Navrhovaný mobiliář | AG84: ='02 - Navrhovaný mobiliář'!J30 -> 242000 | AN84: =SUM(AG84,AT84) -> 292820 | AQ84: STA | AS84: 0 | AT84: =ROUND(SUM(AV84:AW84),2) -> 50820 | AU84: ='02 - Navrhovaný mobiliář'!P81 -> 0 | AV84: ='02 - Navrhovaný mobiliář'!J33 -> 50820 | AW84: ='02 - Navrhovaný mobiliář'!J34 -> 0 | AX84: ='02 - Navrhovaný mobiliář'!J35 -> 0 | AY84: ='02 - Navrhovaný mobiliář'!J36 -> 0 | AZ84: ='02 - Navrhovaný mobiliář'!F33 -> 242000 | BA84: ='02 - Navrhovaný mobiliář'!F34 -> 0 | BB84: ='02 - Navrhovaný mobiliář'!F35 -> 0 | BC84: ='02 - Navrhovaný mobiliář'!F36 -> 0 | BD84: ='02 - Navrhovaný mobiliář'!F37 -> 0 | BT84: 1 | BV84: IMPORT | BW84: {9a825755-6f2d-41b2-b6eb-92f6aa18f55e} | BX84: {e00c9e41-8b45-44f4-a35c-edada5650279} | CL84: 815 9 | CM84: 2
D85: 03 | J85: Navrhované povrchy | AG85: =ROUND(AG86+AG87+AG90,2) -> 1530572.7 | AN85: =SUM(AG85,AT85) -> 1851992.9 | AQ85: STA | AS85: =ROUND(AS86+AS87+AS90,2) -> 0 | AT85: =ROUND(SUM(AV85:AW85),2) -> 321420.26 | AU85: =ROUND(AU86+AU87+AU90,5) -> 0 | AV85: =ROUND(AZ85*L29,2) -> 321420.26 | AW85: =ROUND(BA85*L30,2) -> 0 | AX85: =ROUND(BB85*L29,2) -> 0 | AY85: =ROUND(BC85*L30,2) -> 0 | AZ85: =ROUND(AZ86+AZ87+AZ90,2) -> 1530572.7 | BA85: =ROUND(BA86+BA87+BA90,2) -> 0 | BB85: =ROUND(BB86+BB87+BB90,2) -> 0 | BC85: =ROUND(BC86+BC87+BC90,2) -> 0 | BD85: =ROUND(BD86+BD87+BD90,2) -> 0 | BS85: D | BT85: 1 | BU85: ###NOIMPORT### | BV85: IMPORT | BW85: {47fcbf56-ea73-41e3-acd9-814ac12da8e7} | BX85: {e00c9e41-8b45-44f4-a35c-edada5650279} | CL85: 822 5 | CM85: 2
A86: / | E86: A | K86: Mlatový povrch | AG86: ='A - Mlatový povrch'!J32 -> 863851.5 | AN86: =SUM(AG86,AT86) -> 1045260.3 | AQ86: Soupis | AS86: 0 | AT86: =ROUND(SUM(AV86:AW86),2) -> 181408.82 | AU86: ='A - Mlatový povrch'!P92 -> 0 | AV86: ='A - Mlatový povrch'!J35 -> 181408.82 | AW86: ='A - Mlatový povrch'!J36 -> 0 | AX86: ='A - Mlatový povrch'!J37 -> 0 | AY86: ='A - Mlatový povrch'!J38 -> 0 | AZ86: ='A - Mlatový povrch'!F35 -> 863851.5 | BA86: ='A - Mlatový povrch'!F36 -> 0 | BB86: ='A - Mlatový povrch'!F37 -> 0 | BC86: ='A - Mlatový povrch'!F38 -> 0 | BD86: ='A - Mlatový povrch'!F39 -> 0 | BT86: 2 | BV86: IMPORT | BW86: {ef37c9c7-cec5-4653-aa8d-f4c99c3f8bba} | BX86: {47fcbf56-ea73-41e3-acd9-814ac12da8e7} | CL86: 822 5
E87: B | K87: Litý beton pochozí | AG87: =ROUND(SUM(AG88:AG89),2) -> 598233.23 | AN87: =SUM(AG87,AT87) -> 723862.21 | AQ87: Soupis | AS87: =ROUND(SUM(AS88:AS89),2) -> 0 | AT87: =ROUND(SUM(AV87:AW87),2) -> 125628.98 | AU87: =ROUND(SUM(AU88:AU89),5) -> 0 | AV87: =ROUND(AZ87*L29,2) -> 125628.98 | AW87: =ROUND(BA87*L30,2) -> 0 | AX87: =ROUND(BB87*L29,2) -> 0 | AY87: =ROUND(BC87*L30,2) -> 0 | AZ87: =ROUND(SUM(AZ88:AZ89),2) -> 598233.23 | BA87: =ROUND(SUM(BA88:BA89),2) -> 0 | BB87: =ROUND(SUM(BB88:BB89),2) -> 0 | BC87: =ROUND(SUM(BC88:BC89),2) -> 0 | BD87: =ROUND(SUM(BD88:BD89),2) -> 0 | BS87: D | BT87: 2 | BV87: IMPORT | BW87: {50410c3b-43b2-4c3f-a065-4f68165b27cb} | BX87: {47fcbf56-ea73-41e3-acd9-814ac12da8e7} | CL87: 822 5
A88: / | F88: B | L88: Litý beton pochozí | AG88: ='B - Litý beton pochozí'!J32 -> 935676.4 | AN88: =SUM(AG88,AT88) -> 1132168.4 | AQ88: Soupis | AS88: 0 | AT88: =ROUND(SUM(AV88:AW88),2) -> 196492.04 | AU88: ='B - Litý beton pochozí'!P92 -> 0 | AV88: ='B - Litý beton pochozí'!J35 -> 196492.04 | AW88: ='B - Litý beton pochozí'!J36 -> 0 | AX88: ='B - Litý beton pochozí'!J37 -> 0 | AY88: ='B - Litý beton pochozí'!J38 -> 0 | AZ88: ='B - Litý beton pochozí'!F35 -> 935676.4 | BA88: ='B - Litý beton pochozí'!F36 -> 0 | BB88: ='B - Litý beton pochozí'!F37 -> 0 | BC88: ='B - Litý beton pochozí'!F38 -> 0 | BD88: ='B - Litý beton pochozí'!F39 -> 0 | BT88: 3 | BU88: ###NOINSERT### | BV88: IMPORT | BW88: {50410c3b-43b2-4c3f-a065-4f68165b27cb} | BX88: {47fcbf56-ea73-41e3-acd9-814ac12da8e7} | CL88: 822 5
A89: / | F89: ZBV-08a | L89: méněpráce | AG89: ='ZBV-08a - méněpráce'!J34 -> -337443.17 | AN89: =SUM(AG89,AT89) -> -408306.24 | AQ89: Soupis | AS89: 0 | AT89: =ROUND(SUM(AV89:AW89),2) -> -70863.07 | AU89: ='ZBV-08a - méněpráce'!P95 -> 0 | AV89: ='ZBV-08a - méněpráce'!J37 -> -70863.07 | AW89: ='ZBV-08a - méněpráce'!J38 -> 0 | AX89: ='ZBV-08a - méněpráce'!J39 -> 0 | AY89: ='ZBV-08a - méněpráce'!J40 -> 0 | AZ89: ='ZBV-08a - méněpráce'!F37 -> -337443.17 | BA89: ='ZBV-08a - méněpráce'!F38 -> 0 | BB89: ='ZBV-08a - méněpráce'!F39 -> 0 | BC89: ='ZBV-08a - méněpráce'!F40 -> 0 | BD89: ='ZBV-08a - méněpráce'!F41 -> 0 | BT89: 3 | BV89: IMPORT | BW89: {8dbc307e-8e38-416e-ac8b-77cc613d450e} | BX89: {50410c3b-43b2-4c3f-a065-4f68165b27cb} | CL89: 822 5
A90: / | E90: C | K90: Kačírek pochozí vsak | AG90: ='C - Kačírek pochozí vsak'!J32 -> 68487.96 | AN90: =SUM(AG90,AT90) -> 82870.43 | AQ90: Soupis | AS90: 0 | AT90: =ROUND(SUM(AV90:AW90),2) -> 14382.47 | AU90: ='C - Kačírek pochozí vsak'!P90 -> 0 | AV90: ='C - Kačírek pochozí vsak'!J35 -> 14382.47 | AW90: ='C - Kačírek pochozí vsak'!J36 -> 0 | AX90: ='C - Kačírek pochozí vsak'!J37 -> 0 | AY90: ='C - Kačírek pochozí vsak'!J38 -> 0 | AZ90: ='C - Kačírek pochozí vsak'!F35 -> 68487.96 | BA90: ='C - Kačírek pochozí vsak'!F36 -> 0 | BB90: ='C - Kačírek pochozí vsak'!F37 -> 0 | BC90: ='C - Kačírek pochozí vsak'!F38 -> 0 | BD90: ='C - Kačírek pochozí vsak'!F39 -> 0 | BT90: 2 | BV90: IMPORT | BW90: {47f196cf-82e4-420f-bedc-d39801dc6d1c} | BX90: {47fcbf56-ea73-41e3-acd9-814ac12da8e7} | CL90: 822 5
A91: / | D91: 04 | J91: Výsadba-SÚ | AG91: ='04 - Výsadba-SÚ'!J30 -> 106719.54 | AN91: =SUM(AG91,AT91) -> 129130.64 | AQ91: STA | AS91: 0 | AT91: =ROUND(SUM(AV91:AW91),2) -> 22411.1 | AU91: ='04 - Výsadba-SÚ'!P82 -> 0 | AV91: ='04 - Výsadba-SÚ'!J33 -> 22411.1 | AW91: ='04 - Výsadba-SÚ'!J34 -> 0 | AX91: ='04 - Výsadba-SÚ'!J35 -> 0 | AY91: ='04 - Výsadba-SÚ'!J36 -> 0 | AZ91: ='04 - Výsadba-SÚ'!F33 -> 106719.54 | BA91: ='04 - Výsadba-SÚ'!F34 -> 0 | BB91: ='04 - Výsadba-SÚ'!F35 -> 0 | BC91: ='04 - Výsadba-SÚ'!F36 -> 0 | BD91: ='04 - Výsadba-SÚ'!F37 -> 0 | BT91: 1 | BV91: IMPORT | BW91: {9cd5b1dd-bd73-4554-bbb6-e9b90a900323} | BX91: {e00c9e41-8b45-44f4-a35c-edada5650279} | CL91: 823 2 | CM91: 2
D92: 05 | J92: Technické zařízení | AG92: =ROUND(SUM(AG93:AG95),2) -> 355682.68 | AN92: =SUM(AG92,AT92) -> 430376.04 | AQ92: STA | AS92: =ROUND(SUM(AS93:AS95),2) -> 0 | AT92: =ROUND(SUM(AV92:AW92),2) -> 74693.36 | AU92: =ROUND(SUM(AU93:AU95),5) -> 0 | AV92: =ROUND(AZ92*L29,2) -> 74693.36 | AW92: =ROUND(BA92*L30,2) -> 0 | AX92: =ROUND(BB92*L29,2) -> 0 | AY92: =ROUND(BC92*L30,2) -> 0 | AZ92: =ROUND(SUM(AZ93:AZ95),2) -> 355682.68 | BA92: =ROUND(SUM(BA93:BA95),2) -> 0 | BB92: =ROUND(SUM(BB93:BB95),2) -> 0 | BC92: =ROUND(SUM(BC93:BC95),2) -> 0 | BD92: =ROUND(SUM(BD93:BD95),2) -> 0 | BS92: D | BT92: 1 | BU92: ###NOIMPORT### | BV92: IMPORT | BW92: {49965e43-48c1-4862-aadd-b644145ef534} | BX92: {e00c9e41-8b45-44f4-a35c-edada5650279} | CL92: 827 1 | CM92: 2
A93: / | E93: 05a | K93: ZTI-venkovní rozvod | AG93: ='05a - ZTI-venkovní rozvod'!J32 -> 161141.1 | AN93: =SUM(AG93,AT93) -> 194980.73 | AQ93: Soupis | AS93: 0 | AT93: =ROUND(SUM(AV93:AW93),2) -> 33839.63 | AU93: ='05a - ZTI-venkovní rozvod'!P92 -> 0 | AV93: ='05a - ZTI-venkovní rozvod'!J35 -> 33839.63 | AW93: ='05a - ZTI-venkovní rozvod'!J36 -> 0 | AX93: ='05a - ZTI-venkovní rozvod'!J37 -> 0 | AY93: ='05a - ZTI-venkovní rozvod'!J38 -> 0 | AZ93: ='05a - ZTI-venkovní rozvod'!F35 -> 161141.1 | BA93: ='05a - ZTI-venkovní rozvod'!F36 -> 0 | BB93: ='05a - ZTI-venkovní rozvod'!F37 -> 0 | BC93: ='05a - ZTI-venkovní rozvod'!F38 -> 0 | BD93: ='05a - ZTI-venkovní rozvod'!F39 -> 0 | BT93: 2 | BV93: IMPORT | BW93: {c5e6214a-5741-4779-99dc-46c70cc8722b} | BX93: {49965e43-48c1-4862-aadd-b644145ef534} | CL93: 827 1
A94: / | E94: 05b | K94: ZTI-vnitřní vodovod a vnitřní kanalizace v SO 08 | AG94: ='05b - ZTI-vnitřní vodovod...'!J32 -> 15245 | AN94: =SUM(AG94,AT94) -> 18446.45 | AQ94: Soupis | AS94: 0 | AT94: =ROUND(SUM(AV94:AW94),2) -> 3201.45 | AU94: ='05b - ZTI-vnitřní vodovod...'!P88 -> 0 | AV94: ='05b - ZTI-vnitřní vodovod...'!J35 -> 3201.45 | AW94: ='05b - ZTI-vnitřní vodovod...'!J36 -> 0 | AX94: ='05b - ZTI-vnitřní vodovod...'!J37 -> 0 | AY94: ='05b - ZTI-vnitřní vodovod...'!J38 -> 0 | AZ94: ='05b - ZTI-vnitřní vodovod...'!F35 -> 15245 | BA94: ='05b - ZTI-vnitřní vodovod...'!F36 -> 0 | BB94: ='05b - ZTI-vnitřní vodovod...'!F37 -> 0 | BC94: ='05b - ZTI-vnitřní vodovod...'!F38 -> 0 | BD94: ='05b - ZTI-vnitřní vodovod...'!F39 -> 0 | BT94: 2 | BV94: IMPORT | BW94: {0a90ddf5-84a7-427d-b207-16732798c0ba} | BX94: {49965e43-48c1-4862-aadd-b644145ef534} | CL94: 801
A95: / | E95: 05c | K95: Elektro | AG95: ='05c - Elektro'!J32 -> 179296.58 | AN95: =SUM(AG95,AT95) -> 216948.86 | AQ95: Soupis | AS95: 0 | AT95: =ROUND(SUM(AV95:AW95),2) -> 37652.28 | AU95: ='05c - Elektro'!P91 -> 0 | AV95: ='05c - Elektro'!J35 -> 37652.28 | AW95: ='05c - Elektro'!J36 -> 0 | AX95: ='05c - Elektro'!J37 -> 0 | AY95: ='05c - Elektro'!J38 -> 0 | AZ95: ='05c - Elektro'!F35 -> 179296.58 | BA95: ='05c - Elektro'!F36 -> 0 | BB95: ='05c - Elektro'!F37 -> 0 | BC95: ='05c - Elektro'!F38 -> 0 | BD95: ='05c - Elektro'!F39 -> 0 | BT95: 2 | BV95: IMPORT | BW95: {1e10415e-8a0d-42f2-b332-8ed20900fd2d} | BX95: {49965e43-48c1-4862-aadd-b644145ef534} | CL95: 828
A96: / | D96: 06 | J96: VRN | AG96: ='06 - VRN'!J30 -> 450000 | AN96: =SUM(AG96,AT96) -> 544500 | AQ96: STA | AS96: 0 | AT96: =ROUND(SUM(AV96:AW96),2) -> 94500 | AU96: ='06 - VRN'!P85 -> 0 | AV96: ='06 - VRN'!J33 -> 94500 | AW96: ='06 - VRN'!J34 -> 0 | AX96: ='06 - VRN'!J35 -> 0 | AY96: ='06 - VRN'!J36 -> 0 | AZ96: ='06 - VRN'!F33 -> 450000 | BA96: ='06 - VRN'!F34 -> 0 | BB96: ='06 - VRN'!F35 -> 0 | BC96: ='06 - VRN'!F36 -> 0 | BD96: ='06 - VRN'!F37 -> 0 | BT96: 1 | BV96: IMPORT | BW96: {d7dbda3e-abfe-45b4-8a0d-d89dfa4a22fa} | BX96: {e00c9e41-8b45-44f4-a35c-edada5650279} | CL96: 815 9 | CM96: 2

Sheet 01a - Přípravné práce
AT2: {f144ebf1-619f-4441-8a74-6d9edd0e8bdc}
AT3: 2
D4: KRYCÍ LIST SOUPISU PRACÍ | M4: v --- níže se nacházejí doplnkové a pomocné údaje k sestavám --- v | AT4: False
D6: Stavba:
E7: ='Rekapitulace stavby'!K6 -> ÚPRAVY HŘBITOVA KBELY- ETAPA1
D8: Objekt:
E9: 01 - Navrhované objekty
D10: Soupis:
E11: 01a - Přípravné práce
D13: KSO: | F13: 815 9 | I13: CC-CZ:
D14: Místo: | F14: Praha 9-Kbely | I14: Datum: | J14: ='Rekapitulace stavby'!AN8 -> 0
D16: Zadavatel: | I16: IČ: | J16: 00231304
E17: MČ Praha 19, Semilská 43/1, 197 00 Praha 9 - Kbely | I17: DIČ:
D19: Zhotovitel: | I19: IČ: | J19: 07395680
E20: IWU s.r.o. | I20: DIČ: | J20: CZ07395680
D22: Projektant: | I22: IČ:
E23: Ing.Jan Pustějovský, Ph.D. | I23: DIČ:
D25: Zpracovatel: | I25: IČ:
I26: DIČ:
D28: Poznámka:
E29: Položkový rozpočet zpracován v CS ÚRS s CH 2024/II na základě PD -10/2024
D32: Cena bez DPH | J32: =ROUND(J87, 2) -> 208105
F34: Základ daně | I34: Sazba daně | J34: Výše daně
D35: DPH | E35: základní | F35: =ROUND((SUM(BE87:BE97)), 2) -> 208105 | I35: 0.21 | J35: =ROUND(((SUM(BE87:BE97))*I35), 2) -> 43702.05
E36: snížená | F36: =ROUND((SUM(BF87:BF97)), 2) -> 0 | I36: 0.12 | J36: =ROUND(((SUM(BF87:BF97))*I36), 2) -> 0
E37: zákl. přenesená | F37: =ROUND((SUM(BG87:BG97)), 2) -> 0 | I37: 0.21 | J37: =0 -> 0
E38: sníž. přenesená | F38: =ROUND((SUM(BH87:BH97)), 2) -> 0 | I38: 0.12 | J38: =0 -> 0
E39: nulová | F39: =ROUND((SUM(BI87:BI97)), 2) -> 0 | I39: 0 | J39: =0 -> 0
D41: Cena s DPH | G41: v | H41: CZK | J41: =SUM(J32:J39) -> 251807.05
C47: REKAPITULACE ČLENĚNÍ SOUPISU PRACÍ
C49: Stavba:
E50: =E7 -> ÚPRAVY HŘBITOVA KBELY- ETAPA1
C51: Objekt:
E52: 01 - Navrhované objekty
C53: Soupis:
E54: =E11 -> 01a - Přípravné práce
C56: Místo: | F56: =F14 -> Praha 9-Kbely | I56: Datum: | J56: =IF(J14="","",J14) -> 0
C58: Zadavatel: | F58: =E17 -> MČ Praha 19, Semilská 43/1, 197 00 Praha 9 - Kbely | I58: Projektant: | J58: =E23 -> Ing.Jan Pustějovský, Ph.D.
C59: Zhotovitel: | F59: =IF(E20="","",E20) -> IWU s.r.o. | I59: Zpracovatel: | J59: =E26
C61: Kód dílu - Popis | J61: Cena celkem [CZK]
C63: Náklady stavby celkem | J63: =J87 -> 208105 | AU63: -1
D64: HSV - Práce a dodávky HSV | J64: =J88 -> 208105
D65: 1 - Zemní práce | J65: =J89 -> 208105
C72: SOUPIS PRACÍ
C74: Stavba:
E75: =E7 -> ÚPRAVY HŘBITOVA KBELY- ETAPA1
C76: Objekt:
E77: 01 - Navrhované objekty
C78: Soupis:
E79: =E11 -> 01a - Přípravné práce
C81: Místo: | F81: =F14 -> Praha 9-Kbely | I81: Datum: | J81: =IF(J14="","",J14) -> 0
C83: Zadavatel: | F83: =E17 -> MČ Praha 19, Semilská 43/1, 197 00 Praha 9 - Kbely | I83: Projektant: | J83: =E23 -> Ing.Jan Pustějovský, Ph.D.
C84: Zhotovitel: | F84: =IF(E20="","",E20) -> IWU s.r.o. | I84: Zpracovatel: | J84: =E26
C86: PČ | D86: Typ | E86: Kód | F86: Popis | G86: MJ | H86: Množství | I86: J.cena [CZK] | J86: Cena celkem [CZK] | K86: Cenová soustava | N86: DPH | O86: J. Nh [h] | P86: Nh celkem [h] | Q86: J. hmotnost [t] | R86: Hmotnost celkem [t] | S86: J. suť [t] | T86: Suť Celkem [t]
C87: Náklady soupisu celkem | J87: =BK87 -> 208105 | P87: =P88 -> 0 | R87: =R88 -> 0.416364 | T87: =T88 -> 0 | AT87: D | AU87: -1 | BK87: =BK88 -> 208105
D88: D | E88: HSV | F88: Práce a dodávky HSV | J88: =BK88 -> 208105 | P88: =P89 -> 0 | R88: =R89 -> 0.416364 | T88: =T89 -> 0 | AR88: 1 | AT88: D | AU88: 0 | AY88: ROZPOCET | BK88: =BK89 -> 208105
D89: D | E89: 1 | F89: Zemní práce | J89: =BK89 -> 208105 | P89: =SUM(P90:P97) -> 0 | R89: =SUM(R90:R97) -> 0.416364 | T89: =SUM(T90:T97) -> 0 | AR89: 1 | AT89: D | AU89: 1 | AY89: ROZPOCET | BK89: =SUM(BK90:BK97) -> 208105
C90: 1 | D90: K | E90: 121151123 | F90: Sejmutí ornice strojně při souvislé ploše přes 500 m2, tl. vrstvy do 200 mm | G90: m2 | H90: 793.5 | I90: 130 | J90: =ROUND(I90*H90,2) -> 103155 | N90: základní | O90: 0 | P90: =O90*H90 -> 0 | Q90: 0 | R90: =Q90*H90 -> 0 | S90: 0 | T90: =S90*H90 -> 0 | AR90: 4 | AT90: K | AU90: 2 | AY90: ROZPOCET | BE90: =IF(N90="základní",J90,0) -> 103155 | BF90: =IF(N90="snížená",J90,0) -> 0 | BG90: =IF(N90="zákl. přenesená",J90,0) -> 0 | BH90: =IF(N90="sníž. přenesená",J90,0) -> 0 | BI90: =IF(N90="nulová",J90,0) -> 0 | BJ90: 1 | BK90: =ROUND(I90*H90,2) -> 103155 | BL90: 4 | BM90: 1382668328
D91: VV | F91: " v celé ploše ETAPA 1, vč. odvozu na mezideponii pro zpětné použití, v ceně započítán odvoz do 50,0m"23,0*34,50 | H91: 793.5 | AT91: VV | AU91: 2 | AV91: 2 | AW91: True | AX91: 1 | AY91: ROZPOCET
C92: 2 | D92: K | E92: 184818242 | F92: Ochrana kmene bedněním před poškozením stavebním provozem zřízení včetně odstranění výšky bednění přes 2 do 3 m průměru kmene přes 300 do 500 mm | G92: kus | H92: 13 | I92: 1800 | J92: =ROUND(I92*H92,2) -> 23400 | N92: základní | O92: 0 | P92: =O92*H92 -> 0 | Q92: 0.032028 | R92: =Q92*H92 -> 0.416364 | S92: 0 | T92: =S92*H92 -> 0 | AR92: 4 | AT92: K | AU92: 2 | AY92: ROZPOCET | BE92: =IF(N92="základní",J92,0) -> 23400 | BF92: =IF(N92="snížená",J92,0) -> 0 | BG92: =IF(N92="zákl. přenesená",J92,0) -> 0 | BH92: =IF(N92="sníž. přenesená",J92,0) -> 0 | BI92: =IF(N92="nulová",J92,0) -> 0 | BJ92: 1 | BK92: =ROUND(I92*H92,2) -> 23400 | BL92: 4 | BM92: -1003066380
D93: VV | F93: "ochrana stávajících stromů, viz situační výkres-návrh zásahů"13 | H93: 13 | AT93: VV | AU93: 2 | AV93: 2 | AW93: True | AX93: 1 | AY93: ROZPOCET
C94: 3 | D94: K | E94: 112151013 | F94: Pokácení stromu volné v celku s odřezáním kmene a s odvětvením průměru kmene přes 300 do 400 mm | G94: kus | H94: 35 | I94: 1800 | J94: =ROUND(I94*H94,2) -> 63000 | N94: základní | O94: 0 | P94: =O94*H94 -> 0 | Q94: 0 | R94: =Q94*H94 -> 0 | S94: 0 | T94: =S94*H94 -> 0 | AR94: 4 | AT94: K | AU94: 2 | AY94: ROZPOCET | BE94: =IF(N94="základní",J94,0) -> 63000 | BF94: =IF(N94="snížená",J94,0) -> 0 | BG94: =IF(N94="zákl. přenesená",J94,0) -> 0 | BH94: =IF(N94="sníž. přenesená",J94,0) -> 0 | BI94: =IF(N94="nulová",J94,0) -> 0 | BJ94: 1 | BK94: =ROUND(I94*H94,2) -> 63000 | BL94: 4 | BM94: -640677667
D95: VV | F95: "kácení přerostlého stromořadí-tuje"35 | H95: 35 | AT95: VV | AU95: 2 | AV95: 2 | AW95: True | AX95: 1 | AY95: ROZPOCET
C96: 4 | D96: K | E96: 112155221 | F96: Štěpkování s naložením na dopravní prostředek a odvozem do 20 km stromků a větví solitérů, průměru kmene přes 300 do 500 mm | G96: kus | H96: 35 | I96: 530 | J96: =ROUND(I96*H96,2) -> 18550 | N96: základní | O96: 0 | P96: =O96*H96 -> 0 | Q96: 0 | R96: =Q96*H96 -> 0 | S96: 0 | T96: =S96*H96 -> 0 | AR96: 4 | AT96: K | AU96: 2 | AY96: ROZPOCET | BE96: =IF(N96="základní",J96,0) -> 18550 | BF96: =IF(N96="snížená",J96,0) -> 0 | BG96: =IF(N96="zákl. přenesená",J96,0) -> 0 | BH96: =IF(N96="sníž. přenesená",J96,0) -> 0 | BI96: =IF(N96="nulová",J96,0) -> 0 | BJ96: 1 | BK96: =ROUND(I96*H96,2) -> 18550 | BL96: 4 | BM96: -1977413379
D97: VV | F97: "kácení přerostlého stromořadí-tuje"35 | H97: 35 | AT97: VV | AU97: 2 | AV97: 2 | AW97: True | AX97: 1 | AY97: ROZPOCET

Sheet ZBV-01a - méněpráce
AT2: {7072d825-8a85-4fa9-b817-ee2e7c402f39}
AT3: 2
D4: KRYCÍ LIST SOUPISU PRACÍ | M4: v --- níže se nacházejí doplnkové a pomocné údaje k sestavám --- v | AT4: False
D6: Stavba:
E7: ='Rekapitulace stavby'!K6 -> ÚPRAVY HŘBITOVA KBELY- ETAPA1
D8: Objekt:
E9: 01 - Navrhované objekty
D10: Soupis:
E11: 01a - Přípravné práce
D12: Úroveň 3:
E13: ZBV-01a - méněpráce
D15: KSO: | F15: 815 9 | I15: CC-CZ:
D16: Místo: | F16: Praha 9-Kbely | I16: Datum: | J16: ='Rekapitulace stavby'!AN8 -> 0
D18: Zadavatel: | I18: IČ: | J18: 00231304
E19: MČ Praha 19, Semilská 43/1, 197 00 Praha 9 - Kbely | I19: DIČ:
D21: Zhotovitel: | I21: IČ: | J21: 07395680
E22: IWU s.r.o. | I22: DIČ: | J22: CZ07395680
D24: Projektant: | I24: IČ:
E25: Ing.Jan Pustějovský, Ph.D. | I25: DIČ:
D27: Zpracovatel: | I27: IČ:
I28: DIČ:
D30: Poznámka:
D34: Cena bez DPH | J34: =ROUND(J93, 2) -> -81550
F36: Základ daně | I36: Sazba daně | J36: Výše daně
D37: DPH | E37: základní | F37: =ROUND((SUM(BE93:BE103)), 2) -> -81550 | I37: 0.21 | J37: =ROUND(((SUM(BE93:BE103))*I37), 2) -> -17125.5
E38: snížená | F38: =ROUND((SUM(BF93:BF103)), 2) -> 0 | I38: 0.12 | J38: =ROUND(((SUM(BF93:BF103))*I38), 2) -> 0
E39: zákl. přenesená | F39: =ROUND((SUM(BG93:BG103)), 2) -> 0 | I39: 0.21 | J39: =0 -> 0
E40: sníž. přenesená | F40: =ROUND((SUM(BH93:BH103)), 2) -> 0 | I40: 0.12 | J40: =0 -> 0
E41: nulová | F41: =ROUND((SUM(BI93:BI103)), 2) -> 0 | I41: 0 | J41: =0 -> 0
D43: Cena s DPH | G43: v | H43: CZK | J43: =SUM(J34:J41) -> -98675.5
C49: REKAPITULACE ČLENĚNÍ SOUPISU PRACÍ
C51: Stavba:
E52: =E7 -> ÚPRAVY HŘBITOVA KBELY- ETAPA1
C53: Objekt:
E54: 01 - Navrhované objekty
C55: Soupis:
E56: 01a - Přípravné práce
C57: Úroveň 3:
E58: =E13 -> ZBV-01a - méněpráce
C60: Místo: | F60: =F16 -> Praha 9-Kbely | I60: Datum: | J60: =IF(J16="","",J16) -> 0
C62: Zadavatel: | F62: =E19 -> MČ Praha 19, Semilská 43/1, 197 00 Praha 9 - Kbely | I62: Projektant: | J62: =E25 -> Ing.Jan Pustějovský, Ph.D.
C63: Zhotovitel: | F63: =IF(E22="","",E22) -> IWU s.r.o. | I63: Zpracovatel: | J63: =E28
C65: Kód dílu - Popis | J65: Cena celkem [CZK]
C67: Náklady stavby celkem | J67: =J93 -> -81550 | AU67: -1
D68: HSV - Práce a dodávky HSV | J68: =J94 -> -81550
D69: 1 - Zemní práce | J69: =J95 -> -81550
C76: SOUPIS PRACÍ
C78: Stavba:
E79: =E7 -> ÚPRAVY HŘBITOVA KBELY- ETAPA1
C80: Objekt:
E81: 01 - Navrhované objekty
C82: Soupis:
E83: 01a - Přípravné práce
C84: Úroveň 3:
E85: =E13 -> ZBV-01a - méněpráce
C87: Místo: | F87: =F16 -> Praha 9-Kbely | I87: Datum: | J87: =IF(J16="","",J16) -> 0
C89: Zadavatel: | F89: =E19 -> MČ Praha 19, Semilská 43/1, 197 00 Praha 9 - Kbely | I89: Projektant: | J89: =E25 -> Ing.Jan Pustějovský, Ph.D.
C90: Zhotovitel: | F90: =IF(E22="","",E22) -> IWU s.r.o. | I90: Zpracovatel: | J90: =E28
C92: PČ | D92: Typ | E92: Kód | F92: Popis | G92: MJ | H92: Množství | I92: J.cena [CZK] | J92: Cena celkem [CZK] | K92: Cenová soustava | N92: DPH | O92: J. Nh [h] | P92: Nh celkem [h] | Q92: J. hmotnost [t] | R92: Hmotnost celkem [t] | S92: J. suť [t] | T92: Suť Celkem [t]
C93: Náklady soupisu celkem | J93: =BK93 -> -81550 | P93: =P94 -> 0 | R93: =R94 -> 0 | T93: =T94 -> 0 | AT93: D | AU93: -1 | BK93: =BK94 -> -81550
D94: D | E94: HSV | F94: Práce a dodávky HSV | J94: =BK94 -> -81550 | P94: =P95 -> 0 | R94: =R95 -> 0 | T94: =T95 -> 0 | AR94: 1 | AT94: D | AU94: 0 | AY94: ROZPOCET | BK94: =BK95 -> -81550
D95: D | E95: 1 | F95: Zemní práce | J95: =BK95 -> -81550 | P95: =SUM(P96:P103) -> 0 | R95: =SUM(R96:R103) -> 0 | T95: =SUM(T96:T103) -> 0 | AR95: 1 | AT95: D | AU95: 1 | AY95: ROZPOCET | BK95: =SUM(BK96:BK103) -> -81550
C96: 1 | D96: K | E96: 112151013 | F96: Pokácení stromu volné v celku s odřezáním kmene a s odvětvením průměru kmene přes 300 do 400 mm | G96: kus | H96: -35 | I96: 1800 | J96: =ROUND(I96*H96,2) -> -63000 | N96: základní | O96: 0 | P96: =O96*H96 -> 0 | Q96: 0 | R96: =Q96*H96 -> 0 | S96: 0 | T96: =S96*H96 -> 0 | AR96: 4 | AT96: K | AU96: 2 | AY96: ROZPOCET | BE96: =IF(N96="základní",J96,0) -> -63000 | BF96: =IF(N96="snížená",J96,0) -> 0 | BG96: =IF(N96="zákl. přenesená",J96,0) -> 0 | BH96: =IF(N96="sníž. přenesená",J96,0) -> 0 | BI96: =IF(N96="nulová",J96,0) -> 0 | BJ96: 1 | BK96: =ROUND(I96*H96,2) -> -63000 | BL96: 4 | BM96: -1411756590
D97: VV | F97: "původní množství dle SOD" -35 | H97: -35 | AT97: VV | AU97: 2 | AV97: 2 | AW97: True | AX97: 0 | AY97: ROZPOCET
D98: VV | F98: "nové množství dle ZBV" 0 | H98: 0 | AT98: VV | AU98: 2 | AV98: 2 | AW98: True | AX98: 0 | AY98: ROZPOCET
D99: VV | F99: Součet | H99: -35 | AT99: VV | AU99: 2 | AV99: 4 | AW99: True | AX99: 1 | AY99: ROZPOCET
C100: 2 | D100: K | E100: 112155221 | F100: Štěpkování s naložením na dopravní prostředek a odvozem do 20 km stromků a větví solitérů, průměru kmene přes 300 do 500 mm | G100: kus | H100: -35 | I100: 530 | J100: =ROUND(I100*H100,2) -> -18550 | N100: základní | O100: 0 | P100: =O100*H100 -> 0 | Q100: 0 | R100: =Q100*H100 -> 0 | S100: 0 | T100: =S100*H100 -> 0 | AR100: 4 | AT100: K | AU100: 2 | AY100: ROZPOCET | BE100: =IF(N100="základní",J100,0) -> -18550 | BF100: =IF(N100="snížená",J100,0) -> 0 | BG100: =IF(N100="zákl. přenesená",J100,0) -> 0 | BH100: =IF(N100="sníž. přenesená",J100,0) -> 0 | BI100: =IF(N100="nulová",J100,0) -> 0 | BJ100: 1 | BK100: =ROUND(I100*H100,2) -> -18550 | BL100: 4 | BM100: -908231623
D101: VV | F101: "původní množství dle SOD" -35 | H101: -35 | AT101: VV | AU101: 2 | AV101: 2 | AW101: True | AX101: 0 | AY101: ROZPOCET
D102: VV | F102: "nové množství dle ZBV" 0 | H102: 0 | AT102: VV | AU102: 2 | AV102: 2 | AW102: True | AX102: 0 | AY102: ROZPOCET
D103: VV | F103: Součet | H103: -35 | AT103: VV | AU103: 2 | AV103: 4 | AW103: True | AX103: 1 | AY103: ROZPOCET

Sheet 07 - KOLUMBÁRIUM
AT2: {12e068f8-e123-46e4-89ca-100ec925e7f4}
AT3: 2
D4: KRYCÍ LIST SOUPISU PRACÍ | M4: v --- níže se nacházejí doplnkové a pomocné údaje k sestavám --- v | AT4: False
D6: Stavba:
E7: ='Rekapitulace stavby'!K6 -> ÚPRAVY HŘBITOVA KBELY- ETAPA1
D8: Objekt:
E9: 01 - Navrhované objekty
D10: Soupis:
E11: 07 - KOLUMBÁRIUM
D13: KSO: | F13: 815 9 | I13: CC-CZ:
D14: Místo: | F14: Praha 9-Kbely | I14: Datum: | J14: ='Rekapitulace stavby'!AN8 -> 0
D16: Zadavatel: | I16: IČ: | J16: 00231304
E17: MČ Praha 19, Semilská 43/1, 197 00 Praha 9 - Kbely | I17: DIČ:
D19: Zhotovitel: | I19: IČ: | J19: 07395680
E20: IWU s.r.o. | I20: DIČ: | J20: CZ07395680
D22: Projektant: | I22: IČ:
E23: Ing.Jan Pustějovský, Ph.D. | I23: DIČ:
D25: Zpracovatel: | I25: IČ:
I26: DIČ:
D28: Poznámka:
E29: Položkový rozpočet zpracován v CS ÚRS s CH 2024/II na základě PD -10/2024
D32: Cena bez DPH | J32: =ROUND(J94, 2) -> 655733.58
F34: Základ daně | I34: Sazba daně | J34: Výše daně
D35: DPH | E35: základní | F35: =ROUND((SUM(BE94:BE200)), 2) -> 655733.58 | I35: 0.21 | J35: =ROUND(((SUM(BE94:BE200))*I35), 2) -> 137704.05
E36: snížená | F36: =ROUND((SUM(BF94:BF200)), 2) -> 0 | I36: 0.12 | J36: =ROUND(((SUM(BF94:BF200))*I36), 2) -> 0
E37: zákl. přenesená | F37: =ROUND((SUM(BG94:BG200)), 2) -> 0 | I37: 0.21 | J37: =0 -> 0
E38: sníž. přenesená | F38: =ROUND((SUM(BH94:BH200)), 2) -> 0 | I38: 0.12 | J38: =0 -> 0
E39: nulová | F39: =ROUND((SUM(BI94:BI200)), 2) -> 0 | I39: 0 | J39: =0 -> 0
D41: Cena s DPH | G41: v | H41: CZK | J41: =SUM(J32:J39) -> 793437.63
C47: REKAPITULACE ČLENĚNÍ SOUPISU PRACÍ
C49: Stavba:
E50: =E7 -> ÚPRAVY HŘBITOVA KBELY- ETAPA1
C51: Objekt:
E52: 01 - Navrhované objekty
C53: Soupis:
E54: =E11 -> 07 - KOLUMBÁRIUM
C56: Místo: | F56: =F14 -> Praha 9-Kbely | I56: Datum: | J56: =IF(J14="","",J14) -> 0
C58: Zadavatel: | F58: =E17 -> MČ Praha 19, Semilská 43/1, 197 00 Praha 9 - Kbely | I58: Projektant: | J58: =E23 -> Ing.Jan Pustějovský, Ph.D.
C59: Zhotovitel: | F59: =IF(E20="","",E20) -> IWU s.r.o. | I59: Zpracovatel: | J59: =E26
C61: Kód dílu - Popis | J61: Cena celkem [CZK]
C63: Náklady stavby celkem | J63: =J94 -> 655733.58 | AU63: -1
D64: HSV - Práce a dodávky HSV | J64: =J95 -> 224633.58
D65: 1 - Zemní práce | J65: =J96 -> 13193.5
D66: 2 - Zakládání | J66: =J109 -> 61393.21
D67: 3 - Svislé a kompletní konstrukce | J67: =J129 -> 113677.07
D68: 4 - Vodorovné konstrukce | J68: =J165 -> 19649.46
D69: 9 - Ostatní konstrukce a práce, bourání | J69: =J186 -> 4061.8
D70: 998 - Přesun hmot | J70: =J193 -> 12658.54
D71: PSV - PSV | J71: =J195 -> 431100
D72: ATYP - Atypické prvky | J72: =J196 -> 431100
C79: SOUPIS PRACÍ
C81: Stavba:
E82: =E7 -> ÚPRAVY HŘBITOVA KBELY- ETAPA1
C83: Objekt:
E84: 01 - Navrhované objekty
C85: Soupis:
E86: =E11 -> 07 - KOLUMBÁRIUM
C88: Místo: | F88: =F14 -> Praha 9-Kbely | I88: Datum: | J88: =IF(J14="","",J14) -> 0
C90: Zadavatel: | F90: =E17 -> MČ Praha 19, Semilská 43/1, 197 00 Praha 9 - Kbely | I90: Projektant: | J90: =E23 -> Ing.Jan Pustějovský, Ph.D.
C91: Zhotovitel: | F91: =IF(E20="","",E20) -> IWU s.r.o. | I91: Zpracovatel: | J91: =E26
C93: PČ | D93: Typ | E93: Kód | F93: Popis | G93: MJ | H93: Množství | I93: J.cena [CZK] | J93: Cena celkem [CZK] | K93: Cenová soustava | N93: DPH | O93: J. Nh [h] | P93: Nh celkem [h] | Q93: J. hmotnost [t] | R93: Hmotnost celkem [t] | S93: J. suť [t] | T93: Suť Celkem [t]
C94: Náklady soupisu celkem | J94: =BK94 -> 655733.58 | P94: =P95+P195 -> 0 | R94: =R95+R195 -> 40.834282 | T94: =T95+T195 -> 0 | AT94: D | AU94: -1 | BK94: =BK95+BK195 -> 655733.58
D95: D | E95: HSV | F95: Práce a dodávky HSV | J95: =BK95 -> 224633.58 | P95: =P96+P109+P129+P165+P186+P193 -> 0 | R95: =R96+R109+R129+R165+R186+R193 -> 40.834282 | T95: =T96+T109+T129+T165+T186+T193 -> 0 | AR95: 1 | AT95: D | AU95: 0 | AY95: ROZPOCET | BK95: =BK96+BK109+BK129+BK165+BK186+BK193 -> 224633.58
D96: D | E96: 1 | F96: Zemní práce | J96: =BK96 -> 13193.5 | P96: =SUM(P97:P108) -> 0 | R96: =SUM(R97:R108) -> 0 | T96: =SUM(T97:T108) -> 0 | AR96: 1 | AT96: D | AU96: 1 | AY96: ROZPOCET | BK96: =SUM(BK97:BK108) -> 13193.5
C97: 1 | D97: K | E97: 132251252 | F97: Hloubení nezapažených rýh šířky přes 800 do 2 000 mm strojně s urovnáním dna do předepsaného profilu a spádu v hornině třídy těžitelnosti I skupiny 3 přes 20 do 50 m3 | G97: m3 | H97: 9.516 | I97: 632.1 | J97: =ROUND(I97*H97,2) -> 6015.06 | N97: základní | O97: 0 | P97: =O97*H97 -> 0 | Q97: 0 | R97: =Q97*H97 -> 0 | S97: 0 | T97: =S97*H97 -> 0 | AR97: 4 | AT97: K | AU97: 2 | AY97: ROZPOCET | BE97: =IF(N97="základní",J97,0) -> 6015.06 | BF97: =IF(N97="snížená",J97,0) -> 0 | BG97: =IF(N97="zákl. přenesená",J97,0) -> 0 | BH97: =IF(N97="sníž. přenesená",J97,0) -> 0 | BI97: =IF(N97="nulová",J97,0) -> 0 | BJ97: 1 | BK97: =ROUND(I97*H97,2) -> 6015.06 | BL97: 4 | BM97: -458029228
D98: VV | F98: "150 mm sejmutá ornice - viz část 01a"6,1*1,95*0,8 | H98: 9.516 | AT98: VV | AU98: 2 | AV98: 2 | AW98: True | AX98: 1 | AY98: ROZPOCET
C99: 2 | D99: K | E99: 162751117 | F99: Vodorovné přemístění výkopku nebo sypaniny po suchu na obvyklém dopravním prostředku, bez naložení výkopku, avšak se složením bez rozhrnutí z horniny třídy těžitelnosti I skupiny 1 až 3 na vzdálenost přes 9 000 do 10 000 m | G99: m3 | H99: 5.551 | I99: 301.56 | J99: =ROUND(I99*H99,2) -> 1673.96 | N99: základní | O99: 0 | P99: =O99*H99 -> 0 | Q99: 0 | R99: =Q99*H99 -> 0 | S99: 0 | T99: =S99*H99 -> 0 | AR99: 4 | AT99: K | AU99: 2 | AY99: ROZPOCET | BE99: =IF(N99="základní",J99,0) -> 1673.96 | BF99: =IF(N99="snížená",J99,0) -> 0 | BG99: =IF(N99="zákl. přenesená",J99,0) -> 0 | BH99: =IF(N99="sníž. přenesená",J99,0) -> 0 | BI99: =IF(N99="nulová",J99,0) -> 0 | BJ99: 1 | BK99: =ROUND(I99*H99,2) -> 1673.96 | BL99: 4 | BM99: 200138123
D100: VV | F100: "zbývající zemina odvezena na skládku"9,516-3,965 | H100: 5.551 | AT100: VV | AU100: 2 | AV100: 2 | AW100: True | AX100: 1 | AY100: ROZPOCET
C101: 3 | D101: K | E101: 171201231 | F101: Poplatek za uložení stavebního odpadu na recyklační skládce (skládkovné) zeminy a kamení zatříděného do Katalogu odpadů pod kódem 17 05 04 | G101: t | H101: 9.437 | I101: 342 | J101: =ROUND(I101*H101,2) -> 3227.45 | N101: základní | O101: 0 | P101: =O101*H101 -> 0 | Q101: 0 | R101: =Q101*H101 -> 0 | S101: 0 | T101: =S101*H101 -> 0 | AR101: 4 | AT101: K | AU101: 2 | AY101: ROZPOCET | BE101: =IF(N101="základní",J101,0) -> 3227.45 | BF101: =IF(N101="snížená",J101,0) -> 0 | BG101: =IF(N101="zákl. přenesená",J101,0) -> 0 | BH101: =IF(N101="sníž. přenesená",J101,0) -> 0 | BI101: =IF(N101="nulová",J101,0) -> 0 | BJ101: 1 | BK101: =ROUND(I101*H101,2) -> 3227.45 | BL101: 4 | BM101: -2003763272
D102: VV | F102: 5,551*1,7 | H102: 9.437 | AT102: VV | AU102: 2 | AV102: 2 | AW102: True | AX102: 1 | AY102: ROZPOCET
C103: 4 | D103: K | E103: 174151101 | F103: Zásyp sypaninou z jakékoliv horniny strojně s uložením výkopku ve vrstvách se zhutněním jam, šachet, rýh nebo kolem objektů v těchto vykopávkách | G103: m3 | H103: 3.965 | I103: 257 | J103: =ROUND(I103*H103,2) -> 1019.01 | N103: základní | O103: 0 | P103: =O103*H103 -> 0 | Q103: 0 | R103: =Q103*H103 -> 0 | S103: 0 | T103: =S103*H103 -> 0 | AR103: 4 | AT103: K | AU103: 2 | AY103: ROZPOCET | BE103: =IF(N103="základní",J103,0) -> 1019.01 | BF103: =IF(N103="snížená",J103,0) -> 0 | BG103: =IF(N103="zákl. přenesená",J103,0) -> 0 | BH103: =IF(N103="sníž. přenesená",J103,0) -> 0 | BI103: =IF(N103="nulová",J103,0) -> 0 | BJ103: 1 | BK103: =ROUND(I103*H103,2) -> 1019.01 | BL103: 4 | BM103: 982218504
D104: VV | F104: 6,1*1,0*0,5+6,1*0,3*0,5 | H104: 3.965 | AT104: VV | AU104: 2 | AV104: 2 | AW104: True | AX104: 1 | AY104: ROZPOCET
C105: 5 | D105: K | E105: 167151101 | F105: Nakládání, skládání a překládání neulehlého výkopku nebo sypaniny strojně nakládání, množství do 100 m3, z horniny třídy těžitelnosti I, skupiny 1 až 3 | G105: m3 | H105: 3.965 | I105: 167.28 | J105: =ROUND(I105*H105,2) -> 663.27 | N105: základní | O105: 0 | P105: =O105*H105 -> 0 | Q105: 0 | R105: =Q105*H105 -> 0 | S105: 0 | T105: =S105*H105 -> 0 | AR105: 4 | AT105: K | AU105: 2 | AY105: ROZPOCET | BE105: =IF(N105="základní",J105,0) -> 663.27 | BF105: =IF(N105="snížená",J105,0) -> 0 | BG105: =IF(N105="zákl. přenesená",J105,0) -> 0 | BH105: =IF(N105="sníž. přenesená",J105,0) -> 0 | BI105: =IF(N105="nulová",J105,0) -> 0 | BJ105: 1 | BK105: =ROUND(I105*H105,2) -> 663.27 | BL105: 4 | BM105: -1489709210
D106: VV | F106: 6,1*1,0*0,5+6,1*0,3*0,5 | H106: 3.965 | AT106: VV | AU106: 2 | AV106: 2 | AW106: True | AX106: 1 | AY106: ROZPOCET
C107: 6 | D107: K | E107: 162251101 | F107: Vodorovné přemístění výkopku nebo sypaniny po suchu na obvyklém dopravním prostředku, bez naložení výkopku, avšak se složením bez rozhrnutí z horniny třídy těžitelnosti I skupiny 1 až 3 na vzdálenost do 20 m | G107: m3 | H107: 3.965 | I107: 150 | J107: =ROUND(I107*H107,2) -> 594.75 | N107: základní | O107: 0 | P107: =O107*H107 -> 0 | Q107: 0 | R107: =Q107*H107 -> 0 | S107: 0 | T107: =S107*H107 -> 0 | AR107: 4 | AT107: K | AU107: 2 | AY107: ROZPOCET | BE107: =IF(N107="základní",J107,0) -> 594.75 | BF107: =IF(N107="snížená",J107,0) -> 0 | BG107: =IF(N107="zákl. přenesená",J107,0) -> 0 | BH107: =IF(N107="sníž. přenesená",J107,0) -> 0 | BI107: =IF(N107="nulová",J107,0) -> 0 | BJ107: 1 | BK107: =ROUND(I107*H107,2) -> 594.75 | BL107: 4 | BM107: 794950183
D108: VV | F108: 6,1*1,0*0,5+6,1*0,3*0,5 | H108: 3.965 | AT108: VV | AU108: 2 | AV108: 2 | AW108: True | AX108: 1 | AY108: ROZPOCET
D109: D | E109: 2 | F109: Zakládání | J109: =BK109 -> 61393.21 | P109: =SUM(P110:P128) -> 0 | R109: =SUM(R110:R128) -> 19.793593 | T109: =SUM(T110:T128) -> 0 | AR109: 1 | AT109: D | AU109: 1 | AY109: ROZPOCET | BK109: =SUM(BK110:BK128) -> 61393.21
C110: 7 | D110: K | E110: 273321411 | F110: Základy z betonu železového (bez výztuže) desky z betonu bez zvláštních nároků na prostředí tř. C 20/25 | G110: m3 | H110: 1.952 | I110: 4201.47 | J110: =ROUND(I110*H110,2) -> 8201.27 | N110: základní | O110: 0 | P110: =O110*H110 -> 0 | Q110: 2.5018722 | R110: =Q110*H110 -> 4.8836545 | S110: 0 | T110: =S110*H110 -> 0 | AR110: 4 | AT110: K | AU110: 2 | AY110: ROZPOCET | BE110: =IF(N110="základní",J110,0) -> 8201.27 | BF110: =IF(N110="snížená",J110,0) -> 0 | BG110: =IF(N110="zákl. přenesená",J110,0) -> 0 | BH110: =IF(N110="sníž. přenesená",J110,0) -> 0 | BI110: =IF(N110="nulová",J110,0) -> 0 | BJ110: 1 | BK110: =ROUND(I110*H110,2) -> 8201.27 | BL110: 4 | BM110: 914952346
D111: VV | F111: 6,1*1,6*0,2 | H111: 1.952 | AT111: VV | AU111: 2 | AV111: 2 | AW111: True | AX111: 0 | AY111: ROZPOCET
D112: VV | F112: Součet | H112: 1.952 | AT112: VV | AU112: 2 | AV112: 4 | AW112: True | AX112: 1 | AY112: ROZPOCET
C113: 8 | D113: K | E113: 273362021 | F113: Výztuž základů desek ze svařovaných sítí z drátů typu KARI | G113: t | H113: 0.118 | I113: 38976.62 | J113: =ROUND(I113*H113,2) -> 4599.24 | N113: základní | O113: 0 | P113: =O113*H113 -> 0 | Q113: 1.0627728 | R113: =Q113*H113 -> 0.12540719 | S113: 0 | T113: =S113*H113 -> 0 | AR113: 4 | AT113: K | AU113: 2 | AY113: ROZPOCET | BE113: =IF(N113="základní",J113,0) -> 4599.24 | BF113: =IF(N113="snížená",J113,0) -> 0 | BG113: =IF(N113="zákl. přenesená",J113,0) -> 0 | BH113: =IF(N113="sníž. přenesená",J113,0) -> 0 | BI113: =IF(N113="nulová",J113,0) -> 0 | BJ113: 1 | BK113: =ROUND(I113*H113,2) -> 4599.24 | BL113: 4 | BM113: 1729700570
D114: VV | F114: "2x8-150/150, vč. ztratného 1,15" | AT114: VV | AU114: 2 | AV114: 1 | AW114: True | AX114: 0 | AY114: ROZPOCET
D115: VV | F115: "dle metodiky URS-směrné množství výztuže 5,267 kg/m2" | AT115: VV | AU115: 2 | AV115: 1 | AW115: True | AX115: 0 | AY115: ROZPOCET
D116: VV | F116: (6,1*1,6*5,267*2*1,15)/1000 | H116: 0.118 | AT116: VV | AU116: 2 | AV116: 2 | AW116: True | AX116: 1 | AY116: ROZPOCET
C117: 9 | D117: K | E117: 274321511 | F117: Základy z betonu železového (bez výztuže) pasy z betonu bez zvláštních nároků na prostředí tř. C 25/30 | G117: m3 | H117: 3.904 | I117: 4376.57 | J117: =ROUND(I117*H117,2) -> 17086.13 | N117: základní | O117: 0 | P117: =O117*H117 -> 0 | Q117: 2.50187 | R117: =Q117*H117 -> 9.7673005 | S117: 0 | T117: =S117*H117 -> 0 | AR117: 4 | AT117: K | AU117: 2 | AY117: ROZPOCET | BE117: =IF(N117="základní",J117,0) -> 17086.13 | BF117: =IF(N117="snížená",J117,0) -> 0 | BG117: =IF(N117="zákl. přenesená",J117,0) -> 0 | BH117: =IF(N117="sníž. přenesená",J117,0) -> 0 | BI117: =IF(N117="nulová",J117,0) -> 0 | BJ117: 1 | BK117: =ROUND(I117*H117,2) -> 17086.13 | BL117: 4 | BM117: 1676985399
D118: VV | F118: "sokl-viz řez"1,6*6,1*(0,4) | H118: 3.904 | AT118: VV | AU118: 2 | AV118: 2 | AW118: True | AX118: 1 | AY118: ROZPOCET
C119: 10 | D119: K | E119: 274361821 | F119: Výztuž základů pasů z betonářské oceli 10 505 (R) nebo BSt 500 | G119: t | H119: 0.39 | I119: 39000 | J119: =ROUND(I119*H119,2) -> 15210 | N119: základní | O119: 0 | P119: =O119*H119 -> 0 | Q119: 1.06062 | R119: =Q119*H119 -> 0.4136418 | S119: 0 | T119: =S119*H119 -> 0 | AR119: 4 | AT119: K | AU119: 2 | AY119: ROZPOCET | BE119: =IF(N119="základní",J119,0) -> 15210 | BF119: =IF(N119="snížená",J119,0) -> 0 | BG119: =IF(N119="zákl. přenesená",J119,0) -> 0 | BH119: =IF(N119="sníž. přenesená",J119,0) -> 0 | BI119: =IF(N119="nulová",J119,0) -> 0 | BJ119: 1 | BK119: =ROUND(I119*H119,2) -> 15210 | BL119: 4 | BM119: -1734551248
D120: VV | F120: "B500B" | AT120: VV | AU120: 2 | AV120: 1 | AW120: True | AX120: 0 | AY120: ROZPOCET
D121: VV | F121: "dle metodiky URS-směrné množství výztuže 100 kg/m3" | AT121: VV | AU121: 2 | AV121: 1 | AW121: True | AX121: 0 | AY121: ROZPOCET
D122: VV | F122: 1,6*6,1*(0,4)*0,1 | H122: 0.39 | AT122: VV | AU122: 2 | AV122: 2 | AW122: True | AX122: 1 | AY122: ROZPOCET
C123: 11 | D123: K | E123: 279113144 | F123: Základové zdi z tvárnic ztraceného bednění včetně výplně z betonu bez zvláštních nároků na vliv prostředí třídy C 20/25, tloušťky zdiva přes 250 do 300 mm | G123: m2 | H123: 6.1 | I123: 1968.29 | J123: =ROUND(I123*H123,2) -> 12006.57 | N123: základní | O123: 0 | P123: =O123*H123 -> 0 | Q123: 0.73558274 | R123: =Q123*H123 -> 4.4870547 | S123: 0 | T123: =S123*H123 -> 0 | AR123: 4 | AT123: K | AU123: 2 | AY123: ROZPOCET | BE123: =IF(N123="základní",J123,0) -> 12006.57 | BF123: =IF(N123="snížená",J123,0) -> 0 | BG123: =IF(N123="zákl. přenesená",J123,0) -> 0 | BH123: =IF(N123="sníž. přenesená",J123,0) -> 0 | BI123: =IF(N123="nulová",J123,0) -> 0 | BJ123: 1 | BK123: =ROUND(I123*H123,2) -> 12006.57 | BL123: 4 | BM123: 18907597
D124: VV | F124: 6,1*0,5*2 | H124: 6.1 | AT124: VV | AU124: 2 | AV124: 2 | AW124: True | AX124: 1 | AY124: ROZPOCET
C125: 12 | D125: K | E125: 279361821 | F125: Výztuž základových zdí nosných svislých nebo odkloněných od svislice, rovinných nebo oblých, deskových nebo žebrových, včetně výztuže jejich žeber z betonářské oceli 10 505 (R) nebo BSt 500 | G125: t | H125: 0.11 | I125: 39000 | J125: =ROUND(I125*H125,2) -> 4290 | N125: základní | O125: 0 | P125: =O125*H125 -> 0 | Q125: 1.0594031 | R125: =Q125*H125 -> 0.11653434 | S125: 0 | T125: =S125*H125 -> 0 | AR125: 4 | AT125: K | AU125: 2 | AY125: ROZPOCET | BE125: =IF(N125="základní",J125,0) -> 4290 | BF125: =IF(N125="snížená",J125,0) -> 0 | BG125: =IF(N125="zákl. přenesená",J125,0) -> 0 | BH125: =IF(N125="sníž. přenesená",J125,0) -> 0 | BI125: =IF(N125="nulová",J125,0) -> 0 | BJ125: 1 | BK125: =ROUND(I125*H125,2) -> 4290 | BL125: 4 | BM125: -1693461283
D126: VV | F126: "B500B" | AT126: VV | AU126: 2 | AV126: 1 | AW126: True | AX126: 0 | AY126: ROZPOCET
D127: VV | F127: "do ztraceného bednění, dle směrného množství výztuže dle CS ÚRS je cca 40-60 kg/m3" | AT127: VV | AU127: 2 | AV127: 1 | AW127: True | AX127: 0 | AY127: ROZPOCET
D128: VV | F128: (6,1*0,5*2*0,3)*60/1000 | H128: 0.11 | AT128: VV | AU128: 2 | AV128: 2 | AW128: True | AX128: 1 | AY128: ROZPOCET
D129: D | E129: 3 | F129: Svislé a kompletní konstrukce | J129: =BK129 -> 113677.07 | P129: =SUM(P130:P164) -> 0 | R129: =SUM(R130:R164) -> 18.579751 | T129: =SUM(T130:T164) -> 0 | AR129: 1 | AT129: D | AU129: 1 | AY129: ROZPOCET | BK129: =SUM(BK130:BK164) -> 113677.07
C130: 13 | D130: K | E130: 311321814 | F130: Nadzákladové zdi z betonu železového (bez výztuže) nosné pohledového (v přírodní barvě drtí a přísad) tř. C 25/30 | G130: m3 | H130: 7.115 | I130: 7900 | J130: =ROUND(I130*H130,2) -> 56208.5 | N130: základní | O130: 0 | P130: =O130*H130 -> 0 | Q130: 2.50187 | R130: =Q130*H130 -> 17.800805 | S130: 0 | T130: =S130*H130 -> 0 | AR130: 4 | AT130: K | AU130: 2 | AY130: ROZPOCET | BE130: =IF(N130="základní",J130,0) -> 56208.5 | BF130: =IF(N130="snížená",J130,0) -> 0 | BG130: =IF(N130="zákl. přenesená",J130,0) -> 0 | BH130: =IF(N130="sníž. přenesená",J130,0) -> 0 | BI130: =IF(N130="nulová",J130,0) -> 0 | BJ130: 1 | BK130: =ROUND(I130*H130,2) -> 56208.5 | BL130: 4 | BM130: 478383079
D131: VV | F131: "nadsoklová část vč. soklu nad terénem" | AT131: VV | AU131: 2 | AV131: 1 | AW131: True | AX131: 0 | AY131: ROZPOCET
D132: VV | F132: 6,1*1,6*0,25+6,1*1,0*0,25 | H132: 3.965 | AT132: VV | AU132: 2 | AV132: 2 | AW132: True | AX132: 0 | AY132: ROZPOCET
...

Sheet ZBV-02a - méněpráce
AT2: {cfb8e07d-c672-4f8f-9ba4-6d0691c03800}
AT3: 2
D4: KRYCÍ LIST SOUPISU PRACÍ | M4: v --- níže se nacházejí doplnkové a pomocné údaje k sestavám --- v | AT4: False
D6: Stavba:
E7: ='Rekapitulace stavby'!K6 -> ÚPRAVY HŘBITOVA KBELY- ETAPA1
D8: Objekt:
E9: 01 - Navrhované objekty
D10: Soupis:
E11: 07 - KOLUMBÁRIUM
D12: Úroveň 3:
E13: ZBV-02a - méněpráce
D15: KSO: | F15: 815 9 | I15: CC-CZ:
D16: Místo: | F16: Praha 9-Kbely | I16: Datum: | J16: ='Rekapitulace stavby'!AN8 -> 0
D18: Zadavatel: | I18: IČ: | J18: 00231304
E19: MČ Praha 19, Semilská 43/1, 197 00 Praha 9 - Kbely | I19: DIČ:
D21: Zhotovitel: | I21: IČ: | J21: 07395680
E22: IWU s.r.o. | I22: DIČ: | J22: CZ07395680
D24: Projektant: | I24: IČ:
E25: Ing.Jan Pustějovský, Ph.D. | I25: DIČ:
D27: Zpracovatel: | I27: IČ:
I28: DIČ:
D30: Poznámka:
D34: Cena bez DPH | J34: =ROUND(J94, 2) -> -55452.53
F36: Základ daně | I36: Sazba daně | J36: Výše daně
D37: DPH | E37: základní | F37: =ROUND((SUM(BE94:BE145)), 2) -> -55452.53 | I37: 0.21 | J37: =ROUND(((SUM(BE94:BE145))*I37), 2) -> -11645.03
E38: snížená | F38: =ROUND((SUM(BF94:BF145)), 2) -> 0 | I38: 0.12 | J38: =ROUND(((SUM(BF94:BF145))*I38), 2) -> 0
E39: zákl. přenesená | F39: =ROUND((SUM(BG94:BG145)), 2) -> 0 | I39: 0.21 | J39: =0 -> 0
E40: sníž. přenesená | F40: =ROUND((SUM(BH94:BH145)), 2) -> 0 | I40: 0.12 | J40: =0 -> 0
E41: nulová | F41: =ROUND((SUM(BI94:BI145)), 2) -> 0 | I41: 0 | J41: =0 -> 0
D43: Cena s DPH | G43: v | H43: CZK | J43: =SUM(J34:J41) -> -67097.56
C49: REKAPITULACE ČLENĚNÍ SOUPISU PRACÍ
C51: Stavba:
E52: =E7 -> ÚPRAVY HŘBITOVA KBELY- ETAPA1
C53: Objekt:
E54: 01 - Navrhované objekty
C55: Soupis:
E56: 07 - KOLUMBÁRIUM
C57: Úroveň 3:
E58: =E13 -> ZBV-02a - méněpráce
C60: Místo: | F60: =F16 -> Praha 9-Kbely | I60: Datum: | J60: =IF(J16="","",J16) -> 0
C62: Zadavatel: | F62: =E19 -> MČ Praha 19, Semilská 43/1, 197 00 Praha 9 - Kbely | I62: Projektant: | J62: =E25 -> Ing.Jan Pustějovský, Ph.D.
C63: Zhotovitel: | F63: =IF(E22="","",E22) -> IWU s.r.o. | I63: Zpracovatel: | J63: =E28
C65: Kód dílu - Popis | J65: Cena celkem [CZK]
C67: Náklady stavby celkem | J67: =J94 -> -55452.53 | AU67: -1
D68: HSV - Práce a dodávky HSV | J68: =J95 -> -55452.53
D69: 3 - Svislé a kompletní konstrukce | J69: =J96 -> -46063.57
D70: 4 - Vodorovné konstrukce | J70: =J117 -> -9388.96
C77: SOUPIS PRACÍ
C79: Stavba:
E80: =E7 -> ÚPRAVY HŘBITOVA KBELY- ETAPA1
C81: Objekt:
E82: 01 - Navrhované objekty
C83: Soupis:
E84: 07 - KOLUMBÁRIUM
C85: Úroveň 3:
E86: =E13 -> ZBV-02a - méněpráce
C88: Místo: | F88: =F16 -> Praha 9-Kbely | I88: Datum: | J88: =IF(J16="","",J16) -> 0
C90: Zadavatel: | F90: =E19 -> MČ Praha 19, Semilská 43/1, 197 00 Praha 9 - Kbely | I90: Projektant: | J90: =E25 -> Ing.Jan Pustějovský, Ph.D.
C91: Zhotovitel: | F91: =IF(E22="","",E22) -> IWU s.r.o. | I91: Zpracovatel: | J91: =E28
C93: PČ | D93: Typ | E93: Kód | F93: Popis | G93: MJ | H93: Množství | I93: J.cena [CZK] | J93: Cena celkem [CZK] | K93: Cenová soustava | N93: DPH | O93: J. Nh [h] | P93: Nh celkem [h] | Q93: J. hmotnost [t] | R93: Hmotnost celkem [t] | S93: J. suť [t] | T93: Suť Celkem [t]
C94: Náklady soupisu celkem | J94: =BK94 -> -55452.53 | P94: =P95 -> 0 | R94: =R95 -> -3.0560351 | T94: =T95 -> 0 | AT94: D | AU94: -1 | BK94: =BK95 -> -55452.53
D95: D | E95: HSV | F95: Práce a dodávky HSV | J95: =BK95 -> -55452.53 | P95: =P96+P117 -> 0 | R95: =R96+R117 -> -3.0560351 | T95: =T96+T117 -> 0 | AR95: 1 | AT95: D | AU95: 0 | AY95: ROZPOCET | BK95: =BK96+BK117 -> -55452.53
D96: D | E96: 3 | F96: Svislé a kompletní konstrukce | J96: =BK96 -> -46063.57 | P96: =SUM(P97:P116) -> 0 | R96: =SUM(R97:R116) -> -2.7376386 | T96: =SUM(T97:T116) -> 0 | AR96: 1 | AT96: D | AU96: 1 | AY96: ROZPOCET | BK96: =SUM(BK97:BK116) -> -46063.57
C97: 13 | D97: K | E97: 311321814 | F97: Nadzákladové zdi z betonu železového (bez výztuže) nosné pohledového (v přírodní barvě drtí a přísad) tř. C 25/30 | G97: m3 | H97: -1 | I97: 7900 | J97: =ROUND(I97*H97,2) -> -7900 | N97: základní | O97: 0 | P97: =O97*H97 -> 0 | Q97: 2.50187 | R97: =Q97*H97 -> -2.50187 | S97: 0 | T97: =S97*H97 -> 0 | AR97: 4 | AT97: K | AU97: 2 | AY97: ROZPOCET | BE97: =IF(N97="základní",J97,0) -> -7900 | BF97: =IF(N97="snížená",J97,0) -> 0 | BG97: =IF(N97="zákl. přenesená",J97,0) -> 0 | BH97: =IF(N97="sníž. přenesená",J97,0) -> 0 | BI97: =IF(N97="nulová",J97,0) -> 0 | BJ97: 1 | BK97: =ROUND(I97*H97,2) -> -7900 | BL97: 4 | BM97: -1701607399
D98: VV | F98: "původní množství dle SOD" -7,115 | H98: -7.115 | AT98: VV | AU98: 2 | AV98: 2 | AW98: True | AX98: 0 | AY98: ROZPOCET
D99: VV | F99: "nové množství dle ZBV" 6,115 | H99: 6.115 | AT99: VV | AU99: 2 | AV99: 2 | AW99: True | AX99: 0 | AY99: ROZPOCET
D100: VV | F100: Součet | H100: -1 | AT100: VV | AU100: 2 | AV100: 4 | AW100: True | AX100: 1 | AY100: ROZPOCET
C101: 14 | D101: K | E101: 311351121 | F101: Bednění nadzákladových zdí nosných rovné oboustranné za každou stranu zřízení | G101: m2 | H101: -26.93 | I101: 755 | J101: =ROUND(I101*H101,2) -> -20332.15 | N101: základní | O101: 0 | P101: =O101*H101 -> 0 | Q101: 0.00275 | R101: =Q101*H101 -> -0.0740575 | S101: 0 | T101: =S101*H101 -> 0 | AR101: 4 | AT101: K | AU101: 2 | AY101: ROZPOCET | BE101: =IF(N101="základní",J101,0) -> -20332.15 | BF101: =IF(N101="snížená",J101,0) -> 0 | BG101: =IF(N101="zákl. přenesená",J101,0) -> 0 | BH101: =IF(N101="sníž. přenesená",J101,0) -> 0 | BI101: =IF(N101="nulová",J101,0) -> 0 | BJ101: 1 | BK101: =ROUND(I101*H101,2) -> -20332.15 | BL101: 4 | BM101: -2081802309
D102: VV | F102: "původní množství dle SOD" -26,930 | H102: -26.93 | AT102: VV | AU102: 2 | AV102: 2 | AW102: True | AX102: 0 | AY102: ROZPOCET
D103: VV | F103: "nové množství dle ZBV" 0 | H103: 0 | AT103: VV | AU103: 2 | AV103: 2 | AW103: True | AX103: 0 | AY103: ROZPOCET
D104: VV | F104: Součet | H104: -26.93 | AT104: VV | AU104: 2 | AV104: 4 | AW104: True | AX104: 1 | AY104: ROZPOCET
C105: 15 | D105: K | E105: 311351122 | F105: Bednění nadzákladových zdí nosných rovné oboustranné za každou stranu odstranění | G105: m2 | H105: -26.93 | I105: 378 | J105: =ROUND(I105*H105,2) -> -10179.54 | N105: základní | O105: 0 | P105: =O105*H105 -> 0 | Q105: 0 | R105: =Q105*H105 -> 0 | S105: 0 | T105: =S105*H105 -> 0 | AR105: 4 | AT105: K | AU105: 2 | AY105: ROZPOCET | BE105: =IF(N105="základní",J105,0) -> -10179.54 | BF105: =IF(N105="snížená",J105,0) -> 0 | BG105: =IF(N105="zákl. přenesená",J105,0) -> 0 | BH105: =IF(N105="sníž. přenesená",J105,0) -> 0 | BI105: =IF(N105="nulová",J105,0) -> 0 | BJ105: 1 | BK105: =ROUND(I105*H105,2) -> -10179.54 | BL105: 4 | BM105: -866188603
D106: VV | F106: "původní množství dle SOD" -26,930 | H106: -26.93 | AT106: VV | AU106: 2 | AV106: 2 | AW106: True | AX106: 0 | AY106: ROZPOCET
D107: VV | F107: "nové množství dle ZBV" 0 | H107: 0 | AT107: VV | AU107: 2 | AV107: 2 | AW107: True | AX107: 0 | AY107: ROZPOCET
D108: VV | F108: Součet | H108: -26.93 | AT108: VV | AU108: 2 | AV108: 4 | AW108: True | AX108: 1 | AY108: ROZPOCET
C109: 16 | D109: K | E109: 311351911 | F109: Bednění nadzákladových zdí nosných Příplatek k cenám bednění za pohledový beton | G109: m2 | H109: -10.125 | I109: 255 | J109: =ROUND(I109*H109,2) -> -2581.88 | N109: základní | O109: 0 | P109: =O109*H109 -> 0 | Q109: 0.0025 | R109: =Q109*H109 -> -0.0253125 | S109: 0 | T109: =S109*H109 -> 0 | AR109: 4 | AT109: K | AU109: 2 | AY109: ROZPOCET | BE109: =IF(N109="základní",J109,0) -> -2581.88 | BF109: =IF(N109="snížená",J109,0) -> 0 | BG109: =IF(N109="zákl. přenesená",J109,0) -> 0 | BH109: =IF(N109="sníž. přenesená",J109,0) -> 0 | BI109: =IF(N109="nulová",J109,0) -> 0 | BJ109: 1 | BK109: =ROUND(I109*H109,2) -> -2581.88 | BL109: 4 | BM109: -1064836484
D110: VV | F110: "původní množství dle SOD" -10,125 | H110: -10.125 | AT110: VV | AU110: 2 | AV110: 2 | AW110: True | AX110: 0 | AY110: ROZPOCET
D111: VV | F111: "nové množství dle ZBV" 0 | H111: 0 | AT111: VV | AU111: 2 | AV111: 2 | AW111: True | AX111: 0 | AY111: ROZPOCET
D112: VV | F112: Součet | H112: -10.125 | AT112: VV | AU112: 2 | AV112: 4 | AW112: True | AX112: 1 | AY112: ROZPOCET
C113: 17 | D113: K | E113: 311361821 | F113: Výztuž nadzákladových zdí nosných svislých nebo odkloněných od svislice, rovných nebo oblých z betonářské oceli 10 505 (R) nebo BSt 500 | G113: t | H113: -0.13 | I113: 39000 | J113: =ROUND(I113*H113,2) -> -5070 | N113: základní | O113: 0 | P113: =O113*H113 -> 0 | Q113: 1.04922 | R113: =Q113*H113 -> -0.1363986 | S113: 0 | T113: =S113*H113 -> 0 | AR113: 4 | AT113: K | AU113: 2 | AY113: ROZPOCET | BE113: =IF(N113="základní",J113,0) -> -5070 | BF113: =IF(N113="snížená",J113,0) -> 0 | BG113: =IF(N113="zákl. přenesená",J113,0) -> 0 | BH113: =IF(N113="sníž. přenesená",J113,0) -> 0 | BI113: =IF(N113="nulová",J113,0) -> 0 | BJ113: 1 | BK113: =ROUND(I113*H113,2) -> -5070 | BL113: 4 | BM113: 38389062
D114: VV | F114: "původní množství dle SOD" -0,515 | H114: -0.515 | AT114: VV | AU114: 2 | AV114: 2 | AW114: True | AX114: 0 | AY114: ROZPOCET
D115: VV | F115: "nové množství dle ZBV" 0,385 | H115: 0.385 | AT115: VV | AU115: 2 | AV115: 2 | AW115: True | AX115: 0 | AY115: ROZPOCET
D116: VV | F116: Součet | H116: -0.13 | AT116: VV | AU116: 2 | AV116: 4 | AW116: True | AX116: 1 | AY116: ROZPOCET
D117: D | E117: 4 | F117: Vodorovné konstrukce | J117: =BK117 -> -9388.96 | P117: =SUM(P118:P145) -> 0 | R117: =SUM(R118:R145) -> -0.3183965 | T117: =SUM(T118:T145) -> 0 | AR117: 1 | AT117: D | AU117: 1 | AY117: ROZPOCET | BK117: =SUM(BK118:BK145) -> -9388.96
C118: 19 | D118: K | E118: 411324444 | F118: Stropy z betonu železového (bez výztuže) pohledového stropů deskových, plochých střech, desek balkonových, desek hřibových stropů včetně hlavic hřibových sloupů tř. C 25/30 | G118: m3 | H118: -0.1 | I118: 7900 | J118: =ROUND(I118*H118,2) -> -790 | N118: základní | O118: 0 | P118: =O118*H118 -> 0 | Q118: 2.50201 | R118: =Q118*H118 -> -0.250201 | S118: 0 | T118: =S118*H118 -> 0 | AR118: 4 | AT118: K | AU118: 2 | AY118: ROZPOCET | BE118: =IF(N118="základní",J118,0) -> -790 | BF118: =IF(N118="snížená",J118,0) -> 0 | BG118: =IF(N118="zákl. přenesená",J118,0) -> 0 | BH118: =IF(N118="sníž. přenesená",J118,0) -> 0 | BI118: =IF(N118="nulová",J118,0) -> 0 | BJ118: 1 | BK118: =ROUND(I118*H118,2) -> -790 | BL118: 4 | BM118: -2097927788
D119: VV | F119: "původní množství dle SOD" -0,915 | H119: -0.915 | AT119: VV | AU119: 2 | AV119: 2 | AW119: True | AX119: 0 | AY119: ROZPOCET
D120: VV | F120: "nové množství dle ZBV" 0,815 | H120: 0.815 | AT120: VV | AU120: 2 | AV120: 2 | AW120: True | AX120: 0 | AY120: ROZPOCET
D121: VV | F121: Součet | H121: -0.1 | AT121: VV | AU121: 2 | AV121: 4 | AW121: True | AX121: 1 | AY121: ROZPOCET
C122: 20 | D122: K | E122: 411351011 | F122: Bednění stropních konstrukcí - bez podpěrné konstrukce desek tloušťky stropní desky přes 5 do 25 cm zřízení | G122: m2 | H122: -6.13 | I122: 622 | J122: =ROUND(I122*H122,2) -> -3812.86 | N122: základní | O122: 0 | P122: =O122*H122 -> 0 | Q122: 0.00533 | R122: =Q122*H122 -> -0.0326729 | S122: 0 | T122: =S122*H122 -> 0 | AR122: 4 | AT122: K | AU122: 2 | AY122: ROZPOCET | BE122: =IF(N122="základní",J122,0) -> -3812.86 | BF122: =IF(N122="snížená",J122,0) -> 0 | BG122: =IF(N122="zákl. přenesená",J122,0) -> 0 | BH122: =IF(N122="sníž. přenesená",J122,0) -> 0 | BI122: =IF(N122="nulová",J122,0) -> 0 | BJ122: 1 | BK122: =ROUND(I122*H122,2) -> -3812.86 | BL122: 4 | BM122: 135163575
D123: VV | F123: "původní množství dle SOD" -6,130 | H123: -6.13 | AT123: VV | AU123: 2 | AV123: 2 | AW123: True | AX123: 0 | AY123: ROZPOCET
D124: VV | F124: "nové množství dle ZBV" 0 | H124: 0 | AT124: VV | AU124: 2 | AV124: 2 | AW124: True | AX124: 0 | AY124: ROZPOCET
D125: VV | F125: Součet | H125: -6.13 | AT125: VV | AU125: 2 | AV125: 4 | AW125: True | AX125: 1 | AY125: ROZPOCET
C126: 21 | D126: K | E126: 411351012 | F126: Bednění stropních konstrukcí - bez podpěrné konstrukce desek tloušťky stropní desky přes 5 do 25 cm odstranění | G126: m2 | H126: -6.13 | I126: 275 | J126: =ROUND(I126*H126,2) -> -1685.75 | N126: základní | O126: 0 | P126: =O126*H126 -> 0 | Q126: 0 | R126: =Q126*H126 -> 0 | S126: 0 | T126: =S126*H126 -> 0 | AR126: 4 | AT126: K | AU126: 2 | AY126: ROZPOCET | BE126: =IF(N126="základní",J126,0) -> -1685.75 | BF126: =IF(N126="snížená",J126,0) -> 0 | BG126: =IF(N126="zákl. přenesená",J126,0) -> 0 | BH126: =IF(N126="sníž. přenesená",J126,0) -> 0 | BI126: =IF(N126="nulová",J126,0) -> 0 | BJ126: 1 | BK126: =ROUND(I126*H126,2) -> -1685.75 | BL126: 4 | BM126: 1539253361
D127: VV | F127: "původní množství dle SOD" -6,130 | H127: -6.13 | AT127: VV | AU127: 2 | AV127: 2 | AW127: True | AX127: 0 | AY127: ROZPOCET
D128: VV | F128: "nové množství dle ZBV" 0 | H128: 0 | AT128: VV | AU128: 2 | AV128: 2 | AW128: True | AX128: 0 | AY128: ROZPOCET
D129: VV | F129: Součet | H129: -6.13 | AT129: VV | AU129: 2 | AV129: 4 | AW129: True | AX129: 1 | AY129: ROZPOCET
C130: 22 | D130: K | E130: 411354311 | F130: Podpěrná konstrukce stropů - desek, kleneb a skořepin výška podepření do 4 m tloušťka stropu přes 5 do 15 cm zřízení | G130: m2 | H130: -4 | I130: 206.8 | J130: =ROUND(I130*H130,2) -> -827.2 | N130: základní | O130: 0 | P130: =O130*H130 -> 0 | Q130: 0.00081 | R130: =Q130*H130 -> -0.00324 | S130: 0 | T130: =S130*H130 -> 0 | AR130: 4 | AT130: K | AU130: 2 | AY130: ROZPOCET | BE130: =IF(N130="základní",J130,0) -> -827.2 | BF130: =IF(N130="snížená",J130,0) -> 0 | BG130: =IF(N130="zákl. přenesená",J130,0) -> 0 | BH130: =IF(N130="sníž. přenesená",J130,0) -> 0 | BI130: =IF(N130="nulová",J130,0) -> 0 | BJ130: 1 | BK130: =ROUND(I130*H130,2) -> -827.2 | BL130: 4 | BM130: -2066782402
D131: VV | F131: "původní množství dle SOD" -4 | H131: -4 | AT131: VV | AU131: 2 | AV131: 2 | AW131: True | AX131: 0 | AY131: ROZPOCET
D132: VV | F132: "nové množství dle ZBV" 0 | H132: 0 | AT132: VV | AU132: 2 | AV132: 2 | AW132: True | AX132: 0 | AY132: ROZPOCET
D133: VV | F133: Součet | H133: -4 | AT133: VV | AU133: 2 | AV133: 4 | AW133: True | AX133: 1 | AY133: ROZPOCET
...

Sheet ZBV-02b - vícepráce
AT2: {bd2d8957-1601-43b4-b23e-5631e3c54041}
AT3: 2
D4: KRYCÍ LIST SOUPISU PRACÍ | M4: v --- níže se nacházejí doplnkové a pomocné údaje k sestavám --- v | AT4: False
D6: Stavba:
E7: ='Rekapitulace stavby'!K6 -> ÚPRAVY HŘBITOVA KBELY- ETAPA1
D8: Objekt:
E9: 01 - Navrhované objekty
D10: Soupis:
E11: 07 - KOLUMBÁRIUM
D12: Úroveň 3:
E13: ZBV-02b - vícepráce
D15: KSO: | F15: 815 9 | I15: CC-CZ:
D16: Místo: | F16: Praha 9-Kbely | I16: Datum: | J16: ='Rekapitulace stavby'!AN8 -> 0
D18: Zadavatel: | I18: IČ: | J18: 00231304
E19: MČ Praha 19, Semilská 43/1, 197 00 Praha 9 - Kbely | I19: DIČ:
D21: Zhotovitel: | I21: IČ: | J21: 07395680
E22: IWU s.r.o. | I22: DIČ: | J22: CZ07395680
D24: Projektant: | I24: IČ:
E25: Ing.Jan Pustějovský, Ph.D. | I25: DIČ:
D27: Zpracovatel: | I27: IČ:
I28: DIČ:
D30: Poznámka:
D34: Cena bez DPH | J34: =ROUND(J94, 2) -> 89552.2
F36: Základ daně | I36: Sazba daně | J36: Výše daně
D37: DPH | E37: základní | F37: =ROUND((SUM(BE94:BE110)), 2) -> 89552.2 | I37: 0.21 | J37: =ROUND(((SUM(BE94:BE110))*I37), 2) -> 18805.96
E38: snížená | F38: =ROUND((SUM(BF94:BF110)), 2) -> 0 | I38: 0.12 | J38: =ROUND(((SUM(BF94:BF110))*I38), 2) -> 0
E39: zákl. přenesená | F39: =ROUND((SUM(BG94:BG110)), 2) -> 0 | I39: 0.21 | J39: =0 -> 0
E40: sníž. přenesená | F40: =ROUND((SUM(BH94:BH110)), 2) -> 0 | I40: 0.12 | J40: =0 -> 0
E41: nulová | F41: =ROUND((SUM(BI94:BI110)), 2) -> 0 | I41: 0 | J41: =0 -> 0
D43: Cena s DPH | G43: v | H43: CZK | J43: =SUM(J34:J41) -> 108358.16
C49: REKAPITULACE ČLENĚNÍ SOUPISU PRACÍ
C51: Stavba:
E52: =E7 -> ÚPRAVY HŘBITOVA KBELY- ETAPA1
C53: Objekt:
E54: 01 - Navrhované objekty
C55: Soupis:
E56: 07 - KOLUMBÁRIUM
C57: Úroveň 3:
E58: =E13 -> ZBV-02b - vícepráce
C60: Místo: | F60: =F16 -> Praha 9-Kbely | I60: Datum: | J60: =IF(J16="","",J16) -> 0
C62: Zadavatel: | F62: =E19 -> MČ Praha 19, Semilská 43/1, 197 00 Praha 9 - Kbely | I62: Projektant: | J62: =E25 -> Ing.Jan Pustějovský, Ph.D.
C63: Zhotovitel: | F63: =IF(E22="","",E22) -> IWU s.r.o. | I63: Zpracovatel: | J63: =E28
C65: Kód dílu - Popis | J65: Cena celkem [CZK]
C67: Náklady stavby celkem | J67: =J94 -> 89552.2 | AU67: -1
D68: HSV - Práce a dodávky HSV | J68: =J95 -> 89552.2
D69: 3 - Svislé a kompletní konstrukce | J69: =J96 -> 57650
D70: 998 - Přesun hmot | J70: =J103 -> 31902.2
C77: SOUPIS PRACÍ
C79: Stavba:
E80: =E7 -> ÚPRAVY HŘBITOVA KBELY- ETAPA1
C81: Objekt:
E82: 01 - Navrhované objekty
C83: Soupis:
E84: 07 - KOLUMBÁRIUM
C85: Úroveň 3:
E86: =E13 -> ZBV-02b - vícepráce
C88: Místo: | F88: =F16 -> Praha 9-Kbely | I88: Datum: | J88: =IF(J16="","",J16) -> 0
C90: Zadavatel: | F90: =E19 -> MČ Praha 19, Semilská 43/1, 197 00 Praha 9 - Kbely | I90: Projektant: | J90: =E25 -> Ing.Jan Pustějovský, Ph.D.
C91: Zhotovitel: | F91: =IF(E22="","",E22) -> IWU s.r.o. | I91: Zpracovatel: | J91: =E28
C93: PČ | D93: Typ | E93: Kód | F93: Popis | G93: MJ | H93: Množství | I93: J.cena [CZK] | J93: Cena celkem [CZK] | K93: Cenová soustava | N93: DPH | O93: J. Nh [h] | P93: Nh celkem [h] | Q93: J. hmotnost [t] | R93: Hmotnost celkem [t] | S93: J. suť [t] | T93: Suť Celkem [t]
C94: Náklady soupisu celkem | J94: =BK94 -> 89552.2 | P94: =P95 -> 19.804318 | R94: =R95 -> 7.23716 | T94: =T95 -> 0 | AT94: D | AU94: -1 | BK94: =BK95 -> 89552.2
D95: D | E95: HSV | F95: Práce a dodávky HSV | J95: =BK95 -> 89552.2 | P95: =P96+P103 -> 19.804318 | R95: =R96+R103 -> 7.23716 | T95: =T96+T103 -> 0 | AR95: 1 | AT95: D | AU95: 0 | AY95: ROZPOCET | BK95: =BK96+BK103 -> 89552.2
D96: D | E96: 3 | F96: Svislé a kompletní konstrukce | J96: =BK96 -> 57650 | P96: =SUM(P97:P102) -> 3.88 | R96: =SUM(R97:R102) -> 7.23716 | T96: =SUM(T97:T102) -> 0 | AR96: 1 | AT96: D | AU96: 1 | AY96: ROZPOCET | BK96: =SUM(BK97:BK102) -> 57650
C97: 1 | D97: K | E97: 342123911 | F97: Montáž dílců obvodových stěn ze železobetonu s nesvařovanými spoji, v budovách výšky do 18 m, hmotnosti do 1,5 t | G97: kus | H97: 2 | I97: 1490 | J97: =ROUND(I97*H97,2) -> 2980 | K97: CS ÚRS 2025 02 | N97: základní | O97: 1.224 | P97: =O97*H97 -> 2.448 | Q97: 0.10753 | R97: =Q97*H97 -> 0.21506 | S97: 0 | T97: =S97*H97 -> 0 | AR97: 4 | AT97: K | AU97: 2 | AY97: ROZPOCET | BE97: =IF(N97="základní",J97,0) -> 2980 | BF97: =IF(N97="snížená",J97,0) -> 0 | BG97: =IF(N97="zákl. přenesená",J97,0) -> 0 | BH97: =IF(N97="sníž. přenesená",J97,0) -> 0 | BI97: =IF(N97="nulová",J97,0) -> 0 | BJ97: 1 | BK97: =ROUND(I97*H97,2) -> 2980 | BL97: 4 | BM97: 821287594
D98: Online PSC | F98: https://podminky.urs.cz/item/CS_URS_2025_02/342123911 | AT98: Online PSC | AU98: 2
C99: 2 | D99: M | E99: 59332000 | F99: stěna nenosná ŽB včetně výztuže do 120kg/m3 objem prefabrikátu do 1m3 | G99: m3 | H99: 1.8 | I99: 20400 | J99: =ROUND(I99*H99,2) -> 36720 | K99: CS ÚRS 2025 02 | N99: základní | O99: 0 | P99: =O99*H99 -> 0 | Q99: 2.4 | R99: =Q99*H99 -> 4.32 | S99: 0 | T99: =S99*H99 -> 0 | AR99: 8 | AT99: M | AU99: 2 | AY99: ROZPOCET | BE99: =IF(N99="základní",J99,0) -> 36720 | BF99: =IF(N99="snížená",J99,0) -> 0 | BG99: =IF(N99="zákl. přenesená",J99,0) -> 0 | BH99: =IF(N99="sníž. přenesená",J99,0) -> 0 | BI99: =IF(N99="nulová",J99,0) -> 0 | BJ99: 1 | BK99: =ROUND(I99*H99,2) -> 36720 | BL99: 4 | BM99: -1000237096
C100: 3 | D100: K | E100: 342123912 | F100: Montáž dílců obvodových stěn ze železobetonu s nesvařovanými spoji, v budovách výšky do 18 m, hmotnosti přes 1,5 do 3 t | G100: kus | H100: 1 | I100: 1750 | J100: =ROUND(I100*H100,2) -> 1750 | K100: CS ÚRS 2025 02 | N100: základní | O100: 1.432 | P100: =O100*H100 -> 1.432 | Q100: 0.1321 | R100: =Q100*H100 -> 0.1321 | S100: 0 | T100: =S100*H100 -> 0 | AR100: 4 | AT100: K | AU100: 2 | AY100: ROZPOCET | BE100: =IF(N100="základní",J100,0) -> 1750 | BF100: =IF(N100="snížená",J100,0) -> 0 | BG100: =IF(N100="zákl. přenesená",J100,0) -> 0 | BH100: =IF(N100="sníž. přenesená",J100,0) -> 0 | BI100: =IF(N100="nulová",J100,0) -> 0 | BJ100: 1 | BK100: =ROUND(I100*H100,2) -> 1750 | BL100: 4 | BM100: -1406457193
D101: Online PSC | F101: https://podminky.urs.cz/item/CS_URS_2025_02/342123912 | AT101: Online PSC | AU101: 2
C102: 4 | D102: M | E102: 59332001 | F102: stěna nenosná ŽB včetně výztuže do 120kg/m3 objem prefabrikátu přes 1m3 | G102: m3 | H102: 1 | I102: 16200 | J102: =ROUND(I102*H102,2) -> 16200 | K102: CS ÚRS 2025 02 | N102: základní | O102: 0 | P102: =O102*H102 -> 0 | Q102: 2.57 | R102: =Q102*H102 -> 2.57 | S102: 0 | T102: =S102*H102 -> 0 | AR102: 8 | AT102: M | AU102: 2 | AY102: ROZPOCET | BE102: =IF(N102="základní",J102,0) -> 16200 | BF102: =IF(N102="snížená",J102,0) -> 0 | BG102: =IF(N102="zákl. přenesená",J102,0) -> 0 | BH102: =IF(N102="sníž. přenesená",J102,0) -> 0 | BI102: =IF(N102="nulová",J102,0) -> 0 | BJ102: 1 | BK102: =ROUND(I102*H102,2) -> 16200 | BL102: 4 | BM102: 2110858907
D103: D | E103: 998 | F103: Přesun hmot | J103: =BK103 -> 31902.2 | P103: =SUM(P104:P110) -> 15.924318 | R103: =SUM(R104:R110) -> 0 | T103: =SUM(T104:T110) -> 0 | AR103: 1 | AT103: D | AU103: 1 | AY103: ROZPOCET | BK103: =SUM(BK104:BK110) -> 31902.2
C104: 7 | D104: K | E104: 998014094 | F104: Přesun hmot pro budovy a haly občanské výstavby, bydlení, výrobu a služby s nosnou svislou konstrukcí montovanou z dílců betonových plošných nebo tyčových s jakýmkoliv obvodovým pláštěm kromě vyzdívaného, i bez pláště Příplatek k cenám za zvětšený přesun přes vymezenou vodorovnou dopravní vzdálenost do 5000 m | G104: t | H104: 7.237 | I104: 564 | J104: =ROUND(I104*H104,2) -> 4081.67 | K104: CS ÚRS 2025 02 | N104: základní | O104: 0.472 | P104: =O104*H104 -> 3.415864 | Q104: 0 | R104: =Q104*H104 -> 0 | S104: 0 | T104: =S104*H104 -> 0 | AR104: 4 | AT104: K | AU104: 2 | AY104: ROZPOCET | BE104: =IF(N104="základní",J104,0) -> 4081.67 | BF104: =IF(N104="snížená",J104,0) -> 0 | BG104: =IF(N104="zákl. přenesená",J104,0) -> 0 | BH104: =IF(N104="sníž. přenesená",J104,0) -> 0 | BI104: =IF(N104="nulová",J104,0) -> 0 | BJ104: 1 | BK104: =ROUND(I104*H104,2) -> 4081.67 | BL104: 4 | BM104: 292352393
D105: Online PSC | F105: https://podminky.urs.cz/item/CS_URS_2025_02/998014094 | AT105: Online PSC | AU105: 2
C106: 8 | D106: K | E106: 998014095 | F106: Přesun hmot pro budovy a haly občanské výstavby, bydlení, výrobu a služby s nosnou svislou konstrukcí montovanou z dílců betonových plošných nebo tyčových s jakýmkoliv obvodovým pláštěm kromě vyzdívaného, i bez pláště Příplatek k cenám za zvětšený přesun přes vymezenou vodorovnou dopravní vzdálenost za každých dalších započatých 5000 m | G106: t | H106: 215.663 | I106: 129 | J106: =ROUND(I106*H106,2) -> 27820.53 | K106: CS ÚRS 2025 02 | N106: základní | O106: 0.058 | P106: =O106*H106 -> 12.508454 | Q106: 0 | R106: =Q106*H106 -> 0 | S106: 0 | T106: =S106*H106 -> 0 | AR106: 4 | AT106: K | AU106: 2 | AY106: ROZPOCET | BE106: =IF(N106="základní",J106,0) -> 27820.53 | BF106: =IF(N106="snížená",J106,0) -> 0 | BG106: =IF(N106="zákl. přenesená",J106,0) -> 0 | BH106: =IF(N106="sníž. přenesená",J106,0) -> 0 | BI106: =IF(N106="nulová",J106,0) -> 0 | BJ106: 1 | BK106: =ROUND(I106*H106,2) -> 27820.53 | BL106: 4 | BM106: -461715204
D107: Online PSC | F107: https://podminky.urs.cz/item/CS_URS_2025_02/998014095 | AT107: Online PSC | AU107: 2
D108: VV | F108: "154km - 5km | AT108: VV | AU108: 2 | AV108: 1 | AW108: True | AX108: 0 | AY108: ROZPOCET
D109: VV | F109: (154-5)/5 * 7,237 | H109: 215.663 | AT109: VV | AU109: 2 | AV109: 2 | AW109: True | AX109: 0 | AY109: ROZPOCET
D110: VV | F110: Součet | H110: 215.663 | AT110: VV | AU110: 2 | AV110: 4 | AW110: True | AX110: 1 | AY110: ROZPOCET

Sheet 08 - KOLUMBÁRIUM
AT2: {1648dd7c-8f79-4879-b56c-e2b8977b3a3f}
AT3: 2
D4: KRYCÍ LIST SOUPISU PRACÍ | M4: v --- níže se nacházejí doplnkové a pomocné údaje k sestavám --- v | AT4: False
D6: Stavba:
E7: ='Rekapitulace stavby'!K6 -> ÚPRAVY HŘBITOVA KBELY- ETAPA1
D8: Objekt:
E9: 01 - Navrhované objekty
D10: Soupis:
E11: 08 - KOLUMBÁRIUM
D13: KSO: | F13: 815 9 | I13: CC-CZ:
D14: Místo: | F14: Praha 9-Kbely | I14: Datum: | J14: ='Rekapitulace stavby'!AN8 -> 0
D16: Zadavatel: | I16: IČ: | J16: 00231304
E17: MČ Praha 19, Semilská 43/1, 197 00 Praha 9 - Kbely | I17: DIČ:
D19: Zhotovitel: | I19: IČ: | J19: 07395680
E20: IWU s.r.o. | I20: DIČ: | J20: CZ07395680
D22: Projektant: | I22: IČ:
E23: Ing.Jan Pustějovský, Ph.D. | I23: DIČ:
D25: Zpracovatel: | I25: IČ:
I26: DIČ:
D28: Poznámka:
E29: Položkový rozpočet zpracován v CS ÚRS s CH 2024/II na základě PD -10/2024
D32: Cena bez DPH | J32: =ROUND(J94, 2) -> 1779345.4
F34: Základ daně | I34: Sazba daně | J34: Výše daně
D35: DPH | E35: základní | F35: =ROUND((SUM(BE94:BE203)), 2) -> 1779345.4 | I35: 0.21 | J35: =ROUND(((SUM(BE94:BE203))*I35), 2) -> 373662.53
E36: snížená | F36: =ROUND((SUM(BF94:BF203)), 2) -> 0 | I36: 0.12 | J36: =ROUND(((SUM(BF94:BF203))*I36), 2) -> 0
E37: zákl. přenesená | F37: =ROUND((SUM(BG94:BG203)), 2) -> 0 | I37: 0.21 | J37: =0 -> 0
E38: sníž. přenesená | F38: =ROUND((SUM(BH94:BH203)), 2) -> 0 | I38: 0.12 | J38: =0 -> 0
E39: nulová | F39: =ROUND((SUM(BI94:BI203)), 2) -> 0 | I39: 0 | J39: =0 -> 0
D41: Cena s DPH | G41: v | H41: CZK | J41: =SUM(J32:J39) -> 2153007.9
C47: REKAPITULACE ČLENĚNÍ SOUPISU PRACÍ
C49: Stavba:
E50: =E7 -> ÚPRAVY HŘBITOVA KBELY- ETAPA1
C51: Objekt:
E52: 01 - Navrhované objekty
C53: Soupis:
E54: =E11 -> 08 - KOLUMBÁRIUM
C56: Místo: | F56: =F14 -> Praha 9-Kbely | I56: Datum: | J56: =IF(J14="","",J14) -> 0
C58: Zadavatel: | F58: =E17 -> MČ Praha 19, Semilská 43/1, 197 00 Praha 9 - Kbely | I58: Projektant: | J58: =E23 -> Ing.Jan Pustějovský, Ph.D.
C59: Zhotovitel: | F59: =IF(E20="","",E20) -> IWU s.r.o. | I59: Zpracovatel: | J59: =E26
C61: Kód dílu - Popis | J61: Cena celkem [CZK]
C63: Náklady stavby celkem | J63: =J94 -> 1779345.4 | AU63: -1
D64: HSV - Práce a dodávky HSV | J64: =J95 -> 1018845.4
D65: 1 - Zemní práce | J65: =J96 -> 35486.57
D66: 2 - Zakládání | J66: =J109 -> 99661.6
D67: 3 - Svislé a kompletní konstrukce | J67: =J130 -> 758941.42
D68: 4 - Vodorovné konstrukce | J68: =J168 -> 64141.09
D69: 9 - Ostatní konstrukce a práce, bourání | J69: =J186 -> 11302.4
D70: 998 - Přesun hmot | J70: =J193 -> 49312.32
D71: PSV - PSV | J71: =J195 -> 760500
D72: ATYP - Atypické prvky | J72: =J196 -> 760500
C79: SOUPIS PRACÍ
C81: Stavba:
E82: =E7 -> ÚPRAVY HŘBITOVA KBELY- ETAPA1
C83: Objekt:
E84: 01 - Navrhované objekty
C85: Soupis:
E86: =E11 -> 08 - KOLUMBÁRIUM
C88: Místo: | F88: =F14 -> Praha 9-Kbely | I88: Datum: | J88: =IF(J14="","",J14) -> 0
C90: Zadavatel: | F90: =E17 -> MČ Praha 19, Semilská 43/1, 197 00 Praha 9 - Kbely | I90: Projektant: | J90: =E23 -> Ing.Jan Pustějovský, Ph.D.
C91: Zhotovitel: | F91: =IF(E20="","",E20) -> IWU s.r.o. | I91: Zpracovatel: | J91: =E26
C93: PČ | D93: Typ | E93: Kód | F93: Popis | G93: MJ | H93: Množství | I93: J.cena [CZK] | J93: Cena celkem [CZK] | K93: Cenová soustava | N93: DPH | O93: J. Nh [h] | P93: Nh celkem [h] | Q93: J. hmotnost [t] | R93: Hmotnost celkem [t] | S93: J. suť [t] | T93: Suť Celkem [t]
C94: Náklady soupisu celkem | J94: =BK94 -> 1779345.4 | P94: =P95+P195 -> 0 | R94: =R95+R195 -> 159.07191 | T94: =T95+T195 -> 0 | AT94: D | AU94: -1 | BK94: =BK95+BK195 -> 1779345.4
D95: D | E95: HSV | F95: Práce a dodávky HSV | J95: =BK95 -> 1018845.4 | P95: =P96+P109+P130+P168+P186+P193 -> 0 | R95: =R96+R109+R130+R168+R186+R193 -> 159.07191 | T95: =T96+T109+T130+T168+T186+T193 -> 0 | AR95: 1 | AT95: D | AU95: 0 | AY95: ROZPOCET | BK95: =BK96+BK109+BK130+BK168+BK186+BK193 -> 1018845.4
D96: D | E96: 1 | F96: Zemní práce | J96: =BK96 -> 35486.57 | P96: =SUM(P97:P108) -> 0 | R96: =SUM(R97:R108) -> 0 | T96: =SUM(T97:T108) -> 0 | AR96: 1 | AT96: D | AU96: 1 | AY96: ROZPOCET | BK96: =SUM(BK97:BK108) -> 35486.57
C97: 1 | D97: K | E97: 132251252 | F97: Hloubení nezapažených rýh šířky přes 800 do 2 000 mm strojně s urovnáním dna do předepsaného profilu a spádu v hornině třídy těžitelnosti I skupiny 3 přes 20 do 50 m3 | G97: m3 | H97: 25.956 | I97: 632.1 | J97: =ROUND(I97*H97,2) -> 16406.79 | N97: základní | O97: 0 | P97: =O97*H97 -> 0 | Q97: 0 | R97: =Q97*H97 -> 0 | S97: 0 | T97: =S97*H97 -> 0 | AR97: 4 | AT97: K | AU97: 2 | AY97: ROZPOCET | BE97: =IF(N97="základní",J97,0) -> 16406.79 | BF97: =IF(N97="snížená",J97,0) -> 0 | BG97: =IF(N97="zákl. přenesená",J97,0) -> 0 | BH97: =IF(N97="sníž. přenesená",J97,0) -> 0 | BI97: =IF(N97="nulová",J97,0) -> 0 | BJ97: 1 | BK97: =ROUND(I97*H97,2) -> 16406.79 | BL97: 4 | BM97: 1263712777
D98: VV | F98: "150 mm sejmutá ornice - viz část 01a"15,0*1,45*0,7+(5,0+2,251)*1,85*0,8 | H98: 25.956 | AT98: VV | AU98: 2 | AV98: 2 | AW98: True | AX98: 1 | AY98: ROZPOCET
C99: 2 | D99: K | E99: 162751117 | F99: Vodorovné přemístění výkopku nebo sypaniny po suchu na obvyklém dopravním prostředku, bez naložení výkopku, avšak se složením bez rozhrnutí z horniny třídy těžitelnosti I skupiny 1 až 3 na vzdálenost přes 9 000 do 10 000 m | G99: m3 | H99: 13.521 | I99: 301.56 | J99: =ROUND(I99*H99,2) -> 4077.39 | N99: základní | O99: 0 | P99: =O99*H99 -> 0 | Q99: 0 | R99: =Q99*H99 -> 0 | S99: 0 | T99: =S99*H99 -> 0 | AR99: 4 | AT99: K | AU99: 2 | AY99: ROZPOCET | BE99: =IF(N99="základní",J99,0) -> 4077.39 | BF99: =IF(N99="snížená",J99,0) -> 0 | BG99: =IF(N99="zákl. přenesená",J99,0) -> 0 | BH99: =IF(N99="sníž. přenesená",J99,0) -> 0 | BI99: =IF(N99="nulová",J99,0) -> 0 | BJ99: 1 | BK99: =ROUND(I99*H99,2) -> 4077.39 | BL99: 4 | BM99: 1075412798
D100: VV | F100: "zbývající zemina odvezena na skládku"25,956-12,435 | H100: 13.521 | AT100: VV | AU100: 2 | AV100: 2 | AW100: True | AX100: 1 | AY100: ROZPOCET
C101: 3 | D101: K | E101: 171201231 | F101: Poplatek za uložení stavebního odpadu na recyklační skládce (skládkovné) zeminy a kamení zatříděného do Katalogu odpadů pod kódem 17 05 04 | G101: t | H101: 22.986 | I101: 342 | J101: =ROUND(I101*H101,2) -> 7861.21 | N101: základní | O101: 0 | P101: =O101*H101 -> 0 | Q101: 0 | R101: =Q101*H101 -> 0 | S101: 0 | T101: =S101*H101 -> 0 | AR101: 4 | AT101: K | AU101: 2 | AY101: ROZPOCET | BE101: =IF(N101="základní",J101,0) -> 7861.21 | BF101: =IF(N101="snížená",J101,0) -> 0 | BG101: =IF(N101="zákl. přenesená",J101,0) -> 0 | BH101: =IF(N101="sníž. přenesená",J101,0) -> 0 | BI101: =IF(N101="nulová",J101,0) -> 0 | BJ101: 1 | BK101: =ROUND(I101*H101,2) -> 7861.21 | BL101: 4 | BM101: 1451773923
D102: VV | F102: 13,521*1,7 | H102: 22.986 | AT102: VV | AU102: 2 | AV102: 2 | AW102: True | AX102: 1 | AY102: ROZPOCET
C103: 4 | D103: K | E103: 174151101 | F103: Zásyp sypaninou z jakékoliv horniny strojně s uložením výkopku ve vrstvách se zhutněním jam, šachet, rýh nebo kolem objektů v těchto vykopávkách | G103: m3 | H103: 12.435 | I103: 257 | J103: =ROUND(I103*H103,2) -> 3195.8 | N103: základní | O103: 0 | P103: =O103*H103 -> 0 | Q103: 0 | R103: =Q103*H103 -> 0 | S103: 0 | T103: =S103*H103 -> 0 | AR103: 4 | AT103: K | AU103: 2 | AY103: ROZPOCET | BE103: =IF(N103="základní",J103,0) -> 3195.8 | BF103: =IF(N103="snížená",J103,0) -> 0 | BG103: =IF(N103="zákl. přenesená",J103,0) -> 0 | BH103: =IF(N103="sníž. přenesená",J103,0) -> 0 | BI103: =IF(N103="nulová",J103,0) -> 0 | BJ103: 1 | BK103: =ROUND(I103*H103,2) -> 3195.8 | BL103: 4 | BM103: 1620738188
D104: VV | F104: (5,8+4,1)*1,0*0,5+15,0*0,5*0,5+(15,0+5,8+4,1)*0,3*0,5 | H104: 12.435 | AT104: VV | AU104: 2 | AV104: 2 | AW104: True | AX104: 1 | AY104: ROZPOCET
C105: 5 | D105: K | E105: 162251101 | F105: Vodorovné přemístění výkopku nebo sypaniny po suchu na obvyklém dopravním prostředku, bez naložení výkopku, avšak se složením bez rozhrnutí z horniny třídy těžitelnosti I skupiny 1 až 3 na vzdálenost do 20 m | G105: m3 | H105: 12.435 | I105: 150 | J105: =ROUND(I105*H105,2) -> 1865.25 | N105: základní | O105: 0 | P105: =O105*H105 -> 0 | Q105: 0 | R105: =Q105*H105 -> 0 | S105: 0 | T105: =S105*H105 -> 0 | AR105: 4 | AT105: K | AU105: 2 | AY105: ROZPOCET | BE105: =IF(N105="základní",J105,0) -> 1865.25 | BF105: =IF(N105="snížená",J105,0) -> 0 | BG105: =IF(N105="zákl. přenesená",J105,0) -> 0 | BH105: =IF(N105="sníž. přenesená",J105,0) -> 0 | BI105: =IF(N105="nulová",J105,0) -> 0 | BJ105: 1 | BK105: =ROUND(I105*H105,2) -> 1865.25 | BL105: 4 | BM105: -492363922
D106: VV | F106: (5,8+4,1)*1,0*0,5+15,0*0,5*0,5+(15,0+5,8+4,1)*0,3*0,5 | H106: 12.435 | AT106: VV | AU106: 2 | AV106: 2 | AW106: True | AX106: 1 | AY106: ROZPOCET
C107: 6 | D107: K | E107: 167151101 | F107: Nakládání, skládání a překládání neulehlého výkopku nebo sypaniny strojně nakládání, množství do 100 m3, z horniny třídy těžitelnosti I, skupiny 1 až 3 | G107: m3 | H107: 12.435 | I107: 167.28 | J107: =ROUND(I107*H107,2) -> 2080.13 | N107: základní | O107: 0 | P107: =O107*H107 -> 0 | Q107: 0 | R107: =Q107*H107 -> 0 | S107: 0 | T107: =S107*H107 -> 0 | AR107: 4 | AT107: K | AU107: 2 | AY107: ROZPOCET | BE107: =IF(N107="základní",J107,0) -> 2080.13 | BF107: =IF(N107="snížená",J107,0) -> 0 | BG107: =IF(N107="zákl. přenesená",J107,0) -> 0 | BH107: =IF(N107="sníž. přenesená",J107,0) -> 0 | BI107: =IF(N107="nulová",J107,0) -> 0 | BJ107: 1 | BK107: =ROUND(I107*H107,2) -> 2080.13 | BL107: 4 | BM107: -2043064620
D108: VV | F108: (5,8+4,1)*1,0*0,5+15,0*0,5*0,5+(15,0+5,8+4,1)*0,3*0,5 | H108: 12.435 | AT108: VV | AU108: 2 | AV108: 2 | AW108: True | AX108: 1 | AY108: ROZPOCET
D109: D | E109: 2 | F109: Zakládání | J109: =BK109 -> 99661.6 | P109: =SUM(P110:P129) -> 0 | R109: =SUM(R110:R129) -> 30.983044 | T109: =SUM(T110:T129) -> 0 | AR109: 1 | AT109: D | AU109: 1 | AY109: ROZPOCET | BK109: =SUM(BK110:BK129) -> 99661.6
C110: 7 | D110: K | E110: 273321411 | F110: Základy z betonu železového (bez výztuže) desky z betonu bez zvláštních nároků na prostředí tř. C 20/25 | G110: m3 | H110: 5.328 | I110: 4201.47 | J110: =ROUND(I110*H110,2) -> 22385.43 | N110: základní | O110: 0 | P110: =O110*H110 -> 0 | Q110: 2.5018722 | R110: =Q110*H110 -> 13.329975 | S110: 0 | T110: =S110*H110 -> 0 | AR110: 4 | AT110: K | AU110: 2 | AY110: ROZPOCET | BE110: =IF(N110="základní",J110,0) -> 22385.43 | BF110: =IF(N110="snížená",J110,0) -> 0 | BG110: =IF(N110="zákl. přenesená",J110,0) -> 0 | BH110: =IF(N110="sníž. přenesená",J110,0) -> 0 | BI110: =IF(N110="nulová",J110,0) -> 0 | BJ110: 1 | BK110: =ROUND(I110*H110,2) -> 22385.43 | BL110: 4 | BM110: -1979564967
D111: VV | F111: 15,0*1,1*0,20 | H111: 3.3 | AT111: VV | AU111: 2 | AV111: 2 | AW111: True | AX111: 0 | AY111: ROZPOCET
D112: VV | F112: 5,0*1,3*0,2 | H112: 1.3 | AT112: VV | AU112: 2 | AV112: 2 | AW112: True | AX112: 0 | AY112: ROZPOCET
D113: VV | F113: 2,8*1,3*0,2 | H113: 0.728 | AT113: VV | AU113: 2 | AV113: 2 | AW113: True | AX113: 0 | AY113: ROZPOCET
D114: VV | F114: Součet | H114: 5.328 | AT114: VV | AU114: 2 | AV114: 4 | AW114: True | AX114: 1 | AY114: ROZPOCET
C115: 8 | D115: K | E115: 273362021 | F115: Výztuž základů desek ze svařovaných sítí z drátů typu KARI | G115: t | H115: 0.421 | I115: 38976.62 | J115: =ROUND(I115*H115,2) -> 16409.16 | N115: základní | O115: 0 | P115: =O115*H115 -> 0 | Q115: 1.0627728 | R115: =Q115*H115 -> 0.44742734 | S115: 0 | T115: =S115*H115 -> 0 | AR115: 4 | AT115: K | AU115: 2 | AY115: ROZPOCET | BE115: =IF(N115="základní",J115,0) -> 16409.16 | BF115: =IF(N115="snížená",J115,0) -> 0 | BG115: =IF(N115="zákl. přenesená",J115,0) -> 0 | BH115: =IF(N115="sníž. přenesená",J115,0) -> 0 | BI115: =IF(N115="nulová",J115,0) -> 0 | BJ115: 1 | BK115: =ROUND(I115*H115,2) -> 16409.16 | BL115: 4 | BM115: 123395574
D116: VV | F116: "2x8-150/150, vč. ztratného 1,15" | AT116: VV | AU116: 2 | AV116: 1 | AW116: True | AX116: 0 | AY116: ROZPOCET
D117: VV | F117: "dle metodiky URS-směrné množství výztuže 5,267 kg/m2" | AT117: VV | AU117: 2 | AV117: 1 | AW117: True | AX117: 0 | AY117: ROZPOCET
D118: VV | F118: 15,0*1,1 | H118: 16.5 | AT118: VV | AU118: 2 | AV118: 2 | AW118: True | AX118: 0 | AY118: ROZPOCET
D119: VV | F119: 5,0*1,3 | H119: 6.5 | AT119: VV | AU119: 2 | AV119: 2 | AW119: True | AX119: 0 | AY119: ROZPOCET
D120: VV | F120: 2,8*1,3 | H120: 3.64 | AT120: VV | AU120: 2 | AV120: 2 | AW120: True | AX120: 0 | AY120: ROZPOCET
D121: VV | F121: Mezisoučet | H121: 26.64 | AT121: VV | AU121: 2 | AV121: 3 | AW121: True | AX121: 0 | AY121: ROZPOCET
D122: VV | F122: (26,640*2*5,267*1,5)/1000 | H122: 0.421 | AT122: VV | AU122: 2 | AV122: 2 | AW122: True | AX122: 1 | AY122: ROZPOCET
C123: 9 | D123: K | E123: 279113144 | F123: Základové zdi z tvárnic ztraceného bednění včetně výplně z betonu bez zvláštních nároků na vliv prostředí třídy C 20/25, tloušťky zdiva přes 250 do 300 mm | G123: m2 | H123: 22.8 | I123: 1968.29 | J123: =ROUND(I123*H123,2) -> 44877.01 | N123: základní | O123: 0 | P123: =O123*H123 -> 0 | Q123: 0.73558274 | R123: =Q123*H123 -> 16.771286 | S123: 0 | T123: =S123*H123 -> 0 | AR123: 4 | AT123: K | AU123: 2 | AY123: ROZPOCET | BE123: =IF(N123="základní",J123,0) -> 44877.01 | BF123: =IF(N123="snížená",J123,0) -> 0 | BG123: =IF(N123="zákl. přenesená",J123,0) -> 0 | BH123: =IF(N123="sníž. přenesená",J123,0) -> 0 | BI123: =IF(N123="nulová",J123,0) -> 0 | BJ123: 1 | BK123: =ROUND(I123*H123,2) -> 44877.01 | BL123: 4 | BM123: -2110299000
D124: VV | F124: (15,0+5,0+2,8)*0,5*2 | H124: 22.8 | AT124: VV | AU124: 2 | AV124: 2 | AW124: True | AX124: 1 | AY124: ROZPOCET
C125: 10 | D125: K | E125: 279361821 | F125: Výztuž základových zdí nosných svislých nebo odkloněných od svislice, rovinných nebo oblých, deskových nebo žebrových, včetně výztuže jejich žeber z betonářské oceli 10 505 (R) nebo BSt 500 | G125: t | H125: 0.41 | I125: 39000 | J125: =ROUND(I125*H125,2) -> 15990 | N125: základní | O125: 0 | P125: =O125*H125 -> 0 | Q125: 1.0594031 | R125: =Q125*H125 -> 0.43435528 | S125: 0 | T125: =S125*H125 -> 0 | AR125: 4 | AT125: K | AU125: 2 | AY125: ROZPOCET | BE125: =IF(N125="základní",J125,0) -> 15990 | BF125: =IF(N125="snížená",J125,0) -> 0 | BG125: =IF(N125="zákl. přenesená",J125,0) -> 0 | BH125: =IF(N125="sníž. přenesená",J125,0) -> 0 | BI125: =IF(N125="nulová",J125,0) -> 0 | BJ125: 1 | BK125: =ROUND(I125*H125,2) -> 15990 | BL125: 4 | BM125: 2132268089
D126: VV | F126: "B500B" | AT126: VV | AU126: 2 | AV126: 1 | AW126: True | AX126: 0 | AY126: ROZPOCET
D127: VV | F127: "do ztraceného bednění, dle směrného množství výztuže dle CS ÚRS je cca 40-60 kg/m3" | AT127: VV | AU127: 2 | AV127: 1 | AW127: True | AX127: 0 | AY127: ROZPOCET
D128: VV | F128: (15,0+5,0+2,8)*0,5*2 | H128: 22.8 | AT128: VV | AU128: 2 | AV128: 2 | AW128: True | AX128: 0 | AY128: ROZPOCET
D129: VV | F129: 22,8*0,3*0,06 | H129: 0.41 | AT129: VV | AU129: 2 | AV129: 2 | AW129: True | AX129: 1 | AY129: ROZPOCET
D130: D | E130: 3 | F130: Svislé a kompletní konstrukce | J130: =BK130 -> 758941.42 | P130: =SUM(P131:P167) -> 0 | R130: =SUM(R131:R167) -> 118.96368 | T130: =SUM(T131:T167) -> 0 | AR130: 1 | AT130: D | AU130: 1 | AY130: ROZPOCET | BK130: =SUM(BK131:BK167) -> 758941.42
C131: 11 | D131: K | E131: 311321814 | F131: Nadzákladové zdi z betonu železového (bez výztuže) nosné pohledového (v přírodní barvě drtí a přísad) tř. C 25/30 | G131: m3 | H131: 44.537 | I131: 7900 | J131: =ROUND(I131*H131,2) -> 351842.3 | N131: základní | O131: 0 | P131: =O131*H131 -> 0 | Q131: 2.50187 | R131: =Q131*H131 -> 111.42578 | S131: 0 | T131: =S131*H131 -> 0 | AR131: 4 | AT131: K | AU131: 2 | AY131: ROZPOCET | BE131: =IF(N131="základní",J131,0) -> 351842.3 | BF131: =IF(N131="snížená",J131,0) -> 0 | BG131: =IF(N131="zákl. přenesená",J131,0) -> 0 | BH131: =IF(N131="sníž. přenesená",J131,0) -> 0 | BI131: =IF(N131="nulová",J131,0) -> 0 | BJ131: 1 | BK131: =ROUND(I131*H131,2) -> 351842.3 | BL131: 4 | BM131: -117862484
D132: VV | F132: "nadsoklová část vč. soklu nad terénem" | AT132: VV | AU132: 2 | AV132: 1 | AW132: True | AX132: 0 | AY132: ROZPOCET
...

Sheet ZBV-03a - méněpráce
AT2: {98aded36-1a98-4da2-898d-841d1e4f348c}
AT3: 2
D4: KRYCÍ LIST SOUPISU PRACÍ | M4: v --- níže se nacházejí doplnkové a pomocné údaje k sestavám --- v | AT4: False
D6: Stavba:
E7: ='Rekapitulace stavby'!K6 -> ÚPRAVY HŘBITOVA KBELY- ETAPA1
D8: Objekt:
E9: 01 - Navrhované objekty
D10: Soupis:
E11: 08 - KOLUMBÁRIUM
D12: Úroveň 3:
E13: ZBV-03a - méněpráce
D15: KSO: | F15: 815 9 | I15: CC-CZ:
D16: Místo: | F16: Praha 9-Kbely | I16: Datum: | J16: ='Rekapitulace stavby'!AN8 -> 0
D18: Zadavatel: | I18: IČ: | J18: 00231304
E19: MČ Praha 19, Semilská 43/1, 197 00 Praha 9 - Kbely | I19: DIČ:
D21: Zhotovitel: | I21: IČ: | J21: 07395680
E22: IWU s.r.o. | I22: DIČ: | J22: CZ07395680
D24: Projektant: | I24: IČ:
E25: Ing.Jan Pustějovský, Ph.D. | I25: DIČ:
D27: Zpracovatel: | I27: IČ:
I28: DIČ:
D30: Poznámka:
D34: Cena bez DPH | J34: =ROUND(J94, 2) -> -229411.21
F36: Základ daně | I36: Sazba daně | J36: Výše daně
D37: DPH | E37: základní | F37: =ROUND((SUM(BE94:BE145)), 2) -> -229411.21 | I37: 0.21 | J37: =ROUND(((SUM(BE94:BE145))*I37), 2) -> -48176.35
E38: snížená | F38: =ROUND((SUM(BF94:BF145)), 2) -> 0 | I38: 0.12 | J38: =ROUND(((SUM(BF94:BF145))*I38), 2) -> 0
E39: zákl. přenesená | F39: =ROUND((SUM(BG94:BG145)), 2) -> 0 | I39: 0.21 | J39: =0 -> 0
E40: sníž. přenesená | F40: =ROUND((SUM(BH94:BH145)), 2) -> 0 | I40: 0.12 | J40: =0 -> 0
E41: nulová | F41: =ROUND((SUM(BI94:BI145)), 2) -> 0 | I41: 0 | J41: =0 -> 0
D43: Cena s DPH | G43: v | H43: CZK | J43: =SUM(J34:J41) -> -277587.56
C49: REKAPITULACE ČLENĚNÍ SOUPISU PRACÍ
C51: Stavba:
E52: =E7 -> ÚPRAVY HŘBITOVA KBELY- ETAPA1
C53: Objekt:
E54: 01 - Navrhované objekty
C55: Soupis:
E56: 08 - KOLUMBÁRIUM
C57: Úroveň 3:
E58: =E13 -> ZBV-03a - méněpráce
C60: Místo: | F60: =F16 -> Praha 9-Kbely | I60: Datum: | J60: =IF(J16="","",J16) -> 0
C62: Zadavatel: | F62: =E19 -> MČ Praha 19, Semilská 43/1, 197 00 Praha 9 - Kbely | I62: Projektant: | J62: =E25 -> Ing.Jan Pustějovský, Ph.D.
C63: Zhotovitel: | F63: =IF(E22="","",E22) -> IWU s.r.o. | I63: Zpracovatel: | J63: =E28
C65: Kód dílu - Popis | J65: Cena celkem [CZK]
C67: Náklady stavby celkem | J67: =J94 -> -229411.21 | AU67: -1
D68: HSV - Práce a dodávky HSV | J68: =J95 -> -229411.21
D69: 3 - Svislé a kompletní konstrukce | J69: =J96 -> -204504.12
D70: 4 - Vodorovné konstrukce | J70: =J117 -> -24907.09
C77: SOUPIS PRACÍ
C79: Stavba:
E80: =E7 -> ÚPRAVY HŘBITOVA KBELY- ETAPA1
C81: Objekt:
E82: 01 - Navrhované objekty
C83: Soupis:
E84: 08 - KOLUMBÁRIUM
C85: Úroveň 3:
E86: =E13 -> ZBV-03a - méněpráce
C88: Místo: | F88: =F16 -> Praha 9-Kbely | I88: Datum: | J88: =IF(J16="","",J16) -> 0
C90: Zadavatel: | F90: =E19 -> MČ Praha 19, Semilská 43/1, 197 00 Praha 9 - Kbely | I90: Projektant: | J90: =E25 -> Ing.Jan Pustějovský, Ph.D.
C91: Zhotovitel: | F91: =IF(E22="","",E22) -> IWU s.r.o. | I91: Zpracovatel: | J91: =E28
C93: PČ | D93: Typ | E93: Kód | F93: Popis | G93: MJ | H93: Množství | I93: J.cena [CZK] | J93: Cena celkem [CZK] | K93: Cenová soustava | N93: DPH | O93: J. Nh [h] | P93: Nh celkem [h] | Q93: J. hmotnost [t] | R93: Hmotnost celkem [t] | S93: J. suť [t] | T93: Suť Celkem [t]
C94: Náklady soupisu celkem | J94: =BK94 -> -229411.21 | P94: =P95 -> 0 | R94: =R95 -> -12.00993 | T94: =T95 -> 0 | AT94: D | AU94: -1 | BK94: =BK95 -> -229411.21
D95: D | E95: HSV | F95: Práce a dodávky HSV | J95: =BK95 -> -229411.21 | P95: =P96+P117 -> 0 | R95: =R96+R117 -> -12.00993 | T95: =T96+T117 -> 0 | AR95: 1 | AT95: D | AU95: 0 | AY95: ROZPOCET | BK95: =BK96+BK117 -> -229411.21
D96: D | E96: 3 | F96: Svislé a kompletní konstrukce | J96: =BK96 -> -204504.12 | P96: =SUM(P97:P116) -> 0 | R96: =SUM(R97:R116) -> -11.085688 | T96: =SUM(T97:T116) -> 0 | AR96: 1 | AT96: D | AU96: 1 | AY96: ROZPOCET | BK96: =SUM(BK97:BK116) -> -204504.12
C97: 1 | D97: K | E97: 311321814 | F97: Nadzákladové zdi z betonu železového (bez výztuže) nosné pohledového (v přírodní barvě drtí a přísad) tř. C 25/30 | G97: m3 | H97: -4 | I97: 7900 | J97: =ROUND(I97*H97,2) -> -31600 | N97: základní | O97: 0 | P97: =O97*H97 -> 0 | Q97: 2.50187 | R97: =Q97*H97 -> -10.00748 | S97: 0 | T97: =S97*H97 -> 0 | AR97: 4 | AT97: K | AU97: 2 | AY97: ROZPOCET | BE97: =IF(N97="základní",J97,0) -> -31600 | BF97: =IF(N97="snížená",J97,0) -> 0 | BG97: =IF(N97="zákl. přenesená",J97,0) -> 0 | BH97: =IF(N97="sníž. přenesená",J97,0) -> 0 | BI97: =IF(N97="nulová",J97,0) -> 0 | BJ97: 1 | BK97: =ROUND(I97*H97,2) -> -31600 | BL97: 4 | BM97: -1083588505
D98: VV | F98: "původní množství dle SOD" -44,537 | H98: -44.537 | AT98: VV | AU98: 2 | AV98: 2 | AW98: True | AX98: 0 | AY98: ROZPOCET
D99: VV | F99: "nové množství dle ZBV" 40,537 | H99: 40.537 | AT99: VV | AU99: 2 | AV99: 2 | AW99: True | AX99: 0 | AY99: ROZPOCET
D100: VV | F100: Součet | H100: -4 | AT100: VV | AU100: 2 | AV100: 4 | AW100: True | AX100: 1 | AY100: ROZPOCET
C101: 2 | D101: K | E101: 311351121 | F101: Bednění nadzákladových zdí nosných rovné oboustranné za každou stranu zřízení | G101: m2 | H101: -115.305 | I101: 755 | J101: =ROUND(I101*H101,2) -> -87055.28 | N101: základní | O101: 0 | P101: =O101*H101 -> 0 | Q101: 0.00275 | R101: =Q101*H101 -> -0.31708875 | S101: 0 | T101: =S101*H101 -> 0 | AR101: 4 | AT101: K | AU101: 2 | AY101: ROZPOCET | BE101: =IF(N101="základní",J101,0) -> -87055.28 | BF101: =IF(N101="snížená",J101,0) -> 0 | BG101: =IF(N101="zákl. přenesená",J101,0) -> 0 | BH101: =IF(N101="sníž. přenesená",J101,0) -> 0 | BI101: =IF(N101="nulová",J101,0) -> 0 | BJ101: 1 | BK101: =ROUND(I101*H101,2) -> -87055.28 | BL101: 4 | BM101: -1717616755
D102: VV | F102: "původní množství dle SOD" -115,305 | H102: -115.305 | AT102: VV | AU102: 2 | AV102: 2 | AW102: True | AX102: 0 | AY102: ROZPOCET
D103: VV | F103: "nové množství dle ZBV" 0 | H103: 0 | AT103: VV | AU103: 2 | AV103: 2 | AW103: True | AX103: 0 | AY103: ROZPOCET
D104: VV | F104: Součet | H104: -115.305 | AT104: VV | AU104: 2 | AV104: 4 | AW104: True | AX104: 1 | AY104: ROZPOCET
C105: 3 | D105: K | E105: 311351122 | F105: Bednění nadzákladových zdí nosných rovné oboustranné za každou stranu odstranění | G105: m2 | H105: -115.305 | I105: 378 | J105: =ROUND(I105*H105,2) -> -43585.29 | N105: základní | O105: 0 | P105: =O105*H105 -> 0 | Q105: 0 | R105: =Q105*H105 -> 0 | S105: 0 | T105: =S105*H105 -> 0 | AR105: 4 | AT105: K | AU105: 2 | AY105: ROZPOCET | BE105: =IF(N105="základní",J105,0) -> -43585.29 | BF105: =IF(N105="snížená",J105,0) -> 0 | BG105: =IF(N105="zákl. přenesená",J105,0) -> 0 | BH105: =IF(N105="sníž. přenesená",J105,0) -> 0 | BI105: =IF(N105="nulová",J105,0) -> 0 | BJ105: 1 | BK105: =ROUND(I105*H105,2) -> -43585.29 | BL105: 4 | BM105: -386014825
D106: VV | F106: "původní množství dle SOD" -115,305 | H106: -115.305 | AT106: VV | AU106: 2 | AV106: 2 | AW106: True | AX106: 0 | AY106: ROZPOCET
D107: VV | F107: "nové množství dle ZBV" 0 | H107: 0 | AT107: VV | AU107: 2 | AV107: 2 | AW107: True | AX107: 0 | AY107: ROZPOCET
D108: VV | F108: Součet | H108: -115.305 | AT108: VV | AU108: 2 | AV108: 4 | AW108: True | AX108: 1 | AY108: ROZPOCET
C109: 4 | D109: K | E109: 311351911 | F109: Bednění nadzákladových zdí nosných Příplatek k cenám bednění za pohledový beton | G109: m2 | H109: -86.21 | I109: 255 | J109: =ROUND(I109*H109,2) -> -21983.55 | N109: základní | O109: 0 | P109: =O109*H109 -> 0 | Q109: 0.0025 | R109: =Q109*H109 -> -0.215525 | S109: 0 | T109: =S109*H109 -> 0 | AR109: 4 | AT109: K | AU109: 2 | AY109: ROZPOCET | BE109: =IF(N109="základní",J109,0) -> -21983.55 | BF109: =IF(N109="snížená",J109,0) -> 0 | BG109: =IF(N109="zákl. přenesená",J109,0) -> 0 | BH109: =IF(N109="sníž. přenesená",J109,0) -> 0 | BI109: =IF(N109="nulová",J109,0) -> 0 | BJ109: 1 | BK109: =ROUND(I109*H109,2) -> -21983.55 | BL109: 4 | BM109: 2098387132
D110: VV | F110: "původní množství dle SOD" -86,21 | H110: -86.21 | AT110: VV | AU110: 2 | AV110: 2 | AW110: True | AX110: 0 | AY110: ROZPOCET
D111: VV | F111: "nové množství dle ZBV" 0 | H111: 0 | AT111: VV | AU111: 2 | AV111: 2 | AW111: True | AX111: 0 | AY111: ROZPOCET
D112: VV | F112: Součet | H112: -86.21 | AT112: VV | AU112: 2 | AV112: 4 | AW112: True | AX112: 1 | AY112: ROZPOCET
C113: 5 | D113: K | E113: 311361821 | F113: Výztuž nadzákladových zdí nosných svislých nebo odkloněných od svislice, rovných nebo oblých z betonářské oceli 10 505 (R) nebo BSt 500 | G113: t | H113: -0.52 | I113: 39000 | J113: =ROUND(I113*H113,2) -> -20280 | N113: základní | O113: 0 | P113: =O113*H113 -> 0 | Q113: 1.04922 | R113: =Q113*H113 -> -0.5455944 | S113: 0 | T113: =S113*H113 -> 0 | AR113: 4 | AT113: K | AU113: 2 | AY113: ROZPOCET | BE113: =IF(N113="základní",J113,0) -> -20280 | BF113: =IF(N113="snížená",J113,0) -> 0 | BG113: =IF(N113="zákl. přenesená",J113,0) -> 0 | BH113: =IF(N113="sníž. přenesená",J113,0) -> 0 | BI113: =IF(N113="nulová",J113,0) -> 0 | BJ113: 1 | BK113: =ROUND(I113*H113,2) -> -20280 | BL113: 4 | BM113: -855788172
D114: VV | F114: "původní množství dle SOD" -5,79 | H114: -5.79 | AT114: VV | AU114: 2 | AV114: 2 | AW114: True | AX114: 0 | AY114: ROZPOCET
D115: VV | F115: "nové množství dle ZBV" 5,27 | H115: 5.27 | AT115: VV | AU115: 2 | AV115: 2 | AW115: True | AX115: 0 | AY115: ROZPOCET
D116: VV | F116: Součet | H116: -0.52 | AT116: VV | AU116: 2 | AV116: 4 | AW116: True | AX116: 1 | AY116: ROZPOCET
D117: D | E117: 4 | F117: Vodorovné konstrukce | J117: =BK117 -> -24907.09 | P117: =SUM(P118:P145) -> 0 | R117: =SUM(R118:R145) -> -0.92424195 | T117: =SUM(T118:T145) -> 0 | AR117: 1 | AT117: D | AU117: 1 | AY117: ROZPOCET | BK117: =SUM(BK118:BK145) -> -24907.09
C118: 6 | D118: K | E118: 411324444 | F118: Stropy z betonu železového (bez výztuže) pohledového stropů deskových, plochých střech, desek balkonových, desek hřibových stropů včetně hlavic hřibových sloupů tř. C 25/30 | G118: m3 | H118: -0.3 | I118: 7900 | J118: =ROUND(I118*H118,2) -> -2370 | N118: základní | O118: 0 | P118: =O118*H118 -> 0 | Q118: 2.50201 | R118: =Q118*H118 -> -0.750603 | S118: 0 | T118: =S118*H118 -> 0 | AR118: 4 | AT118: K | AU118: 2 | AY118: ROZPOCET | BE118: =IF(N118="základní",J118,0) -> -2370 | BF118: =IF(N118="snížená",J118,0) -> 0 | BG118: =IF(N118="zákl. přenesená",J118,0) -> 0 | BH118: =IF(N118="sníž. přenesená",J118,0) -> 0 | BI118: =IF(N118="nulová",J118,0) -> 0 | BJ118: 1 | BK118: =ROUND(I118*H118,2) -> -2370 | BL118: 4 | BM118: 1420189961
D119: VV | F119: "původní množství dle SOD" -3,420 | H119: -3.42 | AT119: VV | AU119: 2 | AV119: 2 | AW119: True | AX119: 0 | AY119: ROZPOCET
D120: VV | F120: "nové množství dle ZBV" 3,120 | H120: 3.12 | AT120: VV | AU120: 2 | AV120: 2 | AW120: True | AX120: 0 | AY120: ROZPOCET
D121: VV | F121: Součet | H121: -0.3 | AT121: VV | AU121: 2 | AV121: 4 | AW121: True | AX121: 1 | AY121: ROZPOCET
C122: 7 | D122: K | E122: 411351011 | F122: Bednění stropních konstrukcí - bez podpěrné konstrukce desek tloušťky stropní desky přes 5 do 25 cm zřízení | G122: m2 | H122: -18.255 | I122: 622 | J122: =ROUND(I122*H122,2) -> -11354.61 | N122: základní | O122: 0 | P122: =O122*H122 -> 0 | Q122: 0.00533 | R122: =Q122*H122 -> -0.09729915 | S122: 0 | T122: =S122*H122 -> 0 | AR122: 4 | AT122: K | AU122: 2 | AY122: ROZPOCET | BE122: =IF(N122="základní",J122,0) -> -11354.61 | BF122: =IF(N122="snížená",J122,0) -> 0 | BG122: =IF(N122="zákl. přenesená",J122,0) -> 0 | BH122: =IF(N122="sníž. přenesená",J122,0) -> 0 | BI122: =IF(N122="nulová",J122,0) -> 0 | BJ122: 1 | BK122: =ROUND(I122*H122,2) -> -11354.61 | BL122: 4 | BM122: -450345031
D123: VV | F123: "původní množství dle SOD" -18,255 | H123: -18.255 | AT123: VV | AU123: 2 | AV123: 2 | AW123: True | AX123: 0 | AY123: ROZPOCET
D124: VV | F124: "nové množství dle ZBV" 0 | H124: 0 | AT124: VV | AU124: 2 | AV124: 2 | AW124: True | AX124: 0 | AY124: ROZPOCET
D125: VV | F125: Součet | H125: -18.255 | AT125: VV | AU125: 2 | AV125: 4 | AW125: True | AX125: 1 | AY125: ROZPOCET
C126: 8 | D126: K | E126: 411351012 | F126: Bednění stropních konstrukcí - bez podpěrné konstrukce desek tloušťky stropní desky přes 5 do 25 cm odstranění | G126: m2 | H126: -18.255 | I126: 275 | J126: =ROUND(I126*H126,2) -> -5020.13 | N126: základní | O126: 0 | P126: =O126*H126 -> 0 | Q126: 0 | R126: =Q126*H126 -> 0 | S126: 0 | T126: =S126*H126 -> 0 | AR126: 4 | AT126: K | AU126: 2 | AY126: ROZPOCET | BE126: =IF(N126="základní",J126,0) -> -5020.13 | BF126: =IF(N126="snížená",J126,0) -> 0 | BG126: =IF(N126="zákl. přenesená",J126,0) -> 0 | BH126: =IF(N126="sníž. přenesená",J126,0) -> 0 | BI126: =IF(N126="nulová",J126,0) -> 0 | BJ126: 1 | BK126: =ROUND(I126*H126,2) -> -5020.13 | BL126: 4 | BM126: -1635889846
D127: VV | F127: "původní množství dle SOD" -18,255 | H127: -18.255 | AT127: VV | AU127: 2 | AV127: 2 | AW127: True | AX127: 0 | AY127: ROZPOCET
D128: VV | F128: "nové množství dle ZBV" 0 | H128: 0 | AT128: VV | AU128: 2 | AV128: 2 | AW128: True | AX128: 0 | AY128: ROZPOCET
D129: VV | F129: Součet | H129: -18.255 | AT129: VV | AU129: 2 | AV129: 4 | AW129: True | AX129: 1 | AY129: ROZPOCET
C130: 9 | D130: K | E130: 411354311 | F130: Podpěrná konstrukce stropů - desek, kleneb a skořepin výška podepření do 4 m tloušťka stropu přes 5 do 15 cm zřízení | G130: m2 | H130: -8.4 | I130: 206.8 | J130: =ROUND(I130*H130,2) -> -1737.12 | N130: základní | O130: 0 | P130: =O130*H130 -> 0 | Q130: 0.00081 | R130: =Q130*H130 -> -0.006804 | S130: 0 | T130: =S130*H130 -> 0 | AR130: 4 | AT130: K | AU130: 2 | AY130: ROZPOCET | BE130: =IF(N130="základní",J130,0) -> -1737.12 | BF130: =IF(N130="snížená",J130,0) -> 0 | BG130: =IF(N130="zákl. přenesená",J130,0) -> 0 | BH130: =IF(N130="sníž. přenesená",J130,0) -> 0 | BI130: =IF(N130="nulová",J130,0) -> 0 | BJ130: 1 | BK130: =ROUND(I130*H130,2) -> -1737.12 | BL130: 4 | BM130: 1127040923
D131: VV | F131: "původní množství dle SOD" -8,4 | H131: -8.4 | AT131: VV | AU131: 2 | AV131: 2 | AW131: True | AX131: 0 | AY131: ROZPOCET
D132: VV | F132: "nové množství dle ZBV" 0 | H132: 0 | AT132: VV | AU132: 2 | AV132: 2 | AW132: True | AX132: 0 | AY132: ROZPOCET
D133: VV | F133: Součet | H133: -8.4 | AT133: VV | AU133: 2 | AV133: 4 | AW133: True | AX133: 1 | AY133: ROZPOCET
...

Sheet ZBV-03b - vícepráce
AT2: {122bf830-2ec7-4911-8f50-491624c88f16}
AT3: 2
D4: KRYCÍ LIST SOUPISU PRACÍ | M4: v --- níže se nacházejí doplnkové a pomocné údaje k sestavám --- v | AT4: False
D6: Stavba:
E7: ='Rekapitulace stavby'!K6 -> ÚPRAVY HŘBITOVA KBELY- ETAPA1
D8: Objekt:
E9: 01 - Navrhované objekty
D10: Soupis:
E11: 08 - KOLUMBÁRIUM
D12: Úroveň 3:
E13: ZBV-03b - vícepráce
D15: KSO: | F15: 815 9 | I15: CC-CZ:
D16: Místo: | F16: Praha 9-Kbely | I16: Datum: | J16: ='Rekapitulace stavby'!AN8 -> 0
D18: Zadavatel: | I18: IČ: | J18: 00231304
E19: MČ Praha 19, Semilská 43/1, 197 00 Praha 9 - Kbely | I19: DIČ:
D21: Zhotovitel: | I21: IČ: | J21: 07395680
E22: IWU s.r.o. | I22: DIČ: | J22: CZ07395680
D24: Projektant: | I24: IČ:
E25: Ing.Jan Pustějovský, Ph.D. | I25: DIČ:
D27: Zpracovatel: | I27: IČ:
I28: DIČ:
D30: Poznámka:
D34: Cena bez DPH | J34: =ROUND(J94, 2) -> 351561.13
F36: Základ daně | I36: Sazba daně | J36: Výše daně
D37: DPH | E37: základní | F37: =ROUND((SUM(BE94:BE110)), 2) -> 351561.13 | I37: 0.21 | J37: =ROUND(((SUM(BE94:BE110))*I37), 2) -> 73827.84
E38: snížená | F38: =ROUND((SUM(BF94:BF110)), 2) -> 0 | I38: 0.12 | J38: =ROUND(((SUM(BF94:BF110))*I38), 2) -> 0
E39: zákl. přenesená | F39: =ROUND((SUM(BG94:BG110)), 2) -> 0 | I39: 0.21 | J39: =0 -> 0
E40: sníž. přenesená | F40: =ROUND((SUM(BH94:BH110)), 2) -> 0 | I40: 0.12 | J40: =0 -> 0
E41: nulová | F41: =ROUND((SUM(BI94:BI110)), 2) -> 0 | I41: 0 | J41: =0 -> 0
D43: Cena s DPH | G43: v | H43: CZK | J43: =SUM(J34:J41) -> 425388.97
C49: REKAPITULACE ČLENĚNÍ SOUPISU PRACÍ
C51: Stavba:
E52: =E7 -> ÚPRAVY HŘBITOVA KBELY- ETAPA1
C53: Objekt:
E54: 01 - Navrhované objekty
C55: Soupis:
E56: 08 - KOLUMBÁRIUM
C57: Úroveň 3:
E58: =E13 -> ZBV-03b - vícepráce
C60: Místo: | F60: =F16 -> Praha 9-Kbely | I60: Datum: | J60: =IF(J16="","",J16) -> 0
C62: Zadavatel: | F62: =E19 -> MČ Praha 19, Semilská 43/1, 197 00 Praha 9 - Kbely | I62: Projektant: | J62: =E25 -> Ing.Jan Pustějovský, Ph.D.
C63: Zhotovitel: | F63: =IF(E22="","",E22) -> IWU s.r.o. | I63: Zpracovatel: | J63: =E28
C65: Kód dílu - Popis | J65: Cena celkem [CZK]
C67: Náklady stavby celkem | J67: =J94 -> 351561.13 | AU67: -1
D68: HSV - Práce a dodávky HSV | J68: =J95 -> 351561.13
D69: 3 - Svislé a kompletní konstrukce | J69: =J96 -> 220970
D70: 998 - Přesun hmot | J70: =J103 -> 130591.13
C77: SOUPIS PRACÍ
C79: Stavba:
E80: =E7 -> ÚPRAVY HŘBITOVA KBELY- ETAPA1
C81: Objekt:
E82: 01 - Navrhované objekty
C83: Soupis:
E84: 08 - KOLUMBÁRIUM
C85: Úroveň 3:
E86: =E13 -> ZBV-03b - vícepráce
C88: Místo: | F88: =F16 -> Praha 9-Kbely | I88: Datum: | J88: =IF(J16="","",J16) -> 0
C90: Zadavatel: | F90: =E19 -> MČ Praha 19, Semilská 43/1, 197 00 Praha 9 - Kbely | I90: Projektant: | J90: =E25 -> Ing.Jan Pustějovský, Ph.D.
C91: Zhotovitel: | F91: =IF(E22="","",E22) -> IWU s.r.o. | I91: Zpracovatel: | J91: =E28
C93: PČ | D93: Typ | E93: Kód | F93: Popis | G93: MJ | H93: Množství | I93: J.cena [CZK] | J93: Cena celkem [CZK] | K93: Cenová soustava | N93: DPH | O93: J. Nh [h] | P93: Nh celkem [h] | Q93: J. hmotnost [t] | R93: Hmotnost celkem [t] | S93: J. suť [t] | T93: Suť Celkem [t]
C94: Náklady soupisu celkem | J94: =BK94 -> 351561.13 | P94: =P95 -> 79.598526 | R94: =R95 -> 29.20568 | T94: =T95 -> 0 | AT94: D | AU94: -1 | BK94: =BK95 -> 351561.13
D95: D | E95: HSV | F95: Práce a dodávky HSV | J95: =BK95 -> 351561.13 | P95: =P96+P103 -> 79.598526 | R95: =R96+R103 -> 29.20568 | T95: =T96+T103 -> 0 | AR95: 1 | AT95: D | AU95: 0 | AY95: ROZPOCET | BK95: =BK96+BK103 -> 351561.13
D96: D | E96: 3 | F96: Svislé a kompletní konstrukce | J96: =BK96 -> 220970 | P96: =SUM(P97:P102) -> 14.504 | R96: =SUM(R97:R102) -> 29.20568 | T96: =SUM(T97:T102) -> 0 | AR96: 1 | AT96: D | AU96: 1 | AY96: ROZPOCET | BK96: =SUM(BK97:BK102) -> 220970
C97: 1 | D97: K | E97: 342123911 | F97: Montáž dílců obvodových stěn ze železobetonu s nesvařovanými spoji, v budovách výšky do 18 m, hmotnosti do 1,5 t | G97: kus | H97: 6 | I97: 1490 | J97: =ROUND(I97*H97,2) -> 8940 | K97: CS ÚRS 2025 02 | N97: základní | O97: 1.224 | P97: =O97*H97 -> 7.344 | Q97: 0.10753 | R97: =Q97*H97 -> 0.64518 | S97: 0 | T97: =S97*H97 -> 0 | AR97: 4 | AT97: K | AU97: 2 | AY97: ROZPOCET | BE97: =IF(N97="základní",J97,0) -> 8940 | BF97: =IF(N97="snížená",J97,0) -> 0 | BG97: =IF(N97="zákl. přenesená",J97,0) -> 0 | BH97: =IF(N97="sníž. přenesená",J97,0) -> 0 | BI97: =IF(N97="nulová",J97,0) -> 0 | BJ97: 1 | BK97: =ROUND(I97*H97,2) -> 8940 | BL97: 4 | BM97: 836042479
D98: Online PSC | F98: https://podminky.urs.cz/item/CS_URS_2025_02/342123911 | AT98: Online PSC | AU98: 2
C99: 2 | D99: M | E99: 59332000 | F99: stěna nenosná ŽB včetně výztuže do 120kg/m3 objem prefabrikátu do 1m3 | G99: m3 | H99: 5.2 | I99: 20400 | J99: =ROUND(I99*H99,2) -> 106080 | K99: CS ÚRS 2025 02 | N99: základní | O99: 0 | P99: =O99*H99 -> 0 | Q99: 2.4 | R99: =Q99*H99 -> 12.48 | S99: 0 | T99: =S99*H99 -> 0 | AR99: 8 | AT99: M | AU99: 2 | AY99: ROZPOCET | BE99: =IF(N99="základní",J99,0) -> 106080 | BF99: =IF(N99="snížená",J99,0) -> 0 | BG99: =IF(N99="zákl. přenesená",J99,0) -> 0 | BH99: =IF(N99="sníž. přenesená",J99,0) -> 0 | BI99: =IF(N99="nulová",J99,0) -> 0 | BJ99: 1 | BK99: =ROUND(I99*H99,2) -> 106080 | BL99: 4 | BM99: -1558855876
C100: 4 | D100: M | E100: 59332001 | F100: stěna nenosná ŽB včetně výztuže do 120kg/m3 objem prefabrikátu přes 1m3 | G100: m3 | H100: 6 | I100: 16200 | J100: =ROUND(I100*H100,2) -> 97200 | K100: CS ÚRS 2025 02 | N100: základní | O100: 0 | P100: =O100*H100 -> 0 | Q100: 2.57 | R100: =Q100*H100 -> 15.42 | S100: 0 | T100: =S100*H100 -> 0 | AR100: 8 | AT100: M | AU100: 2 | AY100: ROZPOCET | BE100: =IF(N100="základní",J100,0) -> 97200 | BF100: =IF(N100="snížená",J100,0) -> 0 | BG100: =IF(N100="zákl. přenesená",J100,0) -> 0 | BH100: =IF(N100="sníž. přenesená",J100,0) -> 0 | BI100: =IF(N100="nulová",J100,0) -> 0 | BJ100: 1 | BK100: =ROUND(I100*H100,2) -> 97200 | BL100: 4 | BM100: -955039036
C101: 3 | D101: K | E101: 342123912 | F101: Montáž dílců obvodových stěn ze železobetonu s nesvařovanými spoji, v budovách výšky do 18 m, hmotnosti přes 1,5 do 3 t | G101: kus | H101: 5 | I101: 1750 | J101: =ROUND(I101*H101,2) -> 8750 | K101: CS ÚRS 2025 02 | N101: základní | O101: 1.432 | P101: =O101*H101 -> 7.16 | Q101: 0.1321 | R101: =Q101*H101 -> 0.6605 | S101: 0 | T101: =S101*H101 -> 0 | AR101: 4 | AT101: K | AU101: 2 | AY101: ROZPOCET | BE101: =IF(N101="základní",J101,0) -> 8750 | BF101: =IF(N101="snížená",J101,0) -> 0 | BG101: =IF(N101="zákl. přenesená",J101,0) -> 0 | BH101: =IF(N101="sníž. přenesená",J101,0) -> 0 | BI101: =IF(N101="nulová",J101,0) -> 0 | BJ101: 1 | BK101: =ROUND(I101*H101,2) -> 8750 | BL101: 4 | BM101: 1617106174
D102: Online PSC | F102: https://podminky.urs.cz/item/CS_URS_2025_02/342123912 | AT102: Online PSC | AU102: 2
D103: D | E103: 998 | F103: Přesun hmot | J103: =BK103 -> 130591.13 | P103: =SUM(P104:P110) -> 65.094526 | R103: =SUM(R104:R110) -> 0 | T103: =SUM(T104:T110) -> 0 | AR103: 1 | AT103: D | AU103: 1 | AY103: ROZPOCET | BK103: =SUM(BK104:BK110) -> 130591.13
C104: 5 | D104: K | E104: 998014094 | F104: Přesun hmot pro budovy a haly občanské výstavby, bydlení, výrobu a služby s nosnou svislou konstrukcí montovanou z dílců betonových plošných nebo tyčových s jakýmkoliv obvodovým pláštěm kromě vyzdívaného, i bez pláště Příplatek k cenám za zvětšený přesun přes vymezenou vodorovnou dopravní vzdálenost do 5000 m | G104: t | H104: 29.206 | I104: 564 | J104: =ROUND(I104*H104,2) -> 16472.18 | K104: CS ÚRS 2025 02 | N104: základní | O104: 0.472 | P104: =O104*H104 -> 13.785232 | Q104: 0 | R104: =Q104*H104 -> 0 | S104: 0 | T104: =S104*H104 -> 0 | AR104: 4 | AT104: K | AU104: 2 | AY104: ROZPOCET | BE104: =IF(N104="základní",J104,0) -> 16472.18 | BF104: =IF(N104="snížená",J104,0) -> 0 | BG104: =IF(N104="zákl. přenesená",J104,0) -> 0 | BH104: =IF(N104="sníž. přenesená",J104,0) -> 0 | BI104: =IF(N104="nulová",J104,0) -> 0 | BJ104: 1 | BK104: =ROUND(I104*H104,2) -> 16472.18 | BL104: 4 | BM104: 247670822
D105: Online PSC | F105: https://podminky.urs.cz/item/CS_URS_2025_02/998014094 | AT105: Online PSC | AU105: 2
C106: 6 | D106: K | E106: 998014095 | F106: Přesun hmot pro budovy a haly občanské výstavby, bydlení, výrobu a služby s nosnou svislou konstrukcí montovanou z dílců betonových plošných nebo tyčových s jakýmkoliv obvodovým pláštěm kromě vyzdívaného, i bez pláště Příplatek k cenám za zvětšený přesun přes vymezenou vodorovnou dopravní vzdálenost za každých dalších započatých 5000 m | G106: t | H106: 884.643 | I106: 129 | J106: =ROUND(I106*H106,2) -> 114118.95 | K106: CS ÚRS 2025 02 | N106: základní | O106: 0.058 | P106: =O106*H106 -> 51.309294 | Q106: 0 | R106: =Q106*H106 -> 0 | S106: 0 | T106: =S106*H106 -> 0 | AR106: 4 | AT106: K | AU106: 2 | AY106: ROZPOCET | BE106: =IF(N106="základní",J106,0) -> 114118.95 | BF106: =IF(N106="snížená",J106,0) -> 0 | BG106: =IF(N106="zákl. přenesená",J106,0) -> 0 | BH106: =IF(N106="sníž. přenesená",J106,0) -> 0 | BI106: =IF(N106="nulová",J106,0) -> 0 | BJ106: 1 | BK106: =ROUND(I106*H106,2) -> 114118.95 | BL106: 4 | BM106: 918158792
D107: Online PSC | F107: https://podminky.urs.cz/item/CS_URS_2025_02/998014095 | AT107: Online PSC | AU107: 2
D108: VV | F108: "154km - 5km | AT108: VV | AU108: 2 | AV108: 1 | AW108: True | AX108: 0 | AY108: ROZPOCET
D109: VV | F109: (154-5)/5 * 29,686 | H109: 884.643 | AT109: VV | AU109: 2 | AV109: 2 | AW109: True | AX109: 0 | AY109: ROZPOCET
D110: VV | F110: Součet | H110: 884.643 | AT110: VV | AU110: 2 | AV110: 4 | AW110: True | AX110: 1 | AY110: ROZPOCET

Sheet 09 - KOLUMBÁRIUM
AT2: {318d45e2-cc03-49f6-adcc-6cfa3c94cc2b}
AT3: 2
D4: KRYCÍ LIST SOUPISU PRACÍ | M4: v --- níže se nacházejí doplnkové a pomocné údaje k sestavám --- v | AT4: False
D6: Stavba:
E7: ='Rekapitulace stavby'!K6 -> ÚPRAVY HŘBITOVA KBELY- ETAPA1
D8: Objekt:
E9: 01 - Navrhované objekty
D10: Soupis:
E11: 09 - KOLUMBÁRIUM
D13: KSO: | F13: 815 9 | I13: CC-CZ:
D14: Místo: | F14: Praha 9-Kbely | I14: Datum: | J14: ='Rekapitulace stavby'!AN8 -> 0
D16: Zadavatel: | I16: IČ: | J16: 00231304
E17: MČ Praha 19, Semilská 43/1, 197 00 Praha 9 - Kbely | I17: DIČ:
D19: Zhotovitel: | I19: IČ: | J19: 07395680
E20: IWU s.r.o. | I20: DIČ: | J20: CZ07395680
D22: Projektant: | I22: IČ:
E23: Ing.Jan Pustějovský, Ph.D. | I23: DIČ:
D25: Zpracovatel: | I25: IČ:
I26: DIČ:
D28: Poznámka:
E29: Položkový rozpočet zpracován v CS ÚRS s CH 2024/II na základě PD -10/2024
D32: Cena bez DPH | J32: =ROUND(J94, 2) -> 992020.21
F34: Základ daně | I34: Sazba daně | J34: Výše daně
D35: DPH | E35: základní | F35: =ROUND((SUM(BE94:BE192)), 2) -> 992020.21 | I35: 0.21 | J35: =ROUND(((SUM(BE94:BE192))*I35), 2) -> 208324.24
E36: snížená | F36: =ROUND((SUM(BF94:BF192)), 2) -> 0 | I36: 0.12 | J36: =ROUND(((SUM(BF94:BF192))*I36), 2) -> 0
E37: zákl. přenesená | F37: =ROUND((SUM(BG94:BG192)), 2) -> 0 | I37: 0.21 | J37: =0 -> 0
E38: sníž. přenesená | F38: =ROUND((SUM(BH94:BH192)), 2) -> 0 | I38: 0.12 | J38: =0 -> 0
E39: nulová | F39: =ROUND((SUM(BI94:BI192)), 2) -> 0 | I39: 0 | J39: =0 -> 0
D41: Cena s DPH | G41: v | H41: CZK | J41: =SUM(J32:J39) -> 1200344.4
C47: REKAPITULACE ČLENĚNÍ SOUPISU PRACÍ
C49: Stavba:
E50: =E7 -> ÚPRAVY HŘBITOVA KBELY- ETAPA1
C51: Objekt:
E52: 01 - Navrhované objekty
C53: Soupis:
E54: =E11 -> 09 - KOLUMBÁRIUM
C56: Místo: | F56: =F14 -> Praha 9-Kbely | I56: Datum: | J56: =IF(J14="","",J14) -> 0
C58: Zadavatel: | F58: =E17 -> MČ Praha 19, Semilská 43/1, 197 00 Praha 9 - Kbely | I58: Projektant: | J58: =E23 -> Ing.Jan Pustějovský, Ph.D.
C59: Zhotovitel: | F59: =IF(E20="","",E20) -> IWU s.r.o. | I59: Zpracovatel: | J59: =E26
C61: Kód dílu - Popis | J61: Cena celkem [CZK]
C63: Náklady stavby celkem | J63: =J94 -> 992020.21 | AU63: -1
D64: HSV - Práce a dodávky HSV | J64: =J95 -> 372520.21
D65: 1 - Zemní práce | J65: =J96 -> 17303.41
D66: 2 - Zakládání | J66: =J109 -> 55468.3
D67: 3 - Svislé a kompletní konstrukce | J67: =J129 -> 248160.15
D68: 4 - Vodorovné konstrukce | J68: =J160 -> 27364.79
D69: 9 - Ostatní konstrukce a práce, bourání | J69: =J178 -> 5203.2
D70: 998 - Přesun hmot | J70: =J185 -> 19020.36
D71: PSV - PSV | J71: =J187 -> 619500
D72: ATYP - Atypické prvky | J72: =J188 -> 619500
C79: SOUPIS PRACÍ
C81: Stavba:
E82: =E7 -> ÚPRAVY HŘBITOVA KBELY- ETAPA1
C83: Objekt:
E84: 01 - Navrhované objekty
C85: Soupis:
E86: =E11 -> 09 - KOLUMBÁRIUM
C88: Místo: | F88: =F14 -> Praha 9-Kbely | I88: Datum: | J88: =IF(J14="","",J14) -> 0
C90: Zadavatel: | F90: =E17 -> MČ Praha 19, Semilská 43/1, 197 00 Praha 9 - Kbely | I90: Projektant: | J90: =E23 -> Ing.Jan Pustějovský, Ph.D.
C91: Zhotovitel: | F91: =IF(E20="","",E20) -> IWU s.r.o. | I91: Zpracovatel: | J91: =E26
C93: PČ | D93: Typ | E93: Kód | F93: Popis | G93: MJ | H93: Množství | I93: J.cena [CZK] | J93: Cena celkem [CZK] | K93: Cenová soustava | N93: DPH | O93: J. Nh [h] | P93: Nh celkem [h] | Q93: J. hmotnost [t] | R93: Hmotnost celkem [t] | S93: J. suť [t] | T93: Suť Celkem [t]
C94: Náklady soupisu celkem | J94: =BK94 -> 992020.21 | P94: =P95+P187 -> 0 | R94: =R95+R187 -> 61.355657 | T94: =T95+T187 -> 0 | AT94: D | AU94: -1 | BK94: =BK95+BK187 -> 992020.21
D95: D | E95: HSV | F95: Práce a dodávky HSV | J95: =BK95 -> 372520.21 | P95: =P96+P109+P129+P160+P178+P185 -> 0 | R95: =R96+R109+R129+R160+R178+R185 -> 61.355657 | T95: =T96+T109+T129+T160+T178+T185 -> 0 | AR95: 1 | AT95: D | AU95: 0 | AY95: ROZPOCET | BK95: =BK96+BK109+BK129+BK160+BK178+BK185 -> 372520.21
D96: D | E96: 1 | F96: Zemní práce | J96: =BK96 -> 17303.41 | P96: =SUM(P97:P108) -> 0 | R96: =SUM(R97:R108) -> 0 | T96: =SUM(T97:T108) -> 0 | AR96: 1 | AT96: D | AU96: 1 | AY96: ROZPOCET | BK96: =SUM(BK97:BK108) -> 17303.41
C97: 1 | D97: K | E97: 132251252 | F97: Hloubení nezapažených rýh šířky přes 800 do 2 000 mm strojně s urovnáním dna do předepsaného profilu a spádu v hornině třídy těžitelnosti I skupiny 3 přes 20 do 50 m3 | G97: m3 | H97: 12.626 | I97: 632.1 | J97: =ROUND(I97*H97,2) -> 7980.89 | N97: základní | O97: 0 | P97: =O97*H97 -> 0 | Q97: 0 | R97: =Q97*H97 -> 0 | S97: 0 | T97: =S97*H97 -> 0 | AR97: 4 | AT97: K | AU97: 2 | AY97: ROZPOCET | BE97: =IF(N97="základní",J97,0) -> 7980.89 | BF97: =IF(N97="snížená",J97,0) -> 0 | BG97: =IF(N97="zákl. přenesená",J97,0) -> 0 | BH97: =IF(N97="sníž. přenesená",J97,0) -> 0 | BI97: =IF(N97="nulová",J97,0) -> 0 | BJ97: 1 | BK97: =ROUND(I97*H97,2) -> 7980.89 | BL97: 4 | BM97: -1063891215
D98: VV | F98: "150 mm sejmutá ornice - viz část 01a"9,1*1,85*0,75 | H98: 12.626 | AT98: VV | AU98: 2 | AV98: 2 | AW98: True | AX98: 1 | AY98: ROZPOCET
C99: 2 | D99: K | E99: 162751117 | F99: Vodorovné přemístění výkopku nebo sypaniny po suchu na obvyklém dopravním prostředku, bez naložení výkopku, avšak se složením bez rozhrnutí z horniny třídy těžitelnosti I skupiny 1 až 3 na vzdálenost přes 9 000 do 10 000 m | G99: m3 | H99: 6.711 | I99: 301.56 | J99: =ROUND(I99*H99,2) -> 2023.77 | N99: základní | O99: 0 | P99: =O99*H99 -> 0 | Q99: 0 | R99: =Q99*H99 -> 0 | S99: 0 | T99: =S99*H99 -> 0 | AR99: 4 | AT99: K | AU99: 2 | AY99: ROZPOCET | BE99: =IF(N99="základní",J99,0) -> 2023.77 | BF99: =IF(N99="snížená",J99,0) -> 0 | BG99: =IF(N99="zákl. přenesená",J99,0) -> 0 | BH99: =IF(N99="sníž. přenesená",J99,0) -> 0 | BI99: =IF(N99="nulová",J99,0) -> 0 | BJ99: 1 | BK99: =ROUND(I99*H99,2) -> 2023.77 | BL99: 4 | BM99: 234504518
D100: VV | F100: "zbývající zemina odvezena na skládku"12,626-5,915 | H100: 6.711 | AT100: VV | AU100: 2 | AV100: 2 | AW100: True | AX100: 1 | AY100: ROZPOCET
C101: 3 | D101: K | E101: 171201231 | F101: Poplatek za uložení stavebního odpadu na recyklační skládce (skládkovné) zeminy a kamení zatříděného do Katalogu odpadů pod kódem 17 05 04 | G101: t | H101: 11.409 | I101: 342 | J101: =ROUND(I101*H101,2) -> 3901.88 | N101: základní | O101: 0 | P101: =O101*H101 -> 0 | Q101: 0 | R101: =Q101*H101 -> 0 | S101: 0 | T101: =S101*H101 -> 0 | AR101: 4 | AT101: K | AU101: 2 | AY101: ROZPOCET | BE101: =IF(N101="základní",J101,0) -> 3901.88 | BF101: =IF(N101="snížená",J101,0) -> 0 | BG101: =IF(N101="zákl. přenesená",J101,0) -> 0 | BH101: =IF(N101="sníž. přenesená",J101,0) -> 0 | BI101: =IF(N101="nulová",J101,0) -> 0 | BJ101: 1 | BK101: =ROUND(I101*H101,2) -> 3901.88 | BL101: 4 | BM101: 2097462
D102: VV | F102: 6,711*1,7 | H102: 11.409 | AT102: VV | AU102: 2 | AV102: 2 | AW102: True | AX102: 1 | AY102: ROZPOCET
C103: 4 | D103: K | E103: 174151101 | F103: Zásyp sypaninou z jakékoliv horniny strojně s uložením výkopku ve vrstvách se zhutněním jam, šachet, rýh nebo kolem objektů v těchto vykopávkách | G103: m3 | H103: 5.915 | I103: 257 | J103: =ROUND(I103*H103,2) -> 1520.16 | N103: základní | O103: 0 | P103: =O103*H103 -> 0 | Q103: 0 | R103: =Q103*H103 -> 0 | S103: 0 | T103: =S103*H103 -> 0 | AR103: 4 | AT103: K | AU103: 2 | AY103: ROZPOCET | BE103: =IF(N103="základní",J103,0) -> 1520.16 | BF103: =IF(N103="snížená",J103,0) -> 0 | BG103: =IF(N103="zákl. přenesená",J103,0) -> 0 | BH103: =IF(N103="sníž. přenesená",J103,0) -> 0 | BI103: =IF(N103="nulová",J103,0) -> 0 | BJ103: 1 | BK103: =ROUND(I103*H103,2) -> 1520.16 | BL103: 4 | BM103: -437168274
D104: VV | F104: 9,1*1,0*0,5+9,1*0,3*0,5 | H104: 5.915 | AT104: VV | AU104: 2 | AV104: 2 | AW104: True | AX104: 1 | AY104: ROZPOCET
C105: 5 | D105: K | E105: 162251101 | F105: Vodorovné přemístění výkopku nebo sypaniny po suchu na obvyklém dopravním prostředku, bez naložení výkopku, avšak se složením bez rozhrnutí z horniny třídy těžitelnosti I skupiny 1 až 3 na vzdálenost do 20 m | G105: m3 | H105: 5.915 | I105: 150 | J105: =ROUND(I105*H105,2) -> 887.25 | N105: základní | O105: 0 | P105: =O105*H105 -> 0 | Q105: 0 | R105: =Q105*H105 -> 0 | S105: 0 | T105: =S105*H105 -> 0 | AR105: 4 | AT105: K | AU105: 2 | AY105: ROZPOCET | BE105: =IF(N105="základní",J105,0) -> 887.25 | BF105: =IF(N105="snížená",J105,0) -> 0 | BG105: =IF(N105="zákl. přenesená",J105,0) -> 0 | BH105: =IF(N105="sníž. přenesená",J105,0) -> 0 | BI105: =IF(N105="nulová",J105,0) -> 0 | BJ105: 1 | BK105: =ROUND(I105*H105,2) -> 887.25 | BL105: 4 | BM105: -1279376152
D106: VV | F106: 5,915 | H106: 5.915 | AT106: VV | AU106: 2 | AV106: 2 | AW106: True | AX106: 1 | AY106: ROZPOCET
C107: 6 | D107: K | E107: 167151101 | F107: Nakládání, skládání a překládání neulehlého výkopku nebo sypaniny strojně nakládání, množství do 100 m3, z horniny třídy těžitelnosti I, skupiny 1 až 3 | G107: m3 | H107: 5.915 | I107: 167.28 | J107: =ROUND(I107*H107,2) -> 989.46 | N107: základní | O107: 0 | P107: =O107*H107 -> 0 | Q107: 0 | R107: =Q107*H107 -> 0 | S107: 0 | T107: =S107*H107 -> 0 | AR107: 4 | AT107: K | AU107: 2 | AY107: ROZPOCET | BE107: =IF(N107="základní",J107,0) -> 989.46 | BF107: =IF(N107="snížená",J107,0) -> 0 | BG107: =IF(N107="zákl. přenesená",J107,0) -> 0 | BH107: =IF(N107="sníž. přenesená",J107,0) -> 0 | BI107: =IF(N107="nulová",J107,0) -> 0 | BJ107: 1 | BK107: =ROUND(I107*H107,2) -> 989.46 | BL107: 4 | BM107: 258571787
D108: VV | F108: 5,915 | H108: 5.915 | AT108: VV | AU108: 2 | AV108: 2 | AW108: True | AX108: 1 | AY108: ROZPOCET
D109: D | E109: 2 | F109: Zakládání | J109: =BK109 -> 55468.3 | P109: =SUM(P110:P128) -> 0 | R109: =SUM(R110:R128) -> 18.137618 | T109: =SUM(T110:T128) -> 0 | AR109: 1 | AT109: D | AU109: 1 | AY109: ROZPOCET | BK109: =SUM(BK110:BK128) -> 55468.3
C110: 7 | D110: K | E110: 273321411 | F110: Základy z betonu železového (bez výztuže) desky z betonu bez zvláštních nároků na prostředí tř. C 20/25 | G110: m3 | H110: 2.912 | I110: 4201.47 | J110: =ROUND(I110*H110,2) -> 12234.68 | N110: základní | O110: 0 | P110: =O110*H110 -> 0 | Q110: 2.5018722 | R110: =Q110*H110 -> 7.2854519 | S110: 0 | T110: =S110*H110 -> 0 | AR110: 4 | AT110: K | AU110: 2 | AY110: ROZPOCET | BE110: =IF(N110="základní",J110,0) -> 12234.68 | BF110: =IF(N110="snížená",J110,0) -> 0 | BG110: =IF(N110="zákl. přenesená",J110,0) -> 0 | BH110: =IF(N110="sníž. přenesená",J110,0) -> 0 | BI110: =IF(N110="nulová",J110,0) -> 0 | BJ110: 1 | BK110: =ROUND(I110*H110,2) -> 12234.68 | BL110: 4 | BM110: 1105554041
D111: VV | F111: 9,1*1,6*0,2 | H111: 2.912 | AT111: VV | AU111: 2 | AV111: 2 | AW111: True | AX111: 0 | AY111: ROZPOCET
D112: VV | F112: Součet | H112: 2.912 | AT112: VV | AU112: 2 | AV112: 4 | AW112: True | AX112: 1 | AY112: ROZPOCET
C113: 8 | D113: K | E113: 273362021 | F113: Výztuž základů desek ze svařovaných sítí z drátů typu KARI | G113: t | H113: 0.176 | I113: 38976.62 | J113: =ROUND(I113*H113,2) -> 6859.89 | N113: základní | O113: 0 | P113: =O113*H113 -> 0 | Q113: 1.0627728 | R113: =Q113*H113 -> 0.18704801 | S113: 0 | T113: =S113*H113 -> 0 | AR113: 4 | AT113: K | AU113: 2 | AY113: ROZPOCET | BE113: =IF(N113="základní",J113,0) -> 6859.89 | BF113: =IF(N113="snížená",J113,0) -> 0 | BG113: =IF(N113="zákl. přenesená",J113,0) -> 0 | BH113: =IF(N113="sníž. přenesená",J113,0) -> 0 | BI113: =IF(N113="nulová",J113,0) -> 0 | BJ113: 1 | BK113: =ROUND(I113*H113,2) -> 6859.89 | BL113: 4 | BM113: 708940237
D114: VV | F114: "2x8-150/150, vč. ztratného 1,15" | AT114: VV | AU114: 2 | AV114: 1 | AW114: True | AX114: 0 | AY114: ROZPOCET
D115: VV | F115: "dle metodiky URS-směrné množství výztuže 5,267 kg/m2" | AT115: VV | AU115: 2 | AV115: 1 | AW115: True | AX115: 0 | AY115: ROZPOCET
D116: VV | F116: (9,1*1,6*5,267*2*1,15)/1000 | H116: 0.176 | AT116: VV | AU116: 2 | AV116: 2 | AW116: True | AX116: 1 | AY116: ROZPOCET
C117: 9 | D117: K | E117: 274321511 | F117: Základy z betonu železového (bez výztuže) pasy z betonu bez zvláštních nároků na prostředí tř. C 25/30 | G117: m3 | H117: 1.456 | I117: 4376.57 | J117: =ROUND(I117*H117,2) -> 6372.29 | N117: základní | O117: 0 | P117: =O117*H117 -> 0 | Q117: 2.50187 | R117: =Q117*H117 -> 3.6427227 | S117: 0 | T117: =S117*H117 -> 0 | AR117: 4 | AT117: K | AU117: 2 | AY117: ROZPOCET | BE117: =IF(N117="základní",J117,0) -> 6372.29 | BF117: =IF(N117="snížená",J117,0) -> 0 | BG117: =IF(N117="zákl. přenesená",J117,0) -> 0 | BH117: =IF(N117="sníž. přenesená",J117,0) -> 0 | BI117: =IF(N117="nulová",J117,0) -> 0 | BJ117: 1 | BK117: =ROUND(I117*H117,2) -> 6372.29 | BL117: 4 | BM117: -390439510
D118: VV | F118: "sokl-viz řez"9,1*1,6*0,1 | H118: 1.456 | AT118: VV | AU118: 2 | AV118: 2 | AW118: True | AX118: 1 | AY118: ROZPOCET
C119: 10 | D119: K | E119: 274361821 | F119: Výztuž základů pasů z betonářské oceli 10 505 (R) nebo BSt 500 | G119: t | H119: 0.146 | I119: 39000 | J119: =ROUND(I119*H119,2) -> 5694 | N119: základní | O119: 0 | P119: =O119*H119 -> 0 | Q119: 1.06062 | R119: =Q119*H119 -> 0.15485052 | S119: 0 | T119: =S119*H119 -> 0 | AR119: 4 | AT119: K | AU119: 2 | AY119: ROZPOCET | BE119: =IF(N119="základní",J119,0) -> 5694 | BF119: =IF(N119="snížená",J119,0) -> 0 | BG119: =IF(N119="zákl. přenesená",J119,0) -> 0 | BH119: =IF(N119="sníž. přenesená",J119,0) -> 0 | BI119: =IF(N119="nulová",J119,0) -> 0 | BJ119: 1 | BK119: =ROUND(I119*H119,2) -> 5694 | BL119: 4 | BM119: -1044377998
D120: VV | F120: "B500B" | AT120: VV | AU120: 2 | AV120: 1 | AW120: True | AX120: 0 | AY120: ROZPOCET
D121: VV | F121: "dle metodiky URS-směrné množství výztuže 100 kg/m3" | AT121: VV | AU121: 2 | AV121: 1 | AW121: True | AX121: 0 | AY121: ROZPOCET
D122: VV | F122: 9,1*1,6*0,1*0,1 | H122: 0.146 | AT122: VV | AU122: 2 | AV122: 2 | AW122: True | AX122: 1 | AY122: ROZPOCET
C123: 11 | D123: K | E123: 279113144 | F123: Základové zdi z tvárnic ztraceného bednění včetně výplně z betonu bez zvláštních nároků na vliv prostředí třídy C 20/25, tloušťky zdiva přes 250 do 300 mm | G123: m2 | H123: 9.1 | I123: 1968.29 | J123: =ROUND(I123*H123,2) -> 17911.44 | N123: základní | O123: 0 | P123: =O123*H123 -> 0 | Q123: 0.73558274 | R123: =Q123*H123 -> 6.6938029 | S123: 0 | T123: =S123*H123 -> 0 | AR123: 4 | AT123: K | AU123: 2 | AY123: ROZPOCET | BE123: =IF(N123="základní",J123,0) -> 17911.44 | BF123: =IF(N123="snížená",J123,0) -> 0 | BG123: =IF(N123="zákl. přenesená",J123,0) -> 0 | BH123: =IF(N123="sníž. přenesená",J123,0) -> 0 | BI123: =IF(N123="nulová",J123,0) -> 0 | BJ123: 1 | BK123: =ROUND(I123*H123,2) -> 17911.44 | BL123: 4 | BM123: 587366382
D124: VV | F124: 9,1*0,5*2 | H124: 9.1 | AT124: VV | AU124: 2 | AV124: 2 | AW124: True | AX124: 1 | AY124: ROZPOCET
C125: 12 | D125: K | E125: 279361821 | F125: Výztuž základových zdí nosných svislých nebo odkloněných od svislice, rovinných nebo oblých, deskových nebo žebrových, včetně výztuže jejich žeber z betonářské oceli 10 505 (R) nebo BSt 500 | G125: t | H125: 0.164 | I125: 39000 | J125: =ROUND(I125*H125,2) -> 6396 | N125: základní | O125: 0 | P125: =O125*H125 -> 0 | Q125: 1.0594031 | R125: =Q125*H125 -> 0.17374211 | S125: 0 | T125: =S125*H125 -> 0 | AR125: 4 | AT125: K | AU125: 2 | AY125: ROZPOCET | BE125: =IF(N125="základní",J125,0) -> 6396 | BF125: =IF(N125="snížená",J125,0) -> 0 | BG125: =IF(N125="zákl. přenesená",J125,0) -> 0 | BH125: =IF(N125="sníž. přenesená",J125,0) -> 0 | BI125: =IF(N125="nulová",J125,0) -> 0 | BJ125: 1 | BK125: =ROUND(I125*H125,2) -> 6396 | BL125: 4 | BM125: 1252840042
D126: VV | F126: "B500B" | AT126: VV | AU126: 2 | AV126: 1 | AW126: True | AX126: 0 | AY126: ROZPOCET
D127: VV | F127: "do ztraceného bednění, dle směrného množství výztuže dle CS ÚRS je cca 40-60 kg/m3" | AT127: VV | AU127: 2 | AV127: 1 | AW127: True | AX127: 0 | AY127: ROZPOCET
D128: VV | F128: 9,1*0,5*2*0,3*0,06 | H128: 0.164 | AT128: VV | AU128: 2 | AV128: 2 | AW128: True | AX128: 1 | AY128: ROZPOCET
D129: D | E129: 3 | F129: Svislé a kompletní konstrukce | J129: =BK129 -> 248160.15 | P129: =SUM(P130:P159) -> 0 | R129: =SUM(R130:R159) -> 39.568593 | T129: =SUM(T130:T159) -> 0 | AR129: 1 | AT129: D | AU129: 1 | AY129: ROZPOCET | BK129: =SUM(BK130:BK159) -> 248160.15
C130: 13 | D130: K | E130: 311321814 | F130: Nadzákladové zdi z betonu železového (bez výztuže) nosné pohledového (v přírodní barvě drtí a přísad) tř. C 25/30 | G130: m3 | H130: 14.858 | I130: 7900 | J130: =ROUND(I130*H130,2) -> 117378.2 | N130: základní | O130: 0 | P130: =O130*H130 -> 0 | Q130: 2.50187 | R130: =Q130*H130 -> 37.172784 | S130: 0 | T130: =S130*H130 -> 0 | AR130: 4 | AT130: K | AU130: 2 | AY130: ROZPOCET | BE130: =IF(N130="základní",J130,0) -> 117378.2 | BF130: =IF(N130="snížená",J130,0) -> 0 | BG130: =IF(N130="zákl. přenesená",J130,0) -> 0 | BH130: =IF(N130="sníž. přenesená",J130,0) -> 0 | BI130: =IF(N130="nulová",J130,0) -> 0 | BJ130: 1 | BK130: =ROUND(I130*H130,2) -> 117378.2 | BL130: 4 | BM130: 389572467
D131: VV | F131: "nadsoklová část vč. soklu nad terénem" | AT131: VV | AU131: 2 | AV131: 1 | AW131: True | AX131: 0 | AY131: ROZPOCET
D132: VV | F132: 9,1*1,6*0,550+9,1*1,0*0,25 | H132: 10.283 | AT132: VV | AU132: 2 | AV132: 2 | AW132: True | AX132: 0 | AY132: ROZPOCET
...

Sheet ZBV-04a - méněpráce
AT2: {7cd4c9f9-8373-44a4-b9f8-84d4560f5040}
AT3: 2
D4: KRYCÍ LIST SOUPISU PRACÍ | M4: v --- níže se nacházejí doplnkové a pomocné údaje k sestavám --- v | AT4: False
D6: Stavba:
E7: ='Rekapitulace stavby'!K6 -> ÚPRAVY HŘBITOVA KBELY- ETAPA1
D8: Objekt:
E9: 01 - Navrhované objekty
D10: Soupis:
E11: 09 - KOLUMBÁRIUM
D12: Úroveň 3:
E13: ZBV-04a - méněpráce
D15: KSO: | F15: 815 9 | I15: CC-CZ:
D16: Místo: | F16: Praha 9-Kbely | I16: Datum: | J16: ='Rekapitulace stavby'!AN8 -> 0
D18: Zadavatel: | I18: IČ: | J18: 00231304
E19: MČ Praha 19, Semilská 43/1, 197 00 Praha 9 - Kbely | I19: DIČ:
D21: Zhotovitel: | I21: IČ: | J21: 07395680
E22: IWU s.r.o. | I22: DIČ: | J22: CZ07395680
D24: Projektant: | I24: IČ:
E25: Ing.Jan Pustějovský, Ph.D. | I25: DIČ:
D27: Zpracovatel: | I27: IČ:
I28: DIČ:
D30: Poznámka:
D34: Cena bez DPH | J34: =ROUND(J94, 2) -> -86577.24
F36: Základ daně | I36: Sazba daně | J36: Výše daně
D37: DPH | E37: základní | F37: =ROUND((SUM(BE94:BE145)), 2) -> -86577.24 | I37: 0.21 | J37: =ROUND(((SUM(BE94:BE145))*I37), 2) -> -18181.22
E38: snížená | F38: =ROUND((SUM(BF94:BF145)), 2) -> 0 | I38: 0.12 | J38: =ROUND(((SUM(BF94:BF145))*I38), 2) -> 0
E39: zákl. přenesená | F39: =ROUND((SUM(BG94:BG145)), 2) -> 0 | I39: 0.21 | J39: =0 -> 0
E40: sníž. přenesená | F40: =ROUND((SUM(BH94:BH145)), 2) -> 0 | I40: 0.12 | J40: =0 -> 0
E41: nulová | F41: =ROUND((SUM(BI94:BI145)), 2) -> 0 | I41: 0 | J41: =0 -> 0
D43: Cena s DPH | G43: v | H43: CZK | J43: =SUM(J34:J41) -> -104758.46
C49: REKAPITULACE ČLENĚNÍ SOUPISU PRACÍ
C51: Stavba:
E52: =E7 -> ÚPRAVY HŘBITOVA KBELY- ETAPA1
C53: Objekt:
E54: 01 - Navrhované objekty
C55: Soupis:
E56: 09 - KOLUMBÁRIUM
C57: Úroveň 3:
E58: =E13 -> ZBV-04a - méněpráce
C60: Místo: | F60: =F16 -> Praha 9-Kbely | I60: Datum: | J60: =IF(J16="","",J16) -> 0
C62: Zadavatel: | F62: =E19 -> MČ Praha 19, Semilská 43/1, 197 00 Praha 9 - Kbely | I62: Projektant: | J62: =E25 -> Ing.Jan Pustějovský, Ph.D.
C63: Zhotovitel: | F63: =IF(E22="","",E22) -> IWU s.r.o. | I63: Zpracovatel: | J63: =E28
C65: Kód dílu - Popis | J65: Cena celkem [CZK]
C67: Náklady stavby celkem | J67: =J94 -> -86577.24 | AU67: -1
D68: HSV - Práce a dodávky HSV | J68: =J95 -> -86577.24
D69: 3 - Svislé a kompletní konstrukce | J69: =J96 -> -75133.95
D70: 4 - Vodorovné konstrukce | J70: =J117 -> -11443.29
C77: SOUPIS PRACÍ
C79: Stavba:
E80: =E7 -> ÚPRAVY HŘBITOVA KBELY- ETAPA1
C81: Objekt:
E82: 01 - Navrhované objekty
C83: Soupis:
E84: 09 - KOLUMBÁRIUM
C85: Úroveň 3:
E86: =E13 -> ZBV-04a - méněpráce
C88: Místo: | F88: =F16 -> Praha 9-Kbely | I88: Datum: | J88: =IF(J16="","",J16) -> 0
C90: Zadavatel: | F90: =E19 -> MČ Praha 19, Semilská 43/1, 197 00 Praha 9 - Kbely | I90: Projektant: | J90: =E25 -> Ing.Jan Pustějovský, Ph.D.
C91: Zhotovitel: | F91: =IF(E22="","",E22) -> IWU s.r.o. | I91: Zpracovatel: | J91: =E28
C93: PČ | D93: Typ | E93: Kód | F93: Popis | G93: MJ | H93: Množství | I93: J.cena [CZK] | J93: Cena celkem [CZK] | K93: Cenová soustava | N93: DPH | O93: J. Nh [h] | P93: Nh celkem [h] | Q93: J. hmotnost [t] | R93: Hmotnost celkem [t] | S93: J. suť [t] | T93: Suť Celkem [t]
C94: Náklady soupisu celkem | J94: =BK94 -> -86577.24 | P94: =P95 -> 0 | R94: =R95 -> -5.7667557 | T94: =T95 -> 0 | AT94: D | AU94: -1 | BK94: =BK95 -> -86577.24
D95: D | E95: HSV | F95: Práce a dodávky HSV | J95: =BK95 -> -86577.24 | P95: =P96+P117 -> 0 | R95: =R96+R117 -> -5.7667557 | T95: =T96+T117 -> 0 | AR95: 1 | AT95: D | AU95: 0 | AY95: ROZPOCET | BK95: =BK96+BK117 -> -86577.24
D96: D | E96: 3 | F96: Svislé a kompletní konstrukce | J96: =BK96 -> -75133.95 | P96: =SUM(P97:P116) -> 0 | R96: =SUM(R97:R116) -> -5.4427372 | T96: =SUM(T97:T116) -> 0 | AR96: 1 | AT96: D | AU96: 1 | AY96: ROZPOCET | BK96: =SUM(BK97:BK116) -> -75133.95
C97: 1 | D97: K | E97: 311321814 | F97: Nadzákladové zdi z betonu železového (bez výztuže) nosné pohledového (v přírodní barvě drtí a přísad) tř. C 25/30 | G97: m3 | H97: -2 | I97: 7900 | J97: =ROUND(I97*H97,2) -> -15800 | N97: základní | O97: 0 | P97: =O97*H97 -> 0 | Q97: 2.50187 | R97: =Q97*H97 -> -5.00374 | S97: 0 | T97: =S97*H97 -> 0 | AR97: 4 | AT97: K | AU97: 2 | AY97: ROZPOCET | BE97: =IF(N97="základní",J97,0) -> -15800 | BF97: =IF(N97="snížená",J97,0) -> 0 | BG97: =IF(N97="zákl. přenesená",J97,0) -> 0 | BH97: =IF(N97="sníž. přenesená",J97,0) -> 0 | BI97: =IF(N97="nulová",J97,0) -> 0 | BJ97: 1 | BK97: =ROUND(I97*H97,2) -> -15800 | BL97: 4 | BM97: 965015058
D98: VV | F98: "původní množství dle SOD" -14,858 | H98: -14.858 | AT98: VV | AU98: 2 | AV98: 2 | AW98: True | AX98: 0 | AY98: ROZPOCET
D99: VV | F99: "nové množství dle ZBV" 12,858 | H99: 12.858 | AT99: VV | AU99: 2 | AV99: 2 | AW99: True | AX99: 0 | AY99: ROZPOCET
D100: VV | F100: Součet | H100: -2 | AT100: VV | AU100: 2 | AV100: 4 | AW100: True | AX100: 1 | AY100: ROZPOCET
C101: 2 | D101: K | E101: 311351121 | F101: Bednění nadzákladových zdí nosných rovné oboustranné za každou stranu zřízení | G101: m2 | H101: -37.82 | I101: 755 | J101: =ROUND(I101*H101,2) -> -28554.1 | N101: základní | O101: 0 | P101: =O101*H101 -> 0 | Q101: 0.00275 | R101: =Q101*H101 -> -0.104005 | S101: 0 | T101: =S101*H101 -> 0 | AR101: 4 | AT101: K | AU101: 2 | AY101: ROZPOCET | BE101: =IF(N101="základní",J101,0) -> -28554.1 | BF101: =IF(N101="snížená",J101,0) -> 0 | BG101: =IF(N101="zákl. přenesená",J101,0) -> 0 | BH101: =IF(N101="sníž. přenesená",J101,0) -> 0 | BI101: =IF(N101="nulová",J101,0) -> 0 | BJ101: 1 | BK101: =ROUND(I101*H101,2) -> -28554.1 | BL101: 4 | BM101: 1351501745
D102: VV | F102: "původní množství dle SOD" -37,82 | H102: -37.82 | AT102: VV | AU102: 2 | AV102: 2 | AW102: True | AX102: 0 | AY102: ROZPOCET
D103: VV | F103: "nové množství dle ZBV" 0 | H103: 0 | AT103: VV | AU103: 2 | AV103: 2 | AW103: True | AX103: 0 | AY103: ROZPOCET
D104: VV | F104: Součet | H104: -37.82 | AT104: VV | AU104: 2 | AV104: 4 | AW104: True | AX104: 1 | AY104: ROZPOCET
C105: 3 | D105: K | E105: 311351122 | F105: Bednění nadzákladových zdí nosných rovné oboustranné za každou stranu odstranění | G105: m2 | H105: -37.82 | I105: 378 | J105: =ROUND(I105*H105,2) -> -14295.96 | N105: základní | O105: 0 | P105: =O105*H105 -> 0 | Q105: 0 | R105: =Q105*H105 -> 0 | S105: 0 | T105: =S105*H105 -> 0 | AR105: 4 | AT105: K | AU105: 2 | AY105: ROZPOCET | BE105: =IF(N105="základní",J105,0) -> -14295.96 | BF105: =IF(N105="snížená",J105,0) -> 0 | BG105: =IF(N105="zákl. přenesená",J105,0) -> 0 | BH105: =IF(N105="sníž. přenesená",J105,0) -> 0 | BI105: =IF(N105="nulová",J105,0) -> 0 | BJ105: 1 | BK105: =ROUND(I105*H105,2) -> -14295.96 | BL105: 4 | BM105: -689139254
D106: VV | F106: "původní množství dle SOD" -37,82 | H106: -37.82 | AT106: VV | AU106: 2 | AV106: 2 | AW106: True | AX106: 0 | AY106: ROZPOCET
D107: VV | F107: "nové množství dle ZBV" 0 | H107: 0 | AT107: VV | AU107: 2 | AV107: 2 | AW107: True | AX107: 0 | AY107: ROZPOCET
D108: VV | F108: Součet | H108: -37.82 | AT108: VV | AU108: 2 | AV108: 4 | AW108: True | AX108: 1 | AY108: ROZPOCET
C109: 4 | D109: K | E109: 311351911 | F109: Bednění nadzákladových zdí nosných Příplatek k cenám bednění za pohledový beton | G109: m2 | H109: -24.878 | I109: 255 | J109: =ROUND(I109*H109,2) -> -6343.89 | N109: základní | O109: 0 | P109: =O109*H109 -> 0 | Q109: 0.0025 | R109: =Q109*H109 -> -0.062195 | S109: 0 | T109: =S109*H109 -> 0 | AR109: 4 | AT109: K | AU109: 2 | AY109: ROZPOCET | BE109: =IF(N109="základní",J109,0) -> -6343.89 | BF109: =IF(N109="snížená",J109,0) -> 0 | BG109: =IF(N109="zákl. přenesená",J109,0) -> 0 | BH109: =IF(N109="sníž. přenesená",J109,0) -> 0 | BI109: =IF(N109="nulová",J109,0) -> 0 | BJ109: 1 | BK109: =ROUND(I109*H109,2) -> -6343.89 | BL109: 4 | BM109: -1123966051
D110: VV | F110: "původní množství dle SOD" -24,878 | H110: -24.878 | AT110: VV | AU110: 2 | AV110: 2 | AW110: True | AX110: 0 | AY110: ROZPOCET
D111: VV | F111: "nové množství dle ZBV" 0 | H111: 0 | AT111: VV | AU111: 2 | AV111: 2 | AW111: True | AX111: 0 | AY111: ROZPOCET
D112: VV | F112: Součet | H112: -24.878 | AT112: VV | AU112: 2 | AV112: 4 | AW112: True | AX112: 1 | AY112: ROZPOCET
C113: 5 | D113: K | E113: 311361821 | F113: Výztuž nadzákladových zdí nosných svislých nebo odkloněných od svislice, rovných nebo oblých z betonářské oceli 10 505 (R) nebo BSt 500 | G113: t | H113: -0.26 | I113: 39000 | J113: =ROUND(I113*H113,2) -> -10140 | N113: základní | O113: 0 | P113: =O113*H113 -> 0 | Q113: 1.04922 | R113: =Q113*H113 -> -0.2727972 | S113: 0 | T113: =S113*H113 -> 0 | AR113: 4 | AT113: K | AU113: 2 | AY113: ROZPOCET | BE113: =IF(N113="základní",J113,0) -> -10140 | BF113: =IF(N113="snížená",J113,0) -> 0 | BG113: =IF(N113="zákl. přenesená",J113,0) -> 0 | BH113: =IF(N113="sníž. přenesená",J113,0) -> 0 | BI113: =IF(N113="nulová",J113,0) -> 0 | BJ113: 1 | BK113: =ROUND(I113*H113,2) -> -10140 | BL113: 4 | BM113: 1328720986
D114: VV | F114: "původní množství dle SOD" -1,932 | H114: -1.932 | AT114: VV | AU114: 2 | AV114: 2 | AW114: True | AX114: 0 | AY114: ROZPOCET
D115: VV | F115: "nové množství dle ZBV" 1,672 | H115: 1.672 | AT115: VV | AU115: 2 | AV115: 2 | AW115: True | AX115: 0 | AY115: ROZPOCET
D116: VV | F116: Součet | H116: -0.26 | AT116: VV | AU116: 2 | AV116: 4 | AW116: True | AX116: 1 | AY116: ROZPOCET
D117: D | E117: 4 | F117: Vodorovné konstrukce | J117: =BK117 -> -11443.29 | P117: =SUM(P118:P145) -> 0 | R117: =SUM(R118:R145) -> -0.3240185 | T117: =SUM(T118:T145) -> 0 | AR117: 1 | AT117: D | AU117: 1 | AY117: ROZPOCET | BK117: =SUM(BK118:BK145) -> -11443.29
C118: 6 | D118: K | E118: 411324444 | F118: Stropy z betonu železového (bez výztuže) pohledového stropů deskových, plochých střech, desek balkonových, desek hřibových stropů včetně hlavic hřibových sloupů tř. C 25/30 | G118: m3 | H118: -0.1 | I118: 7900 | J118: =ROUND(I118*H118,2) -> -790 | N118: základní | O118: 0 | P118: =O118*H118 -> 0 | Q118: 2.50201 | R118: =Q118*H118 -> -0.250201 | S118: 0 | T118: =S118*H118 -> 0 | AR118: 4 | AT118: K | AU118: 2 | AY118: ROZPOCET | BE118: =IF(N118="základní",J118,0) -> -790 | BF118: =IF(N118="snížená",J118,0) -> 0 | BG118: =IF(N118="zákl. přenesená",J118,0) -> 0 | BH118: =IF(N118="sníž. přenesená",J118,0) -> 0 | BI118: =IF(N118="nulová",J118,0) -> 0 | BJ118: 1 | BK118: =ROUND(I118*H118,2) -> -790 | BL118: 4 | BM118: -509125819
D119: VV | F119: "původní množství dle SOD" -1,365 | H119: -1.365 | AT119: VV | AU119: 2 | AV119: 2 | AW119: True | AX119: 0 | AY119: ROZPOCET
D120: VV | F120: "nové množství dle ZBV" 1,265 | H120: 1.265 | AT120: VV | AU120: 2 | AV120: 2 | AW120: True | AX120: 0 | AY120: ROZPOCET
D121: VV | F121: Součet | H121: -0.1 | AT121: VV | AU121: 2 | AV121: 4 | AW121: True | AX121: 1 | AY121: ROZPOCET
C122: 7 | D122: K | E122: 411351011 | F122: Bednění stropních konstrukcí - bez podpěrné konstrukce desek tloušťky stropní desky přes 5 do 25 cm zřízení | G122: m2 | H122: -8.78 | I122: 622 | J122: =ROUND(I122*H122,2) -> -5461.16 | N122: základní | O122: 0 | P122: =O122*H122 -> 0 | Q122: 0.00533 | R122: =Q122*H122 -> -0.0467974 | S122: 0 | T122: =S122*H122 -> 0 | AR122: 4 | AT122: K | AU122: 2 | AY122: ROZPOCET | BE122: =IF(N122="základní",J122,0) -> -5461.16 | BF122: =IF(N122="snížená",J122,0) -> 0 | BG122: =IF(N122="zákl. přenesená",J122,0) -> 0 | BH122: =IF(N122="sníž. přenesená",J122,0) -> 0 | BI122: =IF(N122="nulová",J122,0) -> 0 | BJ122: 1 | BK122: =ROUND(I122*H122,2) -> -5461.16 | BL122: 4 | BM122: -2029766002
D123: VV | F123: "původní množství dle SOD" -8,78 | H123: -8.78 | AT123: VV | AU123: 2 | AV123: 2 | AW123: True | AX123: 0 | AY123: ROZPOCET
D124: VV | F124: "nové množství dle ZBV" 0 | H124: 0 | AT124: VV | AU124: 2 | AV124: 2 | AW124: True | AX124: 0 | AY124: ROZPOCET
D125: VV | F125: Součet | H125: -8.78 | AT125: VV | AU125: 2 | AV125: 4 | AW125: True | AX125: 1 | AY125: ROZPOCET
C126: 8 | D126: K | E126: 411351012 | F126: Bednění stropních konstrukcí - bez podpěrné konstrukce desek tloušťky stropní desky přes 5 do 25 cm odstranění | G126: m2 | H126: -8.78 | I126: 275 | J126: =ROUND(I126*H126,2) -> -2414.5 | N126: základní | O126: 0 | P126: =O126*H126 -> 0 | Q126: 0 | R126: =Q126*H126 -> 0 | S126: 0 | T126: =S126*H126 -> 0 | AR126: 4 | AT126: K | AU126: 2 | AY126: ROZPOCET | BE126: =IF(N126="základní",J126,0) -> -2414.5 | BF126: =IF(N126="snížená",J126,0) -> 0 | BG126: =IF(N126="zákl. přenesená",J126,0) -> 0 | BH126: =IF(N126="sníž. přenesená",J126,0) -> 0 | BI126: =IF(N126="nulová",J126,0) -> 0 | BJ126: 1 | BK126: =ROUND(I126*H126,2) -> -2414.5 | BL126: 4 | BM126: 1746874626
D127: VV | F127: "původní množství dle SOD" -8,78 | H127: -8.78 | AT127: VV | AU127: 2 | AV127: 2 | AW127: True | AX127: 0 | AY127: ROZPOCET
D128: VV | F128: "nové množství dle ZBV" 0 | H128: 0 | AT128: VV | AU128: 2 | AV128: 2 | AW128: True | AX128: 0 | AY128: ROZPOCET
D129: VV | F129: Součet | H129: -8.78 | AT129: VV | AU129: 2 | AV129: 4 | AW129: True | AX129: 1 | AY129: ROZPOCET
C130: 9 | D130: K | E130: 411354311 | F130: Podpěrná konstrukce stropů - desek, kleneb a skořepin výška podepření do 4 m tloušťka stropu přes 5 do 15 cm zřízení | G130: m2 | H130: -5.75 | I130: 206.8 | J130: =ROUND(I130*H130,2) -> -1189.1 | N130: základní | O130: 0 | P130: =O130*H130 -> 0 | Q130: 0.00081 | R130: =Q130*H130 -> -0.0046575 | S130: 0 | T130: =S130*H130 -> 0 | AR130: 4 | AT130: K | AU130: 2 | AY130: ROZPOCET | BE130: =IF(N130="základní",J130,0) -> -1189.1 | BF130: =IF(N130="snížená",J130,0) -> 0 | BG130: =IF(N130="zákl. přenesená",J130,0) -> 0 | BH130: =IF(N130="sníž. přenesená",J130,0) -> 0 | BI130: =IF(N130="nulová",J130,0) -> 0 | BJ130: 1 | BK130: =ROUND(I130*H130,2) -> -1189.1 | BL130: 4 | BM130: 2065484512
D131: VV | F131: "původní množství dle SOD" -5,75 | H131: -5.75 | AT131: VV | AU131: 2 | AV131: 2 | AW131: True | AX131: 0 | AY131: ROZPOCET
D132: VV | F132: "nové množství dle ZBV" 0 | H132: 0 | AT132: VV | AU132: 2 | AV132: 2 | AW132: True | AX132: 0 | AY132: ROZPOCET
D133: VV | F133: Součet | H133: -5.75 | AT133: VV | AU133: 2 | AV133: 4 | AW133: True | AX133: 1 | AY133: ROZPOCET
...

Sheet ZBV-04b - vícepráce
AT2: {af2788f6-1399-42c6-a115-91d698fb748b}
AT3: 2
D4: KRYCÍ LIST SOUPISU PRACÍ | M4: v --- níže se nacházejí doplnkové a pomocné údaje k sestavám --- v | AT4: False
D6: Stavba:
E7: ='Rekapitulace stavby'!K6 -> ÚPRAVY HŘBITOVA KBELY- ETAPA1
D8: Objekt:
E9: 01 - Navrhované objekty
D10: Soupis:
E11: 09 - KOLUMBÁRIUM
D12: Úroveň 3:
E13: ZBV-04b - vícepráce
D15: KSO: | F15: 815 9 | I15: CC-CZ:
D16: Místo: | F16: Praha 9-Kbely | I16: Datum: | J16: ='Rekapitulace stavby'!AN8 -> 0
D18: Zadavatel: | I18: IČ: | J18: 00231304
E19: MČ Praha 19, Semilská 43/1, 197 00 Praha 9 - Kbely | I19: DIČ:
D21: Zhotovitel: | I21: IČ: | J21: 07395680
E22: IWU s.r.o. | I22: DIČ: | J22: CZ07395680
D24: Projektant: | I24: IČ:
E25: Ing.Jan Pustějovský, Ph.D. | I25: DIČ:
D27: Zpracovatel: | I27: IČ:
I28: DIČ:
D30: Poznámka:
D34: Cena bez DPH | J34: =ROUND(J94, 2) -> 163046.12
F36: Základ daně | I36: Sazba daně | J36: Výše daně
D37: DPH | E37: základní | F37: =ROUND((SUM(BE94:BE111)), 2) -> 163046.12 | I37: 0.21 | J37: =ROUND(((SUM(BE94:BE111))*I37), 2) -> 34239.69
E38: snížená | F38: =ROUND((SUM(BF94:BF111)), 2) -> 0 | I38: 0.12 | J38: =ROUND(((SUM(BF94:BF111))*I38), 2) -> 0
E39: zákl. přenesená | F39: =ROUND((SUM(BG94:BG111)), 2) -> 0 | I39: 0.21 | J39: =0 -> 0
E40: sníž. přenesená | F40: =ROUND((SUM(BH94:BH111)), 2) -> 0 | I40: 0.12 | J40: =0 -> 0
E41: nulová | F41: =ROUND((SUM(BI94:BI111)), 2) -> 0 | I41: 0 | J41: =0 -> 0
D43: Cena s DPH | G43: v | H43: CZK | J43: =SUM(J34:J41) -> 197285.81
C49: REKAPITULACE ČLENĚNÍ SOUPISU PRACÍ
C51: Stavba:
E52: =E7 -> ÚPRAVY HŘBITOVA KBELY- ETAPA1
C53: Objekt:
E54: 01 - Navrhované objekty
C55: Soupis:
E56: 09 - KOLUMBÁRIUM
C57: Úroveň 3:
E58: =E13 -> ZBV-04b - vícepráce
C60: Místo: | F60: =F16 -> Praha 9-Kbely | I60: Datum: | J60: =IF(J16="","",J16) -> 0
C62: Zadavatel: | F62: =E19 -> MČ Praha 19, Semilská 43/1, 197 00 Praha 9 - Kbely | I62: Projektant: | J62: =E25 -> Ing.Jan Pustějovský, Ph.D.
C63: Zhotovitel: | F63: =IF(E22="","",E22) -> IWU s.r.o. | I63: Zpracovatel: | J63: =E28
C65: Kód dílu - Popis | J65: Cena celkem [CZK]
C67: Náklady stavby celkem | J67: =J94 -> 163046.12 | AU67: -1
D68: HSV - Práce a dodávky HSV | J68: =J95 -> 163046.12
D69: 3 - Svislé a kompletní konstrukce | J69: =J96 -> 103390
D70: 998 - Přesun hmot | J70: =J104 -> 59656.12
C77: SOUPIS PRACÍ
C79: Stavba:
E80: =E7 -> ÚPRAVY HŘBITOVA KBELY- ETAPA1
C81: Objekt:
E82: 01 - Navrhované objekty
C83: Soupis:
E84: 09 - KOLUMBÁRIUM
C85: Úroveň 3:
E86: =E13 -> ZBV-04b - vícepráce
C88: Místo: | F88: =F16 -> Praha 9-Kbely | I88: Datum: | J88: =IF(J16="","",J16) -> 0
C90: Zadavatel: | F90: =E19 -> MČ Praha 19, Semilská 43/1, 197 00 Praha 9 - Kbely | I90: Projektant: | J90: =E25 -> Ing.Jan Pustějovský, Ph.D.
C91: Zhotovitel: | F91: =IF(E22="","",E22) -> IWU s.r.o. | I91: Zpracovatel: | J91: =E28
C93: PČ | D93: Typ | E93: Kód | F93: Popis | G93: MJ | H93: Množství | I93: J.cena [CZK] | J93: Cena celkem [CZK] | K93: Cenová soustava | N93: DPH | O93: J. Nh [h] | P93: Nh celkem [h] | Q93: J. hmotnost [t] | R93: Hmotnost celkem [t] | S93: J. suť [t] | T93: Suť Celkem [t]
C94: Náklady soupisu celkem | J94: =BK94 -> 163046.12 | P94: =P95 -> 36.52199 | R94: =R95 -> 13.53336 | T94: =T95 -> 0 | AT94: D | AU94: -1 | BK94: =BK95 -> 163046.12
D95: D | E95: HSV | F95: Práce a dodávky HSV | J95: =BK95 -> 163046.12 | P95: =P96+P104 -> 36.52199 | R95: =R96+R104 -> 13.53336 | T95: =T96+T104 -> 0 | AR95: 1 | AT95: D | AU95: 0 | AY95: ROZPOCET | BK95: =BK96+BK104 -> 163046.12
D96: D | E96: 3 | F96: Svislé a kompletní konstrukce | J96: =BK96 -> 103390 | P96: =SUM(P97:P103) -> 6.744 | R96: =SUM(R97:R103) -> 13.53336 | T96: =SUM(T97:T103) -> 0 | AR96: 1 | AT96: D | AU96: 1 | AY96: ROZPOCET | BK96: =SUM(BK97:BK103) -> 103390
C97: 1 | D97: K | E97: 342123911 | F97: Montáž dílců obvodových stěn ze železobetonu s nesvařovanými spoji, v budovách výšky do 18 m, hmotnosti do 1,5 t | G97: kus | H97: 2 | I97: 1490 | J97: =ROUND(I97*H97,2) -> 2980 | K97: CS ÚRS 2025 02 | N97: základní | O97: 1.224 | P97: =O97*H97 -> 2.448 | Q97: 0.10753 | R97: =Q97*H97 -> 0.21506 | S97: 0 | T97: =S97*H97 -> 0 | AR97: 4 | AT97: K | AU97: 2 | AY97: ROZPOCET | BE97: =IF(N97="základní",J97,0) -> 2980 | BF97: =IF(N97="snížená",J97,0) -> 0 | BG97: =IF(N97="zákl. přenesená",J97,0) -> 0 | BH97: =IF(N97="sníž. přenesená",J97,0) -> 0 | BI97: =IF(N97="nulová",J97,0) -> 0 | BJ97: 1 | BK97: =ROUND(I97*H97,2) -> 2980 | BL97: 4 | BM97: -956060848
D98: Online PSC | F98: https://podminky.urs.cz/item/CS_URS_2025_02/342123911 | AT98: Online PSC | AU98: 2
C99: 2 | D99: M | E99: 59332000 | F99: stěna nenosná ŽB včetně výztuže do 120kg/m3 objem prefabrikátu do 1m3 | G99: m3 | H99: 2.6 | I99: 20400 | J99: =ROUND(I99*H99,2) -> 53040 | K99: CS ÚRS 2025 02 | N99: základní | O99: 0 | P99: =O99*H99 -> 0 | Q99: 2.4 | R99: =Q99*H99 -> 6.24 | S99: 0 | T99: =S99*H99 -> 0 | AR99: 8 | AT99: M | AU99: 2 | AY99: ROZPOCET | BE99: =IF(N99="základní",J99,0) -> 53040 | BF99: =IF(N99="snížená",J99,0) -> 0 | BG99: =IF(N99="zákl. přenesená",J99,0) -> 0 | BH99: =IF(N99="sníž. přenesená",J99,0) -> 0 | BI99: =IF(N99="nulová",J99,0) -> 0 | BJ99: 1 | BK99: =ROUND(I99*H99,2) -> 53040 | BL99: 4 | BM99: -1464363061
C100: 3 | D100: K | E100: 342123912 | F100: Montáž dílců obvodových stěn ze železobetonu s nesvařovanými spoji, v budovách výšky do 18 m, hmotnosti přes 1,5 do 3 t | G100: kus | H100: 3 | I100: 1750 | J100: =ROUND(I100*H100,2) -> 5250 | K100: CS ÚRS 2025 02 | N100: základní | O100: 1.432 | P100: =O100*H100 -> 4.296 | Q100: 0.1321 | R100: =Q100*H100 -> 0.3963 | S100: 0 | T100: =S100*H100 -> 0 | AR100: 4 | AT100: K | AU100: 2 | AY100: ROZPOCET | BE100: =IF(N100="základní",J100,0) -> 5250 | BF100: =IF(N100="snížená",J100,0) -> 0 | BG100: =IF(N100="zákl. přenesená",J100,0) -> 0 | BH100: =IF(N100="sníž. přenesená",J100,0) -> 0 | BI100: =IF(N100="nulová",J100,0) -> 0 | BJ100: 1 | BK100: =ROUND(I100*H100,2) -> 5250 | BL100: 4 | BM100: 190908580
D101: Online PSC | F101: https://podminky.urs.cz/item/CS_URS_2025_02/342123912 | AT101: Online PSC | AU101: 2
C102: 4 | D102: M | E102: 59332001 | F102: stěna nenosná ŽB včetně výztuže do 120kg/m3 objem prefabrikátu přes 1m3 | G102: m3 | H102: 1.6 | I102: 16200 | J102: =ROUND(I102*H102,2) -> 25920 | K102: CS ÚRS 2025 02 | N102: základní | O102: 0 | P102: =O102*H102 -> 0 | Q102: 2.57 | R102: =Q102*H102 -> 4.112 | S102: 0 | T102: =S102*H102 -> 0 | AR102: 8 | AT102: M | AU102: 2 | AY102: ROZPOCET | BE102: =IF(N102="základní",J102,0) -> 25920 | BF102: =IF(N102="snížená",J102,0) -> 0 | BG102: =IF(N102="zákl. přenesená",J102,0) -> 0 | BH102: =IF(N102="sníž. přenesená",J102,0) -> 0 | BI102: =IF(N102="nulová",J102,0) -> 0 | BJ102: 1 | BK102: =ROUND(I102*H102,2) -> 25920 | BL102: 4 | BM102: 873189564
C103: 7 | D103: M | E103: 59332001 | F103: stěna nenosná ŽB včetně výztuže do 120kg/m3 objem prefabrikátu přes 1m3 | G103: m3 | H103: 1 | I103: 16200 | J103: =ROUND(I103*H103,2) -> 16200 | K103: CS ÚRS 2025 02 | N103: základní | O103: 0 | P103: =O103*H103 -> 0 | Q103: 2.57 | R103: =Q103*H103 -> 2.57 | S103: 0 | T103: =S103*H103 -> 0 | AR103: 8 | AT103: M | AU103: 2 | AY103: ROZPOCET | BE103: =IF(N103="základní",J103,0) -> 16200 | BF103: =IF(N103="snížená",J103,0) -> 0 | BG103: =IF(N103="zákl. přenesená",J103,0) -> 0 | BH103: =IF(N103="sníž. přenesená",J103,0) -> 0 | BI103: =IF(N103="nulová",J103,0) -> 0 | BJ103: 1 | BK103: =ROUND(I103*H103,2) -> 16200 | BL103: 4 | BM103: -265884564
D104: D | E104: 998 | F104: Přesun hmot | J104: =BK104 -> 59656.12 | P104: =SUM(P105:P111) -> 29.77799 | R104: =SUM(R105:R111) -> 0 | T104: =SUM(T105:T111) -> 0 | AR104: 1 | AT104: D | AU104: 1 | AY104: ROZPOCET | BK104: =SUM(BK105:BK111) -> 59656.12
C105: 5 | D105: K | E105: 998014094 | F105: Přesun hmot pro budovy a haly občanské výstavby, bydlení, výrobu a služby s nosnou svislou konstrukcí montovanou z dílců betonových plošných nebo tyčových s jakýmkoliv obvodovým pláštěm kromě vyzdívaného, i bez pláště Příplatek k cenám za zvětšený přesun přes vymezenou vodorovnou dopravní vzdálenost do 5000 m | G105: t | H105: 13.533 | I105: 564 | J105: =ROUND(I105*H105,2) -> 7632.61 | K105: CS ÚRS 2025 02 | N105: základní | O105: 0.472 | P105: =O105*H105 -> 6.387576 | Q105: 0 | R105: =Q105*H105 -> 0 | S105: 0 | T105: =S105*H105 -> 0 | AR105: 4 | AT105: K | AU105: 2 | AY105: ROZPOCET | BE105: =IF(N105="základní",J105,0) -> 7632.61 | BF105: =IF(N105="snížená",J105,0) -> 0 | BG105: =IF(N105="zákl. přenesená",J105,0) -> 0 | BH105: =IF(N105="sníž. přenesená",J105,0) -> 0 | BI105: =IF(N105="nulová",J105,0) -> 0 | BJ105: 1 | BK105: =ROUND(I105*H105,2) -> 7632.61 | BL105: 4 | BM105: -2107149272
D106: Online PSC | F106: https://podminky.urs.cz/item/CS_URS_2025_02/998014094 | AT106: Online PSC | AU106: 2
C107: 6 | D107: K | E107: 998014095 | F107: Přesun hmot pro budovy a haly občanské výstavby, bydlení, výrobu a služby s nosnou svislou konstrukcí montovanou z dílců betonových plošných nebo tyčových s jakýmkoliv obvodovým pláštěm kromě vyzdívaného, i bez pláště Příplatek k cenám za zvětšený přesun přes vymezenou vodorovnou dopravní vzdálenost za každých dalších započatých 5000 m | G107: t | H107: 403.283 | I107: 129 | J107: =ROUND(I107*H107,2) -> 52023.51 | K107: CS ÚRS 2025 02 | N107: základní | O107: 0.058 | P107: =O107*H107 -> 23.390414 | Q107: 0 | R107: =Q107*H107 -> 0 | S107: 0 | T107: =S107*H107 -> 0 | AR107: 4 | AT107: K | AU107: 2 | AY107: ROZPOCET | BE107: =IF(N107="základní",J107,0) -> 52023.51 | BF107: =IF(N107="snížená",J107,0) -> 0 | BG107: =IF(N107="zákl. přenesená",J107,0) -> 0 | BH107: =IF(N107="sníž. přenesená",J107,0) -> 0 | BI107: =IF(N107="nulová",J107,0) -> 0 | BJ107: 1 | BK107: =ROUND(I107*H107,2) -> 52023.51 | BL107: 4 | BM107: -1541221416
D108: Online PSC | F108: https://podminky.urs.cz/item/CS_URS_2025_02/998014095 | AT108: Online PSC | AU108: 2
D109: VV | F109: "154km - 5km | AT109: VV | AU109: 2 | AV109: 1 | AW109: True | AX109: 0 | AY109: ROZPOCET
D110: VV | F110: (154-5)/5 * 13,533 | H110: 403.283 | AT110: VV | AU110: 2 | AV110: 2 | AW110: True | AX110: 0 | AY110: ROZPOCET
D111: VV | F111: Součet | H111: 403.283 | AT111: VV | AU111: 2 | AV111: 4 | AW111: True | AX111: 1 | AY111: ROZPOCET

Sheet 10 - KOLUMBÁRIUM
AT2: {47416657-0009-4f61-b0a3-af82d4e97114}
AT3: 2
D4: KRYCÍ LIST SOUPISU PRACÍ | M4: v --- níže se nacházejí doplnkové a pomocné údaje k sestavám --- v | AT4: False
D6: Stavba:
E7: ='Rekapitulace stavby'!K6 -> ÚPRAVY HŘBITOVA KBELY- ETAPA1
D8: Objekt:
E9: 01 - Navrhované objekty
D10: Soupis:
E11: 10 - KOLUMBÁRIUM
D13: KSO: | F13: 815 9 | I13: CC-CZ:
D14: Místo: | F14: Praha 9-Kbely | I14: Datum: | J14: ='Rekapitulace stavby'!AN8 -> 0
D16: Zadavatel: | I16: IČ: | J16: 00231304
E17: MČ Praha 19, Semilská 43/1, 197 00 Praha 9 - Kbely | I17: DIČ:
D19: Zhotovitel: | I19: IČ: | J19: 07395680
E20: IWU s.r.o. | I20: DIČ: | J20: CZ07395680
D22: Projektant: | I22: IČ:
E23: Ing.Jan Pustějovský, Ph.D. | I23: DIČ:
D25: Zpracovatel: | I25: IČ:
I26: DIČ:
D28: Poznámka:
E29: Položkový rozpočet zpracován v CS ÚRS s CH 2024/II na základě PD -10/2024
D32: Cena bez DPH | J32: =ROUND(J94, 2) -> 1003855.3
F34: Základ daně | I34: Sazba daně | J34: Výše daně
D35: DPH | E35: základní | F35: =ROUND((SUM(BE94:BE202)), 2) -> 1003855.3 | I35: 0.21 | J35: =ROUND(((SUM(BE94:BE202))*I35), 2) -> 210809.61
E36: snížená | F36: =ROUND((SUM(BF94:BF202)), 2) -> 0 | I36: 0.12 | J36: =ROUND(((SUM(BF94:BF202))*I36), 2) -> 0
E37: zákl. přenesená | F37: =ROUND((SUM(BG94:BG202)), 2) -> 0 | I37: 0.21 | J37: =0 -> 0
E38: sníž. přenesená | F38: =ROUND((SUM(BH94:BH202)), 2) -> 0 | I38: 0.12 | J38: =0 -> 0
E39: nulová | F39: =ROUND((SUM(BI94:BI202)), 2) -> 0 | I39: 0 | J39: =0 -> 0
D41: Cena s DPH | G41: v | H41: CZK | J41: =SUM(J32:J39) -> 1214664.9
C47: REKAPITULACE ČLENĚNÍ SOUPISU PRACÍ
C49: Stavba:
E50: =E7 -> ÚPRAVY HŘBITOVA KBELY- ETAPA1
C51: Objekt:
E52: 01 - Navrhované objekty
C53: Soupis:
E54: =E11 -> 10 - KOLUMBÁRIUM
C56: Místo: | F56: =F14 -> Praha 9-Kbely | I56: Datum: | J56: =IF(J14="","",J14) -> 0
C58: Zadavatel: | F58: =E17 -> MČ Praha 19, Semilská 43/1, 197 00 Praha 9 - Kbely | I58: Projektant: | J58: =E23 -> Ing.Jan Pustějovský, Ph.D.
C59: Zhotovitel: | F59: =IF(E20="","",E20) -> IWU s.r.o. | I59: Zpracovatel: | J59: =E26
C61: Kód dílu - Popis | J61: Cena celkem [CZK]
C63: Náklady stavby celkem | J63: =J94 -> 1003855.3 | AU63: -1
D64: HSV - Práce a dodávky HSV | J64: =J95 -> 419755.27
D65: 1 - Zemní práce | J65: =J96 -> 19646.01
D66: 2 - Zakládání | J66: =J109 -> 67213.73
D67: 3 - Svislé a kompletní konstrukce | J67: =J131 -> 269607.3
D68: 4 - Vodorovné konstrukce | J68: =J166 -> 33739.17
D69: 9 - Ostatní konstrukce a práce, bourání | J69: =J186 -> 9161.6
D70: 998 - Přesun hmot | J70: =J193 -> 20387.46
D71: PSV - PSV | J71: =J195 -> 584100
D72: ATYP - Atypické prvky | J72: =J196 -> 584100
C79: SOUPIS PRACÍ
C81: Stavba:
E82: =E7 -> ÚPRAVY HŘBITOVA KBELY- ETAPA1
C83: Objekt:
E84: 01 - Navrhované objekty
C85: Soupis:
E86: =E11 -> 10 - KOLUMBÁRIUM
C88: Místo: | F88: =F14 -> Praha 9-Kbely | I88: Datum: | J88: =IF(J14="","",J14) -> 0
C90: Zadavatel: | F90: =E17 -> MČ Praha 19, Semilská 43/1, 197 00 Praha 9 - Kbely | I90: Projektant: | J90: =E23 -> Ing.Jan Pustějovský, Ph.D.
C91: Zhotovitel: | F91: =IF(E20="","",E20) -> IWU s.r.o. | I91: Zpracovatel: | J91: =E26
C93: PČ | D93: Typ | E93: Kód | F93: Popis | G93: MJ | H93: Množství | I93: J.cena [CZK] | J93: Cena celkem [CZK] | K93: Cenová soustava | N93: DPH | O93: J. Nh [h] | P93: Nh celkem [h] | Q93: J. hmotnost [t] | R93: Hmotnost celkem [t] | S93: J. suť [t] | T93: Suť Celkem [t]
C94: Náklady soupisu celkem | J94: =BK94 -> 1003855.3 | P94: =P95+P195 -> 0 | R94: =R95+R195 -> 65.765725 | T94: =T95+T195 -> 0 | AT94: D | AU94: -1 | BK94: =BK95+BK195 -> 1003855.3
D95: D | E95: HSV | F95: Práce a dodávky HSV | J95: =BK95 -> 419755.27 | P95: =P96+P109+P131+P166+P186+P193 -> 0 | R95: =R96+R109+R131+R166+R186+R193 -> 65.765725 | T95: =T96+T109+T131+T166+T186+T193 -> 0 | AR95: 1 | AT95: D | AU95: 0 | AY95: ROZPOCET | BK95: =BK96+BK109+BK131+BK166+BK186+BK193 -> 419755.27
D96: D | E96: 1 | F96: Zemní práce | J96: =BK96 -> 19646.01 | P96: =SUM(P97:P108) -> 0 | R96: =SUM(R97:R108) -> 0 | T96: =SUM(T97:T108) -> 0 | AR96: 1 | AT96: D | AU96: 1 | AY96: ROZPOCET | BK96: =SUM(BK97:BK108) -> 19646.01
C97: 1 | D97: K | E97: 132251252 | F97: Hloubení nezapažených rýh šířky přes 800 do 2 000 mm strojně s urovnáním dna do předepsaného profilu a spádu v hornině třídy těžitelnosti I skupiny 3 přes 20 do 50 m3 | G97: m3 | H97: 14.49 | I97: 632.1 | J97: =ROUND(I97*H97,2) -> 9159.13 | N97: základní | O97: 0 | P97: =O97*H97 -> 0 | Q97: 0 | R97: =Q97*H97 -> 0 | S97: 0 | T97: =S97*H97 -> 0 | AR97: 4 | AT97: K | AU97: 2 | AY97: ROZPOCET | BE97: =IF(N97="základní",J97,0) -> 9159.13 | BF97: =IF(N97="snížená",J97,0) -> 0 | BG97: =IF(N97="zákl. přenesená",J97,0) -> 0 | BH97: =IF(N97="sníž. přenesená",J97,0) -> 0 | BI97: =IF(N97="nulová",J97,0) -> 0 | BJ97: 1 | BK97: =ROUND(I97*H97,2) -> 9159.13 | BL97: 4 | BM97: -1500958147
D98: VV | F98: "150 mm sejmutá ornice - viz část 01a"(8,2+3,3)*1,8*0,7 | H98: 14.49 | AT98: VV | AU98: 2 | AV98: 2 | AW98: True | AX98: 1 | AY98: ROZPOCET
C99: 2 | D99: K | E99: 162751117 | F99: Vodorovné přemístění výkopku nebo sypaniny po suchu na obvyklém dopravním prostředku, bez naložení výkopku, avšak se složením bez rozhrnutí z horniny třídy těžitelnosti I skupiny 1 až 3 na vzdálenost přes 9 000 do 10 000 m | G99: m3 | H99: 7.015 | I99: 301.56 | J99: =ROUND(I99*H99,2) -> 2115.44 | N99: základní | O99: 0 | P99: =O99*H99 -> 0 | Q99: 0 | R99: =Q99*H99 -> 0 | S99: 0 | T99: =S99*H99 -> 0 | AR99: 4 | AT99: K | AU99: 2 | AY99: ROZPOCET | BE99: =IF(N99="základní",J99,0) -> 2115.44 | BF99: =IF(N99="snížená",J99,0) -> 0 | BG99: =IF(N99="zákl. přenesená",J99,0) -> 0 | BH99: =IF(N99="sníž. přenesená",J99,0) -> 0 | BI99: =IF(N99="nulová",J99,0) -> 0 | BJ99: 1 | BK99: =ROUND(I99*H99,2) -> 2115.44 | BL99: 4 | BM99: 300386193
D100: VV | F100: "zbývající zemina odvezena na skládku"14,490-7,475 | H100: 7.015 | AT100: VV | AU100: 2 | AV100: 2 | AW100: True | AX100: 1 | AY100: ROZPOCET
C101: 3 | D101: K | E101: 171201231 | F101: Poplatek za uložení stavebního odpadu na recyklační skládce (skládkovné) zeminy a kamení zatříděného do Katalogu odpadů pod kódem 17 05 04 | G101: t | H101: 11.926 | I101: 342 | J101: =ROUND(I101*H101,2) -> 4078.69 | N101: základní | O101: 0 | P101: =O101*H101 -> 0 | Q101: 0 | R101: =Q101*H101 -> 0 | S101: 0 | T101: =S101*H101 -> 0 | AR101: 4 | AT101: K | AU101: 2 | AY101: ROZPOCET | BE101: =IF(N101="základní",J101,0) -> 4078.69 | BF101: =IF(N101="snížená",J101,0) -> 0 | BG101: =IF(N101="zákl. přenesená",J101,0) -> 0 | BH101: =IF(N101="sníž. přenesená",J101,0) -> 0 | BI101: =IF(N101="nulová",J101,0) -> 0 | BJ101: 1 | BK101: =ROUND(I101*H101,2) -> 4078.69 | BL101: 4 | BM101: 1109026894
D102: VV | F102: 7,015*1,7 | H102: 11.926 | AT102: VV | AU102: 2 | AV102: 2 | AW102: True | AX102: 1 | AY102: ROZPOCET
C103: 4 | D103: K | E103: 174151101 | F103: Zásyp sypaninou z jakékoliv horniny strojně s uložením výkopku ve vrstvách se zhutněním jam, šachet, rýh nebo kolem objektů v těchto vykopávkách | G103: m3 | H103: 7.475 | I103: 257 | J103: =ROUND(I103*H103,2) -> 1921.08 | N103: základní | O103: 0 | P103: =O103*H103 -> 0 | Q103: 0 | R103: =Q103*H103 -> 0 | S103: 0 | T103: =S103*H103 -> 0 | AR103: 4 | AT103: K | AU103: 2 | AY103: ROZPOCET | BE103: =IF(N103="základní",J103,0) -> 1921.08 | BF103: =IF(N103="snížená",J103,0) -> 0 | BG103: =IF(N103="zákl. přenesená",J103,0) -> 0 | BH103: =IF(N103="sníž. přenesená",J103,0) -> 0 | BI103: =IF(N103="nulová",J103,0) -> 0 | BJ103: 1 | BK103: =ROUND(I103*H103,2) -> 1921.08 | BL103: 4 | BM103: 1694009194
D104: VV | F104: (8,2+3,3)*1,0*0,5+(8,2+3,3)*0,3*0,5 | H104: 7.475 | AT104: VV | AU104: 2 | AV104: 2 | AW104: True | AX104: 1 | AY104: ROZPOCET
C105: 5 | D105: K | E105: 167151101 | F105: Nakládání, skládání a překládání neulehlého výkopku nebo sypaniny strojně nakládání, množství do 100 m3, z horniny třídy těžitelnosti I, skupiny 1 až 3 | G105: m3 | H105: 7.475 | I105: 167.28 | J105: =ROUND(I105*H105,2) -> 1250.42 | N105: základní | O105: 0 | P105: =O105*H105 -> 0 | Q105: 0 | R105: =Q105*H105 -> 0 | S105: 0 | T105: =S105*H105 -> 0 | AR105: 4 | AT105: K | AU105: 2 | AY105: ROZPOCET | BE105: =IF(N105="základní",J105,0) -> 1250.42 | BF105: =IF(N105="snížená",J105,0) -> 0 | BG105: =IF(N105="zákl. přenesená",J105,0) -> 0 | BH105: =IF(N105="sníž. přenesená",J105,0) -> 0 | BI105: =IF(N105="nulová",J105,0) -> 0 | BJ105: 1 | BK105: =ROUND(I105*H105,2) -> 1250.42 | BL105: 4 | BM105: -793634119
D106: VV | F106: 7,475 | H106: 7.475 | AT106: VV | AU106: 2 | AV106: 2 | AW106: True | AX106: 1 | AY106: ROZPOCET
C107: 6 | D107: K | E107: 162251101 | F107: Vodorovné přemístění výkopku nebo sypaniny po suchu na obvyklém dopravním prostředku, bez naložení výkopku, avšak se složením bez rozhrnutí z horniny třídy těžitelnosti I skupiny 1 až 3 na vzdálenost do 20 m | G107: m3 | H107: 7.475 | I107: 150 | J107: =ROUND(I107*H107,2) -> 1121.25 | N107: základní | O107: 0 | P107: =O107*H107 -> 0 | Q107: 0 | R107: =Q107*H107 -> 0 | S107: 0 | T107: =S107*H107 -> 0 | AR107: 4 | AT107: K | AU107: 2 | AY107: ROZPOCET | BE107: =IF(N107="základní",J107,0) -> 1121.25 | BF107: =IF(N107="snížená",J107,0) -> 0 | BG107: =IF(N107="zákl. přenesená",J107,0) -> 0 | BH107: =IF(N107="sníž. přenesená",J107,0) -> 0 | BI107: =IF(N107="nulová",J107,0) -> 0 | BJ107: 1 | BK107: =ROUND(I107*H107,2) -> 1121.25 | BL107: 4 | BM107: -1628090887
D108: VV | F108: 7,475 | H108: 7.475 | AT108: VV | AU108: 2 | AV108: 2 | AW108: True | AX108: 1 | AY108: ROZPOCET
D109: D | E109: 2 | F109: Zakládání | J109: =BK109 -> 67213.73 | P109: =SUM(P110:P130) -> 0 | R109: =SUM(R110:R130) -> 20.766303 | T109: =SUM(T110:T130) -> 0 | AR109: 1 | AT109: D | AU109: 1 | AY109: ROZPOCET | BK109: =SUM(BK110:BK130) -> 67213.73
C110: 7 | D110: K | E110: 273321411 | F110: Základy z betonu železového (bez výztuže) desky z betonu bez zvláštních nároků na prostředí tř. C 20/25 | G110: m3 | H110: 2.624 | I110: 4201.47 | J110: =ROUND(I110*H110,2) -> 11024.66 | N110: základní | O110: 0 | P110: =O110*H110 -> 0 | Q110: 2.5018722 | R110: =Q110*H110 -> 6.5649127 | S110: 0 | T110: =S110*H110 -> 0 | AR110: 4 | AT110: K | AU110: 2 | AY110: ROZPOCET | BE110: =IF(N110="základní",J110,0) -> 11024.66 | BF110: =IF(N110="snížená",J110,0) -> 0 | BG110: =IF(N110="zákl. přenesená",J110,0) -> 0 | BH110: =IF(N110="sníž. přenesená",J110,0) -> 0 | BI110: =IF(N110="nulová",J110,0) -> 0 | BJ110: 1 | BK110: =ROUND(I110*H110,2) -> 11024.66 | BL110: 4 | BM110: 534644634
D111: VV | F111: 8,2*1,6*0,2+3,0*1,6*0, | H111: 2.624 | AT111: VV | AU111: 2 | AV111: 2 | AW111: True | AX111: 0 | AY111: ROZPOCET
D112: VV | F112: Součet | H112: 2.624 | AT112: VV | AU112: 2 | AV112: 4 | AW112: True | AX112: 1 | AY112: ROZPOCET
C113: 8 | D113: K | E113: 273362021 | F113: Výztuž základů desek ze svařovaných sítí z drátů typu KARI | G113: t | H113: 0.217 | I113: 38976.62 | J113: =ROUND(I113*H113,2) -> 8457.93 | N113: základní | O113: 0 | P113: =O113*H113 -> 0 | Q113: 1.0627728 | R113: =Q113*H113 -> 0.23062169 | S113: 0 | T113: =S113*H113 -> 0 | AR113: 4 | AT113: K | AU113: 2 | AY113: ROZPOCET | BE113: =IF(N113="základní",J113,0) -> 8457.93 | BF113: =IF(N113="snížená",J113,0) -> 0 | BG113: =IF(N113="zákl. přenesená",J113,0) -> 0 | BH113: =IF(N113="sníž. přenesená",J113,0) -> 0 | BI113: =IF(N113="nulová",J113,0) -> 0 | BJ113: 1 | BK113: =ROUND(I113*H113,2) -> 8457.93 | BL113: 4 | BM113: -1521869702
D114: VV | F114: "2x8-150/150, vč. ztratného 1,15" | AT114: VV | AU114: 2 | AV114: 1 | AW114: True | AX114: 0 | AY114: ROZPOCET
D115: VV | F115: "dle metodiky URS-směrné množství výztuže 5,267 kg/m2" | AT115: VV | AU115: 2 | AV115: 1 | AW115: True | AX115: 0 | AY115: ROZPOCET
D116: VV | F116: ((8,2*1,6+3,0*1,6)*5,267*1,15*2)/1000 | H116: 0.217 | AT116: VV | AU116: 2 | AV116: 2 | AW116: True | AX116: 1 | AY116: ROZPOCET
C117: 9 | D117: K | E117: 274321511 | F117: Základy z betonu železového (bez výztuže) pasy z betonu bez zvláštních nároků na prostředí tř. C 25/30 | G117: m3 | H117: 1.792 | I117: 4376.57 | J117: =ROUND(I117*H117,2) -> 7842.81 | N117: základní | O117: 0 | P117: =O117*H117 -> 0 | Q117: 2.50187 | R117: =Q117*H117 -> 4.483351 | S117: 0 | T117: =S117*H117 -> 0 | AR117: 4 | AT117: K | AU117: 2 | AY117: ROZPOCET | BE117: =IF(N117="základní",J117,0) -> 7842.81 | BF117: =IF(N117="snížená",J117,0) -> 0 | BG117: =IF(N117="zákl. přenesená",J117,0) -> 0 | BH117: =IF(N117="sníž. přenesená",J117,0) -> 0 | BI117: =IF(N117="nulová",J117,0) -> 0 | BJ117: 1 | BK117: =ROUND(I117*H117,2) -> 7842.81 | BL117: 4 | BM117: 427524594
D118: VV | F118: "sokl-viz řez"8,2*1,6*0,1+3,0*1,6*0,1 | H118: 1.792 | AT118: VV | AU118: 2 | AV118: 2 | AW118: True | AX118: 1 | AY118: ROZPOCET
C119: 10 | D119: K | E119: 274361821 | F119: Výztuž základů pasů z betonářské oceli 10 505 (R) nebo BSt 500 | G119: t | H119: 0.179 | I119: 39000 | J119: =ROUND(I119*H119,2) -> 6981 | N119: základní | O119: 0 | P119: =O119*H119 -> 0 | Q119: 1.06062 | R119: =Q119*H119 -> 0.18985098 | S119: 0 | T119: =S119*H119 -> 0 | AR119: 4 | AT119: K | AU119: 2 | AY119: ROZPOCET | BE119: =IF(N119="základní",J119,0) -> 6981 | BF119: =IF(N119="snížená",J119,0) -> 0 | BG119: =IF(N119="zákl. přenesená",J119,0) -> 0 | BH119: =IF(N119="sníž. přenesená",J119,0) -> 0 | BI119: =IF(N119="nulová",J119,0) -> 0 | BJ119: 1 | BK119: =ROUND(I119*H119,2) -> 6981 | BL119: 4 | BM119: -167881061
D120: VV | F120: "B500B" | AT120: VV | AU120: 2 | AV120: 1 | AW120: True | AX120: 0 | AY120: ROZPOCET
D121: VV | F121: "dle metodiky URS-směrné množství výztuže 100 kg/m3" | AT121: VV | AU121: 2 | AV121: 1 | AW121: True | AX121: 0 | AY121: ROZPOCET
D122: VV | F122: 8,2*1,6*0,1+3,0*1,6*0,1 | H122: 1.792 | AT122: VV | AU122: 2 | AV122: 2 | AW122: True | AX122: 0 | AY122: ROZPOCET
D123: VV | F123: Mezisoučet | H123: 1.792 | AT123: VV | AU123: 2 | AV123: 3 | AW123: True | AX123: 0 | AY123: ROZPOCET
D124: VV | F124: 1,792*0,1 | H124: 0.179 | AT124: VV | AU124: 2 | AV124: 2 | AW124: True | AX124: 1 | AY124: ROZPOCET
C125: 11 | D125: K | E125: 279113144 | F125: Základové zdi z tvárnic ztraceného bednění včetně výplně z betonu bez zvláštních nároků na vliv prostředí třídy C 20/25, tloušťky zdiva přes 250 do 300 mm | G125: m2 | H125: 12.32 | I125: 1968.29 | J125: =ROUND(I125*H125,2) -> 24249.33 | N125: základní | O125: 0 | P125: =O125*H125 -> 0 | Q125: 0.73558274 | R125: =Q125*H125 -> 9.0623794 | S125: 0 | T125: =S125*H125 -> 0 | AR125: 4 | AT125: K | AU125: 2 | AY125: ROZPOCET | BE125: =IF(N125="základní",J125,0) -> 24249.33 | BF125: =IF(N125="snížená",J125,0) -> 0 | BG125: =IF(N125="zákl. přenesená",J125,0) -> 0 | BH125: =IF(N125="sníž. přenesená",J125,0) -> 0 | BI125: =IF(N125="nulová",J125,0) -> 0 | BJ125: 1 | BK125: =ROUND(I125*H125,2) -> 24249.33 | BL125: 4 | BM125: -1391837539
D126: VV | F126: 8,2*0,55*2+3,0*0,55*2 | H126: 12.32 | AT126: VV | AU126: 2 | AV126: 2 | AW126: True | AX126: 1 | AY126: ROZPOCET
C127: 12 | D127: K | E127: 279361821 | F127: Výztuž základových zdí nosných svislých nebo odkloněných od svislice, rovinných nebo oblých, deskových nebo žebrových, včetně výztuže jejich žeber z betonářské oceli 10 505 (R) nebo BSt 500 | G127: t | H127: 0.222 | I127: 39000 | J127: =ROUND(I127*H127,2) -> 8658 | N127: základní | O127: 0 | P127: =O127*H127 -> 0 | Q127: 1.0594031 | R127: =Q127*H127 -> 0.23518749 | S127: 0 | T127: =S127*H127 -> 0 | AR127: 4 | AT127: K | AU127: 2 | AY127: ROZPOCET | BE127: =IF(N127="základní",J127,0) -> 8658 | BF127: =IF(N127="snížená",J127,0) -> 0 | BG127: =IF(N127="zákl. přenesená",J127,0) -> 0 | BH127: =IF(N127="sníž. přenesená",J127,0) -> 0 | BI127: =IF(N127="nulová",J127,0) -> 0 | BJ127: 1 | BK127: =ROUND(I127*H127,2) -> 8658 | BL127: 4 | BM127: -228056201
D128: VV | F128: "B500B" | AT128: VV | AU128: 2 | AV128: 1 | AW128: True | AX128: 0 | AY128: ROZPOCET
D129: VV | F129: "do ztraceného bednění, dle směrného množství výztuže dle CS ÚRS je cca 40-60 kg/m3" | AT129: VV | AU129: 2 | AV129: 1 | AW129: True | AX129: 0 | AY129: ROZPOCET
D130: VV | F130: (8,2*0,55*2+3,0*0,55*2)*0,3*0,06 | H130: 0.222 | AT130: VV | AU130: 2 | AV130: 2 | AW130: True | AX130: 1 | AY130: ROZPOCET
D131: D | E131: 3 | F131: Svislé a kompletní konstrukce | J131: =BK131 -> 269607.3 | P131: =SUM(P132:P165) -> 0 | R131: =SUM(R132:R165) -> 40.412219 | T131: =SUM(T132:T165) -> 0 | AR131: 1 | AT131: D | AU131: 1 | AY131: ROZPOCET | BK131: =SUM(BK132:BK165) -> 269607.3
C132: 13 | D132: K | E132: 311321814 | F132: Nadzákladové zdi z betonu železového (bez výztuže) nosné pohledového (v přírodní barvě drtí a přísad) tř. C 25/30 | G132: m3 | H132: 15.009 | I132: 7900 | J132: =ROUND(I132*H132,2) -> 118571.1 | N132: základní | O132: 0 | P132: =O132*H132 -> 0 | Q132: 2.50187 | R132: =Q132*H132 -> 37.550567 | S132: 0 | T132: =S132*H132 -> 0 | AR132: 4 | AT132: K | AU132: 2 | AY132: ROZPOCET | BE132: =IF(N132="základní",J132,0) -> 118571.1 | BF132: =IF(N132="snížená",J132,0) -> 0 | BG132: =IF(N132="zákl. přenesená",J132,0) -> 0 | BH132: =IF(N132="sníž. přenesená",J132,0) -> 0 | BI132: =IF(N132="nulová",J132,0) -> 0 | BJ132: 1 | BK132: =ROUND(I132*H132,2) -> 118571.1 | BL132: 4 | BM132: -523014094
...

Sheet ZBV-05a - méněpráce
AT2: {e9223328-9947-4f5d-b51e-d0c1ee4e8339}
AT3: 2
D4: KRYCÍ LIST SOUPISU PRACÍ | M4: v --- níže se nacházejí doplnkové a pomocné údaje k sestavám --- v | AT4: False
D6: Stavba:
E7: ='Rekapitulace stavby'!K6 -> ÚPRAVY HŘBITOVA KBELY- ETAPA1
D8: Objekt:
E9: 01 - Navrhované objekty
D10: Soupis:
E11: 10 - KOLUMBÁRIUM
D12: Úroveň 3:
E13: ZBV-05a - méněpráce
D15: KSO: | F15: 815 9 | I15: CC-CZ:
D16: Místo: | F16: Praha 9-Kbely | I16: Datum: | J16: ='Rekapitulace stavby'!AN8 -> 0
D18: Zadavatel: | I18: IČ: | J18: 00231304
E19: MČ Praha 19, Semilská 43/1, 197 00 Praha 9 - Kbely | I19: DIČ:
D21: Zhotovitel: | I21: IČ: | J21: 07395680
E22: IWU s.r.o. | I22: DIČ: | J22: CZ07395680
D24: Projektant: | I24: IČ:
E25: Ing.Jan Pustějovský, Ph.D. | I25: DIČ:
D27: Zpracovatel: | I27: IČ:
I28: DIČ:
D30: Poznámka:
D34: Cena bez DPH | J34: =ROUND(J94, 2) -> -90565.67
F36: Základ daně | I36: Sazba daně | J36: Výše daně
D37: DPH | E37: základní | F37: =ROUND((SUM(BE94:BE145)), 2) -> -90565.67 | I37: 0.21 | J37: =ROUND(((SUM(BE94:BE145))*I37), 2) -> -19018.79
E38: snížená | F38: =ROUND((SUM(BF94:BF145)), 2) -> 0 | I38: 0.12 | J38: =ROUND(((SUM(BF94:BF145))*I38), 2) -> 0
E39: zákl. přenesená | F39: =ROUND((SUM(BG94:BG145)), 2) -> 0 | I39: 0.21 | J39: =0 -> 0
E40: sníž. přenesená | F40: =ROUND((SUM(BH94:BH145)), 2) -> 0 | I40: 0.12 | J40: =0 -> 0
E41: nulová | F41: =ROUND((SUM(BI94:BI145)), 2) -> 0 | I41: 0 | J41: =0 -> 0
D43: Cena s DPH | G43: v | H43: CZK | J43: =SUM(J34:J41) -> -109584.46
C49: REKAPITULACE ČLENĚNÍ SOUPISU PRACÍ
C51: Stavba:
E52: =E7 -> ÚPRAVY HŘBITOVA KBELY- ETAPA1
C53: Objekt:
E54: 01 - Navrhované objekty
C55: Soupis:
E56: 10 - KOLUMBÁRIUM
C57: Úroveň 3:
E58: =E13 -> ZBV-05a - méněpráce
C60: Místo: | F60: =F16 -> Praha 9-Kbely | I60: Datum: | J60: =IF(J16="","",J16) -> 0
C62: Zadavatel: | F62: =E19 -> MČ Praha 19, Semilská 43/1, 197 00 Praha 9 - Kbely | I62: Projektant: | J62: =E25 -> Ing.Jan Pustějovský, Ph.D.
C63: Zhotovitel: | F63: =IF(E22="","",E22) -> IWU s.r.o. | I63: Zpracovatel: | J63: =E28
C65: Kód dílu - Popis | J65: Cena celkem [CZK]
C67: Náklady stavby celkem | J67: =J94 -> -90565.67 | AU67: -1
D68: HSV - Práce a dodávky HSV | J68: =J95 -> -90565.67
D69: 3 - Svislé a kompletní konstrukce | J69: =J96 -> -75877.2
D70: 4 - Vodorovné konstrukce | J70: =J117 -> -14688.47
C77: SOUPIS PRACÍ
C79: Stavba:
E80: =E7 -> ÚPRAVY HŘBITOVA KBELY- ETAPA1
C81: Objekt:
E82: 01 - Navrhované objekty
C83: Soupis:
E84: 10 - KOLUMBÁRIUM
C85: Úroveň 3:
E86: =E13 -> ZBV-05a - méněpráce
C88: Místo: | F88: =F16 -> Praha 9-Kbely | I88: Datum: | J88: =IF(J16="","",J16) -> 0
C90: Zadavatel: | F90: =E19 -> MČ Praha 19, Semilská 43/1, 197 00 Praha 9 - Kbely | I90: Projektant: | J90: =E25 -> Ing.Jan Pustějovský, Ph.D.
C91: Zhotovitel: | F91: =IF(E22="","",E22) -> IWU s.r.o. | I91: Zpracovatel: | J91: =E28
C93: PČ | D93: Typ | E93: Kód | F93: Popis | G93: MJ | H93: Množství | I93: J.cena [CZK] | J93: Cena celkem [CZK] | K93: Cenová soustava | N93: DPH | O93: J. Nh [h] | P93: Nh celkem [h] | Q93: J. hmotnost [t] | R93: Hmotnost celkem [t] | S93: J. suť [t] | T93: Suť Celkem [t]
C94: Náklady soupisu celkem | J94: =BK94 -> -90565.67 | P94: =P95 -> 0 | R94: =R95 -> -4.7804263 | T94: =T95 -> 0 | AT94: D | AU94: -1 | BK94: =BK95 -> -90565.67
D95: D | E95: HSV | F95: Práce a dodávky HSV | J95: =BK95 -> -90565.67 | P95: =P96+P117 -> 0 | R95: =R96+R117 -> -4.7804263 | T95: =T96+T117 -> 0 | AR95: 1 | AT95: D | AU95: 0 | AY95: ROZPOCET | BK95: =BK96+BK117 -> -90565.67
D96: D | E96: 3 | F96: Svislé a kompletní konstrukce | J96: =BK96 -> -75877.2 | P96: =SUM(P97:P116) -> 0 | R96: =SUM(R97:R116) -> -4.1708154 | T96: =SUM(T97:T116) -> 0 | AR96: 1 | AT96: D | AU96: 1 | AY96: ROZPOCET | BK96: =SUM(BK97:BK116) -> -75877.2
C97: 1 | D97: K | E97: 311321814 | F97: Nadzákladové zdi z betonu železového (bez výztuže) nosné pohledového (v přírodní barvě drtí a přísad) tř. C 25/30 | G97: m3 | H97: -1.5 | I97: 7900 | J97: =ROUND(I97*H97,2) -> -11850 | N97: základní | O97: 0 | P97: =O97*H97 -> 0 | Q97: 2.50187 | R97: =Q97*H97 -> -3.752805 | S97: 0 | T97: =S97*H97 -> 0 | AR97: 4 | AT97: K | AU97: 2 | AY97: ROZPOCET | BE97: =IF(N97="základní",J97,0) -> -11850 | BF97: =IF(N97="snížená",J97,0) -> 0 | BG97: =IF(N97="zákl. přenesená",J97,0) -> 0 | BH97: =IF(N97="sníž. přenesená",J97,0) -> 0 | BI97: =IF(N97="nulová",J97,0) -> 0 | BJ97: 1 | BK97: =ROUND(I97*H97,2) -> -11850 | BL97: 4 | BM97: -1735904284
D98: VV | F98: "původní množství dle SOD" -15,009 | H98: -15.009 | AT98: VV | AU98: 2 | AV98: 2 | AW98: True | AX98: 0 | AY98: ROZPOCET
D99: VV | F99: "nové množství dle ZBV" 13,509 | H99: 13.509 | AT99: VV | AU99: 2 | AV99: 2 | AW99: True | AX99: 0 | AY99: ROZPOCET
D100: VV | F100: Součet | H100: -1.5 | AT100: VV | AU100: 2 | AV100: 4 | AW100: True | AX100: 1 | AY100: ROZPOCET
C101: 2 | D101: K | E101: 311351121 | F101: Bednění nadzákladových zdí nosných rovné oboustranné za každou stranu zřízení | G101: m2 | H101: -40.65 | I101: 755 | J101: =ROUND(I101*H101,2) -> -30690.75 | N101: základní | O101: 0 | P101: =O101*H101 -> 0 | Q101: 0.00275 | R101: =Q101*H101 -> -0.1117875 | S101: 0 | T101: =S101*H101 -> 0 | AR101: 4 | AT101: K | AU101: 2 | AY101: ROZPOCET | BE101: =IF(N101="základní",J101,0) -> -30690.75 | BF101: =IF(N101="snížená",J101,0) -> 0 | BG101: =IF(N101="zákl. přenesená",J101,0) -> 0 | BH101: =IF(N101="sníž. přenesená",J101,0) -> 0 | BI101: =IF(N101="nulová",J101,0) -> 0 | BJ101: 1 | BK101: =ROUND(I101*H101,2) -> -30690.75 | BL101: 4 | BM101: -1685345564
D102: VV | F102: "původní množství dle SOD" -40,65 | H102: -40.65 | AT102: VV | AU102: 2 | AV102: 2 | AW102: True | AX102: 0 | AY102: ROZPOCET
D103: VV | F103: "nové množství dle ZBV" 0 | H103: 0 | AT103: VV | AU103: 2 | AV103: 2 | AW103: True | AX103: 0 | AY103: ROZPOCET
D104: VV | F104: Součet | H104: -40.65 | AT104: VV | AU104: 2 | AV104: 4 | AW104: True | AX104: 1 | AY104: ROZPOCET
C105: 3 | D105: K | E105: 311351122 | F105: Bednění nadzákladových zdí nosných rovné oboustranné za každou stranu odstranění | G105: m2 | H105: -40.65 | I105: 378 | J105: =ROUND(I105*H105,2) -> -15365.7 | N105: základní | O105: 0 | P105: =O105*H105 -> 0 | Q105: 0 | R105: =Q105*H105 -> 0 | S105: 0 | T105: =S105*H105 -> 0 | AR105: 4 | AT105: K | AU105: 2 | AY105: ROZPOCET | BE105: =IF(N105="základní",J105,0) -> -15365.7 | BF105: =IF(N105="snížená",J105,0) -> 0 | BG105: =IF(N105="zákl. přenesená",J105,0) -> 0 | BH105: =IF(N105="sníž. přenesená",J105,0) -> 0 | BI105: =IF(N105="nulová",J105,0) -> 0 | BJ105: 1 | BK105: =ROUND(I105*H105,2) -> -15365.7 | BL105: 4 | BM105: -589724627
D106: VV | F106: "původní množství dle SOD" -40,65 | H106: -40.65 | AT106: VV | AU106: 2 | AV106: 2 | AW106: True | AX106: 0 | AY106: ROZPOCET
D107: VV | F107: "nové množství dle ZBV" 0 | H107: 0 | AT107: VV | AU107: 2 | AV107: 2 | AW107: True | AX107: 0 | AY107: ROZPOCET
D108: VV | F108: Součet | H108: -40.65 | AT108: VV | AU108: 2 | AV108: 4 | AW108: True | AX108: 1 | AY108: ROZPOCET
C109: 4 | D109: K | E109: 311351911 | F109: Bednění nadzákladových zdí nosných Příplatek k cenám bednění za pohledový beton | G109: m2 | H109: -40.65 | I109: 255 | J109: =ROUND(I109*H109,2) -> -10365.75 | N109: základní | O109: 0 | P109: =O109*H109 -> 0 | Q109: 0.0025 | R109: =Q109*H109 -> -0.101625 | S109: 0 | T109: =S109*H109 -> 0 | AR109: 4 | AT109: K | AU109: 2 | AY109: ROZPOCET | BE109: =IF(N109="základní",J109,0) -> -10365.75 | BF109: =IF(N109="snížená",J109,0) -> 0 | BG109: =IF(N109="zákl. přenesená",J109,0) -> 0 | BH109: =IF(N109="sníž. přenesená",J109,0) -> 0 | BI109: =IF(N109="nulová",J109,0) -> 0 | BJ109: 1 | BK109: =ROUND(I109*H109,2) -> -10365.75 | BL109: 4 | BM109: 402384027
D110: VV | F110: "původní množství dle SOD" -40,65 | H110: -40.65 | AT110: VV | AU110: 2 | AV110: 2 | AW110: True | AX110: 0 | AY110: ROZPOCET
D111: VV | F111: "nové množství dle ZBV" 0 | H111: 0 | AT111: VV | AU111: 2 | AV111: 2 | AW111: True | AX111: 0 | AY111: ROZPOCET
D112: VV | F112: Součet | H112: -40.65 | AT112: VV | AU112: 2 | AV112: 4 | AW112: True | AX112: 1 | AY112: ROZPOCET
C113: 5 | D113: K | E113: 311361821 | F113: Výztuž nadzákladových zdí nosných svislých nebo odkloněných od svislice, rovných nebo oblých z betonářské oceli 10 505 (R) nebo BSt 500 | G113: t | H113: -0.195 | I113: 39000 | J113: =ROUND(I113*H113,2) -> -7605 | N113: základní | O113: 0 | P113: =O113*H113 -> 0 | Q113: 1.04922 | R113: =Q113*H113 -> -0.2045979 | S113: 0 | T113: =S113*H113 -> 0 | AR113: 4 | AT113: K | AU113: 2 | AY113: ROZPOCET | BE113: =IF(N113="základní",J113,0) -> -7605 | BF113: =IF(N113="snížená",J113,0) -> 0 | BG113: =IF(N113="zákl. přenesená",J113,0) -> 0 | BH113: =IF(N113="sníž. přenesená",J113,0) -> 0 | BI113: =IF(N113="nulová",J113,0) -> 0 | BJ113: 1 | BK113: =ROUND(I113*H113,2) -> -7605 | BL113: 4 | BM113: -1066531278
D114: VV | F114: "původní množství dle SOD" -1,951 | H114: -1.951 | AT114: VV | AU114: 2 | AV114: 2 | AW114: True | AX114: 0 | AY114: ROZPOCET
D115: VV | F115: "nové množství dle ZBV" 1,756 | H115: 1.756 | AT115: VV | AU115: 2 | AV115: 2 | AW115: True | AX115: 0 | AY115: ROZPOCET
D116: VV | F116: Součet | H116: -0.195 | AT116: VV | AU116: 2 | AV116: 4 | AW116: True | AX116: 1 | AY116: ROZPOCET
D117: D | E117: 4 | F117: Vodorovné konstrukce | J117: =BK117 -> -14688.47 | P117: =SUM(P118:P145) -> 0 | R117: =SUM(R118:R145) -> -0.60961095 | T117: =SUM(T118:T145) -> 0 | AR117: 1 | AT117: D | AU117: 1 | AY117: ROZPOCET | BK117: =SUM(BK118:BK145) -> -14688.47
C118: 6 | D118: K | E118: 411324444 | F118: Stropy z betonu železového (bez výztuže) pohledového stropů deskových, plochých střech, desek balkonových, desek hřibových stropů včetně hlavic hřibových sloupů tř. C 25/30 | G118: m3 | H118: -0.2 | I118: 7900 | J118: =ROUND(I118*H118,2) -> -1580 | N118: základní | O118: 0 | P118: =O118*H118 -> 0 | Q118: 2.50201 | R118: =Q118*H118 -> -0.500402 | S118: 0 | T118: =S118*H118 -> 0 | AR118: 4 | AT118: K | AU118: 2 | AY118: ROZPOCET | BE118: =IF(N118="základní",J118,0) -> -1580 | BF118: =IF(N118="snížená",J118,0) -> 0 | BG118: =IF(N118="zákl. přenesená",J118,0) -> 0 | BH118: =IF(N118="sníž. přenesená",J118,0) -> 0 | BI118: =IF(N118="nulová",J118,0) -> 0 | BJ118: 1 | BK118: =ROUND(I118*H118,2) -> -1580 | BL118: 4 | BM118: 1127173951
D119: VV | F119: "původní množství dle SOD" -1,713 | H119: -1.713 | AT119: VV | AU119: 2 | AV119: 2 | AW119: True | AX119: 0 | AY119: ROZPOCET
D120: VV | F120: "nové množství dle ZBV" 1,513 | H120: 1.513 | AT120: VV | AU120: 2 | AV120: 2 | AW120: True | AX120: 0 | AY120: ROZPOCET
D121: VV | F121: Součet | H121: -0.2 | AT121: VV | AU121: 2 | AV121: 4 | AW121: True | AX121: 1 | AY121: ROZPOCET
C122: 7 | D122: K | E122: 411351011 | F122: Bednění stropních konstrukcí - bez podpěrné konstrukce desek tloušťky stropní desky přes 5 do 25 cm zřízení | G122: m2 | H122: -9.325 | I122: 622 | J122: =ROUND(I122*H122,2) -> -5800.15 | N122: základní | O122: 0 | P122: =O122*H122 -> 0 | Q122: 0.00533 | R122: =Q122*H122 -> -0.04970225 | S122: 0 | T122: =S122*H122 -> 0 | AR122: 4 | AT122: K | AU122: 2 | AY122: ROZPOCET | BE122: =IF(N122="základní",J122,0) -> -5800.15 | BF122: =IF(N122="snížená",J122,0) -> 0 | BG122: =IF(N122="zákl. přenesená",J122,0) -> 0 | BH122: =IF(N122="sníž. přenesená",J122,0) -> 0 | BI122: =IF(N122="nulová",J122,0) -> 0 | BJ122: 1 | BK122: =ROUND(I122*H122,2) -> -5800.15 | BL122: 4 | BM122: 1977665679
D123: VV | F123: "původní množství dle SOD" -9,325 | H123: -9.325 | AT123: VV | AU123: 2 | AV123: 2 | AW123: True | AX123: 0 | AY123: ROZPOCET
D124: VV | F124: "nové množství dle ZBV" 0 | H124: 0 | AT124: VV | AU124: 2 | AV124: 2 | AW124: True | AX124: 0 | AY124: ROZPOCET
D125: VV | F125: Součet | H125: -9.325 | AT125: VV | AU125: 2 | AV125: 4 | AW125: True | AX125: 1 | AY125: ROZPOCET
C126: 8 | D126: K | E126: 411351012 | F126: Bednění stropních konstrukcí - bez podpěrné konstrukce desek tloušťky stropní desky přes 5 do 25 cm odstranění | G126: m2 | H126: -9.325 | I126: 275 | J126: =ROUND(I126*H126,2) -> -2564.38 | N126: základní | O126: 0 | P126: =O126*H126 -> 0 | Q126: 0 | R126: =Q126*H126 -> 0 | S126: 0 | T126: =S126*H126 -> 0 | AR126: 4 | AT126: K | AU126: 2 | AY126: ROZPOCET | BE126: =IF(N126="základní",J126,0) -> -2564.38 | BF126: =IF(N126="snížená",J126,0) -> 0 | BG126: =IF(N126="zákl. přenesená",J126,0) -> 0 | BH126: =IF(N126="sníž. přenesená",J126,0) -> 0 | BI126: =IF(N126="nulová",J126,0) -> 0 | BJ126: 1 | BK126: =ROUND(I126*H126,2) -> -2564.38 | BL126: 4 | BM126: 497479947
D127: VV | F127: "původní množství dle SOD" -9,325 | H127: -9.325 | AT127: VV | AU127: 2 | AV127: 2 | AW127: True | AX127: 0 | AY127: ROZPOCET
D128: VV | F128: "nové množství dle ZBV" 0 | H128: 0 | AT128: VV | AU128: 2 | AV128: 2 | AW128: True | AX128: 0 | AY128: ROZPOCET
D129: VV | F129: Součet | H129: -9.325 | AT129: VV | AU129: 2 | AV129: 4 | AW129: True | AX129: 1 | AY129: ROZPOCET
C130: 9 | D130: K | E130: 411354311 | F130: Podpěrná konstrukce stropů - desek, kleneb a skořepin výška podepření do 4 m tloušťka stropu přes 5 do 15 cm zřízení | G130: m2 | H130: -5.35 | I130: 206.8 | J130: =ROUND(I130*H130,2) -> -1106.38 | N130: základní | O130: 0 | P130: =O130*H130 -> 0 | Q130: 0.00081 | R130: =Q130*H130 -> -0.0043335 | S130: 0 | T130: =S130*H130 -> 0 | AR130: 4 | AT130: K | AU130: 2 | AY130: ROZPOCET | BE130: =IF(N130="základní",J130,0) -> -1106.38 | BF130: =IF(N130="snížená",J130,0) -> 0 | BG130: =IF(N130="zákl. přenesená",J130,0) -> 0 | BH130: =IF(N130="sníž. přenesená",J130,0) -> 0 | BI130: =IF(N130="nulová",J130,0) -> 0 | BJ130: 1 | BK130: =ROUND(I130*H130,2) -> -1106.38 | BL130: 4 | BM130: 361470046
D131: VV | F131: "původní množství dle SOD" -5,35 | H131: -5.35 | AT131: VV | AU131: 2 | AV131: 2 | AW131: True | AX131: 0 | AY131: ROZPOCET
D132: VV | F132: "nové množství dle ZBV" 0 | H132: 0 | AT132: VV | AU132: 2 | AV132: 2 | AW132: True | AX132: 0 | AY132: ROZPOCET
D133: VV | F133: Součet | H133: -5.35 | AT133: VV | AU133: 2 | AV133: 4 | AW133: True | AX133: 1 | AY133: ROZPOCET
...

Sheet ZBV-05b - vícepráce
AT2: {b4fa2778-3f34-46ef-8f75-3c928f957ad6}
AT3: 2
