Workbook
Name vorn_sum: VORN!$I$37

Sheet Stavební rozpočet
A1: Stavební rozpočet | AS1: =SUM(AJ1:AJ2) -> 0 | AT1: =SUM(AK1:AK2) -> 0 | AU1: =SUM(AL1:AL2) -> 0
A2: Název stavby: | D2: Rekonstrukce tělocvičny č.p. 387 v areálu ZŠ Stochov | F2: Doba výstavby (dny): | I2: Objednatel: | J2: Město Stochov
A4: Druh stavby: | D4: Udržovací práce a oprava stávajícícho objektu | F4: Začátek výstavby: | I4: Projektant: | J4: ARIPROS s.r.o.
A6: Lokalita: | D6: ZŠ Stochov, Jaroslava Šípka 387, 273 03 Stochov | F6: Konec výstavby: | I6: Zhotovitel: | J6: Dle výběrového řízení
A8: JKSO: | D8: 80151 | F8: Zpracováno dne: | I8: Zpracoval:
A10: Č | B10: Objekt | C10: Kód | D10: Zkrácený popis / Varianta | F10: MJ | G10: Množství | H10: Cena/MJ | I10: Sazba DPH | J10: Náklady (Kč) | M10: Náklady (Kč) | N10: % | O10: Hmotnost (t) | Q10: Cenová | BK10: ISWORK | BL10: GROUPCODE | BW10: VATTAX
D11: Rozměry | H11: (Kč) | J11: Dodávka | K11: Montáž | L11: Celkem | M11: Celkem vč. DPH | O11: Jednot. | P11: Celkem | Q11: soustava | Z11: Přesuny | AA11: Typ skupiny | AB11: HSV mat | AC11: HSV prac | AD11: PSV mat | AE11: PSV prac | AF11: Mont mat | AG11: Mont prac | AH11: Ostatní mat. | BH11: MAT | BI11: WORK | BJ11: CELK
C12: 59 | D12: Kryty pozemních komunikací, letišť a ploch dlážděných (předlažby) | J12: =SUM(J13:J15) -> 0 | K12: =SUM(K13:K15) -> 0 | L12: =SUM(L13:L15) -> 0 | M12: =SUM(M13:M15) -> 0 | N12: =IF(L144=0,0,L12/L144) -> 0 | P12: =SUM(P13:P15) -> 29.300792 | AS12: =SUM(AJ13:AJ15) -> 0 | AT12: =SUM(AK13:AK15) -> 0 | AU12: =SUM(AL13:AL15) -> 0
A13: 1 | C13: 596100030RAF | D13: Chodník z dlažby betonové tl. 5 cm, podklad štěrkodrť - přeložení chodníku | F13: m2 | G13: 26.42 | H13: 0 | I13: 21 | J13: =ROUND(G13*AO13,2) -> 0 | K13: =ROUND(G13*AP13,2) -> 0 | L13: =ROUND(G13*H13,2) -> 0 | M13: =L13*(1+BW13/100) -> 0 | N13: =IF(L144=0,0,L13/L144) -> 0 | O13: 0.59141 | P13: =G13*O13 -> 15.625052 | Q13: RTS I / 2025 | Z13: =ROUND(IF(AQ13="5",BJ13,0),2) -> 0 | AB13: =ROUND(IF(AQ13="1",BH13,0),2) -> 0 | AC13: =ROUND(IF(AQ13="1",BI13,0),2) -> 0 | AD13: =ROUND(IF(AQ13="7",BH13,0),2) -> 0 | AE13: =ROUND(IF(AQ13="7",BI13,0),2) -> 0 | AF13: =ROUND(IF(AQ13="2",BH13,0),2) -> 0 | AG13: =ROUND(IF(AQ13="2",BI13,0),2) -> 0 | AH13: =ROUND(IF(AQ13="0",BJ13,0),2) -> 0 | AJ13: =IF(AN13=0,L13,0) -> 0 | AK13: =IF(AN13=12,L13,0) -> 0 | AL13: =IF(AN13=21,L13,0) -> 0 | AN13: 21 | AO13: =H13*0.550490543 -> 0 | AP13: =H13*(1-0.550490543) -> 0 | AQ13: 1 | AV13: =ROUND(AW13+AX13,2) -> 0 | AW13: =ROUND(G13*AO13,2) -> 0 | AX13: =ROUND(G13*AP13,2) -> 0 | AY13: 59_ | AZ13: 5_ | BA13: _ | BC13: =AW13+AX13 -> 0 | BD13: =H13/(100-BE13)*100 -> 0 | BE13: 0 | BF13: =P13 -> 15.625052 | BH13: =G13*AO13 -> 0 | BI13: =G13*AP13 -> 0 | BJ13: =G13*H13 -> 0 | BK13: P | BL13: 59 | BW13: =I13 -> 21 | BX13: Chodník z dlažby betonové tl. 5 cm, podklad štěrkodrť - přeložení chodníku
D14: demontáž + montáž, doplnění podkladu ze štěrkodrti, vč. zemních prací
A15: 2 | C15: 596100030RAD | D15: Chodník okapový z dlažby betonové, podklad štěrkodrť | F15: m2 | G15: 22.25 | H15: 0 | I15: 21 | J15: =ROUND(G15*AO15,2) -> 0 | K15: =ROUND(G15*AP15,2) -> 0 | L15: =ROUND(G15*H15,2) -> 0 | M15: =L15*(1+BW15/100) -> 0 | N15: =IF(L144=0,0,L15/L144) -> 0 | O15: 0.61464 | P15: =G15*O15 -> 13.67574 | Q15: RTS I / 2025 | Z15: =ROUND(IF(AQ15="5",BJ15,0),2) -> 0 | AB15: =ROUND(IF(AQ15="1",BH15,0),2) -> 0 | AC15: =ROUND(IF(AQ15="1",BI15,0),2) -> 0 | AD15: =ROUND(IF(AQ15="7",BH15,0),2) -> 0 | AE15: =ROUND(IF(AQ15="7",BI15,0),2) -> 0 | AF15: =ROUND(IF(AQ15="2",BH15,0),2) -> 0 | AG15: =ROUND(IF(AQ15="2",BI15,0),2) -> 0 | AH15: =ROUND(IF(AQ15="0",BJ15,0),2) -> 0 | AJ15: =IF(AN15=0,L15,0) -> 0 | AK15: =IF(AN15=12,L15,0) -> 0 | AL15: =IF(AN15=21,L15,0) -> 0 | AN15: 21 | AO15: =H15*0.562677395 -> 0 | AP15: =H15*(1-0.562677395) -> 0 | AQ15: 1 | AV15: =ROUND(AW15+AX15,2) -> 0 | AW15: =ROUND(G15*AO15,2) -> 0 | AX15: =ROUND(G15*AP15,2) -> 0 | AY15: 59_ | AZ15: 5_ | BA15: _ | BC15: =AW15+AX15 -> 0 | BD15: =H15/(100-BE15)*100 -> 0 | BE15: 0 | BF15: =P15 -> 13.67574 | BH15: =G15*AO15 -> 0 | BI15: =G15*AP15 -> 0 | BJ15: =G15*H15 -> 0 | BK15: P | BL15: 59 | BW15: =I15 -> 21 | BX15: Chodník okapový z dlažby betonové, podklad štěrkodrť
D16: podklad ze ŠD 15 cm, lože z kameniva 4 cm, dlažba betonová 50x50x5 cm, vč. zemních prací
C17: 61 | D17: Úprava povrchů vnitřní | J17: =SUM(J18:J18) -> 0 | K17: =SUM(K18:K18) -> 0 | L17: =SUM(L18:L18) -> 0 | M17: =SUM(M18:M18) -> 0 | N17: =IF(L144=0,0,L17/L144) -> 0 | P17: =SUM(P18:P18) -> 6.1022 | AS17: =SUM(AJ18:AJ18) -> 0 | AT17: =SUM(AK18:AK18) -> 0 | AU17: =SUM(AL18:AL18) -> 0
A18: 3 | C18: 612100030RAA | D18: Oprava omítky stěn vnitřní vápenocementová štuková | F18: m2 | G18: 65 | H18: 0 | I18: 21 | J18: =ROUND(G18*AO18,2) -> 0 | K18: =ROUND(G18*AP18,2) -> 0 | L18: =ROUND(G18*H18,2) -> 0 | M18: =L18*(1+BW18/100) -> 0 | N18: =IF(L144=0,0,L18/L144) -> 0 | O18: 0.09388 | P18: =G18*O18 -> 6.1022 | Q18: RTS I / 2025 | Z18: =ROUND(IF(AQ18="5",BJ18,0),2) -> 0 | AB18: =ROUND(IF(AQ18="1",BH18,0),2) -> 0 | AC18: =ROUND(IF(AQ18="1",BI18,0),2) -> 0 | AD18: =ROUND(IF(AQ18="7",BH18,0),2) -> 0 | AE18: =ROUND(IF(AQ18="7",BI18,0),2) -> 0 | AF18: =ROUND(IF(AQ18="2",BH18,0),2) -> 0 | AG18: =ROUND(IF(AQ18="2",BI18,0),2) -> 0 | AH18: =ROUND(IF(AQ18="0",BJ18,0),2) -> 0 | AJ18: =IF(AN18=0,L18,0) -> 0 | AK18: =IF(AN18=12,L18,0) -> 0 | AL18: =IF(AN18=21,L18,0) -> 0 | AN18: 21 | AO18: =H18*0.075631142 -> 0 | AP18: =H18*(1-0.075631142) -> 0 | AQ18: 1 | AV18: =ROUND(AW18+AX18,2) -> 0 | AW18: =ROUND(G18*AO18,2) -> 0 | AX18: =ROUND(G18*AP18,2) -> 0 | AY18: 61_ | AZ18: 6_ | BA18: _ | BC18: =AW18+AX18 -> 0 | BD18: =H18/(100-BE18)*100 -> 0 | BE18: 0 | BF18: =P18 -> 6.1022 | BH18: =G18*AO18 -> 0 | BI18: =G18*AP18 -> 0 | BJ18: =G18*H18 -> 0 | BK18: P | BL18: 61 | BW18: =I18 -> 21 | BX18: Oprava omítky stěn vnitřní vápenocementová štuková
D19: otlučení a zřizení omítky po výměně oken a elektroinstalaci, penetrace a malba 2x
C20: 94 | D20: Lešení a stavební výtahy | J20: =SUM(J21:J23) -> 0 | K20: =SUM(K21:K23) -> 0 | L20: =SUM(L21:L23) -> 0 | M20: =SUM(M21:M23) -> 0 | N20: =IF(L144=0,0,L20/L144) -> 0 | P20: =SUM(P21:P23) -> 9.6720182 | AS20: =SUM(AJ21:AJ23) -> 0 | AT20: =SUM(AK21:AK23) -> 0 | AU20: =SUM(AL21:AL23) -> 0
A21: 4 | C21: 941940031RAD | D21: Lešení lehké fasádní, šířka 1 m, výška do 10 m | F21: m2 | G21: 509.59 | H21: 0 | I21: 21 | J21: =ROUND(G21*AO21,2) -> 0 | K21: =ROUND(G21*AP21,2) -> 0 | L21: =ROUND(G21*H21,2) -> 0 | M21: =L21*(1+BW21/100) -> 0 | N21: =IF(L144=0,0,L21/L144) -> 0 | O21: 0.01838 | P21: =G21*O21 -> 9.3662642 | Q21: RTS I / 2025 | Z21: =ROUND(IF(AQ21="5",BJ21,0),2) -> 0 | AB21: =ROUND(IF(AQ21="1",BH21,0),2) -> 0 | AC21: =ROUND(IF(AQ21="1",BI21,0),2) -> 0 | AD21: =ROUND(IF(AQ21="7",BH21,0),2) -> 0 | AE21: =ROUND(IF(AQ21="7",BI21,0),2) -> 0 | AF21: =ROUND(IF(AQ21="2",BH21,0),2) -> 0 | AG21: =ROUND(IF(AQ21="2",BI21,0),2) -> 0 | AH21: =ROUND(IF(AQ21="0",BJ21,0),2) -> 0 | AJ21: =IF(AN21=0,L21,0) -> 0 | AK21: =IF(AN21=12,L21,0) -> 0 | AL21: =IF(AN21=21,L21,0) -> 0 | AN21: 21 | AO21: =H21*0.000075672 -> 0 | AP21: =H21*(1-0.000075672) -> 0 | AQ21: 1 | AV21: =ROUND(AW21+AX21,2) -> 0 | AW21: =ROUND(G21*AO21,2) -> 0 | AX21: =ROUND(G21*AP21,2) -> 0 | AY21: 94_ | AZ21: 9_ | BA21: _ | BC21: =AW21+AX21 -> 0 | BD21: =H21/(100-BE21)*100 -> 0 | BE21: 0 | BF21: =P21 -> 9.3662642 | BH21: =G21*AO21 -> 0 | BI21: =G21*AP21 -> 0 | BJ21: =G21*H21 -> 0 | BK21: P | BL21: 94 | BW21: =I21 -> 21 | BX21: Lešení lehké fasádní, šířka 1 m, výška do 10 m
D22: montáž, demontáž, doprava, revize, pronájem 4 měsíce
A23: 5 | C23: 944946111RT2 | D23: Textílie ochranná pro lešení - montáž a demontáž | F23: m2 | G23: 509.59 | H23: 0 | I23: 21 | J23: =ROUND(G23*AO23,2) -> 0 | K23: =ROUND(G23*AP23,2) -> 0 | L23: =ROUND(G23*H23,2) -> 0 | M23: =L23*(1+BW23/100) -> 0 | N23: =IF(L144=0,0,L23/L144) -> 0 | O23: 0.0006 | P23: =G23*O23 -> 0.305754 | Q23: RTS I / 2025 | Z23: =ROUND(IF(AQ23="5",BJ23,0),2) -> 0 | AB23: =ROUND(IF(AQ23="1",BH23,0),2) -> 0 | AC23: =ROUND(IF(AQ23="1",BI23,0),2) -> 0 | AD23: =ROUND(IF(AQ23="7",BH23,0),2) -> 0 | AE23: =ROUND(IF(AQ23="7",BI23,0),2) -> 0 | AF23: =ROUND(IF(AQ23="2",BH23,0),2) -> 0 | AG23: =ROUND(IF(AQ23="2",BI23,0),2) -> 0 | AH23: =ROUND(IF(AQ23="0",BJ23,0),2) -> 0 | AJ23: =IF(AN23=0,L23,0) -> 0 | AK23: =IF(AN23=12,L23,0) -> 0 | AL23: =IF(AN23=21,L23,0) -> 0 | AN23: 21 | AO23: =H23*0.587328237 -> 0 | AP23: =H23*(1-0.587328237) -> 0 | AQ23: 1 | AV23: =ROUND(AW23+AX23,2) -> 0 | AW23: =ROUND(G23*AO23,2) -> 0 | AX23: =ROUND(G23*AP23,2) -> 0 | AY23: 94_ | AZ23: 9_ | BA23: _ | BC23: =AW23+AX23 -> 0 | BD23: =H23/(100-BE23)*100 -> 0 | BE23: 0 | BF23: =P23 -> 0.305754 | BH23: =G23*AO23 -> 0 | BI23: =G23*AP23 -> 0 | BJ23: =G23*H23 -> 0 | BK23: P | BL23: 94 | BW23: =I23 -> 21 | BX23: Textílie ochranná pro lešení - montáž a demontáž
D24: včetně dodávky textílie (ochr. sítě)
C25: 95 | D25: Různé dokončovací konstrukce a práce na pozemních stavbách | J25: =SUM(J26:J41) -> 0 | K25: =SUM(K26:K41) -> 0 | L25: =SUM(L26:L41) -> 0 | M25: =SUM(M26:M41) -> 0 | N25: =IF(L144=0,0,L25/L144) -> 0 | P25: =SUM(P26:P41) -> 4.760706 | AS25: =SUM(AJ26:AJ41) -> 0 | AT25: =SUM(AK26:AK41) -> 0 | AU25: =SUM(AL26:AL41) -> 0
A26: 6 | C26: 953945211R00 | D26: Síť ochran., oka 20x20 mm, nerez kotvy | F26: m2 | G26: 75 | H26: 0 | I26: 21 | J26: =ROUND(G26*AO26,2) -> 0 | K26: =ROUND(G26*AP26,2) -> 0 | L26: =ROUND(G26*H26,2) -> 0 | M26: =L26*(1+BW26/100) -> 0 | N26: =IF(L144=0,0,L26/L144) -> 0 | O26: 0.00022 | P26: =G26*O26 -> 0.0165 | Q26: RTS I / 2025 | Z26: =ROUND(IF(AQ26="5",BJ26,0),2) -> 0 | AB26: =ROUND(IF(AQ26="1",BH26,0),2) -> 0 | AC26: =ROUND(IF(AQ26="1",BI26,0),2) -> 0 | AD26: =ROUND(IF(AQ26="7",BH26,0),2) -> 0 | AE26: =ROUND(IF(AQ26="7",BI26,0),2) -> 0 | AF26: =ROUND(IF(AQ26="2",BH26,0),2) -> 0 | AG26: =ROUND(IF(AQ26="2",BI26,0),2) -> 0 | AH26: =ROUND(IF(AQ26="0",BJ26,0),2) -> 0 | AJ26: =IF(AN26=0,L26,0) -> 0 | AK26: =IF(AN26=12,L26,0) -> 0 | AL26: =IF(AN26=21,L26,0) -> 0 | AN26: 21 | AO26: =H26*0.336956522 -> 0 | AP26: =H26*(1-0.336956522) -> 0 | AQ26: 1 | AV26: =ROUND(AW26+AX26,2) -> 0 | AW26: =ROUND(G26*AO26,2) -> 0 | AX26: =ROUND(G26*AP26,2) -> 0 | AY26: 95_ | AZ26: 9_ | BA26: _ | BC26: =AW26+AX26 -> 0 | BD26: =H26/(100-BE26)*100 -> 0 | BE26: 0 | BF26: =P26 -> 0.0165 | BH26: =G26*AO26 -> 0 | BI26: =G26*AP26 -> 0 | BJ26: =G26*H26 -> 0 | BK26: P | BL26: 95 | BW26: =I26 -> 21 | BX26: Síť ochran., oka 20x20 mm, nerez kotvy
D27: ochrana oken v tělocvičně
A28: 7 | C28: 639571210R00 | D28: Okapový chodník z beton. desek 50x50x5 cm, podklad ŠD tl. 100 mm | F28: m2 | G28: 22.25 | H28: 0 | I28: 21 | J28: =ROUND(G28*AO28,2) -> 0 | K28: =ROUND(G28*AP28,2) -> 0 | L28: =ROUND(G28*H28,2) -> 0 | M28: =L28*(1+BW28/100) -> 0 | N28: =IF(L144=0,0,L28/L144) -> 0 | O28: 0.168 | P28: =G28*O28 -> 3.738 | Q28: RTS I / 2025 | Z28: =ROUND(IF(AQ28="5",BJ28,0),2) -> 0 | AB28: =ROUND(IF(AQ28="1",BH28,0),2) -> 0 | AC28: =ROUND(IF(AQ28="1",BI28,0),2) -> 0 | AD28: =ROUND(IF(AQ28="7",BH28,0),2) -> 0 | AE28: =ROUND(IF(AQ28="7",BI28,0),2) -> 0 | AF28: =ROUND(IF(AQ28="2",BH28,0),2) -> 0 | AG28: =ROUND(IF(AQ28="2",BI28,0),2) -> 0 | AH28: =ROUND(IF(AQ28="0",BJ28,0),2) -> 0 | AJ28: =IF(AN28=0,L28,0) -> 0 | AK28: =IF(AN28=12,L28,0) -> 0 | AL28: =IF(AN28=21,L28,0) -> 0 | AN28: 21 | AO28: =H28*0.872036515 -> 0 | AP28: =H28*(1-0.872036515) -> 0 | AQ28: 1 | AV28: =ROUND(AW28+AX28,2) -> 0 | AW28: =ROUND(G28*AO28,2) -> 0 | AX28: =ROUND(G28*AP28,2) -> 0 | AY28: 95_ | AZ28: 9_ | BA28: _ | BC28: =AW28+AX28 -> 0 | BD28: =H28/(100-BE28)*100 -> 0 | BE28: 0 | BF28: =P28 -> 3.738 | BH28: =G28*AO28 -> 0 | BI28: =G28*AP28 -> 0 | BJ28: =G28*H28 -> 0 | BK28: P | BL28: 95 | BW28: =I28 -> 21 | BX28: Okapový chodník z beton. desek 50x50x5 cm, podklad ŠD tl. 100 mm
D29: bez obrubníku
A30: 8 | C30: 721242112R00 | D30: Lapač střešních splavenin HL600NHO, D 110 až 125 mm | F30: kus | G30: 6 | H30: 0 | I30: 21 | J30: =ROUND(G30*AO30,2) -> 0 | K30: =ROUND(G30*AP30,2) -> 0 | L30: =ROUND(G30*H30,2) -> 0 | M30: =L30*(1+BW30/100) -> 0 | N30: =IF(L144=0,0,L30/L144) -> 0 | O30: 0.07663 | P30: =G30*O30 -> 0.45978 | Q30: RTS I / 2025 | Z30: =ROUND(IF(AQ30="5",BJ30,0),2) -> 0 | AB30: =ROUND(IF(AQ30="1",BH30,0),2) -> 0 | AC30: =ROUND(IF(AQ30="1",BI30,0),2) -> 0 | AD30: =ROUND(IF(AQ30="7",BH30,0),2) -> 0 | AE30: =ROUND(IF(AQ30="7",BI30,0),2) -> 0 | AF30: =ROUND(IF(AQ30="2",BH30,0),2) -> 0 | AG30: =ROUND(IF(AQ30="2",BI30,0),2) -> 0 | AH30: =ROUND(IF(AQ30="0",BJ30,0),2) -> 0 | AJ30: =IF(AN30=0,L30,0) -> 0 | AK30: =IF(AN30=12,L30,0) -> 0 | AL30: =IF(AN30=21,L30,0) -> 0 | AN30: 21 | AO30: =H30*0.909154181 -> 0 | AP30: =H30*(1-0.909154181) -> 0 | AQ30: 1 | AV30: =ROUND(AW30+AX30,2) -> 0 | AW30: =ROUND(G30*AO30,2) -> 0 | AX30: =ROUND(G30*AP30,2) -> 0 | AY30: 95_ | AZ30: 9_ | BA30: _ | BC30: =AW30+AX30 -> 0 | BD30: =H30/(100-BE30)*100 -> 0 | BE30: 0 | BF30: =P30 -> 0.45978 | BH30: =G30*AO30 -> 0 | BI30: =G30*AP30 -> 0 | BJ30: =G30*H30 -> 0 | BK30: P | BL30: 95 | BW30: =I30 -> 21 | BX30: Lapač střešních splavenin HL600NHO, D 110 až 125 mm
A31: 9 | C31: 900 R01 | D31: HZS - kompletační a drobné práce v rozpočtu nespecifikované nutné pro řádné provedení stavby | F31: h | G31: 50 | H31: 0 | I31: 21 | J31: =ROUND(G31*AO31,2) -> 0 | K31: =ROUND(G31*AP31,2) -> 0 | L31: =ROUND(G31*H31,2) -> 0 | M31: =L31*(1+BW31/100) -> 0 | N31: =IF(L144=0,0,L31/L144) -> 0 | O31: 0 | P31: =G31*O31 -> 0 | Q31: RTS I / 2025 | Z31: =ROUND(IF(AQ31="5",BJ31,0),2) -> 0 | AB31: =ROUND(IF(AQ31="1",BH31,0),2) -> 0 | AC31: =ROUND(IF(AQ31="1",BI31,0),2) -> 0 | AD31: =ROUND(IF(AQ31="7",BH31,0),2) -> 0 | AE31: =ROUND(IF(AQ31="7",BI31,0),2) -> 0 | AF31: =ROUND(IF(AQ31="2",BH31,0),2) -> 0 | AG31: =ROUND(IF(AQ31="2",BI31,0),2) -> 0 | AH31: =ROUND(IF(AQ31="0",BJ31,0),2) -> 0 | AJ31: =IF(AN31=0,L31,0) -> 0 | AK31: =IF(AN31=12,L31,0) -> 0 | AL31: =IF(AN31=21,L31,0) -> 0 | AN31: 21 | AO31: =H31*0 -> 0 | AP31: =H31*(1-0) -> 0 | AQ31: 1 | AV31: =ROUND(AW31+AX31,2) -> 0 | AW31: =ROUND(G31*AO31,2) -> 0 | AX31: =ROUND(G31*AP31,2) -> 0 | AY31: 95_ | AZ31: 9_ | BA31: _ | BC31: =AW31+AX31 -> 0 | BD31: =H31/(100-BE31)*100 -> 0 | BE31: 0 | BF31: =P31 -> 0 | BH31: =G31*AO31 -> 0 | BI31: =G31*AP31 -> 0 | BJ31: =G31*H31 -> 0 | BK31: P | BL31: 95 | BW31: =I31 -> 21 | BX31: HZS - kompletační a drobné práce v rozpočtu nespecifikované nutné pro řádné provedení stavby
A32: 10 | C32: 073111105RA0 | D32: Vnitřní ostění a nadpraží, dvouvrstvá tepelněizolační vápenocementová omítka tl. 15 mm včetně malby | F32: m | G32: 85.4 | H32: 0 | I32: 21 | J32: =ROUND(G32*AO32,2) -> 0 | K32: =ROUND(G32*AP32,2) -> 0 | L32: =ROUND(G32*H32,2) -> 0 | M32: =L32*(1+BW32/100) -> 0 | N32: =IF(L144=0,0,L32/L144) -> 0 | O32: 0.00348 | P32: =G32*O32 -> 0.297192 | Q32: RTS I / 2025 | Z32: =ROUND(IF(AQ32="5",BJ32,0),2) -> 0 | AB32: =ROUND(IF(AQ32="1",BH32,0),2) -> 0 | AC32: =ROUND(IF(AQ32="1",BI32,0),2) -> 0 | AD32: =ROUND(IF(AQ32="7",BH32,0),2) -> 0 | AE32: =ROUND(IF(AQ32="7",BI32,0),2) -> 0 | AF32: =ROUND(IF(AQ32="2",BH32,0),2) -> 0 | AG32: =ROUND(IF(AQ32="2",BI32,0),2) -> 0 | AH32: =ROUND(IF(AQ32="0",BJ32,0),2) -> 0 | AJ32: =IF(AN32=0,L32,0) -> 0 | AK32: =IF(AN32=12,L32,0) -> 0 | AL32: =IF(AN32=21,L32,0) -> 0 | AN32: 21 | AO32: =H32*0.488515479 -> 0 | AP32: =H32*(1-0.488515479) -> 0 | AQ32: 1 | AV32: =ROUND(AW32+AX32,2) -> 0 | AW32: =ROUND(G32*AO32,2) -> 0 | AX32: =ROUND(G32*AP32,2) -> 0 | AY32: 95_ | AZ32: 9_ | BA32: _ | BC32: =AW32+AX32 -> 0 | BD32: =H32/(100-BE32)*100 -> 0 | BE32: 0 | BF32: =P32 -> 0.297192 | BH32: =G32*AO32 -> 0 | BI32: =G32*AP32 -> 0 | BJ32: =G32*H32 -> 0 | BK32: P | BL32: 95 | BW32: =I32 -> 21 | BX32: Vnitřní ostění a nadpraží, dvouvrstvá tepelněizolační vápenocementová omítka tl. 15 mm včetně malby
D33: skladba položky - malba - penetrace podkladu pod malbou - tepelněizolační vápenocementová omítka tl. 15 mm (jádrová omítka+ štuková omítka) - vnitřního začišťovací profil - rohová lišta, hloubka ostění do 300 mm | BX33: Skladba položky: - malba - penetrace podkladu pod malbou - tepelněizolační vápenocementová omítka tl. 15 mm (jádrová omítka+ štuková omítka) - vnitřního začišťovací profil - rohová lišta Hloubka ostění 300 mm.
A34: 11 | C34: 765311752R00 | D34: Sněhový zachytávací systém dvoutrubkový, pro plechovou krytinu | F34: m | G34: 75.2 | H34: 0 | I34: 21 | J34: =ROUND(G34*AO34,2) -> 0 | K34: =ROUND(G34*AP34,2) -> 0 | L34: =ROUND(G34*H34,2) -> 0 | M34: =L34*(1+BW34/100) -> 0 | N34: =IF(L144=0,0,L34/L144) -> 0 | O34: 0.003 | P34: =G34*O34 -> 0.2256 | Q34: RTS I / 2025 | Z34: =ROUND(IF(AQ34="5",BJ34,0),2) -> 0 | AB34: =ROUND(IF(AQ34="1",BH34,0),2) -> 0 | AC34: =ROUND(IF(AQ34="1",BI34,0),2) -> 0 | AD34: =ROUND(IF(AQ34="7",BH34,0),2) -> 0 | AE34: =ROUND(IF(AQ34="7",BI34,0),2) -> 0 | AF34: =ROUND(IF(AQ34="2",BH34,0),2) -> 0 | AG34: =ROUND(IF(AQ34="2",BI34,0),2) -> 0 | AH34: =ROUND(IF(AQ34="0",BJ34,0),2) -> 0 | AJ34: =IF(AN34=0,L34,0) -> 0 | AK34: =IF(AN34=12,L34,0) -> 0 | AL34: =IF(AN34=21,L34,0) -> 0 | AN34: 21 | AO34: =H34*0.702489221 -> 0 | AP34: =H34*(1-0.702489221) -> 0 | AQ34: 1 | AV34: =ROUND(AW34+AX34,2) -> 0 | AW34: =ROUND(G34*AO34,2) -> 0 | AX34: =ROUND(G34*AP34,2) -> 0 | AY34: 95_ | AZ34: 9_ | BA34: _ | BC34: =AW34+AX34 -> 0 | BD34: =H34/(100-BE34)*100 -> 0 | BE34: 0 | BF34: =P34 -> 0.2256 | BH34: =G34*AO34 -> 0 | BI34: =G34*AP34 -> 0 | BJ34: =G34*H34 -> 0 | BK34: P | BL34: 95 | BW34: =I34 -> 21 | BX34: Sněhový zachytávací systém dvoutrubkový, pro plechovou krytinu
A35: 12 | C35: 612409991R | D35: Očištění a úprava spáry | F35: m | G35: 7.8 | H35: 0 | I35: 21 | J35: =ROUND(G35*AO35,2) -> 0 | K35: =ROUND(G35*AP35,2) -> 0 | L35: =ROUND(G35*H35,2) -> 0 | M35: =L35*(1+BW35/100) -> 0 | N35: =IF(L144=0,0,L35/L144) -> 0 | O35: 0.00251 | P35: =G35*O35 -> 0.019578 | Q35: RTS I / 2025 | Z35: =ROUND(IF(AQ35="5",BJ35,0),2) -> 0 | AB35: =ROUND(IF(AQ35="1",BH35,0),2) -> 0 | AC35: =ROUND(IF(AQ35="1",BI35,0),2) -> 0 | AD35: =ROUND(IF(AQ35="7",BH35,0),2) -> 0 | AE35: =ROUND(IF(AQ35="7",BI35,0),2) -> 0 | AF35: =ROUND(IF(AQ35="2",BH35,0),2) -> 0 | AG35: =ROUND(IF(AQ35="2",BI35,0),2) -> 0 | AH35: =ROUND(IF(AQ35="0",BJ35,0),2) -> 0 | AJ35: =IF(AN35=0,L35,0) -> 0 | AK35: =IF(AN35=12,L35,0) -> 0 | AL35: =IF(AN35=21,L35,0) -> 0 | AN35: 21 | AO35: =H35*0.191261687 -> 0 | AP35: =H35*(1-0.191261687) -> 0 | AQ35: 1 | AV35: =ROUND(AW35+AX35,2) -> 0 | AW35: =ROUND(G35*AO35,2) -> 0 | AX35: =ROUND(G35*AP35,2) -> 0 | AY35: 95_ | AZ35: 9_ | BA35: _ | BC35: =AW35+AX35 -> 0 | BD35: =H35/(100-BE35)*100 -> 0 | BE35: 0 | BF35: =P35 -> 0.019578 | BH35: =G35*AO35 -> 0 | BI35: =G35*AP35 -> 0 | BJ35: =G35*H35 -> 0 | BK35: P | BL35: 95 | BW35: =I35 -> 21 | BX35: Očištění a úprava spáry
D36: viz. příloha č. 1 TZ - statické posouzení trhliny
A37: 13 | C37: 771111133R | D37: Vložení těsnicího provazce do dilatační spáry | F37: m | G37: 7.8 | H37: 0 | I37: 21 | J37: =ROUND(G37*AO37,2) -> 0 | K37: =ROUND(G37*AP37,2) -> 0 | L37: =ROUND(G37*H37,2) -> 0 | M37: =L37*(1+BW37/100) -> 0 | N37: =IF(L144=0,0,L37/L144) -> 0 | O37: 0 | P37: =G37*O37 -> 0 | Q37: RTS I / 2025 | Z37: =ROUND(IF(AQ37="5",BJ37,0),2) -> 0 | AB37: =ROUND(IF(AQ37="1",BH37,0),2) -> 0 | AC37: =ROUND(IF(AQ37="1",BI37,0),2) -> 0 | AD37: =ROUND(IF(AQ37="7",BH37,0),2) -> 0 | AE37: =ROUND(IF(AQ37="7",BI37,0),2) -> 0 | AF37: =ROUND(IF(AQ37="2",BH37,0),2) -> 0 | AG37: =ROUND(IF(AQ37="2",BI37,0),2) -> 0 | AH37: =ROUND(IF(AQ37="0",BJ37,0),2) -> 0 | AJ37: =IF(AN37=0,L37,0) -> 0 | AK37: =IF(AN37=12,L37,0) -> 0 | AL37: =IF(AN37=21,L37,0) -> 0 | AN37: 21 | AO37: =H37*0.795586527 -> 0 | AP37: =H37*(1-0.795586527) -> 0 | AQ37: 1 | AV37: =ROUND(AW37+AX37,2) -> 0 | AW37: =ROUND(G37*AO37,2) -> 0 | AX37: =ROUND(G37*AP37,2) -> 0 | AY37: 95_ | AZ37: 9_ | BA37: _ | BC37: =AW37+AX37 -> 0 | BD37: =H37/(100-BE37)*100 -> 0 | BE37: 0 | BF37: =P37 -> 0 | BH37: =G37*AO37 -> 0 | BI37: =G37*AP37 -> 0 | BJ37: =G37*H37 -> 0 | BK37: P | BL37: 95 | BW37: =I37 -> 21 | BX37: Vložení těsnicího provazce do dilatační spáry
D38: vč. dodávky PE provazce, viz. příloha č. 1 TZ - statické posouzení trhliny
A39: 14 | C39: 782999100R | D39: Výplň dilatační spáry hybrid. tmelem šířky do 3 cm, H 3 - 10 cm | F39: m | G39: 7.8 | H39: 0 | I39: 21 | J39: =ROUND(G39*AO39,2) -> 0 | K39: =ROUND(G39*AP39,2) -> 0 | L39: =ROUND(G39*H39,2) -> 0 | M39: =L39*(1+BW39/100) -> 0 | N39: =IF(L144=0,0,L39/L144) -> 0 | O39: 0.00013 | P39: =G39*O39 -> 0.001014 | Q39: RTS I / 2025 | Z39: =ROUND(IF(AQ39="5",BJ39,0),2) -> 0 | AB39: =ROUND(IF(AQ39="1",BH39,0),2) -> 0 | AC39: =ROUND(IF(AQ39="1",BI39,0),2) -> 0 | AD39: =ROUND(IF(AQ39="7",BH39,0),2) -> 0 | AE39: =ROUND(IF(AQ39="7",BI39,0),2) -> 0 | AF39: =ROUND(IF(AQ39="2",BH39,0),2) -> 0 | AG39: =ROUND(IF(AQ39="2",BI39,0),2) -> 0 | AH39: =ROUND(IF(AQ39="0",BJ39,0),2) -> 0 | AJ39: =IF(AN39=0,L39,0) -> 0 | AK39: =IF(AN39=12,L39,0) -> 0 | AL39: =IF(AN39=21,L39,0) -> 0 | AN39: 21 | AO39: =H39*0.142514182 -> 0 | AP39: =H39*(1-0.142514182) -> 0 | AQ39: 1 | AV39: =ROUND(AW39+AX39,2) -> 0 | AW39: =ROUND(G39*AO39,2) -> 0 | AX39: =ROUND(G39*AP39,2) -> 0 | AY39: 95_ | AZ39: 9_ | BA39: _ | BC39: =AW39+AX39 -> 0 | BD39: =H39/(100-BE39)*100 -> 0 | BE39: 0 | BF39: =P39 -> 0.001014 | BH39: =G39*AO39 -> 0 | BI39: =G39*AP39 -> 0 | BJ39: =G39*H39 -> 0 | BK39: P | BL39: 95 | BW39: =I39 -> 21 | BX39: Výplň dilatační spáry hybrid. tmelem šířky do 3 cm, H 3 - 10 cm
D40: viz. příloha č. 1 TZ - statické posouzení trhliny
A41: 15 | C41: 342091213R | D41: Povrchová úprava dilatační spáry | F41: m | G41: 7.8 | H41: 0 | I41: 21 | J41: =ROUND(G41*AO41,2) -> 0 | K41: =ROUND(G41*AP41,2) -> 0 | L41: =ROUND(G41*H41,2) -> 0 | M41: =L41*(1+BW41/100) -> 0 | N41: =IF(L144=0,0,L41/L144) -> 0 | O41: 0.00039 | P41: =G41*O41 -> 0.003042 | Q41: RTS I / 2025 | Z41: =ROUND(IF(AQ41="5",BJ41,0),2) -> 0 | AB41: =ROUND(IF(AQ41="1",BH41,0),2) -> 0 | AC41: =ROUND(IF(AQ41="1",BI41,0),2) -> 0 | AD41: =ROUND(IF(AQ41="7",BH41,0),2) -> 0 | AE41: =ROUND(IF(AQ41="7",BI41,0),2) -> 0 | AF41: =ROUND(IF(AQ41="2",BH41,0),2) -> 0 | AG41: =ROUND(IF(AQ41="2",BI41,0),2) -> 0 | AH41: =ROUND(IF(AQ41="0",BJ41,0),2) -> 0 | AJ41: =IF(AN41=0,L41,0) -> 0 | AK41: =IF(AN41=12,L41,0) -> 0 | AL41: =IF(AN41=21,L41,0) -> 0 | AN41: 21 | AO41: =H41*0.090652532 -> 0 | AP41: =H41*(1-0.090652532) -> 0 | AQ41: 1 | AV41: =ROUND(AW41+AX41,2) -> 0 | AW41: =ROUND(G41*AO41,2) -> 0 | AX41: =ROUND(G41*AP41,2) -> 0 | AY41: 95_ | AZ41: 9_ | BA41: _ | BC41: =AW41+AX41 -> 0 | BD41: =H41/(100-BE41)*100 -> 0 | BE41: 0 | BF41: =P41 -> 0.003042 | BH41: =G41*AO41 -> 0 | BI41: =G41*AP41 -> 0 | BJ41: =G41*H41 -> 0 | BK41: P | BL41: 95 | BW41: =I41 -> 21 | BX41: Povrchová úprava dilatační spáry
D42: viz. příloha č. 1 TZ - statické posouzení trhliny
C43: 96 | D43: Bourání konstrukcí | J43: =SUM(J44:J58) -> 0 | K43: =SUM(K44:K58) -> 0 | L43: =SUM(L44:L58) -> 0 | M43: =SUM(M44:M58) -> 0 | N43: =IF(L144=0,0,L43/L144) -> 0 | P43: =SUM(P44:P58) -> 6.0644535 | AS43: =SUM(AJ44:AJ58) -> 0 | AT43: =SUM(AK44:AK58) -> 0 | AU43: =SUM(AL44:AL58) -> 0
A44: 16 | C44: 968083004R00 | D44: Vybourání plastových oken | F44: m2 | G44: 48.3 | H44: 0 | I44: 21 | J44: =ROUND(G44*AO44,2) -> 0 | K44: =ROUND(G44*AP44,2) -> 0 | L44: =ROUND(G44*H44,2) -> 0 | M44: =L44*(1+BW44/100) -> 0 | N44: =IF(L144=0,0,L44/L144) -> 0 | O44: 0.05582 | P44: =G44*O44 -> 2.696106 | Q44: RTS I / 2025 | Z44: =ROUND(IF(AQ44="5",BJ44,0),2) -> 0 | AB44: =ROUND(IF(AQ44="1",BH44,0),2) -> 0 | AC44: =ROUND(IF(AQ44="1",BI44,0),2) -> 0 | AD44: =ROUND(IF(AQ44="7",BH44,0),2) -> 0 | AE44: =ROUND(IF(AQ44="7",BI44,0),2) -> 0 | AF44: =ROUND(IF(AQ44="2",BH44,0),2) -> 0 | AG44: =ROUND(IF(AQ44="2",BI44,0),2) -> 0 | AH44: =ROUND(IF(AQ44="0",BJ44,0),2) -> 0 | AJ44: =IF(AN44=0,L44,0) -> 0 | AK44: =IF(AN44=12,L44,0) -> 0 | AL44: =IF(AN44=21,L44,0) -> 0 | AN44: 21 | AO44: =H44*0.116504854 -> 0 | AP44: =H44*(1-0.116504854) -> 0 | AQ44: 1 | AV44: =ROUND(AW44+AX44,2) -> 0 | AW44: =ROUND(G44*AO44,2) -> 0 | AX44: =ROUND(G44*AP44,2) -> 0 | AY44: 96_ | AZ44: 9_ | BA44: _ | BC44: =AW44+AX44 -> 0 | BD44: =H44/(100-BE44)*100 -> 0 | BE44: 0 | BF44: =P44 -> 2.696106 | BH44: =G44*AO44 -> 0 | BI44: =G44*AP44 -> 0 | BJ44: =G44*H44 -> 0 | BK44: P | BL44: 96 | BW44: =I44 -> 21 | BX44: Vybourání plastových oken
...

Sheet Stavební rozpočet - součet
A1: Stavební rozpočet - rekapitulace
A2: Název stavby: | C2: ='Stavební rozpočet'!D2 -> Rekonstrukce tělocvičny č.p. 387 v areálu ZŠ Stochov | D2: Doba výstavby (dny): | F2: Objednatel: | G2: ='Stavební rozpočet'!J2 -> Město Stochov
A4: Druh stavby: | C4: ='Stavební rozpočet'!D4 -> Udržovací práce a oprava stávajícícho objektu | D4: Začátek výstavby: | F4: Projektant: | G4: ='Stavební rozpočet'!J4 -> ARIPROS s.r.o.
A6: Lokalita: | C6: ='Stavební rozpočet'!D6 -> ZŠ Stochov, Jaroslava Šípka 387, 273 03 Stochov | D6: Konec výstavby: | F6: Zhotovitel: | G6: ='Stavební rozpočet'!J6 -> Dle výběrového řízení
A8: Zpracoval: | D8: Zpracováno dne:
A10: Objekt | B10: Kód | C10: Zkrácený popis | D10: Náklady (Kč) - dodávka | E10: Náklady (Kč) - Montáž | F10: Náklady (Kč) - celkem | G10: Celková hmotnost (t)
B11: 59 | C11: Kryty pozemních komunikací, letišť a ploch dlážděných (předlažby) | D11: =ROUND('Stavební rozpočet'!J12,2) -> 0 | E11: =ROUND('Stavební rozpočet'!K12,2) -> 0 | F11: =ROUND('Stavební rozpočet'!L12,2) -> 0 | G11: ='Stavební rozpočet'!P12 -> 29.300792 | H11: T | I11: =IF(H11="F",0,F11) -> 0
B12: 61 | C12: Úprava povrchů vnitřní | D12: =ROUND('Stavební rozpočet'!J17,2) -> 0 | E12: =ROUND('Stavební rozpočet'!K17,2) -> 0 | F12: =ROUND('Stavební rozpočet'!L17,2) -> 0 | G12: ='Stavební rozpočet'!P17 -> 6.1022 | H12: T | I12: =IF(H12="F",0,F12) -> 0
B13: 94 | C13: Lešení a stavební výtahy | D13: =ROUND('Stavební rozpočet'!J20,2) -> 0 | E13: =ROUND('Stavební rozpočet'!K20,2) -> 0 | F13: =ROUND('Stavební rozpočet'!L20,2) -> 0 | G13: ='Stavební rozpočet'!P20 -> 9.6720182 | H13: T | I13: =IF(H13="F",0,F13) -> 0
B14: 95 | C14: Různé dokončovací konstrukce a práce na pozemních stavbách | D14: =ROUND('Stavební rozpočet'!J25,2) -> 0 | E14: =ROUND('Stavební rozpočet'!K25,2) -> 0 | F14: =ROUND('Stavební rozpočet'!L25,2) -> 0 | G14: ='Stavební rozpočet'!P25 -> 4.760706 | H14: T | I14: =IF(H14="F",0,F14) -> 0
B15: 96 | C15: Bourání konstrukcí | D15: =ROUND('Stavební rozpočet'!J43,2) -> 0 | E15: =ROUND('Stavební rozpočet'!K43,2) -> 0 | F15: =ROUND('Stavební rozpočet'!L43,2) -> 0 | G15: ='Stavební rozpočet'!P43 -> 6.0644535 | H15: T | I15: =IF(H15="F",0,F15) -> 0
B16: H01 | C16: Budovy občanské výstavby | D16: =ROUND('Stavební rozpočet'!J59,2) -> 0 | E16: =ROUND('Stavební rozpočet'!K59,2) -> 0 | F16: =ROUND('Stavební rozpočet'!L59,2) -> 0 | G16: ='Stavební rozpočet'!P59 -> 0 | H16: T | I16: =IF(H16="F",0,F16) -> 0
B17: M21 | C17: Elektromontáže | D17: =ROUND('Stavební rozpočet'!J61,2) -> 0 | E17: =ROUND('Stavební rozpočet'!K61,2) -> 0 | F17: =ROUND('Stavební rozpočet'!L61,2) -> 0 | G17: ='Stavební rozpočet'!P61 -> 1.967228 | H17: T | I17: =IF(H17="F",0,F17) -> 0
B18: 62 | C18: Úprava povrchů vnější | D18: =ROUND('Stavební rozpočet'!J77,2) -> 0 | E18: =ROUND('Stavební rozpočet'!K77,2) -> 0 | F18: =ROUND('Stavební rozpočet'!L77,2) -> 0 | G18: ='Stavební rozpočet'!P77 -> 9.3341939 | H18: T | I18: =IF(H18="F",0,F18) -> 0
B19: 713 | C19: Izolace tepelné | D19: =ROUND('Stavební rozpočet'!J95,2) -> 0 | E19: =ROUND('Stavební rozpočet'!K95,2) -> 0 | F19: =ROUND('Stavební rozpočet'!L95,2) -> 0 | G19: ='Stavební rozpočet'!P95 -> 1.081668 | H19: T | I19: =IF(H19="F",0,F19) -> 0
B20: 762 | C20: Konstrukce tesařské | D20: =ROUND('Stavební rozpočet'!J98,2) -> 0 | E20: =ROUND('Stavební rozpočet'!K98,2) -> 0 | F20: =ROUND('Stavební rozpočet'!L98,2) -> 0 | G20: ='Stavební rozpočet'!P98 -> 31.958404 | H20: T | I20: =IF(H20="F",0,F20) -> 0
B21: 764 | C21: Konstrukce klempířské | D21: =ROUND('Stavební rozpočet'!J109,2) -> 0 | E21: =ROUND('Stavební rozpočet'!K109,2) -> 0 | F21: =ROUND('Stavební rozpočet'!L109,2) -> 0 | G21: ='Stavební rozpočet'!P109 -> 4.0519097 | H21: T | I21: =IF(H21="F",0,F21) -> 0
B22: 766 | C22: Konstrukce truhlářské | D22: =ROUND('Stavební rozpočet'!J130,2) -> 0 | E22: =ROUND('Stavební rozpočet'!K130,2) -> 0 | F22: =ROUND('Stavební rozpočet'!L130,2) -> 0 | G22: ='Stavební rozpočet'!P130 -> 2.482077 | H22: T | I22: =IF(H22="F",0,F22) -> 0
B23: 767 | C23: Konstrukce doplňkové stavební (zámečnické) | D23: =ROUND('Stavební rozpočet'!J139,2) -> 0 | E23: =ROUND('Stavební rozpočet'!K139,2) -> 0 | F23: =ROUND('Stavební rozpočet'!L139,2) -> 0 | G23: ='Stavební rozpočet'!P139 -> 0.130875 | H23: T | I23: =IF(H23="F",0,F23) -> 0
E24: Celkem: | F24: =ROUND(SUM(I11:I23),2) -> 0

Sheet Krycí list rozpočtu
A1: Krycí list rozpočtu
A2: Název stavby: | C2: ='Stavební rozpočet'!D2 -> Rekonstrukce tělocvičny č.p. 387 v areálu ZŠ Stochov | E2: Objednatel: | F2: ='Stavební rozpočet'!J2 -> Město Stochov | H2: IČO/DIČ: | I2: 00234923/CZ00234923
A4: Druh stavby: | C4: ='Stavební rozpočet'!D4 -> Udržovací práce a oprava stávajícícho objektu | E4: Projektant: | F4: ='Stavební rozpočet'!J4 -> ARIPROS s.r.o. | H4: IČO/DIČ: | I4: 26174936/CZ26174936
A6: Lokalita: | C6: ='Stavební rozpočet'!D6 -> ZŠ Stochov, Jaroslava Šípka 387, 273 03 Stochov | E6: Zhotovitel: | F6: ='Stavební rozpočet'!J6 -> Dle výběrového řízení | H6: IČO/DIČ:
A8: Doba výstavby (dny): | C8: ='Stavební rozpočet'!H4 | H8: Položek: | I8: 66
A10: JKSO: | C10: ='Stavební rozpočet'!D8 -> 80151 | E10: Zpracoval: | H10: Datum:
A12: Rozpočtové náklady v Kč
A13: A | B13: Základní rozpočtové náklady | D13: B | E13: Doplňkové náklady | G13: C | H13: Náklady na umístění stavby (NUS)
A14: HSV | B14: Dodávky | C14: =SUM('Stavební rozpočet'!AB12:AB287) -> 0 | D14: Práce přesčas | F14: =VORN!I15 -> 0 | G14: Zařízení staveniště | I14: 0
B15: Montáž | C15: =SUM('Stavební rozpočet'!AC12:AC287) -> 0 | D15: Bez pevné podl. | F15: =VORN!I16 -> 0 | G15: Mimostav. doprava | I15: 0
A16: PSV | B16: Dodávky | C16: =SUM('Stavební rozpočet'!AD12:AD287) -> 0 | D16: Kulturní památka | F16: =VORN!I17 -> 0 | G16: Územní vlivy | I16: 0
B17: Montáž | C17: =SUM('Stavební rozpočet'!AE12:AE287) -> 0 | D17: Investiční rezerva | F17: =VORN!I18 -> 0 | G17: Provozní vlivy | I17: 0
A18: "M" | B18: Dodávky | C18: =SUM('Stavební rozpočet'!AF12:AF287) -> 0 | G18: Ostatní | I18: =VORN!I26 -> 0
B19: Montáž | C19: =SUM('Stavební rozpočet'!AG12:AG287) -> 0 | G19: NUS z rozpočtu | I19: =VORN!I27 -> 0
A20: Ostatní materiál | C20: =SUM('Stavební rozpočet'!AH12:AH287) -> 0
A21: Přesun hmot a sutí | C21: =SUM('Stavební rozpočet'!Z12:Z287) -> 0
A22: ZRN celkem | C22: =ROUND(SUM(C14:C21),2) -> 0 | D22: DN celkem | F22: =SUM(F14:F21) -> 0 | G22: NUS celkem | I22: =SUM(I14:I21) -> 0
D23: DN celkem z obj. | F23: 0 | G23: NUS celkem z obj. | I23: 0
G24: VORN celkem | I24: =vorn_sum -> 0
G25: VORN celkem z obj. | I25: 0
A27: Základ 0% | C27: =ROUND(SUM('Stavební rozpočet'!AJ12:AJ287),2) -> 0
A28: Základ 12% | C28: =ROUND(SUM('Stavební rozpočet'!AK12:AK287),2) -> 0 | D28: DPH 12% | F28: =ROUND(C28*(12/100),2) -> 0 | G28: Celkem bez DPH | I28: =ROUND(SUM(C27:C29),2) -> 0
A29: Základ 21% | C29: =ROUND(SUM('Stavební rozpočet'!AL12:AL287)+(F22+I22+F23+I23+I24+I25),2) -> 0 | D29: DPH 21% | F29: =ROUND(C29*(21/100),2) -> 0 | G29: Celkem včetně DPH | I29: =ROUND(SUM(F28:F29)+I28,2) -> 0
A31: Projektant | D31: Objednatel | G31: Zhotovitel
A35: Datum, razítko a podpis | D35: Datum, razítko a podpis | G35: Datum, razítko a podpis
A36: Poznámka:
A37: PD je vytvořena digitálním způsobem v programu AutoCAD. Výměry v rozpočtu jsou jeho zpracovatelem stanoveny dle digitálního modelu - funkce měření ploch, délek atd. Uchazeč ve všech listech neoceněného rozpočtového souboru může měnit pouze buňky se žlutým pozadím. Jedná se o údaje o uchazeči a zpracovateli ocenění rozpočtu včetně data zpracování, J.C. (Kč) položek zadané na maximálně dvě desetinná místa a dobu výstavby ve dnech.

Sheet VORN
A1: Vedlejší a ostatní rozpočtové náklady
A2: Název stavby: | C2: ='Stavební rozpočet'!D2 -> Rekonstrukce tělocvičny č.p. 387 v areálu ZŠ Stochov | E2: Objednatel: | F2: ='Stavební rozpočet'!J2 -> Město Stochov | H2: IČO/DIČ: | I2: 00234923/CZ00234923
A4: Druh stavby: | C4: ='Stavební rozpočet'!D4 -> Udržovací práce a oprava stávajícícho objektu | E4: Projektant: | F4: ='Stavební rozpočet'!J4 -> ARIPROS s.r.o. | H4: IČO/DIČ: | I4: 26174936/CZ26174936
A6: Lokalita: | C6: ='Stavební rozpočet'!D6 -> ZŠ Stochov, Jaroslava Šípka 387, 273 03 Stochov | E6: Zhotovitel: | F6: ='Stavební rozpočet'!J6 -> Dle výběrového řízení | H6: IČO/DIČ:
A8: Začátek výstavby: | C8: ='Stavební rozpočet'!H4 | E8: Konec výstavby: | F8: ='Stavební rozpočet'!H6 -> 0 | H8: Položek: | I8: 66
A10: JKSO: | C10: ='Stavební rozpočet'!D8 -> 80151 | E10: Zpracoval: | F10: ='Stavební rozpočet'!J8 -> 0 | H10: Datum: | I10: ='Stavební rozpočet'!H8 -> 0
A13: Vedlejší rozpočtové náklady VRN
A14: Doplňkové náklady DN | F14: Kč | G14: % | H14: Základna | I14: Kč
A15: Práce přesčas | F15: 0 | I15: =F15 -> 0
A16: Bez pevné podl. | F16: 0 | I16: =F16 -> 0
A17: Kulturní památka | F17: 0 | I17: =F17 -> 0
A18: Investiční rezerva | F18: 0 | I18: =F18 -> 0
A19: Celkem DN | I19: =SUM(I15:I18) -> 0
A21: Náklady na umístění stavby (NUS) | F21: Kč | G21: % | H21: Základna | I21: Kč
A22: Zařízení staveniště | F22: 95000 | I22: =F22 -> 95000
A23: Mimostav. doprava | F23: 48500 | I23: =F23 -> 48500
A24: Územní vlivy | F24: 10000 | I24: =F24 -> 10000
A25: Provozní vlivy | F25: 10000 | I25: =F25 -> 10000
A26: Ostatní | F26: 0 | I26: =F26 -> 0
A27: NUS z rozpočtu | F27: 0 | I27: =F27 -> 0
A28: Celkem NUS | I28: =SUM(I22:I27) -> 163500
A30: Celkem VRN | F30: =I19+I28 -> 163500
A34: Ostatní rozpočtové náklady ORN
A35: Ostatní rozpočtové náklady (ORN) | F35: Kč | G35: % | H35: Základna | I35: Kč
F36: 0 | I36: =F36 -> 0
A37: Celkem ORN | I37: =SUM(I36:I36) -> 0
