Workbook
Name vorn_sum: VORN!$I$37

Sheet Stavební rozpočet
A1: Stavební rozpočet | AS1: =SUM(AJ1:AJ2) -> 0 | AT1: =SUM(AK1:AK2) -> 0 | AU1: =SUM(AL1:AL2) -> 0
A2: Název stavby: | D2: Rekonstrukce tělocvičny č.p. 387 v areálu ZŠ Stochov | F2: Doba výstavby (dny): | I2: Objednatel: | J2: Město Stochov
A4: Druh stavby: | D4: Udržovací práce a oprava stávajícícho objektu | F4: Začátek výstavby: | I4: Projektant: | J4: ARIPROS s.r.o.
A6: Lokalita: | D6: ZŠ Stochov, Jaroslava Šípka 387, 273 03 Stochov | F6: Konec výstavby: | I6: Zhotovitel: | J6: Dle výběrového řízení
A8: JKSO: | D8: 80151 | F8: Zpracováno dne: | I8: Zpracoval:
A10: Č | B10: Objekt | C10: Kód | D10: Zkrácený popis / Varianta | F10: MJ | G10: Množství | H10: Cena/MJ | I10: Sazba DPH | J10: Náklady (Kč) | M10: Náklady (Kč) | N10: % | O10: Hmotnost (t) | Q10: Cenová | BK10: ISWORK | BL10: GROUPCODE | BW10: VATTAX
D11: Rozměry | H11: (Kč) | J11: Dodávka | K11: Montáž | L11: Celkem | M11: Celkem vč. DPH | O11: Jednot. | P11: Celkem | Q11: soustava | Z11: Přesuny | AA11: Typ skupiny | AB11: HSV mat | AC11: HSV prac | AD11: PSV mat | AE11: PSV prac | AF11: Mont mat | AG11: Mont prac | AH11: Ostatní mat. | BH11: MAT | BI11: WORK | BJ11: CELK
C12: 59 | D12: Kryty pozemních komunikací, letišť a ploch dlážděných (předlažby) | J12: =SUM(J13:J15) -> 0 | K12: =SUM(K13:K15) -> 0 | L12: =SUM(L13:L15) -> 0 | M12: =SUM(M13:M15) -> 0 | N12: =IF(L144=0,0,L12/L144) -> 0 | P12: =SUM(P13:P15) -> 29.300792 | AS12: =SUM(AJ13:AJ15) -> 0 | AT12: =SUM(AK13:AK15) -> 0 | AU12: =SUM(AL13:AL15) -> 0
A13: 1 | C13: 596100030RAF | D13: Chodník z dlažby betonové tl. 5 cm, podklad štěrkodrť - přeložení chodníku | F13: m2 | G13: 26.42 | H13: 0 | I13: 21 | J13: =ROUND(G13*AO13,2) -> 0 | K13: =ROUND(G13*AP13,2) -> 0 | L13: =ROUND(G13*H13,2) -> 0 | M13: =L13*(1+BW13/100) -> 0 | N13: =IF(L144=0,0,L13/L144) -> 0 | O13: 0.59141 | P13: =G13*O13 -> 15.625052 | Q13: RTS I / 2025 | Z13: =ROUND(IF(AQ13="5",BJ13,0),2) -> 0 | AB13: =ROUND(IF(AQ13="1",BH13,0),2) -> 0 | AC13: =ROUND(IF(AQ13="1",BI13,0),2) -> 0 | AD13: =ROUND(IF(AQ13="7",BH13,0),2) -> 0 | AE13: =ROUND(IF(AQ13="7",BI13,0),2) -> 0 | AF13: =ROUND(IF(AQ13="2",BH13,0),2) -> 0 | AG13: =ROUND(IF(AQ13="2",BI13,0),2) -> 0 | AH13: =ROUND(IF(AQ13="0",BJ13,0),2) -> 0 | AJ13: =IF(AN13=0,L13,0) -> 0 | AK13: =IF(AN13=12,L13,0) -> 0 | AL13: =IF(AN13=21,L13,0) -> 0 | AN13: 21 | AO13: =H13*0.550490543 -> 0 | AP13: =H13*(1-0.550490543) -> 0 | AQ13: 1 | AV13: =ROUND(AW13+AX13,2) -> 0 | AW13: =ROUND(G13*AO13,2) -> 0 | AX13: =ROUND(G13*AP13,2) -> 0 | AY13: 59_ | AZ13: 5_ | BA13: _ | BC13: =AW13+AX13 -> 0 | BD13: =H13/(100-BE13)*100 -> 0 | BE13: 0 | BF13: =P13 -> 15.625052 | BH13: =G13*AO13 -> 0 | BI13: =G13*AP13 -> 0 | BJ13: =G13*H13 -> 0 | BK13: P | BL13: 59 | BW13: =I13 -> 21 | BX13: Chodník z dlažby betonové tl. 5 cm, podklad štěrkodrť - přeložení chodníku
D14: demontáž + montáž, doplnění podkladu ze štěrkodrti, vč. zemních prací
A15: 2 | C15: 596100030RAD | D15: Chodník okapový z dlažby betonové, podklad štěrkodrť | F15: m2 | G15: 22.25 | H15: 0 | I15: 21 | J15: =ROUND(G15*AO15,2) -> 0 | K15: =ROUND(G15*AP15,2) -> 0 | L15: =ROUND(G15*H15,2) -> 0 | M15: =L15*(1+BW15/100) -> 0 | N15: =IF(L144=0,0,L15/L144) -> 0 | O15: 0.61464 | P15: =G15*O15 -> 13.67574 | Q15: RTS I / 2025 | Z15: =ROUND(IF(AQ15="5",BJ15,0),2) -> 0 | AB15: =ROUND(IF(AQ15="1",BH15,0),2) -> 0 | AC15: =ROUND(IF(AQ15="1",BI15,0),2) -> 0 | AD15: =ROUND(IF(AQ15="7",BH15,0),2) -> 0 | AE15: =ROUND(IF(AQ15="7",BI15,0),2) -> 0 | AF15: =ROUND(IF(AQ15="2",BH15,0),2) -> 0 | AG15: =ROUND(IF(AQ15="2",BI15,0),2) -> 0 | AH15: =ROUND(IF(AQ15="0",BJ15,0),2) -> 0 | AJ15: =IF(AN15=0,L15,0) -> 0 | AK15: =IF(AN15=12,L15,0) -> 0 | AL15: =IF(AN15=21,L15,0) -> 0 | AN15: 21 | AO15: =H15*0.562677395 -> 0 | AP15: =H15*(1-0.562677395) -> 0 | AQ15: 1 | AV15: =ROUND(AW15+AX15,2) -> 0 | AW15: =ROUND(G15*AO15,2) -> 0 | AX15: =ROUND(G15*AP15,2) -> 0 | AY15: 59_ | AZ15: 5_ | BA15: _ | BC15: =AW15+AX15 -> 0 | BD15: =H15/(100-BE15)*100 -> 0 | BE15: 0 | BF15: =P15 -> 13.67574 | BH15: =G15*AO15 -> 0 | BI15: =G15*AP15 -> 0 | BJ15: =G15*H15 -> 0 | BK15: P | BL15: 59 | BW15: =I15 -> 21 | BX15: Chodník okapový z dlažby betonové, podklad štěrkodrť
D16: podklad ze ŠD 15 cm, lože z kameniva 4 cm, dlažba betonová 50x50x5 cm, vč. zemních prací
C17: 61 | D17: Úprava povrchů vnitřní | J17: =SUM(J18:J18) -> 0 | K17: =SUM(K18:K18) -> 0 | L17: =SUM(L18:L18) -> 0 | M17: =SUM(M18:M18) -> 0 | N17: =IF(L144=0,0,L17/L144) -> 0 | P17: =SUM(P18:P18) -> 6.1022 | AS17: =SUM(AJ18:AJ18) -> 0 | AT17: =SUM(AK18:AK18) -> 0 | AU17: =SUM(AL18:AL18) -> 0
A18: 3 | C18: 612100030RAA | D18: Oprava omítky stěn vnitřní vápenocementová štuková | F18: m2 | G18: 65 | H18: 0 | I18: 21 | J18: =ROUND(G18*AO18,2) -> 0 | K18: =ROUND(G18*AP18,2) -> 0 | L18: =ROUND(G18*H18,2) -> 0 | M18: =L18*(1+BW18/100) -> 0 | N18: =IF(L144=0,0,L18/L144) -> 0 | O18: 0.09388 | P18: =G18*O18 -> 6.1022 | Q18: RTS I / 2025 | Z18: =ROUND(IF(AQ18="5",BJ18,0),2) -> 0 | AB18: =ROUND(IF(AQ18="1",BH18,0),2) -> 0 | AC18: =ROUND(IF(AQ18="1",BI18,0),2) -> 0 | AD18: =ROUND(IF(AQ18="7",BH18,0),2) -> 0 | AE18: =ROUND(IF(AQ18="7",BI18,0),2) -> 0 | AF18: =ROUND(IF(AQ18="2",BH18,0),2) -> 0 | AG18: =ROUND(IF(AQ18="2",BI18,0),2) -> 0 | AH18: =ROUND(IF(AQ18="0",BJ18,0),2) -> 0 | AJ18: =IF(AN18=0,L18,0) -> 0 | AK18: =IF(AN18=12,L18,0) -> 0 | AL18: =IF(AN18=21,L18,0) -> 0 | AN18: 21 | AO18: =H18*0.075631142 -> 0 | AP18: =H18*(1-0.075631142) -> 0 | AQ18: 1 | AV18: =ROUND(AW18+AX18,2) -> 0 | AW18: =ROUND(G18*AO18,2) -> 0 | AX18: =ROUND(G18*AP18,2) -> 0 | AY18: 61_ | AZ18: 6_ | BA18: _ | BC18: =AW18+AX18 -> 0 | BD18: =H18/(100-BE18)*100 -> 0 | BE18: 0 | BF18: =P18 -> 6.1022 | BH18: =G18*AO18 -> 0 | BI18: =G18*AP18 -> 0 | BJ18: =G18*H18 -> 0 | BK18: P | BL18: 61 | BW18: =I18 -> 21 | BX18: Oprava omítky stěn vnitřní vápenocementová štuková
D19: otlučení a zřizení omítky po výměně oken a elektroinstalaci, penetrace a malba 2x
C20: 94 | D20: Lešení a stavební výtahy | J20: =SUM(J21:J23) -> 0 | K20: =SUM(K21:K23) -> 0 | L20: =SUM(L21:L23) -> 0 | M20: =SUM(M21:M23) -> 0 | N20: =IF(L144=0,0,L20/L144) -> 0 | P20: =SUM(P21:P23) -> 9.6720182 | AS20: =SUM(AJ21:AJ23) -> 0 | AT20: =SUM(AK21:AK23) -> 0 | AU20: =SUM(AL21:AL23) -> 0
A21: 4 | C21: 941940031RAD | D21: Lešení lehké fasádní, šířka 1 m, výška do 10 m | F21: m2 | G21: 509.59 | H21: 0 | I21: 21 | J21: =ROUND(G21*AO21,2) -> 0 | K21: =ROUND(G21*AP21,2) -> 0 | L21: =ROUND(G21*H21,2) -> 0 | M21: =L21*(1+BW21/100) -> 0 | N21: =IF(L144=0,0,L21/L144) -> 0 | O21: 0.01838 | P21: =G21*O21 -> 9.3662642 | Q21: RTS I / 2025 | Z21: =ROUND(IF(AQ21="5",BJ21,0),2) -> 0 | AB21: =ROUND(IF(AQ21="1",BH21,0),2) -> 0 | AC21: =ROUND(IF(AQ21="1",BI21,0),2) -> 0 | AD21: =ROUND(IF(AQ21="7",BH21,0),2) -> 0 | AE21: =ROUND(IF(AQ21="7",BI21,0),2) -> 0 | AF21: =ROUND(IF(AQ21="2",BH21,0),2) -> 0 | AG21: =ROUND(IF(AQ21="2",BI21,0),2) -> 0 | AH21: =ROUND(IF(AQ21="0",BJ21,0),2) -> 0 | AJ21: =IF(AN21=0,L21,0) -> 0 | AK21: =IF(AN21=12,L21,0) -> 0 | AL21: =IF(AN21=21,L21,0) -> 0 | AN21: 21 | AO21: =H21*0.000075672 -> 0 | AP21: =H21*(1-0.000075672) -> 0 | AQ21: 1 | AV21: =ROUND(AW21+AX21,2) -> 0 | AW21: =ROUND(G21*AO21,2) -> 0 | AX21: =ROUND(G21*AP21,2) -> 0 | AY21: 94_ | AZ21: 9_ | BA21: _ | BC21: =AW21+AX21 -> 0 | BD21: =H21/(100-BE21)*100 -> 0 | BE21: 0 | BF21: =P21 -> 9.3662642 | BH21: =G21*AO21 -> 0 | BI21: =G21*AP21 -> 0 | BJ21: =G21*H21 -> 0 | BK21: P | BL21: 94 | BW21: =I21 -> 21 | BX21: Lešení lehké fasádní, šířka 1 m, výška do 10 m
D22: montáž, demontáž, doprava, revize, pronájem 4 měsíce
A23: 5 | C23: 944946111RT2 | D23: Textílie ochranná pro lešení - montáž a demontáž | F23: m2 | G23: 509.59 | H23: 0 | I23: 21 | J23: =ROUND(G23*AO23,2) -> 0 | K23: =ROUND(G23*AP23,2) -> 0 | L23: =ROUND(G23*H23,2) -> 0 | M23: =L23*(1+BW23/100) -> 0 | N23: =IF(L144=0,0,L23/L144) -> 0 | O23: 0.0006 | P23: =G23*O23 -> 0.305754 | Q23: RTS I / 2025 | Z23: =ROUND(IF(AQ23="5",BJ23,0),2) -> 0 | AB23: =ROUND(IF(AQ23="1",BH23,0),2) -> 0 | AC23: =ROUND(IF(AQ23="1",BI23,0),2) -> 0 | AD23: =ROUND(IF(AQ23="7",BH23,0),2) -> 0 | AE23: =ROUND(IF(AQ23="7",BI23,0),2) -> 0 | AF23: =ROUND(IF(AQ23="2",BH23,0),2) -> 0 | AG23: =ROUND(IF(AQ23="2",BI23,0),2) -> 0 | AH23: =ROUND(IF(AQ23="0",BJ23,0),2) -> 0 | AJ23: =IF(AN23=0,L23,0) -> 0 | AK23: =IF(AN23=12,L23,0) -> 0 | AL23: =IF(AN23=21,L23,0) -> 0 | AN23: 21 | AO23: =H23*0.587328237 -> 0 | AP23: =H23*(1-0.587328237) -> 0 | AQ23: 1 | AV23: =ROUND(AW23+AX23,2) -> 0 | AW23: =ROUND(G23*AO23,2) -> 0 | AX23: =ROUND(G23*AP23,2) -> 0 | AY23: 94_ | AZ23: 9_ | BA23: _ | BC23: =AW23+AX23 -> 0 | BD23: =H23/(100-BE23)*100 -> 0 | BE23: 0 | BF23: =P23 -> 0.305754 | BH23: =G23*AO23 -> 0 | BI23: =G23*AP23 -> 0 | BJ23: =G23*H23 -> 0 | BK23: P | BL23: 94 | BW23: =I23 -> 21 | BX23: Textílie ochranná pro lešení - montáž a demontáž
D24: včetně dodávky textílie (ochr. sítě)
C25: 95 | D25: Různé dokončovací konstrukce a práce na pozemních stavbách | J25: =SUM(J26:J41) -> 0 | K25: =SUM(K26:K41) -> 0 | L25: =SUM(L26:L41) -> 0 | M25: =SUM(M26:M41) -> 0 | N25: =IF(L144=0,0,L25/L144) -> 0 | P25: =SUM(P26:P41) -> 4.760706 | AS25: =SUM(AJ26:AJ41) -> 0 | AT25: =SUM(AK26:AK41) -> 0 | AU25: =SUM(AL26:AL41) -> 0
A26: 6 | C26: 953945211R00 | D26: Síť ochran., oka 20x20 mm, nerez kotvy | F26: m2 | G26: 75 | H26: 0 | I26: 21 | J26: =ROUND(G26*AO26,2) -> 0 | K26: =ROUND(G26*AP26,2) -> 0 | L26: =ROUND(G26*H26,2) -> 0 | M26: =L26*(1+BW26/100) -> 0 | N26: =IF(L144=0,0,L26/L144) -> 0 | O26: 0.00022 | P26: =G26*O26 -> 0.0165 | Q26: RTS I / 2025 | Z26: =ROUND(IF(AQ26="5",BJ26,0),2) -> 0 | AB26: =ROUND(IF(AQ26="1",BH26,0),2) -> 0 | AC26: =ROUND(IF(AQ26="1",BI26,0),2) -> 0 | AD26: =ROUND(IF(AQ26="7",BH26,0),2) -> 0 | AE26: =ROUND(IF(AQ26="7",BI26,0),2) -> 0 | AF26: =ROUND(IF(AQ26="2",BH26,0),2) -> 0 | AG26: =ROUND(IF(AQ26="2",BI26,0),2) -> 0 | AH26: =ROUND(IF(AQ26="0",BJ26,0),2) -> 0 | AJ26: =IF(AN26=0,L26,0) -> 0 | AK26: =IF(AN26=12,L26,0) -> 0 | AL26: =IF(AN26=21,L26,0) -> 0 | AN26: 21 | AO26: =H26*0.336956522 -> 0 | AP26: =H26*(1-0.336956522) -> 0 | AQ26: 1 | AV26: =ROUND(AW26+AX26,2) -> 0 | AW26: =ROUND(G26*AO26,2) -> 0 | AX26: =ROUND(G26*AP26,2) -> 0 | AY26: 95_ | AZ26: 9_ | BA26: _ | BC26: =AW26+AX26 -> 0 | BD26: =H26/(100-BE26)*100 -> 0 | BE26: 0 | BF26: =P26 -> 0.0165 | BH26: =G26*AO26 -> 0 | BI26: =G26*AP26 -> 0 | BJ26: =G26*H26 -> 0 | BK26: P | BL26: 95 | BW26: =I26 -> 21 | BX26: Síť ochran., oka 20x20 mm, nerez kotvy
D27: ochrana oken v tělocvičně
A28: 7 | C28: 639571210R00 | D28: Okapový chodník z beton. desek 50x50x5 cm, podklad ŠD tl. 100 mm | F28: m2 | G28: 22.25 | H28: 0 | I28: 21 | J28: =ROUND(G28*AO28,2) -> 0 | K28: =ROUND(G28*AP28,2) -> 0 | L28: =ROUND(G28*H28,2) -> 0 | M28: =L28*(1+BW28/100) -> 0 | N28: =IF(L144=0,0,L28/L144) -> 0 | O28: 0.168 | P28: =G28*O28 -> 3.738 | Q28: RTS I / 2025 | Z28: =ROUND(IF(AQ28="5",BJ28,0),2) -> 0 | AB28: =ROUND(IF(AQ28="1",BH28,0),2) -> 0 | AC28: =ROUND(IF(AQ28="1",BI28,0),2) -> 0 | AD28: =ROUND(IF(AQ28="7",BH28,0),2) -> 0 | AE28: =ROUND(IF(AQ28="7",BI28,0),2) -> 0 | AF28: =ROUND(IF(AQ28="2",BH28,0),2) -> 0 | AG28: =ROUND(IF(AQ28="2",BI28,0),2) -> 0 | AH28: =ROUND(IF(AQ28="0",BJ28,0),2) -> 0 | AJ28: =IF(AN28=0,L28,0) -> 0 | AK28: =IF(AN28=12,L28,0) -> 0 | AL28: =IF(AN28=21,L28,0) -> 0 | AN28: 21 | AO28: =H28*0.872036515 -> 0 | AP28: =H28*(1-0.872036515) -> 0 | AQ28: 1 | AV28: =ROUND(AW28+AX28,2) -> 0 | AW28: =ROUND(G28*AO28,2) -> 0 | AX28: =ROUND(G28*AP28,2) -> 0 | AY28: 95_ | AZ28: 9_ | BA28: _ | BC28: =AW28+AX28 -> 0 | BD28: =H28/(100-BE28)*100 -> 0 | BE28: 0 | BF28: =P28 -> 3.738 | BH28: =G28*AO28 -> 0 | BI28: =G28*AP28 -> 0 | BJ28: =G28*H28 -> 0 | BK28: P | BL28: 95 | BW28: =I28 -> 21 | BX28: Okapový chodník z beton. desek 50x50x5 cm, podklad ŠD tl. 100 mm
D29: bez obrubníku
A30: 8 | C30: 721242112R00 | D30: Lapač střešních splavenin HL600NHO, D 110 až 125 mm | F30: kus | G30: 6 | H30: 0 | I30: 21 | J30: =ROUND(G30*AO30,2) -> 0 | K30: =ROUND(G30*AP30,2) -> 0 | L30: =ROUND(G30*H30,2) -> 0 | M30: =L30*(1+BW30/100) -> 0 | N30: =IF(L144=0,0,L30/L144) -> 0 | O30: 0.07663 | P30: =G30*O30 -> 0.45978 | Q30: RTS I / 2025 | Z30: =ROUND(IF(AQ30="5",BJ30,0),2) -> 0 | AB30: =ROUND(IF(AQ30="1",BH30,0),2) -> 0 | AC30: =ROUND(IF(AQ30="1",BI30,0),2) -> 0 | AD30: =ROUND(IF(AQ30="7",BH30,0),2) -> 0 | AE30: =ROUND(IF(AQ30="7",BI30,0),2) -> 0 | AF30: =ROUND(IF(AQ30="2",BH30,0),2) -> 0 | AG30: =ROUND(IF(AQ30="2",BI30,0),2) -> 0 | AH30: =ROUND(IF(AQ30="0",BJ30,0),2) -> 0 | AJ30: =IF(AN30=0,L30,0) -> 0 | AK30: =IF(AN30=12,L30,0) -> 0 | AL30: =IF(AN30=21,L30,0) -> 0 | AN30: 21 | AO30: =H30*0.909154181 -> 0 | AP30: =H30*(1-0.909154181) -> 0 | AQ30: 1 | AV30: =ROUND(AW30+AX30,2) -> 0 | AW30: =ROUND(G30*AO30,2) -> 0 | AX30: =ROUND(G30*AP30,2) -> 0 | AY30: 95_ | AZ30: 9_ | BA30: _ | BC30: =AW30+AX30 -> 0 | BD30: =H30/(100-BE30)*100 -> 0 | BE30: 0 | BF30: =P30 -> 0.45978 | BH30: =G30*AO30 -> 0 | BI30: =G30*AP30 -> 0 | BJ30: =G30*H30 -> 0 | BK30: P | BL30: 95 | BW30: =I30 -> 21 | BX30: Lapač střešních splavenin HL600NHO, D 110 až 125 mm
A31: 9 | C31: 900 R01 | D31: HZS - kompletační a drobné práce v rozpočtu nespecifikované nutné pro řádné provedení stavby | F31: h | G31: 50 | H31: 0 | I31: 21 | J31: =ROUND(G31*AO31,2) -> 0 | K31: =ROUND(G31*AP31,2) -> 0 | L31: =ROUND(G31*H31,2) -> 0 | M31: =L31*(1+BW31/100) -> 0 | N31: =IF(L144=0,0,L31/L144) -> 0 | O31: 0 | P31: =G31*O31 -> 0 | Q31: RTS I / 2025 | Z31: =ROUND(IF(AQ31="5",BJ31,0),2) -> 0 | AB31: =ROUND(IF(AQ31="1",BH31,0),2) -> 0 | AC31: =ROUND(IF(AQ31="1",BI31,0),2) -> 0 | AD31: =ROUND(IF(AQ31="7",BH31,0),2) -> 0 | AE31: =ROUND(IF(AQ31="7",BI31,0),2) -> 0 | AF31: =ROUND(IF(AQ31="2",BH31,0),2) -> 0 | AG31: =ROUND(IF(AQ31="2",BI31,0),2) -> 0 | AH31: =ROUND(IF(AQ31="0",BJ31,0),2) -> 0 | AJ31: =IF(AN31=0,L31,0) -> 0 | AK31: =IF(AN31=12,L31,0) -> 0 | AL31: =IF(AN31=21,L31,0) -> 0 | AN31: 21 | AO31: =H31*0 -> 0 | AP31: =H31*(1-0) -> 0 | AQ31: 1 | AV31: =ROUND(AW31+AX31,2) -> 0 | AW31: =ROUND(G31*AO31,2) -> 0 | AX31: =ROUND(G31*AP31,2) -> 0 | AY31: 95_ | AZ31: 9_ | BA31: _ | BC31: =AW31+AX31 -> 0 | BD31: =H31/(100-BE31)*100 -> 0 | BE31: 0 | BF31: =P31 -> 0 | BH31: =G31*AO31 -> 0 | BI31: =G31*AP31 -> 0 | BJ31: =G31*H31 -> 0 | BK31: P | BL31: 95 | BW31: =I31 -> 21 | BX31: HZS - kompletační a drobné práce v rozpočtu nespecifikované nutné pro řádné provedení stavby
A32: 10 | C32: 073111105RA0 | D32: Vnitřní ostění a nadpraží, dvouvrstvá tepelněizolační vápenocementová omítka tl. 15 mm včetně malby | F32: m | G32: 85.4 | H32: 0 | I32: 21 | J32: =ROUND(G32*AO32,2) -> 0 | K32: =ROUND(G32*AP32,2) -> 0 | L32: =ROUND(G32*H32,2) -> 0 | M32: =L32*(1+BW32/100) -> 0 | N32: =IF(L144=0,0,L32/L144) -> 0 | O32: 0.00348 | P32: =G32*O32 -> 0.297192 | Q32: RTS I / 2025 | Z32: =ROUND(IF(AQ32="5",BJ32,0),2) -> 0 | AB32: =ROUND(IF(AQ32="1",BH32,0),2) -> 0 | AC32: =ROUND(IF(AQ32="1",BI32,0),2) -> 0 | AD32: =ROUND(IF(AQ32="7",BH32,0),2) -> 0 | AE32: =ROUND(IF(AQ32="7",BI32,0),2) -> 0 | AF32: =ROUND(IF(AQ32="2",BH32,0),2) -> 0 | AG32: =ROUND(IF(AQ32="2",BI32,0),2) -> 0 | AH32: =ROUND(IF(AQ32="0",BJ32,0),2) -> 0 | AJ32: =IF(AN32=0,L32,0) -> 0 | AK32: =IF(AN32=12,L32,0) -> 0 | AL32: =IF(AN32=21,L32,0) -> 0 | AN32: 21 | AO32: =H32*0.488515479 -> 0 | AP32: =H32*(1-0.488515479) -> 0 | AQ32: 1 | AV32: =ROUND(AW32+AX32,2) -> 0 | AW32: =ROUND(G32*AO32,2) -> 0 | AX32: =ROUND(G32*AP32,2) -> 0 | AY32: 95_ | AZ32: 9_ | BA32: _ | BC32: =AW32+AX32 -> 0 | BD32: =H32/(100-BE32)*100 -> 0 | BE32: 0 | BF32: =P32 -> 0.297192 | BH32: =G32*AO32 -> 0 | BI32: =G32*AP32 -> 0 | BJ32: =G32*H32 -> 0 | BK32: P | BL32: 95 | BW32: =I32 -> 21 | BX32: Vnitřní ostění a nadpraží, dvouvrstvá tepelněizolační vápenocementová omítka tl. 15 mm včetně malby
D33: skladba položky - malba - penetrace podkladu pod malbou - tepelněizolační vápenocementová omítka tl. 15 mm (jádrová omítka+ štuková omítka) - vnitřního začišťovací profil - rohová lišta, hloubka ostění do 300 mm | BX33: Skladba položky: - malba - penetrace podkladu pod malbou - tepelněizolační vápenocementová omítka tl. 15 mm (jádrová omítka+ štuková omítka) - vnitřního začišťovací profil - rohová lišta Hloubka ostění 300 mm.
A34: 11 | C34: 765311752R00 | D34: Sněhový zachytávací systém dvoutrubkový, pro plechovou krytinu | F34: m | G34: 75.2 | H34: 0 | I34: 21 | J34: =ROUND(G34*AO34,2) -> 0 | K34: =ROUND(G34*AP34,2) -> 0 | L34: =ROUND(G34*H34,2) -> 0 | M34: =L34*(1+BW34/100) -> 0 | N34: =IF(L144=0,0,L34/L144) -> 0 | O34: 0.003 | P34: =G34*O34 -> 0.2256 | Q34: RTS I / 2025 | Z34: =ROUND(IF(AQ34="5",BJ34,0),2) -> 0 | AB34: =ROUND(IF(AQ34="1",BH34,0),2) -> 0 | AC34: =ROUND(IF(AQ34="1",BI34,0),2) -> 0 | AD34: =ROUND(IF(AQ34="7",BH34,0),2) -> 0 | AE34: =ROUND(IF(AQ34="7",BI34,0),2) -> 0 | AF34: =ROUND(IF(AQ34="2",BH34,0),2) -> 0 | AG34: =ROUND(IF(AQ34="2",BI34,0),2) -> 0 | AH34: =ROUND(IF(AQ34="0",BJ34,0),2) -> 0 | AJ34: =IF(AN34=0,L34,0) -> 0 | AK34: =IF(AN34=12,L34,0) -> 0 | AL34: =IF(AN34=21,L34,0) -> 0 | AN34: 21 | AO34: =H34*0.702489221 -> 0 | AP34: =H34*(1-0.702489221) -> 0 | AQ34: 1 | AV34: =ROUND(AW34+AX34,2) -> 0 | AW34: =ROUND(G34*AO34,2) -> 0 | AX34: =ROUND(G34*AP34,2) -> 0 | AY34: 95_ | AZ34: 9_ | BA34: _ | BC34: =AW34+AX34 -> 0 | BD34: =H34/(100-BE34)*100 -> 0 | BE34: 0 | BF34: =P34 -> 0.2256 | BH34: =G34*AO34 -> 0 | BI34: =G34*AP34 -> 0 | BJ34: =G34*H34 -> 0 | BK34: P | BL34: 95 | BW34: =I34 -> 21 | BX34: Sněhový zachytávací systém dvoutrubkový, pro plechovou krytinu
A35: 12 | C35: 612409991R | D35: Očištění a úprava spáry | F35: m | G35: 7.8 | H35: 0 | I35: 21 | J35: =ROUND(G35*AO35,2) -> 0 | K35: =ROUND(G35*AP35,2) -> 0 | L35: =ROUND(G35*H35,2) -> 0 | M35: =L35*(1+BW35/100) -> 0 | N35: =IF(L144=0,0,L35/L144) -> 0 | O35: 0.00251 | P35: =G35*O35 -> 0.019578 | Q35: RTS I / 2025 | Z35: =ROUND(IF(AQ35="5",BJ35,0),2) -> 0 | AB35: =ROUND(IF(AQ35="1",BH35,0),2) -> 0 | AC35: =ROUND(IF(AQ35="1",BI35,0),2) -> 0 | AD35: =ROUND(IF(AQ35="7",BH35,0),2) -> 0 | AE35: =ROUND(IF(AQ35="7",BI35,0),2) -> 0 | AF35: =ROUND(IF(AQ35="2",BH35,0),2) -> 0 | AG35: =ROUND(IF(AQ35="2",BI35,0),2) -> 0 | AH35: =ROUND(IF(AQ35="0",BJ35,0),2) -> 0 | AJ35: =IF(AN35=0,L35,0) -> 0 | AK35: =IF(AN35=12,L35,0) -> 0 | AL35: =IF(AN35=21,L35,0) -> 0 | AN35: 21 | AO35: =H35*0.191261687 -> 0 | AP35: =H35*(1-0.191261687) -> 0 | AQ35: 1 | AV35: =ROUND(AW35+AX35,2) -> 0 | AW35: =ROUND(G35*AO35,2) -> 0 | AX35: =ROUND(G35*AP35,2) -> 0 | AY35: 95_ | AZ35: 9_ | BA35: _ | BC35: =AW35+AX35 -> 0 | BD35: =H35/(100-BE35)*100 -> 0 | BE35: 0 | BF35: =P35 -> 0.019578 | BH35: =G35*AO35 -> 0 | BI35: =G35*AP35 -> 0 | BJ35: =G35*H35 -> 0 | BK35: P | BL35: 95 | BW35: =I35 -> 21 | BX35: Očištění a úprava spáry
D36: viz. příloha č. 1 TZ - statické posouzení trhliny
A37: 13 | C37: 771111133R | D37: Vložení těsnicího provazce do dilatační spáry | F37: m | G37: 7.8 | H37: 0 | I37: 21 | J37: =ROUND(G37*AO37,2) -> 0 | K37: =ROUND(G37*AP37,2) -> 0 | L37: =ROUND(G37*H37,2) -> 0 | M37: =L37*(1+BW37/100) -> 0 | N37: =IF(L144=0,0,L37/L144) -> 0 | O37: 0 | P37: =G37*O37 -> 0 | Q37: RTS I / 2025 | Z37: =ROUND(IF(AQ37="5",BJ37,0),2) -> 0 | AB37: =ROUND(IF(AQ37="1",BH37,0),2) -> 0 | AC37: =ROUND(IF(AQ37="1",BI37,0),2) -> 0 | AD37: =ROUND(IF(AQ37="7",BH37,0),2) -> 0 | AE37: =ROUND(IF(AQ37="7",BI37,0),2) -> 0 | AF37: =ROUND(IF(AQ37="2",BH37,0),2) -> 0 | AG37: =ROUND(IF(AQ37="2",BI37,0),2) -> 0 | AH37: =ROUND(IF(AQ37="0",BJ37,0),2) -> 0 | AJ37: =IF(AN37=0,L37,0) -> 0 | AK37: =IF(AN37=12,L37,0) -> 0 | AL37: =IF(AN37=21,L37,0) -> 0 | AN37: 21 | AO37: =H37*0.795586527 -> 0 | AP37: =H37*(1-0.795586527) -> 0 | AQ37: 1 | AV37: =ROUND(AW37+AX37,2) -> 0 | AW37: =ROUND(G37*AO37,2) -> 0 | AX37: =ROUND(G37*AP37,2) -> 0 | AY37: 95_ | AZ37: 9_ | BA37: _ | BC37: =AW37+AX37 -> 0 | BD37: =H37/(100-BE37)*100 -> 0 | BE37: 0 | BF37: =P37 -> 0 | BH37: =G37*AO37 -> 0 | BI37: =G37*AP37 -> 0 | BJ37: =G37*H37 -> 0 | BK37: P | BL37: 95 | BW37: =I37 -> 21 | BX37: Vložení těsnicího provazce do dilatační spáry
D38: vč. dodávky PE provazce, viz. příloha č. 1 TZ - statické posouzení trhliny
A39: 14 | C39: 782999100R | D39: Výplň dilatační spáry hybrid. tmelem šířky do 3 cm, H 3 - 10 cm | F39: m | G39: 7.8 | H39: 0 | I39: 21 | J39: =ROUND(G39*AO39,2) -> 0 | K39: =ROUND(G39*AP39,2) -> 0 | L39: =ROUND(G39*H39,2) -> 0 | M39: =L39*(1+BW39/100) -> 0 | N39: =IF(L144=0,0,L39/L144) -> 0 | O39: 0.00013 | P39: =G39*O39 -> 0.001014 | Q39: RTS I / 2025 | Z39: =ROUND(IF(AQ39="5",BJ39,0),2) -> 0 | AB39: =ROUND(IF(AQ39="1",BH39,0),2) -> 0 | AC39: =ROUND(IF(AQ39="1",BI39,0),2) -> 0 | AD39: =ROUND(IF(AQ39="7",BH39,0),2) -> 0 | AE39: =ROUND(IF(AQ39="7",BI39,0),2) -> 0 | AF39: =ROUND(IF(AQ39="2",BH39,0),2) -> 0 | AG39: =ROUND(IF(AQ39="2",BI39,0),2) -> 0 | AH39: =ROUND(IF(AQ39="0",BJ39,0),2) -> 0 | AJ39: =IF(AN39=0,L39,0) -> 0 | AK39: =IF(AN39=12,L39,0) -> 0 | AL39: =IF(AN39=21,L39,0) -> 0 | AN39: 21 | AO39: =H39*0.142514182 -> 0 | AP39: =H39*(1-0.142514182) -> 0 | AQ39: 1 | AV39: =ROUND(AW39+AX39,2) -> 0 | AW39: =ROUND(G39*AO39,2) -> 0 | AX39: =ROUND(G39*AP39,2) -> 0 | AY39: 95_ | AZ39: 9_ | BA39: _ | BC39: =AW39+AX39 -> 0 | BD39: =H39/(100-BE39)*100 -> 0 | BE39: 0 | BF39: =P39 -> 0.001014 | BH39: =G39*AO39 -> 0 | BI39: =G39*AP39 -> 0 | BJ39: =G39*H39 -> 0 | BK39: P | BL39: 95 | BW39: =I39 -> 21 | BX39: Výplň dilatační spáry hybrid. tmelem šířky do 3 cm, H 3 - 10 cm
D40: viz. příloha č. 1 TZ - statické posouzení trhliny
A41: 15 | C41: 342091213R | D41: Povrchová úprava dilatační spáry | F41: m | G41: 7.8 | H41: 0 | I41: 21 | J41: =ROUND(G41*AO41,2) -> 0 | K41: =ROUND(G41*AP41,2) -> 0 | L41: =ROUND(G41*H41,2) -> 0 | M41: =L41*(1+BW41/100) -> 0 | N41: =IF(L144=0,0,L41/L144) -> 0 | O41: 0.00039 | P41: =G41*O41 -> 0.003042 | Q41: RTS I / 2025 | Z41: =ROUND(IF(AQ41="5",BJ41,0),2) -> 0 | AB41: =ROUND(IF(AQ41="1",BH41,0),2) -> 0 | AC41: =ROUND(IF(AQ41="1",BI41,0),2) -> 0 | AD41: =ROUND(IF(AQ41="7",BH41,0),2) -> 0 | AE41: =ROUND(IF(AQ41="7",BI41,0),2) -> 0 | AF41: =ROUND(IF(AQ41="2",BH41,0),2) -> 0 | AG41: =ROUND(IF(AQ41="2",BI41,0),2) -> 0 | AH41: =ROUND(IF(AQ41="0",BJ41,0),2) -> 0 | AJ41: =IF(AN41=0,L41,0) -> 0 | AK41: =IF(AN41=12,L41,0) -> 0 | AL41: =IF(AN41=21,L41,0) -> 0 | AN41: 21 | AO41: =H41*0.090652532 -> 0 | AP41: =H41*(1-0.090652532) -> 0 | AQ41: 1 | AV41: =ROUND(AW41+AX41,2) -> 0 | AW41: =ROUND(G41*AO41,2) -> 0 | AX41: =ROUND(G41*AP41,2) -> 0 | AY41: 95_ | AZ41: 9_ | BA41: _ | BC41: =AW41+AX41 -> 0 | BD41: =H41/(100-BE41)*100 -> 0 | BE41: 0 | BF41: =P41 -> 0.003042 | BH41: =G41*AO41 -> 0 | BI41: =G41*AP41 -> 0 | BJ41: =G41*H41 -> 0 | BK41: P | BL41: 95 | BW41: =I41 -> 21 | BX41: Povrchová úprava dilatační spáry
D42: viz. příloha č. 1 TZ - statické posouzení trhliny
C43: 96 | D43: Bourání konstrukcí | J43: =SUM(J44:J58) -> 0 | K43: =SUM(K44:K58) -> 0 | L43: =SUM(L44:L58) -> 0 | M43: =SUM(M44:M58) -> 0 | N43: =IF(L144=0,0,L43/L144) -> 0 | P43: =SUM(P44:P58) -> 6.0644535 | AS43: =SUM(AJ44:AJ58) -> 0 | AT43: =SUM(AK44:AK58) -> 0 | AU43: =SUM(AL44:AL58) -> 0
A44: 16 | C44: 968083004R00 | D44: Vybourání plastových oken | F44: m2 | G44: 48.3 | H44: 0 | I44: 21 | J44: =ROUND(G44*AO44,2) -> 0 | K44: =ROUND(G44*AP44,2) -> 0 | L44: =ROUND(G44*H44,2) -> 0 | M44: =L44*(1+BW44/100) -> 0 | N44: =IF(L144=0,0,L44/L144) -> 0 | O44: 0.05582 | P44: =G44*O44 -> 2.696106 | Q44: RTS I / 2025 | Z44: =ROUND(IF(AQ44="5",BJ44,0),2) -> 0 | AB44: =ROUND(IF(AQ44="1",BH44,0),2) -> 0 | AC44: =ROUND(IF(AQ44="1",BI44,0),2) -> 0 | AD44: =ROUND(IF(AQ44="7",BH44,0),2) -> 0 | AE44: =ROUND(IF(AQ44="7",BI44,0),2) -> 0 | AF44: =ROUND(IF(AQ44="2",BH44,0),2) -> 0 | AG44: =ROUND(IF(AQ44="2",BI44,0),2) -> 0 | AH44: =ROUND(IF(AQ44="0",BJ44,0),2) -> 0 | AJ44: =IF(AN44=0,L44,0) -> 0 | AK44: =IF(AN44=12,L44,0) -> 0 | AL44: =IF(AN44=21,L44,0) -> 0 | AN44: 21 | AO44: =H44*0.116504854 -> 0 | AP44: =H44*(1-0.116504854) -> 0 | AQ44: 1 | AV44: =ROUND(AW44+AX44,2) -> 0 | AW44: =ROUND(G44*AO44,2) -> 0 | AX44: =ROUND(G44*AP44,2) -> 0 | AY44: 96_ | AZ44: 9_ | BA44: _ | BC44: =AW44+AX44 -> 0 | BD44: =H44/(100-BE44)*100 -> 0 | BE44: 0 | BF44: =P44 -> 2.696106 | BH44: =G44*AO44 -> 0 | BI44: =G44*AP44 -> 0 | BJ44: =G44*H44 -> 0 | BK44: P | BL44: 96 | BW44: =I44 -> 21 | BX44: Vybourání plastových oken
A45: 17 | C45: 767392802R00 | D45: Demontáž krytin střech z plechů | F45: m2 | G45: 474.075 | H45: 0 | I45: 21 | J45: =ROUND(G45*AO45,2) -> 0 | K45: =ROUND(G45*AP45,2) -> 0 | L45: =ROUND(G45*H45,2) -> 0 | M45: =L45*(1+BW45/100) -> 0 | N45: =IF(L144=0,0,L45/L144) -> 0 | O45: 0.007 | P45: =G45*O45 -> 3.318525 | Q45: RTS I / 2025 | Z45: =ROUND(IF(AQ45="5",BJ45,0),2) -> 0 | AB45: =ROUND(IF(AQ45="1",BH45,0),2) -> 0 | AC45: =ROUND(IF(AQ45="1",BI45,0),2) -> 0 | AD45: =ROUND(IF(AQ45="7",BH45,0),2) -> 0 | AE45: =ROUND(IF(AQ45="7",BI45,0),2) -> 0 | AF45: =ROUND(IF(AQ45="2",BH45,0),2) -> 0 | AG45: =ROUND(IF(AQ45="2",BI45,0),2) -> 0 | AH45: =ROUND(IF(AQ45="0",BJ45,0),2) -> 0 | AJ45: =IF(AN45=0,L45,0) -> 0 | AK45: =IF(AN45=12,L45,0) -> 0 | AL45: =IF(AN45=21,L45,0) -> 0 | AN45: 21 | AO45: =H45*0 -> 0 | AP45: =H45*(1-0) -> 0 | AQ45: 1 | AV45: =ROUND(AW45+AX45,2) -> 0 | AW45: =ROUND(G45*AO45,2) -> 0 | AX45: =ROUND(G45*AP45,2) -> 0 | AY45: 96_ | AZ45: 9_ | BA45: _ | BC45: =AW45+AX45 -> 0 | BD45: =H45/(100-BE45)*100 -> 0 | BE45: 0 | BF45: =P45 -> 3.318525 | BH45: =G45*AO45 -> 0 | BI45: =G45*AP45 -> 0 | BJ45: =G45*H45 -> 0 | BK45: P | BL45: 96 | BW45: =I45 -> 21 | BX45: Demontáž krytin střech z plechů
A46: 18 | C46: 767311810R00 | D46: Demontáž střešního výlezu všech typů včetně zasklení | F46: m2 | G46: 0.5625 | H46: 0 | I46: 21 | J46: =ROUND(G46*AO46,2) -> 0 | K46: =ROUND(G46*AP46,2) -> 0 | L46: =ROUND(G46*H46,2) -> 0 | M46: =L46*(1+BW46/100) -> 0 | N46: =IF(L144=0,0,L46/L144) -> 0 | O46: 0.021 | P46: =G46*O46 -> 0.0118125 | Q46: RTS I / 2025 | Z46: =ROUND(IF(AQ46="5",BJ46,0),2) -> 0 | AB46: =ROUND(IF(AQ46="1",BH46,0),2) -> 0 | AC46: =ROUND(IF(AQ46="1",BI46,0),2) -> 0 | AD46: =ROUND(IF(AQ46="7",BH46,0),2) -> 0 | AE46: =ROUND(IF(AQ46="7",BI46,0),2) -> 0 | AF46: =ROUND(IF(AQ46="2",BH46,0),2) -> 0 | AG46: =ROUND(IF(AQ46="2",BI46,0),2) -> 0 | AH46: =ROUND(IF(AQ46="0",BJ46,0),2) -> 0 | AJ46: =IF(AN46=0,L46,0) -> 0 | AK46: =IF(AN46=12,L46,0) -> 0 | AL46: =IF(AN46=21,L46,0) -> 0 | AN46: 21 | AO46: =H46*0 -> 0 | AP46: =H46*(1-0) -> 0 | AQ46: 1 | AV46: =ROUND(AW46+AX46,2) -> 0 | AW46: =ROUND(G46*AO46,2) -> 0 | AX46: =ROUND(G46*AP46,2) -> 0 | AY46: 96_ | AZ46: 9_ | BA46: _ | BC46: =AW46+AX46 -> 0 | BD46: =H46/(100-BE46)*100 -> 0 | BE46: 0 | BF46: =P46 -> 0.0118125 | BH46: =G46*AO46 -> 0 | BI46: =G46*AP46 -> 0 | BJ46: =G46*H46 -> 0 | BK46: P | BL46: 96 | BW46: =I46 -> 21 | BX46: Demontáž střešního výlezu všech typů včetně zasklení
A47: 19 | C47: 210293001R01 | D47: Demontáž stávající soustavy hromosvodu | F47: m | G47: 87.5 | H47: 0 | I47: 21 | J47: =ROUND(G47*AO47,2) -> 0 | K47: =ROUND(G47*AP47,2) -> 0 | L47: =ROUND(G47*H47,2) -> 0 | M47: =L47*(1+BW47/100) -> 0 | N47: =IF(L144=0,0,L47/L144) -> 0 | O47: 0 | P47: =G47*O47 -> 0 | Q47: RTS I / 2025 | Z47: =ROUND(IF(AQ47="5",BJ47,0),2) -> 0 | AB47: =ROUND(IF(AQ47="1",BH47,0),2) -> 0 | AC47: =ROUND(IF(AQ47="1",BI47,0),2) -> 0 | AD47: =ROUND(IF(AQ47="7",BH47,0),2) -> 0 | AE47: =ROUND(IF(AQ47="7",BI47,0),2) -> 0 | AF47: =ROUND(IF(AQ47="2",BH47,0),2) -> 0 | AG47: =ROUND(IF(AQ47="2",BI47,0),2) -> 0 | AH47: =ROUND(IF(AQ47="0",BJ47,0),2) -> 0 | AJ47: =IF(AN47=0,L47,0) -> 0 | AK47: =IF(AN47=12,L47,0) -> 0 | AL47: =IF(AN47=21,L47,0) -> 0 | AN47: 21 | AO47: =H47*0 -> 0 | AP47: =H47*(1-0) -> 0 | AQ47: 2 | AV47: =ROUND(AW47+AX47,2) -> 0 | AW47: =ROUND(G47*AO47,2) -> 0 | AX47: =ROUND(G47*AP47,2) -> 0 | AY47: 96_ | AZ47: 9_ | BA47: _ | BC47: =AW47+AX47 -> 0 | BD47: =H47/(100-BE47)*100 -> 0 | BE47: 0 | BF47: =P47 -> 0 | BH47: =G47*AO47 -> 0 | BI47: =G47*AP47 -> 0 | BJ47: =G47*H47 -> 0 | BK47: P | BL47: 96 | BW47: =I47 -> 21 | BX47: Demontáž stávající soustavy hromosvodu
D48: kompletní systém
A49: 20 | C49: 764900050RAA | D49: Demontáž oplechování parapetů | F49: m | G49: 21 | H49: 0 | I49: 21 | J49: =ROUND(G49*AO49,2) -> 0 | K49: =ROUND(G49*AP49,2) -> 0 | L49: =ROUND(G49*H49,2) -> 0 | M49: =L49*(1+BW49/100) -> 0 | N49: =IF(L144=0,0,L49/L144) -> 0 | O49: 0.00181 | P49: =G49*O49 -> 0.03801 | Q49: RTS I / 2025 | Z49: =ROUND(IF(AQ49="5",BJ49,0),2) -> 0 | AB49: =ROUND(IF(AQ49="1",BH49,0),2) -> 0 | AC49: =ROUND(IF(AQ49="1",BI49,0),2) -> 0 | AD49: =ROUND(IF(AQ49="7",BH49,0),2) -> 0 | AE49: =ROUND(IF(AQ49="7",BI49,0),2) -> 0 | AF49: =ROUND(IF(AQ49="2",BH49,0),2) -> 0 | AG49: =ROUND(IF(AQ49="2",BI49,0),2) -> 0 | AH49: =ROUND(IF(AQ49="0",BJ49,0),2) -> 0 | AJ49: =IF(AN49=0,L49,0) -> 0 | AK49: =IF(AN49=12,L49,0) -> 0 | AL49: =IF(AN49=21,L49,0) -> 0 | AN49: 21 | AO49: =H49*0 -> 0 | AP49: =H49*(1-0) -> 0 | AQ49: 1 | AV49: =ROUND(AW49+AX49,2) -> 0 | AW49: =ROUND(G49*AO49,2) -> 0 | AX49: =ROUND(G49*AP49,2) -> 0 | AY49: 96_ | AZ49: 9_ | BA49: _ | BC49: =AW49+AX49 -> 0 | BD49: =H49/(100-BE49)*100 -> 0 | BE49: 0 | BF49: =P49 -> 0.03801 | BH49: =G49*AO49 -> 0 | BI49: =G49*AP49 -> 0 | BJ49: =G49*H49 -> 0 | BK49: P | BL49: 96 | BW49: =I49 -> 21 | BX49: Demontáž oplechování parapetů
D50: z plechu pozinkovaného
A51: 21 | C51: 900 R01 | D51: HZS - bourání doplňkových prvků a konstr. | F51: h | G51: 50 | H51: 0 | I51: 21 | J51: =ROUND(G51*AO51,2) -> 0 | K51: =ROUND(G51*AP51,2) -> 0 | L51: =ROUND(G51*H51,2) -> 0 | M51: =L51*(1+BW51/100) -> 0 | N51: =IF(L144=0,0,L51/L144) -> 0 | O51: 0 | P51: =G51*O51 -> 0 | Q51: RTS I / 2025 | Z51: =ROUND(IF(AQ51="5",BJ51,0),2) -> 0 | AB51: =ROUND(IF(AQ51="1",BH51,0),2) -> 0 | AC51: =ROUND(IF(AQ51="1",BI51,0),2) -> 0 | AD51: =ROUND(IF(AQ51="7",BH51,0),2) -> 0 | AE51: =ROUND(IF(AQ51="7",BI51,0),2) -> 0 | AF51: =ROUND(IF(AQ51="2",BH51,0),2) -> 0 | AG51: =ROUND(IF(AQ51="2",BI51,0),2) -> 0 | AH51: =ROUND(IF(AQ51="0",BJ51,0),2) -> 0 | AJ51: =IF(AN51=0,L51,0) -> 0 | AK51: =IF(AN51=12,L51,0) -> 0 | AL51: =IF(AN51=21,L51,0) -> 0 | AN51: 21 | AO51: =H51*0 -> 0 | AP51: =H51*(1-0) -> 0 | AQ51: 1 | AV51: =ROUND(AW51+AX51,2) -> 0 | AW51: =ROUND(G51*AO51,2) -> 0 | AX51: =ROUND(G51*AP51,2) -> 0 | AY51: 96_ | AZ51: 9_ | BA51: _ | BC51: =AW51+AX51 -> 0 | BD51: =H51/(100-BE51)*100 -> 0 | BE51: 0 | BF51: =P51 -> 0 | BH51: =G51*AO51 -> 0 | BI51: =G51*AP51 -> 0 | BJ51: =G51*H51 -> 0 | BK51: P | BL51: 96 | BW51: =I51 -> 21 | BX51: HZS - bourání doplňkových prvků a konstr.
D52: stavební dělník v tarifní třídě 4 - klempířské a stavební prvky jinde neuvedené
A53: 22 | C53: 9790999VD | D53: Poplatek za přistavění a odvoz kontejneru na směs. odpad | F53: ks | G53: 3 | H53: 0 | I53: 21 | J53: =ROUND(G53*AO53,2) -> 0 | K53: =ROUND(G53*AP53,2) -> 0 | L53: =ROUND(G53*H53,2) -> 0 | M53: =L53*(1+BW53/100) -> 0 | N53: =IF(L144=0,0,L53/L144) -> 0 | O53: 0 | P53: =G53*O53 -> 0 | Q53: RTS II / 2021 | Z53: =ROUND(IF(AQ53="5",BJ53,0),2) -> 0 | AB53: =ROUND(IF(AQ53="1",BH53,0),2) -> 0 | AC53: =ROUND(IF(AQ53="1",BI53,0),2) -> 0 | AD53: =ROUND(IF(AQ53="7",BH53,0),2) -> 0 | AE53: =ROUND(IF(AQ53="7",BI53,0),2) -> 0 | AF53: =ROUND(IF(AQ53="2",BH53,0),2) -> 0 | AG53: =ROUND(IF(AQ53="2",BI53,0),2) -> 0 | AH53: =ROUND(IF(AQ53="0",BJ53,0),2) -> 0 | AJ53: =IF(AN53=0,L53,0) -> 0 | AK53: =IF(AN53=12,L53,0) -> 0 | AL53: =IF(AN53=21,L53,0) -> 0 | AN53: 21 | AO53: =H53*0 -> 0 | AP53: =H53*(1-0) -> 0 | AQ53: 5 | AV53: =ROUND(AW53+AX53,2) -> 0 | AW53: =ROUND(G53*AO53,2) -> 0 | AX53: =ROUND(G53*AP53,2) -> 0 | AY53: 96_ | AZ53: 9_ | BA53: _ | BC53: =AW53+AX53 -> 0 | BD53: =H53/(100-BE53)*100 -> 0 | BE53: 0 | BF53: =P53 -> 0 | BH53: =G53*AO53 -> 0 | BI53: =G53*AP53 -> 0 | BJ53: =G53*H53 -> 0 | BK53: P | BL53: 96 | BW53: =I53 -> 21 | BX53: Poplatek za přistavění a odvoz kontejneru na směs. odpad
D54: objem 9 m3, vč. skládkovného, dopravy, naložení
A55: 23 | C55: 979100013RAB | D55: Odvoz suti a vybouraných hmot do 15 km, vnitrostaveništní přesun do 15 m | F55: t | G55: 5.88 | H55: 0 | I55: 21 | J55: =ROUND(G55*AO55,2) -> 0 | K55: =ROUND(G55*AP55,2) -> 0 | L55: =ROUND(G55*H55,2) -> 0 | M55: =L55*(1+BW55/100) -> 0 | N55: =IF(L144=0,0,L55/L144) -> 0 | O55: 0 | P55: =G55*O55 -> 0 | Q55: RTS I / 2025 | Z55: =ROUND(IF(AQ55="5",BJ55,0),2) -> 0 | AB55: =ROUND(IF(AQ55="1",BH55,0),2) -> 0 | AC55: =ROUND(IF(AQ55="1",BI55,0),2) -> 0 | AD55: =ROUND(IF(AQ55="7",BH55,0),2) -> 0 | AE55: =ROUND(IF(AQ55="7",BI55,0),2) -> 0 | AF55: =ROUND(IF(AQ55="2",BH55,0),2) -> 0 | AG55: =ROUND(IF(AQ55="2",BI55,0),2) -> 0 | AH55: =ROUND(IF(AQ55="0",BJ55,0),2) -> 0 | AJ55: =IF(AN55=0,L55,0) -> 0 | AK55: =IF(AN55=12,L55,0) -> 0 | AL55: =IF(AN55=21,L55,0) -> 0 | AN55: 21 | AO55: =H55*0 -> 0 | AP55: =H55*(1-0) -> 0 | AQ55: 1 | AV55: =ROUND(AW55+AX55,2) -> 0 | AW55: =ROUND(G55*AO55,2) -> 0 | AX55: =ROUND(G55*AP55,2) -> 0 | AY55: 96_ | AZ55: 9_ | BA55: _ | BC55: =AW55+AX55 -> 0 | BD55: =H55/(100-BE55)*100 -> 0 | BE55: 0 | BF55: =P55 -> 0 | BH55: =G55*AO55 -> 0 | BI55: =G55*AP55 -> 0 | BJ55: =G55*H55 -> 0 | BK55: P | BL55: 96 | BW55: =I55 -> 21 | BX55: Odvoz suti a vybouraných hmot do 15 km, vnitrostaveništní přesun do 15 m
D56: svislá doprava s ručním nošením, vč. poplatku
A57: 24 | C57: 979990163R00 | D57: Poplatek za uložení suti - plast + sklo, skupina odpadu 170904 | F57: t | G57: 2.696 | H57: 0 | I57: 21 | J57: =ROUND(G57*AO57,2) -> 0 | K57: =ROUND(G57*AP57,2) -> 0 | L57: =ROUND(G57*H57,2) -> 0 | M57: =L57*(1+BW57/100) -> 0 | N57: =IF(L144=0,0,L57/L144) -> 0 | O57: 0 | P57: =G57*O57 -> 0 | Q57: RTS I / 2025 | Z57: =ROUND(IF(AQ57="5",BJ57,0),2) -> 0 | AB57: =ROUND(IF(AQ57="1",BH57,0),2) -> 0 | AC57: =ROUND(IF(AQ57="1",BI57,0),2) -> 0 | AD57: =ROUND(IF(AQ57="7",BH57,0),2) -> 0 | AE57: =ROUND(IF(AQ57="7",BI57,0),2) -> 0 | AF57: =ROUND(IF(AQ57="2",BH57,0),2) -> 0 | AG57: =ROUND(IF(AQ57="2",BI57,0),2) -> 0 | AH57: =ROUND(IF(AQ57="0",BJ57,0),2) -> 0 | AJ57: =IF(AN57=0,L57,0) -> 0 | AK57: =IF(AN57=12,L57,0) -> 0 | AL57: =IF(AN57=21,L57,0) -> 0 | AN57: 21 | AO57: =H57*0 -> 0 | AP57: =H57*(1-0) -> 0 | AQ57: 5 | AV57: =ROUND(AW57+AX57,2) -> 0 | AW57: =ROUND(G57*AO57,2) -> 0 | AX57: =ROUND(G57*AP57,2) -> 0 | AY57: 96_ | AZ57: 9_ | BA57: _ | BC57: =AW57+AX57 -> 0 | BD57: =H57/(100-BE57)*100 -> 0 | BE57: 0 | BF57: =P57 -> 0 | BH57: =G57*AO57 -> 0 | BI57: =G57*AP57 -> 0 | BJ57: =G57*H57 -> 0 | BK57: P | BL57: 96 | BW57: =I57 -> 21 | BX57: Poplatek za uložení suti - plast + sklo, skupina odpadu 170904
A58: 25 | C58: 979951131R00 | D58: Výkup kovů - plechy | F58: t | G58: 3.134 | H58: 0 | I58: 21 | J58: =ROUND(G58*AO58,2) -> 0 | K58: =ROUND(G58*AP58,2) -> 0 | L58: =ROUND(G58*H58,2) -> 0 | M58: =L58*(1+BW58/100) -> 0 | N58: =IF(L144=0,0,L58/L144) -> 0 | O58: 0 | P58: =G58*O58 -> 0 | Q58: RTS I / 2025 | Z58: =ROUND(IF(AQ58="5",BJ58,0),2) -> 0 | AB58: =ROUND(IF(AQ58="1",BH58,0),2) -> 0 | AC58: =ROUND(IF(AQ58="1",BI58,0),2) -> 0 | AD58: =ROUND(IF(AQ58="7",BH58,0),2) -> 0 | AE58: =ROUND(IF(AQ58="7",BI58,0),2) -> 0 | AF58: =ROUND(IF(AQ58="2",BH58,0),2) -> 0 | AG58: =ROUND(IF(AQ58="2",BI58,0),2) -> 0 | AH58: =ROUND(IF(AQ58="0",BJ58,0),2) -> 0 | AJ58: =IF(AN58=0,L58,0) -> 0 | AK58: =IF(AN58=12,L58,0) -> 0 | AL58: =IF(AN58=21,L58,0) -> 0 | AN58: 21 | AO58: =H58*0 -> 0 | AP58: =H58*(1-0) -> 0 | AQ58: 5 | AV58: =ROUND(AW58+AX58,2) -> 0 | AW58: =ROUND(G58*AO58,2) -> 0 | AX58: =ROUND(G58*AP58,2) -> 0 | AY58: 96_ | AZ58: 9_ | BA58: _ | BC58: =AW58+AX58 -> 0 | BD58: =H58/(100-BE58)*100 -> 0 | BE58: 0 | BF58: =P58 -> 0 | BH58: =G58*AO58 -> 0 | BI58: =G58*AP58 -> 0 | BJ58: =G58*H58 -> 0 | BK58: P | BL58: 96 | BW58: =I58 -> 21 | BX58: Výkup kovů - plechy
C59: H01 | D59: Budovy občanské výstavby | J59: =SUM(J60:J60) -> 0 | K59: =SUM(K60:K60) -> 0 | L59: =SUM(L60:L60) -> 0 | M59: =SUM(M60:M60) -> 0 | N59: =IF(L144=0,0,L59/L144) -> 0 | P59: =SUM(P60:P60) -> 0 | AS59: =SUM(AJ60:AJ60) -> 0 | AT59: =SUM(AK60:AK60) -> 0 | AU59: =SUM(AL60:AL60) -> 0
A60: 26 | C60: 998011003R00 | D60: Přesun hmot pro budovy zděné výšky do 24 m | F60: t | G60: 94.451 | H60: 0 | I60: 21 | J60: =ROUND(G60*AO60,2) -> 0 | K60: =ROUND(G60*AP60,2) -> 0 | L60: =ROUND(G60*H60,2) -> 0 | M60: =L60*(1+BW60/100) -> 0 | N60: =IF(L144=0,0,L60/L144) -> 0 | O60: 0 | P60: =G60*O60 -> 0 | Q60: RTS I / 2025 | Z60: =ROUND(IF(AQ60="5",BJ60,0),2) -> 0 | AB60: =ROUND(IF(AQ60="1",BH60,0),2) -> 0 | AC60: =ROUND(IF(AQ60="1",BI60,0),2) -> 0 | AD60: =ROUND(IF(AQ60="7",BH60,0),2) -> 0 | AE60: =ROUND(IF(AQ60="7",BI60,0),2) -> 0 | AF60: =ROUND(IF(AQ60="2",BH60,0),2) -> 0 | AG60: =ROUND(IF(AQ60="2",BI60,0),2) -> 0 | AH60: =ROUND(IF(AQ60="0",BJ60,0),2) -> 0 | AJ60: =IF(AN60=0,L60,0) -> 0 | AK60: =IF(AN60=12,L60,0) -> 0 | AL60: =IF(AN60=21,L60,0) -> 0 | AN60: 21 | AO60: =H60*0 -> 0 | AP60: =H60*(1-0) -> 0 | AQ60: 5 | AV60: =ROUND(AW60+AX60,2) -> 0 | AW60: =ROUND(G60*AO60,2) -> 0 | AX60: =ROUND(G60*AP60,2) -> 0 | AY60: H01_ | AZ60: 9_ | BA60: _ | BC60: =AW60+AX60 -> 0 | BD60: =H60/(100-BE60)*100 -> 0 | BE60: 0 | BF60: =P60 -> 0 | BH60: =G60*AO60 -> 0 | BI60: =G60*AP60 -> 0 | BJ60: =G60*H60 -> 0 | BK60: P | BW60: =I60 -> 21 | BX60: Přesun hmot pro budovy zděné výšky do 24 m
C61: M21 | D61: Elektromontáže | J61: =SUM(J62:J75) -> 0 | K61: =SUM(K62:K75) -> 0 | L61: =SUM(L62:L75) -> 0 | M61: =SUM(M62:M75) -> 0 | N61: =IF(L144=0,0,L61/L144) -> 0 | P61: =SUM(P62:P75) -> 1.967228 | AS61: =SUM(AJ62:AJ75) -> 0 | AT61: =SUM(AK62:AK75) -> 0 | AU61: =SUM(AL62:AL75) -> 0
A62: 27 | C62: 210200020RAA | D62: Hromosvod | F62: kompl | G62: 1 | H62: 0 | I62: 21 | J62: =ROUND(G62*AO62,2) -> 0 | K62: =ROUND(G62*AP62,2) -> 0 | L62: =ROUND(G62*H62,2) -> 0 | M62: =L62*(1+BW62/100) -> 0 | N62: =IF(L144=0,0,L62/L144) -> 0 | O62: 0.17307 | P62: =G62*O62 -> 0.17307 | Q62: RTS I / 2025 | Z62: =ROUND(IF(AQ62="5",BJ62,0),2) -> 0 | AB62: =ROUND(IF(AQ62="1",BH62,0),2) -> 0 | AC62: =ROUND(IF(AQ62="1",BI62,0),2) -> 0 | AD62: =ROUND(IF(AQ62="7",BH62,0),2) -> 0 | AE62: =ROUND(IF(AQ62="7",BI62,0),2) -> 0 | AF62: =ROUND(IF(AQ62="2",BH62,0),2) -> 0 | AG62: =ROUND(IF(AQ62="2",BI62,0),2) -> 0 | AH62: =ROUND(IF(AQ62="0",BJ62,0),2) -> 0 | AJ62: =IF(AN62=0,L62,0) -> 0 | AK62: =IF(AN62=12,L62,0) -> 0 | AL62: =IF(AN62=21,L62,0) -> 0 | AN62: 21 | AO62: =H62*0.187932564 -> 0 | AP62: =H62*(1-0.187932564) -> 0 | AQ62: 2 | AV62: =ROUND(AW62+AX62,2) -> 0 | AW62: =ROUND(G62*AO62,2) -> 0 | AX62: =ROUND(G62*AP62,2) -> 0 | AY62: M21_ | AZ62: 9_ | BA62: _ | BC62: =AW62+AX62 -> 0 | BD62: =H62/(100-BE62)*100 -> 0 | BE62: 0 | BF62: =P62 -> 0.17307 | BH62: =G62*AO62 -> 0 | BI62: =G62*AP62 -> 0 | BJ62: =G62*H62 -> 0 | BK62: P | BW62: =I62 -> 21 | BX62: Hromosvod
D63: kompletní dodávka a montáž vč. zemních prací
A64: 28 | C64: 070212161R1 | D64: Řetězový elektro pohon pro otevírání oken, 230V, 2 ks/okno | F64: kus | G64: 20 | H64: 0 | I64: 21 | J64: =ROUND(G64*AO64,2) -> 0 | K64: =ROUND(G64*AP64,2) -> 0 | L64: =ROUND(G64*H64,2) -> 0 | M64: =L64*(1+BW64/100) -> 0 | N64: =IF(L144=0,0,L64/L144) -> 0 | O64: 0.08751 | P64: =G64*O64 -> 1.7502 | Z64: =ROUND(IF(AQ64="5",BJ64,0),2) -> 0 | AB64: =ROUND(IF(AQ64="1",BH64,0),2) -> 0 | AC64: =ROUND(IF(AQ64="1",BI64,0),2) -> 0 | AD64: =ROUND(IF(AQ64="7",BH64,0),2) -> 0 | AE64: =ROUND(IF(AQ64="7",BI64,0),2) -> 0 | AF64: =ROUND(IF(AQ64="2",BH64,0),2) -> 0 | AG64: =ROUND(IF(AQ64="2",BI64,0),2) -> 0 | AH64: =ROUND(IF(AQ64="0",BJ64,0),2) -> 0 | AJ64: =IF(AN64=0,L64,0) -> 0 | AK64: =IF(AN64=12,L64,0) -> 0 | AL64: =IF(AN64=21,L64,0) -> 0 | AN64: 21 | AO64: =H64*0.663826776 -> 0 | AP64: =H64*(1-0.663826776) -> 0 | AQ64: 2 | AV64: =ROUND(AW64+AX64,2) -> 0 | AW64: =ROUND(G64*AO64,2) -> 0 | AX64: =ROUND(G64*AP64,2) -> 0 | AY64: M21_ | AZ64: 9_ | BA64: _ | BC64: =AW64+AX64 -> 0 | BD64: =H64/(100-BE64)*100 -> 0 | BE64: 0 | BF64: =P64 -> 1.7502 | BH64: =G64*AO64 -> 0 | BI64: =G64*AP64 -> 0 | BJ64: =G64*H64 -> 0 | BK64: P | BW64: =I64 -> 21 | BX64: Řetězový elektro pohon pro otevírání oken, 230V, 2 ks/okno
D65: dodávka a montáž vč. napájecího zdroje, montážní konzoly, IQ boxu, drobného montážního materiálu
A66: 29 | C66: 210810015RT1 | D66: Kabel CYKY-m 750 V 5 x 1,5 mm2, uložený v liště | F66: m | G66: 196.4 | H66: 0 | I66: 21 | J66: =ROUND(G66*AO66,2) -> 0 | K66: =ROUND(G66*AP66,2) -> 0 | L66: =ROUND(G66*H66,2) -> 0 | M66: =L66*(1+BW66/100) -> 0 | N66: =IF(L144=0,0,L66/L144) -> 0 | O66: 0.00022 | P66: =G66*O66 -> 0.043208 | Q66: RTS I / 2025 | Z66: =ROUND(IF(AQ66="5",BJ66,0),2) -> 0 | AB66: =ROUND(IF(AQ66="1",BH66,0),2) -> 0 | AC66: =ROUND(IF(AQ66="1",BI66,0),2) -> 0 | AD66: =ROUND(IF(AQ66="7",BH66,0),2) -> 0 | AE66: =ROUND(IF(AQ66="7",BI66,0),2) -> 0 | AF66: =ROUND(IF(AQ66="2",BH66,0),2) -> 0 | AG66: =ROUND(IF(AQ66="2",BI66,0),2) -> 0 | AH66: =ROUND(IF(AQ66="0",BJ66,0),2) -> 0 | AJ66: =IF(AN66=0,L66,0) -> 0 | AK66: =IF(AN66=12,L66,0) -> 0 | AL66: =IF(AN66=21,L66,0) -> 0 | AN66: 21 | AO66: =H66*0.444849607 -> 0 | AP66: =H66*(1-0.444849607) -> 0 | AQ66: 2 | AV66: =ROUND(AW66+AX66,2) -> 0 | AW66: =ROUND(G66*AO66,2) -> 0 | AX66: =ROUND(G66*AP66,2) -> 0 | AY66: M21_ | AZ66: 9_ | BA66: _ | BC66: =AW66+AX66 -> 0 | BD66: =H66/(100-BE66)*100 -> 0 | BE66: 0 | BF66: =P66 -> 0.043208 | BH66: =G66*AO66 -> 0 | BI66: =G66*AP66 -> 0 | BJ66: =G66*H66 -> 0 | BK66: P | BW66: =I66 -> 21 | BX66: Kabel CYKY-m 750 V 5 x 1,5 mm2, uložený v liště
D67: včetně dodávky kabelu
A68: 30 | C68: 222260603R00 | D68: Lišta vkládací 20x20, na úchyt. body, zavíčkování | F68: m | G68: 57 | H68: 0 | I68: 21 | J68: =ROUND(G68*AO68,2) -> 0 | K68: =ROUND(G68*AP68,2) -> 0 | L68: =ROUND(G68*H68,2) -> 0 | M68: =L68*(1+BW68/100) -> 0 | N68: =IF(L144=0,0,L68/L144) -> 0 | O68: 0 | P68: =G68*O68 -> 0 | Q68: RTS I / 2025 | Z68: =ROUND(IF(AQ68="5",BJ68,0),2) -> 0 | AB68: =ROUND(IF(AQ68="1",BH68,0),2) -> 0 | AC68: =ROUND(IF(AQ68="1",BI68,0),2) -> 0 | AD68: =ROUND(IF(AQ68="7",BH68,0),2) -> 0 | AE68: =ROUND(IF(AQ68="7",BI68,0),2) -> 0 | AF68: =ROUND(IF(AQ68="2",BH68,0),2) -> 0 | AG68: =ROUND(IF(AQ68="2",BI68,0),2) -> 0 | AH68: =ROUND(IF(AQ68="0",BJ68,0),2) -> 0 | AJ68: =IF(AN68=0,L68,0) -> 0 | AK68: =IF(AN68=12,L68,0) -> 0 | AL68: =IF(AN68=21,L68,0) -> 0 | AN68: 21 | AO68: =H68*0 -> 0 | AP68: =H68*(1-0) -> 0 | AQ68: 2 | AV68: =ROUND(AW68+AX68,2) -> 0 | AW68: =ROUND(G68*AO68,2) -> 0 | AX68: =ROUND(G68*AP68,2) -> 0 | AY68: M21_ | AZ68: 9_ | BA68: _ | BC68: =AW68+AX68 -> 0 | BD68: =H68/(100-BE68)*100 -> 0 | BE68: 0 | BF68: =P68 -> 0 | BH68: =G68*AO68 -> 0 | BI68: =G68*AP68 -> 0 | BJ68: =G68*H68 -> 0 | BK68: P | BW68: =I68 -> 21 | BX68: Lišta vkládací 20x20, na úchyt. body, zavíčkování
A69: 31 | C69: 2199999VD | D69: Úprava objektového rozvaděče pro napájení elektro otevírání oken | F69: soubor | G69: 1 | H69: 0 | I69: 21 | J69: =ROUND(G69*AO69,2) -> 0 | K69: =ROUND(G69*AP69,2) -> 0 | L69: =ROUND(G69*H69,2) -> 0 | M69: =L69*(1+BW69/100) -> 0 | N69: =IF(L144=0,0,L69/L144) -> 0 | O69: 3e-05 | P69: =G69*O69 -> 3e-05 | Z69: =ROUND(IF(AQ69="5",BJ69,0),2) -> 0 | AB69: =ROUND(IF(AQ69="1",BH69,0),2) -> 0 | AC69: =ROUND(IF(AQ69="1",BI69,0),2) -> 0 | AD69: =ROUND(IF(AQ69="7",BH69,0),2) -> 0 | AE69: =ROUND(IF(AQ69="7",BI69,0),2) -> 0 | AF69: =ROUND(IF(AQ69="2",BH69,0),2) -> 0 | AG69: =ROUND(IF(AQ69="2",BI69,0),2) -> 0 | AH69: =ROUND(IF(AQ69="0",BJ69,0),2) -> 0 | AJ69: =IF(AN69=0,L69,0) -> 0 | AK69: =IF(AN69=12,L69,0) -> 0 | AL69: =IF(AN69=21,L69,0) -> 0 | AN69: 21 | AO69: =H69*0.426783707 -> 0 | AP69: =H69*(1-0.426783707) -> 0 | AQ69: 1 | AV69: =ROUND(AW69+AX69,2) -> 0 | AW69: =ROUND(G69*AO69,2) -> 0 | AX69: =ROUND(G69*AP69,2) -> 0 | AY69: M21_ | AZ69: 9_ | BA69: _ | BC69: =AW69+AX69 -> 0 | BD69: =H69/(100-BE69)*100 -> 0 | BE69: 0 | BF69: =P69 -> 3e-05 | BH69: =G69*AO69 -> 0 | BI69: =G69*AP69 -> 0 | BJ69: =G69*H69 -> 0 | BK69: P | BW69: =I69 -> 21 | BX69: Úprava objektového rozvaděče pro napájení elektro otevírání oken
D70: montáž vč. materiálu
A71: 32 | C71: 650061611R00 | D71: Montáž jističe modulárního jednopólového do 25 A | F71: kus | G71: 4 | H71: 0 | I71: 21 | J71: =ROUND(G71*AO71,2) -> 0 | K71: =ROUND(G71*AP71,2) -> 0 | L71: =ROUND(G71*H71,2) -> 0 | M71: =L71*(1+BW71/100) -> 0 | N71: =IF(L144=0,0,L71/L144) -> 0 | O71: 0 | P71: =G71*O71 -> 0 | Q71: RTS I / 2025 | Z71: =ROUND(IF(AQ71="5",BJ71,0),2) -> 0 | AB71: =ROUND(IF(AQ71="1",BH71,0),2) -> 0 | AC71: =ROUND(IF(AQ71="1",BI71,0),2) -> 0 | AD71: =ROUND(IF(AQ71="7",BH71,0),2) -> 0 | AE71: =ROUND(IF(AQ71="7",BI71,0),2) -> 0 | AF71: =ROUND(IF(AQ71="2",BH71,0),2) -> 0 | AG71: =ROUND(IF(AQ71="2",BI71,0),2) -> 0 | AH71: =ROUND(IF(AQ71="0",BJ71,0),2) -> 0 | AJ71: =IF(AN71=0,L71,0) -> 0 | AK71: =IF(AN71=12,L71,0) -> 0 | AL71: =IF(AN71=21,L71,0) -> 0 | AN71: 21 | AO71: =H71*0 -> 0 | AP71: =H71*(1-0) -> 0 | AQ71: 2 | AV71: =ROUND(AW71+AX71,2) -> 0 | AW71: =ROUND(G71*AO71,2) -> 0 | AX71: =ROUND(G71*AP71,2) -> 0 | AY71: M21_ | AZ71: 9_ | BA71: _ | BC71: =AW71+AX71 -> 0 | BD71: =H71/(100-BE71)*100 -> 0 | BE71: 0 | BF71: =P71 -> 0 | BH71: =G71*AO71 -> 0 | BI71: =G71*AP71 -> 0 | BJ71: =G71*H71 -> 0 | BK71: P | BW71: =I71 -> 21 | BX71: Montáž jističe modulárního jednopólového do 25 A
D72: vložení do objektového rozvaděče
A73: 33 | C73: 35822001013 | D73: Jistič 1-pólový OEZ LTN-10B-1, Icn 10 kA | F73: kus | G73: 4 | H73: 0 | I73: 21 | J73: =ROUND(G73*AO73,2) -> 0 | K73: =ROUND(G73*AP73,2) -> 0 | L73: =ROUND(G73*H73,2) -> 0 | M73: =L73*(1+BW73/100) -> 0 | N73: =IF(L144=0,0,L73/L144) -> 0 | O73: 0.00018 | P73: =G73*O73 -> 0.00072 | Q73: RTS I / 2025 | Z73: =ROUND(IF(AQ73="5",BJ73,0),2) -> 0 | AB73: =ROUND(IF(AQ73="1",BH73,0),2) -> 0 | AC73: =ROUND(IF(AQ73="1",BI73,0),2) -> 0 | AD73: =ROUND(IF(AQ73="7",BH73,0),2) -> 0 | AE73: =ROUND(IF(AQ73="7",BI73,0),2) -> 0 | AF73: =ROUND(IF(AQ73="2",BH73,0),2) -> 0 | AG73: =ROUND(IF(AQ73="2",BI73,0),2) -> 0 | AH73: =ROUND(IF(AQ73="0",BJ73,0),2) -> 0 | AJ73: =IF(AN73=0,L73,0) -> 0 | AK73: =IF(AN73=12,L73,0) -> 0 | AL73: =IF(AN73=21,L73,0) -> 0 | AN73: 21 | AO73: =H73*1 -> 0 | AP73: =H73*(1-1) -> 0 | AQ73: 1 | AV73: =ROUND(AW73+AX73,2) -> 0 | AW73: =ROUND(G73*AO73,2) -> 0 | AX73: =ROUND(G73*AP73,2) -> 0 | AY73: M21_ | AZ73: 9_ | BA73: _ | BC73: =AW73+AX73 -> 0 | BD73: =H73/(100-BE73)*100 -> 0 | BE73: 0 | BF73: =P73 -> 0.00072 | BH73: =G73*AO73 -> 0 | BI73: =G73*AP73 -> 0 | BJ73: =G73*H73 -> 0 | BK73: M | BW73: =I73 -> 21 | BX73: Jistič 1-pólový OEZ LTN-10B-1, Icn 10 kA
D74: dodávka jističe LTE, LTN, LVN, LST-DC pro nadproudovou ochranu v instalacích občanské výstavby, administrativních budovách a průmyslových instalacích se jmenovitými proudy od 0,3 A do 125 A | BX74: dodávka jističe LTE, LTN, LVN, LST-DC pro nadproudovou ochranu v instalacích občanské výstavby, administrativních budovách a průmyslových instalacích se jmenovitými proudy od 0,3 A do 125 A
A75: 34 | C75: 650052412R00 | D75: Montáž spínače žaluziového, bílý, ABB | F75: kus | G75: 4 | H75: 0 | I75: 21 | J75: =ROUND(G75*AO75,2) -> 0 | K75: =ROUND(G75*AP75,2) -> 0 | L75: =ROUND(G75*H75,2) -> 0 | M75: =L75*(1+BW75/100) -> 0 | N75: =IF(L144=0,0,L75/L144) -> 0 | O75: 0 | P75: =G75*O75 -> 0 | Q75: RTS I / 2025 | Z75: =ROUND(IF(AQ75="5",BJ75,0),2) -> 0 | AB75: =ROUND(IF(AQ75="1",BH75,0),2) -> 0 | AC75: =ROUND(IF(AQ75="1",BI75,0),2) -> 0 | AD75: =ROUND(IF(AQ75="7",BH75,0),2) -> 0 | AE75: =ROUND(IF(AQ75="7",BI75,0),2) -> 0 | AF75: =ROUND(IF(AQ75="2",BH75,0),2) -> 0 | AG75: =ROUND(IF(AQ75="2",BI75,0),2) -> 0 | AH75: =ROUND(IF(AQ75="0",BJ75,0),2) -> 0 | AJ75: =IF(AN75=0,L75,0) -> 0 | AK75: =IF(AN75=12,L75,0) -> 0 | AL75: =IF(AN75=21,L75,0) -> 0 | AN75: 21 | AO75: =H75*0.490149724 -> 0 | AP75: =H75*(1-0.490149724) -> 0 | AQ75: 2 | AV75: =ROUND(AW75+AX75,2) -> 0 | AW75: =ROUND(G75*AO75,2) -> 0 | AX75: =ROUND(G75*AP75,2) -> 0 | AY75: M21_ | AZ75: 9_ | BA75: _ | BC75: =AW75+AX75 -> 0 | BD75: =H75/(100-BE75)*100 -> 0 | BE75: 0 | BF75: =P75 -> 0 | BH75: =G75*AO75 -> 0 | BI75: =G75*AP75 -> 0 | BJ75: =G75*H75 -> 0 | BK75: P | BW75: =I75 -> 21 | BX75: Montáž spínače žaluziového, bílý, ABB
D76: dodávka a montáž
C77: 62 | D77: Úprava povrchů vnější | J77: =SUM(J78:J94) -> 0 | K77: =SUM(K78:K94) -> 0 | L77: =SUM(L78:L94) -> 0 | M77: =SUM(M78:M94) -> 0 | N77: =IF(L144=0,0,L77/L144) -> 0 | P77: =SUM(P78:P94) -> 9.3341939 | AS77: =SUM(AJ78:AJ94) -> 0 | AT77: =SUM(AK78:AK94) -> 0 | AU77: =SUM(AL78:AL94) -> 0
A78: 35 | C78: 622904112R00 | D78: Očištění fasád tlakovou vodou složitost 1 - 2 | F78: m2 | G78: 461.29 | H78: 0 | I78: 21 | J78: =ROUND(G78*AO78,2) -> 0 | K78: =ROUND(G78*AP78,2) -> 0 | L78: =ROUND(G78*H78,2) -> 0 | M78: =L78*(1+BW78/100) -> 0 | N78: =IF(L144=0,0,L78/L144) -> 0 | O78: 2e-05 | P78: =G78*O78 -> 0.0092258 | Q78: RTS I / 2025 | Z78: =ROUND(IF(AQ78="5",BJ78,0),2) -> 0 | AB78: =ROUND(IF(AQ78="1",BH78,0),2) -> 0 | AC78: =ROUND(IF(AQ78="1",BI78,0),2) -> 0 | AD78: =ROUND(IF(AQ78="7",BH78,0),2) -> 0 | AE78: =ROUND(IF(AQ78="7",BI78,0),2) -> 0 | AF78: =ROUND(IF(AQ78="2",BH78,0),2) -> 0 | AG78: =ROUND(IF(AQ78="2",BI78,0),2) -> 0 | AH78: =ROUND(IF(AQ78="0",BJ78,0),2) -> 0 | AJ78: =IF(AN78=0,L78,0) -> 0 | AK78: =IF(AN78=12,L78,0) -> 0 | AL78: =IF(AN78=21,L78,0) -> 0 | AN78: 21 | AO78: =H78*0.065386021 -> 0 | AP78: =H78*(1-0.065386021) -> 0 | AQ78: 1 | AV78: =ROUND(AW78+AX78,2) -> 0 | AW78: =ROUND(G78*AO78,2) -> 0 | AX78: =ROUND(G78*AP78,2) -> 0 | AY78: 62_ | AZ78: 6_ | BA78: _ | BC78: =AW78+AX78 -> 0 | BD78: =H78/(100-BE78)*100 -> 0 | BE78: 0 | BF78: =P78 -> 0.0092258 | BH78: =G78*AO78 -> 0 | BI78: =G78*AP78 -> 0 | BJ78: =G78*H78 -> 0 | BK78: P | BL78: 62 | BW78: =I78 -> 21 | BX78: Očištění fasád tlakovou vodou složitost 1 - 2
A79: 36 | C79: 622421723R00 | D79: Oprava vnějších omítek cement. do 30 % plochy, stupeň složitosti II, ze suchých vápenných směsí | F79: m2 | G79: 118.245 | H79: 0 | I79: 21 | J79: =ROUND(G79*AO79,2) -> 0 | K79: =ROUND(G79*AP79,2) -> 0 | L79: =ROUND(G79*H79,2) -> 0 | M79: =L79*(1+BW79/100) -> 0 | N79: =IF(L144=0,0,L79/L144) -> 0 | O79: 0.00945 | P79: =G79*O79 -> 1.1174153 | Q79: RTS I / 2025 | Z79: =ROUND(IF(AQ79="5",BJ79,0),2) -> 0 | AB79: =ROUND(IF(AQ79="1",BH79,0),2) -> 0 | AC79: =ROUND(IF(AQ79="1",BI79,0),2) -> 0 | AD79: =ROUND(IF(AQ79="7",BH79,0),2) -> 0 | AE79: =ROUND(IF(AQ79="7",BI79,0),2) -> 0 | AF79: =ROUND(IF(AQ79="2",BH79,0),2) -> 0 | AG79: =ROUND(IF(AQ79="2",BI79,0),2) -> 0 | AH79: =ROUND(IF(AQ79="0",BJ79,0),2) -> 0 | AJ79: =IF(AN79=0,L79,0) -> 0 | AK79: =IF(AN79=12,L79,0) -> 0 | AL79: =IF(AN79=21,L79,0) -> 0 | AN79: 21 | AO79: =H79*0.226629151 -> 0 | AP79: =H79*(1-0.226629151) -> 0 | AQ79: 1 | AV79: =ROUND(AW79+AX79,2) -> 0 | AW79: =ROUND(G79*AO79,2) -> 0 | AX79: =ROUND(G79*AP79,2) -> 0 | AY79: 62_ | AZ79: 6_ | BA79: _ | BC79: =AW79+AX79 -> 0 | BD79: =H79/(100-BE79)*100 -> 0 | BE79: 0 | BF79: =P79 -> 1.1174153 | BH79: =G79*AO79 -> 0 | BI79: =G79*AP79 -> 0 | BJ79: =G79*H79 -> 0 | BK79: P | BL79: 62 | BW79: =I79 -> 21 | BX79: Oprava vnějších omítek cement. do 30 % plochy, stupeň složitosti II, ze suchých vápenných směsí
A80: 37 | C80: 620991121R00 | D80: Zakrývání výplní vnějších otvorů z lešení | F80: m2 | G80: 62.79 | H80: 0 | I80: 21 | J80: =ROUND(G80*AO80,2) -> 0 | K80: =ROUND(G80*AP80,2) -> 0 | L80: =ROUND(G80*H80,2) -> 0 | M80: =L80*(1+BW80/100) -> 0 | N80: =IF(L144=0,0,L80/L144) -> 0 | O80: 4e-05 | P80: =G80*O80 -> 0.0025116 | Q80: RTS I / 2025 | Z80: =ROUND(IF(AQ80="5",BJ80,0),2) -> 0 | AB80: =ROUND(IF(AQ80="1",BH80,0),2) -> 0 | AC80: =ROUND(IF(AQ80="1",BI80,0),2) -> 0 | AD80: =ROUND(IF(AQ80="7",BH80,0),2) -> 0 | AE80: =ROUND(IF(AQ80="7",BI80,0),2) -> 0 | AF80: =ROUND(IF(AQ80="2",BH80,0),2) -> 0 | AG80: =ROUND(IF(AQ80="2",BI80,0),2) -> 0 | AH80: =ROUND(IF(AQ80="0",BJ80,0),2) -> 0 | AJ80: =IF(AN80=0,L80,0) -> 0 | AK80: =IF(AN80=12,L80,0) -> 0 | AL80: =IF(AN80=21,L80,0) -> 0 | AN80: 21 | AO80: =H80*0.269062088 -> 0 | AP80: =H80*(1-0.269062088) -> 0 | AQ80: 1 | AV80: =ROUND(AW80+AX80,2) -> 0 | AW80: =ROUND(G80*AO80,2) -> 0 | AX80: =ROUND(G80*AP80,2) -> 0 | AY80: 62_ | AZ80: 6_ | BA80: _ | BC80: =AW80+AX80 -> 0 | BD80: =H80/(100-BE80)*100 -> 0 | BE80: 0 | BF80: =P80 -> 0.0025116 | BH80: =G80*AO80 -> 0 | BI80: =G80*AP80 -> 0 | BJ80: =G80*H80 -> 0 | BK80: P | BL80: 62 | BW80: =I80 -> 21 | BX80: Zakrývání výplní vnějších otvorů z lešení
D81: zakrývání a odkrývání výplní vnějších otvorů s rámy a zárubněmi, prováděné z lešení | BX81: zakrývání a odkrývání výplní vnějších otvorů s rámy a zárubněmi, prováděné z lešení
A82: 38 | C82: 622311016R00 | D82: Soklová lišta hliníková pro kontaktní zateplovací systém (např. Baumit) tl. 180 mm | F82: m | G82: 76.05 | H82: 0 | I82: 21 | J82: =ROUND(G82*AO82,2) -> 0 | K82: =ROUND(G82*AP82,2) -> 0 | L82: =ROUND(G82*H82,2) -> 0 | M82: =L82*(1+BW82/100) -> 0 | N82: =IF(L144=0,0,L82/L144) -> 0 | O82: 0.00057 | P82: =G82*O82 -> 0.0433485 | Q82: RTS I / 2025 | Z82: =ROUND(IF(AQ82="5",BJ82,0),2) -> 0 | AB82: =ROUND(IF(AQ82="1",BH82,0),2) -> 0 | AC82: =ROUND(IF(AQ82="1",BI82,0),2) -> 0 | AD82: =ROUND(IF(AQ82="7",BH82,0),2) -> 0 | AE82: =ROUND(IF(AQ82="7",BI82,0),2) -> 0 | AF82: =ROUND(IF(AQ82="2",BH82,0),2) -> 0 | AG82: =ROUND(IF(AQ82="2",BI82,0),2) -> 0 | AH82: =ROUND(IF(AQ82="0",BJ82,0),2) -> 0 | AJ82: =IF(AN82=0,L82,0) -> 0 | AK82: =IF(AN82=12,L82,0) -> 0 | AL82: =IF(AN82=21,L82,0) -> 0 | AN82: 21 | AO82: =H82*0.523674621 -> 0 | AP82: =H82*(1-0.523674621) -> 0 | AQ82: 1 | AV82: =ROUND(AW82+AX82,2) -> 0 | AW82: =ROUND(G82*AO82,2) -> 0 | AX82: =ROUND(G82*AP82,2) -> 0 | AY82: 62_ | AZ82: 6_ | BA82: _ | BC82: =AW82+AX82 -> 0 | BD82: =H82/(100-BE82)*100 -> 0 | BE82: 0 | BF82: =P82 -> 0.0433485 | BH82: =G82*AO82 -> 0 | BI82: =G82*AP82 -> 0 | BJ82: =G82*H82 -> 0 | BK82: P | BL82: 62 | BW82: =I82 -> 21 | BX82: Soklová lišta hliníková pro kontaktní zateplovací systém Baumit tl. 180 mm
A83: 39 | C83: 622311336RT3 | D83: Zateplovací systém (např. Baumit), fasáda, EPS F s grafitem, tl. 180 mm, omítkovina šedá | F83: m2 | G83: 29.6 | H83: 0 | I83: 21 | J83: =ROUND(G83*AO83,2) -> 0 | K83: =ROUND(G83*AP83,2) -> 0 | L83: =ROUND(G83*H83,2) -> 0 | M83: =L83*(1+BW83/100) -> 0 | N83: =IF(L144=0,0,L83/L144) -> 0 | O83: 0.01471 | P83: =G83*O83 -> 0.435416 | Q83: RTS I / 2025 | Z83: =ROUND(IF(AQ83="5",BJ83,0),2) -> 0 | AB83: =ROUND(IF(AQ83="1",BH83,0),2) -> 0 | AC83: =ROUND(IF(AQ83="1",BI83,0),2) -> 0 | AD83: =ROUND(IF(AQ83="7",BH83,0),2) -> 0 | AE83: =ROUND(IF(AQ83="7",BI83,0),2) -> 0 | AF83: =ROUND(IF(AQ83="2",BH83,0),2) -> 0 | AG83: =ROUND(IF(AQ83="2",BI83,0),2) -> 0 | AH83: =ROUND(IF(AQ83="0",BJ83,0),2) -> 0 | AJ83: =IF(AN83=0,L83,0) -> 0 | AK83: =IF(AN83=12,L83,0) -> 0 | AL83: =IF(AN83=21,L83,0) -> 0 | AN83: 21 | AO83: =H83*0.561398948 -> 0 | AP83: =H83*(1-0.561398948) -> 0 | AQ83: 1 | AV83: =ROUND(AW83+AX83,2) -> 0 | AW83: =ROUND(G83*AO83,2) -> 0 | AX83: =ROUND(G83*AP83,2) -> 0 | AY83: 62_ | AZ83: 6_ | BA83: _ | BC83: =AW83+AX83 -> 0 | BD83: =H83/(100-BE83)*100 -> 0 | BE83: 0 | BF83: =P83 -> 0.435416 | BH83: =G83*AO83 -> 0 | BI83: =G83*AP83 -> 0 | BJ83: =G83*H83 -> 0 | BK83: P | BL83: 62 | BW83: =I83 -> 21 | BX83: Zateplovací systém Baumit, fasáda, EPS F s grafitem, tl. 180 mm, omítkovina šedá
D84: s omítkou SilikonTop K2, pol. obsahuje dodávku a montáž kompletního systému KZS
A85: 40 | C85: 622311336RT3 | D85: Zateplovací systém (např. Baumit), fasáda, EPS F s grafitem, tl. 180 mm, omítkovina béžová | F85: m2 | G85: 364.55 | H85: 0 | I85: 21 | J85: =ROUND(G85*AO85,2) -> 0 | K85: =ROUND(G85*AP85,2) -> 0 | L85: =ROUND(G85*H85,2) -> 0 | M85: =L85*(1+BW85/100) -> 0 | N85: =IF(L144=0,0,L85/L144) -> 0 | O85: 0.01471 | P85: =G85*O85 -> 5.3625305 | Q85: RTS I / 2025 | Z85: =ROUND(IF(AQ85="5",BJ85,0),2) -> 0 | AB85: =ROUND(IF(AQ85="1",BH85,0),2) -> 0 | AC85: =ROUND(IF(AQ85="1",BI85,0),2) -> 0 | AD85: =ROUND(IF(AQ85="7",BH85,0),2) -> 0 | AE85: =ROUND(IF(AQ85="7",BI85,0),2) -> 0 | AF85: =ROUND(IF(AQ85="2",BH85,0),2) -> 0 | AG85: =ROUND(IF(AQ85="2",BI85,0),2) -> 0 | AH85: =ROUND(IF(AQ85="0",BJ85,0),2) -> 0 | AJ85: =IF(AN85=0,L85,0) -> 0 | AK85: =IF(AN85=12,L85,0) -> 0 | AL85: =IF(AN85=21,L85,0) -> 0 | AN85: 21 | AO85: =H85*0.561399012 -> 0 | AP85: =H85*(1-0.561399012) -> 0 | AQ85: 1 | AV85: =ROUND(AW85+AX85,2) -> 0 | AW85: =ROUND(G85*AO85,2) -> 0 | AX85: =ROUND(G85*AP85,2) -> 0 | AY85: 62_ | AZ85: 6_ | BA85: _ | BC85: =AW85+AX85 -> 0 | BD85: =H85/(100-BE85)*100 -> 0 | BE85: 0 | BF85: =P85 -> 5.3625305 | BH85: =G85*AO85 -> 0 | BI85: =G85*AP85 -> 0 | BJ85: =G85*H85 -> 0 | BK85: P | BL85: 62 | BW85: =I85 -> 21 | BX85: Zateplovací systém Baumit, fasáda, EPS F s grafitem, tl. 180 mm, omítkovina béžová
D86: s omítkou SilikonTop K2, pol. obsahuje dodávku a montáž kompletního systému KZS
D87: položka obsahuje: nanesení lepicího tmelu na izolační desky, nalepení desek, zajištění talířovými hmoždinkami (6 ks/m2), přebroušení desek, natažení stěrky, vtlačení výztužné tkaniny (1,15 m2/m2), přehlazení stěrky, kontaktní nátěr a povrchovou úpravu omítkou. V položce je obsaženo 0,14 m rohových lišt na m2, součinitel tepelné vodivosti izolantu 0,031 W/mK | BX87: Položka obsahuje: nanesení lepicího tmelu na izolační desky, nalepení desek, zajištění talířovými hmoždinkami (6 ks/m2), přebroušení desek, natažení stěrky, vtlačení výztužné tkaniny (1,15 m2/m2), přehlazení stěrky, kontaktní nátěr a povrchovou úpravu omítkou. V položce je obsaženo 0,14 m rohových lišt na m2. Součinitel tepelné vodivosti izolantu 0,032 W/mK
A88: 41 | C88: 622311525RU1 | D88: Zateplovací systém (např. Baumit), sokl, XPS, tl. 160 mm | F88: m2 | G88: 67.14 | H88: 0 | I88: 21 | J88: =ROUND(G88*AO88,2) -> 0 | K88: =ROUND(G88*AP88,2) -> 0 | L88: =ROUND(G88*H88,2) -> 0 | M88: =L88*(1+BW88/100) -> 0 | N88: =IF(L144=0,0,L88/L144) -> 0 | O88: 0.01933 | P88: =G88*O88 -> 1.2978162 | Q88: RTS I / 2025 | Z88: =ROUND(IF(AQ88="5",BJ88,0),2) -> 0 | AB88: =ROUND(IF(AQ88="1",BH88,0),2) -> 0 | AC88: =ROUND(IF(AQ88="1",BI88,0),2) -> 0 | AD88: =ROUND(IF(AQ88="7",BH88,0),2) -> 0 | AE88: =ROUND(IF(AQ88="7",BI88,0),2) -> 0 | AF88: =ROUND(IF(AQ88="2",BH88,0),2) -> 0 | AG88: =ROUND(IF(AQ88="2",BI88,0),2) -> 0 | AH88: =ROUND(IF(AQ88="0",BJ88,0),2) -> 0 | AJ88: =IF(AN88=0,L88,0) -> 0 | AK88: =IF(AN88=12,L88,0) -> 0 | AL88: =IF(AN88=21,L88,0) -> 0 | AN88: 21 | AO88: =H88*0.66081524 -> 0 | AP88: =H88*(1-0.66081524) -> 0 | AQ88: 1 | AV88: =ROUND(AW88+AX88,2) -> 0 | AW88: =ROUND(G88*AO88,2) -> 0 | AX88: =ROUND(G88*AP88,2) -> 0 | AY88: 62_ | AZ88: 6_ | BA88: _ | BC88: =AW88+AX88 -> 0 | BD88: =H88/(100-BE88)*100 -> 0 | BE88: 0 | BF88: =P88 -> 1.2978162 | BH88: =G88*AO88 -> 0 | BI88: =G88*AP88 -> 0 | BJ88: =G88*H88 -> 0 | BK88: P | BL88: 62 | BW88: =I88 -> 21 | BX88: Zateplovací systém Baumit, sokl, XPS, tl. 160 mm
D89: s mozaikovou omítkou 5,5 kg/m2
D90: položka obsahuje: nanesení lepicího tmelu na izolační desky, nalepení desek, zajištění talířovými hmoždinkami (6 ks/m2), přebroušení desek, natažení stěrky, vtlačení výztužné tkaniny (1,15 m2/m2), přehlazení stěrky, kontaktní nátěr a povrchovou úpravu omítkou. V položce je obsaženo 0,14 m rohových lišt na m2, součinitel tepelné vodivosti izolantu 0,038 W/mK | BX90: Položka obsahuje: nanesení lepicího tmelu na izolační desky, nalepení desek, zajištění talířovými hmoždinkami (6 ks/m2), přebroušení desek, natažení stěrky, vtlačení výztužné tkaniny (1,15 m2/m2), přehlazení stěrky, kontaktní nátěr a povrchovou úpravu omítkou. V položce je obsaženo 0,14 m rohových lišt na m2. Součinitel tepelné vodivosti izolantu 0,038 W/mK
A91: 42 | C91: 622311353RT3 | D91: Zateplovací systém (např. Baumit), ostění, EPS F s grafitem, tl. 30 mm, omítkovina šedá+béžová | F91: m2 | G91: 85.4 | H91: 0 | I91: 21 | J91: =ROUND(G91*AO91,2) -> 0 | K91: =ROUND(G91*AP91,2) -> 0 | L91: =ROUND(G91*H91,2) -> 0 | M91: =L91*(1+BW91/100) -> 0 | N91: =IF(L144=0,0,L91/L144) -> 0 | O91: 0.01245 | P91: =G91*O91 -> 1.06323 | Q91: RTS I / 2025 | Z91: =ROUND(IF(AQ91="5",BJ91,0),2) -> 0 | AB91: =ROUND(IF(AQ91="1",BH91,0),2) -> 0 | AC91: =ROUND(IF(AQ91="1",BI91,0),2) -> 0 | AD91: =ROUND(IF(AQ91="7",BH91,0),2) -> 0 | AE91: =ROUND(IF(AQ91="7",BI91,0),2) -> 0 | AF91: =ROUND(IF(AQ91="2",BH91,0),2) -> 0 | AG91: =ROUND(IF(AQ91="2",BI91,0),2) -> 0 | AH91: =ROUND(IF(AQ91="0",BJ91,0),2) -> 0 | AJ91: =IF(AN91=0,L91,0) -> 0 | AK91: =IF(AN91=12,L91,0) -> 0 | AL91: =IF(AN91=21,L91,0) -> 0 | AN91: 21 | AO91: =H91*0.309437394 -> 0 | AP91: =H91*(1-0.309437394) -> 0 | AQ91: 1 | AV91: =ROUND(AW91+AX91,2) -> 0 | AW91: =ROUND(G91*AO91,2) -> 0 | AX91: =ROUND(G91*AP91,2) -> 0 | AY91: 62_ | AZ91: 6_ | BA91: _ | BC91: =AW91+AX91 -> 0 | BD91: =H91/(100-BE91)*100 -> 0 | BE91: 0 | BF91: =P91 -> 1.06323 | BH91: =G91*AO91 -> 0 | BI91: =G91*AP91 -> 0 | BJ91: =G91*H91 -> 0 | BK91: P | BL91: 62 | BW91: =I91 -> 21 | BX91: Zateplovací systém Baumit, ostění, EPS F s grafitem, tl. 30 mm, omítkovina šedá+béžová
D92: s omítkou SilikonTop K2
D93: položka obsahuje: nanesení lepicího tmelu na izolační desky, nalepení desek, přebroušení desek, osazení lišt, natažení stěrky, vtlačení výztužné tkaniny, přehlazení stěrky, kontaktní nátěr a povrchovou úpravu omítkou. V položce je obsaženo 3,33 m rohových lišt, 1,67 m lišt s okapničkou, 5 m napojovacích lišt na m2 a 1,68 m2 výztužné tkaniny, součinitel tepelné vodivosti izolantu 0,032 W/mK | BX93: Položka obsahuje: nanesení lepicího tmelu na izolační desky, nalepení desek, přebroušení desek, osazení lišt, natažení stěrky, vtlačení výztužné tkaniny, přehlazení stěrky, kontaktní nátěr a povrchovou úpravu omítkou. V položce je obsaženo 3,33 m rohových lišt, 1,67 m lišt s okapničkou, 5 m napojovacích lišt na m2 a 1,68 m2 výztužné tkaniny. Součinitel tepelné vodivosti izolantu 0,032 W/mK
A94: 43 | C94: 622311111R00 | D94: Dilatační průběžný a rohový profil, zateplovací systém Baumit | F94: m | G94: 13.5 | H94: 0 | I94: 21 | J94: =ROUND(G94*AO94,2) -> 0 | K94: =ROUND(G94*AP94,2) -> 0 | L94: =ROUND(G94*H94,2) -> 0 | M94: =L94*(1+BW94/100) -> 0 | N94: =IF(L144=0,0,L94/L144) -> 0 | O94: 0.0002 | P94: =G94*O94 -> 0.0027 | Q94: RTS I / 2025 | Z94: =ROUND(IF(AQ94="5",BJ94,0),2) -> 0 | AB94: =ROUND(IF(AQ94="1",BH94,0),2) -> 0 | AC94: =ROUND(IF(AQ94="1",BI94,0),2) -> 0 | AD94: =ROUND(IF(AQ94="7",BH94,0),2) -> 0 | AE94: =ROUND(IF(AQ94="7",BI94,0),2) -> 0 | AF94: =ROUND(IF(AQ94="2",BH94,0),2) -> 0 | AG94: =ROUND(IF(AQ94="2",BI94,0),2) -> 0 | AH94: =ROUND(IF(AQ94="0",BJ94,0),2) -> 0 | AJ94: =IF(AN94=0,L94,0) -> 0 | AK94: =IF(AN94=12,L94,0) -> 0 | AL94: =IF(AN94=21,L94,0) -> 0 | AN94: 21 | AO94: =H94*0.594440276 -> 0 | AP94: =H94*(1-0.594440276) -> 0 | AQ94: 1 | AV94: =ROUND(AW94+AX94,2) -> 0 | AW94: =ROUND(G94*AO94,2) -> 0 | AX94: =ROUND(G94*AP94,2) -> 0 | AY94: 62_ | AZ94: 6_ | BA94: _ | BC94: =AW94+AX94 -> 0 | BD94: =H94/(100-BE94)*100 -> 0 | BE94: 0 | BF94: =P94 -> 0.0027 | BH94: =G94*AO94 -> 0 | BI94: =G94*AP94 -> 0 | BJ94: =G94*H94 -> 0 | BK94: P | BL94: 62 | BW94: =I94 -> 21 | BX94: Dilatační průběžný a rohový profil, zateplovací systém Baumit
C95: 713 | D95: Izolace tepelné | J95: =SUM(J96:J96) -> 0 | K95: =SUM(K96:K96) -> 0 | L95: =SUM(L96:L96) -> 0 | M95: =SUM(M96:M96) -> 0 | N95: =IF(L144=0,0,L95/L144) -> 0 | P95: =SUM(P96:P96) -> 1.081668 | AS95: =SUM(AJ96:AJ96) -> 0 | AT95: =SUM(AK96:AK96) -> 0 | AU95: =SUM(AL96:AL96) -> 0
A96: 44 | C96: 713100010RAB | D96: Izolace tepelná volně položená, desky minerální Isover UNI, tl. 120 mm | F96: m2 | G96: 331.8 | H96: 0 | I96: 21 | J96: =ROUND(G96*AO96,2) -> 0 | K96: =ROUND(G96*AP96,2) -> 0 | L96: =ROUND(G96*H96,2) -> 0 | M96: =L96*(1+BW96/100) -> 0 | N96: =IF(L144=0,0,L96/L144) -> 0 | O96: 0.00326 | P96: =G96*O96 -> 1.081668 | Q96: RTS I / 2025 | Z96: =ROUND(IF(AQ96="5",BJ96,0),2) -> 0 | AB96: =ROUND(IF(AQ96="1",BH96,0),2) -> 0 | AC96: =ROUND(IF(AQ96="1",BI96,0),2) -> 0 | AD96: =ROUND(IF(AQ96="7",BH96,0),2) -> 0 | AE96: =ROUND(IF(AQ96="7",BI96,0),2) -> 0 | AF96: =ROUND(IF(AQ96="2",BH96,0),2) -> 0 | AG96: =ROUND(IF(AQ96="2",BI96,0),2) -> 0 | AH96: =ROUND(IF(AQ96="0",BJ96,0),2) -> 0 | AJ96: =IF(AN96=0,L96,0) -> 0 | AK96: =IF(AN96=12,L96,0) -> 0 | AL96: =IF(AN96=21,L96,0) -> 0 | AN96: 21 | AO96: =H96*0.758029979 -> 0 | AP96: =H96*(1-0.758029979) -> 0 | AQ96: 7 | AV96: =ROUND(AW96+AX96,2) -> 0 | AW96: =ROUND(G96*AO96,2) -> 0 | AX96: =ROUND(G96*AP96,2) -> 0 | AY96: 713_ | AZ96: 71_ | BA96: _ | BC96: =AW96+AX96 -> 0 | BD96: =H96/(100-BE96)*100 -> 0 | BE96: 0 | BF96: =P96 -> 1.081668 | BH96: =G96*AO96 -> 0 | BI96: =G96*AP96 -> 0 | BJ96: =G96*H96 -> 0 | BK96: P | BL96: 713 | BW96: =I96 -> 21 | BX96: Izolace tepelná volně položená, desky minerální Isover UNI, tl. 120 mm
D97: součinitel tepelné vodivosti 0,035 W.m-1.K-1
C98: 762 | D98: Konstrukce tesařské | J98: =SUM(J99:J107) -> 0 | K98: =SUM(K99:K107) -> 0 | L98: =SUM(L99:L107) -> 0 | M98: =SUM(M99:M107) -> 0 | N98: =IF(L144=0,0,L98/L144) -> 0 | P98: =SUM(P99:P107) -> 31.958404 | AS98: =SUM(AJ99:AJ107) -> 0 | AT98: =SUM(AK99:AK107) -> 0 | AU98: =SUM(AL99:AL107) -> 0
A99: 45 | C99: 762950015RAB | D99: Výměna laťování, kontralatí a bednění střech | F99: m2 | G99: 526.7538 | H99: 0 | I99: 21 | J99: =ROUND(G99*AO99,2) -> 0 | K99: =ROUND(G99*AP99,2) -> 0 | L99: =ROUND(G99*H99,2) -> 0 | M99: =L99*(1+BW99/100) -> 0 | N99: =IF(L144=0,0,L99/L144) -> 0 | O99: 0.03798 | P99: =G99*O99 -> 20.006109 | Q99: RTS I / 2025 | Z99: =ROUND(IF(AQ99="5",BJ99,0),2) -> 0 | AB99: =ROUND(IF(AQ99="1",BH99,0),2) -> 0 | AC99: =ROUND(IF(AQ99="1",BI99,0),2) -> 0 | AD99: =ROUND(IF(AQ99="7",BH99,0),2) -> 0 | AE99: =ROUND(IF(AQ99="7",BI99,0),2) -> 0 | AF99: =ROUND(IF(AQ99="2",BH99,0),2) -> 0 | AG99: =ROUND(IF(AQ99="2",BI99,0),2) -> 0 | AH99: =ROUND(IF(AQ99="0",BJ99,0),2) -> 0 | AJ99: =IF(AN99=0,L99,0) -> 0 | AK99: =IF(AN99=12,L99,0) -> 0 | AL99: =IF(AN99=21,L99,0) -> 0 | AN99: 21 | AO99: =H99*0.374399086 -> 0 | AP99: =H99*(1-0.374399086) -> 0 | AQ99: 7 | AV99: =ROUND(AW99+AX99,2) -> 0 | AW99: =ROUND(G99*AO99,2) -> 0 | AX99: =ROUND(G99*AP99,2) -> 0 | AY99: 762_ | AZ99: 76_ | BA99: _ | BC99: =AW99+AX99 -> 0 | BD99: =H99/(100-BE99)*100 -> 0 | BE99: 0 | BF99: =P99 -> 20.006109 | BH99: =G99*AO99 -> 0 | BI99: =G99*AP99 -> 0 | BJ99: =G99*H99 -> 0 | BK99: P | BL99: 762 | BW99: =I99 -> 21 | BX99: Výměna laťování, kontralatí a bednění střech
D100: dodávka a montáž vč. řeziva, kompletní výměna v rozsahu 100% plochy střechy
A101: 46 | C101: 713100010RAC | D101: Izolace tepelná volně položená, desky minerální Isover UNI, tl. 100 mm | F101: m2 | G101: 331.8 | H101: 0 | I101: 21 | J101: =ROUND(G101*AO101,2) -> 0 | K101: =ROUND(G101*AP101,2) -> 0 | L101: =ROUND(G101*H101,2) -> 0 | M101: =L101*(1+BW101/100) -> 0 | N101: =IF(L144=0,0,L101/L144) -> 0 | O101: 0.00408 | P101: =G101*O101 -> 1.353744 | Q101: RTS I / 2025 | Z101: =ROUND(IF(AQ101="5",BJ101,0),2) -> 0 | AB101: =ROUND(IF(AQ101="1",BH101,0),2) -> 0 | AC101: =ROUND(IF(AQ101="1",BI101,0),2) -> 0 | AD101: =ROUND(IF(AQ101="7",BH101,0),2) -> 0 | AE101: =ROUND(IF(AQ101="7",BI101,0),2) -> 0 | AF101: =ROUND(IF(AQ101="2",BH101,0),2) -> 0 | AG101: =ROUND(IF(AQ101="2",BI101,0),2) -> 0 | AH101: =ROUND(IF(AQ101="0",BJ101,0),2) -> 0 | AJ101: =IF(AN101=0,L101,0) -> 0 | AK101: =IF(AN101=12,L101,0) -> 0 | AL101: =IF(AN101=21,L101,0) -> 0 | AN101: 21 | AO101: =H101*0.740678709 -> 0 | AP101: =H101*(1-0.740678709) -> 0 | AQ101: 7 | AV101: =ROUND(AW101+AX101,2) -> 0 | AW101: =ROUND(G101*AO101,2) -> 0 | AX101: =ROUND(G101*AP101,2) -> 0 | AY101: 762_ | AZ101: 76_ | BA101: _ | BC101: =AW101+AX101 -> 0 | BD101: =H101/(100-BE101)*100 -> 0 | BE101: 0 | BF101: =P101 -> 1.353744 | BH101: =G101*AO101 -> 0 | BI101: =G101*AP101 -> 0 | BJ101: =G101*H101 -> 0 | BK101: P | BL101: 762 | BW101: =I101 -> 21 | BX101: Izolace tepelná volně položená, desky minerální Isover UNI, tl. 100 mm
D102: součinitel tepelné vodivosti 0,035 W.m-1.K-1
A103: 47 | C103: 765799313RN3 | D103: Montáž fólie na bednění přibitím, přelepení spojů | F103: m2 | G103: 526.7538 | H103: 0 | I103: 21 | J103: =ROUND(G103*AO103,2) -> 0 | K103: =ROUND(G103*AP103,2) -> 0 | L103: =ROUND(G103*H103,2) -> 0 | M103: =L103*(1+BW103/100) -> 0 | N103: =IF(L144=0,0,L103/L144) -> 0 | O103: 0.0002 | P103: =G103*O103 -> 0.10535076 | Q103: RTS I / 2025 | Z103: =ROUND(IF(AQ103="5",BJ103,0),2) -> 0 | AB103: =ROUND(IF(AQ103="1",BH103,0),2) -> 0 | AC103: =ROUND(IF(AQ103="1",BI103,0),2) -> 0 | AD103: =ROUND(IF(AQ103="7",BH103,0),2) -> 0 | AE103: =ROUND(IF(AQ103="7",BI103,0),2) -> 0 | AF103: =ROUND(IF(AQ103="2",BH103,0),2) -> 0 | AG103: =ROUND(IF(AQ103="2",BI103,0),2) -> 0 | AH103: =ROUND(IF(AQ103="0",BJ103,0),2) -> 0 | AJ103: =IF(AN103=0,L103,0) -> 0 | AK103: =IF(AN103=12,L103,0) -> 0 | AL103: =IF(AN103=21,L103,0) -> 0 | AN103: 21 | AO103: =H103*0.566036853 -> 0 | AP103: =H103*(1-0.566036853) -> 0 | AQ103: 7 | AV103: =ROUND(AW103+AX103,2) -> 0 | AW103: =ROUND(G103*AO103,2) -> 0 | AX103: =ROUND(G103*AP103,2) -> 0 | AY103: 762_ | AZ103: 76_ | BA103: _ | BC103: =AW103+AX103 -> 0 | BD103: =H103/(100-BE103)*100 -> 0 | BE103: 0 | BF103: =P103 -> 0.10535076 | BH103: =G103*AO103 -> 0 | BI103: =G103*AP103 -> 0 | BJ103: =G103*H103 -> 0 | BK103: P | BL103: 762 | BW103: =I103 -> 21 | BX103: Montáž fólie na bednění přibitím, přelepení spojů
D104: difúzní pojistná hydroizolace
...

Sheet Stavební rozpočet - součet
A1: Stavební rozpočet - rekapitulace
A2: Název stavby: | C2: ='Stavební rozpočet'!D2 -> Rekonstrukce tělocvičny č.p. 387 v areálu ZŠ Stochov | D2: Doba výstavby (dny): | F2: Objednatel: | G2: ='Stavební rozpočet'!J2 -> Město Stochov
A4: Druh stavby: | C4: ='Stavební rozpočet'!D4 -> Udržovací práce a oprava stávajícícho objektu | D4: Začátek výstavby: | F4: Projektant: | G4: ='Stavební rozpočet'!J4 -> ARIPROS s.r.o.
A6: Lokalita: | C6: ='Stavební rozpočet'!D6 -> ZŠ Stochov, Jaroslava Šípka 387, 273 03 Stochov | D6: Konec výstavby: | F6: Zhotovitel: | G6: ='Stavební rozpočet'!J6 -> Dle výběrového řízení
A8: Zpracoval: | D8: Zpracováno dne:
A10: Objekt | B10: Kód | C10: Zkrácený popis | D10: Náklady (Kč) - dodávka | E10: Náklady (Kč) - Montáž | F10: Náklady (Kč) - celkem | G10: Celková hmotnost (t)
B11: 59 | C11: Kryty pozemních komunikací, letišť a ploch dlážděných (předlažby) | D11: =ROUND('Stavební rozpočet'!J12,2) -> 0 | E11: =ROUND('Stavební rozpočet'!K12,2) -> 0 | F11: =ROUND('Stavební rozpočet'!L12,2) -> 0 | G11: ='Stavební rozpočet'!P12 -> 29.300792 | H11: T | I11: =IF(H11="F",0,F11) -> 0
B12: 61 | C12: Úprava povrchů vnitřní | D12: =ROUND('Stavební rozpočet'!J17,2) -> 0 | E12: =ROUND('Stavební rozpočet'!K17,2) -> 0 | F12: =ROUND('Stavební rozpočet'!L17,2) -> 0 | G12: ='Stavební rozpočet'!P17 -> 6.1022 | H12: T | I12: =IF(H12="F",0,F12) -> 0
B13: 94 | C13: Lešení a stavební výtahy | D13: =ROUND('Stavební rozpočet'!J20,2) -> 0 | E13: =ROUND('Stavební rozpočet'!K20,2) -> 0 | F13: =ROUND('Stavební rozpočet'!L20,2) -> 0 | G13: ='Stavební rozpočet'!P20 -> 9.6720182 | H13: T | I13: =IF(H13="F",0,F13) -> 0
B14: 95 | C14: Různé dokončovací konstrukce a práce na pozemních stavbách | D14: =ROUND('Stavební rozpočet'!J25,2) -> 0 | E14: =ROUND('Stavební rozpočet'!K25,2) -> 0 | F14: =ROUND('Stavební rozpočet'!L25,2) -> 0 | G14: ='Stavební rozpočet'!P25 -> 4.760706 | H14: T | I14: =IF(H14="F",0,F14) -> 0
B15: 96 | C15: Bourání konstrukcí | D15: =ROUND('Stavební rozpočet'!J43,2) -> 0 | E15: =ROUND('Stavební rozpočet'!K43,2) -> 0 | F15: =ROUND('Stavební rozpočet'!L43,2) -> 0 | G15: ='Stavební rozpočet'!P43 -> 6.0644535 | H15: T | I15: =IF(H15="F",0,F15) -> 0
B16: H01 | C16: Budovy občanské výstavby | D16: =ROUND('Stavební rozpočet'!J59,2) -> 0 | E16: =ROUND('Stavební rozpočet'!K59,2) -> 0 | F16: =ROUND('Stavební rozpočet'!L59,2) -> 0 | G16: ='Stavební rozpočet'!P59 -> 0 | H16: T | I16: =IF(H16="F",0,F16) -> 0
B17: M21 | C17: Elektromontáže | D17: =ROUND('Stavební rozpočet'!J61,2) -> 0 | E17: =ROUND('Stavební rozpočet'!K61,2) -> 0 | F17: =ROUND('Stavební rozpočet'!L61,2) -> 0 | G17: ='Stavební rozpočet'!P61 -> 1.967228 | H17: T | I17: =IF(H17="F",0,F17) -> 0
B18: 62 | C18: Úprava povrchů vnější | D18: =ROUND('Stavební rozpočet'!J77,2) -> 0 | E18: =ROUND('Stavební rozpočet'!K77,2) -> 0 | F18: =ROUND('Stavební rozpočet'!L77,2) -> 0 | G18: ='Stavební rozpočet'!P77 -> 9.3341939 | H18: T | I18: =IF(H18="F",0,F18) -> 0
B19: 713 | C19: Izolace tepelné | D19: =ROUND('Stavební rozpočet'!J95,2) -> 0 | E19: =ROUND('Stavební rozpočet'!K95,2) -> 0 | F19: =ROUND('Stavební rozpočet'!L95,2) -> 0 | G19: ='Stavební rozpočet'!P95 -> 1.081668 | H19: T | I19: =IF(H19="F",0,F19) -> 0
B20: 762 | C20: Konstrukce tesařské | D20: =ROUND('Stavební rozpočet'!J98,2) -> 0 | E20: =ROUND('Stavební rozpočet'!K98,2) -> 0 | F20: =ROUND('Stavební rozpočet'!L98,2) -> 0 | G20: ='Stavební rozpočet'!P98 -> 31.958404 | H20: T | I20: =IF(H20="F",0,F20) -> 0
B21: 764 | C21: Konstrukce klempířské | D21: =ROUND('Stavební rozpočet'!J109,2) -> 0 | E21: =ROUND('Stavební rozpočet'!K109,2) -> 0 | F21: =ROUND('Stavební rozpočet'!L109,2) -> 0 | G21: ='Stavební rozpočet'!P109 -> 4.0519097 | H21: T | I21: =IF(H21="F",0,F21) -> 0
B22: 766 | C22: Konstrukce truhlářské | D22: =ROUND('Stavební rozpočet'!J130,2) -> 0 | E22: =ROUND('Stavební rozpočet'!K130,2) -> 0 | F22: =ROUND('Stavební rozpočet'!L130,2) -> 0 | G22: ='Stavební rozpočet'!P130 -> 2.482077 | H22: T | I22: =IF(H22="F",0,F22) -> 0
B23: 767 | C23: Konstrukce doplňkové stavební (zámečnické) | D23: =ROUND('Stavební rozpočet'!J139,2) -> 0 | E23: =ROUND('Stavební rozpočet'!K139,2) -> 0 | F23: =ROUND('Stavební rozpočet'!L139,2) -> 0 | G23: ='Stavební rozpočet'!P139 -> 0.130875 | H23: T | I23: =IF(H23="F",0,F23) -> 0
E24: Celkem: | F24: =ROUND(SUM(I11:I23),2) -> 0

Sheet Krycí list rozpočtu
A1: Krycí list rozpočtu
A2: Název stavby: | C2: ='Stavební rozpočet'!D2 -> Rekonstrukce tělocvičny č.p. 387 v areálu ZŠ Stochov | E2: Objednatel: | F2: ='Stavební rozpočet'!J2 -> Město Stochov | H2: IČO/DIČ: | I2: 00234923/CZ00234923
A4: Druh stavby: | C4: ='Stavební rozpočet'!D4 -> Udržovací práce a oprava stávajícícho objektu | E4: Projektant: | F4: ='Stavební rozpočet'!J4 -> ARIPROS s.r.o. | H4: IČO/DIČ: | I4: 26174936/CZ26174936
A6: Lokalita: | C6: ='Stavební rozpočet'!D6 -> ZŠ Stochov, Jaroslava Šípka 387, 273 03 Stochov | E6: Zhotovitel: | F6: ='Stavební rozpočet'!J6 -> Dle výběrového řízení | H6: IČO/DIČ:
A8: Doba výstavby (dny): | C8: ='Stavební rozpočet'!H4 | H8: Položek: | I8: 66
A10: JKSO: | C10: ='Stavební rozpočet'!D8 -> 80151 | E10: Zpracoval: | H10: Datum:
A12: Rozpočtové náklady v Kč
A13: A | B13: Základní rozpočtové náklady | D13: B | E13: Doplňkové náklady | G13: C | H13: Náklady na umístění stavby (NUS)
A14: HSV | B14: Dodávky | C14: =SUM('Stavební rozpočet'!AB12:AB287) -> 0 | D14: Práce přesčas | F14: =VORN!I15 -> 0 | G14: Zařízení staveniště | I14: 0
B15: Montáž | C15: =SUM('Stavební rozpočet'!AC12:AC287) -> 0 | D15: Bez pevné podl. | F15: =VORN!I16 -> 0 | G15: Mimostav. doprava | I15: 0
A16: PSV | B16: Dodávky | C16: =SUM('Stavební rozpočet'!AD12:AD287) -> 0 | D16: Kulturní památka | F16: =VORN!I17 -> 0 | G16: Územní vlivy | I16: 0
B17: Montáž | C17: =SUM('Stavební rozpočet'!AE12:AE287) -> 0 | D17: Investiční rezerva | F17: =VORN!I18 -> 0 | G17: Provozní vlivy | I17: 0
A18: "M" | B18: Dodávky | C18: =SUM('Stavební rozpočet'!AF12:AF287) -> 0 | G18: Ostatní | I18: =VORN!I26 -> 0
B19: Montáž | C19: =SUM('Stavební rozpočet'!AG12:AG287) -> 0 | G19: NUS z rozpočtu | I19: =VORN!I27 -> 0
A20: Ostatní materiál | C20: =SUM('Stavební rozpočet'!AH12:AH287) -> 0
A21: Přesun hmot a sutí | C21: =SUM('Stavební rozpočet'!Z12:Z287) -> 0
A22: ZRN celkem | C22: =ROUND(SUM(C14:C21),2) -> 0 | D22: DN celkem | F22: =SUM(F14:F21) -> 0 | G22: NUS celkem | I22: =SUM(I14:I21) -> 0
D23: DN celkem z obj. | F23: 0 | G23: NUS celkem z obj. | I23: 0
G24: VORN celkem | I24: =vorn_sum -> 0
G25: VORN celkem z obj. | I25: 0
A27: Základ 0% | C27: =ROUND(SUM('Stavební rozpočet'!AJ12:AJ287),2) -> 0
A28: Základ 12% | C28: =ROUND(SUM('Stavební rozpočet'!AK12:AK287),2) -> 0 | D28: DPH 12% | F28: =ROUND(C28*(12/100),2) -> 0 | G28: Celkem bez DPH | I28: =ROUND(SUM(C27:C29),2) -> 0
A29: Základ 21% | C29: =ROUND(SUM('Stavební rozpočet'!AL12:AL287)+(F22+I22+F23+I23+I24+I25),2) -> 0 | D29: DPH 21% | F29: =ROUND(C29*(21/100),2) -> 0 | G29: Celkem včetně DPH | I29: =ROUND(SUM(F28:F29)+I28,2) -> 0
A31: Projektant | D31: Objednatel | G31: Zhotovitel
A35: Datum, razítko a podpis | D35: Datum, razítko a podpis | G35: Datum, razítko a podpis
A36: Poznámka:
A37: PD je vytvořena digitálním způsobem v programu AutoCAD. Výměry v rozpočtu jsou jeho zpracovatelem stanoveny dle digitálního modelu - funkce měření ploch, délek atd. Uchazeč ve všech listech neoceněného rozpočtového souboru může měnit pouze buňky se žlutým pozadím. Jedná se o údaje o uchazeči a zpracovateli ocenění rozpočtu včetně data zpracování, J.C. (Kč) položek zadané na maximálně dvě desetinná místa a dobu výstavby ve dnech.

Sheet VORN
A1: Vedlejší a ostatní rozpočtové náklady
A2: Název stavby: | C2: ='Stavební rozpočet'!D2 -> Rekonstrukce tělocvičny č.p. 387 v areálu ZŠ Stochov | E2: Objednatel: | F2: ='Stavební rozpočet'!J2 -> Město Stochov | H2: IČO/DIČ: | I2: 00234923/CZ00234923
A4: Druh stavby: | C4: ='Stavební rozpočet'!D4 -> Udržovací práce a oprava stávajícícho objektu | E4: Projektant: | F4: ='Stavební rozpočet'!J4 -> ARIPROS s.r.o. | H4: IČO/DIČ: | I4: 26174936/CZ26174936
A6: Lokalita: | C6: ='Stavební rozpočet'!D6 -> ZŠ Stochov, Jaroslava Šípka 387, 273 03 Stochov | E6: Zhotovitel: | F6: ='Stavební rozpočet'!J6 -> Dle výběrového řízení | H6: IČO/DIČ:
A8: Začátek výstavby: | C8: ='Stavební rozpočet'!H4 | E8: Konec výstavby: | F8: ='Stavební rozpočet'!H6 -> 0 | H8: Položek: | I8: 66
A10: JKSO: | C10: ='Stavební rozpočet'!D8 -> 80151 | E10: Zpracoval: | F10: ='Stavební rozpočet'!J8 -> 0 | H10: Datum: | I10: ='Stavební rozpočet'!H8 -> 0
A13: Vedlejší rozpočtové náklady VRN
A14: Doplňkové náklady DN | F14: Kč | G14: % | H14: Základna | I14: Kč
A15: Práce přesčas | F15: 0 | I15: =F15 -> 0
A16: Bez pevné podl. | F16: 0 | I16: =F16 -> 0
A17: Kulturní památka | F17: 0 | I17: =F17 -> 0
A18: Investiční rezerva | F18: 0 | I18: =F18 -> 0
A19: Celkem DN | I19: =SUM(I15:I18) -> 0
A21: Náklady na umístění stavby (NUS) | F21: Kč | G21: % | H21: Základna | I21: Kč
A22: Zařízení staveniště | F22: 95000 | I22: =F22 -> 95000
A23: Mimostav. doprava | F23: 48500 | I23: =F23 -> 48500
A24: Územní vlivy | F24: 10000 | I24: =F24 -> 10000
A25: Provozní vlivy | F25: 10000 | I25: =F25 -> 10000
A26: Ostatní | F26: 0 | I26: =F26 -> 0
A27: NUS z rozpočtu | F27: 0 | I27: =F27 -> 0
A28: Celkem NUS | I28: =SUM(I22:I27) -> 163500
A30: Celkem VRN | F30: =I19+I28 -> 163500
A34: Ostatní rozpočtové náklady ORN
A35: Ostatní rozpočtové náklady (ORN) | F35: Kč | G35: % | H35: Základna | I35: Kč
F36: 0 | I36: =F36 -> 0
A37: Celkem ORN | I37: =SUM(I36:I36) -> 0
