Workbook

Sheet Rekapitulace stavby
A1: Export Komplet | AZ1: VZ | BA1: 2.0 | BB1: ZAMOK | BT1: False | BU1: False | BV1: {13cc0181-7f2c-4efe-aa41-c2b1295eaf77}
BS2: 0,01 | BT2: 21
BS3: 0,01 | BT3: 12
D4: REKAPITULACE STAVBY | AS4: v --- níže se nacházejí doplnkové a pomocné údaje k sestavám --- v | BE4: Návod na vyplnění | BS4: 0,001
D5: Kód: | K5: M-44-24 | BE5: Měnit lze pouze buňky se žlutým podbarvením!_x000D_ _x000D_ 1) v Rekapitulaci stavby vyplňte údaje o Účastníkovi (přenesou se do ostatních sestav i v jiných listech)_x000D_ _x000D_ 2) na vybraných listech vyplňte v sestavě Soupis prací ceny u položek | BS5: 0,01
D6: Stavba: | K6: Oprava kanalizace Hůrky | BS6: 0,01
D7: KSO: | AK7: CC-CZ: | BS7: 0,01
D8: Místo: | K8: Hůrky, m.č. Nová Bystřice | AK8: Datum: | AN8: 24. 6. 2024 | BS8: 0,01
BS9: 0,01
D10: Zadavatel: | AK10: IČ: | BS10: 0,01
E11: Město Nová Bystřice | AK11: DIČ: | BS11: 0,01
BS12: 0,01
D13: Účastník: | AK13: IČ: | AN13: Vyplň údaj | BS13: 0,01
E14: Vyplň údaj | AK14: DIČ: | AN14: Vyplň údaj | BS14: 0,01
BS15: False
D16: Projektant: | AK16: IČ: | BS16: False
E17: Ing. Martin Růžička | AK17: DIČ: | BS17: True
BS18: 0,01
D19: Zpracovatel: | AK19: IČ: | BS19: 0,01
E20: Ing. Martin Růžička | AK20: DIČ: | BS20: False
D22: Poznámka:
E23: Soupis prací je sestaven s využitím Cenové soustavy ÚRS. Položky, které pochází z této cenové soustavy, jsou ve sloupci 'Cenová soustava' označeny popisem 'CS ÚRS' a úrovní příslušného kalendářního pololetí. Veškeré další informace vymezující popis a podmínky použití těchto položek z Cenové soustavy, které nejsou uvedeny přímo v soupisu prací, jsou neomezeně dálkově k dispozici na webu podminky.urs.cz.
D26: Cena bez DPH | AK26: =ROUND(AG54,2) -> 0
L28: Sazba daně | W28: Základ daně | AK28: Výše daně
D29: DPH | F29: základní | L29: 0.21 | W29: =ROUND(AZ54, 2) -> 0 | AK29: =ROUND(AV54, 2) -> 0
F30: snížená | L30: 0.12 | W30: =ROUND(BA54, 2) -> 0 | AK30: =ROUND(AW54, 2) -> 0
F31: zákl. přenesená | L31: 0.21 | W31: =ROUND(BB54, 2) -> 0 | AK31: 0
F32: sníž. přenesená | L32: 0.12 | W32: =ROUND(BC54, 2) -> 0 | AK32: 0
F33: nulová | L33: 0 | W33: =ROUND(BD54, 2) -> 0 | AK33: 0
D35: Cena s DPH | T35: v | X35: CZK | AK35: =SUM(AK26:AK33) -> 0
C42: REKAPITULACE OBJEKTŮ STAVBY A SOUPISŮ PRACÍ
C44: Kód: | L44: =K5 -> M-44-24
C45: Stavba: | L45: =K6 -> Oprava kanalizace Hůrky
C47: Místo: | L47: =IF(K8="","",K8) -> Hůrky, m.č. Nová Bystřice | AI47: Datum: | AM47: =IF(AN8= "","",AN8) -> 24. 6. 2024
C49: Zadavatel: | L49: =IF(E11= "","",E11) -> Město Nová Bystřice | AI49: Projektant: | AM49: =IF(E17="","",E17) -> Ing. Martin Růžička | AS49: Informatívní údaje z listů zakázek
C50: Účastník: | L50: =IF(E14= "Vyplň údaj","",E14) | AI50: Zpracovatel: | AM50: =IF(E20="","",E20) -> Ing. Martin Růžička
C52: Kód | I52: Popis | AG52: Cena bez DPH [CZK] | AN52: Cena s DPH [CZK] | AQ52: Typ | AS52: z toho Ostat._x000D_ náklady [CZK] | AT52: DPH [CZK] | AU52: Normohodiny [h] | AV52: DPH základní [CZK] | AW52: DPH snížená [CZK] | AX52: DPH základní přenesená_x000D_ [CZK] | AY52: DPH snížená přenesená_x000D_ [CZK] | AZ52: Základna_x000D_ DPH základní | BA52: Základna_x000D_ DPH snížená | BB52: Základna_x000D_ DPH zákl. přenesená | BC52: Základna_x000D_ DPH sníž. přenesená | BD52: Základna_x000D_ DPH nulová
C54: Náklady stavby celkem | AG54: =ROUND(SUM(AG55:AG58),2) -> 0 | AN54: =SUM(AG54,AT54) -> 0 | AS54: =ROUND(SUM(AS55:AS58),2) -> 0 | AT54: =ROUND(SUM(AV54:AW54),2) -> 0 | AU54: =ROUND(SUM(AU55:AU58),5) -> 0 | AV54: =ROUND(AZ54*L29,2) -> 0 | AW54: =ROUND(BA54*L30,2) -> 0 | AX54: =ROUND(BB54*L29,2) -> 0 | AY54: =ROUND(BC54*L30,2) -> 0 | AZ54: =ROUND(SUM(AZ55:AZ58),2) -> 0 | BA54: =ROUND(SUM(BA55:BA58),2) -> 0 | BB54: =ROUND(SUM(BB55:BB58),2) -> 0 | BC54: =ROUND(SUM(BC55:BC58),2) -> 0 | BD54: =ROUND(SUM(BD55:BD58),2) -> 0 | BS54: D | BT54: 0 | BU54: ###NOIMPORT### | BV54: IMPORT | BW54: {13cc0181-7f2c-4efe-aa41-c2b1295eaf77} | BX54: {00000000-0000-0000-0000-000000000000}
A55: / | D55: 1 | J55: Oprava kanalizace | AG55: ='1 - Oprava kanalizace'!J30 -> 0 | AN55: =SUM(AG55,AT55) -> 0 | AQ55: STA | AS55: 0 | AT55: =ROUND(SUM(AV55:AW55),2) -> 0 | AU55: ='1 - Oprava kanalizace'!P88 -> 0 | AV55: ='1 - Oprava kanalizace'!J33 -> 0 | AW55: ='1 - Oprava kanalizace'!J34 -> 0 | AX55: ='1 - Oprava kanalizace'!J35 -> 0 | AY55: ='1 - Oprava kanalizace'!J36 -> 0 | AZ55: ='1 - Oprava kanalizace'!F33 -> 0 | BA55: ='1 - Oprava kanalizace'!F34 -> 0 | BB55: ='1 - Oprava kanalizace'!F35 -> 0 | BC55: ='1 - Oprava kanalizace'!F36 -> 0 | BD55: ='1 - Oprava kanalizace'!F37 -> 0 | BT55: 1 | BV55: IMPORT | BW55: {baf38a34-a076-4280-af06-3afad7992b96} | BX55: {13cc0181-7f2c-4efe-aa41-c2b1295eaf77} | CM55: 2
A56: / | D56: 2 | J56: Přípojky | AG56: ='2 - Přípojky'!J30 -> 0 | AN56: =SUM(AG56,AT56) -> 0 | AQ56: STA | AS56: 0 | AT56: =ROUND(SUM(AV56:AW56),2) -> 0 | AU56: ='2 - Přípojky'!P88 -> 0 | AV56: ='2 - Přípojky'!J33 -> 0 | AW56: ='2 - Přípojky'!J34 -> 0 | AX56: ='2 - Přípojky'!J35 -> 0 | AY56: ='2 - Přípojky'!J36 -> 0 | AZ56: ='2 - Přípojky'!F33 -> 0 | BA56: ='2 - Přípojky'!F34 -> 0 | BB56: ='2 - Přípojky'!F35 -> 0 | BC56: ='2 - Přípojky'!F36 -> 0 | BD56: ='2 - Přípojky'!F37 -> 0 | BT56: 1 | BV56: IMPORT | BW56: {cb26facc-2cf2-4e5d-9114-342791998be3} | BX56: {13cc0181-7f2c-4efe-aa41-c2b1295eaf77} | CM56: 2
A57: / | D57: 3 | J57: Oprava komunikace po roce | AG57: ='3 - Oprava komunikace po ...'!J30 -> 0 | AN57: =SUM(AG57,AT57) -> 0 | AQ57: STA | AS57: 0 | AT57: =ROUND(SUM(AV57:AW57),2) -> 0 | AU57: ='3 - Oprava komunikace po ...'!P85 -> 0 | AV57: ='3 - Oprava komunikace po ...'!J33 -> 0 | AW57: ='3 - Oprava komunikace po ...'!J34 -> 0 | AX57: ='3 - Oprava komunikace po ...'!J35 -> 0 | AY57: ='3 - Oprava komunikace po ...'!J36 -> 0 | AZ57: ='3 - Oprava komunikace po ...'!F33 -> 0 | BA57: ='3 - Oprava komunikace po ...'!F34 -> 0 | BB57: ='3 - Oprava komunikace po ...'!F35 -> 0 | BC57: ='3 - Oprava komunikace po ...'!F36 -> 0 | BD57: ='3 - Oprava komunikace po ...'!F37 -> 0 | BT57: 1 | BV57: IMPORT | BW57: {ad2fe162-4490-40f6-b44c-839859784478} | BX57: {13cc0181-7f2c-4efe-aa41-c2b1295eaf77} | CM57: 2
A58: / | D58: VON | J58: Vedlejší a ostatní náklady | AG58: ='VON - Vedlejší a ostatní ...'!J30 -> 0 | AN58: =SUM(AG58,AT58) -> 0 | AQ58: STA | AS58: 0 | AT58: =ROUND(SUM(AV58:AW58),2) -> 0 | AU58: ='VON - Vedlejší a ostatní ...'!P88 -> 0 | AV58: ='VON - Vedlejší a ostatní ...'!J33 -> 0 | AW58: ='VON - Vedlejší a ostatní ...'!J34 -> 0 | AX58: ='VON - Vedlejší a ostatní ...'!J35 -> 0 | AY58: ='VON - Vedlejší a ostatní ...'!J36 -> 0 | AZ58: ='VON - Vedlejší a ostatní ...'!F33 -> 0 | BA58: ='VON - Vedlejší a ostatní ...'!F34 -> 0 | BB58: ='VON - Vedlejší a ostatní ...'!F35 -> 0 | BC58: ='VON - Vedlejší a ostatní ...'!F36 -> 0 | BD58: ='VON - Vedlejší a ostatní ...'!F37 -> 0 | BT58: 1 | BV58: IMPORT | BW58: {2ec5b4c0-c271-49c0-846c-77fd7a17b739} | BX58: {13cc0181-7f2c-4efe-aa41-c2b1295eaf77} | CM58: 2

Sheet 1 - Oprava kanalizace
AT2: {baf38a34-a076-4280-af06-3afad7992b96} | AZ2: povrch_s | BA2: povrch komunikací nad stokou | BC2: 319,95 | BD2: 2
AT3: 2
D4: KRYCÍ LIST SOUPISU PRACÍ | M4: v --- níže se nacházejí doplnkové a pomocné údaje k sestavám --- v | AT4: False
D6: Stavba:
E7: ='Rekapitulace stavby'!K6 -> Oprava kanalizace Hůrky
D8: Objekt:
E9: 1 - Oprava kanalizace
D11: KSO: | I11: CC-CZ:
D12: Místo: | F12: Hůrky, m.č. Nová Bystřice | I12: Datum: | J12: ='Rekapitulace stavby'!AN8 -> 24. 6. 2024
D14: Zadavatel: | I14: IČ:
E15: Město Nová Bystřice | I15: DIČ:
D17: Účastník: | I17: IČ: | J17: ='Rekapitulace stavby'!AN13 -> Vyplň údaj
E18: ='Rekapitulace stavby'!E14 -> Vyplň údaj | I18: DIČ: | J18: ='Rekapitulace stavby'!AN14 -> Vyplň údaj
D20: Projektant: | I20: IČ:
E21: Ing. Martin Růžička | I21: DIČ:
D23: Zpracovatel: | I23: IČ:
E24: Ing. Martin Růžička | I24: DIČ:
D26: Poznámka:
D30: Cena bez DPH | J30: =ROUND(J88, 2) -> 0
F32: Základ daně | I32: Sazba daně | J32: Výše daně
D33: DPH | E33: základní | F33: =ROUND((SUM(BE88:BE271)), 2) -> 0 | I33: 0.21 | J33: =ROUND(((SUM(BE88:BE271))*I33), 2) -> 0
E34: snížená | F34: =ROUND((SUM(BF88:BF271)), 2) -> 0 | I34: 0.12 | J34: =ROUND(((SUM(BF88:BF271))*I34), 2) -> 0
E35: zákl. přenesená | F35: =ROUND((SUM(BG88:BG271)), 2) -> 0 | I35: 0.21 | J35: =0 -> 0
E36: sníž. přenesená | F36: =ROUND((SUM(BH88:BH271)), 2) -> 0 | I36: 0.12 | J36: =0 -> 0
E37: nulová | F37: =ROUND((SUM(BI88:BI271)), 2) -> 0 | I37: 0 | J37: =0 -> 0
D39: Cena s DPH | G39: v | H39: CZK | J39: =SUM(J30:J37) -> 0
C45: REKAPITULACE ČLENĚNÍ SOUPISU PRACÍ
C47: Stavba:
E48: =E7 -> Oprava kanalizace Hůrky
C49: Objekt:
E50: =E9 -> 1 - Oprava kanalizace
C52: Místo: | F52: =F12 -> Hůrky, m.č. Nová Bystřice | I52: Datum: | J52: =IF(J12="","",J12) -> 24. 6. 2024
C54: Zadavatel: | F54: =E15 -> Město Nová Bystřice | I54: Projektant: | J54: =E21 -> Ing. Martin Růžička
C55: Účastník: | F55: =IF(E18="","",E18) -> Vyplň údaj | I55: Zpracovatel: | J55: =E24 -> Ing. Martin Růžička
C57: Kód dílu - Popis | J57: Cena celkem [CZK]
C59: Náklady stavby celkem | J59: =J88 -> 0 | AU59: -1
D60: HSV - Práce a dodávky HSV | J60: =J89 -> 0
D61: 1 - Zemní práce | J61: =J90 -> 0
D62: 3 - Svislé a kompletní konstrukce | J62: =J135 -> 0
D63: 4 - Vodorovné konstrukce | J63: =J146 -> 0
D64: 5 - Komunikace pozemní | J64: =J152 -> 0
D65: 8 - Vedení trubní dálková a přípojná | J65: =J176 -> 0
D66: 9 - Ostatní konstrukce a práce, bourání | J66: =J231 -> 0
D67: 997 - Doprava suti a vybouraných hmot | J67: =J249 -> 0
D68: 998 - Přesun hmot | J68: =J265 -> 0
C75: SOUPIS PRACÍ
C77: Stavba:
E78: =E7 -> Oprava kanalizace Hůrky
C79: Objekt:
E80: =E9 -> 1 - Oprava kanalizace
C82: Místo: | F82: =F12 -> Hůrky, m.č. Nová Bystřice | I82: Datum: | J82: =IF(J12="","",J12) -> 24. 6. 2024
C84: Zadavatel: | F84: =E15 -> Město Nová Bystřice | I84: Projektant: | J84: =E21 -> Ing. Martin Růžička
C85: Účastník: | F85: =IF(E18="","",E18) -> Vyplň údaj | I85: Zpracovatel: | J85: =E24 -> Ing. Martin Růžička
C87: PČ | D87: Typ | E87: Kód | F87: Popis | G87: MJ | H87: Množství | I87: J.cena [CZK] | J87: Cena celkem [CZK] | K87: Cenová soustava | N87: DPH | O87: J. Nh [h] | P87: Nh celkem [h] | Q87: J. hmotnost [t] | R87: Hmotnost celkem [t] | S87: J. suť [t] | T87: Suť Celkem [t]
C88: Náklady soupisu celkem | J88: =BK88 -> 0 | P88: =P89 -> 0 | R88: =R89 -> 306.1423 | T88: =T89 -> 273.3497 | AT88: D | AU88: -1 | BK88: =BK89 -> 0
D89: D | E89: HSV | F89: Práce a dodávky HSV | J89: =BK89 -> 0 | P89: =P90+P135+P146+P152+P176+P231+P249+P265 -> 0 | R89: =R90+R135+R146+R152+R176+R231+R249+R265 -> 306.1423 | T89: =T90+T135+T146+T152+T176+T231+T249+T265 -> 273.3497 | AR89: 1 | AT89: D | AU89: 0 | AY89: ROZPOCET | BK89: =BK90+BK135+BK146+BK152+BK176+BK231+BK249+BK265 -> 0
D90: D | E90: 1 | F90: Zemní práce | J90: =BK90 -> 0 | P90: =SUM(P91:P134) -> 0 | R90: =SUM(R91:R134) -> 202.36792 | T90: =SUM(T91:T134) -> 211.2897 | AR90: 1 | AT90: D | AU90: 1 | AY90: ROZPOCET | BK90: =SUM(BK91:BK134) -> 0
C91: 1 | D91: K | E91: 113107222 | F91: Odstranění podkladů nebo krytů strojně plochy jednotlivě přes 200 m2 s přemístěním hmot na skládku na vzdálenost do 20 m nebo s naložením na dopravní prostředek z kameniva hrubého drceného, o tl. vrstvy přes 100 do 200 mm | G91: m2 | H91: 319.95 | J91: =ROUND(I91*H91,2) -> 0 | K91: CS ÚRS 2026 01 | N91: základní | P91: =O91*H91 -> 0 | Q91: 0 | R91: =Q91*H91 -> 0 | S91: 0.29 | T91: =S91*H91 -> 92.7855 | AR91: 4 | AT91: K | AU91: 2 | AY91: ROZPOCET | BE91: =IF(N91="základní",J91,0) -> 0 | BF91: =IF(N91="snížená",J91,0) -> 0 | BG91: =IF(N91="zákl. přenesená",J91,0) -> 0 | BH91: =IF(N91="sníž. přenesená",J91,0) -> 0 | BI91: =IF(N91="nulová",J91,0) -> 0 | BJ91: 1 | BK91: =ROUND(I91*H91,2) -> 0 | BL91: 4 | BM91: -1229229837
D92: Online PSC | F92: https://podminky.urs.cz/item/CS_URS_2026_01/113107222 | AT92: Online PSC | AU92: 2
D93: VV | E93: povrch_s | F93: 319,95 | H93: 319.95 | AT93: VV | AU93: 2 | AV93: 2 | AW93: True | AX93: 1 | AY93: ROZPOCET
C94: 2 | D94: K | E94: 113107243 | F94: Odstranění podkladů nebo krytů strojně plochy jednotlivě přes 200 m2 s přemístěním hmot na skládku na vzdálenost do 20 m nebo s naložením na dopravní prostředek živičných, o tl. vrstvy přes 100 do 150 mm | G94: m2 | H94: 319.95 | J94: =ROUND(I94*H94,2) -> 0 | K94: CS ÚRS 2026 01 | N94: základní | P94: =O94*H94 -> 0 | Q94: 0 | R94: =Q94*H94 -> 0 | S94: 0.316 | T94: =S94*H94 -> 101.1042 | AR94: 4 | AT94: K | AU94: 2 | AY94: ROZPOCET | BE94: =IF(N94="základní",J94,0) -> 0 | BF94: =IF(N94="snížená",J94,0) -> 0 | BG94: =IF(N94="zákl. přenesená",J94,0) -> 0 | BH94: =IF(N94="sníž. přenesená",J94,0) -> 0 | BI94: =IF(N94="nulová",J94,0) -> 0 | BJ94: 1 | BK94: =ROUND(I94*H94,2) -> 0 | BL94: 4 | BM94: -718108060
D95: Online PSC | F95: https://podminky.urs.cz/item/CS_URS_2026_01/113107243 | AT95: Online PSC | AU95: 2
D96: VV | F96: povrch_s | H96: 319.95 | AT96: VV | AU96: 2 | AV96: 2 | AW96: True | AX96: 1 | AY96: ROZPOCET
C97: 3 | D97: K | E97: 113201112 | F97: Vytrhání obrub s vybouráním lože, s přemístěním hmot na skládku na vzdálenost do 3 m nebo s naložením na dopravní prostředek silničních ležatých | G97: m | H97: 60 | J97: =ROUND(I97*H97,2) -> 0 | K97: CS ÚRS 2026 01 | N97: základní | P97: =O97*H97 -> 0 | Q97: 0 | R97: =Q97*H97 -> 0 | S97: 0.29 | T97: =S97*H97 -> 17.4 | AR97: 4 | AT97: K | AU97: 2 | AY97: ROZPOCET | BE97: =IF(N97="základní",J97,0) -> 0 | BF97: =IF(N97="snížená",J97,0) -> 0 | BG97: =IF(N97="zákl. přenesená",J97,0) -> 0 | BH97: =IF(N97="sníž. přenesená",J97,0) -> 0 | BI97: =IF(N97="nulová",J97,0) -> 0 | BJ97: 1 | BK97: =ROUND(I97*H97,2) -> 0 | BL97: 4 | BM97: -334182658
D98: Online PSC | F98: https://podminky.urs.cz/item/CS_URS_2026_01/113201112 | AT98: Online PSC | AU98: 2
D99: VV | F99: 60 | H99: 60 | AT99: VV | AU99: 2 | AV99: 2 | AW99: True | AX99: 1 | AY99: ROZPOCET
C100: 4 | D100: K | E100: 119001422 | F100: Dočasné zajištění podzemního potrubí nebo vedení ve výkopišti ve stavu i poloze, ve kterých byla na začátku zemních prací a to s podepřením, vzepřením nebo vyvěšením, případně s ochranným bedněním, se zřízením a odstraněním zajišťovací konstrukce, s opotřebením hmot kabelů a kabelových tratí z volně ložených kabelů a to přes 3 do 6 kabelů | G100: m | H100: 80 | J100: =ROUND(I100*H100,2) -> 0 | K100: CS ÚRS 2026 01 | N100: základní | P100: =O100*H100 -> 0 | Q100: 0.0605267 | R100: =Q100*H100 -> 4.842136 | S100: 0 | T100: =S100*H100 -> 0 | AR100: 4 | AT100: K | AU100: 2 | AY100: ROZPOCET | BE100: =IF(N100="základní",J100,0) -> 0 | BF100: =IF(N100="snížená",J100,0) -> 0 | BG100: =IF(N100="zákl. přenesená",J100,0) -> 0 | BH100: =IF(N100="sníž. přenesená",J100,0) -> 0 | BI100: =IF(N100="nulová",J100,0) -> 0 | BJ100: 1 | BK100: =ROUND(I100*H100,2) -> 0 | BL100: 4 | BM100: -1787997828
D101: Online PSC | F101: https://podminky.urs.cz/item/CS_URS_2026_01/119001422 | AT101: Online PSC | AU101: 2
D102: VV | F102: 80 | H102: 80 | AT102: VV | AU102: 2 | AV102: 2 | AW102: True | AX102: 1 | AY102: ROZPOCET
C103: 5 | D103: K | E103: 129001101 | F103: Příplatek k cenám vykopávek za ztížení vykopávky v blízkosti podzemního vedení nebo výbušnin v horninách jakékoliv třídy | G103: m3 | H103: 166.4 | J103: =ROUND(I103*H103,2) -> 0 | K103: CS ÚRS 2026 01 | N103: základní | P103: =O103*H103 -> 0 | Q103: 0 | R103: =Q103*H103 -> 0 | S103: 0 | T103: =S103*H103 -> 0 | AR103: 4 | AT103: K | AU103: 2 | AY103: ROZPOCET | BE103: =IF(N103="základní",J103,0) -> 0 | BF103: =IF(N103="snížená",J103,0) -> 0 | BG103: =IF(N103="zákl. přenesená",J103,0) -> 0 | BH103: =IF(N103="sníž. přenesená",J103,0) -> 0 | BI103: =IF(N103="nulová",J103,0) -> 0 | BJ103: 1 | BK103: =ROUND(I103*H103,2) -> 0 | BL103: 4 | BM103: 1357767093
D104: Online PSC | F104: https://podminky.urs.cz/item/CS_URS_2026_01/129001101 | AT104: Online PSC | AU104: 2
D105: VV | F105: 80*1,3*1,6 | H105: 166.4 | AT105: VV | AU105: 2 | AV105: 2 | AW105: True | AX105: 1 | AY105: ROZPOCET
C106: 6 | D106: K | E106: 132254205 | F106: Hloubení zapažených rýh šířky přes 800 do 2 000 mm strojně s urovnáním dna do předepsaného profilu a spádu v hornině třídy těžitelnosti I skupiny 3 přes 500 do 1 000 m3 | G106: m3 | H106: 592.03 | J106: =ROUND(I106*H106,2) -> 0 | K106: CS ÚRS 2026 01 | N106: základní | P106: =O106*H106 -> 0 | Q106: 0 | R106: =Q106*H106 -> 0 | S106: 0 | T106: =S106*H106 -> 0 | AR106: 4 | AT106: K | AU106: 2 | AY106: ROZPOCET | BE106: =IF(N106="základní",J106,0) -> 0 | BF106: =IF(N106="snížená",J106,0) -> 0 | BG106: =IF(N106="zákl. přenesená",J106,0) -> 0 | BH106: =IF(N106="sníž. přenesená",J106,0) -> 0 | BI106: =IF(N106="nulová",J106,0) -> 0 | BJ106: 1 | BK106: =ROUND(I106*H106,2) -> 0 | BL106: 4 | BM106: 463682677
D107: Online PSC | F107: https://podminky.urs.cz/item/CS_URS_2026_01/132254205 | AT107: Online PSC | AU107: 2
D108: VV | F108: 592,03 | H108: 592.03 | AT108: VV | AU108: 2 | AV108: 2 | AW108: True | AX108: 1 | AY108: ROZPOCET
C109: 7 | D109: K | E109: 133254103 | F109: Hloubení zapažených šachet strojně v hornině třídy těžitelnosti I skupiny 3 přes 50 do 100 m3 | G109: m3 | H109: 55.12 | J109: =ROUND(I109*H109,2) -> 0 | K109: CS ÚRS 2026 01 | N109: základní | P109: =O109*H109 -> 0 | Q109: 0 | R109: =Q109*H109 -> 0 | S109: 0 | T109: =S109*H109 -> 0 | AR109: 4 | AT109: K | AU109: 2 | AY109: ROZPOCET | BE109: =IF(N109="základní",J109,0) -> 0 | BF109: =IF(N109="snížená",J109,0) -> 0 | BG109: =IF(N109="zákl. přenesená",J109,0) -> 0 | BH109: =IF(N109="sníž. přenesená",J109,0) -> 0 | BI109: =IF(N109="nulová",J109,0) -> 0 | BJ109: 1 | BK109: =ROUND(I109*H109,2) -> 0 | BL109: 4 | BM109: 1790837411
D110: Online PSC | F110: https://podminky.urs.cz/item/CS_URS_2026_01/133254103 | AT110: Online PSC | AU110: 2
D111: VV | F111: 55,12 | H111: 55.12 | AT111: VV | AU111: 2 | AV111: 2 | AW111: True | AX111: 1 | AY111: ROZPOCET
C112: 8 | D112: K | E112: 151811131 | F112: Zřízení pažicích boxů pro pažení a rozepření stěn rýh podzemního vedení hloubka výkopu do 4 m, šířka do 1,2 m | G112: m2 | H112: 956 | J112: =ROUND(I112*H112,2) -> 0 | K112: CS ÚRS 2026 01 | N112: základní | P112: =O112*H112 -> 0 | Q112: 0.00058136 | R112: =Q112*H112 -> 0.55578016 | S112: 0 | T112: =S112*H112 -> 0 | AR112: 4 | AT112: K | AU112: 2 | AY112: ROZPOCET | BE112: =IF(N112="základní",J112,0) -> 0 | BF112: =IF(N112="snížená",J112,0) -> 0 | BG112: =IF(N112="zákl. přenesená",J112,0) -> 0 | BH112: =IF(N112="sníž. přenesená",J112,0) -> 0 | BI112: =IF(N112="nulová",J112,0) -> 0 | BJ112: 1 | BK112: =ROUND(I112*H112,2) -> 0 | BL112: 4 | BM112: 2116459417
D113: Online PSC | F113: https://podminky.urs.cz/item/CS_URS_2026_01/151811131 | AT113: Online PSC | AU113: 2
D114: VV | F114: 2*239*2,0 | H114: 956 | AT114: VV | AU114: 2 | AV114: 2 | AW114: True | AX114: 1 | AY114: ROZPOCET
C115: 9 | D115: K | E115: 151811231 | F115: Odstranění pažicích boxů pro pažení a rozepření stěn rýh podzemního vedení hloubka výkopu do 4 m, šířka do 1,2 m | G115: m2 | H115: 956 | J115: =ROUND(I115*H115,2) -> 0 | K115: CS ÚRS 2026 01 | N115: základní | P115: =O115*H115 -> 0 | Q115: 0 | R115: =Q115*H115 -> 0 | S115: 0 | T115: =S115*H115 -> 0 | AR115: 4 | AT115: K | AU115: 2 | AY115: ROZPOCET | BE115: =IF(N115="základní",J115,0) -> 0 | BF115: =IF(N115="snížená",J115,0) -> 0 | BG115: =IF(N115="zákl. přenesená",J115,0) -> 0 | BH115: =IF(N115="sníž. přenesená",J115,0) -> 0 | BI115: =IF(N115="nulová",J115,0) -> 0 | BJ115: 1 | BK115: =ROUND(I115*H115,2) -> 0 | BL115: 4 | BM115: 1575722616
D116: Online PSC | F116: https://podminky.urs.cz/item/CS_URS_2026_01/151811231 | AT116: Online PSC | AU116: 2
D117: VV | F117: 2*239*2,0 | H117: 956 | AT117: VV | AU117: 2 | AV117: 2 | AW117: True | AX117: 1 | AY117: ROZPOCET
C118: 10 | D118: K | E118: 162451106 | F118: Vodorovné přemístění výkopku nebo sypaniny po suchu na obvyklém dopravním prostředku, bez naložení výkopku, avšak se složením bez rozhrnutí z horniny třídy těžitelnosti I skupiny 1 až 3 na vzdálenost přes 1 500 do 2 000 m | G118: m3 | H118: 1184.06 | J118: =ROUND(I118*H118,2) -> 0 | K118: CS ÚRS 2026 01 | N118: základní | P118: =O118*H118 -> 0 | Q118: 0 | R118: =Q118*H118 -> 0 | S118: 0 | T118: =S118*H118 -> 0 | AR118: 4 | AT118: K | AU118: 2 | AY118: ROZPOCET | BE118: =IF(N118="základní",J118,0) -> 0 | BF118: =IF(N118="snížená",J118,0) -> 0 | BG118: =IF(N118="zákl. přenesená",J118,0) -> 0 | BH118: =IF(N118="sníž. přenesená",J118,0) -> 0 | BI118: =IF(N118="nulová",J118,0) -> 0 | BJ118: 1 | BK118: =ROUND(I118*H118,2) -> 0 | BL118: 4 | BM118: -502756955
D119: Online PSC | F119: https://podminky.urs.cz/item/CS_URS_2026_01/162451106 | AT119: Online PSC | AU119: 2
D120: VV | F120: 592,03*2 | H120: 1184.06 | AT120: VV | AU120: 2 | AV120: 2 | AW120: True | AX120: 1 | AY120: ROZPOCET
C121: 11 | D121: K | E121: 167151111 | F121: Nakládání, skládání a překládání neulehlého výkopku nebo sypaniny strojně nakládání, množství přes 100 m3, z hornin třídy těžitelnosti I, skupiny 1 až 3 | G121: m3 | H121: 592.03 | J121: =ROUND(I121*H121,2) -> 0 | K121: CS ÚRS 2026 01 | N121: základní | P121: =O121*H121 -> 0 | Q121: 0 | R121: =Q121*H121 -> 0 | S121: 0 | T121: =S121*H121 -> 0 | AR121: 4 | AT121: K | AU121: 2 | AY121: ROZPOCET | BE121: =IF(N121="základní",J121,0) -> 0 | BF121: =IF(N121="snížená",J121,0) -> 0 | BG121: =IF(N121="zákl. přenesená",J121,0) -> 0 | BH121: =IF(N121="sníž. přenesená",J121,0) -> 0 | BI121: =IF(N121="nulová",J121,0) -> 0 | BJ121: 1 | BK121: =ROUND(I121*H121,2) -> 0 | BL121: 4 | BM121: -13279578
D122: Online PSC | F122: https://podminky.urs.cz/item/CS_URS_2026_01/167151111 | AT122: Online PSC | AU122: 2
D123: VV | F123: 592,03 | H123: 592.03 | AT123: VV | AU123: 2 | AV123: 2 | AW123: True | AX123: 1 | AY123: ROZPOCET
C124: 12 | D124: K | E124: 171201231 | F124: Poplatek za předání zeminy a kamení recyklačnímu zařízení zatříděné do Katalogu odpadů pod kódem 17 05 04 | G124: t | H124: 260.988 | J124: =ROUND(I124*H124,2) -> 0 | K124: CS ÚRS 2026 01 | N124: základní | P124: =O124*H124 -> 0 | Q124: 0 | R124: =Q124*H124 -> 0 | S124: 0 | T124: =S124*H124 -> 0 | AR124: 4 | AT124: K | AU124: 2 | AY124: ROZPOCET | BE124: =IF(N124="základní",J124,0) -> 0 | BF124: =IF(N124="snížená",J124,0) -> 0 | BG124: =IF(N124="zákl. přenesená",J124,0) -> 0 | BH124: =IF(N124="sníž. přenesená",J124,0) -> 0 | BI124: =IF(N124="nulová",J124,0) -> 0 | BJ124: 1 | BK124: =ROUND(I124*H124,2) -> 0 | BL124: 4 | BM124: 833614725
D125: Online PSC | F125: https://podminky.urs.cz/item/CS_URS_2026_01/171201231 | AT125: Online PSC | AU125: 2
D126: VV | F126: (592,03-405,61)*1,4 | H126: 260.988 | AT126: VV | AU126: 2 | AV126: 2 | AW126: True | AX126: 1 | AY126: ROZPOCET
C127: 13 | D127: K | E127: 174111101 | F127: Zásyp sypaninou z jakékoliv horniny ručně s uložením výkopku ve vrstvách se zhutněním jam, šachet, rýh nebo kolem objektů v těchto vykopávkách | G127: m3 | H127: 405.61 | J127: =ROUND(I127*H127,2) -> 0 | K127: CS ÚRS 2026 01 | N127: základní | P127: =O127*H127 -> 0 | Q127: 0 | R127: =Q127*H127 -> 0 | S127: 0 | T127: =S127*H127 -> 0 | AR127: 4 | AT127: K | AU127: 2 | AY127: ROZPOCET | BE127: =IF(N127="základní",J127,0) -> 0 | BF127: =IF(N127="snížená",J127,0) -> 0 | BG127: =IF(N127="zákl. přenesená",J127,0) -> 0 | BH127: =IF(N127="sníž. přenesená",J127,0) -> 0 | BI127: =IF(N127="nulová",J127,0) -> 0 | BJ127: 1 | BK127: =ROUND(I127*H127,2) -> 0 | BL127: 4 | BM127: 643752398
D128: Online PSC | F128: https://podminky.urs.cz/item/CS_URS_2026_01/174111101 | AT128: Online PSC | AU128: 2
D129: VV | F129: 592,03-239*1,3*0,6 | H129: 405.61 | AT129: VV | AU129: 2 | AV129: 2 | AW129: True | AX129: 1 | AY129: ROZPOCET
C130: 14 | D130: K | E130: 175151101 | F130: Obsypání potrubí strojně sypaninou z vhodných hornin třídy těžitelnosti I a II, skupiny 1 až 4 nebo materiálem připraveným podél výkopu ve vzdálenosti do 3 m od jeho kraje, pro jakoukoliv hloubku výkopu a míru zhutnění bez prohození sypaniny | G130: m3 | H130: 140.693 | J130: =ROUND(I130*H130,2) -> 0 | K130: CS ÚRS 2026 01 | N130: základní | P130: =O130*H130 -> 0 | Q130: 0 | R130: =Q130*H130 -> 0 | S130: 0 | T130: =S130*H130 -> 0 | AR130: 4 | AT130: K | AU130: 2 | AY130: ROZPOCET | BE130: =IF(N130="základní",J130,0) -> 0 | BF130: =IF(N130="snížená",J130,0) -> 0 | BG130: =IF(N130="zákl. přenesená",J130,0) -> 0 | BH130: =IF(N130="sníž. přenesená",J130,0) -> 0 | BI130: =IF(N130="nulová",J130,0) -> 0 | BJ130: 1 | BK130: =ROUND(I130*H130,2) -> 0 | BL130: 4 | BM130: -1438597591
D131: Online PSC | F131: https://podminky.urs.cz/item/CS_URS_2026_01/175151101 | AT131: Online PSC | AU131: 2
D132: VV | F132: 239*1,2*0,7-2*pi*0,2*0,2*239 | H132: 140.693 | AT132: VV | AU132: 2 | AV132: 2 | AW132: True | AX132: 1 | AY132: ROZPOCET
C133: 15 | D133: M | E133: 58337331 | F133: štěrkopísek frakce 0/22 | G133: t | H133: 196.97 | J133: =ROUND(I133*H133,2) -> 0 | K133: CS ÚRS 2024 01 | N133: základní | P133: =O133*H133 -> 0 | Q133: 1 | R133: =Q133*H133 -> 196.97 | S133: 0 | T133: =S133*H133 -> 0 | AR133: 8 | AT133: M | AU133: 2 | AY133: ROZPOCET | BE133: =IF(N133="základní",J133,0) -> 0 | BF133: =IF(N133="snížená",J133,0) -> 0 | BG133: =IF(N133="zákl. přenesená",J133,0) -> 0 | BH133: =IF(N133="sníž. přenesená",J133,0) -> 0 | BI133: =IF(N133="nulová",J133,0) -> 0 | BJ133: 1 | BK133: =ROUND(I133*H133,2) -> 0 | BL133: 4 | BM133: 1321202345
...

Sheet 2 - Přípojky
AT2: {cb26facc-2cf2-4e5d-9114-342791998be3} | AZ2: délka_p | BA2: délka přípojek | BB2: m | BC2: 129,8 | BD2: 2
AT3: 2 | AZ3: plocha_p | BA3: plocha komunikace nad přípojkami | BC3: 103,84 | BD3: 2
D4: KRYCÍ LIST SOUPISU PRACÍ | M4: v --- níže se nacházejí doplnkové a pomocné údaje k sestavám --- v | AT4: False | AZ4: suť_bet | BA4: objem betonové suti | BC4: 8,156 | BD4: 2
D6: Stavba:
E7: ='Rekapitulace stavby'!K6 -> Oprava kanalizace Hůrky
D8: Objekt:
E9: 2 - Přípojky
D11: KSO: | I11: CC-CZ:
D12: Místo: | F12: Hůrky, m.č. Nová Bystřice | I12: Datum: | J12: ='Rekapitulace stavby'!AN8 -> 24. 6. 2024
D14: Zadavatel: | I14: IČ:
E15: Město Nová Bystřice | I15: DIČ:
D17: Účastník: | I17: IČ: | J17: ='Rekapitulace stavby'!AN13 -> Vyplň údaj
E18: ='Rekapitulace stavby'!E14 -> Vyplň údaj | I18: DIČ: | J18: ='Rekapitulace stavby'!AN14 -> Vyplň údaj
D20: Projektant: | I20: IČ:
E21: Ing. Martin Růžička | I21: DIČ:
D23: Zpracovatel: | I23: IČ:
E24: Ing. Martin Růžička | I24: DIČ:
D26: Poznámka:
D30: Cena bez DPH | J30: =ROUND(J88, 2) -> 0
F32: Základ daně | I32: Sazba daně | J32: Výše daně
D33: DPH | E33: základní | F33: =ROUND((SUM(BE88:BE238)), 2) -> 0 | I33: 0.21 | J33: =ROUND(((SUM(BE88:BE238))*I33), 2) -> 0
E34: snížená | F34: =ROUND((SUM(BF88:BF238)), 2) -> 0 | I34: 0.12 | J34: =ROUND(((SUM(BF88:BF238))*I34), 2) -> 0
E35: zákl. přenesená | F35: =ROUND((SUM(BG88:BG238)), 2) -> 0 | I35: 0.21 | J35: =0 -> 0
E36: sníž. přenesená | F36: =ROUND((SUM(BH88:BH238)), 2) -> 0 | I36: 0.12 | J36: =0 -> 0
E37: nulová | F37: =ROUND((SUM(BI88:BI238)), 2) -> 0 | I37: 0 | J37: =0 -> 0
D39: Cena s DPH | G39: v | H39: CZK | J39: =SUM(J30:J37) -> 0
C45: REKAPITULACE ČLENĚNÍ SOUPISU PRACÍ
C47: Stavba:
E48: =E7 -> Oprava kanalizace Hůrky
C49: Objekt:
E50: =E9 -> 2 - Přípojky
C52: Místo: | F52: =F12 -> Hůrky, m.č. Nová Bystřice | I52: Datum: | J52: =IF(J12="","",J12) -> 24. 6. 2024
C54: Zadavatel: | F54: =E15 -> Město Nová Bystřice | I54: Projektant: | J54: =E21 -> Ing. Martin Růžička
C55: Účastník: | F55: =IF(E18="","",E18) -> Vyplň údaj | I55: Zpracovatel: | J55: =E24 -> Ing. Martin Růžička
C57: Kód dílu - Popis | J57: Cena celkem [CZK]
C59: Náklady stavby celkem | J59: =J88 -> 0 | AU59: -1
D60: HSV - Práce a dodávky HSV | J60: =J89 -> 0
D61: 1 - Zemní práce | J61: =J90 -> 0
D62: 3 - Svislé a kompletní konstrukce | J62: =J126 -> 0
D63: 4 - Vodorovné konstrukce | J63: =J130 -> 0
D64: 5 - Komunikace pozemní | J64: =J134 -> 0
D65: 8 - Trubní vedení | J65: =J158 -> 0
D66: 9 - Ostatní konstrukce a práce, bourání | J66: =J209 -> 0
D67: 997 - Přesun sutě | J67: =J216 -> 0
D68: 998 - Přesun hmot | J68: =J232 -> 0
C75: SOUPIS PRACÍ
C77: Stavba:
E78: =E7 -> Oprava kanalizace Hůrky
C79: Objekt:
E80: =E9 -> 2 - Přípojky
C82: Místo: | F82: =F12 -> Hůrky, m.č. Nová Bystřice | I82: Datum: | J82: =IF(J12="","",J12) -> 24. 6. 2024
C84: Zadavatel: | F84: =E15 -> Město Nová Bystřice | I84: Projektant: | J84: =E21 -> Ing. Martin Růžička
C85: Účastník: | F85: =IF(E18="","",E18) -> Vyplň údaj | I85: Zpracovatel: | J85: =E24 -> Ing. Martin Růžička
C87: PČ | D87: Typ | E87: Kód | F87: Popis | G87: MJ | H87: Množství | I87: J.cena [CZK] | J87: Cena celkem [CZK] | K87: Cenová soustava | N87: DPH | O87: J. Nh [h] | P87: Nh celkem [h] | Q87: J. hmotnost [t] | R87: Hmotnost celkem [t] | S87: J. suť [t] | T87: Suť Celkem [t]
C88: Náklady soupisu celkem | J88: =BK88 -> 0 | P88: =P89 -> 0 | R88: =R89 -> 66.924721 | T88: =T89 -> 211.0856 | AT88: D | AU88: -1 | BK88: =BK89 -> 0
D89: D | E89: HSV | F89: Práce a dodávky HSV | J89: =BK89 -> 0 | P89: =P90+P126+P130+P134+P158+P209+P216+P232 -> 0 | R89: =R90+R126+R130+R134+R158+R209+R216+R232 -> 66.924721 | T89: =T90+T126+T130+T134+T158+T209+T216+T232 -> 211.0856 | AR89: 1 | AT89: D | AU89: 0 | AY89: ROZPOCET | BK89: =BK90+BK126+BK130+BK134+BK158+BK209+BK216+BK232 -> 0
D90: D | E90: 1 | F90: Zemní práce | J90: =BK90 -> 0 | P90: =SUM(P91:P125) -> 0 | R90: =SUM(R91:R125) -> 61.496382 | T90: =SUM(T91:T125) -> 193.1424 | AR90: 1 | AT90: D | AU90: 1 | AY90: ROZPOCET | BK90: =SUM(BK91:BK125) -> 0
C91: 1 | D91: K | E91: 113107523 | F91: Odstranění podkladů nebo krytů při překopech inženýrských sítí s přemístěním hmot na skládku ve vzdálenosti do 3 m nebo s naložením na dopravní prostředek strojně plochy jednotlivě přes 15 m2 z kameniva hrubého drceného, o tl. vrstvy přes 200 do 300 mm | G91: m2 | H91: 103.84 | J91: =ROUND(I91*H91,2) -> 0 | K91: CS ÚRS 2026 01 | N91: základní | P91: =O91*H91 -> 0 | Q91: 0 | R91: =Q91*H91 -> 0 | S91: 0.44 | T91: =S91*H91 -> 45.6896 | AR91: 4 | AT91: K | AU91: 2 | AY91: ROZPOCET | BE91: =IF(N91="základní",J91,0) -> 0 | BF91: =IF(N91="snížená",J91,0) -> 0 | BG91: =IF(N91="zákl. přenesená",J91,0) -> 0 | BH91: =IF(N91="sníž. přenesená",J91,0) -> 0 | BI91: =IF(N91="nulová",J91,0) -> 0 | BJ91: 1 | BK91: =ROUND(I91*H91,2) -> 0 | BL91: 4 | BM91: -1484582444
D92: Online PSC | F92: https://podminky.urs.cz/item/CS_URS_2026_01/113107523 | AT92: Online PSC | AU92: 2
D93: VV | E93: plocha_p | F93: (98,1+31,7)*0,8 | H93: 103.84 | AT93: VV | AU93: 2 | AV93: 2 | AW93: True | AX93: 1 | AY93: ROZPOCET
C94: 2 | D94: K | E94: 113107525 | F94: Odstranění podkladů nebo krytů při překopech inženýrských sítí s přemístěním hmot na skládku ve vzdálenosti do 3 m nebo s naložením na dopravní prostředek strojně plochy jednotlivě přes 15 m2 z kameniva hrubého drceného, o tl. vrstvy přes 400 do 500 mm | G94: m2 | H94: 103.84 | J94: =ROUND(I94*H94,2) -> 0 | K94: CS ÚRS 2026 01 | N94: základní | P94: =O94*H94 -> 0 | Q94: 0 | R94: =Q94*H94 -> 0 | S94: 0.75 | T94: =S94*H94 -> 77.88 | AR94: 4 | AT94: K | AU94: 2 | AY94: ROZPOCET | BE94: =IF(N94="základní",J94,0) -> 0 | BF94: =IF(N94="snížená",J94,0) -> 0 | BG94: =IF(N94="zákl. přenesená",J94,0) -> 0 | BH94: =IF(N94="sníž. přenesená",J94,0) -> 0 | BI94: =IF(N94="nulová",J94,0) -> 0 | BJ94: 1 | BK94: =ROUND(I94*H94,2) -> 0 | BL94: 4 | BM94: 908241670
D95: Online PSC | F95: https://podminky.urs.cz/item/CS_URS_2026_01/113107525 | AT95: Online PSC | AU95: 2
D96: VV | F96: plocha_p | H96: 103.84 | AT96: VV | AU96: 2 | AV96: 2 | AW96: True | AX96: 1 | AY96: ROZPOCET
C97: 3 | D97: K | E97: 113107542 | F97: Odstranění podkladů nebo krytů při překopech inženýrských sítí s přemístěním hmot na skládku ve vzdálenosti do 3 m nebo s naložením na dopravní prostředek strojně plochy jednotlivě přes 15 m2 živičných, o tl. vrstvy přes 50 do 100 mm | G97: m2 | H97: 103.84 | J97: =ROUND(I97*H97,2) -> 0 | K97: CS ÚRS 2026 01 | N97: základní | P97: =O97*H97 -> 0 | Q97: 0 | R97: =Q97*H97 -> 0 | S97: 0.22 | T97: =S97*H97 -> 22.8448 | AR97: 4 | AT97: K | AU97: 2 | AY97: ROZPOCET | BE97: =IF(N97="základní",J97,0) -> 0 | BF97: =IF(N97="snížená",J97,0) -> 0 | BG97: =IF(N97="zákl. přenesená",J97,0) -> 0 | BH97: =IF(N97="sníž. přenesená",J97,0) -> 0 | BI97: =IF(N97="nulová",J97,0) -> 0 | BJ97: 1 | BK97: =ROUND(I97*H97,2) -> 0 | BL97: 4 | BM97: -784493846
D98: Online PSC | F98: https://podminky.urs.cz/item/CS_URS_2026_01/113107542 | AT98: Online PSC | AU98: 2
D99: VV | F99: plocha_p | H99: 103.84 | AT99: VV | AU99: 2 | AV99: 2 | AW99: True | AX99: 1 | AY99: ROZPOCET
C100: 4 | D100: K | E100: 113107544 | F100: Odstranění podkladů nebo krytů při překopech inženýrských sítí s přemístěním hmot na skládku ve vzdálenosti do 3 m nebo s naložením na dopravní prostředek strojně plochy jednotlivě přes 15 m2 živičných, o tl. vrstvy přes 150 do 200 mm | G100: m2 | H100: 103.84 | J100: =ROUND(I100*H100,2) -> 0 | K100: CS ÚRS 2026 01 | N100: základní | P100: =O100*H100 -> 0 | Q100: 0 | R100: =Q100*H100 -> 0 | S100: 0.45 | T100: =S100*H100 -> 46.728 | AR100: 4 | AT100: K | AU100: 2 | AY100: ROZPOCET | BE100: =IF(N100="základní",J100,0) -> 0 | BF100: =IF(N100="snížená",J100,0) -> 0 | BG100: =IF(N100="zákl. přenesená",J100,0) -> 0 | BH100: =IF(N100="sníž. přenesená",J100,0) -> 0 | BI100: =IF(N100="nulová",J100,0) -> 0 | BJ100: 1 | BK100: =ROUND(I100*H100,2) -> 0 | BL100: 4 | BM100: -2130257683
D101: Online PSC | F101: https://podminky.urs.cz/item/CS_URS_2026_01/113107544 | AT101: Online PSC | AU101: 2
D102: VV | F102: plocha_p | H102: 103.84 | AT102: VV | AU102: 2 | AV102: 2 | AW102: True | AX102: 1 | AY102: ROZPOCET
C103: 5 | D103: K | E103: 132254101 | F103: Hloubení zapažených rýh šířky do 800 mm strojně s urovnáním dna do předepsaného profilu a spádu v hornině třídy těžitelnosti I skupiny 3 do 20 m3 | G103: m3 | H103: 155.76 | J103: =ROUND(I103*H103,2) -> 0 | K103: CS ÚRS 2026 01 | N103: základní | P103: =O103*H103 -> 0 | Q103: 0 | R103: =Q103*H103 -> 0 | S103: 0 | T103: =S103*H103 -> 0 | AR103: 4 | AT103: K | AU103: 2 | AY103: ROZPOCET | BE103: =IF(N103="základní",J103,0) -> 0 | BF103: =IF(N103="snížená",J103,0) -> 0 | BG103: =IF(N103="zákl. přenesená",J103,0) -> 0 | BH103: =IF(N103="sníž. přenesená",J103,0) -> 0 | BI103: =IF(N103="nulová",J103,0) -> 0 | BJ103: 1 | BK103: =ROUND(I103*H103,2) -> 0 | BL103: 4 | BM103: -1774180614
D104: Online PSC | F104: https://podminky.urs.cz/item/CS_URS_2026_01/132254101 | AT104: Online PSC | AU104: 2
D105: VV | F105: plocha_p*1,5 | H105: 155.76 | AT105: VV | AU105: 2 | AV105: 2 | AW105: True | AX105: 1 | AY105: ROZPOCET
C106: 6 | D106: K | E106: 151811131 | F106: Zřízení pažicích boxů pro pažení a rozepření stěn rýh podzemního vedení hloubka výkopu do 4 m, šířka do 1,2 m | G106: m2 | H106: 389.4 | J106: =ROUND(I106*H106,2) -> 0 | K106: CS ÚRS 2026 01 | N106: základní | P106: =O106*H106 -> 0 | Q106: 0.00058136 | R106: =Q106*H106 -> 0.22638158 | S106: 0 | T106: =S106*H106 -> 0 | AR106: 4 | AT106: K | AU106: 2 | AY106: ROZPOCET | BE106: =IF(N106="základní",J106,0) -> 0 | BF106: =IF(N106="snížená",J106,0) -> 0 | BG106: =IF(N106="zákl. přenesená",J106,0) -> 0 | BH106: =IF(N106="sníž. přenesená",J106,0) -> 0 | BI106: =IF(N106="nulová",J106,0) -> 0 | BJ106: 1 | BK106: =ROUND(I106*H106,2) -> 0 | BL106: 4 | BM106: 52162593
D107: Online PSC | F107: https://podminky.urs.cz/item/CS_URS_2026_01/151811131 | AT107: Online PSC | AU107: 2
D108: VV | F108: 2*(98,1+31,7)*1,5 | H108: 389.4 | AT108: VV | AU108: 2 | AV108: 2 | AW108: True | AX108: 1 | AY108: ROZPOCET
C109: 7 | D109: K | E109: 151811231 | F109: Odstranění pažicích boxů pro pažení a rozepření stěn rýh podzemního vedení hloubka výkopu do 4 m, šířka do 1,2 m | G109: m2 | H109: 389.4 | J109: =ROUND(I109*H109,2) -> 0 | K109: CS ÚRS 2026 01 | N109: základní | P109: =O109*H109 -> 0 | Q109: 0 | R109: =Q109*H109 -> 0 | S109: 0 | T109: =S109*H109 -> 0 | AR109: 4 | AT109: K | AU109: 2 | AY109: ROZPOCET | BE109: =IF(N109="základní",J109,0) -> 0 | BF109: =IF(N109="snížená",J109,0) -> 0 | BG109: =IF(N109="zákl. přenesená",J109,0) -> 0 | BH109: =IF(N109="sníž. přenesená",J109,0) -> 0 | BI109: =IF(N109="nulová",J109,0) -> 0 | BJ109: 1 | BK109: =ROUND(I109*H109,2) -> 0 | BL109: 4 | BM109: -570253681
D110: Online PSC | F110: https://podminky.urs.cz/item/CS_URS_2026_01/151811231 | AT110: Online PSC | AU110: 2
D111: VV | F111: 2*(98,1+31,7)*1,5 | H111: 389.4 | AT111: VV | AU111: 2 | AV111: 2 | AW111: True | AX111: 1 | AY111: ROZPOCET
C112: 8 | D112: K | E112: 162351104 | F112: Vodorovné přemístění výkopku nebo sypaniny po suchu na obvyklém dopravním prostředku, bez naložení výkopku, avšak se složením bez rozhrnutí z horniny třídy těžitelnosti I skupiny 1 až 3 na vzdálenost přes 500 do 1 000 m | G112: m3 | H112: 155.76 | J112: =ROUND(I112*H112,2) -> 0 | K112: CS ÚRS 2026 01 | N112: základní | P112: =O112*H112 -> 0 | Q112: 0 | R112: =Q112*H112 -> 0 | S112: 0 | T112: =S112*H112 -> 0 | AR112: 4 | AT112: K | AU112: 2 | AY112: ROZPOCET | BE112: =IF(N112="základní",J112,0) -> 0 | BF112: =IF(N112="snížená",J112,0) -> 0 | BG112: =IF(N112="zákl. přenesená",J112,0) -> 0 | BH112: =IF(N112="sníž. přenesená",J112,0) -> 0 | BI112: =IF(N112="nulová",J112,0) -> 0 | BJ112: 1 | BK112: =ROUND(I112*H112,2) -> 0 | BL112: 4 | BM112: -81486223
D113: Online PSC | F113: https://podminky.urs.cz/item/CS_URS_2026_01/162351104 | AT113: Online PSC | AU113: 2
D114: VV | F114: plocha_p*1,5 | H114: 155.76 | AT114: VV | AU114: 2 | AV114: 2 | AW114: True | AX114: 1 | AY114: ROZPOCET
C115: 9 | D115: K | E115: 171151103 | F115: Uložení sypanin do násypů strojně s rozprostřením sypaniny ve vrstvách a s hrubým urovnáním zhutněných z hornin soudržných jakékoliv třídy těžitelnosti | G115: m3 | H115: 155.76 | J115: =ROUND(I115*H115,2) -> 0 | K115: CS ÚRS 2026 01 | N115: základní | P115: =O115*H115 -> 0 | Q115: 0 | R115: =Q115*H115 -> 0 | S115: 0 | T115: =S115*H115 -> 0 | AR115: 4 | AT115: K | AU115: 2 | AY115: ROZPOCET | BE115: =IF(N115="základní",J115,0) -> 0 | BF115: =IF(N115="snížená",J115,0) -> 0 | BG115: =IF(N115="zákl. přenesená",J115,0) -> 0 | BH115: =IF(N115="sníž. přenesená",J115,0) -> 0 | BI115: =IF(N115="nulová",J115,0) -> 0 | BJ115: 1 | BK115: =ROUND(I115*H115,2) -> 0 | BL115: 4 | BM115: 1902099429
D116: Online PSC | F116: https://podminky.urs.cz/item/CS_URS_2026_01/171151103 | AT116: Online PSC | AU116: 2
D117: VV | F117: plocha_p*1,5 | H117: 155.76 | AT117: VV | AU117: 2 | AV117: 2 | AW117: True | AX117: 1 | AY117: ROZPOCET
C118: 10 | D118: K | E118: 174151101 | F118: Zásyp sypaninou z jakékoliv horniny strojně s uložením výkopku ve vrstvách se zhutněním jam, šachet, rýh nebo kolem objektů v těchto vykopávkách | G118: m3 | H118: 155.76 | J118: =ROUND(I118*H118,2) -> 0 | K118: CS ÚRS 2026 01 | N118: základní | P118: =O118*H118 -> 0 | Q118: 0 | R118: =Q118*H118 -> 0 | S118: 0 | T118: =S118*H118 -> 0 | AR118: 4 | AT118: K | AU118: 2 | AY118: ROZPOCET | BE118: =IF(N118="základní",J118,0) -> 0 | BF118: =IF(N118="snížená",J118,0) -> 0 | BG118: =IF(N118="zákl. přenesená",J118,0) -> 0 | BH118: =IF(N118="sníž. přenesená",J118,0) -> 0 | BI118: =IF(N118="nulová",J118,0) -> 0 | BJ118: 1 | BK118: =ROUND(I118*H118,2) -> 0 | BL118: 4 | BM118: 1558849103
D119: Online PSC | F119: https://podminky.urs.cz/item/CS_URS_2026_01/174151101 | AT119: Online PSC | AU119: 2
D120: VV | F120: plocha_p*1,5 | H120: 155.76 | AT120: VV | AU120: 2 | AV120: 2 | AW120: True | AX120: 1 | AY120: ROZPOCET
C121: 11 | D121: K | E121: 175151101 | F121: Obsypání potrubí strojně sypaninou z vhodných hornin třídy těžitelnosti I a II, skupiny 1 až 4 nebo materiálem připraveným podél výkopu ve vzdálenosti do 3 m od jeho kraje, pro jakoukoliv hloubku výkopu a míru zhutnění bez prohození sypaniny | G121: m3 | H121: 43.764 | J121: =ROUND(I121*H121,2) -> 0 | K121: CS ÚRS 2026 01 | N121: základní | P121: =O121*H121 -> 0 | Q121: 0 | R121: =Q121*H121 -> 0 | S121: 0 | T121: =S121*H121 -> 0 | AR121: 4 | AT121: K | AU121: 2 | AY121: ROZPOCET | BE121: =IF(N121="základní",J121,0) -> 0 | BF121: =IF(N121="snížená",J121,0) -> 0 | BG121: =IF(N121="zákl. přenesená",J121,0) -> 0 | BH121: =IF(N121="sníž. přenesená",J121,0) -> 0 | BI121: =IF(N121="nulová",J121,0) -> 0 | BJ121: 1 | BK121: =ROUND(I121*H121,2) -> 0 | BL121: 4 | BM121: 749011134
D122: Online PSC | F122: https://podminky.urs.cz/item/CS_URS_2026_01/175151101 | AT122: Online PSC | AU122: 2
D123: VV | E123: obsyp_p | F123: plocha_p*0,5-(98,1+31,7)*2*0,1*0,1*pi | H123: 43.764 | AT123: VV | AU123: 2 | AV123: 2 | AW123: True | AX123: 1 | AY123: ROZPOCET
C124: 12 | D124: M | E124: 58337331 | F124: štěrkopísek frakce 0/22 | G124: t | H124: 61.27 | J124: =ROUND(I124*H124,2) -> 0 | K124: CS ÚRS 2026 01 | N124: základní | P124: =O124*H124 -> 0 | Q124: 1 | R124: =Q124*H124 -> 61.27 | S124: 0 | T124: =S124*H124 -> 0 | AR124: 8 | AT124: M | AU124: 2 | AY124: ROZPOCET | BE124: =IF(N124="základní",J124,0) -> 0 | BF124: =IF(N124="snížená",J124,0) -> 0 | BG124: =IF(N124="zákl. přenesená",J124,0) -> 0 | BH124: =IF(N124="sníž. přenesená",J124,0) -> 0 | BI124: =IF(N124="nulová",J124,0) -> 0 | BJ124: 1 | BK124: =ROUND(I124*H124,2) -> 0 | BL124: 4 | BM124: -75424693
D125: VV | F125: 43,764*1,4 'Přepočtené koeficientem množství | H125: 61.27 | AT125: VV | AU125: 2 | AV125: 2 | AW125: False | AX125: 1 | AY125: ROZPOCET
D126: D | E126: 3 | F126: Svislé a kompletní konstrukce | J126: =BK126 -> 0 | P126: =SUM(P127:P129) -> 0 | R126: =SUM(R127:R129) -> 0 | T126: =SUM(T127:T129) -> 17.9432 | AR126: 1 | AT126: D | AU126: 1 | AY126: ROZPOCET | BK126: =SUM(BK127:BK129) -> 0
C127: 13 | D127: K | E127: 358315114 | F127: Bourání stoky kompletní nebo vybourání otvorů průřezové plochy do 4 m2 ve stokách ze zdiva z prostého betonu | G127: m3 | H127: 8.156 | J127: =ROUND(I127*H127,2) -> 0 | K127: CS ÚRS 2026 01 | N127: základní | P127: =O127*H127 -> 0 | Q127: 0 | R127: =Q127*H127 -> 0 | S127: 2.2 | T127: =S127*H127 -> 17.9432 | AR127: 4 | AT127: K | AU127: 2 | AY127: ROZPOCET | BE127: =IF(N127="základní",J127,0) -> 0 | BF127: =IF(N127="snížená",J127,0) -> 0 | BG127: =IF(N127="zákl. přenesená",J127,0) -> 0 | BH127: =IF(N127="sníž. přenesená",J127,0) -> 0 | BI127: =IF(N127="nulová",J127,0) -> 0 | BJ127: 1 | BK127: =ROUND(I127*H127,2) -> 0 | BL127: 4 | BM127: -1482330507
D128: Online PSC | F128: https://podminky.urs.cz/item/CS_URS_2026_01/358315114 | AT128: Online PSC | AU128: 2
D129: VV | E129: suť_bet | F129: 2*pi*0,1*0,1*délka_p | H129: 8.156 | AT129: VV | AU129: 2 | AV129: 2 | AW129: True | AX129: 1 | AY129: ROZPOCET
D130: D | E130: 4 | F130: Vodorovné konstrukce | J130: =BK130 -> 0 | P130: =SUM(P131:P133) -> 0 | R130: =SUM(R131:R133) -> 0 | T130: =SUM(T131:T133) -> 0 | AR130: 1 | AT130: D | AU130: 1 | AY130: ROZPOCET | BK130: =SUM(BK131:BK133) -> 0
C131: 14 | D131: K | E131: 451572111 | F131: Lože pod potrubí, stoky a drobné objekty v otevřeném výkopu z kameniva drobného těženého 0 až 4 mm | G131: m3 | H131: 10.384 | J131: =ROUND(I131*H131,2) -> 0 | K131: CS ÚRS 2026 01 | N131: základní | P131: =O131*H131 -> 0 | Q131: 0 | R131: =Q131*H131 -> 0 | S131: 0 | T131: =S131*H131 -> 0 | AR131: 4 | AT131: K | AU131: 2 | AY131: ROZPOCET | BE131: =IF(N131="základní",J131,0) -> 0 | BF131: =IF(N131="snížená",J131,0) -> 0 | BG131: =IF(N131="zákl. přenesená",J131,0) -> 0 | BH131: =IF(N131="sníž. přenesená",J131,0) -> 0 | BI131: =IF(N131="nulová",J131,0) -> 0 | BJ131: 1 | BK131: =ROUND(I131*H131,2) -> 0 | BL131: 4 | BM131: 1317076582
D132: Online PSC | F132: https://podminky.urs.cz/item/CS_URS_2026_01/451572111 | AT132: Online PSC | AU132: 2
D133: VV | F133: plocha_p*0,1 | H133: 10.384 | AT133: VV | AU133: 2 | AV133: 2 | AW133: True | AX133: 1 | AY133: ROZPOCET
...

Sheet 3 - Oprava komunikace po ...
AT2: {ad2fe162-4490-40f6-b44c-839859784478}
AT3: 2
D4: KRYCÍ LIST SOUPISU PRACÍ | M4: v --- níže se nacházejí doplnkové a pomocné údaje k sestavám --- v | AT4: False
D6: Stavba:
E7: ='Rekapitulace stavby'!K6 -> Oprava kanalizace Hůrky
D8: Objekt:
E9: 3 - Oprava komunikace po roce
D11: KSO: | I11: CC-CZ:
D12: Místo: | F12: Hůrky, m.č. Nová Bystřice | I12: Datum: | J12: ='Rekapitulace stavby'!AN8 -> 24. 6. 2024
D14: Zadavatel: | I14: IČ:
E15: Město Nová Bystřice | I15: DIČ:
D17: Účastník: | I17: IČ: | J17: ='Rekapitulace stavby'!AN13 -> Vyplň údaj
E18: ='Rekapitulace stavby'!E14 -> Vyplň údaj | I18: DIČ: | J18: ='Rekapitulace stavby'!AN14 -> Vyplň údaj
D20: Projektant: | I20: IČ:
E21: Ing. Martin Růžička | I21: DIČ:
D23: Zpracovatel: | I23: IČ:
E24: Ing. Martin Růžička | I24: DIČ:
D26: Poznámka:
D30: Cena bez DPH | J30: =ROUND(J85, 2) -> 0
F32: Základ daně | I32: Sazba daně | J32: Výše daně
D33: DPH | E33: základní | F33: =ROUND((SUM(BE85:BE118)), 2) -> 0 | I33: 0.21 | J33: =ROUND(((SUM(BE85:BE118))*I33), 2) -> 0
E34: snížená | F34: =ROUND((SUM(BF85:BF118)), 2) -> 0 | I34: 0.12 | J34: =ROUND(((SUM(BF85:BF118))*I34), 2) -> 0
E35: zákl. přenesená | F35: =ROUND((SUM(BG85:BG118)), 2) -> 0 | I35: 0.21 | J35: =0 -> 0
E36: sníž. přenesená | F36: =ROUND((SUM(BH85:BH118)), 2) -> 0 | I36: 0.12 | J36: =0 -> 0
E37: nulová | F37: =ROUND((SUM(BI85:BI118)), 2) -> 0 | I37: 0 | J37: =0 -> 0
D39: Cena s DPH | G39: v | H39: CZK | J39: =SUM(J30:J37) -> 0
C45: REKAPITULACE ČLENĚNÍ SOUPISU PRACÍ
C47: Stavba:
E48: =E7 -> Oprava kanalizace Hůrky
C49: Objekt:
E50: =E9 -> 3 - Oprava komunikace po roce
C52: Místo: | F52: =F12 -> Hůrky, m.č. Nová Bystřice | I52: Datum: | J52: =IF(J12="","",J12) -> 24. 6. 2024
C54: Zadavatel: | F54: =E15 -> Město Nová Bystřice | I54: Projektant: | J54: =E21 -> Ing. Martin Růžička
C55: Účastník: | F55: =IF(E18="","",E18) -> Vyplň údaj | I55: Zpracovatel: | J55: =E24 -> Ing. Martin Růžička
C57: Kód dílu - Popis | J57: Cena celkem [CZK]
C59: Náklady stavby celkem | J59: =J85 -> 0 | AU59: -1
D60: HSV - Práce a dodávky HSV | J60: =J86 -> 0
D61: 1 - Zemní práce | J61: =J87 -> 0
D62: 5 - Komunikace pozemní | J62: =J90 -> 0
D63: 9 - Ostatní konstrukce a práce, bourání | J63: =J96 -> 0
D64: 997 - Přesun sutě | J64: =J106 -> 0
D65: 998 - Přesun hmot | J65: =J116 -> 0
C72: SOUPIS PRACÍ
C74: Stavba:
E75: =E7 -> Oprava kanalizace Hůrky
C76: Objekt:
E77: =E9 -> 3 - Oprava komunikace po roce
C79: Místo: | F79: =F12 -> Hůrky, m.č. Nová Bystřice | I79: Datum: | J79: =IF(J12="","",J12) -> 24. 6. 2024
C81: Zadavatel: | F81: =E15 -> Město Nová Bystřice | I81: Projektant: | J81: =E21 -> Ing. Martin Růžička
C82: Účastník: | F82: =IF(E18="","",E18) -> Vyplň údaj | I82: Zpracovatel: | J82: =E24 -> Ing. Martin Růžička
C84: PČ | D84: Typ | E84: Kód | F84: Popis | G84: MJ | H84: Množství | I84: J.cena [CZK] | J84: Cena celkem [CZK] | K84: Cenová soustava | N84: DPH | O84: J. Nh [h] | P84: Nh celkem [h] | Q84: J. hmotnost [t] | R84: Hmotnost celkem [t] | S84: J. suť [t] | T84: Suť Celkem [t]
C85: Náklady soupisu celkem | J85: =BK85 -> 0 | P85: =P86 -> 0 | R85: =R86 -> 111.13127 | T85: =T86 -> 76.912 | AT85: D | AU85: -1 | BK85: =BK86 -> 0
D86: D | E86: HSV | F86: Práce a dodávky HSV | J86: =BK86 -> 0 | P86: =P87+P90+P96+P106+P116 -> 0 | R86: =R87+R90+R96+R106+R116 -> 111.13127 | T86: =T87+T90+T96+T106+T116 -> 76.912 | AR86: 1 | AT86: D | AU86: 0 | AY86: ROZPOCET | BK86: =BK87+BK90+BK96+BK106+BK116 -> 0
D87: D | E87: 1 | F87: Zemní práce | J87: =BK87 -> 0 | P87: =SUM(P88:P89) -> 0 | R87: =SUM(R88:R89) -> 0.00955548 | T87: =SUM(T88:T89) -> 76.912 | AR87: 1 | AT87: D | AU87: 1 | AY87: ROZPOCET | BK87: =SUM(BK88:BK89) -> 0
C88: 1 | D88: K | E88: 113154532 | F88: Frézování živičného podkladu nebo krytu s naložením hmot na dopravní prostředek plochy přes 500 do 2 000 m2 pruhu šířky do 1 m, tloušťky vrstvy 40 mm | G88: m2 | H88: 836 | J88: =ROUND(I88*H88,2) -> 0 | K88: CS ÚRS 2026 01 | N88: základní | P88: =O88*H88 -> 0 | Q88: 1.143e-05 | R88: =Q88*H88 -> 0.00955548 | S88: 0.092 | T88: =S88*H88 -> 76.912 | AR88: 4 | AT88: K | AU88: 2 | AY88: ROZPOCET | BE88: =IF(N88="základní",J88,0) -> 0 | BF88: =IF(N88="snížená",J88,0) -> 0 | BG88: =IF(N88="zákl. přenesená",J88,0) -> 0 | BH88: =IF(N88="sníž. přenesená",J88,0) -> 0 | BI88: =IF(N88="nulová",J88,0) -> 0 | BJ88: 1 | BK88: =ROUND(I88*H88,2) -> 0 | BL88: 4 | BM88: -1978630947
D89: Online PSC | F89: https://podminky.urs.cz/item/CS_URS_2026_01/113154532 | AT89: Online PSC | AU89: 2
D90: D | E90: 5 | F90: Komunikace pozemní | J90: =BK90 -> 0 | P90: =SUM(P91:P95) -> 0 | R90: =SUM(R91:R95) -> 86.71828 | T90: =SUM(T91:T95) -> 0 | AR90: 1 | AT90: D | AU90: 1 | AY90: ROZPOCET | BK90: =SUM(BK91:BK95) -> 0
C91: 2 | D91: K | E91: 573211107 | F91: Postřik spojovací PS bez posypu kamenivem z asfaltu silničního, v množství 0,30 kg/m2 | G91: m2 | H91: 836 | J91: =ROUND(I91*H91,2) -> 0 | K91: CS ÚRS 2026 01 | N91: základní | P91: =O91*H91 -> 0 | Q91: 0 | R91: =Q91*H91 -> 0 | S91: 0 | T91: =S91*H91 -> 0 | AR91: 4 | AT91: K | AU91: 2 | AY91: ROZPOCET | BE91: =IF(N91="základní",J91,0) -> 0 | BF91: =IF(N91="snížená",J91,0) -> 0 | BG91: =IF(N91="zákl. přenesená",J91,0) -> 0 | BH91: =IF(N91="sníž. přenesená",J91,0) -> 0 | BI91: =IF(N91="nulová",J91,0) -> 0 | BJ91: 1 | BK91: =ROUND(I91*H91,2) -> 0 | BL91: 4 | BM91: 1612319417
D92: Online PSC | F92: https://podminky.urs.cz/item/CS_URS_2026_01/573211107 | AT92: Online PSC | AU92: 2
C93: 3 | D93: K | E93: 577134211 | F93: Asfaltový beton vrstva obrusná ACO 11 z nemodifikovaného asfaltu s rozprostřením a se zhutněním ACO 11 v pruhu šířky přes 1,5 do 3 m, po zhutnění tl. 40 mm | G93: m2 | H93: 836 | J93: =ROUND(I93*H93,2) -> 0 | K93: CS ÚRS 2026 01 | N93: základní | P93: =O93*H93 -> 0 | Q93: 0.10373 | R93: =Q93*H93 -> 86.71828 | S93: 0 | T93: =S93*H93 -> 0 | AR93: 4 | AT93: K | AU93: 2 | AY93: ROZPOCET | BE93: =IF(N93="základní",J93,0) -> 0 | BF93: =IF(N93="snížená",J93,0) -> 0 | BG93: =IF(N93="zákl. přenesená",J93,0) -> 0 | BH93: =IF(N93="sníž. přenesená",J93,0) -> 0 | BI93: =IF(N93="nulová",J93,0) -> 0 | BJ93: 1 | BK93: =ROUND(I93*H93,2) -> 0 | BL93: 4 | BM93: -1998346775
D94: Online PSC | F94: https://podminky.urs.cz/item/CS_URS_2026_01/577134211 | AT94: Online PSC | AU94: 2
D95: VV | F95: 836 | H95: 836 | AT95: VV | AU95: 2 | AV95: 2 | AW95: True | AX95: 1 | AY95: ROZPOCET
D96: D | E96: 9 | F96: Ostatní konstrukce a práce, bourání | J96: =BK96 -> 0 | P96: =SUM(P97:P105) -> 0 | R96: =SUM(R97:R105) -> 24.403439 | T96: =SUM(T97:T105) -> 0 | AR96: 1 | AT96: D | AU96: 1 | AY96: ROZPOCET | BK96: =SUM(BK97:BK105) -> 0
C97: 4 | D97: K | E97: 919732211 | F97: Styčná pracovní spára při napojení nového živičného povrchu na stávající se zalitím za tepla modifikovanou asfaltovou hmotou s posypem vápenným hydrátem šířky do 15 mm, hloubky do 25 mm včetně prořezání spáry | G97: m | H97: 250 | J97: =ROUND(I97*H97,2) -> 0 | K97: CS ÚRS 2026 01 | N97: základní | P97: =O97*H97 -> 0 | Q97: 0.000605063 | R97: =Q97*H97 -> 0.15126575 | S97: 0 | T97: =S97*H97 -> 0 | AR97: 4 | AT97: K | AU97: 2 | AY97: ROZPOCET | BE97: =IF(N97="základní",J97,0) -> 0 | BF97: =IF(N97="snížená",J97,0) -> 0 | BG97: =IF(N97="zákl. přenesená",J97,0) -> 0 | BH97: =IF(N97="sníž. přenesená",J97,0) -> 0 | BI97: =IF(N97="nulová",J97,0) -> 0 | BJ97: 1 | BK97: =ROUND(I97*H97,2) -> 0 | BL97: 4 | BM97: -333388217
D98: Online PSC | F98: https://podminky.urs.cz/item/CS_URS_2026_01/919732211 | AT98: Online PSC | AU98: 2
D99: VV | F99: 250 | H99: 250 | AT99: VV | AU99: 2 | AV99: 2 | AW99: True | AX99: 1 | AY99: ROZPOCET
C100: 5 | D100: K | E100: 919735111 | F100: Řezání stávajícího živičného krytu nebo podkladu hloubky do 50 mm | G100: m | H100: 250 | J100: =ROUND(I100*H100,2) -> 0 | K100: CS ÚRS 2026 01 | N100: základní | P100: =O100*H100 -> 0 | Q100: 1.295e-06 | R100: =Q100*H100 -> 0.00032375 | S100: 0 | T100: =S100*H100 -> 0 | AR100: 4 | AT100: K | AU100: 2 | AY100: ROZPOCET | BE100: =IF(N100="základní",J100,0) -> 0 | BF100: =IF(N100="snížená",J100,0) -> 0 | BG100: =IF(N100="zákl. přenesená",J100,0) -> 0 | BH100: =IF(N100="sníž. přenesená",J100,0) -> 0 | BI100: =IF(N100="nulová",J100,0) -> 0 | BJ100: 1 | BK100: =ROUND(I100*H100,2) -> 0 | BL100: 4 | BM100: -2075564178
D101: Online PSC | F101: https://podminky.urs.cz/item/CS_URS_2026_01/919735111 | AT101: Online PSC | AU101: 2
D102: VV | F102: 250 | H102: 250 | AT102: VV | AU102: 2 | AV102: 2 | AW102: True | AX102: 1 | AY102: ROZPOCET
C103: 6 | D103: K | E103: 919794441 | F103: Úprava ploch kolem hydrantů, šoupat, kanalizačních poklopů a mříží, sloupů apod. v živičných krytech jakékoliv tloušťky, jednotlivě v půdorysné ploše do 2 m2 | G103: kus | H103: 15 | J103: =ROUND(I103*H103,2) -> 0 | K103: CS ÚRS 2026 01 | N103: základní | P103: =O103*H103 -> 0 | Q103: 1.61679 | R103: =Q103*H103 -> 24.25185 | S103: 0 | T103: =S103*H103 -> 0 | AR103: 4 | AT103: K | AU103: 2 | AY103: ROZPOCET | BE103: =IF(N103="základní",J103,0) -> 0 | BF103: =IF(N103="snížená",J103,0) -> 0 | BG103: =IF(N103="zákl. přenesená",J103,0) -> 0 | BH103: =IF(N103="sníž. přenesená",J103,0) -> 0 | BI103: =IF(N103="nulová",J103,0) -> 0 | BJ103: 1 | BK103: =ROUND(I103*H103,2) -> 0 | BL103: 4 | BM103: 522568526
D104: Online PSC | F104: https://podminky.urs.cz/item/CS_URS_2026_01/919794441 | AT104: Online PSC | AU104: 2
D105: VV | F105: 15 | H105: 15 | AT105: VV | AU105: 2 | AV105: 2 | AW105: True | AX105: 1 | AY105: ROZPOCET
D106: D | E106: 997 | F106: Přesun sutě | J106: =BK106 -> 0 | P106: =SUM(P107:P115) -> 0 | R106: =SUM(R107:R115) -> 0 | T106: =SUM(T107:T115) -> 0 | AR106: 1 | AT106: D | AU106: 1 | AY106: ROZPOCET | BK106: =SUM(BK107:BK115) -> 0
C107: 7 | D107: K | E107: 997221551 | F107: Vodorovná doprava suti bez naložení, ale se složením a s hrubým urovnáním ze sypkých materiálů, na vzdálenost do 1 km | G107: t | H107: 76.912 | J107: =ROUND(I107*H107,2) -> 0 | K107: CS ÚRS 2026 01 | N107: základní | P107: =O107*H107 -> 0 | Q107: 0 | R107: =Q107*H107 -> 0 | S107: 0 | T107: =S107*H107 -> 0 | AR107: 4 | AT107: K | AU107: 2 | AY107: ROZPOCET | BE107: =IF(N107="základní",J107,0) -> 0 | BF107: =IF(N107="snížená",J107,0) -> 0 | BG107: =IF(N107="zákl. přenesená",J107,0) -> 0 | BH107: =IF(N107="sníž. přenesená",J107,0) -> 0 | BI107: =IF(N107="nulová",J107,0) -> 0 | BJ107: 1 | BK107: =ROUND(I107*H107,2) -> 0 | BL107: 4 | BM107: -2001021886
D108: Online PSC | F108: https://podminky.urs.cz/item/CS_URS_2026_01/997221551 | AT108: Online PSC | AU108: 2
D109: VV | F109: 76,912 | H109: 76.912 | AT109: VV | AU109: 2 | AV109: 2 | AW109: True | AX109: 1 | AY109: ROZPOCET
C110: 8 | D110: K | E110: 997221559 | F110: Vodorovná doprava suti bez naložení, ale se složením a s hrubým urovnáním ze sypkých materiálů, na vzdálenost Příplatek k ceně za každý další započatý 1 km přes 1 km | G110: t | H110: 1845.888 | J110: =ROUND(I110*H110,2) -> 0 | K110: CS ÚRS 2026 01 | N110: základní | P110: =O110*H110 -> 0 | Q110: 0 | R110: =Q110*H110 -> 0 | S110: 0 | T110: =S110*H110 -> 0 | AR110: 4 | AT110: K | AU110: 2 | AY110: ROZPOCET | BE110: =IF(N110="základní",J110,0) -> 0 | BF110: =IF(N110="snížená",J110,0) -> 0 | BG110: =IF(N110="zákl. přenesená",J110,0) -> 0 | BH110: =IF(N110="sníž. přenesená",J110,0) -> 0 | BI110: =IF(N110="nulová",J110,0) -> 0 | BJ110: 1 | BK110: =ROUND(I110*H110,2) -> 0 | BL110: 4 | BM110: 1886459265
D111: Online PSC | F111: https://podminky.urs.cz/item/CS_URS_2026_01/997221559 | AT111: Online PSC | AU111: 2
D112: VV | F112: 76,912*24 "Přepočtené koeficientem množství | H112: 1845.888 | AT112: VV | AU112: 2 | AV112: 2 | AW112: True | AX112: 1 | AY112: ROZPOCET
C113: 9 | D113: K | E113: 997221645 | F113: Poplatek za uložení stavebního odpadu na skládce (skládkovné) asfaltového bez obsahu dehtu zatříděného do Katalogu odpadů pod kódem 17 03 02 | G113: t | H113: 76.912 | J113: =ROUND(I113*H113,2) -> 0 | K113: CS ÚRS 2026 01 | N113: základní | P113: =O113*H113 -> 0 | Q113: 0 | R113: =Q113*H113 -> 0 | S113: 0 | T113: =S113*H113 -> 0 | AR113: 4 | AT113: K | AU113: 2 | AY113: ROZPOCET | BE113: =IF(N113="základní",J113,0) -> 0 | BF113: =IF(N113="snížená",J113,0) -> 0 | BG113: =IF(N113="zákl. přenesená",J113,0) -> 0 | BH113: =IF(N113="sníž. přenesená",J113,0) -> 0 | BI113: =IF(N113="nulová",J113,0) -> 0 | BJ113: 1 | BK113: =ROUND(I113*H113,2) -> 0 | BL113: 4 | BM113: -752058899
D114: Online PSC | F114: https://podminky.urs.cz/item/CS_URS_2026_01/997221645 | AT114: Online PSC | AU114: 2
D115: VV | F115: 76,912 | H115: 76.912 | AT115: VV | AU115: 2 | AV115: 2 | AW115: True | AX115: 1 | AY115: ROZPOCET
D116: D | E116: 998 | F116: Přesun hmot | J116: =BK116 -> 0 | P116: =SUM(P117:P118) -> 0 | R116: =SUM(R117:R118) -> 0 | T116: =SUM(T117:T118) -> 0 | AR116: 1 | AT116: D | AU116: 1 | AY116: ROZPOCET | BK116: =SUM(BK117:BK118) -> 0
C117: 10 | D117: K | E117: 998225111 | F117: Přesun hmot pro komunikace s krytem z kameniva, monolitickým betonovým nebo živičným dopravní vzdálenost do 200 m jakékoliv délky objektu | G117: t | H117: 111.131 | J117: =ROUND(I117*H117,2) -> 0 | K117: CS ÚRS 2026 01 | N117: základní | P117: =O117*H117 -> 0 | Q117: 0 | R117: =Q117*H117 -> 0 | S117: 0 | T117: =S117*H117 -> 0 | AR117: 4 | AT117: K | AU117: 2 | AY117: ROZPOCET | BE117: =IF(N117="základní",J117,0) -> 0 | BF117: =IF(N117="snížená",J117,0) -> 0 | BG117: =IF(N117="zákl. přenesená",J117,0) -> 0 | BH117: =IF(N117="sníž. přenesená",J117,0) -> 0 | BI117: =IF(N117="nulová",J117,0) -> 0 | BJ117: 1 | BK117: =ROUND(I117*H117,2) -> 0 | BL117: 4 | BM117: -424957621
D118: Online PSC | F118: https://podminky.urs.cz/item/CS_URS_2026_01/998225111 | AT118: Online PSC | AU118: 2

Sheet VON - Vedlejší a ostatní ...
AT2: {2ec5b4c0-c271-49c0-846c-77fd7a17b739}
AT3: 2
D4: KRYCÍ LIST SOUPISU PRACÍ | M4: v --- níže se nacházejí doplnkové a pomocné údaje k sestavám --- v | AT4: False
D6: Stavba:
E7: ='Rekapitulace stavby'!K6 -> Oprava kanalizace Hůrky
D8: Objekt:
E9: VON - Vedlejší a ostatní náklady
D11: KSO: | I11: CC-CZ:
D12: Místo: | F12: Hůrky, m.č. Nová Bystřice | I12: Datum: | J12: ='Rekapitulace stavby'!AN8 -> 24. 6. 2024
D14: Zadavatel: | I14: IČ:
E15: Město Nová Bystřice | I15: DIČ:
D17: Účastník: | I17: IČ: | J17: ='Rekapitulace stavby'!AN13 -> Vyplň údaj
E18: ='Rekapitulace stavby'!E14 -> Vyplň údaj | I18: DIČ: | J18: ='Rekapitulace stavby'!AN14 -> Vyplň údaj
D20: Projektant: | I20: IČ:
E21: Ing. Martin Růžička | I21: DIČ:
D23: Zpracovatel: | I23: IČ:
E24: Ing. Martin Růžička | I24: DIČ:
D26: Poznámka:
D30: Cena bez DPH | J30: =ROUND(J88, 2) -> 0
F32: Základ daně | I32: Sazba daně | J32: Výše daně
D33: DPH | E33: základní | F33: =ROUND((SUM(BE88:BE132)), 2) -> 0 | I33: 0.21 | J33: =ROUND(((SUM(BE88:BE132))*I33), 2) -> 0
E34: snížená | F34: =ROUND((SUM(BF88:BF132)), 2) -> 0 | I34: 0.12 | J34: =ROUND(((SUM(BF88:BF132))*I34), 2) -> 0
E35: zákl. přenesená | F35: =ROUND((SUM(BG88:BG132)), 2) -> 0 | I35: 0.21 | J35: =0 -> 0
E36: sníž. přenesená | F36: =ROUND((SUM(BH88:BH132)), 2) -> 0 | I36: 0.12 | J36: =0 -> 0
E37: nulová | F37: =ROUND((SUM(BI88:BI132)), 2) -> 0 | I37: 0 | J37: =0 -> 0
D39: Cena s DPH | G39: v | H39: CZK | J39: =SUM(J30:J37) -> 0
C45: REKAPITULACE ČLENĚNÍ SOUPISU PRACÍ
C47: Stavba:
E48: =E7 -> Oprava kanalizace Hůrky
C49: Objekt:
E50: =E9 -> VON - Vedlejší a ostatní náklady
C52: Místo: | F52: =F12 -> Hůrky, m.č. Nová Bystřice | I52: Datum: | J52: =IF(J12="","",J12) -> 24. 6. 2024
C54: Zadavatel: | F54: =E15 -> Město Nová Bystřice | I54: Projektant: | J54: =E21 -> Ing. Martin Růžička
C55: Účastník: | F55: =IF(E18="","",E18) -> Vyplň údaj | I55: Zpracovatel: | J55: =E24 -> Ing. Martin Růžička
C57: Kód dílu - Popis | J57: Cena celkem [CZK]
C59: Náklady stavby celkem | J59: =J88 -> 0 | AU59: -1
D60: HSV - Práce a dodávky HSV | J60: =J89 -> 0
D61: 1 - Zemní práce | J61: =J90 -> 0
D62: 9 - Ostatní konstrukce a práce-bourání | J62: =J95 -> 0
D63: VRN - Vedlejší rozpočtové náklady | J63: =J108 -> 0
D64: VRN1 - Průzkumné, geodetické a projektové práce | J64: =J109 -> 0
D65: VRN3 - Zařízení staveniště | J65: =J118 -> 0
D66: VRN4 - Inženýrská činnost | J66: =J121 -> 0
D67: VRN7 - Provozní vlivy | J67: =J125 -> 0
D68: VRN9 - Ostatní náklady | J68: =J128 -> 0
C75: SOUPIS PRACÍ
C77: Stavba:
E78: =E7 -> Oprava kanalizace Hůrky
C79: Objekt:
E80: =E9 -> VON - Vedlejší a ostatní náklady
C82: Místo: | F82: =F12 -> Hůrky, m.č. Nová Bystřice | I82: Datum: | J82: =IF(J12="","",J12) -> 24. 6. 2024
C84: Zadavatel: | F84: =E15 -> Město Nová Bystřice | I84: Projektant: | J84: =E21 -> Ing. Martin Růžička
C85: Účastník: | F85: =IF(E18="","",E18) -> Vyplň údaj | I85: Zpracovatel: | J85: =E24 -> Ing. Martin Růžička
C87: PČ | D87: Typ | E87: Kód | F87: Popis | G87: MJ | H87: Množství | I87: J.cena [CZK] | J87: Cena celkem [CZK] | K87: Cenová soustava | N87: DPH | O87: J. Nh [h] | P87: Nh celkem [h] | Q87: J. hmotnost [t] | R87: Hmotnost celkem [t] | S87: J. suť [t] | T87: Suť Celkem [t]
C88: Náklady soupisu celkem | J88: =BK88 -> 0 | P88: =P89+P108 -> 0 | R88: =R89+R108 -> 0.01625 | T88: =T89+T108 -> 0 | AT88: D | AU88: -1 | BK88: =BK89+BK108 -> 0
D89: D | E89: HSV | F89: Práce a dodávky HSV | J89: =BK89 -> 0 | P89: =P90+P95 -> 0 | R89: =R90+R95 -> 0.01625 | T89: =T90+T95 -> 0 | AR89: 1 | AT89: D | AU89: 0 | AY89: ROZPOCET | BK89: =BK90+BK95 -> 0
D90: D | E90: 1 | F90: Zemní práce | J90: =BK90 -> 0 | P90: =SUM(P91:P94) -> 0 | R90: =SUM(R91:R94) -> 0.01625 | T90: =SUM(T91:T94) -> 0 | AR90: 1 | AT90: D | AU90: 1 | AY90: ROZPOCET | BK90: =SUM(BK91:BK94) -> 0
C91: 1 | D91: K | E91: 119002121 | F91: Pomocné konstrukce při zabezpečení výkopu vodorovné pochozí přechodová lávka délky do 2 m včetně zábradlí zřízení | G91: kus | H91: 25 | J91: =ROUND(I91*H91,2) -> 0 | K91: CS ÚRS 2026 01 | N91: základní | P91: =O91*H91 -> 0 | Q91: 0.00065 | R91: =Q91*H91 -> 0.01625 | S91: 0 | T91: =S91*H91 -> 0 | AR91: 4 | AT91: K | AU91: 2 | AY91: ROZPOCET | BE91: =IF(N91="základní",J91,0) -> 0 | BF91: =IF(N91="snížená",J91,0) -> 0 | BG91: =IF(N91="zákl. přenesená",J91,0) -> 0 | BH91: =IF(N91="sníž. přenesená",J91,0) -> 0 | BI91: =IF(N91="nulová",J91,0) -> 0 | BJ91: 1 | BK91: =ROUND(I91*H91,2) -> 0 | BL91: 4 | BM91: 1633900085
D92: Online PSC | F92: https://podminky.urs.cz/item/CS_URS_2026_01/119002121 | AT92: Online PSC | AU92: 2
C93: 2 | D93: K | E93: 119002122 | F93: Pomocné konstrukce při zabezpečení výkopu vodorovné pochozí přechodová lávka délky do 2 m včetně zábradlí odstranění | G93: kus | H93: 25 | J93: =ROUND(I93*H93,2) -> 0 | K93: CS ÚRS 2026 01 | N93: základní | P93: =O93*H93 -> 0 | Q93: 0 | R93: =Q93*H93 -> 0 | S93: 0 | T93: =S93*H93 -> 0 | AR93: 4 | AT93: K | AU93: 2 | AY93: ROZPOCET | BE93: =IF(N93="základní",J93,0) -> 0 | BF93: =IF(N93="snížená",J93,0) -> 0 | BG93: =IF(N93="zákl. přenesená",J93,0) -> 0 | BH93: =IF(N93="sníž. přenesená",J93,0) -> 0 | BI93: =IF(N93="nulová",J93,0) -> 0 | BJ93: 1 | BK93: =ROUND(I93*H93,2) -> 0 | BL93: 4 | BM93: -393747635
D94: Online PSC | F94: https://podminky.urs.cz/item/CS_URS_2026_01/119002122 | AT94: Online PSC | AU94: 2
D95: D | E95: 9 | F95: Ostatní konstrukce a práce-bourání | J95: =BK95 -> 0 | P95: =SUM(P96:P107) -> 0 | R95: =SUM(R96:R107) -> 0 | T95: =SUM(T96:T107) -> 0 | AR95: 1 | AT95: D | AU95: 1 | AY95: ROZPOCET | BK95: =SUM(BK96:BK107) -> 0
C96: 3 | D96: K | E96: 913121111 | F96: Montáž a demontáž dočasných dopravních značek kompletních značek vč. podstavce a sloupku základních | G96: kus | H96: 6 | J96: =ROUND(I96*H96,2) -> 0 | K96: CS ÚRS 2026 01 | N96: základní | P96: =O96*H96 -> 0 | Q96: 0 | R96: =Q96*H96 -> 0 | S96: 0 | T96: =S96*H96 -> 0 | AR96: 4 | AT96: K | AU96: 2 | AY96: ROZPOCET | BE96: =IF(N96="základní",J96,0) -> 0 | BF96: =IF(N96="snížená",J96,0) -> 0 | BG96: =IF(N96="zákl. přenesená",J96,0) -> 0 | BH96: =IF(N96="sníž. přenesená",J96,0) -> 0 | BI96: =IF(N96="nulová",J96,0) -> 0 | BJ96: 1 | BK96: =ROUND(I96*H96,2) -> 0 | BL96: 4 | BM96: 1228984708
D97: Online PSC | F97: https://podminky.urs.cz/item/CS_URS_2026_01/913121111 | AT97: Online PSC | AU97: 2
C98: 4 | D98: K | E98: 913121211 | F98: Montáž a demontáž dočasných dopravních značek Příplatek za první a každý další den použití dočasných dopravních značek k ceně 12-1111 | G98: kus | H98: 180 | J98: =ROUND(I98*H98,2) -> 0 | K98: CS ÚRS 2026 01 | N98: základní | P98: =O98*H98 -> 0 | Q98: 0 | R98: =Q98*H98 -> 0 | S98: 0 | T98: =S98*H98 -> 0 | AR98: 4 | AT98: K | AU98: 2 | AY98: ROZPOCET | BE98: =IF(N98="základní",J98,0) -> 0 | BF98: =IF(N98="snížená",J98,0) -> 0 | BG98: =IF(N98="zákl. přenesená",J98,0) -> 0 | BH98: =IF(N98="sníž. přenesená",J98,0) -> 0 | BI98: =IF(N98="nulová",J98,0) -> 0 | BJ98: 1 | BK98: =ROUND(I98*H98,2) -> 0 | BL98: 4 | BM98: 518306766
D99: Online PSC | F99: https://podminky.urs.cz/item/CS_URS_2026_01/913121211 | AT99: Online PSC | AU99: 2
C100: 5 | D100: K | E100: 913211111 | F100: Montáž a demontáž dočasných dopravních zábran reflexních, šířky 1,5 m | G100: kus | H100: 50 | J100: =ROUND(I100*H100,2) -> 0 | K100: CS ÚRS 2026 01 | N100: základní | P100: =O100*H100 -> 0 | Q100: 0 | R100: =Q100*H100 -> 0 | S100: 0 | T100: =S100*H100 -> 0 | AR100: 4 | AT100: K | AU100: 2 | AY100: ROZPOCET | BE100: =IF(N100="základní",J100,0) -> 0 | BF100: =IF(N100="snížená",J100,0) -> 0 | BG100: =IF(N100="zákl. přenesená",J100,0) -> 0 | BH100: =IF(N100="sníž. přenesená",J100,0) -> 0 | BI100: =IF(N100="nulová",J100,0) -> 0 | BJ100: 1 | BK100: =ROUND(I100*H100,2) -> 0 | BL100: 4 | BM100: -1695039195
D101: Online PSC | F101: https://podminky.urs.cz/item/CS_URS_2026_01/913211111 | AT101: Online PSC | AU101: 2
C102: 6 | D102: K | E102: 913211211 | F102: Montáž a demontáž dočasných dopravních zábran Příplatek za první a každý další den použití dočasných dopravních zábran k ceně 21-1111 | G102: kus | H102: 1500 | J102: =ROUND(I102*H102,2) -> 0 | K102: CS ÚRS 2026 01 | N102: základní | P102: =O102*H102 -> 0 | Q102: 0 | R102: =Q102*H102 -> 0 | S102: 0 | T102: =S102*H102 -> 0 | AR102: 4 | AT102: K | AU102: 2 | AY102: ROZPOCET | BE102: =IF(N102="základní",J102,0) -> 0 | BF102: =IF(N102="snížená",J102,0) -> 0 | BG102: =IF(N102="zákl. přenesená",J102,0) -> 0 | BH102: =IF(N102="sníž. přenesená",J102,0) -> 0 | BI102: =IF(N102="nulová",J102,0) -> 0 | BJ102: 1 | BK102: =ROUND(I102*H102,2) -> 0 | BL102: 4 | BM102: 821777496
D103: Online PSC | F103: https://podminky.urs.cz/item/CS_URS_2026_01/913211211 | AT103: Online PSC | AU103: 2
C104: 7 | D104: K | E104: 913221111 | F104: Montáž a demontáž dočasných dopravních zábran světelných včetně zásobníku na akumulátor, šířky 1,5 m, 3 světla | G104: kus | H104: 2 | J104: =ROUND(I104*H104,2) -> 0 | K104: CS ÚRS 2026 01 | N104: základní | P104: =O104*H104 -> 0 | Q104: 0 | R104: =Q104*H104 -> 0 | S104: 0 | T104: =S104*H104 -> 0 | AR104: 4 | AT104: K | AU104: 2 | AY104: ROZPOCET | BE104: =IF(N104="základní",J104,0) -> 0 | BF104: =IF(N104="snížená",J104,0) -> 0 | BG104: =IF(N104="zákl. přenesená",J104,0) -> 0 | BH104: =IF(N104="sníž. přenesená",J104,0) -> 0 | BI104: =IF(N104="nulová",J104,0) -> 0 | BJ104: 1 | BK104: =ROUND(I104*H104,2) -> 0 | BL104: 4 | BM104: -1034412076
D105: Online PSC | F105: https://podminky.urs.cz/item/CS_URS_2026_01/913221111 | AT105: Online PSC | AU105: 2
C106: 8 | D106: K | E106: 913221211 | F106: Montáž a demontáž dočasných dopravních zábran Příplatek za první a každý další den použití dočasných dopravních zábran k ceně 22-1111 | G106: kus | H106: 60 | J106: =ROUND(I106*H106,2) -> 0 | K106: CS ÚRS 2026 01 | N106: základní | P106: =O106*H106 -> 0 | Q106: 0 | R106: =Q106*H106 -> 0 | S106: 0 | T106: =S106*H106 -> 0 | AR106: 4 | AT106: K | AU106: 2 | AY106: ROZPOCET | BE106: =IF(N106="základní",J106,0) -> 0 | BF106: =IF(N106="snížená",J106,0) -> 0 | BG106: =IF(N106="zákl. přenesená",J106,0) -> 0 | BH106: =IF(N106="sníž. přenesená",J106,0) -> 0 | BI106: =IF(N106="nulová",J106,0) -> 0 | BJ106: 1 | BK106: =ROUND(I106*H106,2) -> 0 | BL106: 4 | BM106: -768142171
D107: Online PSC | F107: https://podminky.urs.cz/item/CS_URS_2026_01/913221211 | AT107: Online PSC | AU107: 2
D108: D | E108: VRN | F108: Vedlejší rozpočtové náklady | J108: =BK108 -> 0 | P108: =P109+P118+P121+P125+P128 -> 0 | R108: =R109+R118+R121+R125+R128 -> 0 | T108: =T109+T118+T121+T125+T128 -> 0 | AR108: 5 | AT108: D | AU108: 0 | AY108: ROZPOCET | BK108: =BK109+BK118+BK121+BK125+BK128 -> 0
D109: D | E109: VRN1 | F109: Průzkumné, geodetické a projektové práce | J109: =BK109 -> 0 | P109: =SUM(P110:P117) -> 0 | R109: =SUM(R110:R117) -> 0 | T109: =SUM(T110:T117) -> 0 | AR109: 5 | AT109: D | AU109: 1 | AY109: ROZPOCET | BK109: =SUM(BK110:BK117) -> 0
C110: 9 | D110: K | E110: 012203000 | F110: Zeměměřičské práce před výstavbou | G110: … | H110: 1 | J110: =ROUND(I110*H110,2) -> 0 | K110: CS ÚRS 2026 01 | N110: základní | P110: =O110*H110 -> 0 | Q110: 0 | R110: =Q110*H110 -> 0 | S110: 0 | T110: =S110*H110 -> 0 | AR110: 4 | AT110: K | AU110: 2 | AY110: ROZPOCET | BE110: =IF(N110="základní",J110,0) -> 0 | BF110: =IF(N110="snížená",J110,0) -> 0 | BG110: =IF(N110="zákl. přenesená",J110,0) -> 0 | BH110: =IF(N110="sníž. přenesená",J110,0) -> 0 | BI110: =IF(N110="nulová",J110,0) -> 0 | BJ110: 1 | BK110: =ROUND(I110*H110,2) -> 0 | BL110: 4 | BM110: 1975684717
D111: Online PSC | F111: https://podminky.urs.cz/item/CS_URS_2026_01/012203000 | AT111: Online PSC | AU111: 2
C112: 10 | D112: K | E112: 012303000 | F112: Zeměměřičské práce při provádění stavby | G112: … | H112: 1 | J112: =ROUND(I112*H112,2) -> 0 | K112: CS ÚRS 2026 01 | N112: základní | P112: =O112*H112 -> 0 | Q112: 0 | R112: =Q112*H112 -> 0 | S112: 0 | T112: =S112*H112 -> 0 | AR112: 4 | AT112: K | AU112: 2 | AY112: ROZPOCET | BE112: =IF(N112="základní",J112,0) -> 0 | BF112: =IF(N112="snížená",J112,0) -> 0 | BG112: =IF(N112="zákl. přenesená",J112,0) -> 0 | BH112: =IF(N112="sníž. přenesená",J112,0) -> 0 | BI112: =IF(N112="nulová",J112,0) -> 0 | BJ112: 1 | BK112: =ROUND(I112*H112,2) -> 0 | BL112: 4 | BM112: -1693797854
D113: Online PSC | F113: https://podminky.urs.cz/item/CS_URS_2026_01/012303000 | AT113: Online PSC | AU113: 2
C114: 11 | D114: K | E114: 013254000 | F114: Dokumentace skutečného provedení stavby | G114: … | H114: 1 | J114: =ROUND(I114*H114,2) -> 0 | K114: CS ÚRS 2026 01 | N114: základní | P114: =O114*H114 -> 0 | Q114: 0 | R114: =Q114*H114 -> 0 | S114: 0 | T114: =S114*H114 -> 0 | AR114: 4 | AT114: K | AU114: 2 | AY114: ROZPOCET | BE114: =IF(N114="základní",J114,0) -> 0 | BF114: =IF(N114="snížená",J114,0) -> 0 | BG114: =IF(N114="zákl. přenesená",J114,0) -> 0 | BH114: =IF(N114="sníž. přenesená",J114,0) -> 0 | BI114: =IF(N114="nulová",J114,0) -> 0 | BJ114: 1 | BK114: =ROUND(I114*H114,2) -> 0 | BL114: 4 | BM114: 634902700
D115: Online PSC | F115: https://podminky.urs.cz/item/CS_URS_2026_01/013254000 | AT115: Online PSC | AU115: 2
C116: 12 | D116: K | E116: R013254002 | F116: Vytýčení stávajících podzemních sítí a vedení příslušnými správci | G116: … | H116: 1 | J116: =ROUND(I116*H116,2) -> 0 | N116: základní | P116: =O116*H116 -> 0 | Q116: 0 | R116: =Q116*H116 -> 0 | S116: 0 | T116: =S116*H116 -> 0 | AR116: 1024 | AT116: K | AU116: 2 | AY116: ROZPOCET | BE116: =IF(N116="základní",J116,0) -> 0 | BF116: =IF(N116="snížená",J116,0) -> 0 | BG116: =IF(N116="zákl. přenesená",J116,0) -> 0 | BH116: =IF(N116="sníž. přenesená",J116,0) -> 0 | BI116: =IF(N116="nulová",J116,0) -> 0 | BJ116: 1 | BK116: =ROUND(I116*H116,2) -> 0 | BL116: 1024 | BM116: -1168594029
D117: VV | F117: 1 | H117: 1 | AT117: VV | AU117: 2 | AV117: 2 | AW117: True | AX117: 1 | AY117: ROZPOCET
D118: D | E118: VRN3 | F118: Zařízení staveniště | J118: =BK118 -> 0 | P118: =SUM(P119:P120) -> 0 | R118: =SUM(R119:R120) -> 0 | T118: =SUM(T119:T120) -> 0 | AR118: 5 | AT118: D | AU118: 1 | AY118: ROZPOCET | BK118: =SUM(BK119:BK120) -> 0
C119: 13 | D119: K | E119: 030001000 | F119: Zařízení staveniště | G119: … | H119: 1 | J119: =ROUND(I119*H119,2) -> 0 | K119: CS ÚRS 2026 01 | N119: základní | P119: =O119*H119 -> 0 | Q119: 0 | R119: =Q119*H119 -> 0 | S119: 0 | T119: =S119*H119 -> 0 | AR119: 4 | AT119: K | AU119: 2 | AY119: ROZPOCET | BE119: =IF(N119="základní",J119,0) -> 0 | BF119: =IF(N119="snížená",J119,0) -> 0 | BG119: =IF(N119="zákl. přenesená",J119,0) -> 0 | BH119: =IF(N119="sníž. přenesená",J119,0) -> 0 | BI119: =IF(N119="nulová",J119,0) -> 0 | BJ119: 1 | BK119: =ROUND(I119*H119,2) -> 0 | BL119: 4 | BM119: 1640776267
D120: Online PSC | F120: https://podminky.urs.cz/item/CS_URS_2026_01/030001000 | AT120: Online PSC | AU120: 2
D121: D | E121: VRN4 | F121: Inženýrská činnost | J121: =BK121 -> 0 | P121: =SUM(P122:P124) -> 0 | R121: =SUM(R122:R124) -> 0 | T121: =SUM(T122:T124) -> 0 | AR121: 5 | AT121: D | AU121: 1 | AY121: ROZPOCET | BK121: =SUM(BK122:BK124) -> 0
C122: 14 | D122: K | E122: 043154000 | F122: Zkoušky hutnicí | G122: … | H122: 5 | J122: =ROUND(I122*H122,2) -> 0 | K122: CS ÚRS 2026 01 | N122: základní | P122: =O122*H122 -> 0 | Q122: 0 | R122: =Q122*H122 -> 0 | S122: 0 | T122: =S122*H122 -> 0 | AR122: 1024 | AT122: K | AU122: 2 | AY122: ROZPOCET | BE122: =IF(N122="základní",J122,0) -> 0 | BF122: =IF(N122="snížená",J122,0) -> 0 | BG122: =IF(N122="zákl. přenesená",J122,0) -> 0 | BH122: =IF(N122="sníž. přenesená",J122,0) -> 0 | BI122: =IF(N122="nulová",J122,0) -> 0 | BJ122: 1 | BK122: =ROUND(I122*H122,2) -> 0 | BL122: 1024 | BM122: -1175008046
D123: Online PSC | F123: https://podminky.urs.cz/item/CS_URS_2026_01/043154000 | AT123: Online PSC | AU123: 2
D124: VV | F124: 5 | H124: 5 | AT124: VV | AU124: 2 | AV124: 2 | AW124: True | AX124: 1 | AY124: ROZPOCET
D125: D | E125: VRN7 | F125: Provozní vlivy | J125: =BK125 -> 0 | P125: =SUM(P126:P127) -> 0 | R125: =SUM(R126:R127) -> 0 | T125: =SUM(T126:T127) -> 0 | AR125: 5 | AT125: D | AU125: 1 | AY125: ROZPOCET | BK125: =SUM(BK126:BK127) -> 0
C126: 15 | D126: K | E126: R072002001.1 | F126: Silniční provoz - dopravně-inženýrské opatření, dočasné dopravní značení, čištění mechanizace před vjezdem na komunkaci, čištění komunikací, zajištění přístupu a obslužnosti (návrh, vyřízení, realizace) | G126: … | H126: 1 | J126: =ROUND(I126*H126,2) -> 0 | N126: základní | P126: =O126*H126 -> 0 | Q126: 0 | R126: =Q126*H126 -> 0 | S126: 0 | T126: =S126*H126 -> 0 | AR126: 1024 | AT126: K | AU126: 2 | AY126: ROZPOCET | BE126: =IF(N126="základní",J126,0) -> 0 | BF126: =IF(N126="snížená",J126,0) -> 0 | BG126: =IF(N126="zákl. přenesená",J126,0) -> 0 | BH126: =IF(N126="sníž. přenesená",J126,0) -> 0 | BI126: =IF(N126="nulová",J126,0) -> 0 | BJ126: 1 | BK126: =ROUND(I126*H126,2) -> 0 | BL126: 1024 | BM126: 1292044639
D127: VV | F127: 1 | H127: 1 | AT127: VV | AU127: 2 | AV127: 2 | AW127: True | AX127: 1 | AY127: ROZPOCET
D128: D | E128: VRN9 | F128: Ostatní náklady | J128: =BK128 -> 0 | P128: =SUM(P129:P132) -> 0 | R128: =SUM(R129:R132) -> 0 | T128: =SUM(T129:T132) -> 0 | AR128: 5 | AT128: D | AU128: 1 | AY128: ROZPOCET | BK128: =SUM(BK129:BK132) -> 0
C129: 16 | D129: K | E129: R090001004 | F129: Fotodokumentace a videodokumentace stavby | G129: … | H129: 1 | J129: =ROUND(I129*H129,2) -> 0 | N129: základní | P129: =O129*H129 -> 0 | Q129: 0 | R129: =Q129*H129 -> 0 | S129: 0 | T129: =S129*H129 -> 0 | AR129: 1024 | AT129: K | AU129: 2 | AY129: ROZPOCET | BE129: =IF(N129="základní",J129,0) -> 0 | BF129: =IF(N129="snížená",J129,0) -> 0 | BG129: =IF(N129="zákl. přenesená",J129,0) -> 0 | BH129: =IF(N129="sníž. přenesená",J129,0) -> 0 | BI129: =IF(N129="nulová",J129,0) -> 0 | BJ129: 1 | BK129: =ROUND(I129*H129,2) -> 0 | BL129: 1024 | BM129: 954217616
D130: VV | F130: 1 | H130: 1 | AT130: VV | AU130: 2 | AV130: 2 | AW130: True | AX130: 1 | AY130: ROZPOCET
C131: 17 | D131: K | E131: R090001008 | F131: Provedení pasportizace všech staveb přilehlých ke staveništi | G131: … | H131: 1 | J131: =ROUND(I131*H131,2) -> 0 | N131: základní | P131: =O131*H131 -> 0 | Q131: 0 | R131: =Q131*H131 -> 0 | S131: 0 | T131: =S131*H131 -> 0 | AR131: 1024 | AT131: K | AU131: 2 | AY131: ROZPOCET | BE131: =IF(N131="základní",J131,0) -> 0 | BF131: =IF(N131="snížená",J131,0) -> 0 | BG131: =IF(N131="zákl. přenesená",J131,0) -> 0 | BH131: =IF(N131="sníž. přenesená",J131,0) -> 0 | BI131: =IF(N131="nulová",J131,0) -> 0 | BJ131: 1 | BK131: =ROUND(I131*H131,2) -> 0 | BL131: 1024 | BM131: -798565236
D132: VV | F132: 1 | H132: 1 | AT132: VV | AU132: 2 | AV132: 2 | AW132: True | AX132: 1 | AY132: ROZPOCET

Sheet Seznam figur
C4: SEZNAM FIGUR
C5: Kód: | D5: M-44-24
C6: Stavba: | D6: Oprava kanalizace Hůrky
C7: Datum: | D7: ='Rekapitulace stavby'!AN8 -> 24. 6. 2024
C9: Kód | D9: Popis | E9: MJ | F9: Výměra
C10: 1 | D10: Oprava kanalizace
C11: povrch_s | D11: povrch komunikací nad stokou | F11: 319.95
C12: povrch_s | D12: 319,95 | F12: 319.95
C13: Použití figury:
C14: 113107222 | D14: Odstranění podkladu z kameniva drceného tl přes 100 do 200 mm strojně pl přes 200 m2 | E14: m2 | F14: 319.95
C15: 113107243 | D15: Odstranění podkladu živičného tl přes 100 do 150 mm strojně pl přes 200 m2 | E15: m2 | F15: 319.95
C16: 564851111 | D16: Podklad ze štěrkodrtě ŠD 0/63 mm plochy přes 100 m2 tl 150 mm | E16: m2 | F16: 319.95
C17: 565155001 | D17: Asfaltový beton vrstva podkladní ACP 16 + tl 70 mm š do 1,5 m z nemodifikovaného asfaltu | E17: m2 | F17: 319.95
C18: 573191111 | D18: Postřik infiltrační kationaktivní emulzí v množství 1 kg/m2 | E18: m2 | F18: 319.95
C19: 573211107 | D19: Postřik živičný spojovací z asfaltu v množství 0,30 kg/m2 | E19: m2 | F19: 425.534
C20: 573211109 | D20: Postřik živičný spojovací z asfaltu v množství 0,50 kg/m2 | E20: m2 | F20: 851.067
C21: 577134211 | D21: Asfaltový beton vrstva obrusná ACO 11 tř. II tl 40 mm š do 3 m z nemodifikovaného asfaltu | E21: m2 | F21: 425.534
C22: 577155112 | D22: Asfaltový beton vrstva ložní ACL 16 + tl 60 mm š do 3 m z nemodifikovaného asfaltu | E22: m2 | F22: 425.534
C23: 997221645 | D23: Poplatek za uložení na skládce (skládkovné) odpadu asfaltového bez dehtu kód odpadu 17 03 02 | E23: t | F23: 86.387
C24: R564851112 | D24: Podklad ze štěrkodrtě ŠD 0/32 mm plochy přes 100 m2 tl 150 mm | E24: m2 | F24: 319.95
C25: 2 | D25: Přípojky
C26: délka_p | D26: délka přípojek | E26: m | F26: 129.8
C27: délka_p | D27: 98,1+31,7 | F27: 129.8
C28: Použití figury:
C29: 899722113 | D29: Krytí potrubí z plastů výstražnou fólií z PVC přes 25 do 34cm | E29: m | F29: 129.8
C30: 358315114 | D30: Bourání stoky kompletní nebo vybourání otvorů z prostého betonu plochy do 4 m2 | E30: m3 | F30: 8.156
C31: 919732211 | D31: Styčná spára napojení nového živičného povrchu na stávající za tepla š 15 mm hl 25 mm s prořezáním | E31: m | F31: 259.6
C32: 919735114 | D32: Řezání stávajícího živičného krytu hl přes 150 do 200 mm | E32: m | F32: 259.6
C33: obsyp_p | D33: objem obsypu přípojek | E33: m3 | F33: 43.764
C34: obsyp_p | D34: plocha_p*0,5-(98,1+31,7)*2*0,1*0,1*pi | F34: 43.764
C35: plocha_p | D35: plocha komunikace nad přípojkami | F35: 103.84
C36: plocha_p | D36: (98,1+31,7)*0,8 | F36: 103.84
C37: Použití figury:
C38: 113107523 | D38: Odstranění podkladu z kameniva drceného tl přes 200 do 300 mm při překopech strojně pl přes 15 m2 | E38: m2 | F38: 103.84
C39: 113107525 | D39: Odstranění podkladu z kameniva drceného tl přes 400 do 500 mm při překopech strojně pl přes 15 m2 | E39: m2 | F39: 103.84
C40: 113107542 | D40: Odstranění podkladu živičných tl přes 50 do 100 mm při překopech strojně pl přes 15 m2 | E40: m2 | F40: 103.84
C41: 113107544 | D41: Odstranění podkladu živičných tl přes 150 do 200 mm při překopech strojně pl přes 15 m2 | E41: m2 | F41: 103.84
C42: 132254101 | D42: Hloubení rýh zapažených š do 800 mm v hornině třídy těžitelnosti I skupiny 3 objem do 20 m3 strojně | E42: m3 | F42: 155.76
C43: 162351104 | D43: Vodorovné přemístění přes 500 do 1000 m výkopku/sypaniny z horniny třídy těžitelnosti I skupiny 1 až 3 | E43: m3 | F43: 155.76
C44: 171151103 | D44: Uložení sypaniny z hornin soudržných do násypů zhutněných strojně | E44: m3 | F44: 155.76
C45: 174151101 | D45: Zásyp jam, šachet rýh nebo kolem objektů sypaninou se zhutněním | E45: m3 | F45: 155.76
C46: 175151101 | D46: Obsypání potrubí strojně sypaninou bez prohození, uloženou do 3 m | E46: m3 | F46: 43.764
C47: 451572111 | D47: Lože pod potrubí otevřený výkop z kameniva drobného těženého | E47: m3 | F47: 10.384
C48: 564851111 | D48: Podklad ze štěrkodrtě ŠD 0/63 mm plochy přes 100 m2 tl 150 mm | E48: m2 | F48: 103.84
C49: 565155001 | D49: Asfaltový beton vrstva podkladní ACP 16 + tl 70 mm š do 1,5 m z nemodifikovaného asfaltu | E49: m2 | F49: 103.84
... C59: R564851112 | D59: Podklad ze štěrkodrtě ŠD 0/32 mm plochy přes 100 m2 tl 160 mm | E59: m2 | F59: 103.84
C60: suť_bet | D60: objem betonové suti | F60: 8.156
C61: suť_bet | D61: 2*pi*0,1*0,1*délka_p | F61: 8.156
C62: Použití figury:
C63: 358315114 | D63: Bourání stoky kompletní nebo vybourání otvorů z prostého betonu plochy do 4 m2 | E63: m3 | F63: 8.156
C64: 997221551 | D64: Vodorovná doprava suti ze sypkých materiálů do 1 km | E64: t | F64: 23.732
C65: 997221559 | D65: Příplatek ZKD 1 km u vodorovné dopravy suti ze sypkých materiálů | E65: t | F65: 118.66
C66: 997221611 | D66: Nakládání suti na dopravní prostředky pro vodorovnou dopravu | E66: t | F66: 23.732
C67: 997221655 | D67: Poplatek za uložení na skládce (skládkovné) zeminy a kamení kód odpadu 17 05 04 | E67: t | F67: 8.156

Sheet Pokyny pro vyplnění
C3: Struktura údajů, formát souboru a metodika pro zpracování
C4: Struktura
C6: Soubor je složen ze záložky Rekapitulace stavby a záložek s názvem soupisu prací pro jednotlivé objekty ve formátu XLSX. Každá ze záložek přitom obsahuje
C7: ještě samostatné sestavy vymezené orámovaním a nadpisem sestavy.
C9: Rekapitulace stavby obsahuje sestavu Rekapitulace stavby a Rekapitulace objektů stavby a soupisů prací.
D10: V sestavě Rekapitulace stavby jsou uvedeny informace identifikující předmět veřejné zakázky na stavební práce, KSO, CC-CZ, CZ-CPV, CZ-CPA a rekapitulaci
D11: celkové nabídkové ceny účastníka.
D13: Termínem "učastník" (resp. zhotovitel) se myslí "účastník zadávacího řízení" ve smyslu zákona o zadávání veřejných zakázek.
D15: V sestavě Rekapitulace objektů stavby a soupisů prací je uvedena rekapitulace stavebních objektů, inženýrských objektů, provozních souborů,
D16: vedlejších a ostatních nákladů a ostatních nákladů s rekapitulací nabídkové ceny za jednotlivé soupisy prací. Na základě údaje Typ je možné
D17: identifikovat, zda se jedná o objekt nebo soupis prací pro daný objekt:
E18: STA | F18: Stavební objekt pozemní
E19: ING | F19: Stavební objekt inženýrský
E20: PRO | F20: Provozní soubor
E21: VON | F21: Vedlejší a ostatní náklady
E22: OST | F22: Ostatní
E23: Soupis | F23: Soupis prací pro daný typ objektu
C25: Soupis prací pro jednotlivé objekty obsahuje sestavy Krycí list soupisu prací, Rekapitulace členění soupisu prací, Soupis prací. Za soupis prací může být považován
C26: i objekt stavby v případě, že neobsahuje podřízenou zakázku.
D27: Krycí list soupisu obsahuje rekapitulaci informací o předmětu veřejné zakázky ze sestavy Rekapitulace stavby, informaci o zařazení objektu do KSO,
D28: CC-CZ, CZ-CPV, CZ-CPA a rekapitulaci celkové nabídkové ceny účastníka za aktuální soupis prací.
D30: Rekapitulace členění soupisu prací obsahuje rekapitulaci soupisu prací ve všech úrovních členění soupisu tak, jak byla tato členění použita (např.
D31: stavební díly, funkční díly, případně jiné členění) s rekapitulací nabídkové ceny.
D33: Soupis prací obsahuje položky veškerých stavebních nebo montážních prací, dodávek materiálů a služeb nezbytných pro zhotovení stavebního objektu,
D34: inženýrského objektu, provozního souboru, vedlejších a ostatních nákladů.
D35: Pro položky soupisu prací se zobrazují následující informace:
E36: PČ | G36: Pořadové číslo položky v aktuálním soupisu
E37: TYP | G37: Typ položky: K - konstrukce, M - materiál, PP - plný popis, PSC - poznámka k souboru cen, P - poznámka k položce, VV - výkaz výměr, FIG - rozpad figur
E38: Kód | G38: Kód položky
E39: Popis | G39: Zkrácený popis položky
E40: MJ | G40: Měrná jednotka položky
E41: Množství | G41: Množství v měrné jednotce
E42: J.cena | G42: Jednotková cena položky. Zadaní může obsahovat namísto J.ceny sloupce J.materiál a J.montáž, jejichž součet definuje
G43: J.cenu položky.
E44: Cena celkem | G44: Celková cena položky daná jako součin množství a j.ceny
E45: Cenová soustava | G45: Příslušnost položky do cenové soustavy
D47: Ke každé položce soupisu prací se na samostatných řádcích může zobrazovat:
E48: Plný popis položky
E49: Poznámka k souboru cen a poznámka zadavatele
E50: Výkaz výměr
D51: Pokud je k řádku výkazu výměr evidovaný údaj ve sloupci Kód, jedná se o definovaný odkaz, na který se může odvolávat výkaz výměr z jiné položky.
C52: Metodika pro zpracování
C54: Jednotlivé sestavy jsou v souboru provázány. Editovatelné pole jsou zvýrazněny žlutým podbarvením, ostatní pole neslouží k editaci a nesmí být jakkoliv
C55: modifikovány.
C57: Účastník je pro podání nabídky povinen vyplnit žlutě podbarvená pole:
D58: Pole Účastník v sestavě Rekapitulace stavby - zde účastník vyplní svůj název (název subjektu)
D59: Pole IČ a DIČ v sestavě Rekapitulace stavby - zde účastník vyplní svoje IČ a DIČ
D60: Datum v sestavě Rekapitulace stavby - zde účastník vyplní datum vytvoření nabídky
D61: J.cena = jednotková cena v sestavě Soupis prací o maximálním počtu desetinných míst uvedených v poli
D62: - pokud sestavy soupisů prací obsahují pole J.cena, měla by být všechna tato pole vyplněna nenulovými
D63: Poznámka - nepovinný údaj pro položku soupisu
D65: V případě, že sestavy soupisů prací neobsahují pole J.cena, potom ve všech soupisech prací obsahují pole:
D66: - J.materiál - jednotková cena materiálu
D67: - J.montáž - jednotková cena montáže
D68: Účastník v tomto případě by měl vyplnit všechna pole J.materiál a pole J.montáž nenulovými kladnými číslicemi. V případech, kdy položka
D69: neobsahuje žádný materiál je přípustné, aby pole J.materiál bylo vyplněno nulou. V případech, kdy položka neobsahuje žádnou montáž je přípustné,
D70: aby pole J.montáž bylo vyplněno nulou. Obě pole - J.materiál, J.Montáž u jedné položky by však neměly být vyplněny nulou.
C75: Rekapitulace stavby
C76: Název | F76: Povinný | H76: Popis | I76: Typ | J76: Max. počet
C77: atributu | F77: (A/N) | J77: znaků
C79: Kód | F79: A | H79: Kód stavby | I79: String | J79: 20
C80: Stavba | F80: A | H80: Název stavby | I80: String | J80: 120
C81: Místo | F81: N | H81: Místo stavby | I81: String | J81: 50
C82: Datum | F82: A | H82: Datum vykonaného exportu | I82: Date
C83: KSO | F83: N | H83: Klasifikace stavebního objektu | I83: String | J83: 15
C84: CC-CZ | F84: N | H84: Klasifikace stavbeních děl | I84: String | J84: 15
C85: CZ-CPV | F85: N | H85: Společný slovník pro veřejné zakázky | I85: String | J85: 20
C86: CZ-CPA | F86: N | H86: Klasifikace produkce podle činností | I86: String | J86: 20
C87: Zadavatel | F87: N | H87: Zadavatel zadaní | I87: String | J87: 50
C88: IČ | F88: N | H88: IČ zadavatele zadaní | I88: String | J88: 20
C89: DIČ | F89: N | H89: DIČ zadavatele zadaní | I89: String | J89: 20
C90: Účastník | F90: N | H90: Účastník veřejné zakázky | I90: String | J90: 50
C91: Projektant | F91: N | H91: Projektant | I91: String | J91: 50
C92: Poznámka | F92: N | H92: Poznámka k zadání | I92: String | J92: 255
C93: Sazba DPH | F93: A | H93: Rekapitulace sazeb DPH u položek soupisů | I93: eGSazbaDph
C94: Základna DPH | F94: A | H94: Základna DPH určena součtem celkové ceny z položek soupisů | I94: Double
C95: Hodnota DPH | F95: A | H95: Hodnota DPH | I95: Double
C96: Cena bez DPH | F96: A | H96: Celková cena bez DPH za celou stavbu. Sčítává se ze všech listů. | I96: Double
C97: Cena s DPH | F97: A | H97: Celková cena s DPH za celou stavbu | I97: Double
C102: Rekapitulace objektů stavby a soupisů prací
C103: Název | F103: Povinný | H103: Popis | I103: Typ | J103: Max. počet
C104: atributu | F104: (A/N) | J104: znaků
C106: Kód | F106: A | H106: Přebírá se z Rekapitulace stavby | I106: String | J106: 20
C107: Stavba | F107: A | H107: Přebírá se z Rekapitulace stavby | I107: String | J107: 120
C108: Místo | F108: N | H108: Přebírá se z Rekapitulace stavby | I108: String | J108: 50
C109: Datum | F109: A | H109: Přebírá se z Rekapitulace stavby | I109: Date
C110: Zadavatel | F110: N | H110: Přebírá se z Rekapitulace stavby | I110: String | J110: 50
C111: Projektant | F111: N | H111: Přebírá se z Rekapitulace stavby | I111: String | J111: 50
C112: Účastník | F112: N | H112: Přebírá se z Rekapitulace stavby | I112: String | J112: 50
C113: Kód | F113: A | H113: Kód objektu | I113: String | J113: 20
C114: Objektu, Soupis prací | F114: A | H114: Název objektu | I114: String | J114: 120
C115: Cena bez DPH | F115: A | H115: Cena bez DPH za daný objekt | I115: Double
C116: Cena s DPH | F116: A | H116: Cena spolu s DPH za daný objekt | I116: Double
C117: Typ | F117: A | H117: Typ zakázky | I117: eGTypZakazky
C122: Krycí list soupisu
C123: Název | F123: Povinný | H123: Popis | I123: Typ | J123: Max. počet
C124: atributu | F124: (A/N) | J124: znaků
C126: Stavba | F126: A | H126: Přebírá se z Rekapitulace stavby | I126: String | J126: 120
C127: Objekt | F127: A | H127: Kód a název objektu | I127: String | J127: 20 + 120
C128: Soupis | F128: A | H128: Kód a název soupisu | I128: String | J128: 20 + 120
...
