Workbook

Sheet Rekapitulace stavby
A1: Export Komplet | AZ1: VZ | BA1: 2.0 | BB1: ZAMOK | BT1: False | BU1: False | BV1: {13cc0181-7f2c-4efe-aa41-c2b1295eaf77}
BS2: 0,01 | BT2: 21
BS3: 0,01 | BT3: 12
D4: REKAPITULACE STAVBY | AS4: v --- níže se nacházejí doplnkové a pomocné údaje k sestavám --- v | BE4: Návod na vyplnění | BS4: 0,001
D5: Kód: | K5: M-44-24 | BE5: Měnit lze pouze buňky se žlutým podbarvením!_x000D_ _x000D_ 1) v Rekapitulaci stavby vyplňte údaje o Účastníkovi (přenesou se do ostatních sestav i v jiných listech)_x000D_ _x000D_ 2) na vybraných listech vyplňte v sestavě Soupis prací ceny u položek | BS5: 0,01
D6: Stavba: | K6: Oprava kanalizace Hůrky | BS6: 0,01
D7: KSO: | AK7: CC-CZ: | BS7: 0,01
D8: Místo: | K8: Hůrky, m.č. Nová Bystřice | AK8: Datum: | AN8: 24. 6. 2024 | BS8: 0,01
BS9: 0,01
D10: Zadavatel: | AK10: IČ: | BS10: 0,01
E11: Město Nová Bystřice | AK11: DIČ: | BS11: 0,01
BS12: 0,01
D13: Účastník: | AK13: IČ: | AN13: Vyplň údaj | BS13: 0,01
E14: Vyplň údaj | AK14: DIČ: | AN14: Vyplň údaj | BS14: 0,01
BS15: False
D16: Projektant: | AK16: IČ: | BS16: False
E17: Ing. Martin Růžička | AK17: DIČ: | BS17: True
BS18: 0,01
D19: Zpracovatel: | AK19: IČ: | BS19: 0,01
E20: Ing. Martin Růžička | AK20: DIČ: | BS20: False
D22: Poznámka:
E23: Soupis prací je sestaven s využitím Cenové soustavy ÚRS. Položky, které pochází z této cenové soustavy, jsou ve sloupci 'Cenová soustava' označeny popisem 'CS ÚRS' a úrovní příslušného kalendářního pololetí. Veškeré další informace vymezující popis a podmínky použití těchto položek z Cenové soustavy, které nejsou uvedeny přímo v soupisu prací, jsou neomezeně dálkově k dispozici na webu podminky.urs.cz.
D26: Cena bez DPH | AK26: =ROUND(AG54,2) -> 0
L28: Sazba daně | W28: Základ daně | AK28: Výše daně
D29: DPH | F29: základní | L29: 0.21 | W29: =ROUND(AZ54, 2) -> 0 | AK29: =ROUND(AV54, 2) -> 0
F30: snížená | L30: 0.12 | W30: =ROUND(BA54, 2) -> 0 | AK30: =ROUND(AW54, 2) -> 0
F31: zákl. přenesená | L31: 0.21 | W31: =ROUND(BB54, 2) -> 0 | AK31: 0
F32: sníž. přenesená | L32: 0.12 | W32: =ROUND(BC54, 2) -> 0 | AK32: 0
F33: nulová | L33: 0 | W33: =ROUND(BD54, 2) -> 0 | AK33: 0
D35: Cena s DPH | T35: v | X35: CZK | AK35: =SUM(AK26:AK33) -> 0
C42: REKAPITULACE OBJEKTŮ STAVBY A SOUPISŮ PRACÍ
C44: Kód: | L44: =K5 -> M-44-24
C45: Stavba: | L45: =K6 -> Oprava kanalizace Hůrky
C47: Místo: | L47: =IF(K8="","",K8) -> Hůrky, m.č. Nová Bystřice | AI47: Datum: | AM47: =IF(AN8= "","",AN8) -> 24. 6. 2024
C49: Zadavatel: | L49: =IF(E11= "","",E11) -> Město Nová Bystřice | AI49: Projektant: | AM49: =IF(E17="","",E17) -> Ing. Martin Růžička | AS49: Informatívní údaje z listů zakázek
C50: Účastník: | L50: =IF(E14= "Vyplň údaj","",E14) | AI50: Zpracovatel: | AM50: =IF(E20="","",E20) -> Ing. Martin Růžička
C52: Kód | I52: Popis | AG52: Cena bez DPH [CZK] | AN52: Cena s DPH [CZK] | AQ52: Typ | AS52: z toho Ostat._x000D_ náklady [CZK] | AT52: DPH [CZK] | AU52: Normohodiny [h] | AV52: DPH základní [CZK] | AW52: DPH snížená [CZK] | AX52: DPH základní přenesená_x000D_ [CZK] | AY52: DPH snížená přenesená_x000D_ [CZK] | AZ52: Základna_x000D_ DPH základní | BA52: Základna_x000D_ DPH snížená | BB52: Základna_x000D_ DPH zákl. přenesená | BC52: Základna_x000D_ DPH sníž. přenesená | BD52: Základna_x000D_ DPH nulová
C54: Náklady stavby celkem | AG54: =ROUND(SUM(AG55:AG58),2) -> 0 | AN54: =SUM(AG54,AT54) -> 0 | AS54: =ROUND(SUM(AS55:AS58),2) -> 0 | AT54: =ROUND(SUM(AV54:AW54),2) -> 0 | AU54: =ROUND(SUM(AU55:AU58),5) -> 0 | AV54: =ROUND(AZ54*L29,2) -> 0 | AW54: =ROUND(BA54*L30,2) -> 0 | AX54: =ROUND(BB54*L29,2) -> 0 | AY54: =ROUND(BC54*L30,2) -> 0 | AZ54: =ROUND(SUM(AZ55:AZ58),2) -> 0 | BA54: =ROUND(SUM(BA55:BA58),2) -> 0 | BB54: =ROUND(SUM(BB55:BB58),2) -> 0 | BC54: =ROUND(SUM(BC55:BC58),2) -> 0 | BD54: =ROUND(SUM(BD55:BD58),2) -> 0 | BS54: D | BT54: 0 | BU54: ###NOIMPORT### | BV54: IMPORT | BW54: {13cc0181-7f2c-4efe-aa41-c2b1295eaf77} | BX54: {00000000-0000-0000-0000-000000000000}
A55: / | D55: 1 | J55: Oprava kanalizace | AG55: ='1 - Oprava kanalizace'!J30 -> 0 | AN55: =SUM(AG55,AT55) -> 0 | AQ55: STA | AS55: 0 | AT55: =ROUND(SUM(AV55:AW55),2) -> 0 | AU55: ='1 - Oprava kanalizace'!P88 -> 0 | AV55: ='1 - Oprava kanalizace'!J33 -> 0 | AW55: ='1 - Oprava kanalizace'!J34 -> 0 | AX55: ='1 - Oprava kanalizace'!J35 -> 0 | AY55: ='1 - Oprava kanalizace'!J36 -> 0 | AZ55: ='1 - Oprava kanalizace'!F33 -> 0 | BA55: ='1 - Oprava kanalizace'!F34 -> 0 | BB55: ='1 - Oprava kanalizace'!F35 -> 0 | BC55: ='1 - Oprava kanalizace'!F36 -> 0 | BD55: ='1 - Oprava kanalizace'!F37 -> 0 | BT55: 1 | BV55: IMPORT | BW55: {baf38a34-a076-4280-af06-3afad7992b96} | BX55: {13cc0181-7f2c-4efe-aa41-c2b1295eaf77} | CM55: 2
A56: / | D56: 2 | J56: Přípojky | AG56: ='2 - Přípojky'!J30 -> 0 | AN56: =SUM(AG56,AT56) -> 0 | AQ56: STA | AS56: 0 | AT56: =ROUND(SUM(AV56:AW56),2) -> 0 | AU56: ='2 - Přípojky'!P88 -> 0 | AV56: ='2 - Přípojky'!J33 -> 0 | AW56: ='2 - Přípojky'!J34 -> 0 | AX56: ='2 - Přípojky'!J35 -> 0 | AY56: ='2 - Přípojky'!J36 -> 0 | AZ56: ='2 - Přípojky'!F33 -> 0 | BA56: ='2 - Přípojky'!F34 -> 0 | BB56: ='2 - Přípojky'!F35 -> 0 | BC56: ='2 - Přípojky'!F36 -> 0 | BD56: ='2 - Přípojky'!F37 -> 0 | BT56: 1 | BV56: IMPORT | BW56: {cb26facc-2cf2-4e5d-9114-342791998be3} | BX56: {13cc0181-7f2c-4efe-aa41-c2b1295eaf77} | CM56: 2
...

Sheet 1 - Oprava kanalizace
AT2: {baf38a34-a076-4280-af06-3afad7992b96} | AZ2: povrch_s | BA2: povrch komunikací nad stokou | BC2: 319,95 | BD2: 2
AT3: 2
D4: KRYCÍ LIST SOUPISU PRACÍ | M4: v --- níže se nacházejí doplnkové a pomocné údaje k sestavám --- v | AT4: False
D6: Stavba:
E7: ='Rekapitulace stavby'!K6 -> Oprava kanalizace Hůrky
D8: Objekt:
E9: 1 - Oprava kanalizace
D11: KSO: | I11: CC-CZ:
D12: Místo: | F12: Hůrky, m.č. Nová Bystřice | I12: Datum: | J12: ='Rekapitulace stavby'!AN8 -> 24. 6. 2024
D14: Zadavatel: | I14: IČ:
E15: Město Nová Bystřice | I15: DIČ:
D17: Účastník: | I17: IČ: | J17: ='Rekapitulace stavby'!AN13 -> Vyplň údaj
E18: ='Rekapitulace stavby'!E14 -> Vyplň údaj | I18: DIČ: | J18: ='Rekapitulace stavby'!AN14 -> Vyplň údaj
D20: Projektant: | I20: IČ:
E21: Ing. Martin Růžička | I21: DIČ:
D23: Zpracovatel: | I23: IČ:
E24: Ing. Martin Růžička | I24: DIČ:
D26: Poznámka:
D30: Cena bez DPH | J30: =ROUND(J88, 2) -> 0
F32: Základ daně | I32: Sazba daně | J32: Výše daně
D33: DPH | E33: základní | F33: =ROUND((SUM(BE88:BE271)), 2) -> 0 | I33: 0.21 | J33: =ROUND(((SUM(BE88:BE271))*I33), 2) -> 0
E34: snížená | F34: =ROUND((SUM(BF88:BF271)), 2) -> 0 | I34: 0.12 | J34: =ROUND(((SUM(BF88:BF271))*I34), 2) -> 0
E35: zákl. přenesená | F35: =ROUND((SUM(BG88:BG271)), 2) -> 0 | I35: 0.21 | J35: =0 -> 0
E36: sníž. přenesená | F36: =ROUND((SUM(BH88:BH271)), 2) -> 0 | I36: 0.12 | J36: =0 -> 0
E37: nulová | F37: =ROUND((SUM(BI88:BI271)), 2) -> 0 | I37: 0 | J37: =0 -> 0
D39: Cena s DPH | G39: v | H39: CZK | J39: =SUM(J30:J37) -> 0
C45: REKAPITULACE ČLENĚNÍ SOUPISU PRACÍ
C47: Stavba:
E48: =E7 -> Oprava kanalizace Hůrky
C49: Objekt:
E50: =E9 -> 1 - Oprava kanalizace
C52: Místo: | F52: =F12 -> Hůrky, m.č. Nová Bystřice | I52: Datum: | J52: =IF(J12="","",J12) -> 24. 6. 2024
C54: Zadavatel: | F54: =E15 -> Město Nová Bystřice | I54: Projektant: | J54: =E21 -> Ing. Martin Růžička
C55: Účastník: | F55: =IF(E18="","",E18) -> Vyplň údaj | I55: Zpracovatel: | J55: =E24 -> Ing. Martin Růžička
C57: Kód dílu - Popis | J57: Cena celkem [CZK]
C59: Náklady stavby celkem | J59: =J88 -> 0 | AU59: -1
D60: HSV - Práce a dodávky HSV | J60: =J89 -> 0
D61: 1 - Zemní práce | J61: =J90 -> 0
D62: 3 - Svislé a kompletní konstrukce | J62: =J135 -> 0
D63: 4 - Vodorovné konstrukce | J63: =J146 -> 0
...

Sheet 2 - Přípojky
AT2: {cb26facc-2cf2-4e5d-9114-342791998be3} | AZ2: délka_p | BA2: délka přípojek | BB2: m | BC2: 129,8 | BD2: 2
AT3: 2 | AZ3: plocha_p | BA3: plocha komunikace nad přípojkami | BC3: 103,84 | BD3: 2
D4: KRYCÍ LIST SOUPISU PRACÍ | M4: v --- níže se nacházejí doplnkové a pomocné údaje k sestavám --- v | AT4: False | AZ4: suť_bet | BA4: objem betonové suti | BC4: 8,156 | BD4: 2
D6: Stavba:
E7: ='Rekapitulace stavby'!K6 -> Oprava kanalizace Hůrky
D8: Objekt:
E9: 2 - Přípojky
D11: KSO: | I11: CC-CZ:
D12: Místo: | F12: Hůrky, m.č. Nová Bystřice | I12: Datum: | J12: ='Rekapitulace stavby'!AN8 -> 24. 6. 2024
D14: Zadavatel: | I14: IČ:
E15: Město Nová Bystřice | I15: DIČ:
D17: Účastník: | I17: IČ: | J17: ='Rekapitulace stavby'!AN13 -> Vyplň údaj
E18: ='Rekapitulace stavby'!E14 -> Vyplň údaj | I18: DIČ: | J18: ='Rekapitulace stavby'!AN14 -> Vyplň údaj
D20: Projektant: | I20: IČ:
E21: Ing. Martin Růžička | I21: DIČ:
D23: Zpracovatel: | I23: IČ:
E24: Ing. Martin Růžička | I24: DIČ:
D26: Poznámka:
D30: Cena bez DPH | J30: =ROUND(J88, 2) -> 0
F32: Základ daně | I32: Sazba daně | J32: Výše daně
D33: DPH | E33: základní | F33: =ROUND((SUM(BE88:BE238)), 2) -> 0 | I33: 0.21 | J33: =ROUND(((SUM(BE88:BE238))*I33), 2) -> 0
E34: snížená | F34: =ROUND((SUM(BF88:BF238)), 2) -> 0 | I34: 0.12 | J34: =ROUND(((SUM(BF88:BF238))*I34), 2) -> 0
E35: zákl. přenesená | F35: =ROUND((SUM(BG88:BG238)), 2) -> 0 | I35: 0.21 | J35: =0 -> 0
E36: sníž. přenesená | F36: =ROUND((SUM(BH88:BH238)), 2) -> 0 | I36: 0.12 | J36: =0 -> 0
E37: nulová | F37: =ROUND((SUM(BI88:BI238)), 2) -> 0 | I37: 0 | J37: =0 -> 0
D39: Cena s DPH | G39: v | H39: CZK | J39: =SUM(J30:J37) -> 0
C45: REKAPITULACE ČLENĚNÍ SOUPISU PRACÍ
C47: Stavba:
E48: =E7 -> Oprava kanalizace Hůrky
C49: Objekt:
E50: =E9 -> 2 - Přípojky
C52: Místo: | F52: =F12 -> Hůrky, m.č. Nová Bystřice | I52: Datum: | J52: =IF(J12="","",J12) -> 24. 6. 2024
C54: Zadavatel: | F54: =E15 -> Město Nová Bystřice | I54: Projektant: | J54: =E21 -> Ing. Martin Růžička
C55: Účastník: | F55: =IF(E18="","",E18) -> Vyplň údaj | I55: Zpracovatel: | J55: =E24 -> Ing. Martin Růžička
C57: Kód dílu - Popis | J57: Cena celkem [CZK]
C59: Náklady stavby celkem | J59: =J88 -> 0 | AU59: -1
D60: HSV - Práce a dodávky HSV | J60: =J89 -> 0
D61: 1 - Zemní práce | J61: =J90 -> 0
D62: 3 - Svislé a kompletní konstrukce | J62: =J126 -> 0
D63: 4 - Vodorovné konstrukce | J63: =J130 -> 0
...

Sheet 3 - Oprava komunikace po ...
AT2: {ad2fe162-4490-40f6-b44c-839859784478}
AT3: 2
D4: KRYCÍ LIST SOUPISU PRACÍ | M4: v --- níže se nacházejí doplnkové a pomocné údaje k sestavám --- v | AT4: False
D6: Stavba:
E7: ='Rekapitulace stavby'!K6 -> Oprava kanalizace Hůrky
D8: Objekt:
E9: 3 - Oprava komunikace po roce
D11: KSO: | I11: CC-CZ:
D12: Místo: | F12: Hůrky, m.č. Nová Bystřice | I12: Datum: | J12: ='Rekapitulace stavby'!AN8 -> 24. 6. 2024
D14: Zadavatel: | I14: IČ:
E15: Město Nová Bystřice | I15: DIČ:
D17: Účastník: | I17: IČ: | J17: ='Rekapitulace stavby'!AN13 -> Vyplň údaj
E18: ='Rekapitulace stavby'!E14 -> Vyplň údaj | I18: DIČ: | J18: ='Rekapitulace stavby'!AN14 -> Vyplň údaj
D20: Projektant: | I20: IČ:
E21: Ing. Martin Růžička | I21: DIČ:
D23: Zpracovatel: | I23: IČ:
E24: Ing. Martin Růžička | I24: DIČ:
D26: Poznámka:
D30: Cena bez DPH | J30: =ROUND(J85, 2) -> 0
F32: Základ daně | I32: Sazba daně | J32: Výše daně
D33: DPH | E33: základní | F33: =ROUND((SUM(BE85:BE118)), 2) -> 0 | I33: 0.21 | J33: =ROUND(((SUM(BE85:BE118))*I33), 2) -> 0
E34: snížená | F34: =ROUND((SUM(BF85:BF118)), 2) -> 0 | I34: 0.12 | J34: =ROUND(((SUM(BF85:BF118))*I34), 2) -> 0
E35: zákl. přenesená | F35: =ROUND((SUM(BG85:BG118)), 2) -> 0 | I35: 0.21 | J35: =0 -> 0
E36: sníž. přenesená | F36: =ROUND((SUM(BH85:BH118)), 2) -> 0 | I36: 0.12 | J36: =0 -> 0
E37: nulová | F37: =ROUND((SUM(BI85:BI118)), 2) -> 0 | I37: 0 | J37: =0 -> 0
D39: Cena s DPH | G39: v | H39: CZK | J39: =SUM(J30:J37) -> 0
C45: REKAPITULACE ČLENĚNÍ SOUPISU PRACÍ
C47: Stavba:
E48: =E7 -> Oprava kanalizace Hůrky
C49: Objekt:
E50: =E9 -> 3 - Oprava komunikace po roce
C52: Místo: | F52: =F12 -> Hůrky, m.č. Nová Bystřice | I52: Datum: | J52: =IF(J12="","",J12) -> 24. 6. 2024
C54: Zadavatel: | F54: =E15 -> Město Nová Bystřice | I54: Projektant: | J54: =E21 -> Ing. Martin Růžička
C55: Účastník: | F55: =IF(E18="","",E18) -> Vyplň údaj | I55: Zpracovatel: | J55: =E24 -> Ing. Martin Růžička
C57: Kód dílu - Popis | J57: Cena celkem [CZK]
C59: Náklady stavby celkem | J59: =J85 -> 0 | AU59: -1
D60: HSV - Práce a dodávky HSV | J60: =J86 -> 0
D61: 1 - Zemní práce | J61: =J87 -> 0
D62: 5 - Komunikace pozemní | J62: =J90 -> 0
D63: 9 - Ostatní konstrukce a práce, bourání | J63: =J96 -> 0
...

Sheet VON - Vedlejší a ostatní ...
AT2: {2ec5b4c0-c271-49c0-846c-77fd7a17b739}
AT3: 2
D4: KRYCÍ LIST SOUPISU PRACÍ | M4: v --- níže se nacházejí doplnkové a pomocné údaje k sestavám --- v | AT4: False
D6: Stavba:
E7: ='Rekapitulace stavby'!K6 -> Oprava kanalizace Hůrky
D8: Objekt:
E9: VON - Vedlejší a ostatní náklady
D11: KSO: | I11: CC-CZ:
D12: Místo: | F12: Hůrky, m.č. Nová Bystřice | I12: Datum: | J12: ='Rekapitulace stavby'!AN8 -> 24. 6. 2024
D14: Zadavatel: | I14: IČ:
E15: Město Nová Bystřice | I15: DIČ:
D17: Účastník: | I17: IČ: | J17: ='Rekapitulace stavby'!AN13 -> Vyplň údaj
E18: ='Rekapitulace stavby'!E14 -> Vyplň údaj | I18: DIČ: | J18: ='Rekapitulace stavby'!AN14 -> Vyplň údaj
D20: Projektant: | I20: IČ:
E21: Ing. Martin Růžička | I21: DIČ:
D23: Zpracovatel: | I23: IČ:
E24: Ing. Martin Růžička | I24: DIČ:
D26: Poznámka:
D30: Cena bez DPH | J30: =ROUND(J88, 2) -> 0
F32: Základ daně | I32: Sazba daně | J32: Výše daně
D33: DPH | E33: základní | F33: =ROUND((SUM(BE88:BE132)), 2) -> 0 | I33: 0.21 | J33: =ROUND(((SUM(BE88:BE132))*I33), 2) -> 0
E34: snížená | F34: =ROUND((SUM(BF88:BF132)), 2) -> 0 | I34: 0.12 | J34: =ROUND(((SUM(BF88:BF132))*I34), 2) -> 0
E35: zákl. přenesená | F35: =ROUND((SUM(BG88:BG132)), 2) -> 0 | I35: 0.21 | J35: =0 -> 0
E36: sníž. přenesená | F36: =ROUND((SUM(BH88:BH132)), 2) -> 0 | I36: 0.12 | J36: =0 -> 0
E37: nulová | F37: =ROUND((SUM(BI88:BI132)), 2) -> 0 | I37: 0 | J37: =0 -> 0
D39: Cena s DPH | G39: v | H39: CZK | J39: =SUM(J30:J37) -> 0
C45: REKAPITULACE ČLENĚNÍ SOUPISU PRACÍ
C47: Stavba:
E48: =E7 -> Oprava kanalizace Hůrky
C49: Objekt:
E50: =E9 -> VON - Vedlejší a ostatní náklady
C52: Místo: | F52: =F12 -> Hůrky, m.č. Nová Bystřice | I52: Datum: | J52: =IF(J12="","",J12) -> 24. 6. 2024
C54: Zadavatel: | F54: =E15 -> Město Nová Bystřice | I54: Projektant: | J54: =E21 -> Ing. Martin Růžička
C55: Účastník: | F55: =IF(E18="","",E18) -> Vyplň údaj | I55: Zpracovatel: | J55: =E24 -> Ing. Martin Růžička
C57: Kód dílu - Popis | J57: Cena celkem [CZK]
C59: Náklady stavby celkem | J59: =J88 -> 0 | AU59: -1
D60: HSV - Práce a dodávky HSV | J60: =J89 -> 0
D61: 1 - Zemní práce | J61: =J90 -> 0
D62: 9 - Ostatní konstrukce a práce-bourání | J62: =J95 -> 0
D63: VRN - Vedlejší rozpočtové náklady | J63: =J108 -> 0
...

Sheet Seznam figur
C4: SEZNAM FIGUR
C5: Kód: | D5: M-44-24
C6: Stavba: | D6: Oprava kanalizace Hůrky
C7: Datum: | D7: ='Rekapitulace stavby'!AN8 -> 24. 6. 2024
C9: Kód | D9: Popis | E9: MJ | F9: Výměra
C10: 1 | D10: Oprava kanalizace
C11: povrch_s | D11: povrch komunikací nad stokou | F11: 319.95
C12: povrch_s | D12: 319,95 | F12: 319.95
C13: Použití figury:
C14: 113107222 | D14: Odstranění podkladu z kameniva drceného tl přes 100 do 200 mm strojně pl přes 200 m2 | E14: m2 | F14: 319.95
C15: 113107243 | D15: Odstranění podkladu živičného tl přes 100 do 150 mm strojně pl přes 200 m2 | E15: m2 | F15: 319.95
C16: 564851111 | D16: Podklad ze štěrkodrtě ŠD 0/63 mm plochy přes 100 m2 tl 150 mm | E16: m2 | F16: 319.95
C17: 565155001 | D17: Asfaltový beton vrstva podkladní ACP 16 + tl 70 mm š do 1,5 m z nemodifikovaného asfaltu | E17: m2 | F17: 319.95
C18: 573191111 | D18: Postřik infiltrační kationaktivní emulzí v množství 1 kg/m2 | E18: m2 | F18: 319.95
C19: 573211107 | D19: Postřik živičný spojovací z asfaltu v množství 0,30 kg/m2 | E19: m2 | F19: 425.534
C20: 573211109 | D20: Postřik živičný spojovací z asfaltu v množství 0,50 kg/m2 | E20: m2 | F20: 851.067
C21: 577134211 | D21: Asfaltový beton vrstva obrusná ACO 11 tř. II tl 40 mm š do 3 m z nemodifikovaného asfaltu | E21: m2 | F21: 425.534
C22: 577155112 | D22: Asfaltový beton vrstva ložní ACL 16 + tl 60 mm š do 3 m z nemodifikovaného asfaltu | E22: m2 | F22: 425.534
C23: 997221645 | D23: Poplatek za uložení na skládce (skládkovné) odpadu asfaltového bez dehtu kód odpadu 17 03 02 | E23: t | F23: 86.387
C24: R564851112 | D24: Podklad ze štěrkodrtě ŠD 0/32 mm plochy přes 100 m2 tl 150 mm | E24: m2 | F24: 319.95
C25: 2 | D25: Přípojky
C26: délka_p | D26: délka přípojek | E26: m | F26: 129.8
C27: délka_p | D27: 98,1+31,7 | F27: 129.8
C28: Použití figury:
C29: 899722113 | D29: Krytí potrubí z plastů výstražnou fólií z PVC přes 25 do 34cm | E29: m | F29: 129.8
C30: 358315114 | D30: Bourání stoky kompletní nebo vybourání otvorů z prostého betonu plochy do 4 m2 | E30: m3 | F30: 8.156
C31: 919732211 | D31: Styčná spára napojení nového živičného povrchu na stávající za tepla š 15 mm hl 25 mm s prořezáním | E31: m | F31: 259.6
C32: 919735114 | D32: Řezání stávajícího živičného krytu hl přes 150 do 200 mm | E32: m | F32: 259.6
C33: obsyp_p | D33: objem obsypu přípojek | E33: m3 | F33: 43.764
C34: obsyp_p | D34: plocha_p*0,5-(98,1+31,7)*2*0,1*0,1*pi | F34: 43.764
C35: plocha_p | D35: plocha komunikace nad přípojkami | F35: 103.84
C36: plocha_p | D36: (98,1+31,7)*0,8 | F36: 103.84
C37: Použití figury:
C38: 113107523 | D38: Odstranění podkladu z kameniva drceného tl přes 200 do 300 mm při překopech strojně pl přes 15 m2 | E38: m2 | F38: 103.84
C39: 113107525 | D39: Odstranění podkladu z kameniva drceného tl přes 400 do 500 mm při překopech strojně pl přes 15 m2 | E39: m2 | F39: 103.84
C40: 113107542 | D40: Odstranění podkladu živičných tl přes 50 do 100 mm při překopech strojně pl přes 15 m2 | E40: m2 | F40: 103.84
C41: 113107544 | D41: Odstranění podkladu živičných tl přes 150 do 200 mm při překopech strojně pl přes 15 m2 | E41: m2 | F41: 103.84
C42: 132254101 | D42: Hloubení rýh zapažených š do 800 mm v hornině třídy těžitelnosti I skupiny 3 objem do 20 m3 strojně | E42: m3 | F42: 155.76
C43: 162351104 | D43: Vodorovné přemístění přes 500 do 1000 m výkopku/sypaniny z horniny třídy těžitelnosti I skupiny 1 až 3 | E43: m3 | F43: 155.76
C44: 171151103 | D44: Uložení sypaniny z hornin soudržných do násypů zhutněných strojně | E44: m3 | F44: 155.76
...

Sheet Pokyny pro vyplnění
C3: Struktura údajů, formát souboru a metodika pro zpracování
C4: Struktura
C6: Soubor je složen ze záložky Rekapitulace stavby a záložek s názvem soupisu prací pro jednotlivé objekty ve formátu XLSX. Každá ze záložek přitom obsahuje
C7: ještě samostatné sestavy vymezené orámovaním a nadpisem sestavy.
C9: Rekapitulace stavby obsahuje sestavu Rekapitulace stavby a Rekapitulace objektů stavby a soupisů prací.
D10: V sestavě Rekapitulace stavby jsou uvedeny informace identifikující předmět veřejné zakázky na stavební práce, KSO, CC-CZ, CZ-CPV, CZ-CPA a rekapitulaci
D11: celkové nabídkové ceny účastníka.
D13: Termínem "učastník" (resp. zhotovitel) se myslí "účastník zadávacího řízení" ve smyslu zákona o zadávání veřejných zakázek.
D15: V sestavě Rekapitulace objektů stavby a soupisů prací je uvedena rekapitulace stavebních objektů, inženýrských objektů, provozních souborů,
D16: vedlejších a ostatních nákladů a ostatních nákladů s rekapitulací nabídkové ceny za jednotlivé soupisy prací. Na základě údaje Typ je možné
D17: identifikovat, zda se jedná o objekt nebo soupis prací pro daný objekt:
E18: STA | F18: Stavební objekt pozemní
E19: ING | F19: Stavební objekt inženýrský
E20: PRO | F20: Provozní soubor
E21: VON | F21: Vedlejší a ostatní náklady
E22: OST | F22: Ostatní
E23: Soupis | F23: Soupis prací pro daný typ objektu
C25: Soupis prací pro jednotlivé objekty obsahuje sestavy Krycí list soupisu prací, Rekapitulace členění soupisu prací, Soupis prací. Za soupis prací může být považován
C26: i objekt stavby v případě, že neobsahuje podřízenou zakázku.
D27: Krycí list soupisu obsahuje rekapitulaci informací o předmětu veřejné zakázky ze sestavy Rekapitulace stavby, informaci o zařazení objektu do KSO,
D28: CC-CZ, CZ-CPV, CZ-CPA a rekapitulaci celkové nabídkové ceny účastníka za aktuální soupis prací.
D30: Rekapitulace členění soupisu prací obsahuje rekapitulaci soupisu prací ve všech úrovních členění soupisu tak, jak byla tato členění použita (např.
D31: stavební díly, funkční díly, případně jiné členění) s rekapitulací nabídkové ceny.
D33: Soupis prací obsahuje položky veškerých stavebních nebo montážních prací, dodávek materiálů a služeb nezbytných pro zhotovení stavebního objektu,
D34: inženýrského objektu, provozního souboru, vedlejších a ostatních nákladů.
D35: Pro položky soupisu prací se zobrazují následující informace:
E36: PČ | G36: Pořadové číslo položky v aktuálním soupisu
E37: TYP | G37: Typ položky: K - konstrukce, M - materiál, PP - plný popis, PSC - poznámka k souboru cen, P - poznámka k položce, VV - výkaz výměr, FIG - rozpad figur
E38: Kód | G38: Kód položky
E39: Popis | G39: Zkrácený popis položky
E40: MJ | G40: Měrná jednotka položky
E41: Množství | G41: Množství v měrné jednotce
E42: J.cena | G42: Jednotková cena položky. Zadaní může obsahovat namísto J.ceny sloupce J.materiál a J.montáž, jejichž součet definuje
G43: J.cenu položky.
E44: Cena celkem | G44: Celková cena položky daná jako součin množství a j.ceny
E45: Cenová soustava | G45: Příslušnost položky do cenové soustavy
D47: Ke každé položce soupisu prací se na samostatných řádcích může zobrazovat:
E48: Plný popis položky
E49: Poznámka k souboru cen a poznámka zadavatele
E50: Výkaz výměr
...
