Workbook

Sheet SO01 SO01 KL
A1: SLEPÝ ROZPOČET
A2: Rozpočet | C2: SO01 | D2: Bezbariérová knihovna Štětí-výměna vchodov. dveří | F2: JKSO
A4: Objekt | F4: SKP
A5: SO01 | C5: Bezbariérová knihovna Štětí-výměna vchodov. dveří | F5: Měrná jednotka
A6: Stavba | F6: Počet jednotek
A7: 2025/093 | C7: Bezbariérová knihovna Štětí-výměna vchodov. dveří | F7: Náklady na m.j. | G7: =IF(G6=0,,ROUND((F30+F32)/G6,1)) -> 0
A8: Projektant | F8: Typ rozpočtu
A9: Zpracovatel projektu
A10: Objednatel
A11: Dodavatel | C11: Dle výběrového řízení | F11: Zakázkové číslo
A12: Rozpočtoval | F12: Počet listů
A13: ROZPOČTOVÉ NÁKLADY
A14: Základní rozpočtové náklady | D14: Ostatní rozpočtové náklady
B15: HSV celkem | C15: ='SO01 SO01 Rek'!E26 -> 0 | D15: ='SO01 SO01 Rek'!A31 -> Vytýčení inženýrských sítí | G15: ='SO01 SO01 Rek'!I31 -> 0
A16: Z | B16: PSV celkem | C16: ='SO01 SO01 Rek'!F26 -> 0 | D16: ='SO01 SO01 Rek'!A32 -> Zabezpečení provozu vstupu do knihovny | G16: ='SO01 SO01 Rek'!I32 -> 0
A17: R | B17: M práce celkem | C17: ='SO01 SO01 Rek'!H26 -> 0 | D17: ='SO01 SO01 Rek'!A33 -> Přesun stavebních kapacit | G17: ='SO01 SO01 Rek'!I33 -> 0
A18: N | B18: M dodávky celkem | C18: ='SO01 SO01 Rek'!G26 -> 0 | D18: ='SO01 SO01 Rek'!A34 -> Mimostaveništní doprava | G18: ='SO01 SO01 Rek'!I34 -> 0
A19: ZRN celkem | C19: =SUM(C15:C18) -> 0 | D19: ='SO01 SO01 Rek'!A35 -> Zařízení staveniště | G19: ='SO01 SO01 Rek'!I35 -> 0
D20: ='SO01 SO01 Rek'!A36 -> Provoz investora | G20: ='SO01 SO01 Rek'!I36 -> 0
A21: HZS | C21: ='SO01 SO01 Rek'!I26 -> 0 | D21: ='SO01 SO01 Rek'!A37 -> Kompletační činnost (IČD) | G21: ='SO01 SO01 Rek'!I37 -> 0
A22: ZRN+HZS | C22: =C19+C21 -> 0 | D22: Ostatní náklady neuvedené | G22: =G23-SUM(G15:G21) -> 0
A23: ZRN+ost.náklady+HZS | C23: =C22+G23 -> 0 | D23: Ostatní náklady celkem | G23: ='SO01 SO01 Rek'!H39 -> 0
A24: Vypracoval | D24: Za zhotovitele | F24: Za objednatele
A25: Jméno : | D25: Jméno : | F25: Jméno :
A26: Datum : | D26: Datum : | F26: Datum :
A28: Podpis : | D28: Podpis: | F28: Podpis:
A30: Základ pro DPH | C30: 21 | D30: % | F30: =C23-F32 -> 0
A31: DPH | C31: =C30 -> 21 | D31: % | F31: =ROUND(PRODUCT(F30,C31/100),0) -> 0
A32: Základ pro DPH | C32: 0 | D32: % | F32: 0
A33: DPH | C33: =C32 -> 0 | D33: % | F33: =ROUND(PRODUCT(F32,C33/100),0) -> 0
A34: CENA ZA OBJEKT CELKEM | F34: =ROUND(SUM(F30:F33),0) -> 0
A36: Poznámka :

Sheet SO01 SO01 Rek
A1: Stavba : | C1: 2025/093 Bezbariérová knihovna Štětí-výměna vchodov. dveří | G1: Rozpočet : | H1: SO01
A2: Objekt : | C2: SO01 Bezbariérová knihovna Štětí-výměna vchodov. dveří | G2: Bezbariérová knihovna Štětí-výměna vchodov. dveří
A4: REKAPITULACE STAVEBNÍCH DÍLŮ
B6: Stavební díl | E6: HSV | F6: PSV | G6: Dodávka | H6: Montáž | I6: HZS
A7: ='SO01 SO01 Pol'!B7 -> 1 | B7: ='SO01 SO01 Pol'!C7 -> Zemní práce | E7: ='SO01 SO01 Pol'!BA24 -> 0 | F7: ='SO01 SO01 Pol'!BB24 -> 0 | G7: ='SO01 SO01 Pol'!BC24 -> 0 | H7: ='SO01 SO01 Pol'!BD24 -> 0 | I7: ='SO01 SO01 Pol'!BE24 -> 0
A8: ='SO01 SO01 Pol'!B25 -> 2 | B8: ='SO01 SO01 Pol'!C25 -> Základy,zvláštní zakládání | E8: ='SO01 SO01 Pol'!BA40 -> 0 | F8: ='SO01 SO01 Pol'!BB40 -> 0 | G8: ='SO01 SO01 Pol'!BC40 -> 0 | H8: ='SO01 SO01 Pol'!BD40 -> 0 | I8: ='SO01 SO01 Pol'!BE40 -> 0
A9: ='SO01 SO01 Pol'!B41 -> 3 | B9: ='SO01 SO01 Pol'!C41 -> Svislé a kompletní konstrukce | E9: ='SO01 SO01 Pol'!BA45 -> 0 | F9: ='SO01 SO01 Pol'!BB45 -> 0 | G9: ='SO01 SO01 Pol'!BC45 -> 0 | H9: ='SO01 SO01 Pol'!BD45 -> 0 | I9: ='SO01 SO01 Pol'!BE45 -> 0
A10: ='SO01 SO01 Pol'!B46 -> 4 | B10: ='SO01 SO01 Pol'!C46 -> Vodorovné konstrukce | E10: ='SO01 SO01 Pol'!BA53 -> 0 | F10: ='SO01 SO01 Pol'!BB53 -> 0 | G10: ='SO01 SO01 Pol'!BC53 -> 0 | H10: ='SO01 SO01 Pol'!BD53 -> 0 | I10: ='SO01 SO01 Pol'!BE53 -> 0
A11: ='SO01 SO01 Pol'!B54 -> 5 | B11: ='SO01 SO01 Pol'!C54 -> Komunikace | E11: ='SO01 SO01 Pol'!BA61 -> 0 | F11: ='SO01 SO01 Pol'!BB61 -> 0 | G11: ='SO01 SO01 Pol'!BC61 -> 0 | H11: ='SO01 SO01 Pol'!BD61 -> 0 | I11: ='SO01 SO01 Pol'!BE61 -> 0
A12: ='SO01 SO01 Pol'!B62 -> 61 | B12: ='SO01 SO01 Pol'!C62 -> Upravy povrchů vnitřní | E12: ='SO01 SO01 Pol'!BA70 -> 0 | F12: ='SO01 SO01 Pol'!BB70 -> 0 | G12: ='SO01 SO01 Pol'!BC70 -> 0 | H12: ='SO01 SO01 Pol'!BD70 -> 0 | I12: ='SO01 SO01 Pol'!BE70 -> 0
A13: ='SO01 SO01 Pol'!B71 -> 63 | B13: ='SO01 SO01 Pol'!C71 -> Podlahy a podlahové konstrukce | E13: ='SO01 SO01 Pol'!BA84 -> 0 | F13: ='SO01 SO01 Pol'!BB84 -> 0 | G13: ='SO01 SO01 Pol'!BC84 -> 0 | H13: ='SO01 SO01 Pol'!BD84 -> 0 | I13: ='SO01 SO01 Pol'!BE84 -> 0
A14: ='SO01 SO01 Pol'!B85 -> 94 | B14: ='SO01 SO01 Pol'!C85 -> Lešení a stavební výtahy | E14: ='SO01 SO01 Pol'!BA89 -> 0 | F14: ='SO01 SO01 Pol'!BB89 -> 0 | G14: ='SO01 SO01 Pol'!BC89 -> 0 | H14: ='SO01 SO01 Pol'!BD89 -> 0 | I14: ='SO01 SO01 Pol'!BE89 -> 0
A15: ='SO01 SO01 Pol'!B90 -> 95 | B15: ='SO01 SO01 Pol'!C90 -> Dokončovací kce na pozem.stav. | E15: ='SO01 SO01 Pol'!BA97 -> 0 | F15: ='SO01 SO01 Pol'!BB97 -> 0 | G15: ='SO01 SO01 Pol'!BC97 -> 0 | H15: ='SO01 SO01 Pol'!BD97 -> 0 | I15: ='SO01 SO01 Pol'!BE97 -> 0
A16: ='SO01 SO01 Pol'!B98 -> 96 | B16: ='SO01 SO01 Pol'!C98 -> Bourání konstrukcí | E16: ='SO01 SO01 Pol'!BA113 -> 0 | F16: ='SO01 SO01 Pol'!BB113 -> 0 | G16: ='SO01 SO01 Pol'!BC113 -> 0 | H16: ='SO01 SO01 Pol'!BD113 -> 0 | I16: ='SO01 SO01 Pol'!BE113 -> 0
A17: ='SO01 SO01 Pol'!B114 -> 99 | B17: ='SO01 SO01 Pol'!C114 -> Přesun hmot | E17: ='SO01 SO01 Pol'!BA116 -> 0 | F17: ='SO01 SO01 Pol'!BB116 -> 0 | G17: ='SO01 SO01 Pol'!BC116 -> 0 | H17: ='SO01 SO01 Pol'!BD116 -> 0 | I17: ='SO01 SO01 Pol'!BE116 -> 0
A18: ='SO01 SO01 Pol'!B117 -> 711 | B18: ='SO01 SO01 Pol'!C117 -> Izolace proti vodě | E18: ='SO01 SO01 Pol'!BA138 -> 0 | F18: ='SO01 SO01 Pol'!BB138 -> 0 | G18: ='SO01 SO01 Pol'!BC138 -> 0 | H18: ='SO01 SO01 Pol'!BD138 -> 0 | I18: ='SO01 SO01 Pol'!BE138 -> 0
A19: ='SO01 SO01 Pol'!B139 -> 713 | B19: ='SO01 SO01 Pol'!C139 -> Izolace tepelné | E19: ='SO01 SO01 Pol'!BA142 -> 0 | F19: ='SO01 SO01 Pol'!BB142 -> 0 | G19: ='SO01 SO01 Pol'!BC142 -> 0 | H19: ='SO01 SO01 Pol'!BD142 -> 0 | I19: ='SO01 SO01 Pol'!BE142 -> 0
A20: ='SO01 SO01 Pol'!B143 -> 763 | B20: ='SO01 SO01 Pol'!C143 -> Dřevostavby | E20: ='SO01 SO01 Pol'!BA150 -> 0 | F20: ='SO01 SO01 Pol'!BB150 -> 0 | G20: ='SO01 SO01 Pol'!BC150 -> 0 | H20: ='SO01 SO01 Pol'!BD150 -> 0 | I20: ='SO01 SO01 Pol'!BE150 -> 0
A21: ='SO01 SO01 Pol'!B151 -> 767 | B21: ='SO01 SO01 Pol'!C151 -> Konstrukce zámečnické | E21: ='SO01 SO01 Pol'!BA171 -> 0 | F21: ='SO01 SO01 Pol'!BB171 -> 0 | G21: ='SO01 SO01 Pol'!BC171 -> 0 | H21: ='SO01 SO01 Pol'!BD171 -> 0 | I21: ='SO01 SO01 Pol'!BE171 -> 0
A22: ='SO01 SO01 Pol'!B172 -> 771 | B22: ='SO01 SO01 Pol'!C172 -> Podlahy z dlaždic a obklady | E22: ='SO01 SO01 Pol'!BA184 -> 0 | F22: ='SO01 SO01 Pol'!BB184 -> 0 | G22: ='SO01 SO01 Pol'!BC184 -> 0 | H22: ='SO01 SO01 Pol'!BD184 -> 0 | I22: ='SO01 SO01 Pol'!BE184 -> 0
A23: ='SO01 SO01 Pol'!B185 -> 784 | B23: ='SO01 SO01 Pol'!C185 -> Malby | E23: ='SO01 SO01 Pol'!BA196 -> 0 | F23: ='SO01 SO01 Pol'!BB196 -> 0 | G23: ='SO01 SO01 Pol'!BC196 -> 0 | H23: ='SO01 SO01 Pol'!BD196 -> 0 | I23: ='SO01 SO01 Pol'!BE196 -> 0
A24: ='SO01 SO01 Pol'!B197 -> M21 | B24: ='SO01 SO01 Pol'!C197 -> Elektromontáže | E24: ='SO01 SO01 Pol'!BA216 -> 0 | F24: ='SO01 SO01 Pol'!BB216 -> 0 | G24: ='SO01 SO01 Pol'!BC216 -> 0 | H24: ='SO01 SO01 Pol'!BD216 -> 0 | I24: ='SO01 SO01 Pol'!BE216 -> 0
A25: ='SO01 SO01 Pol'!B217 -> D96 | B25: ='SO01 SO01 Pol'!C217 -> Přesuny suti a vybouraných hmot | E25: ='SO01 SO01 Pol'!BA225 -> 0 | F25: ='SO01 SO01 Pol'!BB225 -> 0 | G25: ='SO01 SO01 Pol'!BC225 -> 0 | H25: ='SO01 SO01 Pol'!BD225 -> 0 | I25: ='SO01 SO01 Pol'!BE225 -> 0
B26: CELKEM OBJEKT | E26: =SUM(E7:E25) -> 0 | F26: =SUM(F7:F25) -> 0 | G26: =SUM(G7:G25) -> 0 | H26: =SUM(H7:H25) -> 0 | I26: =SUM(I7:I25) -> 0
A28: VEDLEJŠÍ ROZPOČTOVÉ NÁKLADY
A30: Název VRN | E30: Kč | F30: % | G30: Základna | I30: Kč
A31: Vytýčení inženýrských sítí | G31: 0 | I31: =E31+F31*G31/100 -> 0 | BA31: 0
A32: Zabezpečení provozu vstupu do knihovny | G32: 0 | I32: =E32+F32*G32/100 -> 0 | BA32: 0
A33: Přesun stavebních kapacit | G33: 0 | I33: =E33+F33*G33/100 -> 0 | BA33: 0
A34: Mimostaveništní doprava | G34: 0 | I34: =E34+F34*G34/100 -> 0 | BA34: 0
A35: Zařízení staveniště | G35: 0 | I35: =E35+F35*G35/100 -> 0 | BA35: 1
A36: Provoz investora | G36: 0 | I36: =E36+F36*G36/100 -> 0 | BA36: 1
A37: Kompletační činnost (IČD) | G37: 0 | I37: =E37+F37*G37/100 -> 0 | BA37: 2
A38: Rezerva rozpočtu | G38: 0 | I38: =E38+F38*G38/100 -> 0 | BA38: 2
B39: CELKEM VRN | H39: =SUM(I31:I38) -> 0

Sheet SO01 SO01 Pol
A1: Slepý rozpočet
A3: Stavba : | C3: 2025/093 Bezbariérová knihovna Štětí-výměna vchodov. dveří | E3: Rozpočet: | F3: ='SO01 SO01 Rek'!H1 -> SO01
A4: Objekt : | C4: SO01 Bezbariérová knihovna Štětí-výměna vchodov. dveří | E4: ='SO01 SO01 Rek'!G2 -> Bezbariérová knihovna Štětí-výměna vchodov. dveří
A6: P.č. | B6: Číslo položky | C6: Název položky | D6: MJ | E6: množství | F6: cena / MJ | G6: celkem (Kč) | H6: Jednotková hmotnost | I6: Celková hmotnost | J6: Jednotková dem.hmot. | K6: Celková dem.hmot.
A7: Díl: | B7: 1 | C7: Zemní práce | O7: 1
A8: 1 | B8: 113106123U00 | C8: Rozebr zámk dlažba pro pěší komun | D8: m2 | E8: 40 | F8: 0 | G8: =E8*F8 -> 0 | H8: 0 | I8: =E8*H8 -> 0 | J8: 0 | K8: =E8*J8 -> 0 | O8: 2 | AA8: 1 | AB8: 1 | AC8: 1 | AZ8: 1 | BA8: =IF(AZ8=1,G8,0) -> 0 | BB8: =IF(AZ8=2,G8,0) -> 0 | BC8: =IF(AZ8=3,G8,0) -> 0 | BD8: =IF(AZ8=4,G8,0) -> 0 | BE8: =IF(AZ8=5,G8,0) -> 0 | CA8: 1 | CB8: 1
C9: předpoklad:5,00*8,00 | E9: 40 | M9: předpoklad:5,00*8,00
A10: 2 | B10: 113107111R00 | C10: Odstranění podkladu pl. 200 m2,kam.těžené tl.10 cm | D10: m2 | E10: 40 | F10: 0 | G10: =E10*F10 -> 0 | H10: 0 | I10: =E10*H10 -> 0 | J10: -0.16 | K10: =E10*J10 -> -6.4 | O10: 2 | AA10: 1 | AB10: 1 | AC10: 1 | AZ10: 1 | BA10: =IF(AZ10=1,G10,0) -> 0 | BB10: =IF(AZ10=2,G10,0) -> 0 | BC10: =IF(AZ10=3,G10,0) -> 0 | BD10: =IF(AZ10=4,G10,0) -> 0 | BE10: =IF(AZ10=5,G10,0) -> 0 | CA10: 1 | CB10: 1
C11: 5,00*8,00 | E11: 40 | M11: 5,00*8,00
A12: 3 | B12: 131203101U00 | C12: Hloubení jam soudrž hor 3 ručně | D12: m3 | E12: 5.4448 | F12: 0 | G12: =E12*F12 -> 0 | H12: 0 | I12: =E12*H12 -> 0 | J12: 0 | K12: =E12*J12 -> 0 | O12: 2 | AA12: 1 | AB12: 1 | AC12: 1 | AZ12: 1 | BA12: =IF(AZ12=1,G12,0) -> 0 | BB12: =IF(AZ12=2,G12,0) -> 0 | BC12: =IF(AZ12=3,G12,0) -> 0 | BD12: =IF(AZ12=4,G12,0) -> 0 | BE12: =IF(AZ12=5,G12,0) -> 0 | CA12: 1 | CB12: 1
C13: 3,14*1,70*1,70*1,20/2 | E13: 5.4448 | M13: 3,14*1,70*1,70*1,20/2
A14: 4 | B14: 162601102R00 | C14: Vodorovné přemístění výkopku z hor.1-4 do 5000 m | D14: m3 | E14: 5.4448 | F14: 0 | G14: =E14*F14 -> 0 | H14: 0 | I14: =E14*H14 -> 0 | J14: 0 | K14: =E14*J14 -> 0 | O14: 2 | AA14: 1 | AB14: 1 | AC14: 1 | AZ14: 1 | BA14: =IF(AZ14=1,G14,0) -> 0 | BB14: =IF(AZ14=2,G14,0) -> 0 | BC14: =IF(AZ14=3,G14,0) -> 0 | BD14: =IF(AZ14=4,G14,0) -> 0 | BE14: =IF(AZ14=5,G14,0) -> 0 | CA14: 1 | CB14: 1
C15: 3,14*1,70*1,70*1,20/2 | E15: 5.4448 | M15: 3,14*1,70*1,70*1,20/2
A16: 5 | B16: 167101101R00 | C16: Nakládání výkopku z hor.1-4 v množství do 100 m3 | D16: m3 | E16: 5.4448 | F16: 0 | G16: =E16*F16 -> 0 | H16: 0 | I16: =E16*H16 -> 0 | J16: 0 | K16: =E16*J16 -> 0 | O16: 2 | AA16: 1 | AB16: 1 | AC16: 1 | AZ16: 1 | BA16: =IF(AZ16=1,G16,0) -> 0 | BB16: =IF(AZ16=2,G16,0) -> 0 | BC16: =IF(AZ16=3,G16,0) -> 0 | BD16: =IF(AZ16=4,G16,0) -> 0 | BE16: =IF(AZ16=5,G16,0) -> 0 | CA16: 1 | CB16: 1
C17: 3,14*1,70*1,70*1,20/2 | E17: 5.4448 | M17: 3,14*1,70*1,70*1,20/2
A18: 6 | B18: 171201201R00 | C18: Uložení sypaniny na skládku | D18: m3 | E18: 5.4448 | F18: 0 | G18: =E18*F18 -> 0 | H18: 0 | I18: =E18*H18 -> 0 | J18: 0 | K18: =E18*J18 -> 0 | O18: 2 | AA18: 1 | AB18: 1 | AC18: 1 | AZ18: 1 | BA18: =IF(AZ18=1,G18,0) -> 0 | BB18: =IF(AZ18=2,G18,0) -> 0 | BC18: =IF(AZ18=3,G18,0) -> 0 | BD18: =IF(AZ18=4,G18,0) -> 0 | BE18: =IF(AZ18=5,G18,0) -> 0 | CA18: 1 | CB18: 1
C19: 3,14*1,70*1,70*1,20/2 | E19: 5.4448 | M19: 3,14*1,70*1,70*1,20/2
A20: 7 | B20: 181101102R00 | C20: Úprava pláně v zářezech v hor. 1-4, se zhutněním | D20: m2 | E20: 40 | F20: 0 | G20: =E20*F20 -> 0 | H20: 0 | I20: =E20*H20 -> 0 | J20: 0 | K20: =E20*J20 -> 0 | O20: 2 | AA20: 1 | AB20: 1 | AC20: 1 | AZ20: 1 | BA20: =IF(AZ20=1,G20,0) -> 0 | BB20: =IF(AZ20=2,G20,0) -> 0 | BC20: =IF(AZ20=3,G20,0) -> 0 | BD20: =IF(AZ20=4,G20,0) -> 0 | BE20: =IF(AZ20=5,G20,0) -> 0 | CA20: 1 | CB20: 1
C21: zuámková dlažba:5,00*8,00 | E21: 40 | M21: zuámková dlažba:5,00*8,00
A22: 8 | B22: 199000002R00 | C22: Poplatek za skládku horniny 1- 4 | D22: m3 | E22: 5.4448 | F22: 0 | G22: =E22*F22 -> 0 | H22: 0 | I22: =E22*H22 -> 0 | J22: 0 | K22: =E22*J22 -> 0 | O22: 2 | AA22: 1 | AB22: 1 | AC22: 1 | AZ22: 1 | BA22: =IF(AZ22=1,G22,0) -> 0 | BB22: =IF(AZ22=2,G22,0) -> 0 | BC22: =IF(AZ22=3,G22,0) -> 0 | BD22: =IF(AZ22=4,G22,0) -> 0 | BE22: =IF(AZ22=5,G22,0) -> 0 | CA22: 1 | CB22: 1
C23: 3,14*1,70*1,70*1,20/2 | E23: 5.4448 | M23: 3,14*1,70*1,70*1,20/2
B24: Celkem za | C24: 1 Zemní práce | G24: =SUM(G7:G23) -> 0 | I24: =SUM(I7:I23) -> 0 | K24: =SUM(K7:K23) -> -6.4 | O24: 4 | BA24: =SUM(BA7:BA23) -> 0 | BB24: =SUM(BB7:BB23) -> 0 | BC24: =SUM(BC7:BC23) -> 0 | BD24: =SUM(BD7:BD23) -> 0 | BE24: =SUM(BE7:BE23) -> 0
A25: Díl: | B25: 2 | C25: Základy,zvláštní zakládání | O25: 1
A26: 9 | B26: 273311126U00 | C26: Základ deska prostý beton C20/25-XC2 | D26: m3 | E26: 0.6005 | F26: 0 | G26: =E26*F26 -> 0 | H26: 2.53596 | I26: =E26*H26 -> 1.522844 | J26: 0 | K26: =E26*J26 -> 0 | O26: 2 | AA26: 1 | AB26: 1 | AC26: 1 | AZ26: 1 | BA26: =IF(AZ26=1,G26,0) -> 0 | BB26: =IF(AZ26=2,G26,0) -> 0 | BC26: =IF(AZ26=3,G26,0) -> 0 | BD26: =IF(AZ26=4,G26,0) -> 0 | BE26: =IF(AZ26=5,G26,0) -> 0 | CA26: 1 | CB26: 1
C27: 3,14*1,70*1,50*0,15/2 | E27: 0.6005 | M27: 3,14*1,70*1,50*0,15/2
A28: 10 | B28: 273351215R00 | C28: Bednění stěn základových desek - zřízení | D28: m2 | E28: 11.1156 | F28: 0 | G28: =E28*F28 -> 0 | H28: 0.03925 | I28: =E28*H28 -> 0.4362873 | J28: 0 | K28: =E28*J28 -> 0 | O28: 2 | AA28: 1 | AB28: 1 | AC28: 1 | AZ28: 1 | BA28: =IF(AZ28=1,G28,0) -> 0 | BB28: =IF(AZ28=2,G28,0) -> 0 | BC28: =IF(AZ28=3,G28,0) -> 0 | BD28: =IF(AZ28=4,G28,0) -> 0 | BE28: =IF(AZ28=5,G28,0) -> 0 | CA28: 1 | CB28: 1
C29: 3,14*3,50/2*1,20 | E29: 6.594 | M29: 3,14*3,50/2*1,20
C30: 3,14*3,20/2*0,90 | E30: 4.5216 | M30: 3,14*3,20/2*0,90
A31: 11 | B31: 273351216R00 | C31: Bednění stěn základových desek - odstranění | D31: m2 | E31: 11.1156 | F31: 0 | G31: =E31*F31 -> 0 | H31: 0 | I31: =E31*H31 -> 0 | J31: 0 | K31: =E31*J31 -> 0 | O31: 2 | AA31: 1 | AB31: 1 | AC31: 1 | AZ31: 1 | BA31: =IF(AZ31=1,G31,0) -> 0 | BB31: =IF(AZ31=2,G31,0) -> 0 | BC31: =IF(AZ31=3,G31,0) -> 0 | BD31: =IF(AZ31=4,G31,0) -> 0 | BE31: =IF(AZ31=5,G31,0) -> 0 | CA31: 1 | CB31: 1
C32: 3,14*3,50/2*1,20 | E32: 6.594 | M32: 3,14*3,50/2*1,20
C33: 3,14*3,20/2*0,90 | E33: 4.5216 | M33: 3,14*3,20/2*0,90
A34: 12 | B34: 273361921RT9 | C34: Výztuž základových desek ze svařovaných sítí svařovanou sítí - drát 8,0 oka 150/150 | D34: t | E34: 0.0274 | F34: 0 | G34: =E34*F34 -> 0 | H34: 1.05702 | I34: =E34*H34 -> 0.028962348 | J34: 0 | K34: =E34*J34 -> 0 | O34: 2 | AA34: 1 | AB34: 1 | AC34: 1 | AZ34: 1 | BA34: =IF(AZ34=1,G34,0) -> 0 | BB34: =IF(AZ34=2,G34,0) -> 0 | BC34: =IF(AZ34=3,G34,0) -> 0 | BD34: =IF(AZ34=4,G34,0) -> 0 | BE34: =IF(AZ34=5,G34,0) -> 0 | CA34: 1 | CB34: 1
C35: 3,14*1,60*1,60/2*6,82/1000 | E35: 0.0274 | M35: 3,14*1,60*1,60/2*6,82/1000
A36: 13 | B36: 274313621R00 | C36: Beton základových pasů prostý C 20/25 (B 25) -XC2 | D36: m3 | E36: 2.7004 | F36: 0 | G36: =E36*F36 -> 0 | H36: 2.45329 | I36: =E36*H36 -> 6.6248643 | J36: 0 | K36: =E36*J36 -> 0 | O36: 2 | AA36: 1 | AB36: 1 | AC36: 1 | AZ36: 1 | BA36: =IF(AZ36=1,G36,0) -> 0 | BB36: =IF(AZ36=2,G36,0) -> 0 | BC36: =IF(AZ36=3,G36,0) -> 0 | BD36: =IF(AZ36=4,G36,0) -> 0 | BE36: =IF(AZ36=5,G36,0) -> 0 | CA36: 1 | CB36: 1
C37: 6,28*0,40*0,55 | E37: 1.3816 | M37: 6,28*0,40*0,55
C38: 6,28*0,70*0,30 | E38: 1.3188 | M38: 6,28*0,70*0,30
A39: 14 | B39: 285941834R00 | C39: provedení ukotvení nového základ.pasu a desky +provázání výztuže | D39: kus | E39: 20 | F39: 0 | G39: =E39*F39 -> 0 | H39: 0.02422 | I39: =E39*H39 -> 0.4844 | J39: 0 | K39: =E39*J39 -> 0 | O39: 2 | AA39: 1 | AB39: 1 | AC39: 1 | AZ39: 1 | BA39: =IF(AZ39=1,G39,0) -> 0 | BB39: =IF(AZ39=2,G39,0) -> 0 | BC39: =IF(AZ39=3,G39,0) -> 0 | BD39: =IF(AZ39=4,G39,0) -> 0 | BE39: =IF(AZ39=5,G39,0) -> 0 | CA39: 1 | CB39: 1
B40: Celkem za | C40: 2 Základy,zvláštní zakládání | G40: =SUM(G25:G39) -> 0 | I40: =SUM(I25:I39) -> 9.0973579 | K40: =SUM(K25:K39) -> 0 | O40: 4 | BA40: =SUM(BA25:BA39) -> 0 | BB40: =SUM(BB25:BB39) -> 0 | BC40: =SUM(BC25:BC39) -> 0 | BD40: =SUM(BD25:BD39) -> 0 | BE40: =SUM(BE25:BE39) -> 0
A41: Díl: | B41: 3 | C41: Svislé a kompletní konstrukce | O41: 1
A42: 15 | B42: 342264051RT2 | C42: Podhled sádrokartonový na zavěšenou ocel. konstr. desky protipožární tl. 12,5 mm, bez izolace | D42: m2 | E42: 31 | F42: 0 | G42: =E42*F42 -> 0 | H42: 0.02017 | I42: =E42*H42 -> 0.62527 | J42: 0 | K42: =E42*J42 -> 0 | O42: 2 | AA42: 1 | AB42: 1 | AC42: 1 | AZ42: 1 | BA42: =IF(AZ42=1,G42,0) -> 0 | BB42: =IF(AZ42=2,G42,0) -> 0 | BC42: =IF(AZ42=3,G42,0) -> 0 | BD42: =IF(AZ42=4,G42,0) -> 0 | BE42: =IF(AZ42=5,G42,0) -> 0 | CA42: 1 | CB42: 1
...
