Workbook

Sheet SO01 SO01 KL
A1: SLEPÝ ROZPOČET
A2: Rozpočet | C2: SO01 | D2: Bezbariérová knihovna Štětí-výměna vchodov. dveří | F2: JKSO
A4: Objekt | F4: SKP
A5: SO01 | C5: Bezbariérová knihovna Štětí-výměna vchodov. dveří | F5: Měrná jednotka
A6: Stavba | F6: Počet jednotek
A7: 2025/093 | C7: Bezbariérová knihovna Štětí-výměna vchodov. dveří | F7: Náklady na m.j. | G7: =IF(G6=0,,ROUND((F30+F32)/G6,1)) -> 0
A8: Projektant | F8: Typ rozpočtu
A9: Zpracovatel projektu
A10: Objednatel
A11: Dodavatel | C11: Dle výběrového řízení | F11: Zakázkové číslo
A12: Rozpočtoval | F12: Počet listů
A13: ROZPOČTOVÉ NÁKLADY
A14: Základní rozpočtové náklady | D14: Ostatní rozpočtové náklady
B15: HSV celkem | C15: ='SO01 SO01 Rek'!E26 -> 0 | D15: ='SO01 SO01 Rek'!A31 -> Vytýčení inženýrských sítí | G15: ='SO01 SO01 Rek'!I31 -> 0
A16: Z | B16: PSV celkem | C16: ='SO01 SO01 Rek'!F26 -> 0 | D16: ='SO01 SO01 Rek'!A32 -> Zabezpečení provozu vstupu do knihovny | G16: ='SO01 SO01 Rek'!I32 -> 0
A17: R | B17: M práce celkem | C17: ='SO01 SO01 Rek'!H26 -> 0 | D17: ='SO01 SO01 Rek'!A33 -> Přesun stavebních kapacit | G17: ='SO01 SO01 Rek'!I33 -> 0
A18: N | B18: M dodávky celkem | C18: ='SO01 SO01 Rek'!G26 -> 0 | D18: ='SO01 SO01 Rek'!A34 -> Mimostaveništní doprava | G18: ='SO01 SO01 Rek'!I34 -> 0
A19: ZRN celkem | C19: =SUM(C15:C18) -> 0 | D19: ='SO01 SO01 Rek'!A35 -> Zařízení staveniště | G19: ='SO01 SO01 Rek'!I35 -> 0
D20: ='SO01 SO01 Rek'!A36 -> Provoz investora | G20: ='SO01 SO01 Rek'!I36 -> 0
A21: HZS | C21: ='SO01 SO01 Rek'!I26 -> 0 | D21: ='SO01 SO01 Rek'!A37 -> Kompletační činnost (IČD) | G21: ='SO01 SO01 Rek'!I37 -> 0
A22: ZRN+HZS | C22: =C19+C21 -> 0 | D22: Ostatní náklady neuvedené | G22: =G23-SUM(G15:G21) -> 0
A23: ZRN+ost.náklady+HZS | C23: =C22+G23 -> 0 | D23: Ostatní náklady celkem | G23: ='SO01 SO01 Rek'!H39 -> 0
A24: Vypracoval | D24: Za zhotovitele | F24: Za objednatele
A25: Jméno : | D25: Jméno : | F25: Jméno :
A26: Datum : | D26: Datum : | F26: Datum :
A28: Podpis : | D28: Podpis: | F28: Podpis:
A30: Základ pro DPH | C30: 21 | D30: % | F30: =C23-F32 -> 0
A31: DPH | C31: =C30 -> 21 | D31: % | F31: =ROUND(PRODUCT(F30,C31/100),0) -> 0
A32: Základ pro DPH | C32: 0 | D32: % | F32: 0
A33: DPH | C33: =C32 -> 0 | D33: % | F33: =ROUND(PRODUCT(F32,C33/100),0) -> 0
A34: CENA ZA OBJEKT CELKEM | F34: =ROUND(SUM(F30:F33),0) -> 0
A36: Poznámka :

Sheet SO01 SO01 Rek
A1: Stavba : | C1: 2025/093 Bezbariérová knihovna Štětí-výměna vchodov. dveří | G1: Rozpočet : | H1: SO01
A2: Objekt : | C2: SO01 Bezbariérová knihovna Štětí-výměna vchodov. dveří | G2: Bezbariérová knihovna Štětí-výměna vchodov. dveří
A4: REKAPITULACE STAVEBNÍCH DÍLŮ
B6: Stavební díl | E6: HSV | F6: PSV | G6: Dodávka | H6: Montáž | I6: HZS
A7: ='SO01 SO01 Pol'!B7 -> 1 | B7: ='SO01 SO01 Pol'!C7 -> Zemní práce | E7: ='SO01 SO01 Pol'!BA24 -> 0 | F7: ='SO01 SO01 Pol'!BB24 -> 0 | G7: ='SO01 SO01 Pol'!BC24 -> 0 | H7: ='SO01 SO01 Pol'!BD24 -> 0 | I7: ='SO01 SO01 Pol'!BE24 -> 0
A8: ='SO01 SO01 Pol'!B25 -> 2 | B8: ='SO01 SO01 Pol'!C25 -> Základy,zvláštní zakládání | E8: ='SO01 SO01 Pol'!BA40 -> 0 | F8: ='SO01 SO01 Pol'!BB40 -> 0 | G8: ='SO01 SO01 Pol'!BC40 -> 0 | H8: ='SO01 SO01 Pol'!BD40 -> 0 | I8: ='SO01 SO01 Pol'!BE40 -> 0
A9: ='SO01 SO01 Pol'!B41 -> 3 | B9: ='SO01 SO01 Pol'!C41 -> Svislé a kompletní konstrukce | E9: ='SO01 SO01 Pol'!BA45 -> 0 | F9: ='SO01 SO01 Pol'!BB45 -> 0 | G9: ='SO01 SO01 Pol'!BC45 -> 0 | H9: ='SO01 SO01 Pol'!BD45 -> 0 | I9: ='SO01 SO01 Pol'!BE45 -> 0
A10: ='SO01 SO01 Pol'!B46 -> 4 | B10: ='SO01 SO01 Pol'!C46 -> Vodorovné konstrukce | E10: ='SO01 SO01 Pol'!BA53 -> 0 | F10: ='SO01 SO01 Pol'!BB53 -> 0 | G10: ='SO01 SO01 Pol'!BC53 -> 0 | H10: ='SO01 SO01 Pol'!BD53 -> 0 | I10: ='SO01 SO01 Pol'!BE53 -> 0
A11: ='SO01 SO01 Pol'!B54 -> 5 | B11: ='SO01 SO01 Pol'!C54 -> Komunikace | E11: ='SO01 SO01 Pol'!BA61 -> 0 | F11: ='SO01 SO01 Pol'!BB61 -> 0 | G11: ='SO01 SO01 Pol'!BC61 -> 0 | H11: ='SO01 SO01 Pol'!BD61 -> 0 | I11: ='SO01 SO01 Pol'!BE61 -> 0
A12: ='SO01 SO01 Pol'!B62 -> 61 | B12: ='SO01 SO01 Pol'!C62 -> Upravy povrchů vnitřní | E12: ='SO01 SO01 Pol'!BA70 -> 0 | F12: ='SO01 SO01 Pol'!BB70 -> 0 | G12: ='SO01 SO01 Pol'!BC70 -> 0 | H12: ='SO01 SO01 Pol'!BD70 -> 0 | I12: ='SO01 SO01 Pol'!BE70 -> 0
A13: ='SO01 SO01 Pol'!B71 -> 63 | B13: ='SO01 SO01 Pol'!C71 -> Podlahy a podlahové konstrukce | E13: ='SO01 SO01 Pol'!BA84 -> 0 | F13: ='SO01 SO01 Pol'!BB84 -> 0 | G13: ='SO01 SO01 Pol'!BC84 -> 0 | H13: ='SO01 SO01 Pol'!BD84 -> 0 | I13: ='SO01 SO01 Pol'!BE84 -> 0
A14: ='SO01 SO01 Pol'!B85 -> 94 | B14: ='SO01 SO01 Pol'!C85 -> Lešení a stavební výtahy | E14: ='SO01 SO01 Pol'!BA89 -> 0 | F14: ='SO01 SO01 Pol'!BB89 -> 0 | G14: ='SO01 SO01 Pol'!BC89 -> 0 | H14: ='SO01 SO01 Pol'!BD89 -> 0 | I14: ='SO01 SO01 Pol'!BE89 -> 0
A15: ='SO01 SO01 Pol'!B90 -> 95 | B15: ='SO01 SO01 Pol'!C90 -> Dokončovací kce na pozem.stav. | E15: ='SO01 SO01 Pol'!BA97 -> 0 | F15: ='SO01 SO01 Pol'!BB97 -> 0 | G15: ='SO01 SO01 Pol'!BC97 -> 0 | H15: ='SO01 SO01 Pol'!BD97 -> 0 | I15: ='SO01 SO01 Pol'!BE97 -> 0
A16: ='SO01 SO01 Pol'!B98 -> 96 | B16: ='SO01 SO01 Pol'!C98 -> Bourání konstrukcí | E16: ='SO01 SO01 Pol'!BA113 -> 0 | F16: ='SO01 SO01 Pol'!BB113 -> 0 | G16: ='SO01 SO01 Pol'!BC113 -> 0 | H16: ='SO01 SO01 Pol'!BD113 -> 0 | I16: ='SO01 SO01 Pol'!BE113 -> 0
A17: ='SO01 SO01 Pol'!B114 -> 99 | B17: ='SO01 SO01 Pol'!C114 -> Přesun hmot | E17: ='SO01 SO01 Pol'!BA116 -> 0 | F17: ='SO01 SO01 Pol'!BB116 -> 0 | G17: ='SO01 SO01 Pol'!BC116 -> 0 | H17: ='SO01 SO01 Pol'!BD116 -> 0 | I17: ='SO01 SO01 Pol'!BE116 -> 0
A18: ='SO01 SO01 Pol'!B117 -> 711 | B18: ='SO01 SO01 Pol'!C117 -> Izolace proti vodě | E18: ='SO01 SO01 Pol'!BA138 -> 0 | F18: ='SO01 SO01 Pol'!BB138 -> 0 | G18: ='SO01 SO01 Pol'!BC138 -> 0 | H18: ='SO01 SO01 Pol'!BD138 -> 0 | I18: ='SO01 SO01 Pol'!BE138 -> 0
A19: ='SO01 SO01 Pol'!B139 -> 713 | B19: ='SO01 SO01 Pol'!C139 -> Izolace tepelné | E19: ='SO01 SO01 Pol'!BA142 -> 0 | F19: ='SO01 SO01 Pol'!BB142 -> 0 | G19: ='SO01 SO01 Pol'!BC142 -> 0 | H19: ='SO01 SO01 Pol'!BD142 -> 0 | I19: ='SO01 SO01 Pol'!BE142 -> 0
A20: ='SO01 SO01 Pol'!B143 -> 763 | B20: ='SO01 SO01 Pol'!C143 -> Dřevostavby | E20: ='SO01 SO01 Pol'!BA150 -> 0 | F20: ='SO01 SO01 Pol'!BB150 -> 0 | G20: ='SO01 SO01 Pol'!BC150 -> 0 | H20: ='SO01 SO01 Pol'!BD150 -> 0 | I20: ='SO01 SO01 Pol'!BE150 -> 0
A21: ='SO01 SO01 Pol'!B151 -> 767 | B21: ='SO01 SO01 Pol'!C151 -> Konstrukce zámečnické | E21: ='SO01 SO01 Pol'!BA171 -> 0 | F21: ='SO01 SO01 Pol'!BB171 -> 0 | G21: ='SO01 SO01 Pol'!BC171 -> 0 | H21: ='SO01 SO01 Pol'!BD171 -> 0 | I21: ='SO01 SO01 Pol'!BE171 -> 0
A22: ='SO01 SO01 Pol'!B172 -> 771 | B22: ='SO01 SO01 Pol'!C172 -> Podlahy z dlaždic a obklady | E22: ='SO01 SO01 Pol'!BA184 -> 0 | F22: ='SO01 SO01 Pol'!BB184 -> 0 | G22: ='SO01 SO01 Pol'!BC184 -> 0 | H22: ='SO01 SO01 Pol'!BD184 -> 0 | I22: ='SO01 SO01 Pol'!BE184 -> 0
A23: ='SO01 SO01 Pol'!B185 -> 784 | B23: ='SO01 SO01 Pol'!C185 -> Malby | E23: ='SO01 SO01 Pol'!BA196 -> 0 | F23: ='SO01 SO01 Pol'!BB196 -> 0 | G23: ='SO01 SO01 Pol'!BC196 -> 0 | H23: ='SO01 SO01 Pol'!BD196 -> 0 | I23: ='SO01 SO01 Pol'!BE196 -> 0
A24: ='SO01 SO01 Pol'!B197 -> M21 | B24: ='SO01 SO01 Pol'!C197 -> Elektromontáže | E24: ='SO01 SO01 Pol'!BA216 -> 0 | F24: ='SO01 SO01 Pol'!BB216 -> 0 | G24: ='SO01 SO01 Pol'!BC216 -> 0 | H24: ='SO01 SO01 Pol'!BD216 -> 0 | I24: ='SO01 SO01 Pol'!BE216 -> 0
A25: ='SO01 SO01 Pol'!B217 -> D96 | B25: ='SO01 SO01 Pol'!C217 -> Přesuny suti a vybouraných hmot | E25: ='SO01 SO01 Pol'!BA225 -> 0 | F25: ='SO01 SO01 Pol'!BB225 -> 0 | G25: ='SO01 SO01 Pol'!BC225 -> 0 | H25: ='SO01 SO01 Pol'!BD225 -> 0 | I25: ='SO01 SO01 Pol'!BE225 -> 0
B26: CELKEM OBJEKT | E26: =SUM(E7:E25) -> 0 | F26: =SUM(F7:F25) -> 0 | G26: =SUM(G7:G25) -> 0 | H26: =SUM(H7:H25) -> 0 | I26: =SUM(I7:I25) -> 0
A28: VEDLEJŠÍ ROZPOČTOVÉ NÁKLADY
A30: Název VRN | E30: Kč | F30: % | G30: Základna | I30: Kč
A31: Vytýčení inženýrských sítí | G31: 0 | I31: =E31+F31*G31/100 -> 0 | BA31: 0
A32: Zabezpečení provozu vstupu do knihovny | G32: 0 | I32: =E32+F32*G32/100 -> 0 | BA32: 0
A33: Přesun stavebních kapacit | G33: 0 | I33: =E33+F33*G33/100 -> 0 | BA33: 0
A34: Mimostaveništní doprava | G34: 0 | I34: =E34+F34*G34/100 -> 0 | BA34: 0
A35: Zařízení staveniště | G35: 0 | I35: =E35+F35*G35/100 -> 0 | BA35: 1
A36: Provoz investora | G36: 0 | I36: =E36+F36*G36/100 -> 0 | BA36: 1
A37: Kompletační činnost (IČD) | G37: 0 | I37: =E37+F37*G37/100 -> 0 | BA37: 2
A38: Rezerva rozpočtu | G38: 0 | I38: =E38+F38*G38/100 -> 0 | BA38: 2
B39: CELKEM VRN | H39: =SUM(I31:I38) -> 0

Sheet SO01 SO01 Pol
A1: Slepý rozpočet
A3: Stavba : | C3: 2025/093 Bezbariérová knihovna Štětí-výměna vchodov. dveří | E3: Rozpočet: | F3: ='SO01 SO01 Rek'!H1 -> SO01
A4: Objekt : | C4: SO01 Bezbariérová knihovna Štětí-výměna vchodov. dveří | E4: ='SO01 SO01 Rek'!G2 -> Bezbariérová knihovna Štětí-výměna vchodov. dveří
A6: P.č. | B6: Číslo položky | C6: Název položky | D6: MJ | E6: množství | F6: cena / MJ | G6: celkem (Kč) | H6: Jednotková hmotnost | I6: Celková hmotnost | J6: Jednotková dem.hmot. | K6: Celková dem.hmot.
A7: Díl: | B7: 1 | C7: Zemní práce | O7: 1
A8: 1 | B8: 113106123U00 | C8: Rozebr zámk dlažba pro pěší komun | D8: m2 | E8: 40 | F8: 0 | G8: =E8*F8 -> 0 | H8: 0 | I8: =E8*H8 -> 0 | J8: 0 | K8: =E8*J8 -> 0 | O8: 2 | AA8: 1 | AB8: 1 | AC8: 1 | AZ8: 1 | BA8: =IF(AZ8=1,G8,0) -> 0 | BB8: =IF(AZ8=2,G8,0) -> 0 | BC8: =IF(AZ8=3,G8,0) -> 0 | BD8: =IF(AZ8=4,G8,0) -> 0 | BE8: =IF(AZ8=5,G8,0) -> 0 | CA8: 1 | CB8: 1
C9: předpoklad:5,00*8,00 | E9: 40 | M9: předpoklad:5,00*8,00
A10: 2 | B10: 113107111R00 | C10: Odstranění podkladu pl. 200 m2,kam.těžené tl.10 cm | D10: m2 | E10: 40 | F10: 0 | G10: =E10*F10 -> 0 | H10: 0 | I10: =E10*H10 -> 0 | J10: -0.16 | K10: =E10*J10 -> -6.4 | O10: 2 | AA10: 1 | AB10: 1 | AC10: 1 | AZ10: 1 | BA10: =IF(AZ10=1,G10,0) -> 0 | BB10: =IF(AZ10=2,G10,0) -> 0 | BC10: =IF(AZ10=3,G10,0) -> 0 | BD10: =IF(AZ10=4,G10,0) -> 0 | BE10: =IF(AZ10=5,G10,0) -> 0 | CA10: 1 | CB10: 1
C11: 5,00*8,00 | E11: 40 | M11: 5,00*8,00
A12: 3 | B12: 131203101U00 | C12: Hloubení jam soudrž hor 3 ručně | D12: m3 | E12: 5.4448 | F12: 0 | G12: =E12*F12 -> 0 | H12: 0 | I12: =E12*H12 -> 0 | J12: 0 | K12: =E12*J12 -> 0 | O12: 2 | AA12: 1 | AB12: 1 | AC12: 1 | AZ12: 1 | BA12: =IF(AZ12=1,G12,0) -> 0 | BB12: =IF(AZ12=2,G12,0) -> 0 | BC12: =IF(AZ12=3,G12,0) -> 0 | BD12: =IF(AZ12=4,G12,0) -> 0 | BE12: =IF(AZ12=5,G12,0) -> 0 | CA12: 1 | CB12: 1
C13: 3,14*1,70*1,70*1,20/2 | E13: 5.4448 | M13: 3,14*1,70*1,70*1,20/2
A14: 4 | B14: 162601102R00 | C14: Vodorovné přemístění výkopku z hor.1-4 do 5000 m | D14: m3 | E14: 5.4448 | F14: 0 | G14: =E14*F14 -> 0 | H14: 0 | I14: =E14*H14 -> 0 | J14: 0 | K14: =E14*J14 -> 0 | O14: 2 | AA14: 1 | AB14: 1 | AC14: 1 | AZ14: 1 | BA14: =IF(AZ14=1,G14,0) -> 0 | BB14: =IF(AZ14=2,G14,0) -> 0 | BC14: =IF(AZ14=3,G14,0) -> 0 | BD14: =IF(AZ14=4,G14,0) -> 0 | BE14: =IF(AZ14=5,G14,0) -> 0 | CA14: 1 | CB14: 1
C15: 3,14*1,70*1,70*1,20/2 | E15: 5.4448 | M15: 3,14*1,70*1,70*1,20/2
A16: 5 | B16: 167101101R00 | C16: Nakládání výkopku z hor.1-4 v množství do 100 m3 | D16: m3 | E16: 5.4448 | F16: 0 | G16: =E16*F16 -> 0 | H16: 0 | I16: =E16*H16 -> 0 | J16: 0 | K16: =E16*J16 -> 0 | O16: 2 | AA16: 1 | AB16: 1 | AC16: 1 | AZ16: 1 | BA16: =IF(AZ16=1,G16,0) -> 0 | BB16: =IF(AZ16=2,G16,0) -> 0 | BC16: =IF(AZ16=3,G16,0) -> 0 | BD16: =IF(AZ16=4,G16,0) -> 0 | BE16: =IF(AZ16=5,G16,0) -> 0 | CA16: 1 | CB16: 1
C17: 3,14*1,70*1,70*1,20/2 | E17: 5.4448 | M17: 3,14*1,70*1,70*1,20/2
A18: 6 | B18: 171201201R00 | C18: Uložení sypaniny na skládku | D18: m3 | E18: 5.4448 | F18: 0 | G18: =E18*F18 -> 0 | H18: 0 | I18: =E18*H18 -> 0 | J18: 0 | K18: =E18*J18 -> 0 | O18: 2 | AA18: 1 | AB18: 1 | AC18: 1 | AZ18: 1 | BA18: =IF(AZ18=1,G18,0) -> 0 | BB18: =IF(AZ18=2,G18,0) -> 0 | BC18: =IF(AZ18=3,G18,0) -> 0 | BD18: =IF(AZ18=4,G18,0) -> 0 | BE18: =IF(AZ18=5,G18,0) -> 0 | CA18: 1 | CB18: 1
C19: 3,14*1,70*1,70*1,20/2 | E19: 5.4448 | M19: 3,14*1,70*1,70*1,20/2
A20: 7 | B20: 181101102R00 | C20: Úprava pláně v zářezech v hor. 1-4, se zhutněním | D20: m2 | E20: 40 | F20: 0 | G20: =E20*F20 -> 0 | H20: 0 | I20: =E20*H20 -> 0 | J20: 0 | K20: =E20*J20 -> 0 | O20: 2 | AA20: 1 | AB20: 1 | AC20: 1 | AZ20: 1 | BA20: =IF(AZ20=1,G20,0) -> 0 | BB20: =IF(AZ20=2,G20,0) -> 0 | BC20: =IF(AZ20=3,G20,0) -> 0 | BD20: =IF(AZ20=4,G20,0) -> 0 | BE20: =IF(AZ20=5,G20,0) -> 0 | CA20: 1 | CB20: 1
C21: zuámková dlažba:5,00*8,00 | E21: 40 | M21: zuámková dlažba:5,00*8,00
A22: 8 | B22: 199000002R00 | C22: Poplatek za skládku horniny 1- 4 | D22: m3 | E22: 5.4448 | F22: 0 | G22: =E22*F22 -> 0 | H22: 0 | I22: =E22*H22 -> 0 | J22: 0 | K22: =E22*J22 -> 0 | O22: 2 | AA22: 1 | AB22: 1 | AC22: 1 | AZ22: 1 | BA22: =IF(AZ22=1,G22,0) -> 0 | BB22: =IF(AZ22=2,G22,0) -> 0 | BC22: =IF(AZ22=3,G22,0) -> 0 | BD22: =IF(AZ22=4,G22,0) -> 0 | BE22: =IF(AZ22=5,G22,0) -> 0 | CA22: 1 | CB22: 1
C23: 3,14*1,70*1,70*1,20/2 | E23: 5.4448 | M23: 3,14*1,70*1,70*1,20/2
B24: Celkem za | C24: 1 Zemní práce | G24: =SUM(G7:G23) -> 0 | I24: =SUM(I7:I23) -> 0 | K24: =SUM(K7:K23) -> -6.4 | O24: 4 | BA24: =SUM(BA7:BA23) -> 0 | BB24: =SUM(BB7:BB23) -> 0 | BC24: =SUM(BC7:BC23) -> 0 | BD24: =SUM(BD7:BD23) -> 0 | BE24: =SUM(BE7:BE23) -> 0
A25: Díl: | B25: 2 | C25: Základy,zvláštní zakládání | O25: 1
A26: 9 | B26: 273311126U00 | C26: Základ deska prostý beton C20/25-XC2 | D26: m3 | E26: 0.6005 | F26: 0 | G26: =E26*F26 -> 0 | H26: 2.53596 | I26: =E26*H26 -> 1.522844 | J26: 0 | K26: =E26*J26 -> 0 | O26: 2 | AA26: 1 | AB26: 1 | AC26: 1 | AZ26: 1 | BA26: =IF(AZ26=1,G26,0) -> 0 | BB26: =IF(AZ26=2,G26,0) -> 0 | BC26: =IF(AZ26=3,G26,0) -> 0 | BD26: =IF(AZ26=4,G26,0) -> 0 | BE26: =IF(AZ26=5,G26,0) -> 0 | CA26: 1 | CB26: 1
C27: 3,14*1,70*1,50*0,15/2 | E27: 0.6005 | M27: 3,14*1,70*1,50*0,15/2
A28: 10 | B28: 273351215R00 | C28: Bednění stěn základových desek - zřízení | D28: m2 | E28: 11.1156 | F28: 0 | G28: =E28*F28 -> 0 | H28: 0.03925 | I28: =E28*H28 -> 0.4362873 | J28: 0 | K28: =E28*J28 -> 0 | O28: 2 | AA28: 1 | AB28: 1 | AC28: 1 | AZ28: 1 | BA28: =IF(AZ28=1,G28,0) -> 0 | BB28: =IF(AZ28=2,G28,0) -> 0 | BC28: =IF(AZ28=3,G28,0) -> 0 | BD28: =IF(AZ28=4,G28,0) -> 0 | BE28: =IF(AZ28=5,G28,0) -> 0 | CA28: 1 | CB28: 1
C29: 3,14*3,50/2*1,20 | E29: 6.594 | M29: 3,14*3,50/2*1,20
C30: 3,14*3,20/2*0,90 | E30: 4.5216 | M30: 3,14*3,20/2*0,90
A31: 11 | B31: 273351216R00 | C31: Bednění stěn základových desek - odstranění | D31: m2 | E31: 11.1156 | F31: 0 | G31: =E31*F31 -> 0 | H31: 0 | I31: =E31*H31 -> 0 | J31: 0 | K31: =E31*J31 -> 0 | O31: 2 | AA31: 1 | AB31: 1 | AC31: 1 | AZ31: 1 | BA31: =IF(AZ31=1,G31,0) -> 0 | BB31: =IF(AZ31=2,G31,0) -> 0 | BC31: =IF(AZ31=3,G31,0) -> 0 | BD31: =IF(AZ31=4,G31,0) -> 0 | BE31: =IF(AZ31=5,G31,0) -> 0 | CA31: 1 | CB31: 1
C32: 3,14*3,50/2*1,20 | E32: 6.594 | M32: 3,14*3,50/2*1,20
C33: 3,14*3,20/2*0,90 | E33: 4.5216 | M33: 3,14*3,20/2*0,90
A34: 12 | B34: 273361921RT9 | C34: Výztuž základových desek ze svařovaných sítí svařovanou sítí - drát 8,0 oka 150/150 | D34: t | E34: 0.0274 | F34: 0 | G34: =E34*F34 -> 0 | H34: 1.05702 | I34: =E34*H34 -> 0.028962348 | J34: 0 | K34: =E34*J34 -> 0 | O34: 2 | AA34: 1 | AB34: 1 | AC34: 1 | AZ34: 1 | BA34: =IF(AZ34=1,G34,0) -> 0 | BB34: =IF(AZ34=2,G34,0) -> 0 | BC34: =IF(AZ34=3,G34,0) -> 0 | BD34: =IF(AZ34=4,G34,0) -> 0 | BE34: =IF(AZ34=5,G34,0) -> 0 | CA34: 1 | CB34: 1
C35: 3,14*1,60*1,60/2*6,82/1000 | E35: 0.0274 | M35: 3,14*1,60*1,60/2*6,82/1000
A36: 13 | B36: 274313621R00 | C36: Beton základových pasů prostý C 20/25 (B 25) -XC2 | D36: m3 | E36: 2.7004 | F36: 0 | G36: =E36*F36 -> 0 | H36: 2.45329 | I36: =E36*H36 -> 6.6248643 | J36: 0 | K36: =E36*J36 -> 0 | O36: 2 | AA36: 1 | AB36: 1 | AC36: 1 | AZ36: 1 | BA36: =IF(AZ36=1,G36,0) -> 0 | BB36: =IF(AZ36=2,G36,0) -> 0 | BC36: =IF(AZ36=3,G36,0) -> 0 | BD36: =IF(AZ36=4,G36,0) -> 0 | BE36: =IF(AZ36=5,G36,0) -> 0 | CA36: 1 | CB36: 1
C37: 6,28*0,40*0,55 | E37: 1.3816 | M37: 6,28*0,40*0,55
C38: 6,28*0,70*0,30 | E38: 1.3188 | M38: 6,28*0,70*0,30
A39: 14 | B39: 285941834R00 | C39: provedení ukotvení nového základ.pasu a desky +provázání výztuže | D39: kus | E39: 20 | F39: 0 | G39: =E39*F39 -> 0 | H39: 0.02422 | I39: =E39*H39 -> 0.4844 | J39: 0 | K39: =E39*J39 -> 0 | O39: 2 | AA39: 1 | AB39: 1 | AC39: 1 | AZ39: 1 | BA39: =IF(AZ39=1,G39,0) -> 0 | BB39: =IF(AZ39=2,G39,0) -> 0 | BC39: =IF(AZ39=3,G39,0) -> 0 | BD39: =IF(AZ39=4,G39,0) -> 0 | BE39: =IF(AZ39=5,G39,0) -> 0 | CA39: 1 | CB39: 1
B40: Celkem za | C40: 2 Základy,zvláštní zakládání | G40: =SUM(G25:G39) -> 0 | I40: =SUM(I25:I39) -> 9.0973579 | K40: =SUM(K25:K39) -> 0 | O40: 4 | BA40: =SUM(BA25:BA39) -> 0 | BB40: =SUM(BB25:BB39) -> 0 | BC40: =SUM(BC25:BC39) -> 0 | BD40: =SUM(BD25:BD39) -> 0 | BE40: =SUM(BE25:BE39) -> 0
A41: Díl: | B41: 3 | C41: Svislé a kompletní konstrukce | O41: 1
A42: 15 | B42: 342264051RT2 | C42: Podhled sádrokartonový na zavěšenou ocel. konstr. desky protipožární tl. 12,5 mm, bez izolace | D42: m2 | E42: 31 | F42: 0 | G42: =E42*F42 -> 0 | H42: 0.02017 | I42: =E42*H42 -> 0.62527 | J42: 0 | K42: =E42*J42 -> 0 | O42: 2 | AA42: 1 | AB42: 1 | AC42: 1 | AZ42: 1 | BA42: =IF(AZ42=1,G42,0) -> 0 | BB42: =IF(AZ42=2,G42,0) -> 0 | BC42: =IF(AZ42=3,G42,0) -> 0 | BD42: =IF(AZ42=4,G42,0) -> 0 | BE42: =IF(AZ42=5,G42,0) -> 0 | CA42: 1 | CB42: 1
C43: vstupní chodba:26,00 | E43: 26 | M43: vstupní chodba:26,00
C44: zádveří:5,00 | E44: 5 | M44: zádveří:5,00
B45: Celkem za | C45: 3 Svislé a kompletní konstrukce | G45: =SUM(G41:G44) -> 0 | I45: =SUM(I41:I44) -> 0.62527 | K45: =SUM(K41:K44) -> 0 | O45: 4 | BA45: =SUM(BA41:BA44) -> 0 | BB45: =SUM(BB41:BB44) -> 0 | BC45: =SUM(BC41:BC44) -> 0 | BD45: =SUM(BD41:BD44) -> 0 | BE45: =SUM(BE41:BE44) -> 0
A46: Díl: | B46: 4 | C46: Vodorovné konstrukce | O46: 1
A47: 16 | B47: 451476111R00 | C47: Podkladní vrstva z Epoxyd. nátěr | D47: m2 | E47: 4.91 | F47: 0 | G47: =E47*F47 -> 0 | H47: 0.02128 | I47: =E47*H47 -> 0.1044848 | J47: 0 | K47: =E47*J47 -> 0 | O47: 2 | AA47: 1 | AB47: 1 | AC47: 1 | AZ47: 1 | BA47: =IF(AZ47=1,G47,0) -> 0 | BB47: =IF(AZ47=2,G47,0) -> 0 | BC47: =IF(AZ47=3,G47,0) -> 0 | BD47: =IF(AZ47=4,G47,0) -> 0 | BE47: =IF(AZ47=5,G47,0) -> 0 | CA47: 1 | CB47: 1
C48: zádveří:4,91 | E48: 4.91 | M48: zádveří:4,91
A49: 17 | B49: 451535111R00 | C49: Podkladní vrstva ze štěrku výplň | D49: m3 | E49: 2.7444 | F49: 0 | G49: =E49*F49 -> 0 | H49: 1.7875 | I49: =E49*H49 -> 4.905615 | J49: 0 | K49: =E49*J49 -> 0 | O49: 2 | AA49: 1 | AB49: 1 | AC49: 1 | AZ49: 1 | BA49: =IF(AZ49=1,G49,0) -> 0 | BB49: =IF(AZ49=2,G49,0) -> 0 | BC49: =IF(AZ49=3,G49,0) -> 0 | BD49: =IF(AZ49=4,G49,0) -> 0 | BE49: =IF(AZ49=5,G49,0) -> 0 | CA49: 1 | CB49: 1
C50: 3,14*1,70*1,70*1,20/2 | E50: 5.4448 | M50: 3,14*1,70*1,70*1,20/2
C51: -6,28*0,40*0,55 | E51: -1.3816 | M51: -6,28*0,40*0,55
C52: -6,28*0,70*0,30 | E52: -1.3188 | M52: -6,28*0,70*0,30
B53: Celkem za | C53: 4 Vodorovné konstrukce | G53: =SUM(G46:G52) -> 0 | I53: =SUM(I46:I52) -> 5.0100998 | K53: =SUM(K46:K52) -> 0 | O53: 4 | BA53: =SUM(BA46:BA52) -> 0 | BB53: =SUM(BB46:BB52) -> 0 | BC53: =SUM(BC46:BC52) -> 0 | BD53: =SUM(BD46:BD52) -> 0 | BE53: =SUM(BE46:BE52) -> 0
A54: Díl: | B54: 5 | C54: Komunikace | O54: 1
A55: 18 | B55: 564801112R00 | C55: Kladecí vrstva tl. 4 cm | D55: m2 | E55: 40 | F55: 0 | G55: =E55*F55 -> 0 | H55: 0.08003 | I55: =E55*H55 -> 3.2012 | J55: 0 | K55: =E55*J55 -> 0 | O55: 2 | AA55: 1 | AB55: 1 | AC55: 1 | AZ55: 1 | BA55: =IF(AZ55=1,G55,0) -> 0 | BB55: =IF(AZ55=2,G55,0) -> 0 | BC55: =IF(AZ55=3,G55,0) -> 0 | BD55: =IF(AZ55=4,G55,0) -> 0 | BE55: =IF(AZ55=5,G55,0) -> 0 | CA55: 1 | CB55: 1
C56: 5,00*8,00 | E56: 40 | M56: 5,00*8,00
A57: 19 | B57: 564851111R00 | C57: Podklad ze štěrkodrti po zhutnění tloušťky 15 cm předpoklad vyrovnání | D57: m2 | E57: 40 | F57: 0 | G57: =E57*F57 -> 0 | H57: 0.27994 | I57: =E57*H57 -> 11.1976 | J57: 0 | K57: =E57*J57 -> 0 | O57: 2 | AA57: 1 | AB57: 1 | AC57: 1 | AZ57: 1 | BA57: =IF(AZ57=1,G57,0) -> 0 | BB57: =IF(AZ57=2,G57,0) -> 0 | BC57: =IF(AZ57=3,G57,0) -> 0 | BD57: =IF(AZ57=4,G57,0) -> 0 | BE57: =IF(AZ57=5,G57,0) -> 0 | CA57: 1 | CB57: 1
C58: 5,00*8,00 | E58: 40 | M58: 5,00*8,00
A59: 20 | B59: 596211211U00 | C59: Kladení zámkové dlažby bez dodávky původní stávající dlažba | D59: m2 | E59: 40 | F59: 0 | G59: =E59*F59 -> 0 | H59: 0.08565 | I59: =E59*H59 -> 3.426 | J59: 0 | K59: =E59*J59 -> 0 | O59: 2 | AA59: 1 | AB59: 1 | AC59: 1 | AZ59: 1 | BA59: =IF(AZ59=1,G59,0) -> 0 | BB59: =IF(AZ59=2,G59,0) -> 0 | BC59: =IF(AZ59=3,G59,0) -> 0 | BD59: =IF(AZ59=4,G59,0) -> 0 | BE59: =IF(AZ59=5,G59,0) -> 0 | CA59: 1 | CB59: 1
C60: 5,00*8,00 | E60: 40 | M60: 5,00*8,00
B61: Celkem za | C61: 5 Komunikace | G61: =SUM(G54:G60) -> 0 | I61: =SUM(I54:I60) -> 17.8248 | K61: =SUM(K54:K60) -> 0 | O61: 4 | BA61: =SUM(BA54:BA60) -> 0 | BB61: =SUM(BB54:BB60) -> 0 | BC61: =SUM(BC54:BC60) -> 0 | BD61: =SUM(BD54:BD60) -> 0 | BE61: =SUM(BE54:BE60) -> 0
A62: Díl: | B62: 61 | C62: Upravy povrchů vnitřní | O62: 1
A63: 21 | B63: 612421331R00 | C63: Oprava vápen.omítek stěn do 30 % pl. - štukových předpoklad | D63: m2 | E63: 72.27 | F63: 0 | G63: =E63*F63 -> 0 | H63: 0.01694 | I63: =E63*H63 -> 1.2242538 | J63: 0 | K63: =E63*J63 -> 0 | O63: 2 | AA63: 1 | AB63: 1 | AC63: 1 | AZ63: 1 | BA63: =IF(AZ63=1,G63,0) -> 0 | BB63: =IF(AZ63=2,G63,0) -> 0 | BC63: =IF(AZ63=3,G63,0) -> 0 | BD63: =IF(AZ63=4,G63,0) -> 0 | BE63: =IF(AZ63=5,G63,0) -> 0 | CA63: 1 | CB63: 1
C64: chodba:(3,70+6,20*2+2,00+1,30+2,50)*3,30 | E64: 72.27 | M64: chodba:(3,70+6,20*2+2,00+1,30+2,50)*3,30
A65: 22 | B65: 612431111R00 | C65: Zatření spár sádrokartonový stěna,podhled | D65: m2 | E65: 31 | F65: 0 | G65: =E65*F65 -> 0 | H65: 0.00424 | I65: =E65*H65 -> 0.13144 | J65: 0 | K65: =E65*J65 -> 0 | O65: 2 | AA65: 1 | AB65: 1 | AC65: 1 | AZ65: 1 | BA65: =IF(AZ65=1,G65,0) -> 0 | BB65: =IF(AZ65=2,G65,0) -> 0 | BC65: =IF(AZ65=3,G65,0) -> 0 | BD65: =IF(AZ65=4,G65,0) -> 0 | BE65: =IF(AZ65=5,G65,0) -> 0 | CA65: 1 | CB65: 1
C66: vstupní chodba:26,00 | E66: 26 | M66: vstupní chodba:26,00
C67: zádveří:5,00 | E67: 5 | M67: zádveří:5,00
A68: 23 | B68: 612471411R00 | C68: Úprava vnitřních stěn aktivovaným štukem | D68: m2 | E68: 72.27 | F68: 0 | G68: =E68*F68 -> 0 | H68: 0.00635 | I68: =E68*H68 -> 0.4589145 | J68: 0 | K68: =E68*J68 -> 0 | O68: 2 | AA68: 1 | AB68: 1 | AC68: 1 | AZ68: 1 | BA68: =IF(AZ68=1,G68,0) -> 0 | BB68: =IF(AZ68=2,G68,0) -> 0 | BC68: =IF(AZ68=3,G68,0) -> 0 | BD68: =IF(AZ68=4,G68,0) -> 0 | BE68: =IF(AZ68=5,G68,0) -> 0 | CA68: 1 | CB68: 1
C69: chodba:(3,70+6,20*2+2,00+1,30+2,50)*3,30 | E69: 72.27 | M69: chodba:(3,70+6,20*2+2,00+1,30+2,50)*3,30
B70: Celkem za | C70: 61 Upravy povrchů vnitřní | G70: =SUM(G62:G69) -> 0 | I70: =SUM(I62:I69) -> 1.8146083 | K70: =SUM(K62:K69) -> 0 | O70: 4 | BA70: =SUM(BA62:BA69) -> 0 | BB70: =SUM(BB62:BB69) -> 0 | BC70: =SUM(BC62:BC69) -> 0 | BD70: =SUM(BD62:BD69) -> 0 | BE70: =SUM(BE62:BE69) -> 0
A71: Díl: | B71: 63 | C71: Podlahy a podlahové konstrukce | O71: 1
A72: 24 | B72: 631313711R00 | C72: Mazanina betonová tl. 8 - 12 cm C 25/30 (B 30) | D72: m3 | E72: 3.0173 | F72: 0 | G72: =E72*F72 -> 0 | H72: 2.45329 | I72: =E72*H72 -> 7.4023119 | J72: 0 | K72: =E72*J72 -> 0 | O72: 2 | AA72: 1 | AB72: 1 | AC72: 1 | AZ72: 1 | BA72: =IF(AZ72=1,G72,0) -> 0 | BB72: =IF(AZ72=2,G72,0) -> 0 | BC72: =IF(AZ72=3,G72,0) -> 0 | BD72: =IF(AZ72=4,G72,0) -> 0 | BE72: =IF(AZ72=5,G72,0) -> 0 | CA72: 1 | CB72: 1
C73: chodba dlažba 300/300:26,00*0,10 | E73: 2.6 | M73: chodba dlažba 300/300:26,00*0,10
C74: zadveří:4,91*0,085 | E74: 0.4174 | M74: zadveří:4,91*0,085
A75: 25 | B75: 631319163R00 | C75: Příplatek za konečnou úpravu mazanin tl. 12 cm | D75: m3 | E75: 3.0173 | F75: 0 | G75: =E75*F75 -> 0 | H75: 0.02 | I75: =E75*H75 -> 0.060346 | J75: 0 | K75: =E75*J75 -> 0 | O75: 2 | AA75: 1 | AB75: 1 | AC75: 1 | AZ75: 1 | BA75: =IF(AZ75=1,G75,0) -> 0 | BB75: =IF(AZ75=2,G75,0) -> 0 | BC75: =IF(AZ75=3,G75,0) -> 0 | BD75: =IF(AZ75=4,G75,0) -> 0 | BE75: =IF(AZ75=5,G75,0) -> 0 | CA75: 1 | CB75: 1
C76: chodba dlažba 300/300:26,00*0,10 | E76: 2.6 | M76: chodba dlažba 300/300:26,00*0,10
C77: zadveří:4,91*0,085 | E77: 0.4174 | M77: zadveří:4,91*0,085
A78: 26 | B78: 631319173R00 | C78: Příplatek za stržení povrchu mazaniny tl. 12 cm | D78: m3 | E78: 3.0173 | F78: 0 | G78: =E78*F78 -> 0 | H78: 0 | I78: =E78*H78 -> 0 | J78: 0 | K78: =E78*J78 -> 0 | O78: 2 | AA78: 1 | AB78: 1 | AC78: 1 | AZ78: 1 | BA78: =IF(AZ78=1,G78,0) -> 0 | BB78: =IF(AZ78=2,G78,0) -> 0 | BC78: =IF(AZ78=3,G78,0) -> 0 | BD78: =IF(AZ78=4,G78,0) -> 0 | BE78: =IF(AZ78=5,G78,0) -> 0 | CA78: 1 | CB78: 1
C79: chodba dlažba 300/300:26,00*0,10 | E79: 2.6 | M79: chodba dlažba 300/300:26,00*0,10
C80: zadveří:4,91*0,085 | E80: 0.4174 | M80: zadveří:4,91*0,085
A81: 27 | B81: 631361921RT9 | C81: Výztuž mazanin svařovanou sítí z drátů tažených svařovaná síť - drát 8,0 mm, oka 150/150 mm | D81: t | E81: 0.213 | F81: 0 | G81: =E81*F81 -> 0 | H81: 1.06625 | I81: =E81*H81 -> 0.22711125 | J81: 0 | K81: =E81*J81 -> 0 | O81: 2 | AA81: 1 | AB81: 1 | AC81: 1 | AZ81: 1 | BA81: =IF(AZ81=1,G81,0) -> 0 | BB81: =IF(AZ81=2,G81,0) -> 0 | BC81: =IF(AZ81=3,G81,0) -> 0 | BD81: =IF(AZ81=4,G81,0) -> 0 | BE81: =IF(AZ81=5,G81,0) -> 0 | CA81: 1 | CB81: 1
C82: chodba dlažba 300/300:26,00*6,89/1000 | E82: 0.1791 | M82: chodba dlažba 300/300:26,00*6,89/1000
C83: zadveří:4,91*6,89/1000 | E83: 0.0338 | M83: zadveří:4,91*6,89/1000
B84: Celkem za | C84: 63 Podlahy a podlahové konstrukce | G84: =SUM(G71:G83) -> 0 | I84: =SUM(I71:I83) -> 7.6897692 | K84: =SUM(K71:K83) -> 0 | O84: 4 | BA84: =SUM(BA71:BA83) -> 0 | BB84: =SUM(BB71:BB83) -> 0 | BC84: =SUM(BC71:BC83) -> 0 | BD84: =SUM(BD71:BD83) -> 0 | BE84: =SUM(BE71:BE83) -> 0
A85: Díl: | B85: 94 | C85: Lešení a stavební výtahy | O85: 1
A86: 28 | B86: 941955003R00 | C86: Lešení lehké pomocné, výška podlahy do 2,5 m | D86: m2 | E86: 31 | F86: 0 | G86: =E86*F86 -> 0 | H86: 0.04063 | I86: =E86*H86 -> 1.25953 | J86: 0 | K86: =E86*J86 -> 0 | O86: 2 | AA86: 1 | AB86: 1 | AC86: 1 | AZ86: 1 | BA86: =IF(AZ86=1,G86,0) -> 0 | BB86: =IF(AZ86=2,G86,0) -> 0 | BC86: =IF(AZ86=3,G86,0) -> 0 | BD86: =IF(AZ86=4,G86,0) -> 0 | BE86: =IF(AZ86=5,G86,0) -> 0 | CA86: 1 | CB86: 1
C87: vstupní chodba:26,00 | E87: 26 | M87: vstupní chodba:26,00
C88: zádveří:5,00 | E88: 5 | M88: zádveří:5,00
B89: Celkem za | C89: 94 Lešení a stavební výtahy | G89: =SUM(G85:G88) -> 0 | I89: =SUM(I85:I88) -> 1.25953 | K89: =SUM(K85:K88) -> 0 | O89: 4 | BA89: =SUM(BA85:BA88) -> 0 | BB89: =SUM(BB85:BB88) -> 0 | BC89: =SUM(BC85:BC88) -> 0 | BD89: =SUM(BD85:BD88) -> 0 | BE89: =SUM(BE85:BE88) -> 0
A90: Díl: | B90: 95 | C90: Dokončovací kce na pozem.stav. | O90: 1
A91: 29 | B91: 952901111R00 | C91: Vyčištění budov o výšce podlaží do 4 m úklid | D91: m2 | E91: 70 | F91: 0 | G91: =E91*F91 -> 0 | H91: 0.00205 | I91: =E91*H91 -> 0.1435 | J91: 0 | K91: =E91*J91 -> 0 | O91: 2 | AA91: 1 | AB91: 1 | AC91: 1 | AZ91: 1 | BA91: =IF(AZ91=1,G91,0) -> 0 | BB91: =IF(AZ91=2,G91,0) -> 0 | BC91: =IF(AZ91=3,G91,0) -> 0 | BD91: =IF(AZ91=4,G91,0) -> 0 | BE91: =IF(AZ91=5,G91,0) -> 0 | CA91: 1 | CB91: 1
C92: 5,00*8,00+30,00 | E92: 70 | M92: 5,00*8,00+30,00
A93: 30 | B93: 952902110R00 | C93: Čištění zametáním v místnostech a chodbách | D93: m2 | E93: 70 | F93: 0 | G93: =E93*F93 -> 0 | H93: 0 | I93: =E93*H93 -> 0 | J93: 0 | K93: =E93*J93 -> 0 | O93: 2 | AA93: 1 | AB93: 1 | AC93: 1 | AZ93: 1 | BA93: =IF(AZ93=1,G93,0) -> 0 | BB93: =IF(AZ93=2,G93,0) -> 0 | BC93: =IF(AZ93=3,G93,0) -> 0 | BD93: =IF(AZ93=4,G93,0) -> 0 | BE93: =IF(AZ93=5,G93,0) -> 0 | CA93: 1 | CB93: 1
C94: 5,00*8,00+30,00 | E94: 70 | M94: 5,00*8,00+30,00
A95: 31 | B95: 963941311RRR | C95: odstranění čistící rohože původní | D95: m2 | E95: 3.96 | F95: 0 | G95: =E95*F95 -> 0 | H95: 0.03042 | I95: =E95*H95 -> 0.1204632 | K95: =E95*J95 -> 0 | O95: 2 | AA95: 12 | AB95: 0 | AC95: 58 | AZ95: 1 | BA95: =IF(AZ95=1,G95,0) -> 0 | BB95: =IF(AZ95=2,G95,0) -> 0 | BC95: =IF(AZ95=3,G95,0) -> 0 | BD95: =IF(AZ95=4,G95,0) -> 0 | BE95: =IF(AZ95=5,G95,0) -> 0 | CA95: 12 | CB95: 0
C96: zádveří:3,96 | E96: 3.96 | M96: zádveří:3,96
B97: Celkem za | C97: 95 Dokončovací kce na pozem.stav. | G97: =SUM(G90:G96) -> 0 | I97: =SUM(I90:I96) -> 0.2639632 | K97: =SUM(K90:K96) -> 0 | O97: 4 | BA97: =SUM(BA90:BA96) -> 0 | BB97: =SUM(BB90:BB96) -> 0 | BC97: =SUM(BC90:BC96) -> 0 | BD97: =SUM(BD90:BD96) -> 0 | BE97: =SUM(BE90:BE96) -> 0
A98: Díl: | B98: 96 | C98: Bourání konstrukcí | O98: 1
A99: 32 | B99: 961041000U00 | C99: Bourání základu betonového | D99: m3 | E99: 1.7803 | F99: 0 | G99: =E99*F99 -> 0 | H99: 0 | I99: =E99*H99 -> 0 | J99: -2 | K99: =E99*J99 -> -3.5606 | O99: 2 | AA99: 1 | AB99: 1 | AC99: 1 | AZ99: 1 | BA99: =IF(AZ99=1,G99,0) -> 0 | BB99: =IF(AZ99=2,G99,0) -> 0 | BC99: =IF(AZ99=3,G99,0) -> 0 | BD99: =IF(AZ99=4,G99,0) -> 0 | BE99: =IF(AZ99=5,G99,0) -> 0 | CA99: 1 | CB99: 1
C100: 0,36*(1,99+1,00+1,00)*(0,35+0,74)/2 | E100: 0.7828 | M100: 0,36*(1,99+1,00+1,00)*(0,35+0,74)/2
C101: 0,50*(1,99+1,00+1,00)*0,50 | E101: 0.9975 | M101: 0,50*(1,99+1,00+1,00)*0,50
A102: 33 | B102: 965042141RT4 | C102: Bourání mazanin betonových tl. 10 cm, nad 4 m2 sbíječka tl. mazaniny 5 - 10 cm | D102: m3 | E102: 2.9348 | F102: 0 | G102: =E102*F102 -> 0 | H102: 0 | I102: =E102*H102 -> 0 | J102: -2.2 | K102: =E102*J102 -> -6.45656 | O102: 2 | AA102: 1 | AB102: 1 | AC102: 1 | AZ102: 1 | BA102: =IF(AZ102=1,G102,0) -> 0 | BB102: =IF(AZ102=2,G102,0) -> 0 | BC102: =IF(AZ102=3,G102,0) -> 0 | BD102: =IF(AZ102=4,G102,0) -> 0 | BE102: =IF(AZ102=5,G102,0) -> 0 | CA102: 1 | CB102: 1
...
