Workbook

Sheet Rekapitulace stavby
A1: Export Komplet | BA1: 2.0 | BT1: False | BU1: False | BV1: {21c72983-c072-40f9-b746-bc56de7e196c}
AR2: >> skryté sloupce << | BS2: 0,01 | BT2: 21
BS3: 0,01 | BT3: 15
D4: REKAPITULACE STAVBY | AS4: v --- níže se nacházejí doplnkové a pomocné údaje k sestavám --- v | BE4: Návod na vyplnění | BS4: 0,001
D5: Kód: | K5: M19-036 | BE5: Měnit lze pouze buňky se žlutým podbarvením!_x000D_ _x000D_ 1) na prvním listu Rekapitulace stavby vyplňte v sestavě_x000D_ _x000D_ a) Souhrnný list_x000D_ - údaje o Uchazeči_x000D_ (přenesou se do ostatních sestav i v jiných listech)_x000D_ _x000D_ b) Rekapitulace objektů_x000D_ - potřebné Ostatní náklady_x000D_ _x000D_ 2) na vybraných listech vyplňte v sestavě_x000D_ _x000D_ a) Krycí list_x000D_ - údaje o Uchazeči, pokud se liší od údajů o Uchazeči na Souhrnném listu_x000D_ (údaje se přenesou do ostatních sestav v daném listu)_x000D_ _x000D_ b) Rekapitulace rozpočtu_x000D_ - potřebné Ostatní náklady_x000D_ _x000D_ c) Celkové náklady za stavbu_x000D_ - ceny u položek_x000D_ - množství, pokud má žluté podbarvení_x000D_ - a v případě potřeby poznámku (ta je ve skrytém sloupci) | BS5: 0,01
D6: Stavba: | K6: Kanalizace, ČOV – Libochovany, Řepnice - přípojky Libochovany - I. Etapa | BS6: 0,01
D7: KSO: | AK7: CC-CZ: | BS7: 0,01
D8: Místo: | K8: Libochovany | AK8: Datum: | AN8: 17. 9. 2025 | BS8: 0,01
BS9: 0,01
D10: Zadavatel: | AK10: IČ: | BS10: 0,01
E11: Obec Libochovany, č. p. 5, 411 03, Libochovany | AK11: DIČ: | BS11: 0,01
BS12: 0,01
D13: Uchazeč: | AK13: IČ: | AN13: Vyplň údaj | BS13: 0,01
E14: Vyplň údaj | AK14: DIČ: | AN14: Vyplň údaj | BS14: 0,01
BS15: False
D16: Projektant: | AK16: IČ: | AN16: 60113111 | BS16: False
E17: Multiaqua s.r.o. | AK17: DIČ: | AN17: CZ60113111 | BS17: True
BS18: 0,01
D19: Zpracovatel: | AK19: IČ: | BS19: 0,01
E20: Roman Bárta | AK20: DIČ: | BS20: False
D22: Poznámka:
E23: Soupis prací je sestaven s využitím Cenové soustavy ÚRS. Položky, které pochází z této cenové soustavy, jsou ve sloupci 'Cenová soustava' označeny popisem 'CS ÚRS' a úrovní příslušného kalendářního pololetí. Veškeré další informace vymezující popis a podmínky použití těchto položek z Cenové soustavy, které nejsou uvedeny přímo v soupisu prací, jsou neomezeně dálkově k dispozici na www.cs-urs.cz, sekce Cenové a technické podmínky.
D26: Cena bez DPH | AK26: =ROUND(AG94,2) -> 0
L28: Sazba daně | W28: Základ daně | AK28: Výše daně
D29: DPH | F29: základní | L29: 0.21 | W29: =ROUND(AZ94, 2) -> 0 | AK29: =ROUND(AV94, 2) -> 0
F30: snížená | L30: 0.15 | W30: =ROUND(BA94, 2) -> 0 | AK30: =ROUND(AW94, 2) -> 0
F31: zákl. přenesená | L31: 0.21 | W31: =ROUND(BB94, 2) -> 0 | AK31: 0
F32: sníž. přenesená | L32: 0.15 | W32: =ROUND(BC94, 2) -> 0 | AK32: 0
F33: nulová | L33: 0 | W33: =ROUND(BD94, 2) -> 0 | AK33: 0
D35: Cena s DPH | T35: v | X35: CZK | AK35: =SUM(AK26:AK33) -> 0
D49: Projektant | AH49: Zpracovatel
D60: Datum a podpis: | V60: Razítko | AH60: Datum a podpis: | AM60: Razítko
D64: Objednavatel | AH64: Uchazeč
D75: Datum a podpis: | V75: Razítko | AH75: Datum a podpis: | AM75: Razítko
C82: REKAPITULACE OBJEKTŮ STAVBY A SOUPISŮ PRACÍ
C84: Kód: | L84: =K5 -> M19-036
C85: Stavba: | L85: =K6 -> Kanalizace, ČOV – Libochovany, Řepnice - přípojky Libochovany - I. Etapa
C87: Místo: | L87: =IF(K8="","",K8) -> Libochovany | AI87: Datum: | AM87: =IF(AN8= "","",AN8) -> 17. 9. 2025
C89: Zadavatel: | L89: =IF(E11= "","",E11) -> Obec Libochovany, č. p. 5, 411 03, Libochovany | AI89: Projektant: | AM89: =IF(E17="","",E17) -> Multiaqua s.r.o. | AS89: Informatívní údaje z listů zakázek
C90: Uchazeč: | L90: =IF(E14= "Vyplň údaj","",E14) | AI90: Zpracovatel: | AM90: =IF(E20="","",E20) -> Roman Bárta
C92: Kód | I92: Popis | AG92: Cena bez DPH [CZK] | AN92: Cena s DPH [CZK] | AQ92: Typ | AS92: z toho Ostat._x000D_ náklady [CZK] | AT92: DPH [CZK] | AU92: Normohodiny [h] | AV92: DPH základní [CZK] | AW92: DPH snížená [CZK] | AX92: DPH základní přenesená_x000D_ [CZK] | AY92: DPH snížená přenesená_x000D_ [CZK] | AZ92: Základna_x000D_ DPH základní | BA92: Základna_x000D_ DPH snížená | BB92: Základna_x000D_ DPH zákl. přenesená | BC92: Základna_x000D_ DPH sníž. přenesená | BD92: Základna_x000D_ DPH nulová
C94: Náklady z rozpočtů | AG94: =ROUND(AG95,2) -> 0 | AN94: =SUM(AG94,AT94) -> 0 | AS94: =ROUND(AS95,2) -> 0 | AT94: =ROUND(SUM(AV94:AW94),2) -> 0 | AU94: =ROUND(AU95,5) -> 0 | AV94: =ROUND(AZ94*L29,2) -> 0 | AW94: =ROUND(BA94*L30,2) -> 0 | AX94: =ROUND(BB94*L29,2) -> 0 | AY94: =ROUND(BC94*L30,2) -> 0 | AZ94: =ROUND(AZ95,2) -> 0 | BA94: =ROUND(BA95,2) -> 0 | BB94: =ROUND(BB95,2) -> 0 | BC94: =ROUND(BC95,2) -> 0 | BD94: =ROUND(BD95,2) -> 0 | BS94: D | BT94: 0 | BU94: ###NOIMPORT### | BV94: IMPORT | BW94: {21c72983-c072-40f9-b746-bc56de7e196c} | BX94: {00000000-0000-0000-0000-000000000000}
A95: / | D95: 24 | J95: Přípojky Libochovany - I. Etapa | AG95: ='24 - Přípojky Libochovany...'!J30 -> 0 | AN95: =SUM(AG95,AT95) -> 0 | AQ95: STA | AS95: 0 | AT95: =ROUND(SUM(AV95:AW95),2) -> 0 | AU95: ='24 - Přípojky Libochovany...'!P125 -> 0 | AV95: ='24 - Přípojky Libochovany...'!J33 -> 0 | AW95: ='24 - Přípojky Libochovany...'!J34 -> 0 | AX95: ='24 - Přípojky Libochovany...'!J35 -> 0 | AY95: ='24 - Přípojky Libochovany...'!J36 -> 0 | AZ95: ='24 - Přípojky Libochovany...'!F33 -> 0 | BA95: ='24 - Přípojky Libochovany...'!F34 -> 0 | BB95: ='24 - Přípojky Libochovany...'!F35 -> 0 | BC95: ='24 - Přípojky Libochovany...'!F36 -> 0 | BD95: ='24 - Přípojky Libochovany...'!F37 -> 0 | BT95: 1 | BV95: IMPORT | BW95: {dffab870-3f72-48ff-acea-8fc4e1cde948} | BX95: {21c72983-c072-40f9-b746-bc56de7e196c} | CM95: 2

Sheet 24 - Přípojky Libochovany...
L2: >> skryté sloupce << | AT2: {dffab870-3f72-48ff-acea-8fc4e1cde948}
AT3: 2
D4: KRYCÍ LIST SOUPISU PRACÍ | M4: v --- níže se nacházejí doplnkové a pomocné údaje k sestavám --- v | AT4: False
D6: Stavba:
E7: ='Rekapitulace stavby'!K6 -> Kanalizace, ČOV – Libochovany, Řepnice - přípojky Libochovany - I. Etapa
D8: Objekt:
E9: 24 - Přípojky Libochovany - I. Etapa
D11: KSO: | I11: CC-CZ:
D12: Místo: | F12: Libochovany | I12: Datum: | J12: ='Rekapitulace stavby'!AN8 -> 17. 9. 2025
D14: Zadavatel: | I14: IČ:
E15: Obec Libochovany, č. p. 5, 411 03, Libochovany | I15: DIČ:
D17: Uchazeč: | I17: IČ: | J17: ='Rekapitulace stavby'!AN13 -> Vyplň údaj
E18: ='Rekapitulace stavby'!E14 -> Vyplň údaj | I18: DIČ: | J18: ='Rekapitulace stavby'!AN14 -> Vyplň údaj
D20: Projektant: | I20: IČ: | J20: 60113111
E21: Multiaqua s.r.o. | I21: DIČ: | J21: CZ60113111
D23: Zpracovatel: | I23: IČ:
E24: Roman Bárta | I24: DIČ:
D26: Poznámka:
D30: Cena bez DPH | J30: =ROUND(J125, 2) -> 0
F32: Základ daně | I32: Sazba daně | J32: Výše daně
D33: DPH | E33: základní | F33: =ROUND((SUM(BE125:BE409)), 2) -> 0 | I33: 0.21 | J33: =ROUND(((SUM(BE125:BE409))*I33), 2) -> 0
E34: snížená | F34: =ROUND((SUM(BF125:BF409)), 2) -> 0 | I34: 0.15 | J34: =ROUND(((SUM(BF125:BF409))*I34), 2) -> 0
E35: zákl. přenesená | F35: =ROUND((SUM(BG125:BG409)), 2) -> 0 | I35: 0.21 | J35: =0 -> 0
E36: sníž. přenesená | F36: =ROUND((SUM(BH125:BH409)), 2) -> 0 | I36: 0.15 | J36: =0 -> 0
E37: nulová | F37: =ROUND((SUM(BI125:BI409)), 2) -> 0 | I37: 0 | J37: =0 -> 0
D39: Cena s DPH | G39: v | H39: CZK | J39: =SUM(J30:J37) -> 0
D50: Projektant | G50: Zpracovatel
D61: Datum a podpis: | F61: Razítko | G61: Datum a podpis: | J61: Razítko
D65: Objednavatel | G65: Uchazeč
D76: Datum a podpis: | F76: Razítko | G76: Datum a podpis: | J76: Razítko
C82: REKAPITULACE ČLENĚNÍ SOUPISU PRACÍ
C84: Stavba:
E85: =E7 -> Kanalizace, ČOV – Libochovany, Řepnice - přípojky Libochovany - I. Etapa
C86: Objekt:
E87: =E9 -> 24 - Přípojky Libochovany - I. Etapa
C89: Místo: | F89: =F12 -> Libochovany | I89: Datum: | J89: =IF(J12="","",J12) -> 17. 9. 2025
C91: Zadavatel: | F91: =E15 -> Obec Libochovany, č. p. 5, 411 03, Libochovany | I91: Projektant: | J91: =E21 -> Multiaqua s.r.o.
C92: Uchazeč: | F92: =IF(E18="","",E18) -> Vyplň údaj | I92: Zpracovatel: | J92: =E24 -> Roman Bárta
C94: Kód dílu - Popis | J94: Cena celkem [CZK]
C96: Náklady ze soupisu prací | J96: =J125 -> 0 | AU96: -1
D97: HSV - Práce a dodávky HSV | J97: =J126 -> 0
D98: 1 - Zemní práce | J98: =J127 -> 0
D99: 2 - Zakládání | J99: =J280 -> 0
D100: 4 - Vodorovné konstrukce | J100: =J285 -> 0
D101: 5 - Komunikace pozemní | J101: =J290 -> 0
D102: 8 - Trubní vedení | J102: =J370 -> 0
D103: 9 - Ostatní konstrukce a práce-bourání | J103: =J382 -> 0
D104: 997 - Přesun sutě | J104: =J397 -> 0
D105: 998 - Přesun hmot | J105: =J408 -> 0
C112: SOUPIS PRACÍ
C114: Stavba:
E115: =E7 -> Kanalizace, ČOV – Libochovany, Řepnice - přípojky Libochovany - I. Etapa
C116: Objekt:
E117: =E9 -> 24 - Přípojky Libochovany - I. Etapa
C119: Místo: | F119: =F12 -> Libochovany | I119: Datum: | J119: =IF(J12="","",J12) -> 17. 9. 2025
C121: Zadavatel: | F121: =E15 -> Obec Libochovany, č. p. 5, 411 03, Libochovany | I121: Projektant: | J121: =E21 -> Multiaqua s.r.o.
C122: Uchazeč: | F122: =IF(E18="","",E18) -> Vyplň údaj | I122: Zpracovatel: | J122: =E24 -> Roman Bárta
C124: PČ | D124: Typ | E124: Kód | F124: Popis | G124: MJ | H124: Množství | I124: J.cena [CZK] | J124: Cena celkem [CZK] | K124: Cenová soustava | N124: DPH | O124: J. Nh [h] | P124: Nh celkem [h] | Q124: J. hmotnost [t] | R124: Hmotnost celkem [t] | S124: J. suť [t] | T124: Suť Celkem [t]
C125: Náklady soupisu celkem | J125: =BK125 -> 0 | P125: =P126 -> 0 | R125: =R126 -> 1501.3483 | T125: =T126 -> 629.8119 | AT125: D | AU125: -1 | BK125: =BK126 -> 0
D126: D | E126: HSV | F126: Práce a dodávky HSV | J126: =BK126 -> 0 | P126: =P127+P280+P285+P290+P370+P382+P397+P408 -> 0 | R126: =R127+R280+R285+R290+R370+R382+R397+R408 -> 1501.3483 | T126: =T127+T280+T285+T290+T370+T382+T397+T408 -> 629.8119 | AR126: 1 | AT126: D | AU126: 0 | AY126: ROZPOCET | BK126: =BK127+BK280+BK285+BK290+BK370+BK382+BK397+BK408 -> 0
D127: D | E127: 1 | F127: Zemní práce | J127: =BK127 -> 0 | P127: =SUM(P128:P279) -> 0 | R127: =SUM(R128:R279) -> 1204.0483 | T127: =SUM(T128:T279) -> 629.8119 | AR127: 1 | AT127: D | AU127: 1 | AY127: ROZPOCET | BK127: =SUM(BK128:BK279) -> 0
C128: 1 | D128: K | E128: 113106171 | F128: Rozebrání dlažeb vozovek a ploch s přemístěním hmot na skládku na vzdálenost do 3 m nebo s naložením na dopravní prostředek, s jakoukoliv výplní spár ručně ze zámkové dlažby s ložem z kameniva | G128: m2 | H128: 130.5 | J128: =ROUND(I128*H128,2) -> 0 | K128: CS ÚRS 2025 02 | N128: základní | P128: =O128*H128 -> 0 | Q128: 0 | R128: =Q128*H128 -> 0 | S128: 0.295 | T128: =S128*H128 -> 38.4975 | AR128: 4 | AT128: K | AU128: 2 | AY128: ROZPOCET | BE128: =IF(N128="základní",J128,0) -> 0 | BF128: =IF(N128="snížená",J128,0) -> 0 | BG128: =IF(N128="zákl. přenesená",J128,0) -> 0 | BH128: =IF(N128="sníž. přenesená",J128,0) -> 0 | BI128: =IF(N128="nulová",J128,0) -> 0 | BJ128: 1 | BK128: =ROUND(I128*H128,2) -> 0 | BL128: 4 | BM128: -656392086
D129: P | F129: Poznámka k položce:_x000D_ hmotnost sutě 0,295 t/m2 | AT129: P | AU129: 2
D130: VV | F130: výkres D.4 | AT130: VV | AU130: 2 | AV130: 1 | AW130: True | AX130: 0 | AY130: ROZPOCET
D131: VV | F131: délka dle tabulky kubatur | AT131: VV | AU131: 2 | AV131: 1 | AW131: True | AX131: 0 | AY131: ROZPOCET
D132: VV | F132: 87,0*1,5 | H132: 130.5 | AT132: VV | AU132: 2 | AV132: 2 | AW132: True | AX132: 1 | AY132: ROZPOCET
C133: 2 | D133: K | E133: 113107222 | F133: Odstranění podkladů nebo krytů strojně plochy jednotlivě přes 200 m2 s přemístěním hmot na skládku na vzdálenost do 20 m nebo s naložením na dopravní prostředek z kameniva hrubého drceného, o tl. vrstvy přes 100 do 200 mm | G133: m2 | H133: 130.5 | J133: =ROUND(I133*H133,2) -> 0 | K133: CS ÚRS 2025 02 | N133: základní | P133: =O133*H133 -> 0 | Q133: 0 | R133: =Q133*H133 -> 0 | S133: 0.29 | T133: =S133*H133 -> 37.845 | AR133: 4 | AT133: K | AU133: 2 | AY133: ROZPOCET | BE133: =IF(N133="základní",J133,0) -> 0 | BF133: =IF(N133="snížená",J133,0) -> 0 | BG133: =IF(N133="zákl. přenesená",J133,0) -> 0 | BH133: =IF(N133="sníž. přenesená",J133,0) -> 0 | BI133: =IF(N133="nulová",J133,0) -> 0 | BJ133: 1 | BK133: =ROUND(I133*H133,2) -> 0 | BL133: 4 | BM133: -1261473268
D134: P | F134: Poznámka k položce:_x000D_ hmotnost sutě 0,29 t/m2 | AT134: P | AU134: 2
D135: VV | F135: výkres D.4 | AT135: VV | AU135: 2 | AV135: 1 | AW135: True | AX135: 0 | AY135: ROZPOCET
D136: VV | F136: délka dle tabulky kubatur | AT136: VV | AU136: 2 | AV136: 1 | AW136: True | AX136: 0 | AY136: ROZPOCET
D137: VV | F137: 87,0*1,5 "zámková dlažba | H137: 130.5 | AT137: VV | AU137: 2 | AV137: 2 | AW137: True | AX137: 0 | AY137: ROZPOCET
D138: VV | F138: Součet | H138: 130.5 | AT138: VV | AU138: 2 | AV138: 4 | AW138: True | AX138: 1 | AY138: ROZPOCET
C139: 3 | D139: K | E139: 113107223 | F139: Odstranění podkladů nebo krytů strojně plochy jednotlivě přes 200 m2 s přemístěním hmot na skládku na vzdálenost do 20 m nebo s naložením na dopravní prostředek z kameniva hrubého drceného, o tl. vrstvy přes 200 do 300 mm | G139: m2 | H139: 294.8 | J139: =ROUND(I139*H139,2) -> 0 | K139: CS ÚRS 2025 02 | N139: základní | P139: =O139*H139 -> 0 | Q139: 0 | R139: =Q139*H139 -> 0 | S139: 0.44 | T139: =S139*H139 -> 129.712 | AR139: 4 | AT139: K | AU139: 2 | AY139: ROZPOCET | BE139: =IF(N139="základní",J139,0) -> 0 | BF139: =IF(N139="snížená",J139,0) -> 0 | BG139: =IF(N139="zákl. přenesená",J139,0) -> 0 | BH139: =IF(N139="sníž. přenesená",J139,0) -> 0 | BI139: =IF(N139="nulová",J139,0) -> 0 | BJ139: 1 | BK139: =ROUND(I139*H139,2) -> 0 | BL139: 4 | BM139: 1636334865
D140: P | F140: Poznámka k položce:_x000D_ hmotnost sutě 0,44 t/m2 | AT140: P | AU140: 2
D141: VV | F141: provizorní povrch | AT141: VV | AU141: 2 | AV141: 1 | AW141: True | AX141: 0 | AY141: ROZPOCET
D142: VV | F142: 58,0*1,1 "SUS | H142: 63.8 | AT142: VV | AU142: 2 | AV142: 2 | AW142: True | AX142: 0 | AY142: ROZPOCET
D143: VV | F143: 210,0*1,1 "místní asf | H143: 231 | AT143: VV | AU143: 2 | AV143: 2 | AW143: True | AX143: 0 | AY143: ROZPOCET
D144: VV | F144: Součet | H144: 294.8 | AT144: VV | AU144: 2 | AV144: 4 | AW144: True | AX144: 1 | AY144: ROZPOCET
C145: 4 | D145: K | E145: 113107224 | F145: Odstranění podkladů nebo krytů strojně plochy jednotlivě přes 200 m2 s přemístěním hmot na skládku na vzdálenost do 20 m nebo s naložením na dopravní prostředek z kameniva hrubého drceného, o tl. vrstvy přes 300 do 400 mm | G145: m2 | H145: 279.4 | J145: =ROUND(I145*H145,2) -> 0 | K145: CS ÚRS 2025 02 | N145: základní | P145: =O145*H145 -> 0 | Q145: 0 | R145: =Q145*H145 -> 0 | S145: 0.58 | T145: =S145*H145 -> 162.052 | AR145: 4 | AT145: K | AU145: 2 | AY145: ROZPOCET | BE145: =IF(N145="základní",J145,0) -> 0 | BF145: =IF(N145="snížená",J145,0) -> 0 | BG145: =IF(N145="zákl. přenesená",J145,0) -> 0 | BH145: =IF(N145="sníž. přenesená",J145,0) -> 0 | BI145: =IF(N145="nulová",J145,0) -> 0 | BJ145: 1 | BK145: =ROUND(I145*H145,2) -> 0 | BL145: 4 | BM145: 310649908
D146: P | F146: Poznámka k položce:_x000D_ hmotnost sutě 0,58 t/m2 | AT146: P | AU146: 2
D147: VV | F147: výkres D.4 | AT147: VV | AU147: 2 | AV147: 1 | AW147: True | AX147: 0 | AY147: ROZPOCET
D148: VV | F148: délka dle tabulky kubatur | AT148: VV | AU148: 2 | AV148: 1 | AW148: True | AX148: 0 | AY148: ROZPOCET
D149: VV | F149: 210,0*1,1 "místní asf | H149: 231 | AT149: VV | AU149: 2 | AV149: 2 | AW149: True | AX149: 0 | AY149: ROZPOCET
D150: VV | F150: 44,0*1,1 "štěrk | H150: 48.4 | AT150: VV | AU150: 2 | AV150: 2 | AW150: True | AX150: 0 | AY150: ROZPOCET
D151: VV | F151: Součet | H151: 279.4 | AT151: VV | AU151: 2 | AV151: 4 | AW151: True | AX151: 1 | AY151: ROZPOCET
C152: 5 | D152: K | E152: 113107225 | F152: Odstranění podkladů nebo krytů strojně plochy jednotlivě přes 200 m2 s přemístěním hmot na skládku na vzdálenost do 20 m nebo s naložením na dopravní prostředek z kameniva hrubého drceného, o tl. vrstvy přes 400 do 500 mm | G152: m2 | H152: 63.8 | J152: =ROUND(I152*H152,2) -> 0 | K152: CS ÚRS 2025 02 | N152: základní | P152: =O152*H152 -> 0 | Q152: 0 | R152: =Q152*H152 -> 0 | S152: 0.75 | T152: =S152*H152 -> 47.85 | AR152: 4 | AT152: K | AU152: 2 | AY152: ROZPOCET | BE152: =IF(N152="základní",J152,0) -> 0 | BF152: =IF(N152="snížená",J152,0) -> 0 | BG152: =IF(N152="zákl. přenesená",J152,0) -> 0 | BH152: =IF(N152="sníž. přenesená",J152,0) -> 0 | BI152: =IF(N152="nulová",J152,0) -> 0 | BJ152: 1 | BK152: =ROUND(I152*H152,2) -> 0 | BL152: 4 | BM152: -314670075
D153: P | F153: Poznámka k položce:_x000D_ hmotnost sutě 0,75 | AT153: P | AU153: 2
D154: VV | F154: výkres D.4 | AT154: VV | AU154: 2 | AV154: 1 | AW154: True | AX154: 0 | AY154: ROZPOCET
D155: VV | F155: délka dle tabulky kubatur | AT155: VV | AU155: 2 | AV155: 1 | AW155: True | AX155: 0 | AY155: ROZPOCET
D156: VV | F156: 58,0*1,1 "SUS | H156: 63.8 | AT156: VV | AU156: 2 | AV156: 2 | AW156: True | AX156: 1 | AY156: ROZPOCET
C157: 6 | D157: K | E157: 113107242 | F157: Odstranění podkladů nebo krytů strojně plochy jednotlivě přes 200 m2 s přemístěním hmot na skládku na vzdálenost do 20 m nebo s naložením na dopravní prostředek živičných, o tl. vrstvy přes 50 do 100 mm | G157: m2 | H157: 63.8 | J157: =ROUND(I157*H157,2) -> 0 | K157: CS ÚRS 2025 02 | N157: základní | P157: =O157*H157 -> 0 | Q157: 0 | R157: =Q157*H157 -> 0 | S157: 0.22 | T157: =S157*H157 -> 14.036 | AR157: 4 | AT157: K | AU157: 2 | AY157: ROZPOCET | BE157: =IF(N157="základní",J157,0) -> 0 | BF157: =IF(N157="snížená",J157,0) -> 0 | BG157: =IF(N157="zákl. přenesená",J157,0) -> 0 | BH157: =IF(N157="sníž. přenesená",J157,0) -> 0 | BI157: =IF(N157="nulová",J157,0) -> 0 | BJ157: 1 | BK157: =ROUND(I157*H157,2) -> 0 | BL157: 4 | BM157: 1953617249
D158: P | F158: Poznámka k položce:_x000D_ hmotnost sutě 0,22 t/m2 | AT158: P | AU158: 2
D159: VV | F159: výkres D.4 | AT159: VV | AU159: 2 | AV159: 1 | AW159: True | AX159: 0 | AY159: ROZPOCET
D160: VV | F160: délka dle tabulky kubatur | AT160: VV | AU160: 2 | AV160: 1 | AW160: True | AX160: 0 | AY160: ROZPOCET
D161: VV | F161: odstranění provizorního povrchu | AT161: VV | AU161: 2 | AV161: 1 | AW161: True | AX161: 0 | AY161: ROZPOCET
D162: VV | F162: 58,0*1,1 "SUS | H162: 63.8 | AT162: VV | AU162: 2 | AV162: 2 | AW162: True | AX162: 1 | AY162: ROZPOCET
C163: 7 | D163: K | E163: 113154522 | F163: Frézování živičného podkladu nebo krytu s naložením hmot na dopravní prostředek plochy do 500 m2 pruhu šířky přes 0,5 m, tloušťky vrstvy 40 mm | G163: m2 | H163: 315 | J163: =ROUND(I163*H163,2) -> 0 | K163: CS ÚRS 2025 02 | N163: základní | P163: =O163*H163 -> 0 | Q163: 1e-05 | R163: =Q163*H163 -> 0.00315 | S163: 0.092 | T163: =S163*H163 -> 28.98 | AR163: 4 | AT163: K | AU163: 2 | AY163: ROZPOCET | BE163: =IF(N163="základní",J163,0) -> 0 | BF163: =IF(N163="snížená",J163,0) -> 0 | BG163: =IF(N163="zákl. přenesená",J163,0) -> 0 | BH163: =IF(N163="sníž. přenesená",J163,0) -> 0 | BI163: =IF(N163="nulová",J163,0) -> 0 | BJ163: 1 | BK163: =ROUND(I163*H163,2) -> 0 | BL163: 4 | BM163: -1376303126
D164: VV | F164: výkres D.4 | AT164: VV | AU164: 2 | AV164: 1 | AW164: True | AX164: 0 | AY164: ROZPOCET
D165: VV | F165: délka dle tabulky kubatur | AT165: VV | AU165: 2 | AV165: 1 | AW165: True | AX165: 0 | AY165: ROZPOCET
D166: VV | F166: 210,0*1,5 "místní asf | H166: 315 | AT166: VV | AU166: 2 | AV166: 2 | AW166: True | AX166: 1 | AY166: ROZPOCET
...
