Workbook

Sheet Rekapitulace stavby
A1: Export Komplet | BA1: 2.0 | BB1: ZAMOK | BT1: False | BU1: False | BV1: {ad5c5452-1d1e-4811-9d64-5708923ca928}
BS2: 0,01 | BT2: 21
BS3: 0,01 | BT3: 15
D4: REKAPITULACE STAVBY | AS4: v --- níže se nacházejí doplnkové a pomocné údaje k sestavám --- v | BE4: Návod na vyplnění | BS4: 0,001
D5: Kód: | K5: 2026-06 | BE5: Měnit lze pouze buňky se žlutým podbarvením!_x000D_ _x000D_ 1) na prvním listu Rekapitulace stavby vyplňte v sestavě_x000D_ _x000D_ a) Souhrnný list_x000D_ - údaje o Uchazeči_x000D_ (přenesou se do ostatních sestav i v jiných listech)_x000D_ _x000D_ b) Rekapitulace objektů_x000D_ - potřebné Ostatní náklady_x000D_ _x000D_ 2) na vybraných listech vyplňte v sestavě_x000D_ _x000D_ a) Krycí list_x000D_ - údaje o Uchazeči, pokud se liší od údajů o Uchazeči na Souhrnném listu_x000D_ (údaje se přenesou do ostatních sestav v daném listu)_x000D_ _x000D_ b) Rekapitulace rozpočtu_x000D_ - potřebné Ostatní náklady_x000D_ _x000D_ c) Celkové náklady za stavbu_x000D_ - ceny u položek_x000D_ - množství, pokud má žluté podbarvení_x000D_ - a v případě potřeby poznámku (ta je ve skrytém sloupci) | BS5: 0,01
D6: Stavba: | K6: Oprava místní komunikace - Borek u Děčína | BS6: 0,01
D7: KSO: | AK7: CC-CZ: | BS7: 0,01
D8: Místo: | AK8: Datum: | AN8: 27. 3. 2026 | BS8: 0,01
BS9: 0,01
D10: Zadavatel: | AK10: IČ: | AN10: 00261548 | BS10: 0,01
E11: Obec Malšovice | AK11: DIČ: | AN11: CZ00261548 | BS11: 0,01
BS12: 0,01
D13: Uchazeč: | AK13: IČ: | AN13: Vyplň údaj | BS13: 0,01
E14: Vyplň údaj | AK14: DIČ: | AN14: Vyplň údaj | BS14: 0,01
BS15: False
D16: Projektant: | AK16: IČ: | AN16: 73842346 | BS16: False
E17: Ing. Martina Hřebřinová, Děčín | AK17: DIČ: | BS17: True
BS18: 0,01
D19: Zpracovatel: | AK19: IČ: | AN19: 11461527 | BS19: 0,01
E20: Josef Beran-STAVO, Žatec | AK20: DIČ: | BS20: True
D22: Poznámka:
D26: Cena bez DPH | AK26: =ROUND(AG94,2) -> 0
L28: Sazba daně | W28: Základ daně | AK28: Výše daně
D29: DPH | F29: základní | L29: 0.21 | W29: =ROUND(AZ94, 2) -> 0 | AK29: =ROUND(AV94, 2) -> 0
F30: snížená | L30: 0.15 | W30: =ROUND(BA94, 2) -> 0 | AK30: =ROUND(AW94, 2) -> 0
F31: zákl. přenesená | L31: 0.21 | W31: =ROUND(BB94, 2) -> 0 | AK31: 0
F32: sníž. přenesená | L32: 0.15 | W32: =ROUND(BC94, 2) -> 0 | AK32: 0
F33: nulová | L33: 0 | W33: =ROUND(BD94, 2) -> 0 | AK33: 0
D35: Cena s DPH | T35: v | X35: CZK | AK35: =SUM(AK26:AK33) -> 0
D49: Projektant | AH49: Zpracovatel
D60: Datum a podpis: | V60: Razítko | AH60: Datum a podpis: | AM60: Razítko
D64: Objednavatel | AH64: Uchazeč
D75: Datum a podpis: | V75: Razítko | AH75: Datum a podpis: | AM75: Razítko
C82: REKAPITULACE OBJEKTŮ STAVBY A SOUPISŮ PRACÍ
C84: Kód: | L84: =K5 -> 2026-06
C85: Stavba: | L85: =K6 -> Oprava místní komunikace - Borek u Děčína
C87: Místo: | L87: =IF(K8="","",K8) | AI87: Datum: | AM87: =IF(AN8= "","",AN8) -> 27. 3. 2026
C89: Zadavatel: | L89: =IF(E11= "","",E11) -> Obec Malšovice | AI89: Projektant: | AM89: =IF(E17="","",E17) -> Ing. Martina Hřebřinová, Děčín | AS89: Informatívní údaje z listů zakázek
C90: Uchazeč: | L90: =IF(E14= "Vyplň údaj","",E14) | AI90: Zpracovatel: | AM90: =IF(E20="","",E20) -> Josef Beran-STAVO, Žatec
C92: Kód | I92: Popis | AG92: Cena bez DPH [CZK] | AN92: Cena s DPH [CZK] | AQ92: Typ | AS92: z toho Ostat._x000D_ náklady [CZK] | AT92: DPH [CZK] | AU92: Normohodiny [h] | AV92: DPH základní [CZK] | AW92: DPH snížená [CZK] | AX92: DPH základní přenesená_x000D_ [CZK] | AY92: DPH snížená přenesená_x000D_ [CZK] | AZ92: Základna_x000D_ DPH základní | BA92: Základna_x000D_ DPH snížená | BB92: Základna_x000D_ DPH zákl. přenesená | BC92: Základna_x000D_ DPH sníž. přenesená | BD92: Základna_x000D_ DPH nulová
...

Sheet 01 - SO 101 - komunikace ...
AT2: {579be280-0970-4a6e-8cfa-35b6e15696f4}
AT3: 2
D4: KRYCÍ LIST SOUPISU PRACÍ | M4: v --- níže se nacházejí doplnkové a pomocné údaje k sestavám --- v | AT4: False
D6: Stavba:
E7: ='Rekapitulace stavby'!K6 -> Oprava místní komunikace - Borek u Děčína
D8: Objekt:
E9: 01 - SO 101 - komunikace MK 1
D11: KSO: | I11: CC-CZ:
D12: Místo: | I12: Datum: | J12: ='Rekapitulace stavby'!AN8 -> 27. 3. 2026
D14: Zadavatel: | I14: IČ: | J14: 00261548
E15: Obec Malšovice | I15: DIČ: | J15: CZ00261548
D17: Uchazeč: | I17: IČ: | J17: ='Rekapitulace stavby'!AN13 -> Vyplň údaj
E18: ='Rekapitulace stavby'!E14 -> Vyplň údaj | I18: DIČ: | J18: ='Rekapitulace stavby'!AN14 -> Vyplň údaj
D20: Projektant: | I20: IČ: | J20: 73842346
E21: Ing. Martina Hřebřinová, Děčín | I21: DIČ:
D23: Zpracovatel: | I23: IČ: | J23: 11461527
E24: Josef Beran-STAVO, Žatec | I24: DIČ:
D26: Poznámka:
D30: Cena bez DPH | J30: =ROUND(J124, 2) -> 0
F32: Základ daně | I32: Sazba daně | J32: Výše daně
D33: DPH | E33: základní | F33: =ROUND((SUM(BE124:BE357)), 2) -> 0 | I33: 0.21 | J33: =ROUND(((SUM(BE124:BE357))*I33), 2) -> 0
E34: snížená | F34: =ROUND((SUM(BF124:BF357)), 2) -> 0 | I34: 0.15 | J34: =ROUND(((SUM(BF124:BF357))*I34), 2) -> 0
E35: zákl. přenesená | F35: =ROUND((SUM(BG124:BG357)), 2) -> 0 | I35: 0.21 | J35: =0 -> 0
E36: sníž. přenesená | F36: =ROUND((SUM(BH124:BH357)), 2) -> 0 | I36: 0.15 | J36: =0 -> 0
E37: nulová | F37: =ROUND((SUM(BI124:BI357)), 2) -> 0 | I37: 0 | J37: =0 -> 0
D39: Cena s DPH | G39: v | H39: CZK | J39: =SUM(J30:J37) -> 0
D50: Projektant | G50: Zpracovatel
D61: Datum a podpis: | F61: Razítko | G61: Datum a podpis: | J61: Razítko
D65: Objednavatel | G65: Uchazeč
D76: Datum a podpis: | F76: Razítko | G76: Datum a podpis: | J76: Razítko
C82: REKAPITULACE ČLENĚNÍ SOUPISU PRACÍ
C84: Stavba:
E85: =E7 -> Oprava místní komunikace - Borek u Děčína
C86: Objekt:
E87: =E9 -> 01 - SO 101 - komunikace MK 1
C89: Místo: | F89: =F12 | I89: Datum: | J89: =IF(J12="","",J12) -> 27. 3. 2026
C91: Zadavatel: | F91: =E15 -> Obec Malšovice | I91: Projektant: | J91: =E21 -> Ing. Martina Hřebřinová, Děčín
C92: Uchazeč: | F92: =IF(E18="","",E18) -> Vyplň údaj | I92: Zpracovatel: | J92: =E24 -> Josef Beran-STAVO, Žatec
C94: Kód dílu - Popis | J94: Cena celkem [CZK]
C96: Náklady ze soupisu prací | J96: =J124 -> 0 | AU96: -1
...

Sheet 02 - SO 102 - komunikace ...
AT2: {8b3f2ad1-0c3d-46f4-b289-7c1bb5681927}
AT3: 2
D4: KRYCÍ LIST SOUPISU PRACÍ | M4: v --- níže se nacházejí doplnkové a pomocné údaje k sestavám --- v | AT4: False
D6: Stavba:
E7: ='Rekapitulace stavby'!K6 -> Oprava místní komunikace - Borek u Děčína
D8: Objekt:
E9: 02 - SO 102 - komunikace MK 2
D11: KSO: | I11: CC-CZ:
D12: Místo: | I12: Datum: | J12: ='Rekapitulace stavby'!AN8 -> 27. 3. 2026
D14: Zadavatel: | I14: IČ: | J14: 00261548
E15: Obec Malšovice | I15: DIČ: | J15: CZ00261548
D17: Uchazeč: | I17: IČ: | J17: ='Rekapitulace stavby'!AN13 -> Vyplň údaj
E18: ='Rekapitulace stavby'!E14 -> Vyplň údaj | I18: DIČ: | J18: ='Rekapitulace stavby'!AN14 -> Vyplň údaj
D20: Projektant: | I20: IČ: | J20: 73842346
E21: Ing. Martina Hřebřinová, Děčín | I21: DIČ:
D23: Zpracovatel: | I23: IČ: | J23: 11461527
E24: Josef Beran-STAVO, Žatec | I24: DIČ:
D26: Poznámka:
D30: Cena bez DPH | J30: =ROUND(J123, 2) -> 0
F32: Základ daně | I32: Sazba daně | J32: Výše daně
D33: DPH | E33: základní | F33: =ROUND((SUM(BE123:BE238)), 2) -> 0 | I33: 0.21 | J33: =ROUND(((SUM(BE123:BE238))*I33), 2) -> 0
E34: snížená | F34: =ROUND((SUM(BF123:BF238)), 2) -> 0 | I34: 0.15 | J34: =ROUND(((SUM(BF123:BF238))*I34), 2) -> 0
E35: zákl. přenesená | F35: =ROUND((SUM(BG123:BG238)), 2) -> 0 | I35: 0.21 | J35: =0 -> 0
E36: sníž. přenesená | F36: =ROUND((SUM(BH123:BH238)), 2) -> 0 | I36: 0.15 | J36: =0 -> 0
E37: nulová | F37: =ROUND((SUM(BI123:BI238)), 2) -> 0 | I37: 0 | J37: =0 -> 0
D39: Cena s DPH | G39: v | H39: CZK | J39: =SUM(J30:J37) -> 0
D50: Projektant | G50: Zpracovatel
D61: Datum a podpis: | F61: Razítko | G61: Datum a podpis: | J61: Razítko
D65: Objednavatel | G65: Uchazeč
D76: Datum a podpis: | F76: Razítko | G76: Datum a podpis: | J76: Razítko
C82: REKAPITULACE ČLENĚNÍ SOUPISU PRACÍ
C84: Stavba:
E85: =E7 -> Oprava místní komunikace - Borek u Děčína
C86: Objekt:
E87: =E9 -> 02 - SO 102 - komunikace MK 2
C89: Místo: | F89: =F12 | I89: Datum: | J89: =IF(J12="","",J12) -> 27. 3. 2026
C91: Zadavatel: | F91: =E15 -> Obec Malšovice | I91: Projektant: | J91: =E21 -> Ing. Martina Hřebřinová, Děčín
C92: Uchazeč: | F92: =IF(E18="","",E18) -> Vyplň údaj | I92: Zpracovatel: | J92: =E24 -> Josef Beran-STAVO, Žatec
C94: Kód dílu - Popis | J94: Cena celkem [CZK]
C96: Náklady ze soupisu prací | J96: =J123 -> 0 | AU96: -1
...

Sheet 03 - Vedlejší rozpočtové ...
AT2: {d2c29c87-c346-48a4-bcb0-e6a42df09ebe}
AT3: 2
D4: KRYCÍ LIST SOUPISU PRACÍ | M4: v --- níže se nacházejí doplnkové a pomocné údaje k sestavám --- v | AT4: False
D6: Stavba:
E7: ='Rekapitulace stavby'!K6 -> Oprava místní komunikace - Borek u Děčína
D8: Objekt:
E9: 03 - Vedlejší rozpočtové náklady
D11: KSO: | I11: CC-CZ:
D12: Místo: | I12: Datum: | J12: ='Rekapitulace stavby'!AN8 -> 27. 3. 2026
D14: Zadavatel: | I14: IČ: | J14: 00261548
E15: Obec Malšovice | I15: DIČ: | J15: CZ00261548
D17: Uchazeč: | I17: IČ: | J17: ='Rekapitulace stavby'!AN13 -> Vyplň údaj
E18: ='Rekapitulace stavby'!E14 -> Vyplň údaj | I18: DIČ: | J18: ='Rekapitulace stavby'!AN14 -> Vyplň údaj
D20: Projektant: | I20: IČ: | J20: 73842346
E21: Ing. Martina Hřebřinová, Děčín | I21: DIČ:
D23: Zpracovatel: | I23: IČ: | J23: 11461527
E24: Josef Beran-STAVO, Žatec | I24: DIČ:
D26: Poznámka:
D30: Cena bez DPH | J30: =ROUND(J122, 2) -> 0
F32: Základ daně | I32: Sazba daně | J32: Výše daně
D33: DPH | E33: základní | F33: =ROUND((SUM(BE122:BE137)), 2) -> 0 | I33: 0.21 | J33: =ROUND(((SUM(BE122:BE137))*I33), 2) -> 0
E34: snížená | F34: =ROUND((SUM(BF122:BF137)), 2) -> 0 | I34: 0.15 | J34: =ROUND(((SUM(BF122:BF137))*I34), 2) -> 0
E35: zákl. přenesená | F35: =ROUND((SUM(BG122:BG137)), 2) -> 0 | I35: 0.21 | J35: =0 -> 0
E36: sníž. přenesená | F36: =ROUND((SUM(BH122:BH137)), 2) -> 0 | I36: 0.15 | J36: =0 -> 0
E37: nulová | F37: =ROUND((SUM(BI122:BI137)), 2) -> 0 | I37: 0 | J37: =0 -> 0
D39: Cena s DPH | G39: v | H39: CZK | J39: =SUM(J30:J37) -> 0
D50: Projektant | G50: Zpracovatel
D61: Datum a podpis: | F61: Razítko | G61: Datum a podpis: | J61: Razítko
D65: Objednavatel | G65: Uchazeč
D76: Datum a podpis: | F76: Razítko | G76: Datum a podpis: | J76: Razítko
C82: REKAPITULACE ČLENĚNÍ SOUPISU PRACÍ
C84: Stavba:
E85: =E7 -> Oprava místní komunikace - Borek u Děčína
C86: Objekt:
E87: =E9 -> 03 - Vedlejší rozpočtové náklady
C89: Místo: | F89: =F12 | I89: Datum: | J89: =IF(J12="","",J12) -> 27. 3. 2026
C91: Zadavatel: | F91: =E15 -> Obec Malšovice | I91: Projektant: | J91: =E21 -> Ing. Martina Hřebřinová, Děčín
C92: Uchazeč: | F92: =IF(E18="","",E18) -> Vyplň údaj | I92: Zpracovatel: | J92: =E24 -> Josef Beran-STAVO, Žatec
C94: Kód dílu - Popis | J94: Cena celkem [CZK]
C96: Náklady ze soupisu prací | J96: =J122 -> 0 | AU96: -1
...
