Workbook

Sheet Rekapitulace stavby
A1: Export Komplet | BA1: 2.0 | BB1: ZAMOK | BT1: False | BU1: False | BV1: {ad5c5452-1d1e-4811-9d64-5708923ca928}
BS2: 0,01 | BT2: 21
BS3: 0,01 | BT3: 15
D4: REKAPITULACE STAVBY | AS4: v --- níže se nacházejí doplnkové a pomocné údaje k sestavám --- v | BE4: Návod na vyplnění | BS4: 0,001
D5: Kód: | K5: 2026-06 | BE5: Měnit lze pouze buňky se žlutým podbarvením!_x000D_ _x000D_ 1) na prvním listu Rekapitulace stavby vyplňte v sestavě_x000D_ _x000D_ a) Souhrnný list_x000D_ - údaje o Uchazeči_x000D_ (přenesou se do ostatních sestav i v jiných listech)_x000D_ _x000D_ b) Rekapitulace objektů_x000D_ - potřebné Ostatní náklady_x000D_ _x000D_ 2) na vybraných listech vyplňte v sestavě_x000D_ _x000D_ a) Krycí list_x000D_ - údaje o Uchazeči, pokud se liší od údajů o Uchazeči na Souhrnném listu_x000D_ (údaje se přenesou do ostatních sestav v daném listu)_x000D_ _x000D_ b) Rekapitulace rozpočtu_x000D_ - potřebné Ostatní náklady_x000D_ _x000D_ c) Celkové náklady za stavbu_x000D_ - ceny u položek_x000D_ - množství, pokud má žluté podbarvení_x000D_ - a v případě potřeby poznámku (ta je ve skrytém sloupci) | BS5: 0,01
D6: Stavba: | K6: Oprava místní komunikace - Borek u Děčína | BS6: 0,01
D7: KSO: | AK7: CC-CZ: | BS7: 0,01
D8: Místo: | AK8: Datum: | AN8: 27. 3. 2026 | BS8: 0,01
BS9: 0,01
D10: Zadavatel: | AK10: IČ: | AN10: 00261548 | BS10: 0,01
E11: Obec Malšovice | AK11: DIČ: | AN11: CZ00261548 | BS11: 0,01
BS12: 0,01
D13: Uchazeč: | AK13: IČ: | AN13: Vyplň údaj | BS13: 0,01
E14: Vyplň údaj | AK14: DIČ: | AN14: Vyplň údaj | BS14: 0,01
BS15: False
D16: Projektant: | AK16: IČ: | AN16: 73842346 | BS16: False
E17: Ing. Martina Hřebřinová, Děčín | AK17: DIČ: | BS17: True
BS18: 0,01
D19: Zpracovatel: | AK19: IČ: | AN19: 11461527 | BS19: 0,01
E20: Josef Beran-STAVO, Žatec | AK20: DIČ: | BS20: True
D22: Poznámka:
D26: Cena bez DPH | AK26: =ROUND(AG94,2) -> 0
L28: Sazba daně | W28: Základ daně | AK28: Výše daně
D29: DPH | F29: základní | L29: 0.21 | W29: =ROUND(AZ94, 2) -> 0 | AK29: =ROUND(AV94, 2) -> 0
F30: snížená | L30: 0.15 | W30: =ROUND(BA94, 2) -> 0 | AK30: =ROUND(AW94, 2) -> 0
F31: zákl. přenesená | L31: 0.21 | W31: =ROUND(BB94, 2) -> 0 | AK31: 0
F32: sníž. přenesená | L32: 0.15 | W32: =ROUND(BC94, 2) -> 0 | AK32: 0
F33: nulová | L33: 0 | W33: =ROUND(BD94, 2) -> 0 | AK33: 0
D35: Cena s DPH | T35: v | X35: CZK | AK35: =SUM(AK26:AK33) -> 0
D49: Projektant | AH49: Zpracovatel
D60: Datum a podpis: | V60: Razítko | AH60: Datum a podpis: | AM60: Razítko
D64: Objednavatel | AH64: Uchazeč
D75: Datum a podpis: | V75: Razítko | AH75: Datum a podpis: | AM75: Razítko
C82: REKAPITULACE OBJEKTŮ STAVBY A SOUPISŮ PRACÍ
C84: Kód: | L84: =K5 -> 2026-06
C85: Stavba: | L85: =K6 -> Oprava místní komunikace - Borek u Děčína
C87: Místo: | L87: =IF(K8="","",K8) | AI87: Datum: | AM87: =IF(AN8= "","",AN8) -> 27. 3. 2026
C89: Zadavatel: | L89: =IF(E11= "","",E11) -> Obec Malšovice | AI89: Projektant: | AM89: =IF(E17="","",E17) -> Ing. Martina Hřebřinová, Děčín | AS89: Informatívní údaje z listů zakázek
C90: Uchazeč: | L90: =IF(E14= "Vyplň údaj","",E14) | AI90: Zpracovatel: | AM90: =IF(E20="","",E20) -> Josef Beran-STAVO, Žatec
C92: Kód | I92: Popis | AG92: Cena bez DPH [CZK] | AN92: Cena s DPH [CZK] | AQ92: Typ | AS92: z toho Ostat._x000D_ náklady [CZK] | AT92: DPH [CZK] | AU92: Normohodiny [h] | AV92: DPH základní [CZK] | AW92: DPH snížená [CZK] | AX92: DPH základní přenesená_x000D_ [CZK] | AY92: DPH snížená přenesená_x000D_ [CZK] | AZ92: Základna_x000D_ DPH základní | BA92: Základna_x000D_ DPH snížená | BB92: Základna_x000D_ DPH zákl. přenesená | BC92: Základna_x000D_ DPH sníž. přenesená | BD92: Základna_x000D_ DPH nulová
C94: Náklady z rozpočtů | AG94: =ROUND(SUM(AG95:AG97),2) -> 0 | AN94: =SUM(AG94,AT94) -> 0 | AS94: =ROUND(SUM(AS95:AS97),2) -> 0 | AT94: =ROUND(SUM(AV94:AW94),2) -> 0 | AU94: =ROUND(SUM(AU95:AU97),5) -> 0 | AV94: =ROUND(AZ94*L29,2) -> 0 | AW94: =ROUND(BA94*L30,2) -> 0 | AX94: =ROUND(BB94*L29,2) -> 0 | AY94: =ROUND(BC94*L30,2) -> 0 | AZ94: =ROUND(SUM(AZ95:AZ97),2) -> 0 | BA94: =ROUND(SUM(BA95:BA97),2) -> 0 | BB94: =ROUND(SUM(BB95:BB97),2) -> 0 | BC94: =ROUND(SUM(BC95:BC97),2) -> 0 | BD94: =ROUND(SUM(BD95:BD97),2) -> 0 | BS94: D | BT94: 0 | BU94: ###NOIMPORT### | BV94: IMPORT | BW94: {ad5c5452-1d1e-4811-9d64-5708923ca928} | BX94: {00000000-0000-0000-0000-000000000000}
A95: / | D95: 01 | J95: SO 101 - komunikace MK 1 | AG95: ='01 - SO 101 - komunikace ...'!J30 -> 0 | AN95: =SUM(AG95,AT95) -> 0 | AQ95: STA | AS95: 0 | AT95: =ROUND(SUM(AV95:AW95),2) -> 0 | AU95: ='01 - SO 101 - komunikace ...'!P124 -> 0 | AV95: ='01 - SO 101 - komunikace ...'!J33 -> 0 | AW95: ='01 - SO 101 - komunikace ...'!J34 -> 0 | AX95: ='01 - SO 101 - komunikace ...'!J35 -> 0 | AY95: ='01 - SO 101 - komunikace ...'!J36 -> 0 | AZ95: ='01 - SO 101 - komunikace ...'!F33 -> 0 | BA95: ='01 - SO 101 - komunikace ...'!F34 -> 0 | BB95: ='01 - SO 101 - komunikace ...'!F35 -> 0 | BC95: ='01 - SO 101 - komunikace ...'!F36 -> 0 | BD95: ='01 - SO 101 - komunikace ...'!F37 -> 0 | BT95: 1 | BV95: IMPORT | BW95: {579be280-0970-4a6e-8cfa-35b6e15696f4} | BX95: {ad5c5452-1d1e-4811-9d64-5708923ca928} | CM95: 2
A96: / | D96: 02 | J96: SO 102 - komunikace MK 2 | AG96: ='02 - SO 102 - komunikace ...'!J30 -> 0 | AN96: =SUM(AG96,AT96) -> 0 | AQ96: STA | AS96: 0 | AT96: =ROUND(SUM(AV96:AW96),2) -> 0 | AU96: ='02 - SO 102 - komunikace ...'!P123 -> 0 | AV96: ='02 - SO 102 - komunikace ...'!J33 -> 0 | AW96: ='02 - SO 102 - komunikace ...'!J34 -> 0 | AX96: ='02 - SO 102 - komunikace ...'!J35 -> 0 | AY96: ='02 - SO 102 - komunikace ...'!J36 -> 0 | AZ96: ='02 - SO 102 - komunikace ...'!F33 -> 0 | BA96: ='02 - SO 102 - komunikace ...'!F34 -> 0 | BB96: ='02 - SO 102 - komunikace ...'!F35 -> 0 | BC96: ='02 - SO 102 - komunikace ...'!F36 -> 0 | BD96: ='02 - SO 102 - komunikace ...'!F37 -> 0 | BT96: 1 | BV96: IMPORT | BW96: {8b3f2ad1-0c3d-46f4-b289-7c1bb5681927} | BX96: {ad5c5452-1d1e-4811-9d64-5708923ca928} | CM96: 2
A97: / | D97: 03 | J97: Vedlejší rozpočtové náklady | AG97: ='03 - Vedlejší rozpočtové ...'!J30 -> 0 | AN97: =SUM(AG97,AT97) -> 0 | AQ97: STA | AS97: 0 | AT97: =ROUND(SUM(AV97:AW97),2) -> 0 | AU97: ='03 - Vedlejší rozpočtové ...'!P122 -> 0 | AV97: ='03 - Vedlejší rozpočtové ...'!J33 -> 0 | AW97: ='03 - Vedlejší rozpočtové ...'!J34 -> 0 | AX97: ='03 - Vedlejší rozpočtové ...'!J35 -> 0 | AY97: ='03 - Vedlejší rozpočtové ...'!J36 -> 0 | AZ97: ='03 - Vedlejší rozpočtové ...'!F33 -> 0 | BA97: ='03 - Vedlejší rozpočtové ...'!F34 -> 0 | BB97: ='03 - Vedlejší rozpočtové ...'!F35 -> 0 | BC97: ='03 - Vedlejší rozpočtové ...'!F36 -> 0 | BD97: ='03 - Vedlejší rozpočtové ...'!F37 -> 0 | BT97: 1 | BV97: IMPORT | BW97: {d2c29c87-c346-48a4-bcb0-e6a42df09ebe} | BX97: {ad5c5452-1d1e-4811-9d64-5708923ca928} | CM97: 2

Sheet 01 - SO 101 - komunikace ...
AT2: {579be280-0970-4a6e-8cfa-35b6e15696f4}
AT3: 2
D4: KRYCÍ LIST SOUPISU PRACÍ | M4: v --- níže se nacházejí doplnkové a pomocné údaje k sestavám --- v | AT4: False
D6: Stavba:
E7: ='Rekapitulace stavby'!K6 -> Oprava místní komunikace - Borek u Děčína
D8: Objekt:
E9: 01 - SO 101 - komunikace MK 1
D11: KSO: | I11: CC-CZ:
D12: Místo: | I12: Datum: | J12: ='Rekapitulace stavby'!AN8 -> 27. 3. 2026
D14: Zadavatel: | I14: IČ: | J14: 00261548
E15: Obec Malšovice | I15: DIČ: | J15: CZ00261548
D17: Uchazeč: | I17: IČ: | J17: ='Rekapitulace stavby'!AN13 -> Vyplň údaj
E18: ='Rekapitulace stavby'!E14 -> Vyplň údaj | I18: DIČ: | J18: ='Rekapitulace stavby'!AN14 -> Vyplň údaj
D20: Projektant: | I20: IČ: | J20: 73842346
E21: Ing. Martina Hřebřinová, Děčín | I21: DIČ:
D23: Zpracovatel: | I23: IČ: | J23: 11461527
E24: Josef Beran-STAVO, Žatec | I24: DIČ:
D26: Poznámka:
D30: Cena bez DPH | J30: =ROUND(J124, 2) -> 0
F32: Základ daně | I32: Sazba daně | J32: Výše daně
D33: DPH | E33: základní | F33: =ROUND((SUM(BE124:BE357)), 2) -> 0 | I33: 0.21 | J33: =ROUND(((SUM(BE124:BE357))*I33), 2) -> 0
E34: snížená | F34: =ROUND((SUM(BF124:BF357)), 2) -> 0 | I34: 0.15 | J34: =ROUND(((SUM(BF124:BF357))*I34), 2) -> 0
E35: zákl. přenesená | F35: =ROUND((SUM(BG124:BG357)), 2) -> 0 | I35: 0.21 | J35: =0 -> 0
E36: sníž. přenesená | F36: =ROUND((SUM(BH124:BH357)), 2) -> 0 | I36: 0.15 | J36: =0 -> 0
E37: nulová | F37: =ROUND((SUM(BI124:BI357)), 2) -> 0 | I37: 0 | J37: =0 -> 0
D39: Cena s DPH | G39: v | H39: CZK | J39: =SUM(J30:J37) -> 0
D50: Projektant | G50: Zpracovatel
D61: Datum a podpis: | F61: Razítko | G61: Datum a podpis: | J61: Razítko
D65: Objednavatel | G65: Uchazeč
D76: Datum a podpis: | F76: Razítko | G76: Datum a podpis: | J76: Razítko
C82: REKAPITULACE ČLENĚNÍ SOUPISU PRACÍ
C84: Stavba:
E85: =E7 -> Oprava místní komunikace - Borek u Děčína
C86: Objekt:
E87: =E9 -> 01 - SO 101 - komunikace MK 1
C89: Místo: | F89: =F12 | I89: Datum: | J89: =IF(J12="","",J12) -> 27. 3. 2026
C91: Zadavatel: | F91: =E15 -> Obec Malšovice | I91: Projektant: | J91: =E21 -> Ing. Martina Hřebřinová, Děčín
C92: Uchazeč: | F92: =IF(E18="","",E18) -> Vyplň údaj | I92: Zpracovatel: | J92: =E24 -> Josef Beran-STAVO, Žatec
C94: Kód dílu - Popis | J94: Cena celkem [CZK]
C96: Náklady ze soupisu prací | J96: =J124 -> 0 | AU96: -1
D97: HSV - Práce a dodávky HSV | J97: =J125 -> 0
D98: 1 - Zemní práce | J98: =J126 -> 0
D99: 2 - Zakládání | J99: =J197 -> 0
D100: 4 - Vodorovné konstrukce | J100: =J206 -> 0
D101: 5 - Komunikace pozemní | J101: =J211 -> 0
D102: 8 - Trubní vedení | J102: =J305 -> 0
D103: 9 - Ostatní konstrukce a práce, bourání | J103: =J307 -> 0
D104: 998 - Přesun hmot | J104: =J356 -> 0
C111: SOUPIS PRACÍ
C113: Stavba:
E114: =E7 -> Oprava místní komunikace - Borek u Děčína
C115: Objekt:
E116: =E9 -> 01 - SO 101 - komunikace MK 1
C118: Místo: | F118: =F12 | I118: Datum: | J118: =IF(J12="","",J12) -> 27. 3. 2026
C120: Zadavatel: | F120: =E15 -> Obec Malšovice | I120: Projektant: | J120: =E21 -> Ing. Martina Hřebřinová, Děčín
C121: Uchazeč: | F121: =IF(E18="","",E18) -> Vyplň údaj | I121: Zpracovatel: | J121: =E24 -> Josef Beran-STAVO, Žatec
C123: PČ | D123: Typ | E123: Kód | F123: Popis | G123: MJ | H123: Množství | I123: J.cena [CZK] | J123: Cena celkem [CZK] | K123: Cenová soustava | N123: DPH | O123: J. Nh [h] | P123: Nh celkem [h] | Q123: J. hmotnost [t] | R123: Hmotnost celkem [t] | S123: J. suť [t] | T123: Suť Celkem [t]
C124: Náklady soupisu celkem | J124: =BK124 -> 0 | P124: =P125 -> 0 | R124: =R125 -> 284.69946 | T124: =T125 -> 3.819 | AT124: D | AU124: -1 | BK124: =BK125 -> 0
D125: D | E125: HSV | F125: Práce a dodávky HSV | J125: =BK125 -> 0 | P125: =P126+P197+P206+P211+P305+P307+P356 -> 0 | R125: =R126+R197+R206+R211+R305+R307+R356 -> 284.69946 | T125: =T126+T197+T206+T211+T305+T307+T356 -> 3.819 | AR125: 1 | AT125: D | AU125: 0 | AY125: ROZPOCET | BK125: =BK126+BK197+BK206+BK211+BK305+BK307+BK356 -> 0
D126: D | E126: 1 | F126: Zemní práce | J126: =BK126 -> 0 | P126: =SUM(P127:P196) -> 0 | R126: =SUM(R127:R196) -> 12 | T126: =SUM(T127:T196) -> 3.774 | AR126: 1 | AT126: D | AU126: 1 | AY126: ROZPOCET | BK126: =SUM(BK127:BK196) -> 0
C127: 1 | D127: K | E127: 111151101 | F127: Odstranění travin z celkové plochy do 100 m2 strojně | G127: m2 | H127: 12.92 | J127: =ROUND(I127*H127,2) -> 0 | N127: základní | P127: =O127*H127 -> 0 | Q127: 0 | R127: =Q127*H127 -> 0 | S127: 0 | T127: =S127*H127 -> 0 | AR127: 4 | AT127: K | AU127: 2 | AY127: ROZPOCET | BE127: =IF(N127="základní",J127,0) -> 0 | BF127: =IF(N127="snížená",J127,0) -> 0 | BG127: =IF(N127="zákl. přenesená",J127,0) -> 0 | BH127: =IF(N127="sníž. přenesená",J127,0) -> 0 | BI127: =IF(N127="nulová",J127,0) -> 0 | BJ127: 1 | BK127: =ROUND(I127*H127,2) -> 0 | BL127: 4 | BM127: 23448316
D128: VV | F128: odsranění travin u vjezdu k nemovitostem | AT128: VV | AU128: 2 | AV128: 1 | AW128: True | AX128: 0 | AY128: ROZPOCET
D129: VV | F129: na st.p.č.31 a p.p.č. 46/2 k.ú. Borek u Děčína | AT129: VV | AU129: 2 | AV129: 1 | AW129: True | AX129: 0 | AY129: ROZPOCET
D130: VV | F130: 4,40*1,60 | H130: 7.04 | AT130: VV | AU130: 2 | AV130: 2 | AW130: True | AX130: 0 | AY130: ROZPOCET
D131: VV | F131: 4,20*1,40 | H131: 5.88 | AT131: VV | AU131: 2 | AV131: 2 | AW131: True | AX131: 0 | AY131: ROZPOCET
D132: VV | F132: Součet | H132: 12.92 | AT132: VV | AU132: 2 | AV132: 4 | AW132: True | AX132: 1 | AY132: ROZPOCET
C133: 2 | D133: K | E133: 113106121 | F133: Rozebrání dlažeb z betonových nebo kamenných dlaždic komunikací pro pěší ručně | G133: m2 | H133: 14.8 | J133: =ROUND(I133*H133,2) -> 0 | N133: základní | P133: =O133*H133 -> 0 | Q133: 0 | R133: =Q133*H133 -> 0 | S133: 0.255 | T133: =S133*H133 -> 3.774 | AR133: 4 | AT133: K | AU133: 2 | AY133: ROZPOCET | BE133: =IF(N133="základní",J133,0) -> 0 | BF133: =IF(N133="snížená",J133,0) -> 0 | BG133: =IF(N133="zákl. přenesená",J133,0) -> 0 | BH133: =IF(N133="sníž. přenesená",J133,0) -> 0 | BI133: =IF(N133="nulová",J133,0) -> 0 | BJ133: 1 | BK133: =ROUND(I133*H133,2) -> 0 | BL133: 4 | BM133: 1478454514
D134: VV | F134: rozebrání dlažby u vjezdu na st.p.č. 121, k.ú. Borek u Děčína | AT134: VV | AU134: 2 | AV134: 1 | AW134: True | AX134: 0 | AY134: ROZPOCET
D135: VV | F135: výměra podle TZ | AT135: VV | AU135: 2 | AV135: 1 | AW135: True | AX135: 0 | AY135: ROZPOCET
D136: VV | F136: 14,80 | H136: 14.8 | AT136: VV | AU136: 2 | AV136: 2 | AW136: True | AX136: 0 | AY136: ROZPOCET
D137: VV | F137: Součet | H137: 14.8 | AT137: VV | AU137: 2 | AV137: 4 | AW137: True | AX137: 1 | AY137: ROZPOCET
C138: 3 | D138: K | E138: 122151103 | F138: Odkopávky a prokopávky nezapažené v hornině třídy těžitelnosti I, skupiny 1 a 2 objem do 100 m3 strojně | G138: m3 | H138: 88.205 | J138: =ROUND(I138*H138,2) -> 0 | N138: základní | P138: =O138*H138 -> 0 | Q138: 0 | R138: =Q138*H138 -> 0 | S138: 0 | T138: =S138*H138 -> 0 | AR138: 4 | AT138: K | AU138: 2 | AY138: ROZPOCET | BE138: =IF(N138="základní",J138,0) -> 0 | BF138: =IF(N138="snížená",J138,0) -> 0 | BG138: =IF(N138="zákl. přenesená",J138,0) -> 0 | BH138: =IF(N138="sníž. přenesená",J138,0) -> 0 | BI138: =IF(N138="nulová",J138,0) -> 0 | BJ138: 1 | BK138: =ROUND(I138*H138,2) -> 0 | BL138: 4 | BM138: -994147128
D139: VV | F139: odkopávky stávající konstrukce komunikace | AT139: VV | AU139: 2 | AV139: 1 | AW139: True | AX139: 0 | AY139: ROZPOCET
D140: VV | F140: ZÚ - staničení KT 0,00602 | AT140: VV | AU140: 2 | AV140: 1 | AW140: True | AX140: 0 | AY140: ROZPOCET
D141: VV | F141: ((14+3,84)/2)*6,02*0,42 | H141: 22.553 | AT141: VV | AU141: 2 | AV141: 2 | AW141: True | AX141: 0 | AY141: ROZPOCET
D142: VV | F142: staničení KT 0,00602-KT 0,02339 | AT142: VV | AU142: 2 | AV142: 1 | AW142: True | AX142: 0 | AY142: ROZPOCET
D143: VV | F143: ((3,84+3,06+3)/3)*17,37*0,42 | H143: 24.075 | AT143: VV | AU143: 2 | AV143: 2 | AW143: True | AX143: 0 | AY143: ROZPOCET
D144: VV | F144: staničení KT 0,02339-KT 0,04960 | AT144: VV | AU144: 2 | AV144: 1 | AW144: True | AX144: 0 | AY144: ROZPOCET
D145: VV | F145: 3*26,21*0,42 | H145: 33.025 | AT145: VV | AU145: 2 | AV145: 2 | AW145: True | AX145: 0 | AY145: ROZPOCET
D146: VV | F146: vjezdy k nemovitostem | AT146: VV | AU146: 2 | AV146: 1 | AW146: True | AX146: 0 | AY146: ROZPOCET
D147: VV | F147: na st.p.č. 31 | AT147: VV | AU147: 2 | AV147: 1 | AW147: True | AX147: 0 | AY147: ROZPOCET
D148: VV | F148: 1,60*4,40*0,42 | H148: 2.957 | AT148: VV | AU148: 2 | AV148: 2 | AW148: True | AX148: 0 | AY148: ROZPOCET
D149: VV | F149: na st.p.č. 121 | AT149: VV | AU149: 2 | AV149: 1 | AW149: True | AX149: 0 | AY149: ROZPOCET
D150: VV | F150: 1,20*6,20*0,42 | H150: 3.125 | AT150: VV | AU150: 2 | AV150: 2 | AW150: True | AX150: 0 | AY150: ROZPOCET
D151: VV | F151: p.p.č. 46/2 | AT151: VV | AU151: 2 | AV151: 1 | AW151: True | AX151: 0 | AY151: ROZPOCET
D152: VV | F152: 1,40*4,20*0,42 | H152: 2.47 | AT152: VV | AU152: 2 | AV152: 2 | AW152: True | AX152: 0 | AY152: ROZPOCET
D153: VV | F153: Součet | H153: 88.205 | AT153: VV | AU153: 2 | AV153: 4 | AW153: True | AX153: 1 | AY153: ROZPOCET
C154: 4 | D154: K | E154: 132151101 | F154: Hloubení rýh nezapažených š do 800 mm v hornině třídy těžitelnosti I, skupiny 1 a 2 objem do 20 m3 strojně | G154: m3 | H154: 6.12 | J154: =ROUND(I154*H154,2) -> 0 | N154: základní | P154: =O154*H154 -> 0 | Q154: 0 | R154: =Q154*H154 -> 0 | S154: 0 | T154: =S154*H154 -> 0 | AR154: 4 | AT154: K | AU154: 2 | AY154: ROZPOCET | BE154: =IF(N154="základní",J154,0) -> 0 | BF154: =IF(N154="snížená",J154,0) -> 0 | BG154: =IF(N154="zákl. přenesená",J154,0) -> 0 | BH154: =IF(N154="sníž. přenesená",J154,0) -> 0 | BI154: =IF(N154="nulová",J154,0) -> 0 | BJ154: 1 | BK154: =ROUND(I154*H154,2) -> 0 | BL154: 4 | BM154: -1117105769
D155: VV | F155: rýha pro drenážní potrubí | AT155: VV | AU155: 2 | AV155: 1 | AW155: True | AX155: 0 | AY155: ROZPOCET
D156: VV | F156: 0,30*51*0,40 | H156: 6.12 | AT156: VV | AU156: 2 | AV156: 2 | AW156: True | AX156: 0 | AY156: ROZPOCET
D157: VV | F157: Součet | H157: 6.12 | AT157: VV | AU157: 2 | AV157: 4 | AW157: True | AX157: 1 | AY157: ROZPOCET
C158: 5 | D158: K | E158: 162351104 | F158: Vodorovné přemístění do 1000 m výkopku/sypaniny z horniny třídy těžitelnosti I, skupiny 1 až 3 | G158: m3 | H158: 94.325 | J158: =ROUND(I158*H158,2) -> 0 | N158: základní | P158: =O158*H158 -> 0 | Q158: 0 | R158: =Q158*H158 -> 0 | S158: 0 | T158: =S158*H158 -> 0 | AR158: 4 | AT158: K | AU158: 2 | AY158: ROZPOCET | BE158: =IF(N158="základní",J158,0) -> 0 | BF158: =IF(N158="snížená",J158,0) -> 0 | BG158: =IF(N158="zákl. přenesená",J158,0) -> 0 | BH158: =IF(N158="sníž. přenesená",J158,0) -> 0 | BI158: =IF(N158="nulová",J158,0) -> 0 | BJ158: 1 | BK158: =ROUND(I158*H158,2) -> 0 | BL158: 4 | BM158: -368740185
D159: VV | F159: 88,205+6,12 | H159: 94.325 | AT159: VV | AU159: 2 | AV159: 2 | AW159: True | AX159: 0 | AY159: ROZPOCET
D160: VV | F160: Součet | H160: 94.325 | AT160: VV | AU160: 2 | AV160: 4 | AW160: True | AX160: 1 | AY160: ROZPOCET
C161: 6 | D161: K | E161: 162751119 | F161: Příplatek k vodorovnému přemístění výkopku/sypaniny z horniny třídy těžitelnosti I, skupiny 1 až 3 ZKD 1000 m přes 10000 m | G161: m3 | H161: 282.975 | J161: =ROUND(I161*H161,2) -> 0 | N161: základní | P161: =O161*H161 -> 0 | Q161: 0 | R161: =Q161*H161 -> 0 | S161: 0 | T161: =S161*H161 -> 0 | AR161: 4 | AT161: K | AU161: 2 | AY161: ROZPOCET | BE161: =IF(N161="základní",J161,0) -> 0 | BF161: =IF(N161="snížená",J161,0) -> 0 | BG161: =IF(N161="zákl. přenesená",J161,0) -> 0 | BH161: =IF(N161="sníž. přenesená",J161,0) -> 0 | BI161: =IF(N161="nulová",J161,0) -> 0 | BJ161: 1 | BK161: =ROUND(I161*H161,2) -> 0 | BL161: 4 | BM161: 2007721622
D162: VV | F162: 94,325 | H162: 94.325 | AT162: VV | AU162: 2 | AV162: 2 | AW162: True | AX162: 0 | AY162: ROZPOCET
D163: VV | F163: Součet | H163: 94.325 | AT163: VV | AU163: 2 | AV163: 4 | AW163: True | AX163: 1 | AY163: ROZPOCET
D164: VV | F164: 94,325*3 'Přepočtené koeficientem množství | H164: 282.975 | AT164: VV | AU164: 2 | AV164: 2 | AW164: False | AX164: 1 | AY164: ROZPOCET
C165: 7 | D165: K | E165: 167151101 | F165: Nakládání výkopku z hornin třídy těžitelnosti I, skupiny 1 až 3 do 100 m3 | G165: m3 | H165: 94.325 | J165: =ROUND(I165*H165,2) -> 0 | N165: základní | P165: =O165*H165 -> 0 | Q165: 0 | R165: =Q165*H165 -> 0 | S165: 0 | T165: =S165*H165 -> 0 | AR165: 4 | AT165: K | AU165: 2 | AY165: ROZPOCET | BE165: =IF(N165="základní",J165,0) -> 0 | BF165: =IF(N165="snížená",J165,0) -> 0 | BG165: =IF(N165="zákl. přenesená",J165,0) -> 0 | BH165: =IF(N165="sníž. přenesená",J165,0) -> 0 | BI165: =IF(N165="nulová",J165,0) -> 0 | BJ165: 1 | BK165: =ROUND(I165*H165,2) -> 0 | BL165: 4 | BM165: 1332307483
C166: 8 | D166: K | E166: 171201231 | F166: Poplatek za uložení zeminy a kamení na recyklační skládce (skládkovné) kód odpadu 17 05 04 | G166: t | H166: 183.934 | J166: =ROUND(I166*H166,2) -> 0 | N166: základní | P166: =O166*H166 -> 0 | Q166: 0 | R166: =Q166*H166 -> 0 | S166: 0 | T166: =S166*H166 -> 0 | AR166: 4 | AT166: K | AU166: 2 | AY166: ROZPOCET | BE166: =IF(N166="základní",J166,0) -> 0 | BF166: =IF(N166="snížená",J166,0) -> 0 | BG166: =IF(N166="zákl. přenesená",J166,0) -> 0 | BH166: =IF(N166="sníž. přenesená",J166,0) -> 0 | BI166: =IF(N166="nulová",J166,0) -> 0 | BJ166: 1 | BK166: =ROUND(I166*H166,2) -> 0 | BL166: 4 | BM166: 93041906
...

Sheet 02 - SO 102 - komunikace ...
AT2: {8b3f2ad1-0c3d-46f4-b289-7c1bb5681927}
AT3: 2
D4: KRYCÍ LIST SOUPISU PRACÍ | M4: v --- níže se nacházejí doplnkové a pomocné údaje k sestavám --- v | AT4: False
D6: Stavba:
E7: ='Rekapitulace stavby'!K6 -> Oprava místní komunikace - Borek u Děčína
D8: Objekt:
E9: 02 - SO 102 - komunikace MK 2
D11: KSO: | I11: CC-CZ:
D12: Místo: | I12: Datum: | J12: ='Rekapitulace stavby'!AN8 -> 27. 3. 2026
D14: Zadavatel: | I14: IČ: | J14: 00261548
E15: Obec Malšovice | I15: DIČ: | J15: CZ00261548
D17: Uchazeč: | I17: IČ: | J17: ='Rekapitulace stavby'!AN13 -> Vyplň údaj
E18: ='Rekapitulace stavby'!E14 -> Vyplň údaj | I18: DIČ: | J18: ='Rekapitulace stavby'!AN14 -> Vyplň údaj
D20: Projektant: | I20: IČ: | J20: 73842346
E21: Ing. Martina Hřebřinová, Děčín | I21: DIČ:
D23: Zpracovatel: | I23: IČ: | J23: 11461527
E24: Josef Beran-STAVO, Žatec | I24: DIČ:
D26: Poznámka:
D30: Cena bez DPH | J30: =ROUND(J123, 2) -> 0
F32: Základ daně | I32: Sazba daně | J32: Výše daně
D33: DPH | E33: základní | F33: =ROUND((SUM(BE123:BE238)), 2) -> 0 | I33: 0.21 | J33: =ROUND(((SUM(BE123:BE238))*I33), 2) -> 0
E34: snížená | F34: =ROUND((SUM(BF123:BF238)), 2) -> 0 | I34: 0.15 | J34: =ROUND(((SUM(BF123:BF238))*I34), 2) -> 0
E35: zákl. přenesená | F35: =ROUND((SUM(BG123:BG238)), 2) -> 0 | I35: 0.21 | J35: =0 -> 0
E36: sníž. přenesená | F36: =ROUND((SUM(BH123:BH238)), 2) -> 0 | I36: 0.15 | J36: =0 -> 0
E37: nulová | F37: =ROUND((SUM(BI123:BI238)), 2) -> 0 | I37: 0 | J37: =0 -> 0
D39: Cena s DPH | G39: v | H39: CZK | J39: =SUM(J30:J37) -> 0
D50: Projektant | G50: Zpracovatel
D61: Datum a podpis: | F61: Razítko | G61: Datum a podpis: | J61: Razítko
D65: Objednavatel | G65: Uchazeč
D76: Datum a podpis: | F76: Razítko | G76: Datum a podpis: | J76: Razítko
C82: REKAPITULACE ČLENĚNÍ SOUPISU PRACÍ
C84: Stavba:
E85: =E7 -> Oprava místní komunikace - Borek u Děčína
C86: Objekt:
E87: =E9 -> 02 - SO 102 - komunikace MK 2
C89: Místo: | F89: =F12 | I89: Datum: | J89: =IF(J12="","",J12) -> 27. 3. 2026
C91: Zadavatel: | F91: =E15 -> Obec Malšovice | I91: Projektant: | J91: =E21 -> Ing. Martina Hřebřinová, Děčín
C92: Uchazeč: | F92: =IF(E18="","",E18) -> Vyplň údaj | I92: Zpracovatel: | J92: =E24 -> Josef Beran-STAVO, Žatec
C94: Kód dílu - Popis | J94: Cena celkem [CZK]
C96: Náklady ze soupisu prací | J96: =J123 -> 0 | AU96: -1
D97: HSV - Práce a dodávky HSV | J97: =J124 -> 0
D98: 1 - Zemní práce | J98: =J125 -> 0
D99: 2 - Zakládání | J99: =J166 -> 0
D100: 4 - Vodorovné konstrukce | J100: =J176 -> 0
D101: 5 - Komunikace pozemní | J101: =J181 -> 0
D102: 9 - Ostatní konstrukce a práce, bourání | J102: =J209 -> 0
D103: 998 - Přesun hmot | J103: =J237 -> 0
C110: SOUPIS PRACÍ
C112: Stavba:
E113: =E7 -> Oprava místní komunikace - Borek u Děčína
C114: Objekt:
E115: =E9 -> 02 - SO 102 - komunikace MK 2
C117: Místo: | F117: =F12 | I117: Datum: | J117: =IF(J12="","",J12) -> 27. 3. 2026
C119: Zadavatel: | F119: =E15 -> Obec Malšovice | I119: Projektant: | J119: =E21 -> Ing. Martina Hřebřinová, Děčín
C120: Uchazeč: | F120: =IF(E18="","",E18) -> Vyplň údaj | I120: Zpracovatel: | J120: =E24 -> Josef Beran-STAVO, Žatec
C122: PČ | D122: Typ | E122: Kód | F122: Popis | G122: MJ | H122: Množství | I122: J.cena [CZK] | J122: Cena celkem [CZK] | K122: Cenová soustava | N122: DPH | O122: J. Nh [h] | P122: Nh celkem [h] | Q122: J. hmotnost [t] | R122: Hmotnost celkem [t] | S122: J. suť [t] | T122: Suť Celkem [t]
C123: Náklady soupisu celkem | J123: =BK123 -> 0 | P123: =P124 -> 0 | R123: =R124 -> 247.47921 | T123: =T124 -> 0 | AT123: D | AU123: -1 | BK123: =BK124 -> 0
D124: D | E124: HSV | F124: Práce a dodávky HSV | J124: =BK124 -> 0 | P124: =P125+P166+P176+P181+P209+P237 -> 0 | R124: =R125+R166+R176+R181+R209+R237 -> 247.47921 | T124: =T125+T166+T176+T181+T209+T237 -> 0 | AR124: 1 | AT124: D | AU124: 0 | AY124: ROZPOCET | BK124: =BK125+BK166+BK176+BK181+BK209+BK237 -> 0
D125: D | E125: 1 | F125: Zemní práce | J125: =BK125 -> 0 | P125: =SUM(P126:P165) -> 0 | R125: =SUM(R126:R165) -> 4.8 | T125: =SUM(T126:T165) -> 0 | AR125: 1 | AT125: D | AU125: 1 | AY125: ROZPOCET | BK125: =SUM(BK126:BK165) -> 0
C126: 1 | D126: K | E126: 111151101 | F126: Odstranění travin z celkové plochy do 100 m2 strojně | G126: m2 | H126: 18.75 | J126: =ROUND(I126*H126,2) -> 0 | N126: základní | P126: =O126*H126 -> 0 | Q126: 0 | R126: =Q126*H126 -> 0 | S126: 0 | T126: =S126*H126 -> 0 | AR126: 4 | AT126: K | AU126: 2 | AY126: ROZPOCET | BE126: =IF(N126="základní",J126,0) -> 0 | BF126: =IF(N126="snížená",J126,0) -> 0 | BG126: =IF(N126="zákl. přenesená",J126,0) -> 0 | BH126: =IF(N126="sníž. přenesená",J126,0) -> 0 | BI126: =IF(N126="nulová",J126,0) -> 0 | BJ126: 1 | BK126: =ROUND(I126*H126,2) -> 0 | BL126: 4 | BM126: 332687734
D127: VV | F127: odstranění travin podél původní komunikace | AT127: VV | AU127: 2 | AV127: 1 | AW127: True | AX127: 0 | AY127: ROZPOCET
D128: VV | F128: 0,50*25 | H128: 12.5 | AT128: VV | AU128: 2 | AV128: 2 | AW128: True | AX128: 0 | AY128: ROZPOCET
D129: VV | F129: 0,5*12,50 | H129: 6.25 | AT129: VV | AU129: 2 | AV129: 2 | AW129: True | AX129: 0 | AY129: ROZPOCET
D130: VV | F130: Součet | H130: 18.75 | AT130: VV | AU130: 2 | AV130: 4 | AW130: True | AX130: 1 | AY130: ROZPOCET
C131: 2 | D131: K | E131: 122151103 | F131: Odkopávky a prokopávky nezapažené v hornině třídy těžitelnosti I, skupiny 1 a 2 objem do 100 m3 strojně | G131: m3 | H131: 85.848 | J131: =ROUND(I131*H131,2) -> 0 | N131: základní | P131: =O131*H131 -> 0 | Q131: 0 | R131: =Q131*H131 -> 0 | S131: 0 | T131: =S131*H131 -> 0 | AR131: 4 | AT131: K | AU131: 2 | AY131: ROZPOCET | BE131: =IF(N131="základní",J131,0) -> 0 | BF131: =IF(N131="snížená",J131,0) -> 0 | BG131: =IF(N131="zákl. přenesená",J131,0) -> 0 | BH131: =IF(N131="sníž. přenesená",J131,0) -> 0 | BI131: =IF(N131="nulová",J131,0) -> 0 | BJ131: 1 | BK131: =ROUND(I131*H131,2) -> 0 | BL131: 4 | BM131: 596909870
D132: VV | F132: odkopy pro komunikace | AT132: VV | AU132: 2 | AV132: 1 | AW132: True | AX132: 0 | AY132: ROZPOCET
D133: VV | F133: ((19,20+6+4)/3)*21*0,42 | H133: 85.848 | AT133: VV | AU133: 2 | AV133: 2 | AW133: True | AX133: 0 | AY133: ROZPOCET
D134: VV | F134: Součet | H134: 85.848 | AT134: VV | AU134: 2 | AV134: 4 | AW134: True | AX134: 1 | AY134: ROZPOCET
C135: 3 | D135: K | E135: 132151101 | F135: Hloubení rýh nezapažených š do 800 mm v hornině třídy těžitelnosti I, skupiny 1 a 2 objem do 20 m3 strojně | G135: m3 | H135: 5 | J135: =ROUND(I135*H135,2) -> 0 | N135: základní | P135: =O135*H135 -> 0 | Q135: 0 | R135: =Q135*H135 -> 0 | S135: 0 | T135: =S135*H135 -> 0 | AR135: 4 | AT135: K | AU135: 2 | AY135: ROZPOCET | BE135: =IF(N135="základní",J135,0) -> 0 | BF135: =IF(N135="snížená",J135,0) -> 0 | BG135: =IF(N135="zákl. přenesená",J135,0) -> 0 | BH135: =IF(N135="sníž. přenesená",J135,0) -> 0 | BI135: =IF(N135="nulová",J135,0) -> 0 | BJ135: 1 | BK135: =ROUND(I135*H135,2) -> 0 | BL135: 4 | BM135: -2011392214
D136: VV | F136: rýha pro drenážní potrubí | AT136: VV | AU136: 2 | AV136: 1 | AW136: True | AX136: 0 | AY136: ROZPOCET
D137: VV | F137: 0,50*25*0,40 | H137: 5 | AT137: VV | AU137: 2 | AV137: 2 | AW137: True | AX137: 0 | AY137: ROZPOCET
D138: VV | F138: Součet | H138: 5 | AT138: VV | AU138: 2 | AV138: 4 | AW138: True | AX138: 1 | AY138: ROZPOCET
C139: 4 | D139: K | E139: 162351104 | F139: Vodorovné přemístění do 1000 m výkopku/sypaniny z horniny třídy těžitelnosti I, skupiny 1 až 3 | G139: m3 | H139: 90.848 | J139: =ROUND(I139*H139,2) -> 0 | N139: základní | P139: =O139*H139 -> 0 | Q139: 0 | R139: =Q139*H139 -> 0 | S139: 0 | T139: =S139*H139 -> 0 | AR139: 4 | AT139: K | AU139: 2 | AY139: ROZPOCET | BE139: =IF(N139="základní",J139,0) -> 0 | BF139: =IF(N139="snížená",J139,0) -> 0 | BG139: =IF(N139="zákl. přenesená",J139,0) -> 0 | BH139: =IF(N139="sníž. přenesená",J139,0) -> 0 | BI139: =IF(N139="nulová",J139,0) -> 0 | BJ139: 1 | BK139: =ROUND(I139*H139,2) -> 0 | BL139: 4 | BM139: -2125272445
D140: VV | F140: 90,848 | H140: 90.848 | AT140: VV | AU140: 2 | AV140: 2 | AW140: True | AX140: 0 | AY140: ROZPOCET
D141: VV | F141: Součet | H141: 90.848 | AT141: VV | AU141: 2 | AV141: 4 | AW141: True | AX141: 1 | AY141: ROZPOCET
C142: 5 | D142: K | E142: 162751119 | F142: Příplatek k vodorovnému přemístění výkopku/sypaniny z horniny třídy těžitelnosti I, skupiny 1 až 3 ZKD 1000 m přes 10000 m | G142: m3 | H142: 272.544 | J142: =ROUND(I142*H142,2) -> 0 | N142: základní | P142: =O142*H142 -> 0 | Q142: 0 | R142: =Q142*H142 -> 0 | S142: 0 | T142: =S142*H142 -> 0 | AR142: 4 | AT142: K | AU142: 2 | AY142: ROZPOCET | BE142: =IF(N142="základní",J142,0) -> 0 | BF142: =IF(N142="snížená",J142,0) -> 0 | BG142: =IF(N142="zákl. přenesená",J142,0) -> 0 | BH142: =IF(N142="sníž. přenesená",J142,0) -> 0 | BI142: =IF(N142="nulová",J142,0) -> 0 | BJ142: 1 | BK142: =ROUND(I142*H142,2) -> 0 | BL142: 4 | BM142: 476374843
D143: VV | F143: 90,848 | H143: 90.848 | AT143: VV | AU143: 2 | AV143: 2 | AW143: True | AX143: 0 | AY143: ROZPOCET
D144: VV | F144: Součet | H144: 90.848 | AT144: VV | AU144: 2 | AV144: 4 | AW144: True | AX144: 1 | AY144: ROZPOCET
D145: VV | F145: 90,848*3 'Přepočtené koeficientem množství | H145: 272.544 | AT145: VV | AU145: 2 | AV145: 2 | AW145: False | AX145: 1 | AY145: ROZPOCET
C146: 6 | D146: K | E146: 167151101 | F146: Nakládání výkopku z hornin třídy těžitelnosti I, skupiny 1 až 3 do 100 m3 | G146: m3 | H146: 90.848 | J146: =ROUND(I146*H146,2) -> 0 | N146: základní | P146: =O146*H146 -> 0 | Q146: 0 | R146: =Q146*H146 -> 0 | S146: 0 | T146: =S146*H146 -> 0 | AR146: 4 | AT146: K | AU146: 2 | AY146: ROZPOCET | BE146: =IF(N146="základní",J146,0) -> 0 | BF146: =IF(N146="snížená",J146,0) -> 0 | BG146: =IF(N146="zákl. přenesená",J146,0) -> 0 | BH146: =IF(N146="sníž. přenesená",J146,0) -> 0 | BI146: =IF(N146="nulová",J146,0) -> 0 | BJ146: 1 | BK146: =ROUND(I146*H146,2) -> 0 | BL146: 4 | BM146: 873159528
C147: 7 | D147: K | E147: 171201231 | F147: Poplatek za uložení zeminy a kamení na recyklační skládce (skládkovné) kód odpadu 17 05 04 | G147: t | H147: 177.154 | J147: =ROUND(I147*H147,2) -> 0 | N147: základní | P147: =O147*H147 -> 0 | Q147: 0 | R147: =Q147*H147 -> 0 | S147: 0 | T147: =S147*H147 -> 0 | AR147: 4 | AT147: K | AU147: 2 | AY147: ROZPOCET | BE147: =IF(N147="základní",J147,0) -> 0 | BF147: =IF(N147="snížená",J147,0) -> 0 | BG147: =IF(N147="zákl. přenesená",J147,0) -> 0 | BH147: =IF(N147="sníž. přenesená",J147,0) -> 0 | BI147: =IF(N147="nulová",J147,0) -> 0 | BJ147: 1 | BK147: =ROUND(I147*H147,2) -> 0 | BL147: 4 | BM147: 997120561
D148: VV | F148: 90,848*1,95 | H148: 177.154 | AT148: VV | AU148: 2 | AV148: 2 | AW148: True | AX148: 0 | AY148: ROZPOCET
D149: VV | F149: Součet | H149: 177.154 | AT149: VV | AU149: 2 | AV149: 4 | AW149: True | AX149: 1 | AY149: ROZPOCET
C150: 8 | D150: K | E150: 171251101 | F150: Uložení sypaniny do násypů nezhutněných strojně | G150: m3 | H150: 90.848 | J150: =ROUND(I150*H150,2) -> 0 | N150: základní | P150: =O150*H150 -> 0 | Q150: 0 | R150: =Q150*H150 -> 0 | S150: 0 | T150: =S150*H150 -> 0 | AR150: 4 | AT150: K | AU150: 2 | AY150: ROZPOCET | BE150: =IF(N150="základní",J150,0) -> 0 | BF150: =IF(N150="snížená",J150,0) -> 0 | BG150: =IF(N150="zákl. přenesená",J150,0) -> 0 | BH150: =IF(N150="sníž. přenesená",J150,0) -> 0 | BI150: =IF(N150="nulová",J150,0) -> 0 | BJ150: 1 | BK150: =ROUND(I150*H150,2) -> 0 | BL150: 4 | BM150: 1981920508
C151: 9 | D151: K | E151: 174253301 | F151: Zásyp rýh pro drény hl do 1,0 m fr. 8/16 | G151: m | H151: 25 | J151: =ROUND(I151*H151,2) -> 0 | N151: základní | P151: =O151*H151 -> 0 | Q151: 0 | R151: =Q151*H151 -> 0 | S151: 0 | T151: =S151*H151 -> 0 | AR151: 4 | AT151: K | AU151: 2 | AY151: ROZPOCET | BE151: =IF(N151="základní",J151,0) -> 0 | BF151: =IF(N151="snížená",J151,0) -> 0 | BG151: =IF(N151="zákl. přenesená",J151,0) -> 0 | BH151: =IF(N151="sníž. přenesená",J151,0) -> 0 | BI151: =IF(N151="nulová",J151,0) -> 0 | BJ151: 1 | BK151: =ROUND(I151*H151,2) -> 0 | BL151: 4 | BM151: 1293704442
D152: VV | F152: obsyp drenážní potrubí | AT152: VV | AU152: 2 | AV152: 1 | AW152: True | AX152: 0 | AY152: ROZPOCET
D153: VV | F153: 25 | H153: 25 | AT153: VV | AU153: 2 | AV153: 2 | AW153: True | AX153: 0 | AY153: ROZPOCET
D154: VV | F154: Součet | H154: 25 | AT154: VV | AU154: 2 | AV154: 4 | AW154: True | AX154: 1 | AY154: ROZPOCET
C155: 10 | D155: K | E155: 181311103 | F155: Rozprostření ornice tl vrstvy do 200 mm v rovině nebo ve svahu do 1:5 ručně | G155: m2 | H155: 20 | J155: =ROUND(I155*H155,2) -> 0 | N155: základní | P155: =O155*H155 -> 0 | Q155: 0 | R155: =Q155*H155 -> 0 | S155: 0 | T155: =S155*H155 -> 0 | AR155: 4 | AT155: K | AU155: 2 | AY155: ROZPOCET | BE155: =IF(N155="základní",J155,0) -> 0 | BF155: =IF(N155="snížená",J155,0) -> 0 | BG155: =IF(N155="zákl. přenesená",J155,0) -> 0 | BH155: =IF(N155="sníž. přenesená",J155,0) -> 0 | BI155: =IF(N155="nulová",J155,0) -> 0 | BJ155: 1 | BK155: =ROUND(I155*H155,2) -> 0 | BL155: 4 | BM155: -605875771
D156: VV | F156: 0,50*15 | H156: 7.5 | AT156: VV | AU156: 2 | AV156: 2 | AW156: True | AX156: 0 | AY156: ROZPOCET
D157: VV | F157: 0,50*25 | H157: 12.5 | AT157: VV | AU157: 2 | AV157: 2 | AW157: True | AX157: 0 | AY157: ROZPOCET
D158: VV | F158: Součet | H158: 20 | AT158: VV | AU158: 2 | AV158: 4 | AW158: True | AX158: 1 | AY158: ROZPOCET
C159: 11 | D159: M | E159: 10364101 | F159: zemina pro terénní úpravy - ornice | G159: t | H159: 4.8 | J159: =ROUND(I159*H159,2) -> 0 | N159: základní | P159: =O159*H159 -> 0 | Q159: 1 | R159: =Q159*H159 -> 4.8 | S159: 0 | T159: =S159*H159 -> 0 | AR159: 8 | AT159: M | AU159: 2 | AY159: ROZPOCET | BE159: =IF(N159="základní",J159,0) -> 0 | BF159: =IF(N159="snížená",J159,0) -> 0 | BG159: =IF(N159="zákl. přenesená",J159,0) -> 0 | BH159: =IF(N159="sníž. přenesená",J159,0) -> 0 | BI159: =IF(N159="nulová",J159,0) -> 0 | BJ159: 1 | BK159: =ROUND(I159*H159,2) -> 0 | BL159: 4 | BM159: -1088755535
D160: VV | F160: 20*0,20*1,20 | H160: 4.8 | AT160: VV | AU160: 2 | AV160: 2 | AW160: True | AX160: 0 | AY160: ROZPOCET
D161: VV | F161: Součet | H161: 4.8 | AT161: VV | AU161: 2 | AV161: 4 | AW161: True | AX161: 1 | AY161: ROZPOCET
C162: 12 | D162: K | E162: 181951112 | F162: Úprava pláně v hornině třídy těžitelnosti I, skupiny 1 až 3 se zhutněním strojně | G162: m2 | H162: 204.4 | J162: =ROUND(I162*H162,2) -> 0 | N162: základní | P162: =O162*H162 -> 0 | Q162: 0 | R162: =Q162*H162 -> 0 | S162: 0 | T162: =S162*H162 -> 0 | AR162: 4 | AT162: K | AU162: 2 | AY162: ROZPOCET | BE162: =IF(N162="základní",J162,0) -> 0 | BF162: =IF(N162="snížená",J162,0) -> 0 | BG162: =IF(N162="zákl. přenesená",J162,0) -> 0 | BH162: =IF(N162="sníž. přenesená",J162,0) -> 0 | BI162: =IF(N162="nulová",J162,0) -> 0 | BJ162: 1 | BK162: =ROUND(I162*H162,2) -> 0 | BL162: 4 | BM162: 1705112710
D163: VV | F163: odkopy pro komunikace | AT163: VV | AU163: 2 | AV163: 1 | AW163: True | AX163: 0 | AY163: ROZPOCET
D164: VV | F164: ((19,20+6+4)/3)*21 | H164: 204.4 | AT164: VV | AU164: 2 | AV164: 2 | AW164: True | AX164: 0 | AY164: ROZPOCET
D165: VV | F165: Součet | H165: 204.4 | AT165: VV | AU165: 2 | AV165: 4 | AW165: True | AX165: 1 | AY165: ROZPOCET
D166: D | E166: 2 | F166: Zakládání | J166: =BK166 -> 0 | P166: =SUM(P167:P175) -> 0 | R166: =SUM(R167:R175) -> 15.10225 | T166: =SUM(T167:T175) -> 0 | AR166: 1 | AT166: D | AU166: 1 | AY166: ROZPOCET | BK166: =SUM(BK167:BK175) -> 0
...

Sheet 03 - Vedlejší rozpočtové ...
AT2: {d2c29c87-c346-48a4-bcb0-e6a42df09ebe}
AT3: 2
D4: KRYCÍ LIST SOUPISU PRACÍ | M4: v --- níže se nacházejí doplnkové a pomocné údaje k sestavám --- v | AT4: False
D6: Stavba:
E7: ='Rekapitulace stavby'!K6 -> Oprava místní komunikace - Borek u Děčína
D8: Objekt:
E9: 03 - Vedlejší rozpočtové náklady
D11: KSO: | I11: CC-CZ:
D12: Místo: | I12: Datum: | J12: ='Rekapitulace stavby'!AN8 -> 27. 3. 2026
D14: Zadavatel: | I14: IČ: | J14: 00261548
E15: Obec Malšovice | I15: DIČ: | J15: CZ00261548
D17: Uchazeč: | I17: IČ: | J17: ='Rekapitulace stavby'!AN13 -> Vyplň údaj
E18: ='Rekapitulace stavby'!E14 -> Vyplň údaj | I18: DIČ: | J18: ='Rekapitulace stavby'!AN14 -> Vyplň údaj
D20: Projektant: | I20: IČ: | J20: 73842346
E21: Ing. Martina Hřebřinová, Děčín | I21: DIČ:
D23: Zpracovatel: | I23: IČ: | J23: 11461527
E24: Josef Beran-STAVO, Žatec | I24: DIČ:
D26: Poznámka:
D30: Cena bez DPH | J30: =ROUND(J122, 2) -> 0
F32: Základ daně | I32: Sazba daně | J32: Výše daně
D33: DPH | E33: základní | F33: =ROUND((SUM(BE122:BE137)), 2) -> 0 | I33: 0.21 | J33: =ROUND(((SUM(BE122:BE137))*I33), 2) -> 0
E34: snížená | F34: =ROUND((SUM(BF122:BF137)), 2) -> 0 | I34: 0.15 | J34: =ROUND(((SUM(BF122:BF137))*I34), 2) -> 0
E35: zákl. přenesená | F35: =ROUND((SUM(BG122:BG137)), 2) -> 0 | I35: 0.21 | J35: =0 -> 0
E36: sníž. přenesená | F36: =ROUND((SUM(BH122:BH137)), 2) -> 0 | I36: 0.15 | J36: =0 -> 0
E37: nulová | F37: =ROUND((SUM(BI122:BI137)), 2) -> 0 | I37: 0 | J37: =0 -> 0
D39: Cena s DPH | G39: v | H39: CZK | J39: =SUM(J30:J37) -> 0
D50: Projektant | G50: Zpracovatel
D61: Datum a podpis: | F61: Razítko | G61: Datum a podpis: | J61: Razítko
D65: Objednavatel | G65: Uchazeč
D76: Datum a podpis: | F76: Razítko | G76: Datum a podpis: | J76: Razítko
C82: REKAPITULACE ČLENĚNÍ SOUPISU PRACÍ
C84: Stavba:
E85: =E7 -> Oprava místní komunikace - Borek u Děčína
C86: Objekt:
E87: =E9 -> 03 - Vedlejší rozpočtové náklady
C89: Místo: | F89: =F12 | I89: Datum: | J89: =IF(J12="","",J12) -> 27. 3. 2026
C91: Zadavatel: | F91: =E15 -> Obec Malšovice | I91: Projektant: | J91: =E21 -> Ing. Martina Hřebřinová, Děčín
C92: Uchazeč: | F92: =IF(E18="","",E18) -> Vyplň údaj | I92: Zpracovatel: | J92: =E24 -> Josef Beran-STAVO, Žatec
C94: Kód dílu - Popis | J94: Cena celkem [CZK]
C96: Náklady ze soupisu prací | J96: =J122 -> 0 | AU96: -1
D97: VRN - Vedlejší rozpočtové náklady | J97: =J123 -> 0
D98: VRN1 - Průzkumné, geodetické a projektové práce | J98: =J124 -> 0
D99: VRN3 - Zařízení staveniště | J99: =J129 -> 0
D100: VRN4 - Inženýrská činnost | J100: =J132 -> 0
D101: VRN6 - Územní vlivy | J101: =J134 -> 0
D102: VRN7 - Provozní vlivy | J102: =J136 -> 0
C109: SOUPIS PRACÍ
C111: Stavba:
E112: =E7 -> Oprava místní komunikace - Borek u Děčína
C113: Objekt:
E114: =E9 -> 03 - Vedlejší rozpočtové náklady
C116: Místo: | F116: =F12 | I116: Datum: | J116: =IF(J12="","",J12) -> 27. 3. 2026
C118: Zadavatel: | F118: =E15 -> Obec Malšovice | I118: Projektant: | J118: =E21 -> Ing. Martina Hřebřinová, Děčín
C119: Uchazeč: | F119: =IF(E18="","",E18) -> Vyplň údaj | I119: Zpracovatel: | J119: =E24 -> Josef Beran-STAVO, Žatec
C121: PČ | D121: Typ | E121: Kód | F121: Popis | G121: MJ | H121: Množství | I121: J.cena [CZK] | J121: Cena celkem [CZK] | K121: Cenová soustava | N121: DPH | O121: J. Nh [h] | P121: Nh celkem [h] | Q121: J. hmotnost [t] | R121: Hmotnost celkem [t] | S121: J. suť [t] | T121: Suť Celkem [t]
C122: Náklady soupisu celkem | J122: =BK122 -> 0 | P122: =P123 -> 0 | R122: =R123 -> 0 | T122: =T123 -> 0 | AT122: D | AU122: -1 | BK122: =BK123 -> 0
D123: D | E123: VRN | F123: Vedlejší rozpočtové náklady | J123: =BK123 -> 0 | P123: =P124+P129+P132+P134+P136 -> 0 | R123: =R124+R129+R132+R134+R136 -> 0 | T123: =T124+T129+T132+T134+T136 -> 0 | AR123: 5 | AT123: D | AU123: 0 | AY123: ROZPOCET | BK123: =BK124+BK129+BK132+BK134+BK136 -> 0
D124: D | E124: VRN1 | F124: Průzkumné, geodetické a projektové práce | J124: =BK124 -> 0 | P124: =SUM(P125:P128) -> 0 | R124: =SUM(R125:R128) -> 0 | T124: =SUM(T125:T128) -> 0 | AR124: 5 | AT124: D | AU124: 1 | AY124: ROZPOCET | BK124: =SUM(BK125:BK128) -> 0
C125: 1 | D125: K | E125: 011503000 | F125: Stavební průzkum bez rozlišení-vytyčení podzemních sítí | G125: Kč | H125: 1 | J125: =ROUND(I125*H125,2) -> 0 | N125: základní | P125: =O125*H125 -> 0 | Q125: 0 | R125: =Q125*H125 -> 0 | S125: 0 | T125: =S125*H125 -> 0 | AR125: 1024 | AT125: K | AU125: 2 | AY125: ROZPOCET | BE125: =IF(N125="základní",J125,0) -> 0 | BF125: =IF(N125="snížená",J125,0) -> 0 | BG125: =IF(N125="zákl. přenesená",J125,0) -> 0 | BH125: =IF(N125="sníž. přenesená",J125,0) -> 0 | BI125: =IF(N125="nulová",J125,0) -> 0 | BJ125: 1 | BK125: =ROUND(I125*H125,2) -> 0 | BL125: 1024 | BM125: 605581459
C126: 2 | D126: K | E126: 012303000 | F126: Geodetické práce po výstavbě - zaměření skutečného provedení prací | G126: Kč… | H126: 1 | J126: =ROUND(I126*H126,2) -> 0 | N126: základní | P126: =O126*H126 -> 0 | Q126: 0 | R126: =Q126*H126 -> 0 | S126: 0 | T126: =S126*H126 -> 0 | AR126: 1024 | AT126: K | AU126: 2 | AY126: ROZPOCET | BE126: =IF(N126="základní",J126,0) -> 0 | BF126: =IF(N126="snížená",J126,0) -> 0 | BG126: =IF(N126="zákl. přenesená",J126,0) -> 0 | BH126: =IF(N126="sníž. přenesená",J126,0) -> 0 | BI126: =IF(N126="nulová",J126,0) -> 0 | BJ126: 1 | BK126: =ROUND(I126*H126,2) -> 0 | BL126: 1024 | BM126: -660620896
C127: 3 | D127: K | E127: 012303001 | F127: Geodetické práce po výstavbě - protokol o přijetí podkladu pro zápis změny v digitální technické mapě | G127: Kč… | H127: 1 | J127: =ROUND(I127*H127,2) -> 0 | N127: základní | P127: =O127*H127 -> 0 | Q127: 0 | R127: =Q127*H127 -> 0 | S127: 0 | T127: =S127*H127 -> 0 | AR127: 1024 | AT127: K | AU127: 2 | AY127: ROZPOCET | BE127: =IF(N127="základní",J127,0) -> 0 | BF127: =IF(N127="snížená",J127,0) -> 0 | BG127: =IF(N127="zákl. přenesená",J127,0) -> 0 | BH127: =IF(N127="sníž. přenesená",J127,0) -> 0 | BI127: =IF(N127="nulová",J127,0) -> 0 | BJ127: 1 | BK127: =ROUND(I127*H127,2) -> 0 | BL127: 1024 | BM127: -2128090533
C128: 4 | D128: K | E128: 013002000 | F128: Projektové práce - projektová dokumentace skutečného provedení | G128: Kč | H128: 1 | J128: =ROUND(I128*H128,2) -> 0 | N128: základní | P128: =O128*H128 -> 0 | Q128: 0 | R128: =Q128*H128 -> 0 | S128: 0 | T128: =S128*H128 -> 0 | AR128: 1024 | AT128: K | AU128: 2 | AY128: ROZPOCET | BE128: =IF(N128="základní",J128,0) -> 0 | BF128: =IF(N128="snížená",J128,0) -> 0 | BG128: =IF(N128="zákl. přenesená",J128,0) -> 0 | BH128: =IF(N128="sníž. přenesená",J128,0) -> 0 | BI128: =IF(N128="nulová",J128,0) -> 0 | BJ128: 1 | BK128: =ROUND(I128*H128,2) -> 0 | BL128: 1024 | BM128: 791497125
D129: D | E129: VRN3 | F129: Zařízení staveniště | J129: =BK129 -> 0 | P129: =SUM(P130:P131) -> 0 | R129: =SUM(R130:R131) -> 0 | T129: =SUM(T130:T131) -> 0 | AR129: 5 | AT129: D | AU129: 1 | AY129: ROZPOCET | BK129: =SUM(BK130:BK131) -> 0
C130: 5 | D130: K | E130: 030001000 | F130: Zařízení staveniště | G130: % | J130: =ROUND(I130*H130,2) -> 0 | N130: základní | P130: =O130*H130 -> 0 | Q130: 0 | R130: =Q130*H130 -> 0 | S130: 0 | T130: =S130*H130 -> 0 | AR130: 1024 | AT130: K | AU130: 2 | AY130: ROZPOCET | BE130: =IF(N130="základní",J130,0) -> 0 | BF130: =IF(N130="snížená",J130,0) -> 0 | BG130: =IF(N130="zákl. přenesená",J130,0) -> 0 | BH130: =IF(N130="sníž. přenesená",J130,0) -> 0 | BI130: =IF(N130="nulová",J130,0) -> 0 | BJ130: 1 | BK130: =ROUND(I130*H130,2) -> 0 | BL130: 1024 | BM130: 1028899401
C131: 6 | D131: K | E131: 034303000 | F131: Dopravní značení na staveništi - DIO | G131: Kč | H131: 1 | J131: =ROUND(I131*H131,2) -> 0 | N131: základní | P131: =O131*H131 -> 0 | Q131: 0 | R131: =Q131*H131 -> 0 | S131: 0 | T131: =S131*H131 -> 0 | AR131: 1024 | AT131: K | AU131: 2 | AY131: ROZPOCET | BE131: =IF(N131="základní",J131,0) -> 0 | BF131: =IF(N131="snížená",J131,0) -> 0 | BG131: =IF(N131="zákl. přenesená",J131,0) -> 0 | BH131: =IF(N131="sníž. přenesená",J131,0) -> 0 | BI131: =IF(N131="nulová",J131,0) -> 0 | BJ131: 1 | BK131: =ROUND(I131*H131,2) -> 0 | BL131: 1024 | BM131: 1925113929
D132: D | E132: VRN4 | F132: Inženýrská činnost | J132: =BK132 -> 0 | P132: =P133 -> 0 | R132: =R133 -> 0 | T132: =T133 -> 0 | AR132: 5 | AT132: D | AU132: 1 | AY132: ROZPOCET | BK132: =BK133 -> 0
C133: 7 | D133: K | E133: 043002000 | F133: Zkoušky a ostatní měření - zajištění statického zhutnění pláně min. 3 zkoušky na každé komunikaci | G133: Kč | H133: 1 | J133: =ROUND(I133*H133,2) -> 0 | N133: základní | P133: =O133*H133 -> 0 | Q133: 0 | R133: =Q133*H133 -> 0 | S133: 0 | T133: =S133*H133 -> 0 | AR133: 1024 | AT133: K | AU133: 2 | AY133: ROZPOCET | BE133: =IF(N133="základní",J133,0) -> 0 | BF133: =IF(N133="snížená",J133,0) -> 0 | BG133: =IF(N133="zákl. přenesená",J133,0) -> 0 | BH133: =IF(N133="sníž. přenesená",J133,0) -> 0 | BI133: =IF(N133="nulová",J133,0) -> 0 | BJ133: 1 | BK133: =ROUND(I133*H133,2) -> 0 | BL133: 1024 | BM133: 900081499
D134: D | E134: VRN6 | F134: Územní vlivy | J134: =BK134 -> 0 | P134: =P135 -> 0 | R134: =R135 -> 0 | T134: =T135 -> 0 | AR134: 5 | AT134: D | AU134: 1 | AY134: ROZPOCET | BK134: =BK135 -> 0
C135: 8 | D135: K | E135: 060001000 | F135: Územní vlivy | G135: % | J135: =ROUND(I135*H135,2) -> 0 | N135: základní | P135: =O135*H135 -> 0 | Q135: 0 | R135: =Q135*H135 -> 0 | S135: 0 | T135: =S135*H135 -> 0 | AR135: 1024 | AT135: K | AU135: 2 | AY135: ROZPOCET | BE135: =IF(N135="základní",J135,0) -> 0 | BF135: =IF(N135="snížená",J135,0) -> 0 | BG135: =IF(N135="zákl. přenesená",J135,0) -> 0 | BH135: =IF(N135="sníž. přenesená",J135,0) -> 0 | BI135: =IF(N135="nulová",J135,0) -> 0 | BJ135: 1 | BK135: =ROUND(I135*H135,2) -> 0 | BL135: 1024 | BM135: -1505069088
D136: D | E136: VRN7 | F136: Provozní vlivy | J136: =BK136 -> 0 | P136: =P137 -> 0 | R136: =R137 -> 0 | T136: =T137 -> 0 | AR136: 5 | AT136: D | AU136: 1 | AY136: ROZPOCET | BK136: =BK137 -> 0
C137: 9 | D137: K | E137: 071002000 | F137: Provoz investora, třetích osob | G137: % | J137: =ROUND(I137*H137,2) -> 0 | N137: základní | P137: =O137*H137 -> 0 | Q137: 0 | R137: =Q137*H137 -> 0 | S137: 0 | T137: =S137*H137 -> 0 | AR137: 1024 | AT137: K | AU137: 2 | AY137: ROZPOCET | BE137: =IF(N137="základní",J137,0) -> 0 | BF137: =IF(N137="snížená",J137,0) -> 0 | BG137: =IF(N137="zákl. přenesená",J137,0) -> 0 | BH137: =IF(N137="sníž. přenesená",J137,0) -> 0 | BI137: =IF(N137="nulová",J137,0) -> 0 | BJ137: 1 | BK137: =ROUND(I137*H137,2) -> 0 | BL137: 1024 | BM137: 955718317
