Workbook

Sheet Rekapitulace stavby
A1: Export Komplet | BA1: 2.0 | BB1: ZAMOK | BT1: False | BU1: False | BV1: {1a174795-e9af-4042-8742-3e7aeebd9db7}
BS2: 0,01 | BT2: 21
BS3: 0,01 | BT3: 15
D4: REKAPITULACE STAVBY | AS4: v --- níže se nacházejí doplnkové a pomocné údaje k sestavám --- v | BE4: Návod na vyplnění | BS4: 0,001
D5: Kód: | K5: 000-2022-02 | BE5: Měnit lze pouze buňky se žlutým podbarvením!_x000D_ _x000D_ 1) na prvním listu Rekapitulace stavby vyplňte v sestavě_x000D_ _x000D_ a) Souhrnný list_x000D_ - údaje o Uchazeči_x000D_ (přenesou se do ostatních sestav i v jiných listech)_x000D_ _x000D_ b) Rekapitulace objektů_x000D_ - potřebné Ostatní náklady_x000D_ _x000D_ 2) na vybraných listech vyplňte v sestavě_x000D_ _x000D_ a) Krycí list_x000D_ - údaje o Uchazeči, pokud se liší od údajů o Uchazeči na Souhrnném listu_x000D_ (údaje se přenesou do ostatních sestav v daném listu)_x000D_ _x000D_ b) Rekapitulace rozpočtu_x000D_ - potřebné Ostatní náklady_x000D_ _x000D_ c) Celkové náklady za stavbu_x000D_ - ceny u položek_x000D_ - množství, pokud má žluté podbarvení_x000D_ - a v případě potřeby poznámku (ta je ve skrytém sloupci) | BS5: 0,01
D6: Stavba: | K6: Malšovice- prodloužení kanalizace | BS6: 0,01
D7: KSO: | AK7: CC-CZ: | BS7: 0,01
D8: Místo: | AK8: Datum: | AN8: 16. 6. 2022 rev. 12.07.2022 | BS8: 0,01
BS9: 0,01
D10: Zadavatel: | AK10: IČ: | BS10: 0,01
AK11: DIČ: | BS11: 0,01
BS12: 0,01
D13: Uchazeč: | AK13: IČ: | AN13: Vyplň údaj | BS13: 0,01
E14: Vyplň údaj | AK14: DIČ: | AN14: Vyplň údaj | BS14: 0,01
BS15: False
D16: Projektant: | AK16: IČ: | BS16: False
AK17: DIČ: | BS17: True
BS18: 0,01
D19: Zpracovatel: | AK19: IČ: | BS19: 0,01
AK20: DIČ: | BS20: True
D22: Poznámka:
D26: Cena bez DPH | AK26: =ROUND(AG94,2) -> 0
L28: Sazba daně | W28: Základ daně | AK28: Výše daně
D29: DPH | F29: základní | L29: 0.21 | W29: =ROUND(AZ94, 2) -> 0 | AK29: =ROUND(AV94, 2) -> 0
F30: snížená | L30: 0.15 | W30: =ROUND(BA94, 2) -> 0 | AK30: =ROUND(AW94, 2) -> 0
F31: zákl. přenesená | L31: 0.21 | W31: =ROUND(BB94, 2) -> 0 | AK31: 0
F32: sníž. přenesená | L32: 0.15 | W32: =ROUND(BC94, 2) -> 0 | AK32: 0
F33: nulová | L33: 0 | W33: =ROUND(BD94, 2) -> 0 | AK33: 0
D35: Cena s DPH | T35: v | X35: CZK | AK35: =SUM(AK26:AK33) -> 0
D49: Projektant | AH49: Zpracovatel
D60: Datum a podpis: | V60: Razítko | AH60: Datum a podpis: | AM60: Razítko
D64: Objednavatel | AH64: Uchazeč
D75: Datum a podpis: | V75: Razítko | AH75: Datum a podpis: | AM75: Razítko
C82: REKAPITULACE OBJEKTŮ STAVBY A SOUPISŮ PRACÍ
C84: Kód: | L84: =K5 -> 000-2022-02
C85: Stavba: | L85: =K6 -> Malšovice- prodloužení kanalizace
C87: Místo: | L87: =IF(K8="","",K8) | AI87: Datum: | AM87: =IF(AN8= "","",AN8) -> 16. 6. 2022 rev. 12.07.2022
C89: Zadavatel: | L89: =IF(E11= "","",E11) | AI89: Projektant: | AM89: =IF(E17="","",E17) | AS89: Informatívní údaje z listů zakázek
C90: Uchazeč: | L90: =IF(E14= "Vyplň údaj","",E14) | AI90: Zpracovatel: | AM90: =IF(E20="","",E20)
C92: Kód | I92: Popis | AG92: Cena bez DPH [CZK] | AN92: Cena s DPH [CZK] | AQ92: Typ | AS92: z toho Ostat._x000D_ náklady [CZK] | AT92: DPH [CZK] | AU92: Normohodiny [h] | AV92: DPH základní [CZK] | AW92: DPH snížená [CZK] | AX92: DPH základní přenesená_x000D_ [CZK] | AY92: DPH snížená přenesená_x000D_ [CZK] | AZ92: Základna_x000D_ DPH základní | BA92: Základna_x000D_ DPH snížená | BB92: Základna_x000D_ DPH zákl. přenesená | BC92: Základna_x000D_ DPH sníž. přenesená | BD92: Základna_x000D_ DPH nulová
C94: Náklady z rozpočtů | AG94: =ROUND(AG95,2) -> 0 | AN94: =SUM(AG94,AT94) -> 0 | AS94: =ROUND(AS95,2) -> 0 | AT94: =ROUND(SUM(AV94:AW94),2) -> 0 | AU94: =ROUND(AU95,5) -> 0 | AV94: =ROUND(AZ94*L29,2) -> 0 | AW94: =ROUND(BA94*L30,2) -> 0 | AX94: =ROUND(BB94*L29,2) -> 0 | AY94: =ROUND(BC94*L30,2) -> 0 | AZ94: =ROUND(AZ95,2) -> 0 | BA94: =ROUND(BA95,2) -> 0 | BB94: =ROUND(BB95,2) -> 0 | BC94: =ROUND(BC95,2) -> 0 | BD94: =ROUND(BD95,2) -> 0 | BS94: D | BT94: 0 | BV94: IMPORT | BW94: {1a174795-e9af-4042-8742-3e7aeebd9db7} | BX94: {00000000-0000-0000-0000-000000000000}
A95: / | D95: 000-2022-02 | J95: Malšovice- prodloužení kanalizace | AG95: ='000-2022-02 - Malšovice- ...'!J28 -> 0 | AN95: =SUM(AG95,AT95) -> 0 | AQ95: STA | AS95: 0 | AT95: =ROUND(SUM(AV95:AW95),2) -> 0 | AU95: ='000-2022-02 - Malšovice- ...'!P123 -> 0 | AV95: ='000-2022-02 - Malšovice- ...'!J31 -> 0 | AW95: ='000-2022-02 - Malšovice- ...'!J32 -> 0 | AX95: ='000-2022-02 - Malšovice- ...'!J33 -> 0 | AY95: ='000-2022-02 - Malšovice- ...'!J34 -> 0 | AZ95: ='000-2022-02 - Malšovice- ...'!F31 -> 0 | BA95: ='000-2022-02 - Malšovice- ...'!F32 -> 0 | BB95: ='000-2022-02 - Malšovice- ...'!F33 -> 0 | BC95: ='000-2022-02 - Malšovice- ...'!F34 -> 0 | BD95: ='000-2022-02 - Malšovice- ...'!F35 -> 0 | BT95: 1 | BU95: ###NOINSERT### | BV95: IMPORT | BW95: {1a174795-e9af-4042-8742-3e7aeebd9db7} | BX95: {00000000-0000-0000-0000-000000000000}

Sheet 000-2022-02 - Malšovice- ...
AT2: {1a174795-e9af-4042-8742-3e7aeebd9db7}
AT3: 2
D4: KRYCÍ LIST SOUPISU PRACÍ | M4: v --- níže se nacházejí doplnkové a pomocné údaje k sestavám --- v | AT4: False
D6: Stavba:
E7: Malšovice- prodloužení kanalizace
D9: KSO: | I9: CC-CZ:
D10: Místo: | I10: Datum: | J10: ='Rekapitulace stavby'!AN8 -> 16. 6. 2022 rev. 12.07.2022
D12: Zadavatel: | I12: IČ: | J12: =IF('Rekapitulace stavby'!AN10="","",'Rekapitulace stavby'!AN10)
E13: =IF('Rekapitulace stavby'!E11="","",'Rekapitulace stavby'!E11) | I13: DIČ: | J13: =IF('Rekapitulace stavby'!AN11="","",'Rekapitulace stavby'!AN11)
D15: Uchazeč: | I15: IČ: | J15: ='Rekapitulace stavby'!AN13 -> Vyplň údaj
E16: ='Rekapitulace stavby'!E14 -> Vyplň údaj | I16: DIČ: | J16: ='Rekapitulace stavby'!AN14 -> Vyplň údaj
D18: Projektant: | I18: IČ: | J18: =IF('Rekapitulace stavby'!AN16="","",'Rekapitulace stavby'!AN16)
E19: =IF('Rekapitulace stavby'!E17="","",'Rekapitulace stavby'!E17) | I19: DIČ: | J19: =IF('Rekapitulace stavby'!AN17="","",'Rekapitulace stavby'!AN17)
D21: Zpracovatel: | I21: IČ: | J21: =IF('Rekapitulace stavby'!AN19="","",'Rekapitulace stavby'!AN19)
E22: =IF('Rekapitulace stavby'!E20="","",'Rekapitulace stavby'!E20) | I22: DIČ: | J22: =IF('Rekapitulace stavby'!AN20="","",'Rekapitulace stavby'!AN20)
D24: Poznámka:
D28: Cena bez DPH | J28: =ROUND(J123, 2) -> 0
F30: Základ daně | I30: Sazba daně | J30: Výše daně
D31: DPH | E31: základní | F31: =ROUND((SUM(BE123:BE239)), 2) -> 0 | I31: 0.21 | J31: =ROUND(((SUM(BE123:BE239))*I31), 2) -> 0
E32: snížená | F32: =ROUND((SUM(BF123:BF239)), 2) -> 0 | I32: 0.15 | J32: =ROUND(((SUM(BF123:BF239))*I32), 2) -> 0
E33: zákl. přenesená | F33: =ROUND((SUM(BG123:BG239)), 2) -> 0 | I33: 0.21 | J33: =0 -> 0
E34: sníž. přenesená | F34: =ROUND((SUM(BH123:BH239)), 2) -> 0 | I34: 0.15 | J34: =0 -> 0
E35: nulová | F35: =ROUND((SUM(BI123:BI239)), 2) -> 0 | I35: 0 | J35: =0 -> 0
D37: Cena s DPH | G37: v | H37: CZK | J37: =SUM(J28:J35) -> 0
D50: Projektant | G50: Zpracovatel
D61: Datum a podpis: | F61: Razítko | G61: Datum a podpis: | J61: Razítko
D65: Objednavatel | G65: Uchazeč
D76: Datum a podpis: | F76: Razítko | G76: Datum a podpis: | J76: Razítko
C82: REKAPITULACE ČLENĚNÍ SOUPISU PRACÍ
C84: Stavba:
E85: =E7 -> Malšovice- prodloužení kanalizace
C87: Místo: | F87: =F10 | I87: Datum: | J87: =IF(J10="","",J10) -> 16. 6. 2022 rev. 12.07.2022
C89: Zadavatel: | F89: =E13 | I89: Projektant: | J89: =E19
C90: Uchazeč: | F90: =IF(E16="","",E16) -> Vyplň údaj | I90: Zpracovatel: | J90: =E22
C92: Kód dílu - Popis | J92: Cena celkem [CZK]
C94: Náklady ze soupisu prací | J94: =J123 -> 0 | AU94: -1
D95: HSV - Práce a dodávky HSV | J95: =J124 -> 0
D96: 1 - Zemní práce | J96: =J125 -> 0
D97: 3 - Svislé a kompletní konstrukce | J97: =J159 -> 0
D98: 4 - Vodorovné konstrukce | J98: =J163 -> 0
D99: 5 - Komunikace pozemní | J99: =J167 -> 0
D100: 8 - Trubní vedení | J100: =J180 -> 0
D101: 997 - Přesun sutě | J101: =J223 -> 0
D102: 998 - Přesun hmot | J102: =J224 -> 0
D103: VRN - Vedlejší rozpočtové náklady | J103: =J227 -> 0
D104: VRN1 - Průzkumné, geodetické a projektové práce | J104: =J228 -> 0
D105: VRN3 - Zařízení staveniště | J105: =J233 -> 0
C112: SOUPIS PRACÍ
C114: Stavba:
E115: =E7 -> Malšovice- prodloužení kanalizace
C117: Místo: | F117: =F10 | I117: Datum: | J117: =IF(J10="","",J10) -> 16. 6. 2022 rev. 12.07.2022
C119: Zadavatel: | F119: =E13 | I119: Projektant: | J119: =E19
C120: Uchazeč: | F120: =IF(E16="","",E16) -> Vyplň údaj | I120: Zpracovatel: | J120: =E22
C122: PČ | D122: Typ | E122: Kód | F122: Popis | G122: MJ | H122: Množství | I122: J.cena [CZK] | J122: Cena celkem [CZK] | K122: Cenová soustava | N122: DPH | O122: J. Nh [h] | P122: Nh celkem [h] | Q122: J. hmotnost [t] | R122: Hmotnost celkem [t] | S122: J. suť [t] | T122: Suť Celkem [t]
C123: Náklady soupisu celkem | J123: =BK123 -> 0 | P123: =P124+P227 -> 0 | R123: =R124+R227 -> 59.215785 | T123: =T124+T227 -> 44.082 | AT123: D | AU123: -1 | BK123: =BK124+BK227 -> 0
D124: D | E124: HSV | F124: Práce a dodávky HSV | J124: =BK124 -> 0 | P124: =P125+P159+P163+P167+P180+P223+P224 -> 0 | R124: =R125+R159+R163+R167+R180+R223+R224 -> 59.215785 | T124: =T125+T159+T163+T167+T180+T223+T224 -> 44.082 | AR124: 1 | AT124: D | AU124: 0 | AY124: ROZPOCET | BK124: =BK125+BK159+BK163+BK167+BK180+BK223+BK224 -> 0
D125: D | E125: 1 | F125: Zemní práce | J125: =BK125 -> 0 | P125: =SUM(P126:P158) -> 0 | R125: =SUM(R126:R158) -> 28.58 | T125: =SUM(T126:T158) -> 44.082 | AR125: 1 | AT125: D | AU125: 1 | AY125: ROZPOCET | BK125: =SUM(BK126:BK158) -> 0
C126: 1 | D126: K | E126: 113107443 | F126: Odstranění podkladu živičných tl přes 100 do 150 mm při překopech strojně pl do 15 m2 | G126: m2 | H126: 139.5 | J126: =ROUND(I126*H126,2) -> 0 | N126: základní | P126: =O126*H126 -> 0 | Q126: 0 | R126: =Q126*H126 -> 0 | S126: 0.316 | T126: =S126*H126 -> 44.082 | AR126: 4 | AT126: K | AU126: 2 | AY126: ROZPOCET | BE126: =IF(N126="základní",J126,0) -> 0 | BF126: =IF(N126="snížená",J126,0) -> 0 | BG126: =IF(N126="zákl. přenesená",J126,0) -> 0 | BH126: =IF(N126="sníž. přenesená",J126,0) -> 0 | BI126: =IF(N126="nulová",J126,0) -> 0 | BJ126: 1 | BK126: =ROUND(I126*H126,2) -> 0 | BL126: 4 | BM126: 1264537744
D127: PP | F127: Odstranění podkladů nebo krytů při překopech inženýrských sítí s přemístěním hmot na skládku ve vzdálenosti do 3 m nebo s naložením na dopravní prostředek strojně plochy jednotlivě do 15 m2 živičných, o tl. vrstvy přes 100 do 150 mm | AT127: PP | AU127: 2
D128: VV | F128: 93*1,5 | H128: 139.5 | AT128: VV | AU128: 2 | AV128: 2 | AW128: True | AX128: 1 | AY128: ROZPOCET
C129: 51 | D129: K | E129: 997013875 | F129: Poplatek za uložení stavebního odpadu na recyklační skládce (skládkovné) asfaltového bez obsahu dehtu zatříděného do Katalogu odpadů pod kódem 17 03 02 | G129: t | H129: 44.082 | J129: =ROUND(I129*H129,2) -> 0 | N129: základní | P129: =O129*H129 -> 0 | Q129: 0 | R129: =Q129*H129 -> 0 | S129: 0 | T129: =S129*H129 -> 0 | AR129: 4 | AT129: K | AU129: 2 | AY129: ROZPOCET | BE129: =IF(N129="základní",J129,0) -> 0 | BF129: =IF(N129="snížená",J129,0) -> 0 | BG129: =IF(N129="zákl. přenesená",J129,0) -> 0 | BH129: =IF(N129="sníž. přenesená",J129,0) -> 0 | BI129: =IF(N129="nulová",J129,0) -> 0 | BJ129: 1 | BK129: =ROUND(I129*H129,2) -> 0 | BL129: 4 | BM129: -841656701
D130: PP | F130: Poplatek za uložení stavebního odpadu na recyklační skládce (skládkovné) asfaltového bez obsahu dehtu zatříděného do Katalogu odpadů pod kódem 17 03 02 | AT130: PP | AU130: 2
C131: 2 | D131: K | E131: 132354202 | F131: Hloubení zapažených rýh š do 2000 mm v hornině třídy těžitelnosti II skupiny 4 objem do 50 m3 | G131: m3 | H131: 55.968 | J131: =ROUND(I131*H131,2) -> 0 | N131: základní | P131: =O131*H131 -> 0 | Q131: 0 | R131: =Q131*H131 -> 0 | S131: 0 | T131: =S131*H131 -> 0 | AR131: 4 | AT131: K | AU131: 2 | AY131: ROZPOCET | BE131: =IF(N131="základní",J131,0) -> 0 | BF131: =IF(N131="snížená",J131,0) -> 0 | BG131: =IF(N131="zákl. přenesená",J131,0) -> 0 | BH131: =IF(N131="sníž. přenesená",J131,0) -> 0 | BI131: =IF(N131="nulová",J131,0) -> 0 | BJ131: 1 | BK131: =ROUND(I131*H131,2) -> 0 | BL131: 4 | BM131: -755049406
D132: PP | F132: Hloubení zapažených rýh šířky přes 800 do 2 000 mm strojně s urovnáním dna do předepsaného profilu a spádu v hornině třídy těžitelnosti II skupiny 4 přes 20 do 50 m3 | AT132: PP | AU132: 2
D133: VV | F133: 2,4*21,2*1,1 | H133: 55.968 | AT133: VV | AU133: 2 | AV133: 2 | AW133: True | AX133: 1 | AY133: ROZPOCET
C134: 3 | D134: K | E134: 132354204 | F134: Hloubení zapažených rýh š do 2000 mm v hornině třídy těžitelnosti II skupiny 4 objem do 500 m3 | G134: m3 | H134: 330 | J134: =ROUND(I134*H134,2) -> 0 | N134: základní | P134: =O134*H134 -> 0 | Q134: 0 | R134: =Q134*H134 -> 0 | S134: 0 | T134: =S134*H134 -> 0 | AR134: 4 | AT134: K | AU134: 2 | AY134: ROZPOCET | BE134: =IF(N134="základní",J134,0) -> 0 | BF134: =IF(N134="snížená",J134,0) -> 0 | BG134: =IF(N134="zákl. přenesená",J134,0) -> 0 | BH134: =IF(N134="sníž. přenesená",J134,0) -> 0 | BI134: =IF(N134="nulová",J134,0) -> 0 | BJ134: 1 | BK134: =ROUND(I134*H134,2) -> 0 | BL134: 4 | BM134: 989190239
D135: PP | F135: Hloubení zapažených rýh šířky přes 800 do 2 000 mm strojně s urovnáním dna do předepsaného profilu a spádu v hornině třídy těžitelnosti II skupiny 4 přes 100 do 500 m3 | AT135: PP | AU135: 2
D136: VV | F136: 2,5*120*1,1 | H136: 330 | AT136: VV | AU136: 2 | AV136: 2 | AW136: True | AX136: 1 | AY136: ROZPOCET
C137: 4 | D137: K | E137: 151101102 | F137: Zřízení příložného pažení a rozepření stěn rýh hl přes 2 do 4 m | G137: m2 | H137: 600 | J137: =ROUND(I137*H137,2) -> 0 | N137: základní | P137: =O137*H137 -> 0 | Q137: 0.00085 | R137: =Q137*H137 -> 0.51 | S137: 0 | T137: =S137*H137 -> 0 | AR137: 4 | AT137: K | AU137: 2 | AY137: ROZPOCET | BE137: =IF(N137="základní",J137,0) -> 0 | BF137: =IF(N137="snížená",J137,0) -> 0 | BG137: =IF(N137="zákl. přenesená",J137,0) -> 0 | BH137: =IF(N137="sníž. přenesená",J137,0) -> 0 | BI137: =IF(N137="nulová",J137,0) -> 0 | BJ137: 1 | BK137: =ROUND(I137*H137,2) -> 0 | BL137: 4 | BM137: 688928393
D138: PP | F138: Zřízení pažení a rozepření stěn rýh pro podzemní vedení příložné pro jakoukoliv mezerovitost, hloubky přes 2 do 4 m | AT138: PP | AU138: 2
D139: VV | F139: 21,2*2*2,5 | H139: 106 | AT139: VV | AU139: 2 | AV139: 2 | AW139: True | AX139: 0 | AY139: ROZPOCET
D140: VV | F140: 120*2*2,5 | H140: 600 | AT140: VV | AU140: 2 | AV140: 2 | AW140: True | AX140: 1 | AY140: ROZPOCET
C141: 5 | D141: K | E141: 151101112 | F141: Odstranění příložného pažení a rozepření stěn rýh hl přes 2 do 4 m | G141: m2 | H141: 600 | J141: =ROUND(I141*H141,2) -> 0 | N141: základní | P141: =O141*H141 -> 0 | Q141: 0 | R141: =Q141*H141 -> 0 | S141: 0 | T141: =S141*H141 -> 0 | AR141: 4 | AT141: K | AU141: 2 | AY141: ROZPOCET | BE141: =IF(N141="základní",J141,0) -> 0 | BF141: =IF(N141="snížená",J141,0) -> 0 | BG141: =IF(N141="zákl. přenesená",J141,0) -> 0 | BH141: =IF(N141="sníž. přenesená",J141,0) -> 0 | BI141: =IF(N141="nulová",J141,0) -> 0 | BJ141: 1 | BK141: =ROUND(I141*H141,2) -> 0 | BL141: 4 | BM141: 1672278706
D142: PP | F142: Odstranění pažení a rozepření stěn rýh pro podzemní vedení s uložením materiálu na vzdálenost do 3 m od kraje výkopu příložné, hloubky přes 2 do 4 m | AT142: PP | AU142: 2
C143: 6 | D143: K | E143: 162251121 | F143: Vodorovné přemístění do 20 m výkopku/sypaniny z horniny třídy těžitelnosti II skupiny 4 a 5 | G143: m3 | H143: 385.96 | J143: =ROUND(I143*H143,2) -> 0 | N143: základní | P143: =O143*H143 -> 0 | Q143: 0 | R143: =Q143*H143 -> 0 | S143: 0 | T143: =S143*H143 -> 0 | AR143: 4 | AT143: K | AU143: 2 | AY143: ROZPOCET | BE143: =IF(N143="základní",J143,0) -> 0 | BF143: =IF(N143="snížená",J143,0) -> 0 | BG143: =IF(N143="zákl. přenesená",J143,0) -> 0 | BH143: =IF(N143="sníž. přenesená",J143,0) -> 0 | BI143: =IF(N143="nulová",J143,0) -> 0 | BJ143: 1 | BK143: =ROUND(I143*H143,2) -> 0 | BL143: 4 | BM143: 1989861097
D144: PP | F144: Vodorovné přemístění výkopku nebo sypaniny po suchu na obvyklém dopravním prostředku, bez naložení výkopku, avšak se složením bez rozhrnutí z horniny třídy těžitelnosti II skupiny 4 a 5 na vzdálenost do 20 m | AT144: PP | AU144: 2
D145: VV | F145: 330+55,96 | H145: 385.96 | AT145: VV | AU145: 2 | AV145: 2 | AW145: True | AX145: 1 | AY145: ROZPOCET
C146: 48 | D146: K | E146: 162751137 | F146: Vodorovné přemístění přes 9 000 do 10000 m výkopku/sypaniny z horniny třídy těžitelnosti II skupiny 4 a 5 | G146: m3 | H146: 45.02 | J146: =ROUND(I146*H146,2) -> 0 | N146: základní | P146: =O146*H146 -> 0 | Q146: 0 | R146: =Q146*H146 -> 0 | S146: 0 | T146: =S146*H146 -> 0 | AR146: 4 | AT146: K | AU146: 2 | AY146: ROZPOCET | BE146: =IF(N146="základní",J146,0) -> 0 | BF146: =IF(N146="snížená",J146,0) -> 0 | BG146: =IF(N146="zákl. přenesená",J146,0) -> 0 | BH146: =IF(N146="sníž. přenesená",J146,0) -> 0 | BI146: =IF(N146="nulová",J146,0) -> 0 | BJ146: 1 | BK146: =ROUND(I146*H146,2) -> 0 | BL146: 4 | BM146: -1412233432
D147: PP | F147: Vodorovné přemístění výkopku nebo sypaniny po suchu na obvyklém dopravním prostředku, bez naložení výkopku, avšak se složením bez rozhrnutí z horniny třídy těžitelnosti II skupiny 4 a 5 na vzdálenost přes 9 000 do 10 000 m | AT147: PP | AU147: 2
D148: VV | F148: 28,07+16,95 | H148: 45.02 | AT148: VV | AU148: 2 | AV148: 2 | AW148: True | AX148: 1 | AY148: ROZPOCET
C149: 49 | D149: K | E149: 171201231 | F149: Poplatek za uložení zeminy a kamení na recyklační skládce (skládkovné) kód odpadu 17 05 04 | G149: t | H149: 45.02 | J149: =ROUND(I149*H149,2) -> 0 | N149: základní | P149: =O149*H149 -> 0 | Q149: 0 | R149: =Q149*H149 -> 0 | S149: 0 | T149: =S149*H149 -> 0 | AR149: 4 | AT149: K | AU149: 2 | AY149: ROZPOCET | BE149: =IF(N149="základní",J149,0) -> 0 | BF149: =IF(N149="snížená",J149,0) -> 0 | BG149: =IF(N149="zákl. přenesená",J149,0) -> 0 | BH149: =IF(N149="sníž. přenesená",J149,0) -> 0 | BI149: =IF(N149="nulová",J149,0) -> 0 | BJ149: 1 | BK149: =ROUND(I149*H149,2) -> 0 | BL149: 4 | BM149: -1298634461
D150: PP | F150: Poplatek za uložení stavebního odpadu na recyklační skládce (skládkovné) zeminy a kamení zatříděného do Katalogu odpadů pod kódem 17 05 04 | AT150: PP | AU150: 2
C151: 7 | D151: K | E151: 174151101 | F151: Zpětný zásyp jam, šachet rýh nebo kolem objektů sypaninou se zhutněním | G151: m3 | H151: 340.95 | J151: =ROUND(I151*H151,2) -> 0 | N151: základní | P151: =O151*H151 -> 0 | Q151: 0 | R151: =Q151*H151 -> 0 | S151: 0 | T151: =S151*H151 -> 0 | AR151: 4 | AT151: K | AU151: 2 | AY151: ROZPOCET | BE151: =IF(N151="základní",J151,0) -> 0 | BF151: =IF(N151="snížená",J151,0) -> 0 | BG151: =IF(N151="zákl. přenesená",J151,0) -> 0 | BH151: =IF(N151="sníž. přenesená",J151,0) -> 0 | BI151: =IF(N151="nulová",J151,0) -> 0 | BJ151: 1 | BK151: =ROUND(I151*H151,2) -> 0 | BL151: 4 | BM151: -1732546913
D152: PP | F152: Zásyp sypaninou z jakékoliv horniny strojně s uložením výkopku ve vrstvách se zhutněním jam, šachet, rýh nebo kolem objektů v těchto vykopávkách | AT152: PP | AU152: 2
D153: VV | F153: 385,96-28,07-16,94 | H153: 340.95 | AT153: VV | AU153: 2 | AV153: 2 | AW153: True | AX153: 1 | AY153: ROZPOCET
C154: 8 | D154: K | E154: 175151101 | F154: Obsypání potrubí strojně sypaninou bez prohození, uloženou do 3 m | G154: m3 | H154: 28.07 | J154: =ROUND(I154*H154,2) -> 0 | N154: základní | P154: =O154*H154 -> 0 | Q154: 0 | R154: =Q154*H154 -> 0 | S154: 0 | T154: =S154*H154 -> 0 | AR154: 4 | AT154: K | AU154: 2 | AY154: ROZPOCET | BE154: =IF(N154="základní",J154,0) -> 0 | BF154: =IF(N154="snížená",J154,0) -> 0 | BG154: =IF(N154="zákl. přenesená",J154,0) -> 0 | BH154: =IF(N154="sníž. přenesená",J154,0) -> 0 | BI154: =IF(N154="nulová",J154,0) -> 0 | BJ154: 1 | BK154: =ROUND(I154*H154,2) -> 0 | BL154: 4 | BM154: 826322319
D155: PP | F155: Obsypání potrubí strojně sypaninou z vhodných třídy těžitelnosti I a II, skupiny 1 až 4 nebo materiálem připraveným podél výkopu ve vzdálenosti do 3 m od jeho kraje, pro jakoukoliv hloubku výkopu a míru zhutnění bez prohození sypaniny | AT155: PP | AU155: 2
D156: VV | F156: 28,0704 | H156: 28.07 | AT156: VV | AU156: 2 | AV156: 2 | AW156: True | AX156: 1 | AY156: ROZPOCET
C157: 9 | D157: M | E157: 58331200 | F157: štěrkopísek netříděný | G157: t | H157: 28.07 | J157: =ROUND(I157*H157,2) -> 0 | N157: základní | P157: =O157*H157 -> 0 | Q157: 1 | R157: =Q157*H157 -> 28.07 | S157: 0 | T157: =S157*H157 -> 0 | AR157: 8 | AT157: M | AU157: 2 | AY157: ROZPOCET | BE157: =IF(N157="základní",J157,0) -> 0 | BF157: =IF(N157="snížená",J157,0) -> 0 | BG157: =IF(N157="zákl. přenesená",J157,0) -> 0 | BH157: =IF(N157="sníž. přenesená",J157,0) -> 0 | BI157: =IF(N157="nulová",J157,0) -> 0 | BJ157: 1 | BK157: =ROUND(I157*H157,2) -> 0 | BL157: 4 | BM157: 1641784052
D158: PP | F158: štěrkopísek netříděný | AT158: PP | AU158: 2
D159: D | E159: 3 | F159: Svislé a kompletní konstrukce | J159: =BK159 -> 0 | P159: =SUM(P160:P162) -> 0 | R159: =SUM(R160:R162) -> 0 | T159: =SUM(T160:T162) -> 0 | AR159: 1 | AT159: D | AU159: 1 | AY159: ROZPOCET | BK159: =SUM(BK160:BK162) -> 0
C160: 10 | D160: K | E160: 359901211 | F160: Monitoring stoky jakékoli výšky na nové kanalizaci | G160: m | H160: 141.2 | J160: =ROUND(I160*H160,2) -> 0 | N160: základní | P160: =O160*H160 -> 0 | Q160: 0 | R160: =Q160*H160 -> 0 | S160: 0 | T160: =S160*H160 -> 0 | AR160: 4 | AT160: K | AU160: 2 | AY160: ROZPOCET | BE160: =IF(N160="základní",J160,0) -> 0 | BF160: =IF(N160="snížená",J160,0) -> 0 | BG160: =IF(N160="zákl. přenesená",J160,0) -> 0 | BH160: =IF(N160="sníž. přenesená",J160,0) -> 0 | BI160: =IF(N160="nulová",J160,0) -> 0 | BJ160: 1 | BK160: =ROUND(I160*H160,2) -> 0 | BL160: 4 | BM160: 427044779
D161: PP | F161: Monitoring stok (kamerový systém) jakékoli výšky nová kanalizace | AT161: PP | AU161: 2
D162: VV | F162: 21,2+120 | H162: 141.2 | AT162: VV | AU162: 2 | AV162: 2 | AW162: True | AX162: 1 | AY162: ROZPOCET
D163: D | E163: 4 | F163: Vodorovné konstrukce | J163: =BK163 -> 0 | P163: =SUM(P164:P166) -> 0 | R163: =SUM(R164:R166) -> 0 | T163: =SUM(T164:T166) -> 0 | AR163: 1 | AT163: D | AU163: 1 | AY163: ROZPOCET | BK163: =SUM(BK164:BK166) -> 0
C164: 11 | D164: K | E164: 451573111 | F164: Lože pod potrubí otevřený výkop ze štěrkopísku | G164: m3 | H164: 16.944 | J164: =ROUND(I164*H164,2) -> 0 | N164: základní | P164: =O164*H164 -> 0 | Q164: 0 | R164: =Q164*H164 -> 0 | S164: 0 | T164: =S164*H164 -> 0 | AR164: 4 | AT164: K | AU164: 2 | AY164: ROZPOCET | BE164: =IF(N164="základní",J164,0) -> 0 | BF164: =IF(N164="snížená",J164,0) -> 0 | BG164: =IF(N164="zákl. přenesená",J164,0) -> 0 | BH164: =IF(N164="sníž. přenesená",J164,0) -> 0 | BI164: =IF(N164="nulová",J164,0) -> 0 | BJ164: 1 | BK164: =ROUND(I164*H164,2) -> 0 | BL164: 4 | BM164: 1402477184
D165: PP | F165: Lože pod potrubí, stoky a drobné objekty v otevřeném výkopu z písku a štěrkopísku do 63 mm | AT165: PP | AU165: 2
D166: VV | F166: (120+21,2)*0,15*0,8 | H166: 16.944 | AT166: VV | AU166: 2 | AV166: 2 | AW166: True | AX166: 1 | AY166: ROZPOCET
D167: D | E167: 5 | F167: Komunikace pozemní | J167: =BK167 -> 0 | P167: =SUM(P168:P179) -> 0 | R167: =SUM(R168:R179) -> 0 | T167: =SUM(T168:T179) -> 0 | AR167: 1 | AT167: D | AU167: 1 | AY167: ROZPOCET | BK167: =SUM(BK168:BK179) -> 0
C168: 54 | D168: K | E168: 564730111 | F168: Podklad z kameniva hrubého drceného vel. 16-32 mm plochy přes 100 m2 tl 100 mm | G168: m2 | H168: 139.5 | J168: =ROUND(I168*H168,2) -> 0 | N168: základní | P168: =O168*H168 -> 0 | Q168: 0 | R168: =Q168*H168 -> 0 | S168: 0 | T168: =S168*H168 -> 0 | AR168: 4 | AT168: K | AU168: 2 | AY168: ROZPOCET | BE168: =IF(N168="základní",J168,0) -> 0 | BF168: =IF(N168="snížená",J168,0) -> 0 | BG168: =IF(N168="zákl. přenesená",J168,0) -> 0 | BH168: =IF(N168="sníž. přenesená",J168,0) -> 0 | BI168: =IF(N168="nulová",J168,0) -> 0 | BJ168: 1 | BK168: =ROUND(I168*H168,2) -> 0 | BL168: 4 | BM168: 93704111
...
