Workbook

Sheet Vykaz vymer
A1: REVITALIZACE SMETANOVÝCH SADŮ VE STOCHOVĚ
A2: Výkaz výměr k 17.3.2014
A4: SO 01 - Zpevněné plochy
A5: stavební díl | B5: ks | C5: bm | D5: m2 | E5: m3 | F5: jednotková cena Kč | G5: cena celkem/Kč
A6: bourací práce - betonová dlažba vč. odvozu | D6: 12 | G6: =D6*F6 -> 0
A7: bourací práce - mlat vč. odvozu | D7: 741 | G7: =D7*F7 -> 0
A8: likvidace herních prvků vč. odvozu | B8: 8 | G8: =F8*B8 -> 0
A9: odstranění laviček, košů a stožárů osvětlení | B9: 13 | G9: =F9*B9 -> 0
A10: parkové pěšiny - minerální beton | D10: 1024 | G10: =F10*D10 -> 0
A11: parkové obruby | C11: 833.5 | G11: 0
A12: betonová dlažba k památníku | D12: 7.3 | G12: =D12*F12 -> 0
A13: Cena celkem | G13: =SUM(G6:G12) -> 0
A15: SO 02 - Betonové zídky
A16: stavební díl | B16: ks | C16: bm | D16: m2 | E16: m3 | F16: jednotková cena Kč | G16: cena celkem/Kč
A17: betonová zídka - bet. základ | E17: 29 | G17: =E17*F17 -> 0
A18: betonová zídka - pohledový beton | E18: 14.5 | G18: =E18*F18 -> 0
A19: Cena celkem | G19: =SUM(G17:G18) -> 0
A21: SO 03 - Terénní a vegetační úpravy, mobiliář
A22: stavební díl | B22: ks | C22: bm | D22: m2 | E22: m3 | F22: jednotková cena Kč | G22: cena celkem/Kč
A23: kácení stromu | B23: 19 | G23: =F23*B23 -> 0
A24: odstranění keřů | D24: 230 | G24: =D24*F24 -> 0
A25: terénní modelace - valy | E25: 117 | G25: =E25*F25 -> 0
A26: terénní modelace - prohlubeň | E26: 198 | G26: =E26*F26 -> 0
A27: výsadba stromu | B27: 34 | G27: =F27*B27 -> 0
A28: výsadba živého plotu | D28: 29 | G28: =F28*D28 -> 0
A29: výsadba trvalkového záhonu | D29: 3.6 | G29: =F29*D29 -> 0
A30: založení trávníku výsevem | D30: 2800 | G30: =F30*D30 -> 0
A31: založeníé trávníku travním kobercem (valy) | D31: 273 | G31: =F31*D31 -> 0
A32: lavička | B32: 13 | G32: =F32*B32 -> 0
A33: odpadkový koš | B33: 7 | G33: =F33*B33 -> 0
A34: dřevěné sochy | B34: 5 | G34: =B34*F34 -> 0
A35: kamenné prvky | B35: 10 | G35: =F35*B35 -> 0
A36: Cena celkem | G36: =SUM(G23:G35) -> 0
A38: SO 04 - Veřejné osvětlení
A39: stavební díl | B39: ks | C39: bm | D39: m2 | E39: m3 | F39: jednotková cena Kč | G39: cena celkem/Kč
A40: kabel VO | C40: 150 | G40: =C40*F40 -> 0
A41: stožárová svítidla - lucerny | B41: 5 | G41: =B41*F41 -> 0
A42: osvětlení zemní | B42: 10 | G42: =B42*F42 -> 0
A43: Cena celkem | G43: =SUM(G40:G42) -> 0
A45: Rozpočtová rezerva
...

Sheet Vykaz vymer souhr
A1: VÝKAZ VÝMĚR - SOUHRN
A2: REVITALIZACE SMETANOVÝCH SADŮ VE STOCHOVĚ
A3: Souhrn podle stavebních objektů
A5: Stavební objekty | B5: Cena /Kč
A6: SO 01 - Zpevněné plochy | B6: ='Vykaz vymer'!G13 -> 0
A7: SO 02 - Betonové zídky | B7: ='Vykaz vymer'!G19 -> 0
A8: SO 03 - Terénní a vegetační úpravy, mobiliář | B8: ='Vykaz vymer'!G36 -> 0
A9: SO 04 - Veřejné osvětlení | B9: ='Vykaz vymer'!G43 -> 0
A10: Rozpočtová rezerva celkem | B10: =+'Vykaz vymer'!G47 -> 0
A11: Cena celkem bez DPH | B11: =SUM(B6:B10) -> 0
A12: DPH 21 % | B12: =B11*0.21 -> 0
A13: Cena vč.DPH celkem | B13: =B11+B12 -> 0
