{"text_format":"1","workbook":"xlsx","n_sheets":4,"sheets":["SHZ","SHZ - harmonogram","časový harmonogram","finanční plnění - harmonogram"],"not_rendered":{"charts":0,"images":1,"macros":1,"external_links":0,"defined_names":0,"comments":0,"pivot_tables":0},"unopened":[],"bounds":{"document_bytes":16777216,"sheet_cells":100000,"rows_first":2000,"rows_last":500,"rows_between":2000,"halvings":0,"cell_chars":16384,"cell_head_chars":4096},"cells_cut":0,"cells_raw":0,"read":"whole","date_system":"1900"}

{"sheet":"SHZ","index":0,"n_rows":44,"n_cols":8,"rows_kept":44,"cut":false,"hidden":false,"merged":[[38,0,38,1],[41,0,42,7],[1,0,1,7],[3,0,3,1],[3,7,4,7],[7,0,11,0],[12,0,19,0],[20,0,27,0]]}
[]
["Příloha K zadávací dokumentace - cenová nabídka a časový harmonogram"]
[]
["Nabídková cena na SHZ",null,"Množství","Jednotková cena","Cena dodávka ","Cena montáže ","Cena položky","Poznámka"]
["Milníky","Položka","(KS, m, m2)","(EUR / ks bez DPH)","(EUR bez DPH)","(EUR bez DPH)","(EUR bez DPH)"]
["Závazné technické parametry pro ostatní OB",null,"-","-",null,"-",{"$f":"E6","v":0}]
["Odsouhlasená prováděcí dokumentace pro SHZ",null,"-","-",null,"-",{"$f":"E7","v":0}]
["Technologie, ETAPA I.","Mezisoučet","-","-",{"$f":"E9+E10+E11","v":0},{"$f":"F9+F10+F11","v":0},{"$f":"G9+G10+G11","v":0}]
[null,"Ventilační stanice","-","-",null,null,{"$f":"E9+F9","v":0}]
[null,"Potrubní část, Kabeláž, Nosný kab. systém, Technologické OK, přístupy, lávky, schodiště - ET. I. K 20","-","-",null,null,{"$f":"E10+F10","v":0}]
[null,"Dieselagregát",null,null,{"$f":"C11*D11","v":0},null,{"$f":"E11+F11","v":0}]
[null,"Nádrže",null,null,{"$f":"C12*D12","v":0},null,{"$f":"E12+F12","v":0}]
["Elektroinstalace, ETAPA I. a II.","Mezisoučet","-","-",{"$f":"SUM(E14:E20)","v":0},{"$f":"SUM(F14:F20)","v":0},{"$f":"SUM(G14:G20)","v":0}]
[null,"Trafostanice",null,null,{"$f":"C14*D14","v":0},null,{"$f":"E14+F14","v":0}]
[null,"Rozváděče NN ",null,null,0,null,0]
[null,"Rozváděče VN",null,null,0,null,0]
[null,"Frekvenční měniče NN",null,null,0,null,0]
[null,"Frekvenční měniče VN",null,null,0,null,0]
[null,"Zásuvkové skříně",null,null,0,null,0]
[null,"Stavební elektroinstalace",null,null,0,null,0]
["Stavební část, ETAPA I. II. a souvislosti stavby","Mezisoučet","-","-",{"$f":"SUM(E22:E28)","v":0},{"$f":"SUM(F22:F28)","v":0},{"$f":"SUM(G22:G28)","v":0}]
[null,"Podlahy",null,null,{"$f":"C22*D22","v":0},null,{"$f":"E22+F22","v":0}]
[null,"Obvodové stěny",null,null,0,null,0]
[null,"Svislé dělící a výplňové konstrukce",null,null,0,null,0]
[null,"Střecha",null,null,0,null,0]
[null,"ZTI",null,null,0,null,0]
[null,"Vzuduchotechnika",null,null,0,null,0]
[null,"Potrubní část, Kabeláž, Nosný kab. systém, Technologické OK, přístupy, lávky, schodiště - ET. II. K 80",null,null,0,null,0]
["ASŘ","ASŘ ETAPA I. A ETAPA II.","-","-",null,null,0]
["Převzetí díla k užívání ET. I. A ET. II. ",null,null,null,null,null,{"$f":"E30+F30","v":0}]
["ASŘ","ASŘ ETAPA III.",null,null,null,null,0]
["Ostatní",null,null,null,null,null,0]
["Potrubní část, Kabeláž, Nosný kab. systém, Technologické OK, přístupy lávky, schodiště - ET. III. K 90",null,"-","-",null,"-",{"$f":"E33","v":0}]
["Dokončení stavebních prací",null,"-","-",null,"-",0]
["Ukončení montážních prací",null,null,null,null,"-",0]
["Školení zaměstnanců provozu",null,"-","-",null,"-",0]
["Komplexní vyzkoušení",null,"-","-",null,"-",0]
["Konečné převzetí díla k užívání",null,"-","-",null,"-",0]
["Celkem *",null,null,null,{"$f":"E6+E7+E8+E13+E21+E33+E34+E35+E36+E37+E38+E29+E30+E31+E32","v":0},{"$f":"F8+F13+F21+F29+F30+F31+F32","v":0},{"$f":"G6+G7+G8+G13+G21+G33+G34+G35+G36+G37+G38+G29+G30+G31+G32","v":0}]
[]
["Poznámka:"]
["* Položka \"Celkem\" je vždy uvažována jako kompletní za funční celek a zahrnuje ceny veškerých plnění poskytnutých zhotovitelem na základě smlouvy, popřípadě těch, které mají být podle smlouvy poskytnuty k dosažení účelu smlouvy, aniž by taková plnění byla výslovně zde nebo ve smlouvě uvedena. Položky neuvedené, ale potřebné pro funkční celek musí být součástí položky \"Ostatní\"."]
[]
["Zhotovitel vyplňuje ve sloupcích \"C\", \"D\", \"E\", \"F\" a \"G\" pouze nepodbarvené buňky"]

{"sheet":"SHZ - harmonogram","index":1,"n_rows":108,"n_cols":49,"rows_kept":108,"cut":false,"hidden":false,"merged":[[64,6,65,6],[66,6,67,6],[68,6,69,6],[46,6,47,6],[48,6,49,6],[50,6,51,6],[52,6,53,6],[54,6,55,6],[56,6,57,6],[58,6,59,6],[60,6,61,6],[62,6,63,6],[28,6,29,6],[30,6,31,6],[32,6,33,6],[34,6,35,6],[36,6,37,6],[38,6,39,6],[40,6,41,6],[42,6,43,6],[44,6,45,6],[9,6,10,6],[11,6,12,6],[14,6,15,6],[16,6,17,6],[18,6,19,6],[20,6,21,6],[22,6,23,6],[24,6,25,6],[26,6,27,6],[16,0,17,0],[36,1,37,1],[26,3,27,3],[28,3,29,3],[54,0,55,0],[52,1,53,1],[54,1,55,1],[52,2,53,2],[54,2,55,2],[40,1,41,1],[42,0,43,0],[44,0,45,0],[42,1,43,1],[44,1,45,1],[46,0,47,0],[46,1,47,1],[42,2,43,2],[44,2,45,2],[46,2,47,2],[16,3,17,3],[18,3,19,3],[20,3,21,3],[22,3,23,3],[24,3,25,3],[68,0,69,0],[68,1,69,1],[18,0,19,0],[26,1,27,1],[62,0,63,0],[62,1,63,1],[28,0,29,0],[34,1,35,1],[30,0,31,0],[20,0,21,0],[20,1,21,1],[50,0,51,0],[50,1,51,1],[38,0,39,0],[24,0,25,0],[52,0,53,0],[24,1,25,1],[18,1,19,1],[22,1,23,1],[40,0,41,0],[32,0,33,0],[26,0,27,0],[22,0,23,0],[48,1,49,1],[28,1,29,1],[66,1,67,1],[14,0,15,0],[14,1,15,1],[9,5,10,5],[11,5,12,5],[14,5,15,5],[16,5,17,5],[18,5,19,5],[22,5,23,5],[24,2,25,2],[9,2,10,2],[11,2,12,2],[20,5,21,5],[16,1,17,1],[9,3,10,3],[11,3,12,3],[46,5,47,5],[48,2,49,2],[40,2,41,2],[30,5,31,5],[32,5,33,5],[34,5,35,5],[40,5,41,5],[64,2,65,2],[64,5,65,5],[50,2,51,2],[4,0,5,0],[4,1,5,1],[4,5,5,5],[9,0,10,0],[9,1,10,1],[11,0,12,0],[11,1,12,1],[48,5,49,5],[42,5,43,5],[44,5,45,5],[14,2,15,2],[16,2,17,2],[18,2,19,2],[22,2,23,2],[20,2,21,2],[30,1,31,1],[26,2,27,2],[28,2,29,2],[38,1,39,1],[30,2,31,2],[32,1,33,1],[64,4,65,4],[52,5,53,5],[54,5,55,5],[72,0,72,7],[32,2,33,2],[34,2,35,2],[36,2,37,2],[38,2,39,2],[62,2,63,2],[66,2,67,2],[50,5,51,5],[34,0,35,0],[58,0,59,0],[58,1,59,1],[58,2,59,2],[36,0,37,0],[36,5,37,5],[38,5,39,5],[56,0,57,0],[56,1,57,1],[56,2,57,2],[56,5,57,5],[66,0,67,0],[64,1,65,1],[34,4,35,4],[68,2,69,2],[4,2,5,2],[4,7,5,7],[62,5,63,5],[66,5,67,5],[68,5,69,5],[71,0,71,7],[4,6,5,6],[24,5,25,5],[26,5,27,5],[28,5,29,5],[36,4,37,4],[38,4,39,4],[40,4,41,4],[42,4,43,4],[14,3,15,3],[58,5,59,5],[60,0,61,0],[60,1,61,1],[60,2,61,2],[60,5,61,5],[50,4,51,4],[52,4,53,4],[30,4,31,4],[4,8,4,48],[48,0,49,0],[54,4,55,4],[56,4,57,4],[58,4,59,4],[60,4,61,4],[62,4,63,4],[44,4,45,4],[46,4,47,4],[48,4,49,4],[4,3,5,3],[4,4,5,4],[9,4,10,4],[11,4,12,4],[14,4,15,4],[16,4,17,4],[18,4,19,4],[20,4,21,4],[22,4,23,4],[24,4,25,4],[26,4,27,4],[28,4,29,4],[32,4,33,4],[64,0,65,0],[72,8,72,48],[64,3,65,3],[30,3,31,3],[32,3,33,3],[34,3,35,3],[36,3,37,3],[38,3,39,3],[40,3,41,3],[42,3,43,3],[44,3,45,3],[46,3,47,3],[56,3,57,3],[58,3,59,3],[60,3,61,3],[62,3,63,3],[48,3,49,3],[50,3,51,3],[52,3,53,3],[54,3,55,3],[66,4,67,4],[68,4,69,4],[66,3,67,3],[68,3,69,3]]}
[]
["Příloha K zadávací dokumentace - cenová nabídka a časový harmonogram"]
[]
[]
["Milníky","Etapa","Komentář","Začátek nejdříve (měsíc)","Konec nejpozději (měsíc)","Cena za položku bez DPH (EUR)",null,"Termín / cena bez DPH (EUR)"]
[null,null,null,null,null,null,null,null,"2024-08-02","2024-09-02","2024-10-03","2024-11-03","2024-12-04","2025-01-04","2025-02-04","2025-03-07","2025-04-07","2025-05-08","2025-06-08","2025-07-09","2025-08-09","2025-09-09","2025-10-10","2025-11-10","2025-12-11","2026-01-11","2026-02-11","2026-03-14","2026-04-14","2026-05-15","2026-06-15","2026-07-16","2026-08-16","2026-09-16","2026-10-17","2026-11-17","2026-12-18","2027-01-18","2027-02-18","2027-03-21","2027-04-21","2027-05-22","2027-06-22","2027-07-23","2027-08-23","2027-09-23","2027-10-24","2027-11-24","2027-12-25"]
[1,1,20,null,null,null,null,null,1,2,3,4,5,6,7,8,9,10,11,12,13,14,15,16,17,18,19,20,21,22,23,24,25,26,27,28,29,30,31,32,33,34,35,36,37,38,39,40,41]
["Podpis smlouvy","SHZ",null,1,2,null,null,"termín"]
["Vstupní technická jednání ","SHZ",null,1,2,null,null,"termín"]
["Závazné technické parametry pro ostatní OB, pro ostatní dodavatele technologických celků","SHZ",null,1,39,{"$f":"SUM(I11:AW11)","v":0},null,"termín"]
[null,null,null,null,null,null,null,"cena"]
["Odsouhlasená prováděcí dokumentace SHZ","SHZ",null,5,7,{"$f":"SUM(I13:AW13)","v":0},null,"termín"]
[null,null,null,null,null,null,null,"cena"]
["Předání a převzetí staveniště ","SHZ",null,7,7,null,null,"termín"]
["Ventilační stanice","SHZ",null,7,23,{"$f":"SUM(I16:AW16)","v":0},null,"termín"]
[null,null,null,null,null,null,null,"cena"]
["Potrubní část, Kabeláž, Nosný kab. systém, Technologické OK, přístupy lávky, schodiště - ET. I.","SHZ","K20",7,23,{"$f":"SUM(I18:AW18)","v":0},null,"termín"]
[null,null,null,null,null,null,null,"cena"]
["Dieselagregát","SHZ",null,7,23,{"$f":"SUM(I20:AW20)","v":0},null,"termín"]
[null,null,null,null,null,null,null,"cena"]
["Nádrže","SHZ",null,7,23,{"$f":"SUM(I22:AW22)","v":0},null,"termín"]
[null,null,null,null,null,null,null,"cena"]
["Trafostanice","SHZ",null,7,23,{"$f":"SUM(I24:AW24)","v":0},null,"termín"]
[null,null,null,null,null,null,null,"cena"]
["Rozvaděče NN","SHZ",null,7,23,{"$f":"SUM(I26:AW26)","v":0},null,"termín"]
[null,null,null,null,null,null,null,"cena"]
["Rozvaděče VN","SHZ",null,7,23,{"$f":"SUM(I28:AW28)","v":0},null,"termín"]
[null,null,null,null,null,null,null,"cena"]
["Frekvenční měniče NN","SHZ",null,7,23,{"$f":"SUM(I30:AW30)","v":0},null,"termín"]
[null,null,null,null,null,null,null,"cena"]
["Frekvenční měniče VN","SHZ",null,7,23,{"$f":"SUM(I32:AW32)","v":0},null,"termín"]
[null,null,null,null,null,null,null,"cena"]
["Zásuvkové skříně","SHZ",null,7,23,{"$f":"SUM(I34:AW34)","v":0},null,"termín"]
[null,null,null,null,null,null,null,"cena"]
["Stavební elektroinstalace","SHZ",null,7,40,{"$f":"SUM(I36:AW36)","v":0},null,"termín"]
[null,null,null,null,null,null,null,"cena"]
["Podlahy","SHZ",null,7,23,{"$f":"SUM(I38:AW38)","v":0},null,"termín"]
[null,null,null,null,null,null,null,"cena"]
["Obvodové stěny","SHZ",null,10,23,{"$f":"SUM(I40:AW40)","v":0},null,"termín"]
[null,null,null,null,null,null,null,"cena"]
["Svislé dělící a výplňové konstrukce","SHZ",null,7,23,{"$f":"SUM(I42:AW42)","v":0},null,"termín"]
[null,null,null,null,null,null,null,"cena"]
["Střecha","SHZ",null,10,23,{"$f":"SUM(I44:AW44)","v":0},null,"termín"]
[null,null,null,null,null,null,null,"cena"]
["ZTI","SHZ",null,7,23,{"$f":"SUM(I46:AW46)","v":0},null,"termín"]
[null,null,null,null,null,null,null,"cena"]
["Vzduchotechnika","SHZ",null,7,23,{"$f":"SUM(I48:AW48)","v":0},null,"termín"]
[null,null,null,null,null,null,null,"cena"]
["Potrubní část, Kabeláž, Nosný kab. systém, Technologické OK, přístupy lávky, schodiště - ET. II.","SHZ","K80",7,23,{"$f":"SUM(I50:AW50)","v":0},null,"termín"]
[null,null,null,null,null,null,null,"cena"]
["ASŘ ETAPA I. A ETAPA II.","SHZ",null,7,23,{"$f":"SUM(I52:AW52)","v":0},null,"termín"]
[null,null,null,null,null,null,null,"cena"]
["Převzetí díla k užívání ET. I. A ET. II. ","SHZ","K20, K80",7,23,{"$f":"SUM(I54:AW54)","v":0},null,"termín"]
[null,null,null,null,null,null,null,"cena"]
["ASŘ ETAPA III.","SHZ","K90",31,40,{"$f":"SUM(I56:AW56)","v":0},null,"termín"]
[null,null,null,null,null,null,null,"cena"]
["Ostatní","SHZ",null,31,40,{"$f":"SUM(I58:AW58)","v":0},null,"termín"]
[null,null,null,null,null,null,null,"cena"]
["Potrubní část, Kabeláž, Nosný kab. systém, Technologické OK, přístupy lávky, schodiště - ET. III.","SHZ","K90",31,40,{"$f":"SUM(I60:AW60)","v":0},null,"termín"]
[null,null,null,null,null,null,null,"cena"]
["Dokončení stavebních prací","SHZ","včetně vrácení zařízení staveniště",22,40,{"$f":"SUM(I62:AW62)","v":0},null,"termín"]
[null,null,null,null,null,null,null,"cena"]
["Ukončení montážních prací","SHZ","včetně vrácení zařízení staveniště",22,40,{"$f":"SUM(I64:AW64)","v":0},null,"termín"]
[null,null,null,null,null,null,null,"cena"]
["Školení zaměstnanců provozu","SHZ",null,22,40,{"$f":"SUM(I66:AW66)","v":0},null,"termín"]
[null,null,null,null,null,null,null,"cena"]
["Kompexní vyzkoušení - Funkční zkouška","SHZ",null,22,40,{"$f":"SUM(I68:AW68)","v":0},null,"termín"]
[null,null,null,null,null,null,null,"cena"]
["Konečné převzetí díla k užívání","SHZ",null,40,41,{"$f":"SUM(I70:AW70)","v":0},null,"termín"]
[null,null,null,null,null,null,null,"cena"]
[]
["Dílčí ceny po měsících  ",null,null,null,null,null,null,null,{"$f":"SUM(I8:I70)","v":0},{"$f":"SUM(J8:J70)","v":0},{"$f":"SUM(K8:K70)","v":0},0,0,0,0,0,0,0,0,0,0,0,0,0,0,0,0,0,0,0,0,0,0,0,0,0,0,0,0,0,0,0,0,0,0,0,0,0,0]
["Cena celkem"]
[]
["Poznámka:"]
["Zhotovitel vyplňuje pouze číselné hodnoty \"předpoklad začátku (měsíc)\" a \"předpoklad ukončení (měsíc)\" v oknech, která se otevřou po rozkliknutí \"vyplnit\".",null,null,null,null,null,null,null,null,"Podpis smlouvy","Podpis smlouvy"]
[null,null,null,null,null,null,null,null,null,"Vstupní technická jednání ","Vstupní technická jednání "]
[null,null,null,null,null,null,null,null,null,"Závazné technické parametry pro ostatní OB, pro ostatní dodavatele technologických celků","Závazné technické parametry pro ostatní OB, pro ostatní dodavatele technologických celků"]
[null,null,null,null,null,null,null,null,null,"Odsouhlasená prováděcí dokumentace SHZ","Odsouhlasená prováděcí dokumentace SHZ"]
[null,null,null,null,null,null,null,null,null,"Předání a převzetí staveniště ","Předání a převzetí staveniště "]
[null,null,null,null,null,null,null,null,null,"Ventilační stanice","Ventilační stanice"]
[null,null,null,null,null,null,null,null,null,"Potrubní část, Kabeláž, Nosný kab. systém, Technologické OK, přístupy lávky, schodiště - ET. I.","Potrubní část, Kabeláž, Nosný kab. systém, Technologické OK, přístupy lávky, schodiště - ET. I."]
[null,null,null,null,null,null,null,null,null,"Dieselagregát","Dieselagregát"]
[null,null,null,null,null,null,null,null,null,"Nádrže","Nádrže"]
[null,null,null,null,null,null,null,null,null,"Trafostanice","Trafostanice"]
[null,null,null,null,null,null,null,null,null,"Rozvaděče NN","Rozvaděče NN"]
[null,null,null,null,null,null,null,null,null,"Rozvaděče VN","Rozvaděče VN"]
[null,null,null,null,null,null,null,null,null,"Frekvenční měniče NN","Frekvenční měniče NN"]
["Údaje o cenách se do tabulky přenášejí z předcházejících listů.",null,null,null,null,null,null,null,null,"Frekvenční měniče VN","Frekvenční měniče VN"]
["ETAPA I. K20",null,null,null,null,null,null,null,null,"Zásuvkové skříně","Zásuvkové skříně"]
["ETAPA II. K80",null,null,null,null,null,null,null,null,"Stavební elektroinstalace","Stavební elektroinstalace"]
["ETAPA III. K90",null,null,null,null,null,null,null,null,"Podlahy","Podlahy"]
[null,null,null,null,null,null,null,null,null,"Obvodové stěny","Obvodové stěny"]
[null,null,null,null,null,null,null,null,null,"Svislé dělící a výplňové konstrukce","Svislé dělící a výplňové konstrukce"]
[null,null,null,null,null,null,null,null,null,"Střecha","Střecha"]
[null,null,null,null,null,null,null,null,null,"ZTI","ZTI"]
[null,null,null,null,null,null,null,null,null,"Vzduchotechnika","Vzduchotechnika"]
[null,null,null,null,null,null,null,null,null,"Potrubní část, Kabeláž, Nosný kab. systém, Technologické OK, přístupy lávky, schodiště - ET. II.","Potrubní část, Kabeláž, Nosný kab. systém, Technologické OK, přístupy lávky, schodiště - ET. II."]
[null,null,null,null,null,null,null,null,null,"ASŘ ETAPA I. A ETAPA II.","ASŘ ETAPA I. A ETAPA II."]
[null,null,null,null,null,null,null,null,null,"Převzetí díla k užívání ET. I. A ET. II. ","Převzetí díla k užívání ET. I. A ET. II. "]
[null,null,null,null,null,null,null,null,null,"ASŘ ETAPA III.","ASŘ ETAPA III."]
[null,null,null,null,null,null,null,null,null,"Ostatní","Ostatní"]
[null,null,null,null,null,null,null,null,null,"Potrubní část, Kabeláž, Nosný kab. systém, Technologické OK, přístupy lávky, schodiště - ET. III.","Potrubní část, Kabeláž, Nosný kab. systém, Technologické OK, přístupy lávky, schodiště - ET. III."]
[null,null,null,null,null,null,null,null,null,"Dokončení stavebních prací","Dokončení stavebních prací"]
[null,null,null,null,null,null,null,null,null,"Ukončení montážních prací","Ukončení montážních prací"]
[null,null,null,null,null,null,null,null,null,"Školení zaměstnanců provozu","Školení zaměstnanců provozu"]
[null,null,null,null,null,null,null,null,null,"Kompexní vyzkoušení - Funkční zkouška","Kompexní vyzkoušení - Funkční zkouška"]
[null,null,null,null,null,null,null,null,null,"Konečné převzetí díla k užívání","Konečné převzetí díla k užívání"]

{"sheet":"časový harmonogram","index":2,"n_rows":68,"n_cols":43,"rows_kept":68,"cut":false,"hidden":false,"merged":[[3,0,4,0],[3,1,4,1],[3,2,3,42]]}
[]
["Příloha K zadávací dokumentace - cenová nabídka a časový harmonogram SHZ"]
[]
["Milníky","Etapa"]
[null,null,"2024-08-02","2024-09-02","2024-10-03","2024-11-03","2024-12-04","2025-01-04","2025-02-04","2025-03-07","2025-04-07","2025-05-08","2025-06-08","2025-07-09","2025-08-09","2025-09-09","2025-10-10","2025-11-10","2025-12-11","2026-01-11","2026-02-11","2026-03-14","2026-04-14","2026-05-15","2026-06-15","2026-07-16","2026-08-16","2026-09-16","2026-10-17","2026-11-17","2026-12-18","2027-01-18","2027-02-18","2027-03-21","2027-04-21","2027-05-22","2027-06-22","2027-07-23","2027-08-23","2027-09-23","2027-10-24","2027-11-24","2027-12-25"]
[1,1,1,2,3,4,5,6,7,8,9,10,11,12,13,14,15,16,17,18,19,20,21,22,23,24,25,26,27,28,29,30,31,32,33,34,35,36,37,38,39,40,41]
["Podpis smlouvy","SHZ",{"$f":"'SHZ - harmonogram'!I8","v":0},{"$f":"'SHZ - harmonogram'!J8","v":0},{"$f":"'SHZ - harmonogram'!K8","v":0},{"$f":"'SHZ - harmonogram'!L8","v":0},{"$f":"'SHZ - harmonogram'!M8","v":0},{"$f":"'SHZ - harmonogram'!N8","v":0},{"$f":"'SHZ - harmonogram'!O8","v":0},{"$f":"'SHZ - harmonogram'!P8","v":0},{"$f":"'SHZ - harmonogram'!Q8","v":0},{"$f":"'SHZ - harmonogram'!R8","v":0},{"$f":"'SHZ - harmonogram'!S8","v":0},{"$f":"'SHZ - harmonogram'!T8","v":0},{"$f":"'SHZ - harmonogram'!U8","v":0},{"$f":"'SHZ - harmonogram'!V8","v":0},{"$f":"'SHZ - harmonogram'!W8","v":0},{"$f":"'SHZ - harmonogram'!X8","v":0},{"$f":"'SHZ - harmonogram'!Y8","v":0},{"$f":"'SHZ - harmonogram'!Z8","v":0},{"$f":"'SHZ - harmonogram'!AA8","v":0},{"$f":"'SHZ - harmonogram'!AB8","v":0},{"$f":"'SHZ - harmonogram'!AC8","v":0},{"$f":"'SHZ - harmonogram'!AD8","v":0},{"$f":"'SHZ - harmonogram'!AE8","v":0},{"$f":"'SHZ - harmonogram'!AF8","v":0},{"$f":"'SHZ - harmonogram'!AG8","v":0},{"$f":"'SHZ - harmonogram'!AH8","v":0},{"$f":"'SHZ - harmonogram'!AI8","v":0},{"$f":"'SHZ - harmonogram'!AJ8","v":0},{"$f":"'SHZ - harmonogram'!AK8","v":0},{"$f":"'SHZ - harmonogram'!AL8","v":0},{"$f":"'SHZ - harmonogram'!AM8","v":0},{"$f":"'SHZ - harmonogram'!AN8","v":0},{"$f":"'SHZ - harmonogram'!AO8","v":0},{"$f":"'SHZ - harmonogram'!AP8","v":0},{"$f":"'SHZ - harmonogram'!AQ8","v":0},{"$f":"'SHZ - harmonogram'!AR8","v":0},{"$f":"'SHZ - harmonogram'!AS8","v":0},{"$f":"'SHZ - harmonogram'!AT8","v":0},{"$f":"'SHZ - harmonogram'!AU8","v":0},{"$f":"'SHZ - harmonogram'!AV8","v":0},{"$f":"'SHZ - harmonogram'!AW8","v":0}]
["Vstupní technická jednání ","SHZ",{"$f":"'SHZ - harmonogram'!I9","v":0},{"$f":"'SHZ - harmonogram'!J9","v":0},{"$f":"'SHZ - harmonogram'!K9","v":0},{"$f":"'SHZ - harmonogram'!L9","v":0},{"$f":"'SHZ - harmonogram'!M9","v":0},{"$f":"'SHZ - harmonogram'!N9","v":0},{"$f":"'SHZ - harmonogram'!O9","v":0},{"$f":"'SHZ - harmonogram'!P9","v":0},{"$f":"'SHZ - harmonogram'!Q9","v":0},{"$f":"'SHZ - harmonogram'!R9","v":0},{"$f":"'SHZ - harmonogram'!S9","v":0},{"$f":"'SHZ - harmonogram'!T9","v":0},{"$f":"'SHZ - harmonogram'!U9","v":0},{"$f":"'SHZ - harmonogram'!V9","v":0},{"$f":"'SHZ - harmonogram'!W9","v":0},{"$f":"'SHZ - harmonogram'!X9","v":0},{"$f":"'SHZ - harmonogram'!Y9","v":0},{"$f":"'SHZ - harmonogram'!Z9","v":0},{"$f":"'SHZ - harmonogram'!AA9","v":0},{"$f":"'SHZ - harmonogram'!AB9","v":0},{"$f":"'SHZ - harmonogram'!AC9","v":0},{"$f":"'SHZ - harmonogram'!AD9","v":0},{"$f":"'SHZ - harmonogram'!AE9","v":0},{"$f":"'SHZ - harmonogram'!AF9","v":0},{"$f":"'SHZ - harmonogram'!AG9","v":0},{"$f":"'SHZ - harmonogram'!AH9","v":0},{"$f":"'SHZ - harmonogram'!AI9","v":0},{"$f":"'SHZ - harmonogram'!AJ9","v":0},{"$f":"'SHZ - harmonogram'!AK9","v":0},{"$f":"'SHZ - harmonogram'!AL9","v":0},{"$f":"'SHZ - harmonogram'!AM9","v":0},{"$f":"'SHZ - harmonogram'!AN9","v":0},{"$f":"'SHZ - harmonogram'!AO9","v":0},{"$f":"'SHZ - harmonogram'!AP9","v":0},{"$f":"'SHZ - harmonogram'!AQ9","v":0},{"$f":"'SHZ - harmonogram'!AR9","v":0},{"$f":"'SHZ - harmonogram'!AS9","v":0},{"$f":"'SHZ - harmonogram'!AT9","v":0},{"$f":"'SHZ - harmonogram'!AU9","v":0},{"$f":"'SHZ - harmonogram'!AV9","v":0},{"$f":"'SHZ - harmonogram'!AW9","v":0}]
["Závazné technické parametry pro ostatní OB","SHZ",{"$f":"'SHZ - harmonogram'!I10","v":0},{"$f":"'SHZ - harmonogram'!J10","v":0},{"$f":"'SHZ - harmonogram'!K10","v":0},{"$f":"'SHZ - harmonogram'!L10","v":0},{"$f":"'SHZ - harmonogram'!M10","v":0},{"$f":"'SHZ - harmonogram'!N10","v":0},{"$f":"'SHZ - harmonogram'!O10","v":0},{"$f":"'SHZ - harmonogram'!P10","v":0},{"$f":"'SHZ - harmonogram'!Q10","v":0},{"$f":"'SHZ - harmonogram'!R10","v":0},{"$f":"'SHZ - harmonogram'!S10","v":0},{"$f":"'SHZ - harmonogram'!T10","v":0},{"$f":"'SHZ - harmonogram'!U10","v":0},{"$f":"'SHZ - harmonogram'!V10","v":0},{"$f":"'SHZ - harmonogram'!W10","v":0},{"$f":"'SHZ - harmonogram'!X10","v":0},{"$f":"'SHZ - harmonogram'!Y10","v":0},{"$f":"'SHZ - harmonogram'!Z10","v":0},{"$f":"'SHZ - harmonogram'!AA10","v":0},{"$f":"'SHZ - harmonogram'!AB10","v":0},{"$f":"'SHZ - harmonogram'!AC10","v":0},{"$f":"'SHZ - harmonogram'!AD10","v":0},{"$f":"'SHZ - harmonogram'!AE10","v":0},{"$f":"'SHZ - harmonogram'!AF10","v":0},{"$f":"'SHZ - harmonogram'!AG10","v":0},{"$f":"'SHZ - harmonogram'!AH10","v":0},{"$f":"'SHZ - harmonogram'!AI10","v":0},{"$f":"'SHZ - harmonogram'!AJ10","v":0},{"$f":"'SHZ - harmonogram'!AK10","v":0},{"$f":"'SHZ - harmonogram'!AL10","v":0},{"$f":"'SHZ - harmonogram'!AM10","v":0},{"$f":"'SHZ - harmonogram'!AN10","v":0},{"$f":"'SHZ - harmonogram'!AO10","v":0},{"$f":"'SHZ - harmonogram'!AP10","v":0},{"$f":"'SHZ - harmonogram'!AQ10","v":0},{"$f":"'SHZ - harmonogram'!AR10","v":0},{"$f":"'SHZ - harmonogram'!AS10","v":0},{"$f":"'SHZ - harmonogram'!AT10","v":0},{"$f":"'SHZ - harmonogram'!AU10","v":0},{"$f":"'SHZ - harmonogram'!AV10","v":0},{"$f":"'SHZ - harmonogram'!AW10","v":0}]
["Odsouhlasená prováděcí dokumentace","SHZ",{"$f":"'SHZ - harmonogram'!I12","v":0},{"$f":"'SHZ - harmonogram'!J12","v":0},{"$f":"'SHZ - harmonogram'!K12","v":0},{"$f":"'SHZ - harmonogram'!L12","v":0},{"$f":"'SHZ - harmonogram'!M12","v":0},{"$f":"'SHZ - harmonogram'!N12","v":0},{"$f":"'SHZ - harmonogram'!O12","v":0},{"$f":"'SHZ - harmonogram'!P12","v":0},{"$f":"'SHZ - harmonogram'!Q12","v":0},{"$f":"'SHZ - harmonogram'!R12","v":0},{"$f":"'SHZ - harmonogram'!S12","v":0},{"$f":"'SHZ - harmonogram'!T12","v":0},{"$f":"'SHZ - harmonogram'!U12","v":0},{"$f":"'SHZ - harmonogram'!V12","v":0},{"$f":"'SHZ - harmonogram'!W12","v":0},{"$f":"'SHZ - harmonogram'!X12","v":0},{"$f":"'SHZ - harmonogram'!Y12","v":0},{"$f":"'SHZ - harmonogram'!Z12","v":0},{"$f":"'SHZ - harmonogram'!AA12","v":0},{"$f":"'SHZ - harmonogram'!AB12","v":0},{"$f":"'SHZ - harmonogram'!AC12","v":0},{"$f":"'SHZ - harmonogram'!AD12","v":0},{"$f":"'SHZ - harmonogram'!AE12","v":0},{"$f":"'SHZ - harmonogram'!AF12","v":0},{"$f":"'SHZ - harmonogram'!AG12","v":0},{"$f":"'SHZ - harmonogram'!AH12","v":0},{"$f":"'SHZ - harmonogram'!AI12","v":0},{"$f":"'SHZ - harmonogram'!AJ12","v":0},{"$f":"'SHZ - harmonogram'!AK12","v":0},{"$f":"'SHZ - harmonogram'!AL12","v":0},{"$f":"'SHZ - harmonogram'!AM12","v":0},{"$f":"'SHZ - harmonogram'!AN12","v":0},{"$f":"'SHZ - harmonogram'!AO12","v":0},{"$f":"'SHZ - harmonogram'!AP12","v":0},{"$f":"'SHZ - harmonogram'!AQ12","v":0},{"$f":"'SHZ - harmonogram'!AR12","v":0},{"$f":"'SHZ - harmonogram'!AS12","v":0},{"$f":"'SHZ - harmonogram'!AT12","v":0},{"$f":"'SHZ - harmonogram'!AU12","v":0},{"$f":"'SHZ - harmonogram'!AV12","v":0},{"$f":"'SHZ - harmonogram'!AW12","v":0}]
["Předání a převzetí staveniště","SHZ",{"$f":"'SHZ - harmonogram'!I14","v":0},{"$f":"'SHZ - harmonogram'!J14","v":0},{"$f":"'SHZ - harmonogram'!K14","v":0},{"$f":"'SHZ - harmonogram'!L14","v":0},{"$f":"'SHZ - harmonogram'!M14","v":0},{"$f":"'SHZ - harmonogram'!N14","v":0},{"$f":"'SHZ - harmonogram'!O14","v":0},{"$f":"'SHZ - harmonogram'!P14","v":0},{"$f":"'SHZ - harmonogram'!Q14","v":0},{"$f":"'SHZ - harmonogram'!R14","v":0},{"$f":"'SHZ - harmonogram'!S14","v":0},{"$f":"'SHZ - harmonogram'!T14","v":0},{"$f":"'SHZ - harmonogram'!U14","v":0},{"$f":"'SHZ - harmonogram'!V14","v":0},{"$f":"'SHZ - harmonogram'!W14","v":0},{"$f":"'SHZ - harmonogram'!X14","v":0},{"$f":"'SHZ - harmonogram'!Y14","v":0},{"$f":"'SHZ - harmonogram'!Z14","v":0},{"$f":"'SHZ - harmonogram'!AA14","v":0},{"$f":"'SHZ - harmonogram'!AB14","v":0},{"$f":"'SHZ - harmonogram'!AC14","v":0},{"$f":"'SHZ - harmonogram'!AD14","v":0},{"$f":"'SHZ - harmonogram'!AE14","v":0},{"$f":"'SHZ - harmonogram'!AF14","v":0},{"$f":"'SHZ - harmonogram'!AG14","v":0},{"$f":"'SHZ - harmonogram'!AH14","v":0},{"$f":"'SHZ - harmonogram'!AI14","v":0},{"$f":"'SHZ - harmonogram'!AJ14","v":0},{"$f":"'SHZ - harmonogram'!AK14","v":0},{"$f":"'SHZ - harmonogram'!AL14","v":0},{"$f":"'SHZ - harmonogram'!AM14","v":0},{"$f":"'SHZ - harmonogram'!AN14","v":0},{"$f":"'SHZ - harmonogram'!AO14","v":0},{"$f":"'SHZ - harmonogram'!AP14","v":0},{"$f":"'SHZ - harmonogram'!AQ14","v":0},{"$f":"'SHZ - harmonogram'!AR14","v":0},{"$f":"'SHZ - harmonogram'!AS14","v":0},{"$f":"'SHZ - harmonogram'!AT14","v":0},{"$f":"'SHZ - harmonogram'!AU14","v":0},{"$f":"'SHZ - harmonogram'!AV14","v":0},{"$f":"'SHZ - harmonogram'!AW14","v":0}]
["Ventilační stanice","SHZ",{"$f":"'SHZ - harmonogram'!I15","v":0},{"$f":"'SHZ - harmonogram'!J15","v":0},{"$f":"'SHZ - harmonogram'!K15","v":0},{"$f":"'SHZ - harmonogram'!L15","v":0},{"$f":"'SHZ - harmonogram'!M15","v":0},{"$f":"'SHZ - harmonogram'!N15","v":0},{"$f":"'SHZ - harmonogram'!O15","v":0},{"$f":"'SHZ - harmonogram'!P15","v":0},{"$f":"'SHZ - harmonogram'!Q15","v":0},{"$f":"'SHZ - harmonogram'!R15","v":0},{"$f":"'SHZ - harmonogram'!S15","v":0},{"$f":"'SHZ - harmonogram'!T15","v":0},{"$f":"'SHZ - harmonogram'!U15","v":0},{"$f":"'SHZ - harmonogram'!V15","v":0},{"$f":"'SHZ - harmonogram'!W15","v":0},{"$f":"'SHZ - harmonogram'!X15","v":0},{"$f":"'SHZ - harmonogram'!Y15","v":0},{"$f":"'SHZ - harmonogram'!Z15","v":0},{"$f":"'SHZ - harmonogram'!AA15","v":0},{"$f":"'SHZ - harmonogram'!AB15","v":0},{"$f":"'SHZ - harmonogram'!AC15","v":0},{"$f":"'SHZ - harmonogram'!AD15","v":0},{"$f":"'SHZ - harmonogram'!AE15","v":0},{"$f":"'SHZ - harmonogram'!AF15","v":0},{"$f":"'SHZ - harmonogram'!AG15","v":0},{"$f":"'SHZ - harmonogram'!AH15","v":0},{"$f":"'SHZ - harmonogram'!AI15","v":0},{"$f":"'SHZ - harmonogram'!AJ15","v":0},{"$f":"'SHZ - harmonogram'!AK15","v":0},{"$f":"'SHZ - harmonogram'!AL15","v":0},{"$f":"'SHZ - harmonogram'!AM15","v":0},{"$f":"'SHZ - harmonogram'!AN15","v":0},{"$f":"'SHZ - harmonogram'!AO15","v":0},{"$f":"'SHZ - harmonogram'!AP15","v":0},{"$f":"'SHZ - harmonogram'!AQ15","v":0},{"$f":"'SHZ - harmonogram'!AR15","v":0},{"$f":"'SHZ - harmonogram'!AS15","v":0},{"$f":"'SHZ - harmonogram'!AT15","v":0},{"$f":"'SHZ - harmonogram'!AU15","v":0},{"$f":"'SHZ - harmonogram'!AV15","v":0},{"$f":"'SHZ - harmonogram'!AW15","v":0}]
["Potrubní část, Kabeláž, Nosný kab. systém, Technologické OK, přístupy lávky, schodiště - ET. I.","SHZ",{"$f":"'SHZ - harmonogram'!I17","v":0},{"$f":"'SHZ - harmonogram'!J17","v":0},{"$f":"'SHZ - harmonogram'!K17","v":0},{"$f":"'SHZ - harmonogram'!L17","v":0},{"$f":"'SHZ - harmonogram'!M17","v":0},{"$f":"'SHZ - harmonogram'!N17","v":0},{"$f":"'SHZ - harmonogram'!O17","v":0},{"$f":"'SHZ - harmonogram'!P17","v":0},{"$f":"'SHZ - harmonogram'!Q17","v":0},{"$f":"'SHZ - harmonogram'!R17","v":0},{"$f":"'SHZ - harmonogram'!S17","v":0},{"$f":"'SHZ - harmonogram'!T17","v":0},{"$f":"'SHZ - harmonogram'!U17","v":0},{"$f":"'SHZ - harmonogram'!V17","v":0},{"$f":"'SHZ - harmonogram'!W17","v":0},{"$f":"'SHZ - harmonogram'!X17","v":0},{"$f":"'SHZ - harmonogram'!Y17","v":0},{"$f":"'SHZ - harmonogram'!Z17","v":0},{"$f":"'SHZ - harmonogram'!AA17","v":0},{"$f":"'SHZ - harmonogram'!AB17","v":0},{"$f":"'SHZ - harmonogram'!AC17","v":0},{"$f":"'SHZ - harmonogram'!AD17","v":0},{"$f":"'SHZ - harmonogram'!AE17","v":0},{"$f":"'SHZ - harmonogram'!AF17","v":0},{"$f":"'SHZ - harmonogram'!AG17","v":0},{"$f":"'SHZ - harmonogram'!AH17","v":0},{"$f":"'SHZ - harmonogram'!AI17","v":0},{"$f":"'SHZ - harmonogram'!AJ17","v":0},{"$f":"'SHZ - harmonogram'!AK17","v":0},{"$f":"'SHZ - harmonogram'!AL17","v":0},{"$f":"'SHZ - harmonogram'!AM17","v":0},{"$f":"'SHZ - harmonogram'!AN17","v":0},{"$f":"'SHZ - harmonogram'!AO17","v":0},{"$f":"'SHZ - harmonogram'!AP17","v":0},{"$f":"'SHZ - harmonogram'!AQ17","v":0},{"$f":"'SHZ - harmonogram'!AR17","v":0},{"$f":"'SHZ - harmonogram'!AS17","v":0},{"$f":"'SHZ - harmonogram'!AT17","v":0},{"$f":"'SHZ - harmonogram'!AU17","v":0},{"$f":"'SHZ - harmonogram'!AV17","v":0},{"$f":"'SHZ - harmonogram'!AW17","v":0}]
["Dieselagregát","SHZ",{"$f":"'SHZ - harmonogram'!I19","v":0},{"$f":"'SHZ - harmonogram'!J19","v":0},{"$f":"'SHZ - harmonogram'!K19","v":0},{"$f":"'SHZ - harmonogram'!L19","v":0},{"$f":"'SHZ - harmonogram'!M19","v":0},{"$f":"'SHZ - harmonogram'!N19","v":0},{"$f":"'SHZ - harmonogram'!O19","v":0},{"$f":"'SHZ - harmonogram'!P19","v":0},{"$f":"'SHZ - harmonogram'!Q19","v":0},{"$f":"'SHZ - harmonogram'!R19","v":0},{"$f":"'SHZ - harmonogram'!S19","v":0},{"$f":"'SHZ - harmonogram'!T19","v":0},{"$f":"'SHZ - harmonogram'!U19","v":0},{"$f":"'SHZ - harmonogram'!V19","v":0},{"$f":"'SHZ - harmonogram'!W19","v":0},{"$f":"'SHZ - harmonogram'!X19","v":0},{"$f":"'SHZ - harmonogram'!Y19","v":0},{"$f":"'SHZ - harmonogram'!Z19","v":0},{"$f":"'SHZ - harmonogram'!AA19","v":0},{"$f":"'SHZ - harmonogram'!AB19","v":0},{"$f":"'SHZ - harmonogram'!AC19","v":0},{"$f":"'SHZ - harmonogram'!AD19","v":0},{"$f":"'SHZ - harmonogram'!AE19","v":0},{"$f":"'SHZ - harmonogram'!AF19","v":0},{"$f":"'SHZ - harmonogram'!AG19","v":0},{"$f":"'SHZ - harmonogram'!AH19","v":0},{"$f":"'SHZ - harmonogram'!AI19","v":0},{"$f":"'SHZ - harmonogram'!AJ19","v":0},{"$f":"'SHZ - harmonogram'!AK19","v":0},{"$f":"'SHZ - harmonogram'!AL19","v":0},{"$f":"'SHZ - harmonogram'!AM19","v":0},{"$f":"'SHZ - harmonogram'!AN19","v":0},{"$f":"'SHZ - harmonogram'!AO19","v":0},{"$f":"'SHZ - harmonogram'!AP19","v":0},{"$f":"'SHZ - harmonogram'!AQ19","v":0},{"$f":"'SHZ - harmonogram'!AR19","v":0},{"$f":"'SHZ - harmonogram'!AS19","v":0},{"$f":"'SHZ - harmonogram'!AT19","v":0},{"$f":"'SHZ - harmonogram'!AU19","v":0},{"$f":"'SHZ - harmonogram'!AV19","v":0},{"$f":"'SHZ - harmonogram'!AW19","v":0}]
["Nádrže","SHZ",{"$f":"'SHZ - harmonogram'!I21","v":0},{"$f":"'SHZ - harmonogram'!J21","v":0},{"$f":"'SHZ - harmonogram'!K21","v":0},{"$f":"'SHZ - harmonogram'!L21","v":0},{"$f":"'SHZ - harmonogram'!M21","v":0},{"$f":"'SHZ - harmonogram'!N21","v":0},{"$f":"'SHZ - harmonogram'!O21","v":0},{"$f":"'SHZ - harmonogram'!P21","v":0},{"$f":"'SHZ - harmonogram'!Q21","v":0},{"$f":"'SHZ - harmonogram'!R21","v":0},{"$f":"'SHZ - harmonogram'!S21","v":0},{"$f":"'SHZ - harmonogram'!T21","v":0},{"$f":"'SHZ - harmonogram'!U21","v":0},{"$f":"'SHZ - harmonogram'!V21","v":0},{"$f":"'SHZ - harmonogram'!W21","v":0},{"$f":"'SHZ - harmonogram'!X21","v":0},{"$f":"'SHZ - harmonogram'!Y21","v":0},{"$f":"'SHZ - harmonogram'!Z21","v":0},{"$f":"'SHZ - harmonogram'!AA21","v":0},{"$f":"'SHZ - harmonogram'!AB21","v":0},{"$f":"'SHZ - harmonogram'!AC21","v":0},{"$f":"'SHZ - harmonogram'!AD21","v":0},{"$f":"'SHZ - harmonogram'!AE21","v":0},{"$f":"'SHZ - harmonogram'!AF21","v":0},{"$f":"'SHZ - harmonogram'!AG21","v":0},{"$f":"'SHZ - harmonogram'!AH21","v":0},{"$f":"'SHZ - harmonogram'!AI21","v":0},{"$f":"'SHZ - harmonogram'!AJ21","v":0},{"$f":"'SHZ - harmonogram'!AK21","v":0},{"$f":"'SHZ - harmonogram'!AL21","v":0},{"$f":"'SHZ - harmonogram'!AM21","v":0},{"$f":"'SHZ - harmonogram'!AN21","v":0},{"$f":"'SHZ - harmonogram'!AO21","v":0},{"$f":"'SHZ - harmonogram'!AP21","v":0},{"$f":"'SHZ - harmonogram'!AQ21","v":0},{"$f":"'SHZ - harmonogram'!AR21","v":0},{"$f":"'SHZ - harmonogram'!AS21","v":0},{"$f":"'SHZ - harmonogram'!AT21","v":0},{"$f":"'SHZ - harmonogram'!AU21","v":0},{"$f":"'SHZ - harmonogram'!AV21","v":0},{"$f":"'SHZ - harmonogram'!AW21","v":0}]
["Trafostanice","SHZ",{"$f":"'SHZ - harmonogram'!I23","v":0},{"$f":"'SHZ - harmonogram'!J23","v":0},{"$f":"'SHZ - harmonogram'!K23","v":0},{"$f":"'SHZ - harmonogram'!L23","v":0},{"$f":"'SHZ - harmonogram'!M23","v":0},{"$f":"'SHZ - harmonogram'!N23","v":0},{"$f":"'SHZ - harmonogram'!O23","v":0},{"$f":"'SHZ - harmonogram'!P23","v":0},{"$f":"'SHZ - harmonogram'!Q23","v":0},{"$f":"'SHZ - harmonogram'!R23","v":0},{"$f":"'SHZ - harmonogram'!S23","v":0},{"$f":"'SHZ - harmonogram'!T23","v":0},{"$f":"'SHZ - harmonogram'!U23","v":0},{"$f":"'SHZ - harmonogram'!V23","v":0},{"$f":"'SHZ - harmonogram'!W23","v":0},{"$f":"'SHZ - harmonogram'!X23","v":0},{"$f":"'SHZ - harmonogram'!Y23","v":0},{"$f":"'SHZ - harmonogram'!Z23","v":0},{"$f":"'SHZ - harmonogram'!AA23","v":0},{"$f":"'SHZ - harmonogram'!AB23","v":0},{"$f":"'SHZ - harmonogram'!AC23","v":0},{"$f":"'SHZ - harmonogram'!AD23","v":0},{"$f":"'SHZ - harmonogram'!AE23","v":0},{"$f":"'SHZ - harmonogram'!AF23","v":0},{"$f":"'SHZ - harmonogram'!AG23","v":0},{"$f":"'SHZ - harmonogram'!AH23","v":0},{"$f":"'SHZ - harmonogram'!AI23","v":0},{"$f":"'SHZ - harmonogram'!AJ23","v":0},{"$f":"'SHZ - harmonogram'!AK23","v":0},{"$f":"'SHZ - harmonogram'!AL23","v":0},{"$f":"'SHZ - harmonogram'!AM23","v":0},{"$f":"'SHZ - harmonogram'!AN23","v":0},{"$f":"'SHZ - harmonogram'!AO23","v":0},{"$f":"'SHZ - harmonogram'!AP23","v":0},{"$f":"'SHZ - harmonogram'!AQ23","v":0},{"$f":"'SHZ - harmonogram'!AR23","v":0},{"$f":"'SHZ - harmonogram'!AS23","v":0},{"$f":"'SHZ - harmonogram'!AT23","v":0},{"$f":"'SHZ - harmonogram'!AU23","v":0},{"$f":"'SHZ - harmonogram'!AV23","v":0},{"$f":"'SHZ - harmonogram'!AW23","v":0}]
["Rozvaděče NN","SHZ",{"$f":"'SHZ - harmonogram'!I25","v":0},{"$f":"'SHZ - harmonogram'!J25","v":0},{"$f":"'SHZ - harmonogram'!K25","v":0},{"$f":"'SHZ - harmonogram'!L25","v":0},{"$f":"'SHZ - harmonogram'!M25","v":0},{"$f":"'SHZ - harmonogram'!N25","v":0},{"$f":"'SHZ - harmonogram'!O25","v":0},{"$f":"'SHZ - harmonogram'!P25","v":0},{"$f":"'SHZ - harmonogram'!Q25","v":0},{"$f":"'SHZ - harmonogram'!R25","v":0},{"$f":"'SHZ - harmonogram'!S25","v":0},{"$f":"'SHZ - harmonogram'!T25","v":0},{"$f":"'SHZ - harmonogram'!U25","v":0},{"$f":"'SHZ - harmonogram'!V25","v":0},{"$f":"'SHZ - harmonogram'!W25","v":0},{"$f":"'SHZ - harmonogram'!X25","v":0},{"$f":"'SHZ - harmonogram'!Y25","v":0},{"$f":"'SHZ - harmonogram'!Z25","v":0},{"$f":"'SHZ - harmonogram'!AA25","v":0},{"$f":"'SHZ - harmonogram'!AB25","v":0},{"$f":"'SHZ - harmonogram'!AC25","v":0},{"$f":"'SHZ - harmonogram'!AD25","v":0},{"$f":"'SHZ - harmonogram'!AE25","v":0},{"$f":"'SHZ - harmonogram'!AF25","v":0},{"$f":"'SHZ - harmonogram'!AG25","v":0},{"$f":"'SHZ - harmonogram'!AH25","v":0},{"$f":"'SHZ - harmonogram'!AI25","v":0},{"$f":"'SHZ - harmonogram'!AJ25","v":0},{"$f":"'SHZ - harmonogram'!AK25","v":0},{"$f":"'SHZ - harmonogram'!AL25","v":0},{"$f":"'SHZ - harmonogram'!AM25","v":0},{"$f":"'SHZ - harmonogram'!AN25","v":0},{"$f":"'SHZ - harmonogram'!AO25","v":0},{"$f":"'SHZ - harmonogram'!AP25","v":0},{"$f":"'SHZ - harmonogram'!AQ25","v":0},{"$f":"'SHZ - harmonogram'!AR25","v":0},{"$f":"'SHZ - harmonogram'!AS25","v":0},{"$f":"'SHZ - harmonogram'!AT25","v":0},{"$f":"'SHZ - harmonogram'!AU25","v":0},{"$f":"'SHZ - harmonogram'!AV25","v":0},{"$f":"'SHZ - harmonogram'!AW25","v":0}]
["Rozvaděče VN","SHZ",{"$f":"'SHZ - harmonogram'!I27","v":0},{"$f":"'SHZ - harmonogram'!J27","v":0},{"$f":"'SHZ - harmonogram'!K27","v":0},{"$f":"'SHZ - harmonogram'!L27","v":0},{"$f":"'SHZ - harmonogram'!M27","v":0},{"$f":"'SHZ - harmonogram'!N27","v":0},{"$f":"'SHZ - harmonogram'!O27","v":0},{"$f":"'SHZ - harmonogram'!P27","v":0},{"$f":"'SHZ - harmonogram'!Q27","v":0},{"$f":"'SHZ - harmonogram'!R27","v":0},{"$f":"'SHZ - harmonogram'!S27","v":0},{"$f":"'SHZ - harmonogram'!T27","v":0},{"$f":"'SHZ - harmonogram'!U27","v":0},{"$f":"'SHZ - harmonogram'!V27","v":0},{"$f":"'SHZ - harmonogram'!W27","v":0},{"$f":"'SHZ - harmonogram'!X27","v":0},{"$f":"'SHZ - harmonogram'!Y27","v":0},{"$f":"'SHZ - harmonogram'!Z27","v":0},{"$f":"'SHZ - harmonogram'!AA27","v":0},{"$f":"'SHZ - harmonogram'!AB27","v":0},{"$f":"'SHZ - harmonogram'!AC27","v":0},{"$f":"'SHZ - harmonogram'!AD27","v":0},{"$f":"'SHZ - harmonogram'!AE27","v":0},{"$f":"'SHZ - harmonogram'!AF27","v":0},{"$f":"'SHZ - harmonogram'!AG27","v":0},{"$f":"'SHZ - harmonogram'!AH27","v":0},{"$f":"'SHZ - harmonogram'!AI27","v":0},{"$f":"'SHZ - harmonogram'!AJ27","v":0},{"$f":"'SHZ - harmonogram'!AK27","v":0},{"$f":"'SHZ - harmonogram'!AL27","v":0},{"$f":"'SHZ - harmonogram'!AM27","v":0},{"$f":"'SHZ - harmonogram'!AN27","v":0},{"$f":"'SHZ - harmonogram'!AO27","v":0},{"$f":"'SHZ - harmonogram'!AP27","v":0},{"$f":"'SHZ - harmonogram'!AQ27","v":0},{"$f":"'SHZ - harmonogram'!AR27","v":0},{"$f":"'SHZ - harmonogram'!AS27","v":0},{"$f":"'SHZ - harmonogram'!AT27","v":0},{"$f":"'SHZ - harmonogram'!AU27","v":0},{"$f":"'SHZ - harmonogram'!AV27","v":0},{"$f":"'SHZ - harmonogram'!AW27","v":0}]
["Frekvenční měniče NN","SHZ",{"$f":"'SHZ - harmonogram'!I29","v":0},{"$f":"'SHZ - harmonogram'!J29","v":0},{"$f":"'SHZ - harmonogram'!K29","v":0},{"$f":"'SHZ - harmonogram'!L29","v":0},{"$f":"'SHZ - harmonogram'!M29","v":0},{"$f":"'SHZ - harmonogram'!N29","v":0},{"$f":"'SHZ - harmonogram'!O29","v":0},{"$f":"'SHZ - harmonogram'!P29","v":0},{"$f":"'SHZ - harmonogram'!Q29","v":0},{"$f":"'SHZ - harmonogram'!R29","v":0},{"$f":"'SHZ - harmonogram'!S29","v":0},{"$f":"'SHZ - harmonogram'!T29","v":0},{"$f":"'SHZ - harmonogram'!U29","v":0},{"$f":"'SHZ - harmonogram'!V29","v":0},{"$f":"'SHZ - harmonogram'!W29","v":0},{"$f":"'SHZ - harmonogram'!X29","v":0},{"$f":"'SHZ - harmonogram'!Y29","v":0},{"$f":"'SHZ - harmonogram'!Z29","v":0},{"$f":"'SHZ - harmonogram'!AA29","v":0},{"$f":"'SHZ - harmonogram'!AB29","v":0},{"$f":"'SHZ - harmonogram'!AC29","v":0},{"$f":"'SHZ - harmonogram'!AD29","v":0},{"$f":"'SHZ - harmonogram'!AE29","v":0},{"$f":"'SHZ - harmonogram'!AF29","v":0},{"$f":"'SHZ - harmonogram'!AG29","v":0},{"$f":"'SHZ - harmonogram'!AH29","v":0},{"$f":"'SHZ - harmonogram'!AI29","v":0},{"$f":"'SHZ - harmonogram'!AJ29","v":0},{"$f":"'SHZ - harmonogram'!AK29","v":0},{"$f":"'SHZ - harmonogram'!AL29","v":0},{"$f":"'SHZ - harmonogram'!AM29","v":0},{"$f":"'SHZ - harmonogram'!AN29","v":0},{"$f":"'SHZ - harmonogram'!AO29","v":0},{"$f":"'SHZ - harmonogram'!AP29","v":0},{"$f":"'SHZ - harmonogram'!AQ29","v":0},{"$f":"'SHZ - harmonogram'!AR29","v":0},{"$f":"'SHZ - harmonogram'!AS29","v":0},{"$f":"'SHZ - harmonogram'!AT29","v":0},{"$f":"'SHZ - harmonogram'!AU29","v":0},{"$f":"'SHZ - harmonogram'!AV29","v":0},{"$f":"'SHZ - harmonogram'!AW29","v":0}]
["Frekvenční měniče VN","SHZ",{"$f":"'SHZ - harmonogram'!I31","v":0},{"$f":"'SHZ - harmonogram'!J31","v":0},{"$f":"'SHZ - harmonogram'!K31","v":0},{"$f":"'SHZ - harmonogram'!L31","v":0},{"$f":"'SHZ - harmonogram'!M31","v":0},{"$f":"'SHZ - harmonogram'!N31","v":0},{"$f":"'SHZ - harmonogram'!O31","v":0},{"$f":"'SHZ - harmonogram'!P31","v":0},{"$f":"'SHZ - harmonogram'!Q31","v":0},{"$f":"'SHZ - harmonogram'!R31","v":0},{"$f":"'SHZ - harmonogram'!S31","v":0},{"$f":"'SHZ - harmonogram'!T31","v":0},{"$f":"'SHZ - harmonogram'!U31","v":0},{"$f":"'SHZ - harmonogram'!V31","v":0},{"$f":"'SHZ - harmonogram'!W31","v":0},{"$f":"'SHZ - harmonogram'!X31","v":0},{"$f":"'SHZ - harmonogram'!Y31","v":0},{"$f":"'SHZ - harmonogram'!Z31","v":0},{"$f":"'SHZ - harmonogram'!AA31","v":0},{"$f":"'SHZ - harmonogram'!AB31","v":0},{"$f":"'SHZ - harmonogram'!AC31","v":0},{"$f":"'SHZ - harmonogram'!AD31","v":0},{"$f":"'SHZ - harmonogram'!AE31","v":0},{"$f":"'SHZ - harmonogram'!AF31","v":0},{"$f":"'SHZ - harmonogram'!AG31","v":0},{"$f":"'SHZ - harmonogram'!AH31","v":0},{"$f":"'SHZ - harmonogram'!AI31","v":0},{"$f":"'SHZ - harmonogram'!AJ31","v":0},{"$f":"'SHZ - harmonogram'!AK31","v":0},{"$f":"'SHZ - harmonogram'!AL31","v":0},{"$f":"'SHZ - harmonogram'!AM31","v":0},{"$f":"'SHZ - harmonogram'!AN31","v":0},{"$f":"'SHZ - harmonogram'!AO31","v":0},{"$f":"'SHZ - harmonogram'!AP31","v":0},{"$f":"'SHZ - harmonogram'!AQ31","v":0},{"$f":"'SHZ - harmonogram'!AR31","v":0},{"$f":"'SHZ - harmonogram'!AS31","v":0},{"$f":"'SHZ - harmonogram'!AT31","v":0},{"$f":"'SHZ - harmonogram'!AU31","v":0},{"$f":"'SHZ - harmonogram'!AV31","v":0},{"$f":"'SHZ - harmonogram'!AW31","v":0}]
["Zásuvkové skříně","SHZ",{"$f":"'SHZ - harmonogram'!I33","v":0},{"$f":"'SHZ - harmonogram'!J33","v":0},{"$f":"'SHZ - harmonogram'!K33","v":0},{"$f":"'SHZ - harmonogram'!L33","v":0},{"$f":"'SHZ - harmonogram'!M33","v":0},{"$f":"'SHZ - harmonogram'!N33","v":0},{"$f":"'SHZ - harmonogram'!O33","v":0},{"$f":"'SHZ - harmonogram'!P33","v":0},{"$f":"'SHZ - harmonogram'!Q33","v":0},{"$f":"'SHZ - harmonogram'!R33","v":0},{"$f":"'SHZ - harmonogram'!S33","v":0},{"$f":"'SHZ - harmonogram'!T33","v":0},{"$f":"'SHZ - harmonogram'!U33","v":0},{"$f":"'SHZ - harmonogram'!V33","v":0},{"$f":"'SHZ - harmonogram'!W33","v":0},{"$f":"'SHZ - harmonogram'!X33","v":0},{"$f":"'SHZ - harmonogram'!Y33","v":0},{"$f":"'SHZ - harmonogram'!Z33","v":0},{"$f":"'SHZ - harmonogram'!AA33","v":0},{"$f":"'SHZ - harmonogram'!AB33","v":0},{"$f":"'SHZ - harmonogram'!AC33","v":0},{"$f":"'SHZ - harmonogram'!AD33","v":0},{"$f":"'SHZ - harmonogram'!AE33","v":0},{"$f":"'SHZ - harmonogram'!AF33","v":0},{"$f":"'SHZ - harmonogram'!AG33","v":0},{"$f":"'SHZ - harmonogram'!AH33","v":0},{"$f":"'SHZ - harmonogram'!AI33","v":0},{"$f":"'SHZ - harmonogram'!AJ33","v":0},{"$f":"'SHZ - harmonogram'!AK33","v":0},{"$f":"'SHZ - harmonogram'!AL33","v":0},{"$f":"'SHZ - harmonogram'!AM33","v":0},{"$f":"'SHZ - harmonogram'!AN33","v":0},{"$f":"'SHZ - harmonogram'!AO33","v":0},{"$f":"'SHZ - harmonogram'!AP33","v":0},{"$f":"'SHZ - harmonogram'!AQ33","v":0},{"$f":"'SHZ - harmonogram'!AR33","v":0},{"$f":"'SHZ - harmonogram'!AS33","v":0},{"$f":"'SHZ - harmonogram'!AT33","v":0},{"$f":"'SHZ - harmonogram'!AU33","v":0},{"$f":"'SHZ - harmonogram'!AV33","v":0},{"$f":"'SHZ - harmonogram'!AW33","v":0}]
["Stavební elektroinstalace","SHZ",{"$f":"'SHZ - harmonogram'!I35","v":0},{"$f":"'SHZ - harmonogram'!J35","v":0},{"$f":"'SHZ - harmonogram'!K35","v":0},{"$f":"'SHZ - harmonogram'!L35","v":0},{"$f":"'SHZ - harmonogram'!M35","v":0},{"$f":"'SHZ - harmonogram'!N35","v":0},{"$f":"'SHZ - harmonogram'!O35","v":0},{"$f":"'SHZ - harmonogram'!P35","v":0},{"$f":"'SHZ - harmonogram'!Q35","v":0},{"$f":"'SHZ - harmonogram'!R35","v":0},{"$f":"'SHZ - harmonogram'!S35","v":0},{"$f":"'SHZ - harmonogram'!T35","v":0},{"$f":"'SHZ - harmonogram'!U35","v":0},{"$f":"'SHZ - harmonogram'!V35","v":0},{"$f":"'SHZ - harmonogram'!W35","v":0},{"$f":"'SHZ - harmonogram'!X35","v":0},{"$f":"'SHZ - harmonogram'!Y35","v":0},{"$f":"'SHZ - harmonogram'!Z35","v":0},{"$f":"'SHZ - harmonogram'!AA35","v":0},{"$f":"'SHZ - harmonogram'!AB35","v":0},{"$f":"'SHZ - harmonogram'!AC35","v":0},{"$f":"'SHZ - harmonogram'!AD35","v":0},{"$f":"'SHZ - harmonogram'!AE35","v":0},{"$f":"'SHZ - harmonogram'!AF35","v":0},{"$f":"'SHZ - harmonogram'!AG35","v":0},{"$f":"'SHZ - harmonogram'!AH35","v":0},{"$f":"'SHZ - harmonogram'!AI35","v":0},{"$f":"'SHZ - harmonogram'!AJ35","v":0},{"$f":"'SHZ - harmonogram'!AK35","v":0},{"$f":"'SHZ - harmonogram'!AL35","v":0},{"$f":"'SHZ - harmonogram'!AM35","v":0},{"$f":"'SHZ - harmonogram'!AN35","v":0},{"$f":"'SHZ - harmonogram'!AO35","v":0},{"$f":"'SHZ - harmonogram'!AP35","v":0},{"$f":"'SHZ - harmonogram'!AQ35","v":0},{"$f":"'SHZ - harmonogram'!AR35","v":0},{"$f":"'SHZ - harmonogram'!AS35","v":0},{"$f":"'SHZ - harmonogram'!AT35","v":0},{"$f":"'SHZ - harmonogram'!AU35","v":0},{"$f":"'SHZ - harmonogram'!AV35","v":0},{"$f":"'SHZ - harmonogram'!AW35","v":0}]
["Podlahy","SHZ",{"$f":"'SHZ - harmonogram'!I37","v":0},{"$f":"'SHZ - harmonogram'!J37","v":0},{"$f":"'SHZ - harmonogram'!K37","v":0},{"$f":"'SHZ - harmonogram'!L37","v":0},{"$f":"'SHZ - harmonogram'!M37","v":0},{"$f":"'SHZ - harmonogram'!N37","v":0},{"$f":"'SHZ - harmonogram'!O37","v":0},{"$f":"'SHZ - harmonogram'!P37","v":0},{"$f":"'SHZ - harmonogram'!Q37","v":0},{"$f":"'SHZ - harmonogram'!R37","v":0},{"$f":"'SHZ - harmonogram'!S37","v":0},{"$f":"'SHZ - harmonogram'!T37","v":0},{"$f":"'SHZ - harmonogram'!U37","v":0},{"$f":"'SHZ - harmonogram'!V37","v":0},{"$f":"'SHZ - harmonogram'!W37","v":0},{"$f":"'SHZ - harmonogram'!X37","v":0},{"$f":"'SHZ - harmonogram'!Y37","v":0},{"$f":"'SHZ - harmonogram'!Z37","v":0},{"$f":"'SHZ - harmonogram'!AA37","v":0},{"$f":"'SHZ - harmonogram'!AB37","v":0},{"$f":"'SHZ - harmonogram'!AC37","v":0},{"$f":"'SHZ - harmonogram'!AD37","v":0},{"$f":"'SHZ - harmonogram'!AE37","v":0},{"$f":"'SHZ - harmonogram'!AF37","v":0},{"$f":"'SHZ - harmonogram'!AG37","v":0},{"$f":"'SHZ - harmonogram'!AH37","v":0},{"$f":"'SHZ - harmonogram'!AI37","v":0},{"$f":"'SHZ - harmonogram'!AJ37","v":0},{"$f":"'SHZ - harmonogram'!AK37","v":0},{"$f":"'SHZ - harmonogram'!AL37","v":0},{"$f":"'SHZ - harmonogram'!AM37","v":0},{"$f":"'SHZ - harmonogram'!AN37","v":0},{"$f":"'SHZ - harmonogram'!AO37","v":0},{"$f":"'SHZ - harmonogram'!AP37","v":0},{"$f":"'SHZ - harmonogram'!AQ37","v":0},{"$f":"'SHZ - harmonogram'!AR37","v":0},{"$f":"'SHZ - harmonogram'!AS37","v":0},{"$f":"'SHZ - harmonogram'!AT37","v":0},{"$f":"'SHZ - harmonogram'!AU37","v":0},{"$f":"'SHZ - harmonogram'!AV37","v":0},{"$f":"'SHZ - harmonogram'!AW37","v":0}]
["Obvodové stěny","SHZ",{"$f":"'SHZ - harmonogram'!I39","v":0},{"$f":"'SHZ - harmonogram'!J39","v":0},{"$f":"'SHZ - harmonogram'!K39","v":0},{"$f":"'SHZ - harmonogram'!L39","v":0},{"$f":"'SHZ - harmonogram'!M39","v":0},{"$f":"'SHZ - harmonogram'!N39","v":0},{"$f":"'SHZ - harmonogram'!O39","v":0},{"$f":"'SHZ - harmonogram'!P39","v":0},{"$f":"'SHZ - harmonogram'!Q39","v":0},{"$f":"'SHZ - harmonogram'!R39","v":0},{"$f":"'SHZ - harmonogram'!S39","v":0},{"$f":"'SHZ - harmonogram'!T39","v":0},{"$f":"'SHZ - harmonogram'!U39","v":0},{"$f":"'SHZ - harmonogram'!V39","v":0},{"$f":"'SHZ - harmonogram'!W39","v":0},{"$f":"'SHZ - harmonogram'!X39","v":0},{"$f":"'SHZ - harmonogram'!Y39","v":0},{"$f":"'SHZ - harmonogram'!Z39","v":0},{"$f":"'SHZ - harmonogram'!AA39","v":0},{"$f":"'SHZ - harmonogram'!AB39","v":0},{"$f":"'SHZ - harmonogram'!AC39","v":0},{"$f":"'SHZ - harmonogram'!AD39","v":0},{"$f":"'SHZ - harmonogram'!AE39","v":0},{"$f":"'SHZ - harmonogram'!AF39","v":0},{"$f":"'SHZ - harmonogram'!AG39","v":0},{"$f":"'SHZ - harmonogram'!AH39","v":0},{"$f":"'SHZ - harmonogram'!AI39","v":0},{"$f":"'SHZ - harmonogram'!AJ39","v":0},{"$f":"'SHZ - harmonogram'!AK39","v":0},{"$f":"'SHZ - harmonogram'!AL39","v":0},{"$f":"'SHZ - harmonogram'!AM39","v":0},{"$f":"'SHZ - harmonogram'!AN39","v":0},{"$f":"'SHZ - harmonogram'!AO39","v":0},{"$f":"'SHZ - harmonogram'!AP39","v":0},{"$f":"'SHZ - harmonogram'!AQ39","v":0},{"$f":"'SHZ - harmonogram'!AR39","v":0},{"$f":"'SHZ - harmonogram'!AS39","v":0},{"$f":"'SHZ - harmonogram'!AT39","v":0},{"$f":"'SHZ - harmonogram'!AU39","v":0},{"$f":"'SHZ - harmonogram'!AV39","v":0},{"$f":"'SHZ - harmonogram'!AW39","v":0}]
["Svislé dělící a výplňové konstrukce","SHZ",{"$f":"'SHZ - harmonogram'!I41","v":0},{"$f":"'SHZ - harmonogram'!J41","v":0},{"$f":"'SHZ - harmonogram'!K41","v":0},{"$f":"'SHZ - harmonogram'!L41","v":0},{"$f":"'SHZ - harmonogram'!M41","v":0},{"$f":"'SHZ - harmonogram'!N41","v":0},{"$f":"'SHZ - harmonogram'!O41","v":0},{"$f":"'SHZ - harmonogram'!P41","v":0},{"$f":"'SHZ - harmonogram'!Q41","v":0},{"$f":"'SHZ - harmonogram'!R41","v":0},{"$f":"'SHZ - harmonogram'!S41","v":0},{"$f":"'SHZ - harmonogram'!T41","v":0},{"$f":"'SHZ - harmonogram'!U41","v":0},{"$f":"'SHZ - harmonogram'!V41","v":0},{"$f":"'SHZ - harmonogram'!W41","v":0},{"$f":"'SHZ - harmonogram'!X41","v":0},{"$f":"'SHZ - harmonogram'!Y41","v":0},{"$f":"'SHZ - harmonogram'!Z41","v":0},{"$f":"'SHZ - harmonogram'!AA41","v":0},{"$f":"'SHZ - harmonogram'!AB41","v":0},{"$f":"'SHZ - harmonogram'!AC41","v":0},{"$f":"'SHZ - harmonogram'!AD41","v":0},{"$f":"'SHZ - harmonogram'!AE41","v":0},{"$f":"'SHZ - harmonogram'!AF41","v":0},{"$f":"'SHZ - harmonogram'!AG41","v":0},{"$f":"'SHZ - harmonogram'!AH41","v":0},{"$f":"'SHZ - harmonogram'!AI41","v":0},{"$f":"'SHZ - harmonogram'!AJ41","v":0},{"$f":"'SHZ - harmonogram'!AK41","v":0},{"$f":"'SHZ - harmonogram'!AL41","v":0},{"$f":"'SHZ - harmonogram'!AM41","v":0},{"$f":"'SHZ - harmonogram'!AN41","v":0},{"$f":"'SHZ - harmonogram'!AO41","v":0},{"$f":"'SHZ - harmonogram'!AP41","v":0},{"$f":"'SHZ - harmonogram'!AQ41","v":0},{"$f":"'SHZ - harmonogram'!AR41","v":0},{"$f":"'SHZ - harmonogram'!AS41","v":0},{"$f":"'SHZ - harmonogram'!AT41","v":0},{"$f":"'SHZ - harmonogram'!AU41","v":0},{"$f":"'SHZ - harmonogram'!AV41","v":0},{"$f":"'SHZ - harmonogram'!AW41","v":0}]
["Střecha","SHZ",{"$f":"'SHZ - harmonogram'!I43","v":0},{"$f":"'SHZ - harmonogram'!J43","v":0},{"$f":"'SHZ - harmonogram'!K43","v":0},{"$f":"'SHZ - harmonogram'!L43","v":0},{"$f":"'SHZ - harmonogram'!M43","v":0},{"$f":"'SHZ - harmonogram'!N43","v":0},{"$f":"'SHZ - harmonogram'!O43","v":0},{"$f":"'SHZ - harmonogram'!P43","v":0},{"$f":"'SHZ - harmonogram'!Q43","v":0},{"$f":"'SHZ - harmonogram'!R43","v":0},{"$f":"'SHZ - harmonogram'!S43","v":0},{"$f":"'SHZ - harmonogram'!T43","v":0},{"$f":"'SHZ - harmonogram'!U43","v":0},{"$f":"'SHZ - harmonogram'!V43","v":0},{"$f":"'SHZ - harmonogram'!W43","v":0},{"$f":"'SHZ - harmonogram'!X43","v":0},{"$f":"'SHZ - harmonogram'!Y43","v":0},{"$f":"'SHZ - harmonogram'!Z43","v":0},{"$f":"'SHZ - harmonogram'!AA43","v":0},{"$f":"'SHZ - harmonogram'!AB43","v":0},{"$f":"'SHZ - harmonogram'!AC43","v":0},{"$f":"'SHZ - harmonogram'!AD43","v":0},{"$f":"'SHZ - harmonogram'!AE43","v":0},{"$f":"'SHZ - harmonogram'!AF43","v":0},{"$f":"'SHZ - harmonogram'!AG43","v":0},{"$f":"'SHZ - harmonogram'!AH43","v":0},{"$f":"'SHZ - harmonogram'!AI43","v":0},{"$f":"'SHZ - harmonogram'!AJ43","v":0},{"$f":"'SHZ - harmonogram'!AK43","v":0},{"$f":"'SHZ - harmonogram'!AL43","v":0},{"$f":"'SHZ - harmonogram'!AM43","v":0},{"$f":"'SHZ - harmonogram'!AN43","v":0},{"$f":"'SHZ - harmonogram'!AO43","v":0},{"$f":"'SHZ - harmonogram'!AP43","v":0},{"$f":"'SHZ - harmonogram'!AQ43","v":0},{"$f":"'SHZ - harmonogram'!AR43","v":0},{"$f":"'SHZ - harmonogram'!AS43","v":0},{"$f":"'SHZ - harmonogram'!AT43","v":0},{"$f":"'SHZ - harmonogram'!AU43","v":0},{"$f":"'SHZ - harmonogram'!AV43","v":0},{"$f":"'SHZ - harmonogram'!AW43","v":0}]
["ZTI","SHZ",{"$f":"'SHZ - harmonogram'!I45","v":0},{"$f":"'SHZ - harmonogram'!J45","v":0},{"$f":"'SHZ - harmonogram'!K45","v":0},{"$f":"'SHZ - harmonogram'!L45","v":0},{"$f":"'SHZ - harmonogram'!M45","v":0},{"$f":"'SHZ - harmonogram'!N45","v":0},{"$f":"'SHZ - harmonogram'!O45","v":0},{"$f":"'SHZ - harmonogram'!P45","v":0},{"$f":"'SHZ - harmonogram'!Q45","v":0},{"$f":"'SHZ - harmonogram'!R45","v":0},{"$f":"'SHZ - harmonogram'!S45","v":0},{"$f":"'SHZ - harmonogram'!T45","v":0},{"$f":"'SHZ - harmonogram'!U45","v":0},{"$f":"'SHZ - harmonogram'!V45","v":0},{"$f":"'SHZ - harmonogram'!W45","v":0},{"$f":"'SHZ - harmonogram'!X45","v":0},{"$f":"'SHZ - harmonogram'!Y45","v":0},{"$f":"'SHZ - harmonogram'!Z45","v":0},{"$f":"'SHZ - harmonogram'!AA45","v":0},{"$f":"'SHZ - harmonogram'!AB45","v":0},{"$f":"'SHZ - harmonogram'!AC45","v":0},{"$f":"'SHZ - harmonogram'!AD45","v":0},{"$f":"'SHZ - harmonogram'!AE45","v":0},{"$f":"'SHZ - harmonogram'!AF45","v":0},{"$f":"'SHZ - harmonogram'!AG45","v":0},{"$f":"'SHZ - harmonogram'!AH45","v":0},{"$f":"'SHZ - harmonogram'!AI45","v":0},{"$f":"'SHZ - harmonogram'!AJ45","v":0},{"$f":"'SHZ - harmonogram'!AK45","v":0},{"$f":"'SHZ - harmonogram'!AL45","v":0},{"$f":"'SHZ - harmonogram'!AM45","v":0},{"$f":"'SHZ - harmonogram'!AN45","v":0},{"$f":"'SHZ - harmonogram'!AO45","v":0},{"$f":"'SHZ - harmonogram'!AP45","v":0},{"$f":"'SHZ - harmonogram'!AQ45","v":0},{"$f":"'SHZ - harmonogram'!AR45","v":0},{"$f":"'SHZ - harmonogram'!AS45","v":0},{"$f":"'SHZ - harmonogram'!AT45","v":0},{"$f":"'SHZ - harmonogram'!AU45","v":0},{"$f":"'SHZ - harmonogram'!AV45","v":0},{"$f":"'SHZ - harmonogram'!AW45","v":0}]
["Vzduchotechnika","SHZ",{"$f":"'SHZ - harmonogram'!I47","v":0},{"$f":"'SHZ - harmonogram'!J47","v":0},{"$f":"'SHZ - harmonogram'!K47","v":0},{"$f":"'SHZ - harmonogram'!L47","v":0},{"$f":"'SHZ - harmonogram'!M47","v":0},{"$f":"'SHZ - harmonogram'!N47","v":0},{"$f":"'SHZ - harmonogram'!O47","v":0},{"$f":"'SHZ - harmonogram'!P47","v":0},{"$f":"'SHZ - harmonogram'!Q47","v":0},{"$f":"'SHZ - harmonogram'!R47","v":0},{"$f":"'SHZ - harmonogram'!S47","v":0},{"$f":"'SHZ - harmonogram'!T47","v":0},{"$f":"'SHZ - harmonogram'!U47","v":0},{"$f":"'SHZ - harmonogram'!V47","v":0},{"$f":"'SHZ - harmonogram'!W47","v":0},{"$f":"'SHZ - harmonogram'!X47","v":0},{"$f":"'SHZ - harmonogram'!Y47","v":0},{"$f":"'SHZ - harmonogram'!Z47","v":0},{"$f":"'SHZ - harmonogram'!AA47","v":0},{"$f":"'SHZ - harmonogram'!AB47","v":0},{"$f":"'SHZ - harmonogram'!AC47","v":0},{"$f":"'SHZ - harmonogram'!AD47","v":0},{"$f":"'SHZ - harmonogram'!AE47","v":0},{"$f":"'SHZ - harmonogram'!AF47","v":0},{"$f":"'SHZ - harmonogram'!AG47","v":0},{"$f":"'SHZ - harmonogram'!AH47","v":0},{"$f":"'SHZ - harmonogram'!AI47","v":0},{"$f":"'SHZ - harmonogram'!AJ47","v":0},{"$f":"'SHZ - harmonogram'!AK47","v":0},{"$f":"'SHZ - harmonogram'!AL47","v":0},{"$f":"'SHZ - harmonogram'!AM47","v":0},{"$f":"'SHZ - harmonogram'!AN47","v":0},{"$f":"'SHZ - harmonogram'!AO47","v":0},{"$f":"'SHZ - harmonogram'!AP47","v":0},{"$f":"'SHZ - harmonogram'!AQ47","v":0},{"$f":"'SHZ - harmonogram'!AR47","v":0},{"$f":"'SHZ - harmonogram'!AS47","v":0},{"$f":"'SHZ - harmonogram'!AT47","v":0},{"$f":"'SHZ - harmonogram'!AU47","v":0},{"$f":"'SHZ - harmonogram'!AV47","v":0},{"$f":"'SHZ - harmonogram'!AW47","v":0}]
["Potrubní část, Kabeláž, Nosný kab. systém, Technologické OK, přístupy lávky, schodiště - ET. II.","SHZ",{"$f":"'SHZ - harmonogram'!I49","v":0},{"$f":"'SHZ - harmonogram'!J49","v":0},{"$f":"'SHZ - harmonogram'!K49","v":0},{"$f":"'SHZ - harmonogram'!L49","v":0},{"$f":"'SHZ - harmonogram'!M49","v":0},{"$f":"'SHZ - harmonogram'!N49","v":0},{"$f":"'SHZ - harmonogram'!O49","v":0},{"$f":"'SHZ - harmonogram'!P49","v":0},{"$f":"'SHZ - harmonogram'!Q49","v":0},{"$f":"'SHZ - harmonogram'!R49","v":0},{"$f":"'SHZ - harmonogram'!S49","v":0},{"$f":"'SHZ - harmonogram'!T49","v":0},{"$f":"'SHZ - harmonogram'!U49","v":0},{"$f":"'SHZ - harmonogram'!V49","v":0},{"$f":"'SHZ - harmonogram'!W49","v":0},{"$f":"'SHZ - harmonogram'!X49","v":0},{"$f":"'SHZ - harmonogram'!Y49","v":0},{"$f":"'SHZ - harmonogram'!Z49","v":0},{"$f":"'SHZ - harmonogram'!AA49","v":0},{"$f":"'SHZ - harmonogram'!AB49","v":0},{"$f":"'SHZ - harmonogram'!AC49","v":0},{"$f":"'SHZ - harmonogram'!AD49","v":0},{"$f":"'SHZ - harmonogram'!AE49","v":0},{"$f":"'SHZ - harmonogram'!AF49","v":0},{"$f":"'SHZ - harmonogram'!AG49","v":0},{"$f":"'SHZ - harmonogram'!AH49","v":0},{"$f":"'SHZ - harmonogram'!AI49","v":0},{"$f":"'SHZ - harmonogram'!AJ49","v":0},{"$f":"'SHZ - harmonogram'!AK49","v":0},{"$f":"'SHZ - harmonogram'!AL49","v":0},{"$f":"'SHZ - harmonogram'!AM49","v":0},{"$f":"'SHZ - harmonogram'!AN49","v":0},{"$f":"'SHZ - harmonogram'!AO49","v":0},{"$f":"'SHZ - harmonogram'!AP49","v":0},{"$f":"'SHZ - harmonogram'!AQ49","v":0},{"$f":"'SHZ - harmonogram'!AR49","v":0},{"$f":"'SHZ - harmonogram'!AS49","v":0},{"$f":"'SHZ - harmonogram'!AT49","v":0},{"$f":"'SHZ - harmonogram'!AU49","v":0},{"$f":"'SHZ - harmonogram'!AV49","v":0},{"$f":"'SHZ - harmonogram'!AW49","v":0}]
["ASŘ ETAPA I. a II.","SHZ",{"$f":"'SHZ - harmonogram'!I51","v":0},{"$f":"'SHZ - harmonogram'!J51","v":0},{"$f":"'SHZ - harmonogram'!K51","v":0},{"$f":"'SHZ - harmonogram'!L51","v":0},{"$f":"'SHZ - harmonogram'!M51","v":0},{"$f":"'SHZ - harmonogram'!N51","v":0},{"$f":"'SHZ - harmonogram'!O51","v":0},{"$f":"'SHZ - harmonogram'!P51","v":0},{"$f":"'SHZ - harmonogram'!Q51","v":0},{"$f":"'SHZ - harmonogram'!R51","v":0},{"$f":"'SHZ - harmonogram'!S51","v":0},{"$f":"'SHZ - harmonogram'!T51","v":0},{"$f":"'SHZ - harmonogram'!U51","v":0},{"$f":"'SHZ - harmonogram'!V51","v":0},{"$f":"'SHZ - harmonogram'!W51","v":0},{"$f":"'SHZ - harmonogram'!X51","v":0},{"$f":"'SHZ - harmonogram'!Y51","v":0},{"$f":"'SHZ - harmonogram'!Z51","v":0},{"$f":"'SHZ - harmonogram'!AA51","v":0},{"$f":"'SHZ - harmonogram'!AB51","v":0},{"$f":"'SHZ - harmonogram'!AC51","v":0},{"$f":"'SHZ - harmonogram'!AD51","v":0},{"$f":"'SHZ - harmonogram'!AE51","v":0},{"$f":"'SHZ - harmonogram'!AF51","v":0},{"$f":"'SHZ - harmonogram'!AG51","v":0},{"$f":"'SHZ - harmonogram'!AH51","v":0},{"$f":"'SHZ - harmonogram'!AI51","v":0},{"$f":"'SHZ - harmonogram'!AJ51","v":0},{"$f":"'SHZ - harmonogram'!AK51","v":0},{"$f":"'SHZ - harmonogram'!AL51","v":0},{"$f":"'SHZ - harmonogram'!AM51","v":0},{"$f":"'SHZ - harmonogram'!AN51","v":0},{"$f":"'SHZ - harmonogram'!AO51","v":0},{"$f":"'SHZ - harmonogram'!AP51","v":0},{"$f":"'SHZ - harmonogram'!AQ51","v":0},{"$f":"'SHZ - harmonogram'!AR51","v":0},{"$f":"'SHZ - harmonogram'!AS51","v":0},{"$f":"'SHZ - harmonogram'!AT51","v":0},{"$f":"'SHZ - harmonogram'!AU51","v":0},{"$f":"'SHZ - harmonogram'!AV51","v":0},{"$f":"'SHZ - harmonogram'!AW51","v":0}]
["Převzetí díla k užívání ET. I. A ET. II. ","SHZ",{"$f":"'SHZ - harmonogram'!I53","v":0},{"$f":"'SHZ - harmonogram'!J53","v":0},{"$f":"'SHZ - harmonogram'!K53","v":0},{"$f":"'SHZ - harmonogram'!L53","v":0},{"$f":"'SHZ - harmonogram'!M53","v":0},{"$f":"'SHZ - harmonogram'!N53","v":0},{"$f":"'SHZ - harmonogram'!O53","v":0},{"$f":"'SHZ - harmonogram'!P53","v":0},{"$f":"'SHZ - harmonogram'!Q53","v":0},{"$f":"'SHZ - harmonogram'!R53","v":0},{"$f":"'SHZ - harmonogram'!S53","v":0},{"$f":"'SHZ - harmonogram'!T53","v":0},{"$f":"'SHZ - harmonogram'!U53","v":0},{"$f":"'SHZ - harmonogram'!V53","v":0},{"$f":"'SHZ - harmonogram'!W53","v":0},{"$f":"'SHZ - harmonogram'!X53","v":0},{"$f":"'SHZ - harmonogram'!Y53","v":0},{"$f":"'SHZ - harmonogram'!Z53","v":0},{"$f":"'SHZ - harmonogram'!AA53","v":0},{"$f":"'SHZ - harmonogram'!AB53","v":0},{"$f":"'SHZ - harmonogram'!AC53","v":0},{"$f":"'SHZ - harmonogram'!AD53","v":0},{"$f":"'SHZ - harmonogram'!AE53","v":0},{"$f":"'SHZ - harmonogram'!AF53","v":0},{"$f":"'SHZ - harmonogram'!AG53","v":0},{"$f":"'SHZ - harmonogram'!AH53","v":0},{"$f":"'SHZ - harmonogram'!AI53","v":0},{"$f":"'SHZ - harmonogram'!AJ53","v":0},{"$f":"'SHZ - harmonogram'!AK53","v":0},{"$f":"'SHZ - harmonogram'!AL53","v":0},{"$f":"'SHZ - harmonogram'!AM53","v":0},{"$f":"'SHZ - harmonogram'!AN53","v":0},{"$f":"'SHZ - harmonogram'!AO53","v":0},{"$f":"'SHZ - harmonogram'!AP53","v":0},{"$f":"'SHZ - harmonogram'!AQ53","v":0},{"$f":"'SHZ - harmonogram'!AR53","v":0},{"$f":"'SHZ - harmonogram'!AS53","v":0},{"$f":"'SHZ - harmonogram'!AT53","v":0},{"$f":"'SHZ - harmonogram'!AU53","v":0},{"$f":"'SHZ - harmonogram'!AV53","v":0},{"$f":"'SHZ - harmonogram'!AW53","v":0}]
["ASŘ ETAPA III.","SHZ",{"$f":"'SHZ - harmonogram'!I55","v":0},{"$f":"'SHZ - harmonogram'!J55","v":0},{"$f":"'SHZ - harmonogram'!K55","v":0},{"$f":"'SHZ - harmonogram'!L55","v":0},{"$f":"'SHZ - harmonogram'!M55","v":0},{"$f":"'SHZ - harmonogram'!N55","v":0},{"$f":"'SHZ - harmonogram'!O55","v":0},{"$f":"'SHZ - harmonogram'!P55","v":0},{"$f":"'SHZ - harmonogram'!Q55","v":0},{"$f":"'SHZ - harmonogram'!R55","v":0},{"$f":"'SHZ - harmonogram'!S55","v":0},{"$f":"'SHZ - harmonogram'!T55","v":0},{"$f":"'SHZ - harmonogram'!U55","v":0},{"$f":"'SHZ - harmonogram'!V55","v":0},{"$f":"'SHZ - harmonogram'!W55","v":0},{"$f":"'SHZ - harmonogram'!X55","v":0},{"$f":"'SHZ - harmonogram'!Y55","v":0},{"$f":"'SHZ - harmonogram'!Z55","v":0},{"$f":"'SHZ - harmonogram'!AA55","v":0},{"$f":"'SHZ - harmonogram'!AB55","v":0},{"$f":"'SHZ - harmonogram'!AC55","v":0},{"$f":"'SHZ - harmonogram'!AD55","v":0},{"$f":"'SHZ - harmonogram'!AE55","v":0},{"$f":"'SHZ - harmonogram'!AF55","v":0},{"$f":"'SHZ - harmonogram'!AG55","v":0},{"$f":"'SHZ - harmonogram'!AH55","v":0},{"$f":"'SHZ - harmonogram'!AI55","v":0},{"$f":"'SHZ - harmonogram'!AJ55","v":0},{"$f":"'SHZ - harmonogram'!AK55","v":0},{"$f":"'SHZ - harmonogram'!AL55","v":0},{"$f":"'SHZ - harmonogram'!AM55","v":0},{"$f":"'SHZ - harmonogram'!AN55","v":0},{"$f":"'SHZ - harmonogram'!AO55","v":0},{"$f":"'SHZ - harmonogram'!AP55","v":0},{"$f":"'SHZ - harmonogram'!AQ55","v":0},{"$f":"'SHZ - harmonogram'!AR55","v":0},{"$f":"'SHZ - harmonogram'!AS55","v":0},{"$f":"'SHZ - harmonogram'!AT55","v":0},{"$f":"'SHZ - harmonogram'!AU55","v":0},{"$f":"'SHZ - harmonogram'!AV55","v":0},{"$f":"'SHZ - harmonogram'!AW55","v":0}]
["Ostatní","SHZ",{"$f":"'SHZ - harmonogram'!I57","v":0},{"$f":"'SHZ - harmonogram'!J57","v":0},{"$f":"'SHZ - harmonogram'!K57","v":0},{"$f":"'SHZ - harmonogram'!L57","v":0},{"$f":"'SHZ - harmonogram'!M57","v":0},{"$f":"'SHZ - harmonogram'!N57","v":0},{"$f":"'SHZ - harmonogram'!O57","v":0},{"$f":"'SHZ - harmonogram'!P57","v":0},{"$f":"'SHZ - harmonogram'!Q57","v":0},{"$f":"'SHZ - harmonogram'!R57","v":0},{"$f":"'SHZ - harmonogram'!S57","v":0},{"$f":"'SHZ - harmonogram'!T57","v":0},{"$f":"'SHZ - harmonogram'!U57","v":0},{"$f":"'SHZ - harmonogram'!V57","v":0},{"$f":"'SHZ - harmonogram'!W57","v":0},{"$f":"'SHZ - harmonogram'!X57","v":0},{"$f":"'SHZ - harmonogram'!Y57","v":0},{"$f":"'SHZ - harmonogram'!Z57","v":0},{"$f":"'SHZ - harmonogram'!AA57","v":0},{"$f":"'SHZ - harmonogram'!AB57","v":0},{"$f":"'SHZ - harmonogram'!AC57","v":0},{"$f":"'SHZ - harmonogram'!AD57","v":0},{"$f":"'SHZ - harmonogram'!AE57","v":0},{"$f":"'SHZ - harmonogram'!AF57","v":0},{"$f":"'SHZ - harmonogram'!AG57","v":0},{"$f":"'SHZ - harmonogram'!AH57","v":0},{"$f":"'SHZ - harmonogram'!AI57","v":0},{"$f":"'SHZ - harmonogram'!AJ57","v":0},{"$f":"'SHZ - harmonogram'!AK57","v":0},{"$f":"'SHZ - harmonogram'!AL57","v":0},{"$f":"'SHZ - harmonogram'!AM57","v":0},{"$f":"'SHZ - harmonogram'!AN57","v":0},{"$f":"'SHZ - harmonogram'!AO57","v":0},{"$f":"'SHZ - harmonogram'!AP57","v":0},{"$f":"'SHZ - harmonogram'!AQ57","v":0},{"$f":"'SHZ - harmonogram'!AR57","v":0},{"$f":"'SHZ - harmonogram'!AS57","v":0},{"$f":"'SHZ - harmonogram'!AT57","v":0},{"$f":"'SHZ - harmonogram'!AU57","v":0},{"$f":"'SHZ - harmonogram'!AV57","v":0},{"$f":"'SHZ - harmonogram'!AW57","v":0}]
["Potrubní část, Kabeláž, Nosný kab. systém, Technologické OK, přístupy lávky, schodiště - ET. III.","SHZ",{"$f":"'SHZ - harmonogram'!I59","v":0},{"$f":"'SHZ - harmonogram'!J59","v":0},{"$f":"'SHZ - harmonogram'!K59","v":0},{"$f":"'SHZ - harmonogram'!L59","v":0},{"$f":"'SHZ - harmonogram'!M59","v":0},{"$f":"'SHZ - harmonogram'!N59","v":0},{"$f":"'SHZ - harmonogram'!O59","v":0},{"$f":"'SHZ - harmonogram'!P59","v":0},{"$f":"'SHZ - harmonogram'!Q59","v":0},{"$f":"'SHZ - harmonogram'!R59","v":0},{"$f":"'SHZ - harmonogram'!S59","v":0},{"$f":"'SHZ - harmonogram'!T59","v":0},{"$f":"'SHZ - harmonogram'!U59","v":0},{"$f":"'SHZ - harmonogram'!V59","v":0},{"$f":"'SHZ - harmonogram'!W59","v":0},{"$f":"'SHZ - harmonogram'!X59","v":0},{"$f":"'SHZ - harmonogram'!Y59","v":0},{"$f":"'SHZ - harmonogram'!Z59","v":0},{"$f":"'SHZ - harmonogram'!AA59","v":0},{"$f":"'SHZ - harmonogram'!AB59","v":0},{"$f":"'SHZ - harmonogram'!AC59","v":0},{"$f":"'SHZ - harmonogram'!AD59","v":0},{"$f":"'SHZ - harmonogram'!AE59","v":0},{"$f":"'SHZ - harmonogram'!AF59","v":0},{"$f":"'SHZ - harmonogram'!AG59","v":0},{"$f":"'SHZ - harmonogram'!AH59","v":0},{"$f":"'SHZ - harmonogram'!AI59","v":0},{"$f":"'SHZ - harmonogram'!AJ59","v":0},{"$f":"'SHZ - harmonogram'!AK59","v":0},{"$f":"'SHZ - harmonogram'!AL59","v":0},{"$f":"'SHZ - harmonogram'!AM59","v":0},{"$f":"'SHZ - harmonogram'!AN59","v":0},{"$f":"'SHZ - harmonogram'!AO59","v":0},{"$f":"'SHZ - harmonogram'!AP59","v":0},{"$f":"'SHZ - harmonogram'!AQ59","v":0},{"$f":"'SHZ - harmonogram'!AR59","v":0},{"$f":"'SHZ - harmonogram'!AS59","v":0},{"$f":"'SHZ - harmonogram'!AT59","v":0},{"$f":"'SHZ - harmonogram'!AU59","v":0},{"$f":"'SHZ - harmonogram'!AV59","v":0},{"$f":"'SHZ - harmonogram'!AW59","v":0}]
["Dokončení stavebních prací","SHZ",{"$f":"'SHZ - harmonogram'!I61","v":0},{"$f":"'SHZ - harmonogram'!J61","v":0},{"$f":"'SHZ - harmonogram'!K61","v":0},{"$f":"'SHZ - harmonogram'!L61","v":0},{"$f":"'SHZ - harmonogram'!M61","v":0},{"$f":"'SHZ - harmonogram'!N61","v":0},{"$f":"'SHZ - harmonogram'!O61","v":0},{"$f":"'SHZ - harmonogram'!P61","v":0},{"$f":"'SHZ - harmonogram'!Q61","v":0},{"$f":"'SHZ - harmonogram'!R61","v":0},{"$f":"'SHZ - harmonogram'!S61","v":0},{"$f":"'SHZ - harmonogram'!T61","v":0},{"$f":"'SHZ - harmonogram'!U61","v":0},{"$f":"'SHZ - harmonogram'!V61","v":0},{"$f":"'SHZ - harmonogram'!W61","v":0},{"$f":"'SHZ - harmonogram'!X61","v":0},{"$f":"'SHZ - harmonogram'!Y61","v":0},{"$f":"'SHZ - harmonogram'!Z61","v":0},{"$f":"'SHZ - harmonogram'!AA61","v":0},{"$f":"'SHZ - harmonogram'!AB61","v":0},{"$f":"'SHZ - harmonogram'!AC61","v":0},{"$f":"'SHZ - harmonogram'!AD61","v":0},{"$f":"'SHZ - harmonogram'!AE61","v":0},{"$f":"'SHZ - harmonogram'!AF61","v":0},{"$f":"'SHZ - harmonogram'!AG61","v":0},{"$f":"'SHZ - harmonogram'!AH61","v":0},{"$f":"'SHZ - harmonogram'!AI61","v":0},{"$f":"'SHZ - harmonogram'!AJ61","v":0},{"$f":"'SHZ - harmonogram'!AK61","v":0},{"$f":"'SHZ - harmonogram'!AL61","v":0},{"$f":"'SHZ - harmonogram'!AM61","v":0},{"$f":"'SHZ - harmonogram'!AN61","v":0},{"$f":"'SHZ - harmonogram'!AO61","v":0},{"$f":"'SHZ - harmonogram'!AP61","v":0},{"$f":"'SHZ - harmonogram'!AQ61","v":0},{"$f":"'SHZ - harmonogram'!AR61","v":0},{"$f":"'SHZ - harmonogram'!AS61","v":0},{"$f":"'SHZ - harmonogram'!AT61","v":0},{"$f":"'SHZ - harmonogram'!AU61","v":0},{"$f":"'SHZ - harmonogram'!AV61","v":0},{"$f":"'SHZ - harmonogram'!AW61","v":0}]
["Ukončení montážních prací","SHZ",{"$f":"'SHZ - harmonogram'!I63","v":0},{"$f":"'SHZ - harmonogram'!J63","v":0},{"$f":"'SHZ - harmonogram'!K63","v":0},{"$f":"'SHZ - harmonogram'!L63","v":0},{"$f":"'SHZ - harmonogram'!M63","v":0},{"$f":"'SHZ - harmonogram'!N63","v":0},{"$f":"'SHZ - harmonogram'!O63","v":0},{"$f":"'SHZ - harmonogram'!P63","v":0},{"$f":"'SHZ - harmonogram'!Q63","v":0},{"$f":"'SHZ - harmonogram'!R63","v":0},{"$f":"'SHZ - harmonogram'!S63","v":0},{"$f":"'SHZ - harmonogram'!T63","v":0},{"$f":"'SHZ - harmonogram'!U63","v":0},{"$f":"'SHZ - harmonogram'!V63","v":0},{"$f":"'SHZ - harmonogram'!W63","v":0},{"$f":"'SHZ - harmonogram'!X63","v":0},{"$f":"'SHZ - harmonogram'!Y63","v":0},{"$f":"'SHZ - harmonogram'!Z63","v":0},{"$f":"'SHZ - harmonogram'!AA63","v":0},{"$f":"'SHZ - harmonogram'!AB63","v":0},{"$f":"'SHZ - harmonogram'!AC63","v":0},{"$f":"'SHZ - harmonogram'!AD63","v":0},{"$f":"'SHZ - harmonogram'!AE63","v":0},{"$f":"'SHZ - harmonogram'!AF63","v":0},{"$f":"'SHZ - harmonogram'!AG63","v":0},{"$f":"'SHZ - harmonogram'!AH63","v":0},{"$f":"'SHZ - harmonogram'!AI63","v":0},{"$f":"'SHZ - harmonogram'!AJ63","v":0},{"$f":"'SHZ - harmonogram'!AK63","v":0},{"$f":"'SHZ - harmonogram'!AL63","v":0},{"$f":"'SHZ - harmonogram'!AM63","v":0},{"$f":"'SHZ - harmonogram'!AN63","v":0},{"$f":"'SHZ - harmonogram'!AO63","v":0},{"$f":"'SHZ - harmonogram'!AP63","v":0},{"$f":"'SHZ - harmonogram'!AQ63","v":0},{"$f":"'SHZ - harmonogram'!AR63","v":0},{"$f":"'SHZ - harmonogram'!AS63","v":0},{"$f":"'SHZ - harmonogram'!AT63","v":0},{"$f":"'SHZ - harmonogram'!AU63","v":0},{"$f":"'SHZ - harmonogram'!AV63","v":0},{"$f":"'SHZ - harmonogram'!AW63","v":0}]
["Školení zaměstnanců provozu","SHZ",{"$f":"'SHZ - harmonogram'!I65","v":0},{"$f":"'SHZ - harmonogram'!J65","v":0},{"$f":"'SHZ - harmonogram'!K65","v":0},{"$f":"'SHZ - harmonogram'!L65","v":0},{"$f":"'SHZ - harmonogram'!M65","v":0},{"$f":"'SHZ - harmonogram'!N65","v":0},{"$f":"'SHZ - harmonogram'!O65","v":0},{"$f":"'SHZ - harmonogram'!P65","v":0},{"$f":"'SHZ - harmonogram'!Q65","v":0},{"$f":"'SHZ - harmonogram'!R65","v":0},{"$f":"'SHZ - harmonogram'!S65","v":0},{"$f":"'SHZ - harmonogram'!T65","v":0},{"$f":"'SHZ - harmonogram'!U65","v":0},{"$f":"'SHZ - harmonogram'!V65","v":0},{"$f":"'SHZ - harmonogram'!W65","v":0},{"$f":"'SHZ - harmonogram'!X65","v":0},{"$f":"'SHZ - harmonogram'!Y65","v":0},{"$f":"'SHZ - harmonogram'!Z65","v":0},{"$f":"'SHZ - harmonogram'!AA65","v":0},{"$f":"'SHZ - harmonogram'!AB65","v":0},{"$f":"'SHZ - harmonogram'!AC65","v":0},{"$f":"'SHZ - harmonogram'!AD65","v":0},{"$f":"'SHZ - harmonogram'!AE65","v":0},{"$f":"'SHZ - harmonogram'!AF65","v":0},{"$f":"'SHZ - harmonogram'!AG65","v":0},{"$f":"'SHZ - harmonogram'!AH65","v":0},{"$f":"'SHZ - harmonogram'!AI65","v":0},{"$f":"'SHZ - harmonogram'!AJ65","v":0},{"$f":"'SHZ - harmonogram'!AK65","v":0},{"$f":"'SHZ - harmonogram'!AL65","v":0},{"$f":"'SHZ - harmonogram'!AM65","v":0},{"$f":"'SHZ - harmonogram'!AN65","v":0},{"$f":"'SHZ - harmonogram'!AO65","v":0},{"$f":"'SHZ - harmonogram'!AP65","v":0},{"$f":"'SHZ - harmonogram'!AQ65","v":0},{"$f":"'SHZ - harmonogram'!AR65","v":0},{"$f":"'SHZ - harmonogram'!AS65","v":0},{"$f":"'SHZ - harmonogram'!AT65","v":0},{"$f":"'SHZ - harmonogram'!AU65","v":0},{"$f":"'SHZ - harmonogram'!AV65","v":0},{"$f":"'SHZ - harmonogram'!AW65","v":0}]
["Kompexní vyzkoušení - Funkční zkouška","SHZ",{"$f":"'SHZ - harmonogram'!I67","v":0},{"$f":"'SHZ - harmonogram'!J67","v":0},{"$f":"'SHZ - harmonogram'!K67","v":0},{"$f":"'SHZ - harmonogram'!L67","v":0},{"$f":"'SHZ - harmonogram'!M67","v":0},{"$f":"'SHZ - harmonogram'!N67","v":0},{"$f":"'SHZ - harmonogram'!O67","v":0},{"$f":"'SHZ - harmonogram'!P67","v":0},{"$f":"'SHZ - harmonogram'!Q67","v":0},{"$f":"'SHZ - harmonogram'!R67","v":0},{"$f":"'SHZ - harmonogram'!S67","v":0},{"$f":"'SHZ - harmonogram'!T67","v":0},{"$f":"'SHZ - harmonogram'!U67","v":0},{"$f":"'SHZ - harmonogram'!V67","v":0},{"$f":"'SHZ - harmonogram'!W67","v":0},{"$f":"'SHZ - harmonogram'!X67","v":0},{"$f":"'SHZ - harmonogram'!Y67","v":0},{"$f":"'SHZ - harmonogram'!Z67","v":0},{"$f":"'SHZ - harmonogram'!AA67","v":0},{"$f":"'SHZ - harmonogram'!AB67","v":0},{"$f":"'SHZ - harmonogram'!AC67","v":0},{"$f":"'SHZ - harmonogram'!AD67","v":0},{"$f":"'SHZ - harmonogram'!AE67","v":0},{"$f":"'SHZ - harmonogram'!AF67","v":0},{"$f":"'SHZ - harmonogram'!AG67","v":0},{"$f":"'SHZ - harmonogram'!AH67","v":0},{"$f":"'SHZ - harmonogram'!AI67","v":0},{"$f":"'SHZ - harmonogram'!AJ67","v":0},{"$f":"'SHZ - harmonogram'!AK67","v":0},{"$f":"'SHZ - harmonogram'!AL67","v":0},{"$f":"'SHZ - harmonogram'!AM67","v":0},{"$f":"'SHZ - harmonogram'!AN67","v":0},{"$f":"'SHZ - harmonogram'!AO67","v":0},{"$f":"'SHZ - harmonogram'!AP67","v":0},{"$f":"'SHZ - harmonogram'!AQ67","v":0},{"$f":"'SHZ - harmonogram'!AR67","v":0},{"$f":"'SHZ - harmonogram'!AS67","v":0},{"$f":"'SHZ - harmonogram'!AT67","v":0},{"$f":"'SHZ - harmonogram'!AU67","v":0},{"$f":"'SHZ - harmonogram'!AV67","v":0},{"$f":"'SHZ - harmonogram'!AW67","v":0}]
["Konečné převzetí díla k užívání","SHZ",{"$f":"'SHZ - harmonogram'!I69","v":0},{"$f":"'SHZ - harmonogram'!J69","v":0},{"$f":"'SHZ - harmonogram'!K69","v":0},{"$f":"'SHZ - harmonogram'!L69","v":0},{"$f":"'SHZ - harmonogram'!M69","v":0},{"$f":"'SHZ - harmonogram'!N69","v":0},{"$f":"'SHZ - harmonogram'!O69","v":0},{"$f":"'SHZ - harmonogram'!P69","v":0},{"$f":"'SHZ - harmonogram'!Q69","v":0},{"$f":"'SHZ - harmonogram'!R69","v":0},{"$f":"'SHZ - harmonogram'!S69","v":0},{"$f":"'SHZ - harmonogram'!T69","v":0},{"$f":"'SHZ - harmonogram'!U69","v":0},{"$f":"'SHZ - harmonogram'!V69","v":0},{"$f":"'SHZ - harmonogram'!W69","v":0},{"$f":"'SHZ - harmonogram'!X69","v":0},{"$f":"'SHZ - harmonogram'!Y69","v":0},{"$f":"'SHZ - harmonogram'!Z69","v":0},{"$f":"'SHZ - harmonogram'!AA69","v":0},{"$f":"'SHZ - harmonogram'!AB69","v":0},{"$f":"'SHZ - harmonogram'!AC69","v":0},{"$f":"'SHZ - harmonogram'!AD69","v":0},{"$f":"'SHZ - harmonogram'!AE69","v":0},{"$f":"'SHZ - harmonogram'!AF69","v":0},{"$f":"'SHZ - harmonogram'!AG69","v":0},{"$f":"'SHZ - harmonogram'!AH69","v":0},{"$f":"'SHZ - harmonogram'!AI69","v":0},{"$f":"'SHZ - harmonogram'!AJ69","v":0},{"$f":"'SHZ - harmonogram'!AK69","v":0},{"$f":"'SHZ - harmonogram'!AL69","v":0},{"$f":"'SHZ - harmonogram'!AM69","v":0},{"$f":"'SHZ - harmonogram'!AN69","v":0},{"$f":"'SHZ - harmonogram'!AO69","v":0},{"$f":"'SHZ - harmonogram'!AP69","v":0},{"$f":"'SHZ - harmonogram'!AQ69","v":0},{"$f":"'SHZ - harmonogram'!AR69","v":0},{"$f":"'SHZ - harmonogram'!AS69","v":0},{"$f":"'SHZ - harmonogram'!AT69","v":0},{"$f":"'SHZ - harmonogram'!AU69","v":0},{"$f":"'SHZ - harmonogram'!AV69","v":0},{"$f":"'SHZ - harmonogram'!AW69","v":0}]
["Závazné technické parametry pro OB 1 (Palivové hospodářství) "]
["Poznámka"]
["Zhotovitel na tomto listu nevyplňuje žádné hodnoty. Hodnoty jsou přenášeny z předcházejících listů."]
["Předání a převzetí staveniště pro K20"]
["neobsazeno"]
["Kotelna K20 - vlastní kotel včetně všech komponentů"]
["Kotelna K20 - provozní zásobníky paliva včetně dopravy štěpky do kotle"]
["Kotelna K20 - ventilátory (vzduchové, spalinové, recirkulační) včetně vnitřních spalinovodů"]
["Kotelna K20 - tkaninový filtr"]
["Kotelna K20 - technologie DSI"]
["Kotelna K20 - popelové hospodářství"]
["Kotelna K20 - elektroinstalace"]
["Kotelna K20 - ASŘ"]
["Kotelna K20 - kompresorová stanice"]
["Kotelna K20 - připojení médií"]
["Kotelna K20 - venkovní rozvody spalinovodů včetně napojení na komín"]
["Kotelna K20 - venkovní konstrukce potrubního mostu (připojení popelového hospodářství a SNCR)"]
["Kotelna K20 - opláštění a zastřešení, dokončení všech stavebních činností"]
["Kotelna K20 - další výše nevyjmenované položky"]
["Kotelna K20 - dokončení stavebních prací"]
["Kotelna K20 - ukončení montážních prací"]
["Kotelna K20 - školení zaměstnanců provozu"]
["Kotelna K20 - příprava ke kompexnímu vyzkoušení"]
["Kotelna K20 - komplexní vyzkoušení"]
["Kotelna K20 - zkušební provoz"]
["Kotelna K20 - garanční test A"]
["Kotelna K20 - předběžné převzetí díla PAC"]
["Kotelna K20 - garanční test B"]
["Kotelna K20 - finální převzetí díla FAC"]

{"sheet":"finanční plnění - harmonogram","index":3,"n_rows":73,"n_cols":44,"rows_kept":73,"cut":false,"hidden":false,"merged":[[38,0,38,2],[3,0,4,0],[3,1,4,1],[3,2,4,2],[38,3,38,43],[37,0,37,2],[3,3,3,43]]}
[]
["Příloha K zadávací dokumentace - cenová nabídka a časový harmonogram SHZ"]
[]
["Milníky","Etapa"," Cena bez DPH (EUR)"]
[null,null,null,"2024-08-02","2024-09-02","2024-10-03","2024-11-03","2024-12-04","2025-01-04","2025-02-04","2025-03-07","2025-04-07","2025-05-08","2025-06-08","2025-07-09","2025-08-09","2025-09-09","2025-10-10","2025-11-10","2025-12-11","2026-01-11","2026-02-11","2026-03-14","2026-04-14","2026-05-15","2026-06-15","2026-07-16","2026-08-16","2026-09-16","2026-10-17","2026-11-17","2026-12-18","2027-01-18","2027-02-18","2027-03-21","2027-04-21","2027-05-22","2027-06-22","2027-07-23","2027-08-23","2027-09-23","2027-10-24","2027-11-24","2027-12-25"]
[1,1,null,1,2,3,4,5,6,7,8,9,10,11,12,13,14,15,16,17,18,19,20,21,22,23,24,25,26,27,28,29,30,31,32,33,34,35,36,37,38,39,40,41]
["Závazné technické parametry pro ostatní OB","SHZ",{"$f":"SUM(D7:AR7)","v":0},{"$f":"'SHZ - harmonogram'!I11","v":0},{"$f":"'SHZ - harmonogram'!J11","v":0},{"$f":"'SHZ - harmonogram'!K11","v":0},{"$f":"'SHZ - harmonogram'!L11","v":0},{"$f":"'SHZ - harmonogram'!M11","v":0},{"$f":"'SHZ - harmonogram'!N11","v":0},{"$f":"'SHZ - harmonogram'!O11","v":0},{"$f":"'SHZ - harmonogram'!P11","v":0},{"$f":"'SHZ - harmonogram'!Q11","v":0},{"$f":"'SHZ - harmonogram'!R11","v":0},{"$f":"'SHZ - harmonogram'!S11","v":0},{"$f":"'SHZ - harmonogram'!T11","v":0},{"$f":"'SHZ - harmonogram'!U11","v":0},{"$f":"'SHZ - harmonogram'!V11","v":0},{"$f":"'SHZ - harmonogram'!W11","v":0},{"$f":"'SHZ - harmonogram'!X11","v":0},{"$f":"'SHZ - harmonogram'!Y11","v":0},{"$f":"'SHZ - harmonogram'!Z11","v":0},{"$f":"'SHZ - harmonogram'!AA11","v":0},{"$f":"'SHZ - harmonogram'!AB11","v":0},{"$f":"'SHZ - harmonogram'!AC11","v":0},{"$f":"'SHZ - harmonogram'!AD11","v":0},{"$f":"'SHZ - harmonogram'!AE11","v":0},{"$f":"'SHZ - harmonogram'!AF11","v":0},{"$f":"'SHZ - harmonogram'!AG11","v":0},{"$f":"'SHZ - harmonogram'!AH11","v":0},{"$f":"'SHZ - harmonogram'!AI11","v":0},{"$f":"'SHZ - harmonogram'!AJ11","v":0},{"$f":"'SHZ - harmonogram'!AK11","v":0},{"$f":"'SHZ - harmonogram'!AL11","v":0},{"$f":"'SHZ - harmonogram'!AM11","v":0},{"$f":"'SHZ - harmonogram'!AN11","v":0},{"$f":"'SHZ - harmonogram'!AO11","v":0},{"$f":"'SHZ - harmonogram'!AP11","v":0},{"$f":"'SHZ - harmonogram'!AQ11","v":0},{"$f":"'SHZ - harmonogram'!AR11","v":0},{"$f":"'SHZ - harmonogram'!AS11","v":0},{"$f":"'SHZ - harmonogram'!AT11","v":0},{"$f":"'SHZ - harmonogram'!AU11","v":0},{"$f":"'SHZ - harmonogram'!AV11","v":0},{"$f":"'SHZ - harmonogram'!AW11","v":0}]
["Odsouhlasená prováděcí dokumentace","SHZ",{"$f":"SUM(D8:AR8)","v":0},{"$f":"'SHZ - harmonogram'!I13","v":0},{"$f":"'SHZ - harmonogram'!J13","v":0},{"$f":"'SHZ - harmonogram'!K13","v":0},{"$f":"'SHZ - harmonogram'!L13","v":0},{"$f":"'SHZ - harmonogram'!M13","v":0},{"$f":"'SHZ - harmonogram'!N13","v":0},{"$f":"'SHZ - harmonogram'!O13","v":0},{"$f":"'SHZ - harmonogram'!P13","v":0},{"$f":"'SHZ - harmonogram'!Q13","v":0},{"$f":"'SHZ - harmonogram'!R13","v":0},{"$f":"'SHZ - harmonogram'!S13","v":0},{"$f":"'SHZ - harmonogram'!T13","v":0},{"$f":"'SHZ - harmonogram'!U13","v":0},{"$f":"'SHZ - harmonogram'!V13","v":0},{"$f":"'SHZ - harmonogram'!W13","v":0},{"$f":"'SHZ - harmonogram'!X13","v":0},{"$f":"'SHZ - harmonogram'!Y13","v":0},{"$f":"'SHZ - harmonogram'!Z13","v":0},{"$f":"'SHZ - harmonogram'!AA13","v":0},{"$f":"'SHZ - harmonogram'!AB13","v":0},{"$f":"'SHZ - harmonogram'!AC13","v":0},{"$f":"'SHZ - harmonogram'!AD13","v":0},{"$f":"'SHZ - harmonogram'!AE13","v":0},{"$f":"'SHZ - harmonogram'!AF13","v":0},{"$f":"'SHZ - harmonogram'!AG13","v":0},{"$f":"'SHZ - harmonogram'!AH13","v":0},{"$f":"'SHZ - harmonogram'!AI13","v":0},{"$f":"'SHZ - harmonogram'!AJ13","v":0},{"$f":"'SHZ - harmonogram'!AK13","v":0},{"$f":"'SHZ - harmonogram'!AL13","v":0},{"$f":"'SHZ - harmonogram'!AM13","v":0},{"$f":"'SHZ - harmonogram'!AN13","v":0},{"$f":"'SHZ - harmonogram'!AO13","v":0},{"$f":"'SHZ - harmonogram'!AP13","v":0},{"$f":"'SHZ - harmonogram'!AQ13","v":0},{"$f":"'SHZ - harmonogram'!AR13","v":0},{"$f":"'SHZ - harmonogram'!AS13","v":0},{"$f":"'SHZ - harmonogram'!AT13","v":0},{"$f":"'SHZ - harmonogram'!AU13","v":0},{"$f":"'SHZ - harmonogram'!AV13","v":0},{"$f":"'SHZ - harmonogram'!AW13","v":0}]
["Ventilační stanice","SHZ",{"$f":"SUM(D9:AR9)","v":0},{"$f":"'SHZ - harmonogram'!I16","v":0},{"$f":"'SHZ - harmonogram'!J16","v":0},{"$f":"'SHZ - harmonogram'!K16","v":0},{"$f":"'SHZ - harmonogram'!L16","v":0},{"$f":"'SHZ - harmonogram'!M16","v":0},{"$f":"'SHZ - harmonogram'!N16","v":0},{"$f":"'SHZ - harmonogram'!O16","v":0},{"$f":"'SHZ - harmonogram'!P16","v":0},{"$f":"'SHZ - harmonogram'!Q16","v":0},{"$f":"'SHZ - harmonogram'!R16","v":0},{"$f":"'SHZ - harmonogram'!S16","v":0},{"$f":"'SHZ - harmonogram'!T16","v":0},{"$f":"'SHZ - harmonogram'!U16","v":0},{"$f":"'SHZ - harmonogram'!V16","v":0},{"$f":"'SHZ - harmonogram'!W16","v":0},{"$f":"'SHZ - harmonogram'!X16","v":0},{"$f":"'SHZ - harmonogram'!Y16","v":0},{"$f":"'SHZ - harmonogram'!Z16","v":0},{"$f":"'SHZ - harmonogram'!AA16","v":0},{"$f":"'SHZ - harmonogram'!AB16","v":0},{"$f":"'SHZ - harmonogram'!AC16","v":0},{"$f":"'SHZ - harmonogram'!AD16","v":0},{"$f":"'SHZ - harmonogram'!AE16","v":0},{"$f":"'SHZ - harmonogram'!AF16","v":0},{"$f":"'SHZ - harmonogram'!AG16","v":0},{"$f":"'SHZ - harmonogram'!AH16","v":0},{"$f":"'SHZ - harmonogram'!AI16","v":0},{"$f":"'SHZ - harmonogram'!AJ16","v":0},{"$f":"'SHZ - harmonogram'!AK16","v":0},{"$f":"'SHZ - harmonogram'!AL16","v":0},{"$f":"'SHZ - harmonogram'!AM16","v":0},{"$f":"'SHZ - harmonogram'!AN16","v":0},{"$f":"'SHZ - harmonogram'!AO16","v":0},{"$f":"'SHZ - harmonogram'!AP16","v":0},{"$f":"'SHZ - harmonogram'!AQ16","v":0},{"$f":"'SHZ - harmonogram'!AR16","v":0},{"$f":"'SHZ - harmonogram'!AS16","v":0},{"$f":"'SHZ - harmonogram'!AT16","v":0},{"$f":"'SHZ - harmonogram'!AU16","v":0},{"$f":"'SHZ - harmonogram'!AV16","v":0},{"$f":"'SHZ - harmonogram'!AW16","v":0}]
["Potrubní část, Kabeláž, Nosný kab. systém, Technologické OK, přístupy lávky, schodiště - ET. I.","SHZ",{"$f":"SUM(D10:AR10)","v":0},{"$f":"'SHZ - harmonogram'!I18","v":0},{"$f":"'SHZ - harmonogram'!J18","v":0},{"$f":"'SHZ - harmonogram'!K18","v":0},{"$f":"'SHZ - harmonogram'!L18","v":0},{"$f":"'SHZ - harmonogram'!M18","v":0},{"$f":"'SHZ - harmonogram'!N18","v":0},{"$f":"'SHZ - harmonogram'!O18","v":0},{"$f":"'SHZ - harmonogram'!P18","v":0},{"$f":"'SHZ - harmonogram'!Q18","v":0},{"$f":"'SHZ - harmonogram'!R18","v":0},{"$f":"'SHZ - harmonogram'!S18","v":0},{"$f":"'SHZ - harmonogram'!T18","v":0},{"$f":"'SHZ - harmonogram'!U18","v":0},{"$f":"'SHZ - harmonogram'!V18","v":0},{"$f":"'SHZ - harmonogram'!W18","v":0},{"$f":"'SHZ - harmonogram'!X18","v":0},{"$f":"'SHZ - harmonogram'!Y18","v":0},{"$f":"'SHZ - harmonogram'!Z18","v":0},{"$f":"'SHZ - harmonogram'!AA18","v":0},{"$f":"'SHZ - harmonogram'!AB18","v":0},{"$f":"'SHZ - harmonogram'!AC18","v":0},{"$f":"'SHZ - harmonogram'!AD18","v":0},{"$f":"'SHZ - harmonogram'!AE18","v":0},{"$f":"'SHZ - harmonogram'!AF18","v":0},{"$f":"'SHZ - harmonogram'!AG18","v":0},{"$f":"'SHZ - harmonogram'!AH18","v":0},{"$f":"'SHZ - harmonogram'!AI18","v":0},{"$f":"'SHZ - harmonogram'!AJ18","v":0},{"$f":"'SHZ - harmonogram'!AK18","v":0},{"$f":"'SHZ - harmonogram'!AL18","v":0},{"$f":"'SHZ - harmonogram'!AM18","v":0},{"$f":"'SHZ - harmonogram'!AN18","v":0},{"$f":"'SHZ - harmonogram'!AO18","v":0},{"$f":"'SHZ - harmonogram'!AP18","v":0},{"$f":"'SHZ - harmonogram'!AQ18","v":0},{"$f":"'SHZ - harmonogram'!AR18","v":0},{"$f":"'SHZ - harmonogram'!AS18","v":0},{"$f":"'SHZ - harmonogram'!AT18","v":0},{"$f":"'SHZ - harmonogram'!AU18","v":0},{"$f":"'SHZ - harmonogram'!AV18","v":0},{"$f":"'SHZ - harmonogram'!AW18","v":0}]
["Dieselagregát","SHZ",{"$f":"SUM(D11:AR11)","v":0},{"$f":"'SHZ - harmonogram'!I20","v":0},{"$f":"'SHZ - harmonogram'!J20","v":0},{"$f":"'SHZ - harmonogram'!K20","v":0},{"$f":"'SHZ - harmonogram'!L20","v":0},{"$f":"'SHZ - harmonogram'!M20","v":0},{"$f":"'SHZ - harmonogram'!N20","v":0},{"$f":"'SHZ - harmonogram'!O20","v":0},{"$f":"'SHZ - harmonogram'!P20","v":0},{"$f":"'SHZ - harmonogram'!Q20","v":0},{"$f":"'SHZ - harmonogram'!R20","v":0},{"$f":"'SHZ - harmonogram'!S20","v":0},{"$f":"'SHZ - harmonogram'!T20","v":0},{"$f":"'SHZ - harmonogram'!U20","v":0},{"$f":"'SHZ - harmonogram'!V20","v":0},{"$f":"'SHZ - harmonogram'!W20","v":0},{"$f":"'SHZ - harmonogram'!X20","v":0},{"$f":"'SHZ - harmonogram'!Y20","v":0},{"$f":"'SHZ - harmonogram'!Z20","v":0},{"$f":"'SHZ - harmonogram'!AA20","v":0},{"$f":"'SHZ - harmonogram'!AB20","v":0},{"$f":"'SHZ - harmonogram'!AC20","v":0},{"$f":"'SHZ - harmonogram'!AD20","v":0},{"$f":"'SHZ - harmonogram'!AE20","v":0},{"$f":"'SHZ - harmonogram'!AF20","v":0},{"$f":"'SHZ - harmonogram'!AG20","v":0},{"$f":"'SHZ - harmonogram'!AH20","v":0},{"$f":"'SHZ - harmonogram'!AI20","v":0},{"$f":"'SHZ - harmonogram'!AJ20","v":0},{"$f":"'SHZ - harmonogram'!AK20","v":0},{"$f":"'SHZ - harmonogram'!AL20","v":0},{"$f":"'SHZ - harmonogram'!AM20","v":0},{"$f":"'SHZ - harmonogram'!AN20","v":0},{"$f":"'SHZ - harmonogram'!AO20","v":0},{"$f":"'SHZ - harmonogram'!AP20","v":0},{"$f":"'SHZ - harmonogram'!AQ20","v":0},{"$f":"'SHZ - harmonogram'!AR20","v":0},{"$f":"'SHZ - harmonogram'!AS20","v":0},{"$f":"'SHZ - harmonogram'!AT20","v":0},{"$f":"'SHZ - harmonogram'!AU20","v":0},{"$f":"'SHZ - harmonogram'!AV20","v":0},{"$f":"'SHZ - harmonogram'!AW20","v":0}]
["Nádrže","SHZ",{"$f":"SUM(D12:AR12)","v":0},{"$f":"'SHZ - harmonogram'!I22","v":0},{"$f":"'SHZ - harmonogram'!J22","v":0},{"$f":"'SHZ - harmonogram'!K22","v":0},{"$f":"'SHZ - harmonogram'!L22","v":0},{"$f":"'SHZ - harmonogram'!M22","v":0},{"$f":"'SHZ - harmonogram'!N22","v":0},{"$f":"'SHZ - harmonogram'!O22","v":0},{"$f":"'SHZ - harmonogram'!P22","v":0},{"$f":"'SHZ - harmonogram'!Q22","v":0},{"$f":"'SHZ - harmonogram'!R22","v":0},{"$f":"'SHZ - harmonogram'!S22","v":0},{"$f":"'SHZ - harmonogram'!T22","v":0},{"$f":"'SHZ - harmonogram'!U22","v":0},{"$f":"'SHZ - harmonogram'!V22","v":0},{"$f":"'SHZ - harmonogram'!W22","v":0},{"$f":"'SHZ - harmonogram'!X22","v":0},{"$f":"'SHZ - harmonogram'!Y22","v":0},{"$f":"'SHZ - harmonogram'!Z22","v":0},{"$f":"'SHZ - harmonogram'!AA22","v":0},{"$f":"'SHZ - harmonogram'!AB22","v":0},{"$f":"'SHZ - harmonogram'!AC22","v":0},{"$f":"'SHZ - harmonogram'!AD22","v":0},{"$f":"'SHZ - harmonogram'!AE22","v":0},{"$f":"'SHZ - harmonogram'!AF22","v":0},{"$f":"'SHZ - harmonogram'!AG22","v":0},{"$f":"'SHZ - harmonogram'!AH22","v":0},{"$f":"'SHZ - harmonogram'!AI22","v":0},{"$f":"'SHZ - harmonogram'!AJ22","v":0},{"$f":"'SHZ - harmonogram'!AK22","v":0},{"$f":"'SHZ - harmonogram'!AL22","v":0},{"$f":"'SHZ - harmonogram'!AM22","v":0},{"$f":"'SHZ - harmonogram'!AN22","v":0},{"$f":"'SHZ - harmonogram'!AO22","v":0},{"$f":"'SHZ - harmonogram'!AP22","v":0},{"$f":"'SHZ - harmonogram'!AQ22","v":0},{"$f":"'SHZ - harmonogram'!AR22","v":0},{"$f":"'SHZ - harmonogram'!AS22","v":0},{"$f":"'SHZ - harmonogram'!AT22","v":0},{"$f":"'SHZ - harmonogram'!AU22","v":0},{"$f":"'SHZ - harmonogram'!AV22","v":0},{"$f":"'SHZ - harmonogram'!AW22","v":0}]
["Trafostanice","SHZ",{"$f":"SUM(D13:AR13)","v":0},{"$f":"'SHZ - harmonogram'!I24","v":0},{"$f":"'SHZ - harmonogram'!J24","v":0},{"$f":"'SHZ - harmonogram'!K24","v":0},{"$f":"'SHZ - harmonogram'!L24","v":0},{"$f":"'SHZ - harmonogram'!M24","v":0},{"$f":"'SHZ - harmonogram'!N24","v":0},{"$f":"'SHZ - harmonogram'!O24","v":0},{"$f":"'SHZ - harmonogram'!P24","v":0},{"$f":"'SHZ - harmonogram'!Q24","v":0},{"$f":"'SHZ - harmonogram'!R24","v":0},{"$f":"'SHZ - harmonogram'!S24","v":0},{"$f":"'SHZ - harmonogram'!T24","v":0},{"$f":"'SHZ - harmonogram'!U24","v":0},{"$f":"'SHZ - harmonogram'!V24","v":0},{"$f":"'SHZ - harmonogram'!W24","v":0},{"$f":"'SHZ - harmonogram'!X24","v":0},{"$f":"'SHZ - harmonogram'!Y24","v":0},{"$f":"'SHZ - harmonogram'!Z24","v":0},{"$f":"'SHZ - harmonogram'!AA24","v":0},{"$f":"'SHZ - harmonogram'!AB24","v":0},{"$f":"'SHZ - harmonogram'!AC24","v":0},{"$f":"'SHZ - harmonogram'!AD24","v":0},{"$f":"'SHZ - harmonogram'!AE24","v":0},{"$f":"'SHZ - harmonogram'!AF24","v":0},{"$f":"'SHZ - harmonogram'!AG24","v":0},{"$f":"'SHZ - harmonogram'!AH24","v":0},{"$f":"'SHZ - harmonogram'!AI24","v":0},{"$f":"'SHZ - harmonogram'!AJ24","v":0},{"$f":"'SHZ - harmonogram'!AK24","v":0},{"$f":"'SHZ - harmonogram'!AL24","v":0},{"$f":"'SHZ - harmonogram'!AM24","v":0},{"$f":"'SHZ - harmonogram'!AN24","v":0},{"$f":"'SHZ - harmonogram'!AO24","v":0},{"$f":"'SHZ - harmonogram'!AP24","v":0},{"$f":"'SHZ - harmonogram'!AQ24","v":0},{"$f":"'SHZ - harmonogram'!AR24","v":0},{"$f":"'SHZ - harmonogram'!AS24","v":0},{"$f":"'SHZ - harmonogram'!AT24","v":0},{"$f":"'SHZ - harmonogram'!AU24","v":0},{"$f":"'SHZ - harmonogram'!AV24","v":0},{"$f":"'SHZ - harmonogram'!AW24","v":0}]
["Rozvaděče NN","SHZ",{"$f":"SUM(D14:AR14)","v":0},{"$f":"'SHZ - harmonogram'!I26","v":0},{"$f":"'SHZ - harmonogram'!J26","v":0},{"$f":"'SHZ - harmonogram'!K26","v":0},{"$f":"'SHZ - harmonogram'!L26","v":0},{"$f":"'SHZ - harmonogram'!M26","v":0},{"$f":"'SHZ - harmonogram'!N26","v":0},{"$f":"'SHZ - harmonogram'!O26","v":0},{"$f":"'SHZ - harmonogram'!P26","v":0},{"$f":"'SHZ - harmonogram'!Q26","v":0},{"$f":"'SHZ - harmonogram'!R26","v":0},{"$f":"'SHZ - harmonogram'!S26","v":0},{"$f":"'SHZ - harmonogram'!T26","v":0},{"$f":"'SHZ - harmonogram'!U26","v":0},{"$f":"'SHZ - harmonogram'!V26","v":0},{"$f":"'SHZ - harmonogram'!W26","v":0},{"$f":"'SHZ - harmonogram'!X26","v":0},{"$f":"'SHZ - harmonogram'!Y26","v":0},{"$f":"'SHZ - harmonogram'!Z26","v":0},{"$f":"'SHZ - harmonogram'!AA26","v":0},{"$f":"'SHZ - harmonogram'!AB26","v":0},{"$f":"'SHZ - harmonogram'!AC26","v":0},{"$f":"'SHZ - harmonogram'!AD26","v":0},{"$f":"'SHZ - harmonogram'!AE26","v":0},{"$f":"'SHZ - harmonogram'!AF26","v":0},{"$f":"'SHZ - harmonogram'!AG26","v":0},{"$f":"'SHZ - harmonogram'!AH26","v":0},{"$f":"'SHZ - harmonogram'!AI26","v":0},{"$f":"'SHZ - harmonogram'!AJ26","v":0},{"$f":"'SHZ - harmonogram'!AK26","v":0},{"$f":"'SHZ - harmonogram'!AL26","v":0},{"$f":"'SHZ - harmonogram'!AM26","v":0},{"$f":"'SHZ - harmonogram'!AN26","v":0},{"$f":"'SHZ - harmonogram'!AO26","v":0},{"$f":"'SHZ - harmonogram'!AP26","v":0},{"$f":"'SHZ - harmonogram'!AQ26","v":0},{"$f":"'SHZ - harmonogram'!AR26","v":0},{"$f":"'SHZ - harmonogram'!AS26","v":0},{"$f":"'SHZ - harmonogram'!AT26","v":0},{"$f":"'SHZ - harmonogram'!AU26","v":0},{"$f":"'SHZ - harmonogram'!AV26","v":0},{"$f":"'SHZ - harmonogram'!AW26","v":0}]
["Rozvaděče VN","SHZ",{"$f":"SUM(D15:AR15)","v":0},{"$f":"'SHZ - harmonogram'!I28","v":0},{"$f":"'SHZ - harmonogram'!J28","v":0},{"$f":"'SHZ - harmonogram'!K28","v":0},{"$f":"'SHZ - harmonogram'!L28","v":0},{"$f":"'SHZ - harmonogram'!M28","v":0},{"$f":"'SHZ - harmonogram'!N28","v":0},{"$f":"'SHZ - harmonogram'!O28","v":0},{"$f":"'SHZ - harmonogram'!P28","v":0},{"$f":"'SHZ - harmonogram'!Q28","v":0},{"$f":"'SHZ - harmonogram'!R28","v":0},{"$f":"'SHZ - harmonogram'!S28","v":0},{"$f":"'SHZ - harmonogram'!T28","v":0},{"$f":"'SHZ - harmonogram'!U28","v":0},{"$f":"'SHZ - harmonogram'!V28","v":0},{"$f":"'SHZ - harmonogram'!W28","v":0},{"$f":"'SHZ - harmonogram'!X28","v":0},{"$f":"'SHZ - harmonogram'!Y28","v":0},{"$f":"'SHZ - harmonogram'!Z28","v":0},{"$f":"'SHZ - harmonogram'!AA28","v":0},{"$f":"'SHZ - harmonogram'!AB28","v":0},{"$f":"'SHZ - harmonogram'!AC28","v":0},{"$f":"'SHZ - harmonogram'!AD28","v":0},{"$f":"'SHZ - harmonogram'!AE28","v":0},{"$f":"'SHZ - harmonogram'!AF28","v":0},{"$f":"'SHZ - harmonogram'!AG28","v":0},{"$f":"'SHZ - harmonogram'!AH28","v":0},{"$f":"'SHZ - harmonogram'!AI28","v":0},{"$f":"'SHZ - harmonogram'!AJ28","v":0},{"$f":"'SHZ - harmonogram'!AK28","v":0},{"$f":"'SHZ - harmonogram'!AL28","v":0},{"$f":"'SHZ - harmonogram'!AM28","v":0},{"$f":"'SHZ - harmonogram'!AN28","v":0},{"$f":"'SHZ - harmonogram'!AO28","v":0},{"$f":"'SHZ - harmonogram'!AP28","v":0},{"$f":"'SHZ - harmonogram'!AQ28","v":0},{"$f":"'SHZ - harmonogram'!AR28","v":0},{"$f":"'SHZ - harmonogram'!AS28","v":0},{"$f":"'SHZ - harmonogram'!AT28","v":0},{"$f":"'SHZ - harmonogram'!AU28","v":0},{"$f":"'SHZ - harmonogram'!AV28","v":0},{"$f":"'SHZ - harmonogram'!AW28","v":0}]
["Frekvenční měniče NN","SHZ",{"$f":"SUM(D16:AR16)","v":0},{"$f":"'SHZ - harmonogram'!I30","v":0},{"$f":"'SHZ - harmonogram'!J30","v":0},{"$f":"'SHZ - harmonogram'!K30","v":0},{"$f":"'SHZ - harmonogram'!L30","v":0},{"$f":"'SHZ - harmonogram'!M30","v":0},{"$f":"'SHZ - harmonogram'!N30","v":0},{"$f":"'SHZ - harmonogram'!O30","v":0},{"$f":"'SHZ - harmonogram'!P30","v":0},{"$f":"'SHZ - harmonogram'!Q30","v":0},{"$f":"'SHZ - harmonogram'!R30","v":0},{"$f":"'SHZ - harmonogram'!S30","v":0},{"$f":"'SHZ - harmonogram'!T30","v":0},{"$f":"'SHZ - harmonogram'!U30","v":0},{"$f":"'SHZ - harmonogram'!V30","v":0},{"$f":"'SHZ - harmonogram'!W30","v":0},{"$f":"'SHZ - harmonogram'!X30","v":0},{"$f":"'SHZ - harmonogram'!Y30","v":0},{"$f":"'SHZ - harmonogram'!Z30","v":0},{"$f":"'SHZ - harmonogram'!AA30","v":0},{"$f":"'SHZ - harmonogram'!AB30","v":0},{"$f":"'SHZ - harmonogram'!AC30","v":0},{"$f":"'SHZ - harmonogram'!AD30","v":0},{"$f":"'SHZ - harmonogram'!AE30","v":0},{"$f":"'SHZ - harmonogram'!AF30","v":0},{"$f":"'SHZ - harmonogram'!AG30","v":0},{"$f":"'SHZ - harmonogram'!AH30","v":0},{"$f":"'SHZ - harmonogram'!AI30","v":0},{"$f":"'SHZ - harmonogram'!AJ30","v":0},{"$f":"'SHZ - harmonogram'!AK30","v":0},{"$f":"'SHZ - harmonogram'!AL30","v":0},{"$f":"'SHZ - harmonogram'!AM30","v":0},{"$f":"'SHZ - harmonogram'!AN30","v":0},{"$f":"'SHZ - harmonogram'!AO30","v":0},{"$f":"'SHZ - harmonogram'!AP30","v":0},{"$f":"'SHZ - harmonogram'!AQ30","v":0},{"$f":"'SHZ - harmonogram'!AR30","v":0},{"$f":"'SHZ - harmonogram'!AS30","v":0},{"$f":"'SHZ - harmonogram'!AT30","v":0},{"$f":"'SHZ - harmonogram'!AU30","v":0},{"$f":"'SHZ - harmonogram'!AV30","v":0},{"$f":"'SHZ - harmonogram'!AW30","v":0}]
["Frekvenční měniče VN","SHZ",{"$f":"SUM(D17:AR17)","v":0},{"$f":"'SHZ - harmonogram'!I32","v":0},{"$f":"'SHZ - harmonogram'!J32","v":0},{"$f":"'SHZ - harmonogram'!K32","v":0},{"$f":"'SHZ - harmonogram'!L32","v":0},{"$f":"'SHZ - harmonogram'!M32","v":0},{"$f":"'SHZ - harmonogram'!N32","v":0},{"$f":"'SHZ - harmonogram'!O32","v":0},{"$f":"'SHZ - harmonogram'!P32","v":0},{"$f":"'SHZ - harmonogram'!Q32","v":0},{"$f":"'SHZ - harmonogram'!R32","v":0},{"$f":"'SHZ - harmonogram'!S32","v":0},{"$f":"'SHZ - harmonogram'!T32","v":0},{"$f":"'SHZ - harmonogram'!U32","v":0},{"$f":"'SHZ - harmonogram'!V32","v":0},{"$f":"'SHZ - harmonogram'!W32","v":0},{"$f":"'SHZ - harmonogram'!X32","v":0},{"$f":"'SHZ - harmonogram'!Y32","v":0},{"$f":"'SHZ - harmonogram'!Z32","v":0},{"$f":"'SHZ - harmonogram'!AA32","v":0},{"$f":"'SHZ - harmonogram'!AB32","v":0},{"$f":"'SHZ - harmonogram'!AC32","v":0},{"$f":"'SHZ - harmonogram'!AD32","v":0},{"$f":"'SHZ - harmonogram'!AE32","v":0},{"$f":"'SHZ - harmonogram'!AF32","v":0},{"$f":"'SHZ - harmonogram'!AG32","v":0},{"$f":"'SHZ - harmonogram'!AH32","v":0},{"$f":"'SHZ - harmonogram'!AI32","v":0},{"$f":"'SHZ - harmonogram'!AJ32","v":0},{"$f":"'SHZ - harmonogram'!AK32","v":0},{"$f":"'SHZ - harmonogram'!AL32","v":0},{"$f":"'SHZ - harmonogram'!AM32","v":0},{"$f":"'SHZ - harmonogram'!AN32","v":0},{"$f":"'SHZ - harmonogram'!AO32","v":0},{"$f":"'SHZ - harmonogram'!AP32","v":0},{"$f":"'SHZ - harmonogram'!AQ32","v":0},{"$f":"'SHZ - harmonogram'!AR32","v":0},{"$f":"'SHZ - harmonogram'!AS32","v":0},{"$f":"'SHZ - harmonogram'!AT32","v":0},{"$f":"'SHZ - harmonogram'!AU32","v":0},{"$f":"'SHZ - harmonogram'!AV32","v":0},{"$f":"'SHZ - harmonogram'!AW32","v":0}]
["Zásuvkové skříně","SHZ",{"$f":"SUM(D18:AR18)","v":0},{"$f":"'SHZ - harmonogram'!I34","v":0},{"$f":"'SHZ - harmonogram'!J34","v":0},{"$f":"'SHZ - harmonogram'!K34","v":0},{"$f":"'SHZ - harmonogram'!L34","v":0},{"$f":"'SHZ - harmonogram'!M34","v":0},{"$f":"'SHZ - harmonogram'!N34","v":0},{"$f":"'SHZ - harmonogram'!O34","v":0},{"$f":"'SHZ - harmonogram'!P34","v":0},{"$f":"'SHZ - harmonogram'!Q34","v":0},{"$f":"'SHZ - harmonogram'!R34","v":0},{"$f":"'SHZ - harmonogram'!S34","v":0},{"$f":"'SHZ - harmonogram'!T34","v":0},{"$f":"'SHZ - harmonogram'!U34","v":0},{"$f":"'SHZ - harmonogram'!V34","v":0},{"$f":"'SHZ - harmonogram'!W34","v":0},{"$f":"'SHZ - harmonogram'!X34","v":0},{"$f":"'SHZ - harmonogram'!Y34","v":0},{"$f":"'SHZ - harmonogram'!Z34","v":0},{"$f":"'SHZ - harmonogram'!AA34","v":0},{"$f":"'SHZ - harmonogram'!AB34","v":0},{"$f":"'SHZ - harmonogram'!AC34","v":0},{"$f":"'SHZ - harmonogram'!AD34","v":0},{"$f":"'SHZ - harmonogram'!AE34","v":0},{"$f":"'SHZ - harmonogram'!AF34","v":0},{"$f":"'SHZ - harmonogram'!AG34","v":0},{"$f":"'SHZ - harmonogram'!AH34","v":0},{"$f":"'SHZ - harmonogram'!AI34","v":0},{"$f":"'SHZ - harmonogram'!AJ34","v":0},{"$f":"'SHZ - harmonogram'!AK34","v":0},{"$f":"'SHZ - harmonogram'!AL34","v":0},{"$f":"'SHZ - harmonogram'!AM34","v":0},{"$f":"'SHZ - harmonogram'!AN34","v":0},{"$f":"'SHZ - harmonogram'!AO34","v":0},{"$f":"'SHZ - harmonogram'!AP34","v":0},{"$f":"'SHZ - harmonogram'!AQ34","v":0},{"$f":"'SHZ - harmonogram'!AR34","v":0},{"$f":"'SHZ - harmonogram'!AS34","v":0},{"$f":"'SHZ - harmonogram'!AT34","v":0},{"$f":"'SHZ - harmonogram'!AU34","v":0},{"$f":"'SHZ - harmonogram'!AV34","v":0},{"$f":"'SHZ - harmonogram'!AW34","v":0}]
["Stavební elektroinstalace","SHZ",{"$f":"SUM(D19:AR19)","v":0},{"$f":"'SHZ - harmonogram'!I36","v":0},{"$f":"'SHZ - harmonogram'!J36","v":0},{"$f":"'SHZ - harmonogram'!K36","v":0},{"$f":"'SHZ - harmonogram'!L36","v":0},{"$f":"'SHZ - harmonogram'!M36","v":0},{"$f":"'SHZ - harmonogram'!N36","v":0},{"$f":"'SHZ - harmonogram'!O36","v":0},{"$f":"'SHZ - harmonogram'!P36","v":0},{"$f":"'SHZ - harmonogram'!Q36","v":0},{"$f":"'SHZ - harmonogram'!R36","v":0},{"$f":"'SHZ - harmonogram'!S36","v":0},{"$f":"'SHZ - harmonogram'!T36","v":0},{"$f":"'SHZ - harmonogram'!U36","v":0},{"$f":"'SHZ - harmonogram'!V36","v":0},{"$f":"'SHZ - harmonogram'!W36","v":0},{"$f":"'SHZ - harmonogram'!X36","v":0},{"$f":"'SHZ - harmonogram'!Y36","v":0},{"$f":"'SHZ - harmonogram'!Z36","v":0},{"$f":"'SHZ - harmonogram'!AA36","v":0},{"$f":"'SHZ - harmonogram'!AB36","v":0},{"$f":"'SHZ - harmonogram'!AC36","v":0},{"$f":"'SHZ - harmonogram'!AD36","v":0},{"$f":"'SHZ - harmonogram'!AE36","v":0},{"$f":"'SHZ - harmonogram'!AF36","v":0},{"$f":"'SHZ - harmonogram'!AG36","v":0},{"$f":"'SHZ - harmonogram'!AH36","v":0},{"$f":"'SHZ - harmonogram'!AI36","v":0},{"$f":"'SHZ - harmonogram'!AJ36","v":0},{"$f":"'SHZ - harmonogram'!AK36","v":0},{"$f":"'SHZ - harmonogram'!AL36","v":0},{"$f":"'SHZ - harmonogram'!AM36","v":0},{"$f":"'SHZ - harmonogram'!AN36","v":0},{"$f":"'SHZ - harmonogram'!AO36","v":0},{"$f":"'SHZ - harmonogram'!AP36","v":0},{"$f":"'SHZ - harmonogram'!AQ36","v":0},{"$f":"'SHZ - harmonogram'!AR36","v":0},{"$f":"'SHZ - harmonogram'!AS36","v":0},{"$f":"'SHZ - harmonogram'!AT36","v":0},{"$f":"'SHZ - harmonogram'!AU36","v":0},{"$f":"'SHZ - harmonogram'!AV36","v":0},{"$f":"'SHZ - harmonogram'!AW36","v":0}]
["Podlahy","SHZ",{"$f":"SUM(D20:AR20)","v":0},{"$f":"'SHZ - harmonogram'!I38","v":0},{"$f":"'SHZ - harmonogram'!J38","v":0},{"$f":"'SHZ - harmonogram'!K38","v":0},{"$f":"'SHZ - harmonogram'!L38","v":0},{"$f":"'SHZ - harmonogram'!M38","v":0},{"$f":"'SHZ - harmonogram'!N38","v":0},{"$f":"'SHZ - harmonogram'!O38","v":0},{"$f":"'SHZ - harmonogram'!P38","v":0},{"$f":"'SHZ - harmonogram'!Q38","v":0},{"$f":"'SHZ - harmonogram'!R38","v":0},{"$f":"'SHZ - harmonogram'!S38","v":0},{"$f":"'SHZ - harmonogram'!T38","v":0},{"$f":"'SHZ - harmonogram'!U38","v":0},{"$f":"'SHZ - harmonogram'!V38","v":0},{"$f":"'SHZ - harmonogram'!W38","v":0},{"$f":"'SHZ - harmonogram'!X38","v":0},{"$f":"'SHZ - harmonogram'!Y38","v":0},{"$f":"'SHZ - harmonogram'!Z38","v":0},{"$f":"'SHZ - harmonogram'!AA38","v":0},{"$f":"'SHZ - harmonogram'!AB38","v":0},{"$f":"'SHZ - harmonogram'!AC38","v":0},{"$f":"'SHZ - harmonogram'!AD38","v":0},{"$f":"'SHZ - harmonogram'!AE38","v":0},{"$f":"'SHZ - harmonogram'!AF38","v":0},{"$f":"'SHZ - harmonogram'!AG38","v":0},{"$f":"'SHZ - harmonogram'!AH38","v":0},{"$f":"'SHZ - harmonogram'!AI38","v":0},{"$f":"'SHZ - harmonogram'!AJ38","v":0},{"$f":"'SHZ - harmonogram'!AK38","v":0},{"$f":"'SHZ - harmonogram'!AL38","v":0},{"$f":"'SHZ - harmonogram'!AM38","v":0},{"$f":"'SHZ - harmonogram'!AN38","v":0},{"$f":"'SHZ - harmonogram'!AO38","v":0},{"$f":"'SHZ - harmonogram'!AP38","v":0},{"$f":"'SHZ - harmonogram'!AQ38","v":0},{"$f":"'SHZ - harmonogram'!AR38","v":0},{"$f":"'SHZ - harmonogram'!AS38","v":0},{"$f":"'SHZ - harmonogram'!AT38","v":0},{"$f":"'SHZ - harmonogram'!AU38","v":0},{"$f":"'SHZ - harmonogram'!AV38","v":0},{"$f":"'SHZ - harmonogram'!AW38","v":0}]
["Obvodové stěny","SHZ",{"$f":"SUM(D21:AR21)","v":0},{"$f":"'SHZ - harmonogram'!I40","v":0},{"$f":"'SHZ - harmonogram'!J40","v":0},{"$f":"'SHZ - harmonogram'!K40","v":0},{"$f":"'SHZ - harmonogram'!L40","v":0},{"$f":"'SHZ - harmonogram'!M40","v":0},{"$f":"'SHZ - harmonogram'!N40","v":0},{"$f":"'SHZ - harmonogram'!O40","v":0},{"$f":"'SHZ - harmonogram'!P40","v":0},{"$f":"'SHZ - harmonogram'!Q40","v":0},{"$f":"'SHZ - harmonogram'!R40","v":0},{"$f":"'SHZ - harmonogram'!S40","v":0},{"$f":"'SHZ - harmonogram'!T40","v":0},{"$f":"'SHZ - harmonogram'!U40","v":0},{"$f":"'SHZ - harmonogram'!V40","v":0},{"$f":"'SHZ - harmonogram'!W40","v":0},{"$f":"'SHZ - harmonogram'!X40","v":0},{"$f":"'SHZ - harmonogram'!Y40","v":0},{"$f":"'SHZ - harmonogram'!Z40","v":0},{"$f":"'SHZ - harmonogram'!AA40","v":0},{"$f":"'SHZ - harmonogram'!AB40","v":0},{"$f":"'SHZ - harmonogram'!AC40","v":0},{"$f":"'SHZ - harmonogram'!AD40","v":0},{"$f":"'SHZ - harmonogram'!AE40","v":0},{"$f":"'SHZ - harmonogram'!AF40","v":0},{"$f":"'SHZ - harmonogram'!AG40","v":0},{"$f":"'SHZ - harmonogram'!AH40","v":0},{"$f":"'SHZ - harmonogram'!AI40","v":0},{"$f":"'SHZ - harmonogram'!AJ40","v":0},{"$f":"'SHZ - harmonogram'!AK40","v":0},{"$f":"'SHZ - harmonogram'!AL40","v":0},{"$f":"'SHZ - harmonogram'!AM40","v":0},{"$f":"'SHZ - harmonogram'!AN40","v":0},{"$f":"'SHZ - harmonogram'!AO40","v":0},{"$f":"'SHZ - harmonogram'!AP40","v":0},{"$f":"'SHZ - harmonogram'!AQ40","v":0},{"$f":"'SHZ - harmonogram'!AR40","v":0},{"$f":"'SHZ - harmonogram'!AS40","v":0},{"$f":"'SHZ - harmonogram'!AT40","v":0},{"$f":"'SHZ - harmonogram'!AU40","v":0},{"$f":"'SHZ - harmonogram'!AV40","v":0},{"$f":"'SHZ - harmonogram'!AW40","v":0}]
["Svislé dělící a výplňové konstrukce","SHZ",{"$f":"SUM(D22:AR22)","v":0},{"$f":"'SHZ - harmonogram'!I42","v":0},{"$f":"'SHZ - harmonogram'!J42","v":0},{"$f":"'SHZ - harmonogram'!K42","v":0},{"$f":"'SHZ - harmonogram'!L42","v":0},{"$f":"'SHZ - harmonogram'!M42","v":0},{"$f":"'SHZ - harmonogram'!N42","v":0},{"$f":"'SHZ - harmonogram'!O42","v":0},{"$f":"'SHZ - harmonogram'!P42","v":0},{"$f":"'SHZ - harmonogram'!Q42","v":0},{"$f":"'SHZ - harmonogram'!R42","v":0},{"$f":"'SHZ - harmonogram'!S42","v":0},{"$f":"'SHZ - harmonogram'!T42","v":0},{"$f":"'SHZ - harmonogram'!U42","v":0},{"$f":"'SHZ - harmonogram'!V42","v":0},{"$f":"'SHZ - harmonogram'!W42","v":0},{"$f":"'SHZ - harmonogram'!X42","v":0},{"$f":"'SHZ - harmonogram'!Y42","v":0},{"$f":"'SHZ - harmonogram'!Z42","v":0},{"$f":"'SHZ - harmonogram'!AA42","v":0},{"$f":"'SHZ - harmonogram'!AB42","v":0},{"$f":"'SHZ - harmonogram'!AC42","v":0},{"$f":"'SHZ - harmonogram'!AD42","v":0},{"$f":"'SHZ - harmonogram'!AE42","v":0},{"$f":"'SHZ - harmonogram'!AF42","v":0},{"$f":"'SHZ - harmonogram'!AG42","v":0},{"$f":"'SHZ - harmonogram'!AH42","v":0},{"$f":"'SHZ - harmonogram'!AI42","v":0},{"$f":"'SHZ - harmonogram'!AJ42","v":0},{"$f":"'SHZ - harmonogram'!AK42","v":0},{"$f":"'SHZ - harmonogram'!AL42","v":0},{"$f":"'SHZ - harmonogram'!AM42","v":0},{"$f":"'SHZ - harmonogram'!AN42","v":0},{"$f":"'SHZ - harmonogram'!AO42","v":0},{"$f":"'SHZ - harmonogram'!AP42","v":0},{"$f":"'SHZ - harmonogram'!AQ42","v":0},{"$f":"'SHZ - harmonogram'!AR42","v":0},{"$f":"'SHZ - harmonogram'!AS42","v":0},{"$f":"'SHZ - harmonogram'!AT42","v":0},{"$f":"'SHZ - harmonogram'!AU42","v":0},{"$f":"'SHZ - harmonogram'!AV42","v":0},{"$f":"'SHZ - harmonogram'!AW42","v":0}]
["Střecha","SHZ",{"$f":"SUM(D23:AR23)","v":0},{"$f":"'SHZ - harmonogram'!I44","v":0},{"$f":"'SHZ - harmonogram'!J44","v":0},{"$f":"'SHZ - harmonogram'!K44","v":0},{"$f":"'SHZ - harmonogram'!L44","v":0},{"$f":"'SHZ - harmonogram'!M44","v":0},{"$f":"'SHZ - harmonogram'!N44","v":0},{"$f":"'SHZ - harmonogram'!O44","v":0},{"$f":"'SHZ - harmonogram'!P44","v":0},{"$f":"'SHZ - harmonogram'!Q44","v":0},{"$f":"'SHZ - harmonogram'!R44","v":0},{"$f":"'SHZ - harmonogram'!S44","v":0},{"$f":"'SHZ - harmonogram'!T44","v":0},{"$f":"'SHZ - harmonogram'!U44","v":0},{"$f":"'SHZ - harmonogram'!V44","v":0},{"$f":"'SHZ - harmonogram'!W44","v":0},{"$f":"'SHZ - harmonogram'!X44","v":0},{"$f":"'SHZ - harmonogram'!Y44","v":0},{"$f":"'SHZ - harmonogram'!Z44","v":0},{"$f":"'SHZ - harmonogram'!AA44","v":0},{"$f":"'SHZ - harmonogram'!AB44","v":0},{"$f":"'SHZ - harmonogram'!AC44","v":0},{"$f":"'SHZ - harmonogram'!AD44","v":0},{"$f":"'SHZ - harmonogram'!AE44","v":0},{"$f":"'SHZ - harmonogram'!AF44","v":0},{"$f":"'SHZ - harmonogram'!AG44","v":0},{"$f":"'SHZ - harmonogram'!AH44","v":0},{"$f":"'SHZ - harmonogram'!AI44","v":0},{"$f":"'SHZ - harmonogram'!AJ44","v":0},{"$f":"'SHZ - harmonogram'!AK44","v":0},{"$f":"'SHZ - harmonogram'!AL44","v":0},{"$f":"'SHZ - harmonogram'!AM44","v":0},{"$f":"'SHZ - harmonogram'!AN44","v":0},{"$f":"'SHZ - harmonogram'!AO44","v":0},{"$f":"'SHZ - harmonogram'!AP44","v":0},{"$f":"'SHZ - harmonogram'!AQ44","v":0},{"$f":"'SHZ - harmonogram'!AR44","v":0},{"$f":"'SHZ - harmonogram'!AS44","v":0},{"$f":"'SHZ - harmonogram'!AT44","v":0},{"$f":"'SHZ - harmonogram'!AU44","v":0},{"$f":"'SHZ - harmonogram'!AV44","v":0},{"$f":"'SHZ - harmonogram'!AW44","v":0}]
["ZTI","SHZ",{"$f":"SUM(D24:AR24)","v":0},{"$f":"'SHZ - harmonogram'!I46","v":0},{"$f":"'SHZ - harmonogram'!J46","v":0},{"$f":"'SHZ - harmonogram'!K46","v":0},{"$f":"'SHZ - harmonogram'!L46","v":0},{"$f":"'SHZ - harmonogram'!M46","v":0},{"$f":"'SHZ - harmonogram'!N46","v":0},{"$f":"'SHZ - harmonogram'!O46","v":0},{"$f":"'SHZ - harmonogram'!P46","v":0},{"$f":"'SHZ - harmonogram'!Q46","v":0},{"$f":"'SHZ - harmonogram'!R46","v":0},{"$f":"'SHZ - harmonogram'!S46","v":0},{"$f":"'SHZ - harmonogram'!T46","v":0},{"$f":"'SHZ - harmonogram'!U46","v":0},{"$f":"'SHZ - harmonogram'!V46","v":0},{"$f":"'SHZ - harmonogram'!W46","v":0},{"$f":"'SHZ - harmonogram'!X46","v":0},{"$f":"'SHZ - harmonogram'!Y46","v":0},{"$f":"'SHZ - harmonogram'!Z46","v":0},{"$f":"'SHZ - harmonogram'!AA46","v":0},{"$f":"'SHZ - harmonogram'!AB46","v":0},{"$f":"'SHZ - harmonogram'!AC46","v":0},{"$f":"'SHZ - harmonogram'!AD46","v":0},{"$f":"'SHZ - harmonogram'!AE46","v":0},{"$f":"'SHZ - harmonogram'!AF46","v":0},{"$f":"'SHZ - harmonogram'!AG46","v":0},{"$f":"'SHZ - harmonogram'!AH46","v":0},{"$f":"'SHZ - harmonogram'!AI46","v":0},{"$f":"'SHZ - harmonogram'!AJ46","v":0},{"$f":"'SHZ - harmonogram'!AK46","v":0},{"$f":"'SHZ - harmonogram'!AL46","v":0},{"$f":"'SHZ - harmonogram'!AM46","v":0},{"$f":"'SHZ - harmonogram'!AN46","v":0},{"$f":"'SHZ - harmonogram'!AO46","v":0},{"$f":"'SHZ - harmonogram'!AP46","v":0},{"$f":"'SHZ - harmonogram'!AQ46","v":0},{"$f":"'SHZ - harmonogram'!AR46","v":0},{"$f":"'SHZ - harmonogram'!AS46","v":0},{"$f":"'SHZ - harmonogram'!AT46","v":0},{"$f":"'SHZ - harmonogram'!AU46","v":0},{"$f":"'SHZ - harmonogram'!AV46","v":0},{"$f":"'SHZ - harmonogram'!AW46","v":0}]
["Vzduchotechnika","SHZ",{"$f":"SUM(D25:AR25)","v":0},{"$f":"'SHZ - harmonogram'!I48","v":0},{"$f":"'SHZ - harmonogram'!J48","v":0},{"$f":"'SHZ - harmonogram'!K48","v":0},{"$f":"'SHZ - harmonogram'!L48","v":0},{"$f":"'SHZ - harmonogram'!M48","v":0},{"$f":"'SHZ - harmonogram'!N48","v":0},{"$f":"'SHZ - harmonogram'!O48","v":0},{"$f":"'SHZ - harmonogram'!P48","v":0},{"$f":"'SHZ - harmonogram'!Q48","v":0},{"$f":"'SHZ - harmonogram'!R48","v":0},{"$f":"'SHZ - harmonogram'!S48","v":0},{"$f":"'SHZ - harmonogram'!T48","v":0},{"$f":"'SHZ - harmonogram'!U48","v":0},{"$f":"'SHZ - harmonogram'!V48","v":0},{"$f":"'SHZ - harmonogram'!W48","v":0},{"$f":"'SHZ - harmonogram'!X48","v":0},{"$f":"'SHZ - harmonogram'!Y48","v":0},{"$f":"'SHZ - harmonogram'!Z48","v":0},{"$f":"'SHZ - harmonogram'!AA48","v":0},{"$f":"'SHZ - harmonogram'!AB48","v":0},{"$f":"'SHZ - harmonogram'!AC48","v":0},{"$f":"'SHZ - harmonogram'!AD48","v":0},{"$f":"'SHZ - harmonogram'!AE48","v":0},{"$f":"'SHZ - harmonogram'!AF48","v":0},{"$f":"'SHZ - harmonogram'!AG48","v":0},{"$f":"'SHZ - harmonogram'!AH48","v":0},{"$f":"'SHZ - harmonogram'!AI48","v":0},{"$f":"'SHZ - harmonogram'!AJ48","v":0},{"$f":"'SHZ - harmonogram'!AK48","v":0},{"$f":"'SHZ - harmonogram'!AL48","v":0},{"$f":"'SHZ - harmonogram'!AM48","v":0},{"$f":"'SHZ - harmonogram'!AN48","v":0},{"$f":"'SHZ - harmonogram'!AO48","v":0},{"$f":"'SHZ - harmonogram'!AP48","v":0},{"$f":"'SHZ - harmonogram'!AQ48","v":0},{"$f":"'SHZ - harmonogram'!AR48","v":0},{"$f":"'SHZ - harmonogram'!AS48","v":0},{"$f":"'SHZ - harmonogram'!AT48","v":0},{"$f":"'SHZ - harmonogram'!AU48","v":0},{"$f":"'SHZ - harmonogram'!AV48","v":0},{"$f":"'SHZ - harmonogram'!AW48","v":0}]
["Potrubní část, Kabeláž, Nosný kab. systém, Technologické OK, přístupy lávky, schodiště - ET. II.","SHZ",{"$f":"SUM(D26:AR26)","v":0},{"$f":"'SHZ - harmonogram'!I50","v":0},{"$f":"'SHZ - harmonogram'!J50","v":0},{"$f":"'SHZ - harmonogram'!K50","v":0},{"$f":"'SHZ - harmonogram'!L50","v":0},{"$f":"'SHZ - harmonogram'!M50","v":0},{"$f":"'SHZ - harmonogram'!N50","v":0},{"$f":"'SHZ - harmonogram'!O50","v":0},{"$f":"'SHZ - harmonogram'!P50","v":0},{"$f":"'SHZ - harmonogram'!Q50","v":0},{"$f":"'SHZ - harmonogram'!R50","v":0},{"$f":"'SHZ - harmonogram'!S50","v":0},{"$f":"'SHZ - harmonogram'!T50","v":0},{"$f":"'SHZ - harmonogram'!U50","v":0},{"$f":"'SHZ - harmonogram'!V50","v":0},{"$f":"'SHZ - harmonogram'!W50","v":0},{"$f":"'SHZ - harmonogram'!X50","v":0},{"$f":"'SHZ - harmonogram'!Y50","v":0},{"$f":"'SHZ - harmonogram'!Z50","v":0},{"$f":"'SHZ - harmonogram'!AA50","v":0},{"$f":"'SHZ - harmonogram'!AB50","v":0},{"$f":"'SHZ - harmonogram'!AC50","v":0},{"$f":"'SHZ - harmonogram'!AD50","v":0},{"$f":"'SHZ - harmonogram'!AE50","v":0},{"$f":"'SHZ - harmonogram'!AF50","v":0},{"$f":"'SHZ - harmonogram'!AG50","v":0},{"$f":"'SHZ - harmonogram'!AH50","v":0},{"$f":"'SHZ - harmonogram'!AI50","v":0},{"$f":"'SHZ - harmonogram'!AJ50","v":0},{"$f":"'SHZ - harmonogram'!AK50","v":0},{"$f":"'SHZ - harmonogram'!AL50","v":0},{"$f":"'SHZ - harmonogram'!AM50","v":0},{"$f":"'SHZ - harmonogram'!AN50","v":0},{"$f":"'SHZ - harmonogram'!AO50","v":0},{"$f":"'SHZ - harmonogram'!AP50","v":0},{"$f":"'SHZ - harmonogram'!AQ50","v":0},{"$f":"'SHZ - harmonogram'!AR50","v":0},{"$f":"'SHZ - harmonogram'!AS50","v":0},{"$f":"'SHZ - harmonogram'!AT50","v":0},{"$f":"'SHZ - harmonogram'!AU50","v":0},{"$f":"'SHZ - harmonogram'!AV50","v":0},{"$f":"'SHZ - harmonogram'!AW50","v":0}]
["ASŘ ETAPA I. a II.","SHZ",{"$f":"SUM(D27:AR27)","v":0},{"$f":"'SHZ - harmonogram'!I52","v":0},{"$f":"'SHZ - harmonogram'!J52","v":0},{"$f":"'SHZ - harmonogram'!K52","v":0},{"$f":"'SHZ - harmonogram'!L52","v":0},{"$f":"'SHZ - harmonogram'!M52","v":0},{"$f":"'SHZ - harmonogram'!N52","v":0},{"$f":"'SHZ - harmonogram'!O52","v":0},{"$f":"'SHZ - harmonogram'!P52","v":0},{"$f":"'SHZ - harmonogram'!Q52","v":0},{"$f":"'SHZ - harmonogram'!R52","v":0},{"$f":"'SHZ - harmonogram'!S52","v":0},{"$f":"'SHZ - harmonogram'!T52","v":0},{"$f":"'SHZ - harmonogram'!U52","v":0},{"$f":"'SHZ - harmonogram'!V52","v":0},{"$f":"'SHZ - harmonogram'!W52","v":0},{"$f":"'SHZ - harmonogram'!X52","v":0},{"$f":"'SHZ - harmonogram'!Y52","v":0},{"$f":"'SHZ - harmonogram'!Z52","v":0},{"$f":"'SHZ - harmonogram'!AA52","v":0},{"$f":"'SHZ - harmonogram'!AB52","v":0},{"$f":"'SHZ - harmonogram'!AC52","v":0},{"$f":"'SHZ - harmonogram'!AD52","v":0},{"$f":"'SHZ - harmonogram'!AE52","v":0},{"$f":"'SHZ - harmonogram'!AF52","v":0},{"$f":"'SHZ - harmonogram'!AG52","v":0},{"$f":"'SHZ - harmonogram'!AH52","v":0},{"$f":"'SHZ - harmonogram'!AI52","v":0},{"$f":"'SHZ - harmonogram'!AJ52","v":0},{"$f":"'SHZ - harmonogram'!AK52","v":0},{"$f":"'SHZ - harmonogram'!AL52","v":0},{"$f":"'SHZ - harmonogram'!AM52","v":0},{"$f":"'SHZ - harmonogram'!AN52","v":0},{"$f":"'SHZ - harmonogram'!AO52","v":0},{"$f":"'SHZ - harmonogram'!AP52","v":0},{"$f":"'SHZ - harmonogram'!AQ52","v":0},{"$f":"'SHZ - harmonogram'!AR52","v":0},{"$f":"'SHZ - harmonogram'!AS52","v":0},{"$f":"'SHZ - harmonogram'!AT52","v":0},{"$f":"'SHZ - harmonogram'!AU52","v":0},{"$f":"'SHZ - harmonogram'!AV52","v":0},{"$f":"'SHZ - harmonogram'!AW52","v":0}]
["Převzetí díla k užívání ET. I. A ET. II. ","SHZ",{"$f":"SUM(D28:AR28)","v":0},{"$f":"'SHZ - harmonogram'!I54","v":0},{"$f":"'SHZ - harmonogram'!J54","v":0},{"$f":"'SHZ - harmonogram'!K54","v":0},{"$f":"'SHZ - harmonogram'!L54","v":0},{"$f":"'SHZ - harmonogram'!M54","v":0},{"$f":"'SHZ - harmonogram'!N54","v":0},{"$f":"'SHZ - harmonogram'!O54","v":0},{"$f":"'SHZ - harmonogram'!P54","v":0},{"$f":"'SHZ - harmonogram'!Q54","v":0},{"$f":"'SHZ - harmonogram'!R54","v":0},{"$f":"'SHZ - harmonogram'!S54","v":0},{"$f":"'SHZ - harmonogram'!T54","v":0},{"$f":"'SHZ - harmonogram'!U54","v":0},{"$f":"'SHZ - harmonogram'!V54","v":0},{"$f":"'SHZ - harmonogram'!W54","v":0},{"$f":"'SHZ - harmonogram'!X54","v":0},{"$f":"'SHZ - harmonogram'!Y54","v":0},{"$f":"'SHZ - harmonogram'!Z54","v":0},{"$f":"'SHZ - harmonogram'!AA54","v":0},{"$f":"'SHZ - harmonogram'!AB54","v":0},{"$f":"'SHZ - harmonogram'!AC54","v":0},{"$f":"'SHZ - harmonogram'!AD54","v":0},{"$f":"'SHZ - harmonogram'!AE54","v":0},{"$f":"'SHZ - harmonogram'!AF54","v":0},{"$f":"'SHZ - harmonogram'!AG54","v":0},{"$f":"'SHZ - harmonogram'!AH54","v":0},{"$f":"'SHZ - harmonogram'!AI54","v":0},{"$f":"'SHZ - harmonogram'!AJ54","v":0},{"$f":"'SHZ - harmonogram'!AK54","v":0},{"$f":"'SHZ - harmonogram'!AL54","v":0},{"$f":"'SHZ - harmonogram'!AM54","v":0},{"$f":"'SHZ - harmonogram'!AN54","v":0},{"$f":"'SHZ - harmonogram'!AO54","v":0},{"$f":"'SHZ - harmonogram'!AP54","v":0},{"$f":"'SHZ - harmonogram'!AQ54","v":0},{"$f":"'SHZ - harmonogram'!AR54","v":0},{"$f":"'SHZ - harmonogram'!AS54","v":0},{"$f":"'SHZ - harmonogram'!AT54","v":0},{"$f":"'SHZ - harmonogram'!AU54","v":0},{"$f":"'SHZ - harmonogram'!AV54","v":0},{"$f":"'SHZ - harmonogram'!AW54","v":0}]
["ASŘ ETAPA III.","SHZ",{"$f":"SUM(D29:AR29)","v":0},{"$f":"'SHZ - harmonogram'!I56","v":0},{"$f":"'SHZ - harmonogram'!J56","v":0},{"$f":"'SHZ - harmonogram'!K56","v":0},{"$f":"'SHZ - harmonogram'!L56","v":0},{"$f":"'SHZ - harmonogram'!M56","v":0},{"$f":"'SHZ - harmonogram'!N56","v":0},{"$f":"'SHZ - harmonogram'!O56","v":0},{"$f":"'SHZ - harmonogram'!P56","v":0},{"$f":"'SHZ - harmonogram'!Q56","v":0},{"$f":"'SHZ - harmonogram'!R56","v":0},{"$f":"'SHZ - harmonogram'!S56","v":0},{"$f":"'SHZ - harmonogram'!T56","v":0},{"$f":"'SHZ - harmonogram'!U56","v":0},{"$f":"'SHZ - harmonogram'!V56","v":0},{"$f":"'SHZ - harmonogram'!W56","v":0},{"$f":"'SHZ - harmonogram'!X56","v":0},{"$f":"'SHZ - harmonogram'!Y56","v":0},{"$f":"'SHZ - harmonogram'!Z56","v":0},{"$f":"'SHZ - harmonogram'!AA56","v":0},{"$f":"'SHZ - harmonogram'!AB56","v":0},{"$f":"'SHZ - harmonogram'!AC56","v":0},{"$f":"'SHZ - harmonogram'!AD56","v":0},{"$f":"'SHZ - harmonogram'!AE56","v":0},{"$f":"'SHZ - harmonogram'!AF56","v":0},{"$f":"'SHZ - harmonogram'!AG56","v":0},{"$f":"'SHZ - harmonogram'!AH56","v":0},{"$f":"'SHZ - harmonogram'!AI56","v":0},{"$f":"'SHZ - harmonogram'!AJ56","v":0},{"$f":"'SHZ - harmonogram'!AK56","v":0},{"$f":"'SHZ - harmonogram'!AL56","v":0},{"$f":"'SHZ - harmonogram'!AM56","v":0},{"$f":"'SHZ - harmonogram'!AN56","v":0},{"$f":"'SHZ - harmonogram'!AO56","v":0},{"$f":"'SHZ - harmonogram'!AP56","v":0},{"$f":"'SHZ - harmonogram'!AQ56","v":0},{"$f":"'SHZ - harmonogram'!AR56","v":0},{"$f":"'SHZ - harmonogram'!AS56","v":0},{"$f":"'SHZ - harmonogram'!AT56","v":0},{"$f":"'SHZ - harmonogram'!AU56","v":0},{"$f":"'SHZ - harmonogram'!AV56","v":0},{"$f":"'SHZ - harmonogram'!AW56","v":0}]
["Ostatní","SHZ",{"$f":"SUM(D30:AR30)","v":0},{"$f":"'SHZ - harmonogram'!I58","v":0},{"$f":"'SHZ - harmonogram'!J58","v":0},{"$f":"'SHZ - harmonogram'!K58","v":0},{"$f":"'SHZ - harmonogram'!L58","v":0},{"$f":"'SHZ - harmonogram'!M58","v":0},{"$f":"'SHZ - harmonogram'!N58","v":0},{"$f":"'SHZ - harmonogram'!O58","v":0},{"$f":"'SHZ - harmonogram'!P58","v":0},{"$f":"'SHZ - harmonogram'!Q58","v":0},{"$f":"'SHZ - harmonogram'!R58","v":0},{"$f":"'SHZ - harmonogram'!S58","v":0},{"$f":"'SHZ - harmonogram'!T58","v":0},{"$f":"'SHZ - harmonogram'!U58","v":0},{"$f":"'SHZ - harmonogram'!V58","v":0},{"$f":"'SHZ - harmonogram'!W58","v":0},{"$f":"'SHZ - harmonogram'!X58","v":0},{"$f":"'SHZ - harmonogram'!Y58","v":0},{"$f":"'SHZ - harmonogram'!Z58","v":0},{"$f":"'SHZ - harmonogram'!AA58","v":0},{"$f":"'SHZ - harmonogram'!AB58","v":0},{"$f":"'SHZ - harmonogram'!AC58","v":0},{"$f":"'SHZ - harmonogram'!AD58","v":0},{"$f":"'SHZ - harmonogram'!AE58","v":0},{"$f":"'SHZ - harmonogram'!AF58","v":0},{"$f":"'SHZ - harmonogram'!AG58","v":0},{"$f":"'SHZ - harmonogram'!AH58","v":0},{"$f":"'SHZ - harmonogram'!AI58","v":0},{"$f":"'SHZ - harmonogram'!AJ58","v":0},{"$f":"'SHZ - harmonogram'!AK58","v":0},{"$f":"'SHZ - harmonogram'!AL58","v":0},{"$f":"'SHZ - harmonogram'!AM58","v":0},{"$f":"'SHZ - harmonogram'!AN58","v":0},{"$f":"'SHZ - harmonogram'!AO58","v":0},{"$f":"'SHZ - harmonogram'!AP58","v":0},{"$f":"'SHZ - harmonogram'!AQ58","v":0},{"$f":"'SHZ - harmonogram'!AR58","v":0},{"$f":"'SHZ - harmonogram'!AS58","v":0},{"$f":"'SHZ - harmonogram'!AT58","v":0},{"$f":"'SHZ - harmonogram'!AU58","v":0},{"$f":"'SHZ - harmonogram'!AV58","v":0},{"$f":"'SHZ - harmonogram'!AW58","v":0}]
["Potrubní část, Kabeláž, Nosný kab. systém, Technologické OK, přístupy lávky, schodiště - ET. III.","SHZ",{"$f":"SUM(D31:AR31)","v":0},{"$f":"'SHZ - harmonogram'!I60","v":0},{"$f":"'SHZ - harmonogram'!J60","v":0},{"$f":"'SHZ - harmonogram'!K60","v":0},{"$f":"'SHZ - harmonogram'!L60","v":0},{"$f":"'SHZ - harmonogram'!M60","v":0},{"$f":"'SHZ - harmonogram'!N60","v":0},{"$f":"'SHZ - harmonogram'!O60","v":0},{"$f":"'SHZ - harmonogram'!P60","v":0},{"$f":"'SHZ - harmonogram'!Q60","v":0},{"$f":"'SHZ - harmonogram'!R60","v":0},{"$f":"'SHZ - harmonogram'!S60","v":0},{"$f":"'SHZ - harmonogram'!T60","v":0},{"$f":"'SHZ - harmonogram'!U60","v":0},{"$f":"'SHZ - harmonogram'!V60","v":0},{"$f":"'SHZ - harmonogram'!W60","v":0},{"$f":"'SHZ - harmonogram'!X60","v":0},{"$f":"'SHZ - harmonogram'!Y60","v":0},{"$f":"'SHZ - harmonogram'!Z60","v":0},{"$f":"'SHZ - harmonogram'!AA60","v":0},{"$f":"'SHZ - harmonogram'!AB60","v":0},{"$f":"'SHZ - harmonogram'!AC60","v":0},{"$f":"'SHZ - harmonogram'!AD60","v":0},{"$f":"'SHZ - harmonogram'!AE60","v":0},{"$f":"'SHZ - harmonogram'!AF60","v":0},{"$f":"'SHZ - harmonogram'!AG60","v":0},{"$f":"'SHZ - harmonogram'!AH60","v":0},{"$f":"'SHZ - harmonogram'!AI60","v":0},{"$f":"'SHZ - harmonogram'!AJ60","v":0},{"$f":"'SHZ - harmonogram'!AK60","v":0},{"$f":"'SHZ - harmonogram'!AL60","v":0},{"$f":"'SHZ - harmonogram'!AM60","v":0},{"$f":"'SHZ - harmonogram'!AN60","v":0},{"$f":"'SHZ - harmonogram'!AO60","v":0},{"$f":"'SHZ - harmonogram'!AP60","v":0},{"$f":"'SHZ - harmonogram'!AQ60","v":0},{"$f":"'SHZ - harmonogram'!AR60","v":0},{"$f":"'SHZ - harmonogram'!AS60","v":0},{"$f":"'SHZ - harmonogram'!AT60","v":0},{"$f":"'SHZ - harmonogram'!AU60","v":0},{"$f":"'SHZ - harmonogram'!AV60","v":0},{"$f":"'SHZ - harmonogram'!AW60","v":0}]
["Dokončení stavebních prací","SHZ",{"$f":"SUM(D32:AR32)","v":0},{"$f":"'SHZ - harmonogram'!I62","v":0},{"$f":"'SHZ - harmonogram'!J62","v":0},{"$f":"'SHZ - harmonogram'!K62","v":0},{"$f":"'SHZ - harmonogram'!L62","v":0},{"$f":"'SHZ - harmonogram'!M62","v":0},{"$f":"'SHZ - harmonogram'!N62","v":0},{"$f":"'SHZ - harmonogram'!O62","v":0},{"$f":"'SHZ - harmonogram'!P62","v":0},{"$f":"'SHZ - harmonogram'!Q62","v":0},{"$f":"'SHZ - harmonogram'!R62","v":0},{"$f":"'SHZ - harmonogram'!S62","v":0},{"$f":"'SHZ - harmonogram'!T62","v":0},{"$f":"'SHZ - harmonogram'!U62","v":0},{"$f":"'SHZ - harmonogram'!V62","v":0},{"$f":"'SHZ - harmonogram'!W62","v":0},{"$f":"'SHZ - harmonogram'!X62","v":0},{"$f":"'SHZ - harmonogram'!Y62","v":0},{"$f":"'SHZ - harmonogram'!Z62","v":0},{"$f":"'SHZ - harmonogram'!AA62","v":0},{"$f":"'SHZ - harmonogram'!AB62","v":0},{"$f":"'SHZ - harmonogram'!AC62","v":0},{"$f":"'SHZ - harmonogram'!AD62","v":0},{"$f":"'SHZ - harmonogram'!AE62","v":0},{"$f":"'SHZ - harmonogram'!AF62","v":0},{"$f":"'SHZ - harmonogram'!AG62","v":0},{"$f":"'SHZ - harmonogram'!AH62","v":0},{"$f":"'SHZ - harmonogram'!AI62","v":0},{"$f":"'SHZ - harmonogram'!AJ62","v":0},{"$f":"'SHZ - harmonogram'!AK62","v":0},{"$f":"'SHZ - harmonogram'!AL62","v":0},{"$f":"'SHZ - harmonogram'!AM62","v":0},{"$f":"'SHZ - harmonogram'!AN62","v":0},{"$f":"'SHZ - harmonogram'!AO62","v":0},{"$f":"'SHZ - harmonogram'!AP62","v":0},{"$f":"'SHZ - harmonogram'!AQ62","v":0},{"$f":"'SHZ - harmonogram'!AR62","v":0},{"$f":"'SHZ - harmonogram'!AS62","v":0},{"$f":"'SHZ - harmonogram'!AT62","v":0},{"$f":"'SHZ - harmonogram'!AU62","v":0},{"$f":"'SHZ - harmonogram'!AV62","v":0},{"$f":"'SHZ - harmonogram'!AW62","v":0}]
["Ukončení montážních prací","SHZ",{"$f":"SUM(D33:AR33)","v":0},{"$f":"'SHZ - harmonogram'!I64","v":0},{"$f":"'SHZ - harmonogram'!J64","v":0},{"$f":"'SHZ - harmonogram'!K64","v":0},{"$f":"'SHZ - harmonogram'!L64","v":0},{"$f":"'SHZ - harmonogram'!M64","v":0},{"$f":"'SHZ - harmonogram'!N64","v":0},{"$f":"'SHZ - harmonogram'!O64","v":0},{"$f":"'SHZ - harmonogram'!P64","v":0},{"$f":"'SHZ - harmonogram'!Q64","v":0},{"$f":"'SHZ - harmonogram'!R64","v":0},{"$f":"'SHZ - harmonogram'!S64","v":0},{"$f":"'SHZ - harmonogram'!T64","v":0},{"$f":"'SHZ - harmonogram'!U64","v":0},{"$f":"'SHZ - harmonogram'!V64","v":0},{"$f":"'SHZ - harmonogram'!W64","v":0},{"$f":"'SHZ - harmonogram'!X64","v":0},{"$f":"'SHZ - harmonogram'!Y64","v":0},{"$f":"'SHZ - harmonogram'!Z64","v":0},{"$f":"'SHZ - harmonogram'!AA64","v":0},{"$f":"'SHZ - harmonogram'!AB64","v":0},{"$f":"'SHZ - harmonogram'!AC64","v":0},{"$f":"'SHZ - harmonogram'!AD64","v":0},{"$f":"'SHZ - harmonogram'!AE64","v":0},{"$f":"'SHZ - harmonogram'!AF64","v":0},{"$f":"'SHZ - harmonogram'!AG64","v":0},{"$f":"'SHZ - harmonogram'!AH64","v":0},{"$f":"'SHZ - harmonogram'!AI64","v":0},{"$f":"'SHZ - harmonogram'!AJ64","v":0},{"$f":"'SHZ - harmonogram'!AK64","v":0},{"$f":"'SHZ - harmonogram'!AL64","v":0},{"$f":"'SHZ - harmonogram'!AM64","v":0},{"$f":"'SHZ - harmonogram'!AN64","v":0},{"$f":"'SHZ - harmonogram'!AO64","v":0},{"$f":"'SHZ - harmonogram'!AP64","v":0},{"$f":"'SHZ - harmonogram'!AQ64","v":0},{"$f":"'SHZ - harmonogram'!AR64","v":0},{"$f":"'SHZ - harmonogram'!AS64","v":0},{"$f":"'SHZ - harmonogram'!AT64","v":0},{"$f":"'SHZ - harmonogram'!AU64","v":0},{"$f":"'SHZ - harmonogram'!AV64","v":0},{"$f":"'SHZ - harmonogram'!AW64","v":0}]
["Školení zaměstnanců provozu","SHZ",{"$f":"SUM(D34:AR34)","v":0},{"$f":"'SHZ - harmonogram'!I66","v":0},{"$f":"'SHZ - harmonogram'!J66","v":0},{"$f":"'SHZ - harmonogram'!K66","v":0},{"$f":"'SHZ - harmonogram'!L66","v":0},{"$f":"'SHZ - harmonogram'!M66","v":0},{"$f":"'SHZ - harmonogram'!N66","v":0},{"$f":"'SHZ - harmonogram'!O66","v":0},{"$f":"'SHZ - harmonogram'!P66","v":0},{"$f":"'SHZ - harmonogram'!Q66","v":0},{"$f":"'SHZ - harmonogram'!R66","v":0},{"$f":"'SHZ - harmonogram'!S66","v":0},{"$f":"'SHZ - harmonogram'!T66","v":0},{"$f":"'SHZ - harmonogram'!U66","v":0},{"$f":"'SHZ - harmonogram'!V66","v":0},{"$f":"'SHZ - harmonogram'!W66","v":0},{"$f":"'SHZ - harmonogram'!X66","v":0},{"$f":"'SHZ - harmonogram'!Y66","v":0},{"$f":"'SHZ - harmonogram'!Z66","v":0},{"$f":"'SHZ - harmonogram'!AA66","v":0},{"$f":"'SHZ - harmonogram'!AB66","v":0},{"$f":"'SHZ - harmonogram'!AC66","v":0},{"$f":"'SHZ - harmonogram'!AD66","v":0},{"$f":"'SHZ - harmonogram'!AE66","v":0},{"$f":"'SHZ - harmonogram'!AF66","v":0},{"$f":"'SHZ - harmonogram'!AG66","v":0},{"$f":"'SHZ - harmonogram'!AH66","v":0},{"$f":"'SHZ - harmonogram'!AI66","v":0},{"$f":"'SHZ - harmonogram'!AJ66","v":0},{"$f":"'SHZ - harmonogram'!AK66","v":0},{"$f":"'SHZ - harmonogram'!AL66","v":0},{"$f":"'SHZ - harmonogram'!AM66","v":0},{"$f":"'SHZ - harmonogram'!AN66","v":0},{"$f":"'SHZ - harmonogram'!AO66","v":0},{"$f":"'SHZ - harmonogram'!AP66","v":0},{"$f":"'SHZ - harmonogram'!AQ66","v":0},{"$f":"'SHZ - harmonogram'!AR66","v":0},{"$f":"'SHZ - harmonogram'!AS66","v":0},{"$f":"'SHZ - harmonogram'!AT66","v":0},{"$f":"'SHZ - harmonogram'!AU66","v":0},{"$f":"'SHZ - harmonogram'!AV66","v":0},{"$f":"'SHZ - harmonogram'!AW66","v":0}]
["Kompexní vyzkoušení - Funkční zkouška","SHZ",{"$f":"SUM(D35:AR35)","v":0},{"$f":"'SHZ - harmonogram'!I68","v":0},{"$f":"'SHZ - harmonogram'!J68","v":0},{"$f":"'SHZ - harmonogram'!K68","v":0},{"$f":"'SHZ - harmonogram'!L68","v":0},{"$f":"'SHZ - harmonogram'!M68","v":0},{"$f":"'SHZ - harmonogram'!N68","v":0},{"$f":"'SHZ - harmonogram'!O68","v":0},{"$f":"'SHZ - harmonogram'!P68","v":0},{"$f":"'SHZ - harmonogram'!Q68","v":0},{"$f":"'SHZ - harmonogram'!R68","v":0},{"$f":"'SHZ - harmonogram'!S68","v":0},{"$f":"'SHZ - harmonogram'!T68","v":0},{"$f":"'SHZ - harmonogram'!U68","v":0},{"$f":"'SHZ - harmonogram'!V68","v":0},{"$f":"'SHZ - harmonogram'!W68","v":0},{"$f":"'SHZ - harmonogram'!X68","v":0},{"$f":"'SHZ - harmonogram'!Y68","v":0},{"$f":"'SHZ - harmonogram'!Z68","v":0},{"$f":"'SHZ - harmonogram'!AA68","v":0},{"$f":"'SHZ - harmonogram'!AB68","v":0},{"$f":"'SHZ - harmonogram'!AC68","v":0},{"$f":"'SHZ - harmonogram'!AD68","v":0},{"$f":"'SHZ - harmonogram'!AE68","v":0},{"$f":"'SHZ - harmonogram'!AF68","v":0},{"$f":"'SHZ - harmonogram'!AG68","v":0},{"$f":"'SHZ - harmonogram'!AH68","v":0},{"$f":"'SHZ - harmonogram'!AI68","v":0},{"$f":"'SHZ - harmonogram'!AJ68","v":0},{"$f":"'SHZ - harmonogram'!AK68","v":0},{"$f":"'SHZ - harmonogram'!AL68","v":0},{"$f":"'SHZ - harmonogram'!AM68","v":0},{"$f":"'SHZ - harmonogram'!AN68","v":0},{"$f":"'SHZ - harmonogram'!AO68","v":0},{"$f":"'SHZ - harmonogram'!AP68","v":0},{"$f":"'SHZ - harmonogram'!AQ68","v":0},{"$f":"'SHZ - harmonogram'!AR68","v":0},{"$f":"'SHZ - harmonogram'!AS68","v":0},{"$f":"'SHZ - harmonogram'!AT68","v":0},{"$f":"'SHZ - harmonogram'!AU68","v":0},{"$f":"'SHZ - harmonogram'!AV68","v":0},{"$f":"'SHZ - harmonogram'!AW68","v":0}]
["Konečné převzetí díla k užívání","SHZ",{"$f":"SUM(D36:AR36)","v":0},{"$f":"'SHZ - harmonogram'!I70","v":0},{"$f":"'SHZ - harmonogram'!J70","v":0},{"$f":"'SHZ - harmonogram'!K70","v":0},{"$f":"'SHZ - harmonogram'!L70","v":0},{"$f":"'SHZ - harmonogram'!M70","v":0},{"$f":"'SHZ - harmonogram'!N70","v":0},{"$f":"'SHZ - harmonogram'!O70","v":0},{"$f":"'SHZ - harmonogram'!P70","v":0},{"$f":"'SHZ - harmonogram'!Q70","v":0},{"$f":"'SHZ - harmonogram'!R70","v":0},{"$f":"'SHZ - harmonogram'!S70","v":0},{"$f":"'SHZ - harmonogram'!T70","v":0},{"$f":"'SHZ - harmonogram'!U70","v":0},{"$f":"'SHZ - harmonogram'!V70","v":0},{"$f":"'SHZ - harmonogram'!W70","v":0},{"$f":"'SHZ - harmonogram'!X70","v":0},{"$f":"'SHZ - harmonogram'!Y70","v":0},{"$f":"'SHZ - harmonogram'!Z70","v":0},{"$f":"'SHZ - harmonogram'!AA70","v":0},{"$f":"'SHZ - harmonogram'!AB70","v":0},{"$f":"'SHZ - harmonogram'!AC70","v":0},{"$f":"'SHZ - harmonogram'!AD70","v":0},{"$f":"'SHZ - harmonogram'!AE70","v":0},{"$f":"'SHZ - harmonogram'!AF70","v":0},{"$f":"'SHZ - harmonogram'!AG70","v":0},{"$f":"'SHZ - harmonogram'!AH70","v":0},{"$f":"'SHZ - harmonogram'!AI70","v":0},{"$f":"'SHZ - harmonogram'!AJ70","v":0},{"$f":"'SHZ - harmonogram'!AK70","v":0},{"$f":"'SHZ - harmonogram'!AL70","v":0},{"$f":"'SHZ - harmonogram'!AM70","v":0},{"$f":"'SHZ - harmonogram'!AN70","v":0},{"$f":"'SHZ - harmonogram'!AO70","v":0},{"$f":"'SHZ - harmonogram'!AP70","v":0},{"$f":"'SHZ - harmonogram'!AQ70","v":0},{"$f":"'SHZ - harmonogram'!AR70","v":0},{"$f":"'SHZ - harmonogram'!AS70","v":0},{"$f":"'SHZ - harmonogram'!AT70","v":0},{"$f":"'SHZ - harmonogram'!AU70","v":0},{"$f":"'SHZ - harmonogram'!AV70","v":0},{"$f":"'SHZ - harmonogram'!AW70","v":0}]
[]
["Dílčí ceny po měsících  ",null,null,{"$f":"SUM(D7:D36)","v":0},0,0,0,0,0,0,0,0,0,0,0,0,0,0,0,0,0,0,0,0,0,0,0,0,0,0,0,0,0,{"$f":"SUM(AH7:AH36)","v":0},0,0,0,0,0,0,0,0,0,0]
["Cena celkem"]
[]
["Poznámka"]
["Zhotovitel na tomto listu nevyplňuje žádné hodnoty. Hodnoty jsou přenášeny z předcházejících listů."]
["Vstupní technická jednání "]
["Závazné technické parametry pro OB 6 (Stavba) "]
["Závazné technické parametry pro OB 1 (Palivové hospodářství) "]
["Závazné technické parametry pro ostatní OB, pro ostatní dodavatele technologických celků"]
["Odsouhlasená prováděcí dokumentace pro nový kotel K20"]
["Předání a převzetí staveniště pro K20"]
["neobsazeno"]
["Kotelna K20 - vlastní kotel včetně všech komponentů"]
["Kotelna K20 - provozní zásobníky paliva včetně dopravy štěpky do kotle"]
["Kotelna K20 - ventilátory (vzduchové, spalinové, recirkulační) včetně vnitřních spalinovodů"]
["Kotelna K20 - tkaninový filtr"]
["Kotelna K20 - technologie DSI"]
["Kotelna K20 - popelové hospodářství"]
["Kotelna K20 - elektroinstalace"]
["Kotelna K20 - ASŘ"]
["Kotelna K20 - kompresorová stanice"]
["Kotelna K20 - připojení médií"]
["Kotelna K20 - venkovní rozvody spalinovodů včetně napojení na komín"]
["Kotelna K20 - venkovní konstrukce potrubního mostu (připojení popelového hospodářství a SNCR)"]
["Kotelna K20 - opláštění a zastřešení, dokončení všech stavebních činností"]
["Kotelna K20 - další výše nevyjmenované položky"]
["Kotelna K20 - dokončení stavebních prací"]
["Kotelna K20 - ukončení montážních prací"]
["Kotelna K20 - školení zaměstnanců provozu"]
["Kotelna K20 - příprava ke kompexnímu vyzkoušení"]
["Kotelna K20 - komplexní vyzkoušení"]
["Kotelna K20 - zkušební provoz"]
["Kotelna K20 - garanční test A"]
["Kotelna K20 - předběžné převzetí díla PAC"]
["Kotelna K20 - garanční test B"]
["Kotelna K20 - finální převzetí díla FAC"]