Workbook
Name CenaCelkemBezDPH: 'technologie stravování'!$G$28
Name CenaCelkemVypocet: 'technologie stravování'!$I$40
Name DPHSni: 'technologie stravování'!$G$24
Name DPHZakl: 'technologie stravování'!$G$26
Name Mena: 'technologie stravování'!$J$29
Name SazbaDPH1: 'technologie stravování'!$E$23
Name SazbaDPH2: 'technologie stravování'!$E$25
Name ZakladDPHSni: 'technologie stravování'!$G$23
Name ZakladDPHSniVypocet: 'technologie stravování'!$F$40
Name ZakladDPHZakl: 'technologie stravování'!$G$25
Name ZakladDPHZaklVypocet: 'technologie stravování'!$G$40
Name Zaokrouhleni: 'technologie stravování'!$G$27

Sheet List1
A1: Pokyny pro vyplnění
A2: Ve všech listech tohoto souboru můžete měnit pouze buňky s modrým pozadím. Jedná se o tyto údaje : - údaje o firmě - jednotkové ceny položek zadané na maximálně dvě desetinná místa

Sheet technologie stravování
A1: #RTSROZP# | B1: Soupis stavebních prací, dodávek a služeb
B2: Stavba: | D2: 2022-012 | E2: Stavební úpravy přístavbou MŠ - Dětská skupina
B5: Zadavatel | H5: IČO:
H6: DIČ:
B8: Projektant: | H8: IČO:
H9: DIČ:
B11: Zhotovitel: | H11: IČO:
H12: DIČ:
B14: Vypracoval:
B15: Rozpis ceny | I15: Celkem
A16: HSV | B16: HSV | I16: =SUMIF(F48:F71,A16,I48:I71)+SUMIF(F48:F71,"PSU",I48:I71) -> 0
A17: PSV | B17: PSV | I17: =SUMIF(F48:F71,A17,I48:I71) -> 0
A18: MON | B18: MON | I18: =SUMIF(F48:F71,A18,I48:I71) -> 0
A19: VN | B19: Vedlejší náklady | I19: =SUMIF(F48:F71,A19,I48:I71) -> 0
A20: ON | B20: Ostatní náklady | I20: =SUMIF(F48:F71,A20,I48:I71) -> 0
B21: Celkem | I21: =SUM(I16:J20) -> 0
B22: Rekapitulace daní
B23: Základ pro sníženou DPH | E23: 12 | F23: % | G23: =ZakladDPHSniVypocet -> 0 | J23: =Mena -> CZK
B24: Snížená DPH | E24: =SazbaDPH1 -> 12 | F24: % | G24: =I23*E23/100 -> 0 | J24: =Mena -> CZK
B25: Základ pro základní DPH | E25: 21 | F25: % | G25: =I21 -> 0 | J25: =Mena -> CZK
B26: Základní DPH | E26: =SazbaDPH2 -> 21 | F26: % | G26: =I25*E25/100 -> 0 | J26: =Mena -> CZK
A27: =ZakladDPHSni+ZakladDPHZakl -> 0 | B27: Zaokrouhlení | G27: =CenaCelkemBezDPH-(ZakladDPHSni+ZakladDPHZakl) -> 0 | J27: =Mena -> CZK
A28: =(A27-INT(A27))*100 -> 0 | B28: Cena celkem bez DPH | G28: =A27 -> 0 | J28: =Mena -> CZK
B29: Cena celkem s DPH | G29: =ZakladDPHSni+DPHSni+ZakladDPHZakl+DPHZakl+Zaokrouhleni -> 0 | J29: CZK
C32: v | F32: dne
D35: Za zhotovitele | H35: Za objednatele
B37: Rekapitulace dílčích částí
A38: #CASTI>> | B38: Číslo | C38: Název | F38: =B23 -> Základ pro sníženou DPH | G38: =B25 -> Základ pro základní DPH | H38: DPH celkem | I38: Cena celkem | J38: %
A39: 2 | B39: 04 | C39: Technologie stravování | F39: ='[1]04 02 Pol'!AE311+'[1]04 03 Pol'!AE311 -> 0 | G39: =CenaCelkemBezDPH -> 0 | H39: =G39*0.21 -> 0 | I39: =F39+G39+H39 -> 0 | J39: =IF(CenaCelkemVypocet=0,"",I39/CenaCelkemVypocet*100)
F40: =SUMIF(A39:A39,"=1",F39:F39) -> 0 | G40: =SUMIF(A39:A39,"=1",G39:G39) -> 0 | H40: =SUMIF(A39:A39,"=1",H39:H39) -> 0
A42: #POPO | B42: Popis objektu: 04 - Technologie stravování
B45: Rekapitulace dílů
B47: Číslo | C47: Název | F47: Typ dílu | I47: Celkem | J47: %
B48: _10 | C48: KONVEKTOMAT | F48: HSV | I48: ='TS VV'!G8 -> 0 | J48: =IF(I72=0,"",I48/I72*100)
B49: _11 | C49: MYTÍ STOLNÍHO NÁDOBÍ | F49: HSV | I49: ='TS VV'!G26 -> 0 | J49: =IF(I72=0,"",I49/I72*100)
B50: _12 | C50: MYTÍ KUCHYŇSKÉHO NÁDOBÍ | F50: HSV | I50: ='TS VV'!G56 -> 0 | J50: =IF(I72=0,"",I50/I72*100)
B51: _13 | C51: VÝDEJNA JÍDEL PRO ZŠ | F51: HSV | I51: ='TS VV'!G66 -> 0 | J51: =IF(I72=0,"",I51/I72*100)
B52: _14 | C52: JÍDELNA PRO ZŠ | F52: HSV | I52: ='TS VV'!G89 -> 0 | J52: =IF(I72=0,"",I52/I72*100)
B53: _15 | C53: SKLAD POTRAVIN | F53: HSV | I53: ='TS VV'!G99 -> 0 | J53: =IF(I72=0,"",I53/I72*100)
B54: _16 | C54: HRUBÁ PŘÍPRAVNA ZELENINY | F54: HSV | I54: ='TS VV'!G115 -> 0 | J54: =IF(I72=0,"",I54/I72*100)
B55: _17 | C55: ŠATNA ZAMĚSTNANCŮ KUCHYNĚ | F55: HSV | I55: ='TS VV'!G131 -> 0 | J55: =IF(I72=0,"",I55/I72*100)
B56: _18 | C56: VEDENÍ KUCHYNĚ – KANCELÁŘ | F56: HSV | I56: ='TS VV'!G137 -> 0 | J56: =IF(I72=0,"",I56/I72*100)
B57: _19 | C57: ÚKLIDOVÁ KOMORA | F57: HSV | I57: ='TS VV'!G145 -> 0 | J57: =IF(I72=0,"",I57/I72*100)
B58: _2 | C58: SPORÁK A PRACOVNÍ PLOCHY | F58: HSV | I58: ='TS VV'!G150 -> 0 | J58: =IF(I72=0,"",I58/I72*100)
B59: _20 | C59: WC+PŘEDSÍŇ PRO ZAMĚSTNANCE | F59: HSV | I59: ='TS VV'!G163 -> 0 | J59: =IF(I72=0,"",I59/I72*100)
B60: _21 | C60: CHODBA | F60: HSV | I60: ='TS VV'!G166 -> 0 | J60: =IF(I72=0,"",I60/I72*100)
B61: _24 | C61: VÝDEJ JÍDEL PRO MŠ | F61: HSV | I61: ='TS VV'!G177 -> 0 | J61: =IF(I72=0,"",I61/I72*100)
B62: _25 | C62: VZDUCHOTECHNIKA – KUCHYNĚ | F62: HSV | I62: ='TS VV'!G203 -> 0 | J62: =IF(I72=0,"",I62/I72*100)
B63: _26 | C63: ŽLABY A VPUSTĚ | F63: HSV | I63: ='TS VV'!G232 -> 0 | J63: =IF(I72=0,"",I63/I72*100)
B64: _27 | C64: Ostatní náklady: | F64: HSV | I64: ='TS VV'!G238 -> 0 | J64: =IF(I72=0,"",I64/I72*100)
B65: _3 | C65: TĚSTO | F65: HSV | I65: ='TS VV'!G242 -> 0 | J65: =IF(I72=0,"",I65/I72*100)
B66: _4 | C66: ČISTÁ PŘÍPRAVNA MASA A VAJEC | F66: HSV | I66: ='TS VV'!G245 -> 0 | J66: =IF(I72=0,"",I66/I72*100)
B67: _5 | C67: ČISTÁ PŘÍPRAVNA ZELENINY | F67: HSV | I67: ='TS VV'!G261 -> 0 | J67: =IF(I72=0,"",I67/I72*100)
B68: _6 | C68: PŘESNÍDÁVKY A SVAČINY | F68: HSV | I68: ='TS VV'!G276 -> 0 | J68: =IF(I72=0,"",I68/I72*100)
B69: _7 | C69: CHLADÍCÍ A MRAZÍCÍ SKŘÍNĚ | F69: HSV | I69: ='TS VV'!G282 -> 0 | J69: =IF(I72=0,"",I69/I72*100)
B70: _8 | C70: ROBOT | F70: HSV | I70: ='TS VV'!G295 -> 0 | J70: =IF(I72=0,"",I70/I72*100)
B71: _9 | C71: Přídavná zařízení | F71: HSV | I71: ='TS VV'!G304 -> 0 | J71: =IF(I72=0,"",I71/I72*100)
B72: Cena celkem | I72: =SUM(I48:I71) -> 0 | J72: =SUM(J48:J71) -> 0

Sheet TS VV
A1: Položkový soupis prací a dodávek | AG1: #TypZaznamu#
A2: S: | B2: 2022-012 | C2: Stavební úpravy přístavbou MŠ - Dětská skupina | AG2: STA
A3: O: | B3: 04 | C3: Technologie stravování | AC3: STA | AG3: OBJ
A4: R: | B4: 03 | C4: Technologie stravování - nezpůsobilé výdaje | AG4: ROZ
A6: P.č. | B6: Číslo položky | C6: Název položky | D6: MJ | E6: Množství | F6: Cena / MJ | G6: Celkem | H6: Dodávka | I6: Dodávka celk. | J6: Montáž | K6: Montáž celk. | L6: DPH | M6: Cena s DPH | N6: Hmotnost / MJ | O6: Hmotnost celk.(t) | P6: Dem. hmotnost / MJ | Q6: Dem. hmotnost celk.(t) | R6: Ceník | S6: Cen. soustava / platnost | T6: Cenová úroveň | U6: Nhod / MJ | V6: Nhod celk. | W6: Dodavatel | X6: Typ položky | Y6: Stav položky
A8: Díl: | B8: _10 | C8: KONVEKTOMAT | G8: =SUMIF(AG9:AG25,"<>NOR",G9:G25) -> 0 | I8: =SUM(I9:I25) -> 0 | K8: =SUM(K9:K25) -> 0 | M8: =SUM(M9:M25) -> 0 | O8: =SUM(O9:O25) -> 0 | Q8: =SUM(Q9:Q25) -> 0 | V8: =SUM(V9:V25) -> 0 | AG8: DIL
A9: 1 | B9: 17. | C9: El.konvektomat 6xGN 1/1 | D9: kus | E9: 1 | G9: =E9*F9 -> 0 | I9: =ROUND(E9*H9,2) -> 0 | K9: =ROUND(E9*J9,2) -> 0 | L9: 21 | M9: =G9*(1+L9/100) -> 0 | N9: 0 | O9: =ROUND(E9*N9,2) -> 0 | P9: 0 | Q9: =ROUND(E9*P9,2) -> 0 | S9: Vlastní | T9: Indiv | U9: 0 | V9: =ROUND(E9*U9,2) -> 0 | X9: Specifikace | Y9: Běžná | AG9: POL3_0
C10: systém iCombi Classic | AG10: POP
C11: elektromechanické ovládání | AG11: POP
C12: Bojlerový vyvíječ páry | AG12: POP
C13: rozsah teplot +30°C až +300°C | AG13: POP
C14: 100 programů se 6 kroky | AG14: POP
C15: rozměr 850x842x754mm | AG15: POP
C16: el.příkon 10,8 kW/ 400 V | AG16: POP
A17: 2 | B17: 17a. | C17: Podstavec pod konvektomat, nerez | D17: kus | E17: 1 | G17: =E17*F17 -> 0 | I17: =ROUND(E17*H17,2) -> 0 | K17: =ROUND(E17*J17,2) -> 0 | L17: 21 | M17: =G17*(1+L17/100) -> 0 | N17: 0 | O17: =ROUND(E17*N17,2) -> 0 | P17: 0 | Q17: =ROUND(E17*P17,2) -> 0 | S17: Vlastní | T17: Indiv | U17: 0 | V17: =ROUND(E17*U17,2) -> 0 | X17: Specifikace | Y17: Běžná | AG17: POL3_0
C18: 6 + 6 vsunů pro gastronádoby | AG18: POP
C19: rozměr 845x724x931mm | AG19: POP
A20: 3 | B20: 17b. | C20: El.změkčovač vody kabinetní velikost 1 | D20: kus | E20: 1 | G20: =E20*F20 -> 0 | I20: =ROUND(E20*H20,2) -> 0 | K20: =ROUND(E20*J20,2) -> 0 | L20: 21 | M20: =G20*(1+L20/100) -> 0 | N20: 0 | O20: =ROUND(E20*N20,2) -> 0 | P20: 0 | Q20: =ROUND(E20*P20,2) -> 0 | S20: Vlastní | T20: Indiv | U20: 0 | V20: =ROUND(E20*U20,2) -> 0 | X20: Specifikace | Y20: Běžná | AG20: POL3_0
C21: objem změkčovací pryskyřice 5 litrů | AG21: POP
C22: rozměr 220x420x550mm | AG22: POP
C23: el.příkon 0,05 kW/ 230 V | AG23: POP
A24: 4 | B24: 18. | C24: Pracovní stůl, nerez | D24: kus | E24: 1 | G24: =E24*F24 -> 0 | I24: =ROUND(E24*H24,2) -> 0 | K24: =ROUND(E24*J24,2) -> 0 | L24: 21 | M24: =G24*(1+L24/100) -> 0 | N24: 0 | O24: =ROUND(E24*N24,2) -> 0 | P24: 0 | Q24: =ROUND(E24*P24,2) -> 0 | S24: Vlastní | T24: Indiv | U24: 0 | V24: =ROUND(E24*U24,2) -> 0 | X24: Specifikace | Y24: Běžná | AG24: POL3_0
C25: rozměr 1100x700x900mm, lem vzadu a vpravo | AG25: POP
A26: Díl: | B26: _11 | C26: MYTÍ STOLNÍHO NÁDOBÍ | G26: =SUMIF(AG27:AG55,"<>NOR",G27:G55) -> 0 | I26: =SUM(I27:I55) -> 0 | K26: =SUM(K27:K55) -> 0 | M26: =SUM(M27:M55) -> 0 | O26: =SUM(O27:O55) -> 0 | Q26: =SUM(Q27:Q55) -> 0 | V26: =SUM(V27:V55) -> 0 | AG26: DIL
A27: 5 | B27: Pol__0031 | C27: Tlaková sprcha s ramínkem ze stolu | D27: kus | E27: 1 | G27: =E27*F27 -> 0 | I27: =ROUND(E27*H27,2) -> 0 | K27: =ROUND(E27*J27,2) -> 0 | L27: 21 | M27: =G27*(1+L27/100) -> 0 | N27: 0 | O27: =ROUND(E27*N27,2) -> 0 | P27: 0 | Q27: =ROUND(E27*P27,2) -> 0 | S27: Vlastní | T27: Indiv | U27: 0 | V27: =ROUND(E27*U27,2) -> 0 | X27: Práce | Y27: Běžná | AG27: POL1_1
A28: 6 | B28: 19. | C28: Výlevka nerez | D28: kus | E28: 1 | G28: =E28*F28 -> 0 | I28: =ROUND(E28*H28,2) -> 0 | K28: =ROUND(E28*J28,2) -> 0 | L28: 21 | M28: =G28*(1+L28/100) -> 0 | N28: 0 | O28: =ROUND(E28*N28,2) -> 0 | P28: 0 | Q28: =ROUND(E28*P28,2) -> 0 | S28: Vlastní | T28: Indiv | U28: 0 | V28: =ROUND(E28*U28,2) -> 0 | X28: Specifikace | Y28: Běžná | AG28: POL3_0
C29: rozměr 500x600x580mm | AG29: POP
A30: 7 | B30: 20. | C30: Předmývací stůl s dráhou na podnosy a dřezem, nerez | D30: kus | E30: 1 | G30: =E30*F30 -> 0 | I30: =ROUND(E30*H30,2) -> 0 | K30: =ROUND(E30*J30,2) -> 0 | L30: 21 | M30: =G30*(1+L30/100) -> 0 | N30: 0 | O30: =ROUND(E30*N30,2) -> 0 | P30: 0 | Q30: =ROUND(E30*P30,2) -> 0 | S30: Vlastní | T30: Indiv | U30: 0 | V30: =ROUND(E30*U30,2) -> 0 | X30: Specifikace | Y30: Běžná | AG30: POL3_0
C31: rozměr 1200x750x850mm, zadní lem 100mm | AG31: POP
C32: 1x dřez lisovaný 400x400x250mm vpravo | AG32: POP
A33: 8 | B33: 21. | C33: El.průběžná myčka nádobí | D33: kus | E33: 1 | G33: =E33*F33 -> 0 | I33: =ROUND(E33*H33,2) -> 0 | K33: =ROUND(E33*J33,2) -> 0 | L33: 21 | M33: =G33*(1+L33/100) -> 0 | N33: 0 | O33: =ROUND(E33*N33,2) -> 0 | P33: 0 | Q33: =ROUND(E33*P33,2) -> 0 | S33: Vlastní | T33: Indiv | U33: 0 | V33: =ROUND(E33*U33,2) -> 0 | X33: Specifikace | Y33: Běžná | AG33: POL3_0
C34: jednoduché ovládání mechanickými tlačítky | AG34: POP
C35: koše 500x500mm | AG35: POP
C36: časy mytí 90 / 120 sekund | AG36: POP
C37: souběžný ohřev vany a bojleru | AG37: POP
C38: Bojler 9 kW/ 8 litrů | AG38: POP
C39: Vana 2,8 kW/ 30 litrů | AG39: POP
C40: zabudován dávkovač mycího a oplachového | AG40: POP
C41: prostředku | AG41: POP
C42: rozměr 657/ 760x793x1494/ 1969mm | AG42: POP
C43: celkový el.příkon 10 kW/ 400 V | AG43: POP
C44: Příslušenství v ceně myčky: | AG44: POP
C45: Mycí koš na talíře – 2 ks | AG45: POP
... C47: Košík na příbory – 1 ks | AG47: POP
A48: 9 | B48: 21a. | C48: El.změkčovač vody kabinetní velikost 2 | D48: kus | E48: 1 | G48: =E48*F48 -> 0 | I48: =ROUND(E48*H48,2) -> 0 | K48: =ROUND(E48*J48,2) -> 0 | L48: 21 | M48: =G48*(1+L48/100) -> 0 | N48: 0 | O48: =ROUND(E48*N48,2) -> 0 | P48: 0 | Q48: =ROUND(E48*P48,2) -> 0 | S48: Vlastní | T48: Indiv | U48: 0 | V48: =ROUND(E48*U48,2) -> 0 | X48: Specifikace | Y48: Běžná | AG48: POL3_0
C49: objem změkčovací pryskyřice 10 litrů | AG49: POP
C50: rozměr 350x470x680mm | AG50: POP
C51: el.příkon 0,05 kW/ 230 V | AG51: POP
A52: 10 | B52: 23. | C52: Dosychací stůl s policí a prolisem pro posun košů, nerez | D52: kus | E52: 1 | G52: =E52*F52 -> 0 | I52: =ROUND(E52*H52,2) -> 0 | K52: =ROUND(E52*J52,2) -> 0 | L52: 21 | M52: =G52*(1+L52/100) -> 0 | N52: 0 | O52: =ROUND(E52*N52,2) -> 0 | P52: 0 | Q52: =ROUND(E52*P52,2) -> 0 | S52: Vlastní | T52: Indiv | U52: 0 | V52: =ROUND(E52*U52,2) -> 0 | X52: Specifikace | Y52: Běžná | AG52: POL3_0
C53: rozměr 1500x750x850mm, lem vzadu a vpravo | AG53: POP
A54: 11 | B54: 24. | C54: Skříňka nástěnná s posuvnými dvířky, nerez, stávající | D54: kus | E54: 1 | I54: =ROUND(E54*H54,2) -> 0 | K54: =ROUND(E54*J54,2) -> 0 | L54: 21 | M54: =G54*(1+L54/100) -> 0 | N54: 0 | O54: =ROUND(E54*N54,2) -> 0 | P54: 0 | Q54: =ROUND(E54*P54,2) -> 0 | S54: Vlastní | T54: Indiv | U54: 0 | V54: =ROUND(E54*U54,2) -> 0 | X54: Specifikace | Y54: Běžná | AG54: POL3_0
C55: rozměr 1300x350x800mm | AG55: POP
A56: Díl: | B56: _12 | C56: MYTÍ KUCHYŇSKÉHO NÁDOBÍ | G56: =SUMIF(AG57:AG65,"<>NOR",G57:G65) -> 0 | I56: =SUM(I57:I65) -> 0 | K56: =SUM(K57:K65) -> 0 | M56: =SUM(M57:M65) -> 0 | O56: =SUM(O57:O65) -> 0 | Q56: =SUM(Q57:Q65) -> 0 | V56: =SUM(V57:V65) -> 0 | AG56: DIL
A57: 12 | B57: 26. | C57: Regál 5-ti policový, nerez, stávající | D57: kus | E57: 1 | I57: =ROUND(E57*H57,2) -> 0 | K57: =ROUND(E57*J57,2) -> 0 | L57: 21 | M57: =G57*(1+L57/100) -> 0 | N57: 0 | O57: =ROUND(E57*N57,2) -> 0 | P57: 0 | Q57: =ROUND(E57*P57,2) -> 0 | S57: Vlastní | T57: Indiv | U57: 0 | V57: =ROUND(E57*U57,2) -> 0 | X57: Práce | Y57: Běžná | AG57: POL1_1
C58: rozměr 500x500x1800mm | AG58: POP
A59: 13 | B59: 27. | C59: Regál 4 policový, nerez | D59: kus | E59: 2 | G59: =E59*F59 -> 0 | I59: =ROUND(E59*H59,2) -> 0 | K59: =ROUND(E59*J59,2) -> 0 | L59: 21 | M59: =G59*(1+L59/100) -> 0 | N59: 0 | O59: =ROUND(E59*N59,2) -> 0 | P59: 0 | Q59: =ROUND(E59*P59,2) -> 0 | S59: Vlastní | T59: Indiv | U59: 0 | V59: =ROUND(E59*U59,2) -> 0 | X59: Práce | Y59: Běžná | AG59: POL1_1
C60: rozměr 1100x350x1800mm | AG60: POP
C61: nosnost police 80 kg | AG61: POP
A62: 14 | B62: Pol__0037 | C62: Tlaková sprcha s ramínkem ze zdi | D62: kus | E62: 1 | G62: =E62*F62 -> 0 | I62: =ROUND(E62*H62,2) -> 0 | K62: =ROUND(E62*J62,2) -> 0 | L62: 21 | M62: =G62*(1+L62/100) -> 0 | N62: 0 | O62: =ROUND(E62*N62,2) -> 0 | P62: 0 | Q62: =ROUND(E62*P62,2) -> 0 | S62: Vlastní | T62: Indiv | U62: 0 | V62: =ROUND(E62*U62,2) -> 0 | X62: Práce | Y62: Běžná | AG62: POL1_1
A63: 15 | B63: 25. | C63: Mycí stůl se dvěma dřezy, nerez | D63: kus | E63: 1 | G63: =E63*F63 -> 0 | I63: =ROUND(E63*H63,2) -> 0 | K63: =ROUND(E63*J63,2) -> 0 | L63: 21 | M63: =G63*(1+L63/100) -> 0 | N63: 0 | O63: =ROUND(E63*N63,2) -> 0 | P63: 0 | Q63: =ROUND(E63*P63,2) -> 0 | S63: Vlastní | T63: Indiv | U63: 0 | V63: =ROUND(E63*U63,2) -> 0 | X63: Specifikace | Y63: Běžná | AG63: POL3_0
C64: 2x dřez lisovaný 500x600x300mm | AG64: POP
C65: rozměr 1300x700x850mm, zadní lem | AG65: POP
A66: Díl: | B66: _13 | C66: VÝDEJNA JÍDEL PRO ZŠ | G66: =SUMIF(AG67:AG88,"<>NOR",G67:G88) -> 0 | I66: =SUM(I67:I88) -> 0 | K66: =SUM(K67:K88) -> 0 | M66: =SUM(M67:M88) -> 0 | O66: =SUM(O67:O88) -> 0 | Q66: =SUM(Q67:Q88) -> 0 | V66: =SUM(V67:V88) -> 0 | AG66: DIL
A67: 16 | B67: Pol__0042 | C67: Dávkovač tekutého mýdla, zásobník papírových ručníků a odpadkový koš | D67: kpl | E67: 1 | G67: =E67*F67 -> 0 | I67: =ROUND(E67*H67,2) -> 0 | K67: =ROUND(E67*J67,2) -> 0 | L67: 21 | M67: =G67*(1+L67/100) -> 0 | N67: 0 | O67: =ROUND(E67*N67,2) -> 0 | P67: 0 | Q67: =ROUND(E67*P67,2) -> 0 | S67: Vlastní | T67: Indiv | U67: 0 | V67: =ROUND(E67*U67,2) -> 0 | X67: Práce | Y67: Běžná | AG67: POL1_1
A68: 17 | B68: 28. | C68: Pracovní stůl skříňový s posuvnými dvířky,, stávající | D68: kus | E68: 1 | I68: =ROUND(E68*H68,2) -> 0 | K68: =ROUND(E68*J68,2) -> 0 | L68: 21 | M68: =G68*(1+L68/100) -> 0 | N68: 0 | O68: =ROUND(E68*N68,2) -> 0 | P68: 0 | Q68: =ROUND(E68*P68,2) -> 0 | S68: Vlastní | T68: Indiv | U68: 0 | V68: =ROUND(E68*U68,2) -> 0 | X68: Specifikace | Y68: Běžná | AG68: POL3_0
C69: nerez | AG69: POP
C70: rozměr 900x600x850mm, zadní lem | AG70: POP
A71: 18 | B71: 28a. | C71: Umyvadlo diturvitové, stávající | D71: kus | E71: 1 | I71: =ROUND(E71*H71,2) -> 0 | K71: =ROUND(E71*J71,2) -> 0 | L71: 21 | M71: =G71*(1+L71/100) -> 0 | N71: 0 | O71: =ROUND(E71*N71,2) -> 0 | P71: 0 | Q71: =ROUND(E71*P71,2) -> 0 | S71: Vlastní | T71: Indiv | U71: 0 | V71: =ROUND(E71*U71,2) -> 0 | X71: Specifikace | Y71: Běžná | AG71: POL3_0
A72: 19 | B72: 29. | C72: El.chladící skříň 340 l, bílá | D72: kus | E72: 1 | G72: =E72*F72 -> 0 | I72: =ROUND(E72*H72,2) -> 0 | K72: =ROUND(E72*J72,2) -> 0 | L72: 21 | M72: =G72*(1+L72/100) -> 0 | N72: 0 | O72: =ROUND(E72*N72,2) -> 0 | P72: 0 | Q72: =ROUND(E72*P72,2) -> 0 | S72: Vlastní | T72: Indiv | U72: 0 | V72: =ROUND(E72*U72,2) -> 0 | X72: Specifikace | Y72: Běžná | AG72: POL3_0
C73: rozsah teplot -2°C až +8°C | AG73: POP
C74: 4 police, ventilované chlazení | AG74: POP
C75: rozměr 603x595x1855mm | AG75: POP
C76: el.příkon 0,19 kW/ 230 V | AG76: POP
C77: (saláty na výdej) | AG77: POP
A78: 20 | B78: 30. | C78: El.výdejní vozík 3x GN 1/1-200 | D78: kus | E78: 1 | G78: =E78*F78 -> 0 | I78: =ROUND(E78*H78,2) -> 0 | K78: =ROUND(E78*J78,2) -> 0 | L78: 21 | M78: =G78*(1+L78/100) -> 0 | N78: 0 | O78: =ROUND(E78*N78,2) -> 0 | P78: 0 | Q78: =ROUND(E78*P78,2) -> 0 | S78: Vlastní | T78: Indiv | U78: 0 | V78: =ROUND(E78*U78,2) -> 0 | X78: Specifikace | Y78: Běžná | AG78: POL3_0
C79: rozsah teplot +30°C až +90°C | AG79: POP
C80: samostatné ovládání každé vodní lázně | AG80: POP
C81: ovládání na kratší straně | AG81: POP
C82: 4 otočná kolečka pr.125mm z toho 2 s brzdou | AG82: POP
C83: rozměr 1215x650x900mm | AG83: POP
C84: el.příkon 2,1 kW/ 230 V | AG84: POP
A85: 21 | B85: 31. | C85: Servírovací vozík 3 policový, nerez | D85: kus | E85: 2 | G85: =E85*F85 -> 0 | I85: =ROUND(E85*H85,2) -> 0 | K85: =ROUND(E85*J85,2) -> 0 | L85: 21 | M85: =G85*(1+L85/100) -> 0 | N85: 0 | O85: =ROUND(E85*N85,2) -> 0 | P85: 0 | Q85: =ROUND(E85*P85,2) -> 0 | S85: Vlastní | T85: Indiv | U85: 0 | V85: =ROUND(E85*U85,2) -> 0 | X85: Specifikace | Y85: Běžná | AG85: POL3_0
C86: konstrukce svařovaná, nosnost 120 kg | AG86: POP
C87: 4 otočná kolečka pr.125mm z toho 2 s brzdou | AG87: POP
C88: rozměr 900x600x950mm | AG88: POP
A89: Díl: | B89: _14 | C89: JÍDELNA PRO ZŠ | G89: =SUMIF(AG90:AG98,"<>NOR",G90:G98) -> 0 | I89: =SUM(I90:I98) -> 0 | K89: =SUM(K90:K98) -> 0 | M89: =SUM(M90:M98) -> 0 | O89: =SUM(O90:O98) -> 0 | Q89: =SUM(Q90:Q98) -> 0 | V89: =SUM(V90:V98) -> 0 | AG89: DIL
A90: 22 | B90: Pol__0049 | C90: Navíjecí kastlík | D90: kus | E90: 2 | G90: =E90*F90 -> 0 | I90: =ROUND(E90*H90,2) -> 0 | K90: =ROUND(E90*J90,2) -> 0 | L90: 21 | M90: =G90*(1+L90/100) -> 0 | N90: 0 | O90: =ROUND(E90*N90,2) -> 0 | P90: 0 | Q90: =ROUND(E90*P90,2) -> 0 | S90: Vlastní | T90: Indiv | U90: 0 | V90: =ROUND(E90*U90,2) -> 0 | X90: Práce | Y90: Běžná | AG90: POL1_1
A91: 23 | B91: 32. | C91: Výdejní a příjmové plochy na konzolách nerez | D91: kpl | E91: 1 | G91: =E91*F91 -> 0 | I91: =ROUND(E91*H91,2) -> 0 | K91: =ROUND(E91*J91,2) -> 0 | L91: 21 | M91: =G91*(1+L91/100) -> 0 | N91: 0 | O91: =ROUND(E91*N91,2) -> 0 | P91: 0 | Q91: =ROUND(E91*P91,2) -> 0 | S91: Vlastní | T91: Indiv | U91: 0 | V91: =ROUND(E91*U91,2) -> 0 | X91: Specifikace | Y91: Běžná | AG91: POL3_0
C92: celkový rozměr 1700x600x40mm | AG92: POP
A93: 24 | B93: 33. | C93: Doplňková nerez plocha na konzolách, nerez | D93: kus | E93: 1 | G93: =E93*F93 -> 0 | I93: =ROUND(E93*H93,2) -> 0 | K93: =ROUND(E93*J93,2) -> 0 | L93: 21 | M93: =G93*(1+L93/100) -> 0 | N93: 0 | O93: =ROUND(E93*N93,2) -> 0 | P93: 0 | Q93: =ROUND(E93*P93,2) -> 0 | S93: Vlastní | T93: Indiv | U93: 0 | V93: =ROUND(E93*U93,2) -> 0 | X93: Specifikace | Y93: Běžná | AG93: POL3_0
C94: rozměr 600x250x40mm | AG94: POP
A95: 25 | B95: 34. | C95: Shrnovací rolety – rolády | D95: kus | E95: 2 | G95: =E95*F95 -> 0 | I95: =ROUND(E95*H95,2) -> 0 | K95: =ROUND(E95*J95,2) -> 0 | L95: 21 | M95: =G95*(1+L95/100) -> 0 | N95: 0 | O95: =ROUND(E95*N95,2) -> 0 | P95: 0 | Q95: =ROUND(E95*P95,2) -> 0 | S95: Vlastní | T95: Indiv | U95: 0 | V95: =ROUND(E95*U95,2) -> 0 | X95: Specifikace | Y95: Běžná | AG95: POL3_0
C96: rozměr 880x1200mm | AG96: POP
A97: 26 | B97: 34a. | C97: Dělící sloupek, nerez | D97: kus | E97: 1 | G97: =E97*F97 -> 0 | I97: =ROUND(E97*H97,2) -> 0 | K97: =ROUND(E97*J97,2) -> 0 | L97: 21 | M97: =G97*(1+L97/100) -> 0 | N97: 0 | O97: =ROUND(E97*N97,2) -> 0 | P97: 0 | Q97: =ROUND(E97*P97,2) -> 0 | S97: Vlastní | T97: Indiv | U97: 0 | V97: =ROUND(E97*U97,2) -> 0 | X97: Specifikace | Y97: Běžná | AG97: POL3_0
C98: jackl 40x40x1200mm | AG98: POP
A99: Díl: | B99: _15 | C99: SKLAD POTRAVIN | G99: =SUMIF(AG100:AG114,"<>NOR",G100:G114) -> 0 | I99: =SUM(I100:I114) -> 0 | K99: =SUM(K100:K114) -> 0 | M99: =SUM(M100:M114) -> 0 | O99: =SUM(O100:O114) -> 0 | Q99: =SUM(Q100:Q114) -> 0 | V99: =SUM(V100:V114) -> 0 | AG99: DIL
A100: 27 | B100: 37. | C100: Regál 4 policový kovový s komaxitem | D100: kus | E100: 2 | G100: =E100*F100 -> 0 | I100: =ROUND(E100*H100,2) -> 0 | K100: =ROUND(E100*J100,2) -> 0 | L100: 21 | M100: =G100*(1+L100/100) -> 0 | N100: 0 | O100: =ROUND(E100*N100,2) -> 0 | P100: 0 | Q100: =ROUND(E100*P100,2) -> 0 | S100: Vlastní | T100: Indiv | U100: 0 | V100: =ROUND(E100*U100,2) -> 0 | X100: Práce | Y100: Běžná | AG100: POL1_1
C101: rozměr 1000x400x1800mm | AG101: POP
C102: nosnost police 100 kg | AG102: POP
A103: 28 | B103: 35. | C103: El.chladící skříň 340 l, bílá | D103: kus | E103: 3 | G103: =E103*F103 -> 0 | I103: =ROUND(E103*H103,2) -> 0 | K103: =ROUND(E103*J103,2) -> 0 | L103: 21 | M103: =G103*(1+L103/100) -> 0 | N103: 0 | O103: =ROUND(E103*N103,2) -> 0 | P103: 0 | Q103: =ROUND(E103*P103,2) -> 0 | S103: Vlastní | T103: Indiv | U103: 0 | V103: =ROUND(E103*U103,2) -> 0 | X103: Specifikace | Y103: Běžná | AG103: POL3_0
...
