Workbook
Name CenaCelkemBezDPH: 'technologie stravování'!$G$28
Name CenaCelkemVypocet: 'technologie stravování'!$I$40
Name DPHSni: 'technologie stravování'!$G$24
Name DPHZakl: 'technologie stravování'!$G$26
Name Mena: 'technologie stravování'!$J$29
Name SazbaDPH1: 'technologie stravování'!$E$23
Name SazbaDPH2: 'technologie stravování'!$E$25
Name ZakladDPHSni: 'technologie stravování'!$G$23
Name ZakladDPHSniVypocet: 'technologie stravování'!$F$40
Name ZakladDPHZakl: 'technologie stravování'!$G$25
Name ZakladDPHZaklVypocet: 'technologie stravování'!$G$40
Name Zaokrouhleni: 'technologie stravování'!$G$27

Sheet List1
A1: Pokyny pro vyplnění
A2: Ve všech listech tohoto souboru můžete měnit pouze buňky s modrým pozadím. Jedná se o tyto údaje : - údaje o firmě - jednotkové ceny položek zadané na maximálně dvě desetinná místa

Sheet technologie stravování
A1: #RTSROZP# | B1: Soupis stavebních prací, dodávek a služeb
B2: Stavba: | D2: 2022-012 | E2: Stavební úpravy přístavbou MŠ - Dětská skupina
B5: Zadavatel | H5: IČO:
H6: DIČ:
B8: Projektant: | H8: IČO:
H9: DIČ:
B11: Zhotovitel: | H11: IČO:
H12: DIČ:
B14: Vypracoval:
B15: Rozpis ceny | I15: Celkem
A16: HSV | B16: HSV | I16: =SUMIF(F48:F71,A16,I48:I71)+SUMIF(F48:F71,"PSU",I48:I71) -> 0
A17: PSV | B17: PSV | I17: =SUMIF(F48:F71,A17,I48:I71) -> 0
A18: MON | B18: MON | I18: =SUMIF(F48:F71,A18,I48:I71) -> 0
A19: VN | B19: Vedlejší náklady | I19: =SUMIF(F48:F71,A19,I48:I71) -> 0
A20: ON | B20: Ostatní náklady | I20: =SUMIF(F48:F71,A20,I48:I71) -> 0
B21: Celkem | I21: =SUM(I16:J20) -> 0
B22: Rekapitulace daní
B23: Základ pro sníženou DPH | E23: 12 | F23: % | G23: =ZakladDPHSniVypocet -> 0 | J23: =Mena -> CZK
B24: Snížená DPH | E24: =SazbaDPH1 -> 12 | F24: % | G24: =I23*E23/100 -> 0 | J24: =Mena -> CZK
B25: Základ pro základní DPH | E25: 21 | F25: % | G25: =I21 -> 0 | J25: =Mena -> CZK
B26: Základní DPH | E26: =SazbaDPH2 -> 21 | F26: % | G26: =I25*E25/100 -> 0 | J26: =Mena -> CZK
A27: =ZakladDPHSni+ZakladDPHZakl -> 0 | B27: Zaokrouhlení | G27: =CenaCelkemBezDPH-(ZakladDPHSni+ZakladDPHZakl) -> 0 | J27: =Mena -> CZK
A28: =(A27-INT(A27))*100 -> 0 | B28: Cena celkem bez DPH | G28: =A27 -> 0 | J28: =Mena -> CZK
B29: Cena celkem s DPH | G29: =ZakladDPHSni+DPHSni+ZakladDPHZakl+DPHZakl+Zaokrouhleni -> 0 | J29: CZK
C32: v | F32: dne
D35: Za zhotovitele | H35: Za objednatele
B37: Rekapitulace dílčích částí
A38: #CASTI>> | B38: Číslo | C38: Název | F38: =B23 -> Základ pro sníženou DPH | G38: =B25 -> Základ pro základní DPH | H38: DPH celkem | I38: Cena celkem | J38: %
A39: 2 | B39: 04 | C39: Technologie stravování | F39: ='[1]04 02 Pol'!AE311+'[1]04 03 Pol'!AE311 -> 0 | G39: =CenaCelkemBezDPH -> 0 | H39: =G39*0.21 -> 0 | I39: =F39+G39+H39 -> 0 | J39: =IF(CenaCelkemVypocet=0,"",I39/CenaCelkemVypocet*100)
F40: =SUMIF(A39:A39,"=1",F39:F39) -> 0 | G40: =SUMIF(A39:A39,"=1",G39:G39) -> 0 | H40: =SUMIF(A39:A39,"=1",H39:H39) -> 0
A42: #POPO | B42: Popis objektu: 04 - Technologie stravování
B45: Rekapitulace dílů
B47: Číslo | C47: Název | F47: Typ dílu | I47: Celkem | J47: %
B48: _10 | C48: KONVEKTOMAT | F48: HSV | I48: ='TS VV'!G8 -> 0 | J48: =IF(I72=0,"",I48/I72*100)
B49: _11 | C49: MYTÍ STOLNÍHO NÁDOBÍ | F49: HSV | I49: ='TS VV'!G26 -> 0 | J49: =IF(I72=0,"",I49/I72*100)
B50: _12 | C50: MYTÍ KUCHYŇSKÉHO NÁDOBÍ | F50: HSV | I50: ='TS VV'!G56 -> 0 | J50: =IF(I72=0,"",I50/I72*100)
B51: _13 | C51: VÝDEJNA JÍDEL PRO ZŠ | F51: HSV | I51: ='TS VV'!G66 -> 0 | J51: =IF(I72=0,"",I51/I72*100)
B52: _14 | C52: JÍDELNA PRO ZŠ | F52: HSV | I52: ='TS VV'!G89 -> 0 | J52: =IF(I72=0,"",I52/I72*100)
B53: _15 | C53: SKLAD POTRAVIN | F53: HSV | I53: ='TS VV'!G99 -> 0 | J53: =IF(I72=0,"",I53/I72*100)
B54: _16 | C54: HRUBÁ PŘÍPRAVNA ZELENINY | F54: HSV | I54: ='TS VV'!G115 -> 0 | J54: =IF(I72=0,"",I54/I72*100)
...

Sheet TS VV
A1: Položkový soupis prací a dodávek | AG1: #TypZaznamu#
A2: S: | B2: 2022-012 | C2: Stavební úpravy přístavbou MŠ - Dětská skupina | AG2: STA
A3: O: | B3: 04 | C3: Technologie stravování | AC3: STA | AG3: OBJ
A4: R: | B4: 03 | C4: Technologie stravování - nezpůsobilé výdaje | AG4: ROZ
A6: P.č. | B6: Číslo položky | C6: Název položky | D6: MJ | E6: Množství | F6: Cena / MJ | G6: Celkem | H6: Dodávka | I6: Dodávka celk. | J6: Montáž | K6: Montáž celk. | L6: DPH | M6: Cena s DPH | N6: Hmotnost / MJ | O6: Hmotnost celk.(t) | P6: Dem. hmotnost / MJ | Q6: Dem. hmotnost celk.(t) | R6: Ceník | S6: Cen. soustava / platnost | T6: Cenová úroveň | U6: Nhod / MJ | V6: Nhod celk. | W6: Dodavatel | X6: Typ položky | Y6: Stav položky
A8: Díl: | B8: _10 | C8: KONVEKTOMAT | G8: =SUMIF(AG9:AG25,"<>NOR",G9:G25) -> 0 | I8: =SUM(I9:I25) -> 0 | K8: =SUM(K9:K25) -> 0 | M8: =SUM(M9:M25) -> 0 | O8: =SUM(O9:O25) -> 0 | Q8: =SUM(Q9:Q25) -> 0 | V8: =SUM(V9:V25) -> 0 | AG8: DIL
A9: 1 | B9: 17. | C9: El.konvektomat 6xGN 1/1 | D9: kus | E9: 1 | G9: =E9*F9 -> 0 | I9: =ROUND(E9*H9,2) -> 0 | K9: =ROUND(E9*J9,2) -> 0 | L9: 21 | M9: =G9*(1+L9/100) -> 0 | N9: 0 | O9: =ROUND(E9*N9,2) -> 0 | P9: 0 | Q9: =ROUND(E9*P9,2) -> 0 | S9: Vlastní | T9: Indiv | U9: 0 | V9: =ROUND(E9*U9,2) -> 0 | X9: Specifikace | Y9: Běžná | AG9: POL3_0
C10: systém iCombi Classic | AG10: POP
C11: elektromechanické ovládání | AG11: POP
C12: Bojlerový vyvíječ páry | AG12: POP
C13: rozsah teplot +30°C až +300°C | AG13: POP
C14: 100 programů se 6 kroky | AG14: POP
C15: rozměr 850x842x754mm | AG15: POP
C16: el.příkon 10,8 kW/ 400 V | AG16: POP
A17: 2 | B17: 17a. | C17: Podstavec pod konvektomat, nerez | D17: kus | E17: 1 | G17: =E17*F17 -> 0 | I17: =ROUND(E17*H17,2) -> 0 | K17: =ROUND(E17*J17,2) -> 0 | L17: 21 | M17: =G17*(1+L17/100) -> 0 | N17: 0 | O17: =ROUND(E17*N17,2) -> 0 | P17: 0 | Q17: =ROUND(E17*P17,2) -> 0 | S17: Vlastní | T17: Indiv | U17: 0 | V17: =ROUND(E17*U17,2) -> 0 | X17: Specifikace | Y17: Běžná | AG17: POL3_0
C18: 6 + 6 vsunů pro gastronádoby | AG18: POP
C19: rozměr 845x724x931mm | AG19: POP
A20: 3 | B20: 17b. | C20: El.změkčovač vody kabinetní velikost 1 | D20: kus | E20: 1 | G20: =E20*F20 -> 0 | I20: =ROUND(E20*H20,2) -> 0 | K20: =ROUND(E20*J20,2) -> 0 | L20: 21 | M20: =G20*(1+L20/100) -> 0 | N20: 0 | O20: =ROUND(E20*N20,2) -> 0 | P20: 0 | Q20: =ROUND(E20*P20,2) -> 0 | S20: Vlastní | T20: Indiv | U20: 0 | V20: =ROUND(E20*U20,2) -> 0 | X20: Specifikace | Y20: Běžná | AG20: POL3_0
C21: objem změkčovací pryskyřice 5 litrů | AG21: POP
C22: rozměr 220x420x550mm | AG22: POP
C23: el.příkon 0,05 kW/ 230 V | AG23: POP
A24: 4 | B24: 18. | C24: Pracovní stůl, nerez | D24: kus | E24: 1 | G24: =E24*F24 -> 0 | I24: =ROUND(E24*H24,2) -> 0 | K24: =ROUND(E24*J24,2) -> 0 | L24: 21 | M24: =G24*(1+L24/100) -> 0 | N24: 0 | O24: =ROUND(E24*N24,2) -> 0 | P24: 0 | Q24: =ROUND(E24*P24,2) -> 0 | S24: Vlastní | T24: Indiv | U24: 0 | V24: =ROUND(E24*U24,2) -> 0 | X24: Specifikace | Y24: Běžná | AG24: POL3_0
C25: rozměr 1100x700x900mm, lem vzadu a vpravo | AG25: POP
A26: Díl: | B26: _11 | C26: MYTÍ STOLNÍHO NÁDOBÍ | G26: =SUMIF(AG27:AG55,"<>NOR",G27:G55) -> 0 | I26: =SUM(I27:I55) -> 0 | K26: =SUM(K27:K55) -> 0 | M26: =SUM(M27:M55) -> 0 | O26: =SUM(O27:O55) -> 0 | Q26: =SUM(Q27:Q55) -> 0 | V26: =SUM(V27:V55) -> 0 | AG26: DIL
A27: 5 | B27: Pol__0031 | C27: Tlaková sprcha s ramínkem ze stolu | D27: kus | E27: 1 | G27: =E27*F27 -> 0 | I27: =ROUND(E27*H27,2) -> 0 | K27: =ROUND(E27*J27,2) -> 0 | L27: 21 | M27: =G27*(1+L27/100) -> 0 | N27: 0 | O27: =ROUND(E27*N27,2) -> 0 | P27: 0 | Q27: =ROUND(E27*P27,2) -> 0 | S27: Vlastní | T27: Indiv | U27: 0 | V27: =ROUND(E27*U27,2) -> 0 | X27: Práce | Y27: Běžná | AG27: POL1_1
A28: 6 | B28: 19. | C28: Výlevka nerez | D28: kus | E28: 1 | G28: =E28*F28 -> 0 | I28: =ROUND(E28*H28,2) -> 0 | K28: =ROUND(E28*J28,2) -> 0 | L28: 21 | M28: =G28*(1+L28/100) -> 0 | N28: 0 | O28: =ROUND(E28*N28,2) -> 0 | P28: 0 | Q28: =ROUND(E28*P28,2) -> 0 | S28: Vlastní | T28: Indiv | U28: 0 | V28: =ROUND(E28*U28,2) -> 0 | X28: Specifikace | Y28: Běžná | AG28: POL3_0
C29: rozměr 500x600x580mm | AG29: POP
A30: 7 | B30: 20. | C30: Předmývací stůl s dráhou na podnosy a dřezem, nerez | D30: kus | E30: 1 | G30: =E30*F30 -> 0 | I30: =ROUND(E30*H30,2) -> 0 | K30: =ROUND(E30*J30,2) -> 0 | L30: 21 | M30: =G30*(1+L30/100) -> 0 | N30: 0 | O30: =ROUND(E30*N30,2) -> 0 | P30: 0 | Q30: =ROUND(E30*P30,2) -> 0 | S30: Vlastní | T30: Indiv | U30: 0 | V30: =ROUND(E30*U30,2) -> 0 | X30: Specifikace | Y30: Běžná | AG30: POL3_0
C31: rozměr 1200x750x850mm, zadní lem 100mm | AG31: POP
C32: 1x dřez lisovaný 400x400x250mm vpravo | AG32: POP
A33: 8 | B33: 21. | C33: El.průběžná myčka nádobí | D33: kus | E33: 1 | G33: =E33*F33 -> 0 | I33: =ROUND(E33*H33,2) -> 0 | K33: =ROUND(E33*J33,2) -> 0 | L33: 21 | M33: =G33*(1+L33/100) -> 0 | N33: 0 | O33: =ROUND(E33*N33,2) -> 0 | P33: 0 | Q33: =ROUND(E33*P33,2) -> 0 | S33: Vlastní | T33: Indiv | U33: 0 | V33: =ROUND(E33*U33,2) -> 0 | X33: Specifikace | Y33: Běžná | AG33: POL3_0
C34: jednoduché ovládání mechanickými tlačítky | AG34: POP
C35: koše 500x500mm | AG35: POP
C36: časy mytí 90 / 120 sekund | AG36: POP
C37: souběžný ohřev vany a bojleru | AG37: POP
C38: Bojler 9 kW/ 8 litrů | AG38: POP
C39: Vana 2,8 kW/ 30 litrů | AG39: POP
C40: zabudován dávkovač mycího a oplachového | AG40: POP
C41: prostředku | AG41: POP
C42: rozměr 657/ 760x793x1494/ 1969mm | AG42: POP
...
