Workbook

Sheet Rekapitulace stavby
A1: Export Komplet | BA1: 2.0 | BB1: ZAMOK | BT1: False | BU1: False | BV1: {e07762c4-32c6-424a-83c9-1aa5cfb7207c}
BS2: 0,01 | BT2: 21
BS3: 0,01 | BT3: 12
D4: REKAPITULACE STAVBY | AS4: v --- níže se nacházejí doplnkové a pomocné údaje k sestavám --- v | BE4: Návod na vyplnění | BS4: 0,001
D5: Kód: | K5: 9_2025 | BE5: Měnit lze pouze buňky se žlutým podbarvením!_x000D_ _x000D_ 1) na prvním listu Rekapitulace stavby vyplňte v sestavě_x000D_ _x000D_ a) Souhrnný list_x000D_ - údaje o Uchazeči_x000D_ (přenesou se do ostatních sestav i v jiných listech)_x000D_ _x000D_ b) Rekapitulace objektů_x000D_ - potřebné Ostatní náklady_x000D_ _x000D_ 2) na vybraných listech vyplňte v sestavě_x000D_ _x000D_ a) Krycí list_x000D_ - údaje o Uchazeči, pokud se liší od údajů o Uchazeči na Souhrnném listu_x000D_ (údaje se přenesou do ostatních sestav v daném listu)_x000D_ _x000D_ b) Rekapitulace rozpočtu_x000D_ - potřebné Ostatní náklady_x000D_ _x000D_ c) Celkové náklady za stavbu_x000D_ - ceny u položek_x000D_ - množství, pokud má žluté podbarvení_x000D_ - a v případě potřeby poznámku (ta je ve skrytém sloupci) | BS5: 0,01
D6: Stavba: | K6: Krajinný park Havraňák - propojení Kbely-Čakovice_část Kbely | BS6: 0,01
D7: KSO: | AK7: CC-CZ: | BS7: 0,01
D8: Místo: | AK8: Datum: | AN8: 30. 9. 2025 | BS8: 0,01
BS9: 0,01
D10: Zadavatel: | AK10: IČ: | AN10: 00231304 | BS10: 0,01
E11: Městská část Praha 19 | AK11: DIČ: | BS11: 0,01
BS12: 0,01
D13: Uchazeč: | AK13: IČ: | AN13: Vyplň údaj | BS13: 0,01
E14: Vyplň údaj | AK14: DIČ: | AN14: Vyplň údaj | BS14: 0,01
BS15: False
D16: Projektant: | AK16: IČ: | AN16: 10909231 | BS16: False
E17: Ing.Dárius Bolješik | AK17: DIČ: | BS17: True
BS18: 0,01
D19: Zpracovatel: | AK19: IČ: | BS19: 0,01
AK20: DIČ: | BS20: True
D22: Poznámka:
D26: Cena bez DPH | AK26: =ROUND(AG94,2) -> 1036244.5
L28: Sazba daně | W28: Základ daně | AK28: Výše daně
D29: DPH | F29: základní | L29: 0.21 | W29: =ROUND(AZ94, 2) -> 1036244.5 | AK29: =ROUND(AV94, 2) -> 217611.34
F30: snížená | L30: 0.12 | W30: =ROUND(BA94, 2) -> 0 | AK30: =ROUND(AW94, 2) -> 0
F31: zákl. přenesená | L31: 0.21 | W31: =ROUND(BB94, 2) -> 0 | AK31: 0
F32: sníž. přenesená | L32: 0.12 | W32: =ROUND(BC94, 2) -> 0 | AK32: 0
F33: nulová | L33: 0 | W33: =ROUND(BD94, 2) -> 0 | AK33: 0
D35: Cena s DPH | T35: v | X35: CZK | AK35: =SUM(AK26:AK33) -> 1253855.8
D49: Projektant | AH49: Zpracovatel
D60: Datum a podpis: | V60: Razítko | AH60: Datum a podpis: | AM60: Razítko
D64: Objednavatel | AH64: Uchazeč
D75: Datum a podpis: | V75: Razítko | AH75: Datum a podpis: | AM75: Razítko
C82: REKAPITULACE OBJEKTŮ STAVBY A SOUPISŮ PRACÍ
C84: Kód: | L84: =K5 -> 9_2025
C85: Stavba: | L85: =K6 -> Krajinný park Havraňák - propojení Kbely-Čakovice_část Kbely
C87: Místo: | L87: =IF(K8="","",K8) | AI87: Datum: | AM87: =IF(AN8= "","",AN8) -> 30. 9. 2025
C89: Zadavatel: | L89: =IF(E11= "","",E11) -> Městská část Praha 19 | AI89: Projektant: | AM89: =IF(E17="","",E17) -> Ing.Dárius Bolješik | AS89: Informatívní údaje z listů zakázek
C90: Uchazeč: | L90: =IF(E14= "Vyplň údaj","",E14) | AI90: Zpracovatel: | AM90: =IF(E20="","",E20)
C92: Kód | I92: Popis | AG92: Cena bez DPH [CZK] | AN92: Cena s DPH [CZK] | AQ92: Typ | AS92: z toho Ostat._x000D_ náklady [CZK] | AT92: DPH [CZK] | AU92: Normohodiny [h] | AV92: DPH základní [CZK] | AW92: DPH snížená [CZK] | AX92: DPH základní přenesená_x000D_ [CZK] | AY92: DPH snížená přenesená_x000D_ [CZK] | AZ92: Základna_x000D_ DPH základní | BA92: Základna_x000D_ DPH snížená | BB92: Základna_x000D_ DPH zákl. přenesená | BC92: Základna_x000D_ DPH sníž. přenesená | BD92: Základna_x000D_ DPH nulová
C94: Náklady z rozpočtů | AG94: =ROUND(SUM(AG95:AG96),2) -> 1036244.5 | AN94: =SUM(AG94,AT94) -> 1253855.8 | AS94: =ROUND(SUM(AS95:AS96),2) -> 0 | AT94: =ROUND(SUM(AV94:AW94),2) -> 217611.34 | AU94: =ROUND(SUM(AU95:AU96),5) -> 0 | AV94: =ROUND(AZ94*L29,2) -> 217611.34 | AW94: =ROUND(BA94*L30,2) -> 0 | AX94: =ROUND(BB94*L29,2) -> 0 | AY94: =ROUND(BC94*L30,2) -> 0 | AZ94: =ROUND(SUM(AZ95:AZ96),2) -> 1036244.5 | BA94: =ROUND(SUM(BA95:BA96),2) -> 0 | BB94: =ROUND(SUM(BB95:BB96),2) -> 0 | BC94: =ROUND(SUM(BC95:BC96),2) -> 0 | BD94: =ROUND(SUM(BD95:BD96),2) -> 0 | BS94: D | BT94: 0 | BU94: ###NOIMPORT### | BV94: IMPORT | BW94: {e07762c4-32c6-424a-83c9-1aa5cfb7207c} | BX94: {00000000-0000-0000-0000-000000000000}
A95: / | D95: Objekt1 | J95: SO 00 | AG95: ='Objekt1 - SO 00'!J30 -> 110000 | AN95: =SUM(AG95,AT95) -> 133100 | AQ95: STA | AS95: 0 | AT95: =ROUND(SUM(AV95:AW95),2) -> 23100 | AU95: ='Objekt1 - SO 00'!P117 -> 0 | AV95: ='Objekt1 - SO 00'!J33 -> 23100 | AW95: ='Objekt1 - SO 00'!J34 -> 0 | AX95: ='Objekt1 - SO 00'!J35 -> 0 | AY95: ='Objekt1 - SO 00'!J36 -> 0 | AZ95: ='Objekt1 - SO 00'!F33 -> 110000 | BA95: ='Objekt1 - SO 00'!F34 -> 0 | BB95: ='Objekt1 - SO 00'!F35 -> 0 | BC95: ='Objekt1 - SO 00'!F36 -> 0 | BD95: ='Objekt1 - SO 00'!F37 -> 0 | BT95: 1 | BV95: IMPORT | BW95: {ce5d1dbb-8df1-424d-aaa3-9cd2ccb2734f} | BX95: {e07762c4-32c6-424a-83c9-1aa5cfb7207c} | CM95: 2
A96: / | D96: Objekt2 | J96: SO 01.2 | AG96: ='Objekt2 - SO 01.2'!J30 -> 926244.46 | AN96: =SUM(AG96,AT96) -> 1120755.8 | AQ96: STA | AS96: 0 | AT96: =ROUND(SUM(AV96:AW96),2) -> 194511.34 | AU96: ='Objekt2 - SO 01.2'!P116 -> 0 | AV96: ='Objekt2 - SO 01.2'!J33 -> 194511.34 | AW96: ='Objekt2 - SO 01.2'!J34 -> 0 | AX96: ='Objekt2 - SO 01.2'!J35 -> 0 | AY96: ='Objekt2 - SO 01.2'!J36 -> 0 | AZ96: ='Objekt2 - SO 01.2'!F33 -> 926244.46 | BA96: ='Objekt2 - SO 01.2'!F34 -> 0 | BB96: ='Objekt2 - SO 01.2'!F35 -> 0 | BC96: ='Objekt2 - SO 01.2'!F36 -> 0 | BD96: ='Objekt2 - SO 01.2'!F37 -> 0 | BT96: 1 | BV96: IMPORT | BW96: {466b9382-55c6-4a7a-ac8b-2110efbec859} | BX96: {e07762c4-32c6-424a-83c9-1aa5cfb7207c} | CM96: 2

Sheet Objekt1 - SO 00
AT2: {ce5d1dbb-8df1-424d-aaa3-9cd2ccb2734f}
AT3: 2
D4: KRYCÍ LIST SOUPISU PRACÍ | M4: v --- níže se nacházejí doplnkové a pomocné údaje k sestavám --- v | AT4: False
D6: Stavba:
E7: ='Rekapitulace stavby'!K6 -> Krajinný park Havraňák - propojení Kbely-Čakovice_část Kbely
D8: Objekt:
E9: Objekt1 - SO 00
D11: KSO: | I11: CC-CZ:
D12: Místo: | I12: Datum: | J12: ='Rekapitulace stavby'!AN8 -> 30. 9. 2025
D14: Zadavatel: | I14: IČ: | J14: =IF('Rekapitulace stavby'!AN10="","",'Rekapitulace stavby'!AN10) -> 00231304
E15: =IF('Rekapitulace stavby'!E11="","",'Rekapitulace stavby'!E11) -> Městská část Praha 19 | I15: DIČ: | J15: =IF('Rekapitulace stavby'!AN11="","",'Rekapitulace stavby'!AN11)
D17: Uchazeč: | I17: IČ: | J17: ='Rekapitulace stavby'!AN13 -> Vyplň údaj
E18: ='Rekapitulace stavby'!E14 -> Vyplň údaj | I18: DIČ: | J18: ='Rekapitulace stavby'!AN14 -> Vyplň údaj
D20: Projektant: | I20: IČ: | J20: =IF('Rekapitulace stavby'!AN16="","",'Rekapitulace stavby'!AN16) -> 10909231
E21: =IF('Rekapitulace stavby'!E17="","",'Rekapitulace stavby'!E17) -> Ing.Dárius Bolješik | I21: DIČ: | J21: =IF('Rekapitulace stavby'!AN17="","",'Rekapitulace stavby'!AN17)
D23: Zpracovatel: | I23: IČ: | J23: =IF('Rekapitulace stavby'!AN19="","",'Rekapitulace stavby'!AN19)
E24: =IF('Rekapitulace stavby'!E20="","",'Rekapitulace stavby'!E20) | I24: DIČ: | J24: =IF('Rekapitulace stavby'!AN20="","",'Rekapitulace stavby'!AN20)
D26: Poznámka:
D30: Cena bez DPH | J30: =ROUND(J117, 2) -> 110000
F32: Základ daně | I32: Sazba daně | J32: Výše daně
D33: DPH | E33: základní | F33: =ROUND((SUM(BE117:BE130)), 2) -> 110000 | I33: 0.21 | J33: =ROUND(((SUM(BE117:BE130))*I33), 2) -> 23100
E34: snížená | F34: =ROUND((SUM(BF117:BF130)), 2) -> 0 | I34: 0.12 | J34: =ROUND(((SUM(BF117:BF130))*I34), 2) -> 0
E35: zákl. přenesená | F35: =ROUND((SUM(BG117:BG130)), 2) -> 0 | I35: 0.21 | J35: =0 -> 0
E36: sníž. přenesená | F36: =ROUND((SUM(BH117:BH130)), 2) -> 0 | I36: 0.12 | J36: =0 -> 0
E37: nulová | F37: =ROUND((SUM(BI117:BI130)), 2) -> 0 | I37: 0 | J37: =0 -> 0
D39: Cena s DPH | G39: v | H39: CZK | J39: =SUM(J30:J37) -> 133100
D50: Projektant | G50: Zpracovatel
D61: Datum a podpis: | F61: Razítko | G61: Datum a podpis: | J61: Razítko
D65: Objednavatel | G65: Uchazeč
D76: Datum a podpis: | F76: Razítko | G76: Datum a podpis: | J76: Razítko
C82: REKAPITULACE ČLENĚNÍ SOUPISU PRACÍ
C84: Stavba:
E85: =E7 -> Krajinný park Havraňák - propojení Kbely-Čakovice_část Kbely
C86: Objekt:
E87: =E9 -> Objekt1 - SO 00
C89: Místo: | F89: =F12 | I89: Datum: | J89: =IF(J12="","",J12) -> 30. 9. 2025
C91: Zadavatel: | F91: =E15 -> Městská část Praha 19 | I91: Projektant: | J91: =E21 -> Ing.Dárius Bolješik
C92: Uchazeč: | F92: =IF(E18="","",E18) -> Vyplň údaj | I92: Zpracovatel: | J92: =E24
C94: Kód dílu - Popis | J94: Cena celkem [CZK]
C96: Náklady ze soupisu prací | J96: =J117 -> 110000 | AU96: -1
D97: OST - Ostatní | J97: =J118 -> 110000
C104: SOUPIS PRACÍ
C106: Stavba:
E107: =E7 -> Krajinný park Havraňák - propojení Kbely-Čakovice_část Kbely
C108: Objekt:
E109: =E9 -> Objekt1 - SO 00
C111: Místo: | F111: =F12 | I111: Datum: | J111: =IF(J12="","",J12) -> 30. 9. 2025
C113: Zadavatel: | F113: =E15 -> Městská část Praha 19 | I113: Projektant: | J113: =E21 -> Ing.Dárius Bolješik
C114: Uchazeč: | F114: =IF(E18="","",E18) -> Vyplň údaj | I114: Zpracovatel: | J114: =E24
C116: PČ | D116: Typ | E116: Kód | F116: Popis | G116: MJ | H116: Množství | I116: J.cena [CZK] | J116: Cena celkem [CZK] | K116: Cenová soustava | N116: DPH | O116: J. Nh [h] | P116: Nh celkem [h] | Q116: J. hmotnost [t] | R116: Hmotnost celkem [t] | S116: J. suť [t] | T116: Suť Celkem [t]
C117: Náklady soupisu celkem | J117: =BK117 -> 110000 | P117: =P118 -> 0 | R117: =R118 -> 0 | T117: =T118 -> 0 | AT117: D | AU117: -1 | BK117: =BK118 -> 110000
D118: D | E118: OST | F118: Ostatní | J118: =BK118 -> 110000 | P118: =SUM(P119:P130) -> 0 | R118: =SUM(R119:R130) -> 0 | T118: =SUM(T119:T130) -> 0 | AR118: 4 | AT118: D | AU118: 0 | AY118: ROZPOCET | BK118: =SUM(BK119:BK130) -> 110000
C119: 9 | D119: K | E119: 03100 | F119: ZAŘÍZENÍ STAVENIŠTĚ - ZŘÍZENÍ, PROVOZ, DEMONTÁŽ | G119: KPL | H119: 1 | I119: 5000 | J119: =ROUND(I119*H119,2) -> 5000 | K119: OTSKP 2025 | N119: základní | P119: =O119*H119 -> 0 | Q119: 0 | R119: =Q119*H119 -> 0 | S119: 0 | T119: =S119*H119 -> 0 | AR119: 512 | AT119: K | AU119: 1 | AY119: ROZPOCET | BE119: =IF(N119="základní",J119,0) -> 5000 | BF119: =IF(N119="snížená",J119,0) -> 0 | BG119: =IF(N119="zákl. přenesená",J119,0) -> 0 | BH119: =IF(N119="sníž. přenesená",J119,0) -> 0 | BI119: =IF(N119="nulová",J119,0) -> 0 | BJ119: 1 | BK119: =ROUND(I119*H119,2) -> 5000 | BL119: 512 | BM119: -1747076545
D120: PP | F120: ZAŘÍZENÍ STAVENIŠTĚ - ZŘÍZENÍ, PROVOZ, DEMONTÁŽ | AT120: PP | AU120: 1
C121: 8 | D121: K | E121: 03710 | F121: POMOC PRÁCE ZAJIŠŤ NEBO ZŘÍZ OBJÍŽĎKY A PŘÍSTUP CESTY | G121: KPL | H121: 1 | I121: 10000 | J121: =ROUND(I121*H121,2) -> 10000 | K121: OTSKP 2025 | N121: základní | P121: =O121*H121 -> 0 | Q121: 0 | R121: =Q121*H121 -> 0 | S121: 0 | T121: =S121*H121 -> 0 | AR121: 512 | AT121: K | AU121: 1 | AY121: ROZPOCET | BE121: =IF(N121="základní",J121,0) -> 10000 | BF121: =IF(N121="snížená",J121,0) -> 0 | BG121: =IF(N121="zákl. přenesená",J121,0) -> 0 | BH121: =IF(N121="sníž. přenesená",J121,0) -> 0 | BI121: =IF(N121="nulová",J121,0) -> 0 | BJ121: 1 | BK121: =ROUND(I121*H121,2) -> 10000 | BL121: 512 | BM121: -708452434
D122: PP | F122: POMOC PRÁCE ZAJIŠŤ NEBO ZŘÍZ OBJÍŽĎKY A PŘÍSTUP CESTY | AT122: PP | AU122: 1
C123: 4 | D123: K | E123: 02944 | F123: OSTAT POŽADAVKY - DOKUMENTACE SKUTEČ PROVEDENÍ V DIGIT FORMĚ | G123: KPL | H123: 1 | I123: 20000 | J123: =ROUND(I123*H123,2) -> 20000 | K123: OTSKP 2025 | N123: základní | P123: =O123*H123 -> 0 | Q123: 0 | R123: =Q123*H123 -> 0 | S123: 0 | T123: =S123*H123 -> 0 | AR123: 4 | AT123: K | AU123: 1 | AY123: ROZPOCET | BE123: =IF(N123="základní",J123,0) -> 20000 | BF123: =IF(N123="snížená",J123,0) -> 0 | BG123: =IF(N123="zákl. přenesená",J123,0) -> 0 | BH123: =IF(N123="sníž. přenesená",J123,0) -> 0 | BI123: =IF(N123="nulová",J123,0) -> 0 | BJ123: 1 | BK123: =ROUND(I123*H123,2) -> 20000 | BL123: 4 | BM123: 8
D124: PP | F124: OSTAT POŽADAVKY - DOKUMENTACE SKUTEČ PROVEDENÍ V DIGIT FORMĚ | AT124: PP | AU124: 1
C125: 3 | D125: K | E125: 02943 | F125: OSTATNÍ POŽADAVKY - VYPRACOVÁNÍ RDS | G125: KPL | H125: 1 | I125: 20000 | J125: =ROUND(I125*H125,2) -> 20000 | K125: OTSKP 2025 | N125: základní | P125: =O125*H125 -> 0 | Q125: 0 | R125: =Q125*H125 -> 0 | S125: 0 | T125: =S125*H125 -> 0 | AR125: 4 | AT125: K | AU125: 1 | AY125: ROZPOCET | BE125: =IF(N125="základní",J125,0) -> 20000 | BF125: =IF(N125="snížená",J125,0) -> 0 | BG125: =IF(N125="zákl. přenesená",J125,0) -> 0 | BH125: =IF(N125="sníž. přenesená",J125,0) -> 0 | BI125: =IF(N125="nulová",J125,0) -> 0 | BJ125: 1 | BK125: =ROUND(I125*H125,2) -> 20000 | BL125: 4 | BM125: 6
D126: PP | F126: OSTATNÍ POŽADAVKY - VYPRACOVÁNÍ RDS | AT126: PP | AU126: 1
C127: 1 | D127: K | E127: 02911 | F127: OSTATNÍ POŽADAVKY - GEODETICKÉ ZAMĚŘENÍ | G127: KPL | H127: 1 | I127: 5000 | J127: =ROUND(I127*H127,2) -> 5000 | N127: základní | P127: =O127*H127 -> 0 | Q127: 0 | R127: =Q127*H127 -> 0 | S127: 0 | T127: =S127*H127 -> 0 | AR127: 4 | AT127: K | AU127: 1 | AY127: ROZPOCET | BE127: =IF(N127="základní",J127,0) -> 5000 | BF127: =IF(N127="snížená",J127,0) -> 0 | BG127: =IF(N127="zákl. přenesená",J127,0) -> 0 | BH127: =IF(N127="sníž. přenesená",J127,0) -> 0 | BI127: =IF(N127="nulová",J127,0) -> 0 | BJ127: 1 | BK127: =ROUND(I127*H127,2) -> 5000 | BL127: 4 | BM127: 4
D128: PP | F128: OSTATNÍ POŽADAVKY - GEODETICKÉ ZAMĚŘENÍ | AT128: PP | AU128: 1
C129: 5 | D129: K | E129: 02720 | F129: POMOC PRÁCE ZŘÍZ NEBO ZAJIŠŤ REGULACI A OCHRANU DOPRAVY | G129: KPL | H129: 1 | I129: 50000 | J129: =ROUND(I129*H129,2) -> 50000 | K129: OTSKP 2025 | N129: základní | P129: =O129*H129 -> 0 | Q129: 0 | R129: =Q129*H129 -> 0 | S129: 0 | T129: =S129*H129 -> 0 | AR129: 4 | AT129: K | AU129: 1 | AY129: ROZPOCET | BE129: =IF(N129="základní",J129,0) -> 50000 | BF129: =IF(N129="snížená",J129,0) -> 0 | BG129: =IF(N129="zákl. přenesená",J129,0) -> 0 | BH129: =IF(N129="sníž. přenesená",J129,0) -> 0 | BI129: =IF(N129="nulová",J129,0) -> 0 | BJ129: 1 | BK129: =ROUND(I129*H129,2) -> 50000 | BL129: 4 | BM129: 2
D130: PP | F130: POMOC PRÁCE ZŘÍZ NEBO ZAJIŠŤ REGULACI A OCHRANU DOPRAVY | AT130: PP | AU130: 1

Sheet Objekt2 - SO 01.2
AT2: {466b9382-55c6-4a7a-ac8b-2110efbec859}
AT3: 2
D4: KRYCÍ LIST SOUPISU PRACÍ | M4: v --- níže se nacházejí doplnkové a pomocné údaje k sestavám --- v | AT4: False
D6: Stavba:
E7: ='Rekapitulace stavby'!K6 -> Krajinný park Havraňák - propojení Kbely-Čakovice_část Kbely
D8: Objekt:
E9: Objekt2 - SO 01.2
D11: KSO: | I11: CC-CZ:
D12: Místo: | I12: Datum: | J12: ='Rekapitulace stavby'!AN8 -> 30. 9. 2025
D14: Zadavatel: | I14: IČ: | J14: =IF('Rekapitulace stavby'!AN10="","",'Rekapitulace stavby'!AN10) -> 00231304
E15: =IF('Rekapitulace stavby'!E11="","",'Rekapitulace stavby'!E11) -> Městská část Praha 19 | I15: DIČ: | J15: =IF('Rekapitulace stavby'!AN11="","",'Rekapitulace stavby'!AN11)
D17: Uchazeč: | I17: IČ: | J17: ='Rekapitulace stavby'!AN13 -> Vyplň údaj
E18: ='Rekapitulace stavby'!E14 -> Vyplň údaj | I18: DIČ: | J18: ='Rekapitulace stavby'!AN14 -> Vyplň údaj
D20: Projektant: | I20: IČ: | J20: =IF('Rekapitulace stavby'!AN16="","",'Rekapitulace stavby'!AN16) -> 10909231
E21: =IF('Rekapitulace stavby'!E17="","",'Rekapitulace stavby'!E17) -> Ing.Dárius Bolješik | I21: DIČ: | J21: =IF('Rekapitulace stavby'!AN17="","",'Rekapitulace stavby'!AN17)
D23: Zpracovatel: | I23: IČ: | J23: =IF('Rekapitulace stavby'!AN19="","",'Rekapitulace stavby'!AN19)
E24: =IF('Rekapitulace stavby'!E20="","",'Rekapitulace stavby'!E20) | I24: DIČ: | J24: =IF('Rekapitulace stavby'!AN20="","",'Rekapitulace stavby'!AN20)
D26: Poznámka:
D30: Cena bez DPH | J30: =ROUND(J116, 2) -> 926244.46
F32: Základ daně | I32: Sazba daně | J32: Výše daně
D33: DPH | E33: základní | F33: =ROUND((SUM(BE116:BE210)), 2) -> 926244.46 | I33: 0.21 | J33: =ROUND(((SUM(BE116:BE210))*I33), 2) -> 194511.34
E34: snížená | F34: =ROUND((SUM(BF116:BF210)), 2) -> 0 | I34: 0.12 | J34: =ROUND(((SUM(BF116:BF210))*I34), 2) -> 0
E35: zákl. přenesená | F35: =ROUND((SUM(BG116:BG210)), 2) -> 0 | I35: 0.21 | J35: =0 -> 0
E36: sníž. přenesená | F36: =ROUND((SUM(BH116:BH210)), 2) -> 0 | I36: 0.12 | J36: =0 -> 0
E37: nulová | F37: =ROUND((SUM(BI116:BI210)), 2) -> 0 | I37: 0 | J37: =0 -> 0
D39: Cena s DPH | G39: v | H39: CZK | J39: =SUM(J30:J37) -> 1120755.8
D50: Projektant | G50: Zpracovatel
D61: Datum a podpis: | F61: Razítko | G61: Datum a podpis: | J61: Razítko
D65: Objednavatel | G65: Uchazeč
D76: Datum a podpis: | F76: Razítko | G76: Datum a podpis: | J76: Razítko
C82: REKAPITULACE ČLENĚNÍ SOUPISU PRACÍ
C84: Stavba:
E85: =E7 -> Krajinný park Havraňák - propojení Kbely-Čakovice_část Kbely
C86: Objekt:
E87: =E9 -> Objekt2 - SO 01.2
C89: Místo: | F89: =F12 | I89: Datum: | J89: =IF(J12="","",J12) -> 30. 9. 2025
C91: Zadavatel: | F91: =E15 -> Městská část Praha 19 | I91: Projektant: | J91: =E21 -> Ing.Dárius Bolješik
C92: Uchazeč: | F92: =IF(E18="","",E18) -> Vyplň údaj | I92: Zpracovatel: | J92: =E24
C94: Kód dílu - Popis | J94: Cena celkem [CZK]
C96: Náklady ze soupisu prací | J96: =J116 -> 926244.46 | AU96: -1
C103: SOUPIS PRACÍ
C105: Stavba:
E106: =E7 -> Krajinný park Havraňák - propojení Kbely-Čakovice_část Kbely
C107: Objekt:
E108: =E9 -> Objekt2 - SO 01.2
C110: Místo: | F110: =F12 | I110: Datum: | J110: =IF(J12="","",J12) -> 30. 9. 2025
C112: Zadavatel: | F112: =E15 -> Městská část Praha 19 | I112: Projektant: | J112: =E21 -> Ing.Dárius Bolješik
C113: Uchazeč: | F113: =IF(E18="","",E18) -> Vyplň údaj | I113: Zpracovatel: | J113: =E24
C115: PČ | D115: Typ | E115: Kód | F115: Popis | G115: MJ | H115: Množství | I115: J.cena [CZK] | J115: Cena celkem [CZK] | K115: Cenová soustava | N115: DPH | O115: J. Nh [h] | P115: Nh celkem [h] | Q115: J. hmotnost [t] | R115: Hmotnost celkem [t] | S115: J. suť [t] | T115: Suť Celkem [t]
C116: Náklady soupisu celkem | J116: =BK116 -> 926244.46 | P116: =SUM(P117:P210) -> 0 | R116: =SUM(R117:R210) -> 0 | T116: =SUM(T117:T210) -> 0 | AT116: D | AU116: -1 | BK116: =SUM(BK117:BK210) -> 926244.46
C117: 47 | D117: K | E117: 014101 | F117: POPLATKY ZA SKLÁDKU | G117: M3 | H117: 0.364 | I117: 550 | J117: =ROUND(I117*H117,2) -> 200.2 | K117: OTSKP 2025 | N117: základní | P117: =O117*H117 -> 0 | Q117: 0 | R117: =Q117*H117 -> 0 | S117: 0 | T117: =S117*H117 -> 0 | AR117: 4 | AT117: K | AU117: 0 | AY117: ROZPOCET | BE117: =IF(N117="základní",J117,0) -> 200.2 | BF117: =IF(N117="snížená",J117,0) -> 0 | BG117: =IF(N117="zákl. přenesená",J117,0) -> 0 | BH117: =IF(N117="sníž. přenesená",J117,0) -> 0 | BI117: =IF(N117="nulová",J117,0) -> 0 | BJ117: 1 | BK117: =ROUND(I117*H117,2) -> 200.2 | BL117: 4 | BM117: 2
D118: PP | F118: POPLATKY ZA SKLÁDKU | AT118: PP | AU118: 0
D119: VV | F119: 9,7*0,15*0,25 "Dle pol. 11352 [A] | H119: 0.364 | AT119: VV | AU119: 0 | AV119: 2 | AW119: True | AX119: 0 | AY119: ROZPOCET
D120: VV | F120: Součet | H120: 0.364 | AT120: VV | AU120: 0 | AV120: 4 | AW120: True | AX120: 1 | AY120: ROZPOCET
C121: 48 | D121: K | E121: 11352 | F121: ODSTRANĚNÍ CHODNÍKOVÝCH A SILNIČNÍCH OBRUBNÍKŮ BETONOVÝCH | G121: M | H121: 9.7 | I121: 119.54 | J121: =ROUND(I121*H121,2) -> 1159.54 | K121: OTSKP 2025 | N121: základní | P121: =O121*H121 -> 0 | Q121: 0 | R121: =Q121*H121 -> 0 | S121: 0 | T121: =S121*H121 -> 0 | AR121: 4 | AT121: K | AU121: 0 | AY121: ROZPOCET | BE121: =IF(N121="základní",J121,0) -> 1159.54 | BF121: =IF(N121="snížená",J121,0) -> 0 | BG121: =IF(N121="zákl. přenesená",J121,0) -> 0 | BH121: =IF(N121="sníž. přenesená",J121,0) -> 0 | BI121: =IF(N121="nulová",J121,0) -> 0 | BJ121: 1 | BK121: =ROUND(I121*H121,2) -> 1159.54 | BL121: 4 | BM121: 4
D122: PP | F122: ODSTRANĚNÍ CHODNÍKOVÝCH A SILNIČNÍCH OBRUBNÍKŮ BETONOVÝCH | AT122: PP | AU122: 0
D123: VV | F123: 9,7" [A] | H123: 9.7 | AT123: VV | AU123: 0 | AV123: 2 | AW123: True | AX123: 0 | AY123: ROZPOCET
D124: VV | F124: Součet | H124: 9.7 | AT124: VV | AU124: 0 | AV124: 4 | AW124: True | AX124: 1 | AY124: ROZPOCET
C125: 3 | D125: K | E125: 121106 | F125: SEJMUTÍ ORNICE NEBO LESNÍ PŮDY S ODVOZEM DO 12KM | G125: M3 | H125: 183.2 | I125: 309.42 | J125: =ROUND(I125*H125,2) -> 56685.74 | K125: OTSKP 2025 | N125: základní | P125: =O125*H125 -> 0 | Q125: 0 | R125: =Q125*H125 -> 0 | S125: 0 | T125: =S125*H125 -> 0 | AR125: 4 | AT125: K | AU125: 0 | AY125: ROZPOCET | BE125: =IF(N125="základní",J125,0) -> 56685.74 | BF125: =IF(N125="snížená",J125,0) -> 0 | BG125: =IF(N125="zákl. přenesená",J125,0) -> 0 | BH125: =IF(N125="sníž. přenesená",J125,0) -> 0 | BI125: =IF(N125="nulová",J125,0) -> 0 | BJ125: 1 | BK125: =ROUND(I125*H125,2) -> 56685.74 | BL125: 4 | BM125: 6
D126: PP | F126: SEJMUTÍ ORNICE NEBO LESNÍ PŮDY S ODVOZEM DO 12KM | AT126: PP | AU126: 0
D127: VV | F127: 0,4*458" [A] | H127: 183.2 | AT127: VV | AU127: 0 | AV127: 2 | AW127: True | AX127: 0 | AY127: ROZPOCET
D128: VV | F128: Součet | H128: 183.2 | AT128: VV | AU128: 0 | AV128: 4 | AW128: True | AX128: 1 | AY128: ROZPOCET
C129: 5 | D129: K | E129: 12373 | F129: ODKOP PRO SPOD STAVBU SILNIC A ŽELEZNIC TŘ. I | G129: M3 | H129: 7.36 | I129: 325.18 | J129: =ROUND(I129*H129,2) -> 2393.32 | K129: OTSKP 2025 | N129: základní | P129: =O129*H129 -> 0 | Q129: 0 | R129: =Q129*H129 -> 0 | S129: 0 | T129: =S129*H129 -> 0 | AR129: 4 | AT129: K | AU129: 0 | AY129: ROZPOCET | BE129: =IF(N129="základní",J129,0) -> 2393.32 | BF129: =IF(N129="snížená",J129,0) -> 0 | BG129: =IF(N129="zákl. přenesená",J129,0) -> 0 | BH129: =IF(N129="sníž. přenesená",J129,0) -> 0 | BI129: =IF(N129="nulová",J129,0) -> 0 | BJ129: 1 | BK129: =ROUND(I129*H129,2) -> 2393.32 | BL129: 4 | BM129: 8
D130: PP | F130: ODKOP PRO SPOD STAVBU SILNIC A ŽELEZNIC TŘ. I | AT130: PP | AU130: 0
D131: VV | F131: 0,05*3,2*10+0,06*3,2*10+0,04*10*3,2+0,2*4*3,2" [A] | H131: 7.36 | AT131: VV | AU131: 0 | AV131: 2 | AW131: True | AX131: 0 | AY131: ROZPOCET
D132: VV | F132: Součet | H132: 7.36 | AT132: VV | AU132: 0 | AV132: 4 | AW132: True | AX132: 1 | AY132: ROZPOCET
C133: 6 | D133: K | E133: 12573 | F133: VYKOPÁVKY ZE ZEMNÍKŮ A SKLÁDEK TŘ. I | G133: M3 | H133: 13.8 | I133: 156.17 | J133: =ROUND(I133*H133,2) -> 2155.15 | K133: OTSKP 2025 | N133: základní | P133: =O133*H133 -> 0 | Q133: 0 | R133: =Q133*H133 -> 0 | S133: 0 | T133: =S133*H133 -> 0 | AR133: 4 | AT133: K | AU133: 0 | AY133: ROZPOCET | BE133: =IF(N133="základní",J133,0) -> 2155.15 | BF133: =IF(N133="snížená",J133,0) -> 0 | BG133: =IF(N133="zákl. přenesená",J133,0) -> 0 | BH133: =IF(N133="sníž. přenesená",J133,0) -> 0 | BI133: =IF(N133="nulová",J133,0) -> 0 | BJ133: 1 | BK133: =ROUND(I133*H133,2) -> 2155.15 | BL133: 4 | BM133: 10
D134: PP | F134: VYKOPÁVKY ZE ZEMNÍKŮ A SKLÁDEK TŘ. I | AT134: PP | AU134: 0
D135: VV | F135: 13,8" [A] | H135: 13.8 | AT135: VV | AU135: 0 | AV135: 2 | AW135: True | AX135: 0 | AY135: ROZPOCET
D136: VV | F136: Součet | H136: 13.8 | AT136: VV | AU136: 0 | AV136: 4 | AW136: True | AX136: 1 | AY136: ROZPOCET
C137: 50 | D137: K | E137: 17120 | F137: ULOŽENÍ SYPANINY DO NÁSYPŮ A NA SKLÁDKY BEZ ZHUTNĚNÍ | G137: M3 | H137: 15.603 | I137: 186.48 | J137: =ROUND(I137*H137,2) -> 2909.65 | K137: OTSKP 2025 | N137: základní | P137: =O137*H137 -> 0 | Q137: 0 | R137: =Q137*H137 -> 0 | S137: 0 | T137: =S137*H137 -> 0 | AR137: 4 | AT137: K | AU137: 0 | AY137: ROZPOCET | BE137: =IF(N137="základní",J137,0) -> 2909.65 | BF137: =IF(N137="snížená",J137,0) -> 0 | BG137: =IF(N137="zákl. přenesená",J137,0) -> 0 | BH137: =IF(N137="sníž. přenesená",J137,0) -> 0 | BI137: =IF(N137="nulová",J137,0) -> 0 | BJ137: 1 | BK137: =ROUND(I137*H137,2) -> 2909.65 | BL137: 4 | BM137: 12
D138: PP | F138: ULOŽENÍ SYPANINY DO NÁSYPŮ A NA SKLÁDKY BEZ ZHUTNĚNÍ | AT138: PP | AU138: 0
D139: VV | F139: 0,12*3,2*7,3+0,03*3,2*10+0,07*3,2*10+0,03*3,2*10+0,03*3,2*10+0,03*3,2*10+0,1*3,2*10+0,03*3,2*10+0,03*3,2*10+0,05*3,2*10" [A] | H139: 15.603 | AT139: VV | AU139: 0 | AV139: 2 | AW139: True | AX139: 0 | AY139: ROZPOCET
D140: VV | F140: Součet | H140: 15.603 | AT140: VV | AU140: 0 | AV140: 4 | AW140: True | AX140: 1 | AY140: ROZPOCET
C141: 51 | D141: K | E141: 17120 | F141: ULOŽENÍ SYPANINY DO NÁSYPŮ A NA SKLÁDKY BEZ ZHUTNĚNÍ | G141: M3 | H141: 0.364 | I141: 186.48 | J141: =ROUND(I141*H141,2) -> 67.88 | K141: OTSKP 2025 | N141: základní | P141: =O141*H141 -> 0 | Q141: 0 | R141: =Q141*H141 -> 0 | S141: 0 | T141: =S141*H141 -> 0 | AR141: 4 | AT141: K | AU141: 0 | AY141: ROZPOCET | BE141: =IF(N141="základní",J141,0) -> 67.88 | BF141: =IF(N141="snížená",J141,0) -> 0 | BG141: =IF(N141="zákl. přenesená",J141,0) -> 0 | BH141: =IF(N141="sníž. přenesená",J141,0) -> 0 | BI141: =IF(N141="nulová",J141,0) -> 0 | BJ141: 1 | BK141: =ROUND(I141*H141,2) -> 67.88 | BL141: 4 | BM141: 14
D142: PP | F142: ULOŽENÍ SYPANINY DO NÁSYPŮ A NA SKLÁDKY BEZ ZHUTNĚNÍ | AT142: PP | AU142: 0
D143: VV | F143: 0,364" Dle pol. 014101 [A] | H143: 0.364 | AT143: VV | AU143: 0 | AV143: 2 | AW143: True | AX143: 0 | AY143: ROZPOCET
D144: VV | F144: Součet | H144: 0.364 | AT144: VV | AU144: 0 | AV144: 4 | AW144: True | AX144: 1 | AY144: ROZPOCET
C145: 9 | D145: K | E145: 17120 | F145: ULOŽENÍ SYPANINY DO NÁSYPŮ A NA SKLÁDKY BEZ ZHUTNĚNÍ | G145: M3 | H145: 169.4 | I145: 186.48 | J145: =ROUND(I145*H145,2) -> 31589.71 | K145: OTSKP 2025 | N145: základní | P145: =O145*H145 -> 0 | Q145: 0 | R145: =Q145*H145 -> 0 | S145: 0 | T145: =S145*H145 -> 0 | AR145: 4 | AT145: K | AU145: 0 | AY145: ROZPOCET | BE145: =IF(N145="základní",J145,0) -> 31589.71 | BF145: =IF(N145="snížená",J145,0) -> 0 | BG145: =IF(N145="zákl. přenesená",J145,0) -> 0 | BH145: =IF(N145="sníž. přenesená",J145,0) -> 0 | BI145: =IF(N145="nulová",J145,0) -> 0 | BJ145: 1 | BK145: =ROUND(I145*H145,2) -> 31589.71 | BL145: 4 | BM145: 16
D146: PP | F146: ULOŽENÍ SYPANINY DO NÁSYPŮ A NA SKLÁDKY BEZ ZHUTNĚNÍ | AT146: PP | AU146: 0
D147: VV | F147: 183,2-13,8" [A] | H147: 169.4 | AT147: VV | AU147: 0 | AV147: 2 | AW147: True | AX147: 0 | AY147: ROZPOCET
D148: VV | F148: Součet | H148: 169.4 | AT148: VV | AU148: 0 | AV148: 4 | AW148: True | AX148: 1 | AY148: ROZPOCET
C149: 13 | D149: K | E149: 18110 | F149: ÚPRAVA PLÁNĚ SE ZHUTNĚNÍM V HORNINĚ TŘ. I | G149: M2 | H149: 448.875 | I149: 17.48 | J149: =ROUND(I149*H149,2) -> 7846.34 | K149: OTSKP 2025 | N149: základní | P149: =O149*H149 -> 0 | Q149: 0 | R149: =Q149*H149 -> 0 | S149: 0 | T149: =S149*H149 -> 0 | AR149: 4 | AT149: K | AU149: 0 | AY149: ROZPOCET | BE149: =IF(N149="základní",J149,0) -> 7846.34 | BF149: =IF(N149="snížená",J149,0) -> 0 | BG149: =IF(N149="zákl. přenesená",J149,0) -> 0 | BH149: =IF(N149="sníž. přenesená",J149,0) -> 0 | BI149: =IF(N149="nulová",J149,0) -> 0 | BJ149: 1 | BK149: =ROUND(I149*H149,2) -> 7846.34 | BL149: 4 | BM149: 18
D150: PP | F150: ÚPRAVA PLÁNĚ SE ZHUTNĚNÍM V HORNINĚ TŘ. I | AT150: PP | AU150: 0
D151: VV | F151: 427,5*1,05" [A] | H151: 448.875 | AT151: VV | AU151: 0 | AV151: 2 | AW151: True | AX151: 0 | AY151: ROZPOCET
D152: VV | F152: Součet | H152: 448.875 | AT152: VV | AU152: 0 | AV152: 4 | AW152: True | AX152: 1 | AY152: ROZPOCET
C153: 14 | D153: K | E153: 18220 | F153: ROZPROSTŘENÍ ORNICE VE SVAHU | G153: M3 | H153: 46.2 | I153: 274.76 | J153: =ROUND(I153*H153,2) -> 12693.91 | K153: OTSKP 2025 | N153: základní | P153: =O153*H153 -> 0 | Q153: 0 | R153: =Q153*H153 -> 0 | S153: 0 | T153: =S153*H153 -> 0 | AR153: 4 | AT153: K | AU153: 0 | AY153: ROZPOCET | BE153: =IF(N153="základní",J153,0) -> 12693.91 | BF153: =IF(N153="snížená",J153,0) -> 0 | BG153: =IF(N153="zákl. přenesená",J153,0) -> 0 | BH153: =IF(N153="sníž. přenesená",J153,0) -> 0 | BI153: =IF(N153="nulová",J153,0) -> 0 | BJ153: 1 | BK153: =ROUND(I153*H153,2) -> 12693.91 | BL153: 4 | BM153: 20
D154: PP | F154: ROZPROSTŘENÍ ORNICE VE SVAHU | AT154: PP | AU154: 0
D155: VV | F155: 154*2*0,15 "[A] | H155: 46.2 | AT155: VV | AU155: 0 | AV155: 2 | AW155: True | AX155: 0 | AY155: ROZPOCET
D156: VV | F156: Součet | H156: 46.2 | AT156: VV | AU156: 0 | AV156: 4 | AW156: True | AX156: 1 | AY156: ROZPOCET
C157: 16 | D157: K | E157: 18241 | F157: ZALOŽENÍ TRÁVNÍKU RUČNÍM VÝSEVEM | G157: M2 | H157: 308 | I157: 48.95 | J157: =ROUND(I157*H157,2) -> 15076.6 | K157: OTSKP 2025 | N157: základní | P157: =O157*H157 -> 0 | Q157: 0 | R157: =Q157*H157 -> 0 | S157: 0 | T157: =S157*H157 -> 0 | AR157: 4 | AT157: K | AU157: 0 | AY157: ROZPOCET | BE157: =IF(N157="základní",J157,0) -> 15076.6 | BF157: =IF(N157="snížená",J157,0) -> 0 | BG157: =IF(N157="zákl. přenesená",J157,0) -> 0 | BH157: =IF(N157="sníž. přenesená",J157,0) -> 0 | BI157: =IF(N157="nulová",J157,0) -> 0 | BJ157: 1 | BK157: =ROUND(I157*H157,2) -> 15076.6 | BL157: 4 | BM157: 22
D158: PP | F158: ZALOŽENÍ TRÁVNÍKU RUČNÍM VÝSEVEM | AT158: PP | AU158: 0
D159: VV | F159: 154*2 "[A] | H159: 308 | AT159: VV | AU159: 0 | AV159: 2 | AW159: True | AX159: 0 | AY159: ROZPOCET
D160: VV | F160: Součet | H160: 308 | AT160: VV | AU160: 0 | AV160: 4 | AW160: True | AX160: 1 | AY160: ROZPOCET
C161: 17 | D161: K | E161: 18247 | F161: OŠETŘOVÁNÍ TRÁVNÍKU | G161: M2 | H161: 308 | I161: 5.54 | J161: =ROUND(I161*H161,2) -> 1706.32 | K161: OTSKP 2025 | N161: základní | P161: =O161*H161 -> 0 | Q161: 0 | R161: =Q161*H161 -> 0 | S161: 0 | T161: =S161*H161 -> 0 | AR161: 4 | AT161: K | AU161: 0 | AY161: ROZPOCET | BE161: =IF(N161="základní",J161,0) -> 1706.32 | BF161: =IF(N161="snížená",J161,0) -> 0 | BG161: =IF(N161="zákl. přenesená",J161,0) -> 0 | BH161: =IF(N161="sníž. přenesená",J161,0) -> 0 | BI161: =IF(N161="nulová",J161,0) -> 0 | BJ161: 1 | BK161: =ROUND(I161*H161,2) -> 1706.32 | BL161: 4 | BM161: 24
D162: PP | F162: OŠETŘOVÁNÍ TRÁVNÍKU | AT162: PP | AU162: 0
D163: VV | F163: 92 = 92,000 [A] | AT163: VV | AU163: 0 | AV163: 1 | AW163: True | AX163: 0 | AY163: ROZPOCET
D164: VV | F164: Součet | H164: 0 | AT164: VV | AU164: 0 | AV164: 4 | AW164: True | AX164: 0 | AY164: ROZPOCET
D165: VV | F165: 154*2 "[A] | H165: 308 | AT165: VV | AU165: 0 | AV165: 2 | AW165: True | AX165: 0 | AY165: ROZPOCET
D166: VV | F166: Součet | H166: 308 | AT166: VV | AU166: 0 | AV166: 4 | AW166: True | AX166: 1 | AY166: ROZPOCET
...
