Workbook
Name CelkemDPHVypocet: Stavba!$H$43
Name CenaCelkem: Stavba!$G$29
Name CenaCelkemBezDPH: Stavba!$G$28
Name CenaCelkemVypocet: Stavba!$I$43
Name cisloobjektu: Stavba!$D$3
Name CisloRozpoctu: '[1]Krycí list'!$C$2
Name CisloStavby: Stavba!$D$2
Name cislostavby: '[1]Krycí list'!$A$7
Name CisloStavebnihoRozpoctu: Stavba!$D$4
Name dadresa: Stavba!$D$12:$G$12
Name DIČ: Stavba!$I$12
Name dmisto: Stavba!$E$13:$G$13
Name DPHSni: Stavba!$G$24
Name DPHZakl: Stavba!$G$26
Name dpsc: Stavba!$D$13
Name IČO: Stavba!$I$11
Name Mena: Stavba!$J$29
Name MistoStavby: Stavba!$D$4
Name nazevobjektu: Stavba!$E$3
Name NazevRozpoctu: '[1]Krycí list'!$D$2
Name NazevStavby: Stavba!$E$2
Name nazevstavby: '[1]Krycí list'!$C$7
Name NazevStavebnihoRozpoctu: Stavba!$E$4
Name oadresa: Stavba!$D$6
Name Objednatel: Stavba!$D$5
Name Objekt: Stavba!$B$38
Name odic: Stavba!$I$6
Name oico: Stavba!$I$5
Name omisto: Stavba!$E$7
Name onazev: Stavba!$D$6
Name opsc: Stavba!$D$7
Name padresa: Stavba!$D$9
Name pdic: Stavba!$I$9
Name pico: Stavba!$I$8
Name pmisto: Stavba!$E$10
Name PocetMJ: #REF!
Name PoptavkaID: Stavba!$A$1
Name pPSC: Stavba!$D$10
Name Projektant: Stavba!$D$8
Name SazbaDPH1: Stavba!$E$23
Name SazbaDPH1: '[1]Krycí list'!$C$30
Name SazbaDPH2: Stavba!$E$25
Name SazbaDPH2: '[1]Krycí list'!$C$32
Name SloupecCC: #REF!
Name SloupecCisloPol: #REF!
Name SloupecJC: #REF!
Name SloupecMJ: #REF!
Name SloupecMnozstvi: #REF!
Name SloupecNazPol: #REF!
Name SloupecPC: #REF!
Name Vypracoval: Stavba!$D$14
Name ZakladDPHSni: Stavba!$G$23
Name ZakladDPHSniVypocet: Stavba!$F$43
Name ZakladDPHZakl: Stavba!$G$25
Name ZakladDPHZaklVypocet: Stavba!$G$43
Name ZaObjednatele: Stavba!$G$34
Name Zaokrouhleni: Stavba!$G$27
Name ZaZhotovitele: Stavba!$D$34
Name Zhotovitel: Stavba!$D$11:$G$11

Sheet Pokyny pro vyplnění
A1: Pokyny pro vyplnění
A2: Ve všech listech tohoto souboru můžete měnit pouze buňky s modrým pozadím. Jedná se o tyto údaje : - údaje o firmě - jednotkové ceny položek zadané na maximálně dvě desetinná místa

Sheet Stavba
A1: #RTSROZP# | B1: Soupis stavebních prací, dodávek a služeb
B2: Stavba: | D2: 251201_2 | E2: PARK PRAŠNICE
B3: Objekt: | D3: SO 04 | E3: VEGETAČNÍ ÚPRAVY
A4: 13177 | B4: Rozpočet: | D4: 2 | E4: NÁSLEDNÁ PÉČE 3 ROKY
B5: Zadavatel | D5: Statutární město Brno | H5: IČO: | I5: 44992785
D6: Dominikánské náměstí 196/1 | H6: DIČ: | I6: CZ44992785
D7: 60200 | E7: Brno-Brno-město
B8: Projektant: | H8: IČO:
H9: DIČ:
B11: Zhotovitel: | H11: IČO:
H12: DIČ:
B14: Vypracoval:
B15: Rozpis ceny | I15: Celkem
A16: HSV | B16: HSV | I16: =SUMIF(F53:F54,A16,I53:I54)+SUMIF(F53:F54,"PSU",I53:I54) -> 0
A17: PSV | B17: PSV | I17: =SUMIF(F53:F54,A17,I53:I54) -> 0
A18: MON | B18: MON | I18: =SUMIF(F53:F54,A18,I53:I54) -> 0
A19: VN | B19: Vedlejší náklady | I19: =SUMIF(F53:F54,A19,I53:I54) -> 0
A20: ON | B20: Ostatní náklady | I20: =SUMIF(F53:F54,A20,I53:I54) -> 0
B21: Celkem | I21: =SUM(I16:J20) -> 0
B22: Rekapitulace daní
A23: =ZakladDPHSni*SazbaDPH1/100 -> 0 | B23: Základ pro sníženou DPH | E23: 12 | F23: % | G23: =ZakladDPHSniVypocet -> 0 | J23: =Mena -> CZK
A24: =(A23-INT(A23))*100 -> 0 | B24: Snížená DPH | E24: =SazbaDPH1 -> 12 | F24: % | G24: =A23 -> 0 | J24: =Mena -> CZK
A25: =ZakladDPHZakl*SazbaDPH2/100 -> 0 | B25: Základ pro základní DPH | E25: 21 | F25: % | G25: =ZakladDPHZaklVypocet -> 0 | J25: =Mena -> CZK
A26: =(A25-INT(A25))*100 -> 0 | B26: Základní DPH | E26: =SazbaDPH2 -> 21 | F26: % | G26: =A25 -> 0 | J26: =Mena -> CZK
A27: =ZakladDPHSni+DPHSni+ZakladDPHZakl+DPHZakl -> 0 | B27: Zaokrouhlení | G27: =CenaCelkem-(ZakladDPHSni+DPHSni+ZakladDPHZakl+DPHZakl) -> 0 | J27: =Mena -> CZK
B28: Cena celkem bez DPH | G28: =ZakladDPHSniVypocet+ZakladDPHZaklVypocet -> 0 | J28: =Mena -> CZK
A29: =(A27-INT(A27))*100 -> 0 | B29: Cena celkem s DPH | G29: =A27 -> 0 | J29: CZK
C32: v | F32: dne
D35: Za zhotovitele | H35: Za objednatele
B37: Rekapitulace dílčích částí
A38: #CASTI>> | B38: Číslo | C38: Název | F38: =B23 -> Základ pro sníženou DPH | G38: =B25 -> Základ pro základní DPH | H38: DPH celkem | I38: Cena celkem | J38: %
A39: 1 | B39: Stavba | F39: ='SO 04 2 Pol'!AE71 -> 0 | G39: ='SO 04 2 Pol'!AF71 -> 0 | H39: =(F39*SazbaDPH1/100)+(G39*SazbaDPH2/100) -> 0 | I39: =F39+G39+H39 -> 0 | J39: =IF(_xlfn.SINGLE(CenaCelkemVypocet)=0,"",I39/_xlfn.SINGLE(CenaCelkemVypocet)*100)
A40: 2 | C40: Stavební objekt | H40: =(F40*SazbaDPH1/100)+(G40*SazbaDPH2/100) -> 0
A41: 2 | B41: SO 04 | C41: VEGETAČNÍ ÚPRAVY | F41: ='SO 04 2 Pol'!AE71 -> 0 | G41: ='SO 04 2 Pol'!AF71 -> 0 | H41: =(F41*SazbaDPH1/100)+(G41*SazbaDPH2/100) -> 0 | I41: =F41+G41+H41 -> 0 | J41: =IF(_xlfn.SINGLE(CenaCelkemVypocet)=0,"",I41/_xlfn.SINGLE(CenaCelkemVypocet)*100)
A42: 3 | B42: 2 | C42: NÁSLEDNÁ PÉČE 3 ROKY | F42: ='SO 04 2 Pol'!AE71 -> 0 | G42: ='SO 04 2 Pol'!AF71 -> 0 | H42: =(F42*SazbaDPH1/100)+(G42*SazbaDPH2/100) -> 0 | I42: =F42+G42+H42 -> 0 | J42: =IF(_xlfn.SINGLE(CenaCelkemVypocet)=0,"",I42/_xlfn.SINGLE(CenaCelkemVypocet)*100)
B43: Celkem za stavbu | F43: =SUMIF(A39:A42,"=1",F39:F42) -> 0 | G43: =SUMIF(A39:A42,"=1",G39:G42) -> 0 | H43: =SUMIF(A39:A42,"=1",H39:H42) -> 0 | I43: =SUMIF(A39:A42,"=1",I39:I42) -> 0 | J43: =SUMIF(A39:A42,"=1",J39:J42) -> 0
A45: #POPS | B45: Popis stavby: 251201_2 - PARK PRAŠNICE
A46: #POPO | B46: Popis objektu: SO 04 - VEGETAČNÍ ÚPRAVY
A47: #POPR | B47: Popis rozpočtu: 2 - NÁSLEDNÁ PÉČE 3 ROKY
B50: Rekapitulace dílů
...

Sheet VzorPolozky
A1: Položkový rozpočet
A2: S:
A3: O:
A4: R:

Sheet SO 04 2 Pol
A1: Položkový soupis prací a dodávek | AG1: #TypZaznamu#
A2: S: | B2: 251201_2 | C2: PARK PRAŠNICE | AG2: STA
A3: O: | B3: SO 04 | C3: VEGETAČNÍ ÚPRAVY | AC3: STA | AG3: OBJ
A4: R: | B4: 2 | C4: NÁSLEDNÁ PÉČE 3 ROKY | AG4: ROZ
A6: P.č. | B6: Číslo položky | C6: Název položky | D6: MJ | E6: Množství | F6: Cena / MJ | G6: Celkem | H6: Dodávka | I6: Dodávka celk. | J6: Montáž | K6: Montáž celk. | L6: DPH | M6: Cena s DPH | N6: Hmotnost / MJ | O6: Hmotnost celk.(t) | P6: Dem. hmotnost / MJ | Q6: Dem. hmotnost celk.(t) | R6: Ceník | S6: Cen. soustava / platnost | T6: Cenová úroveň | U6: Nhod / MJ | V6: Nhod celk. | W6: Dodavatel | X6: Typ položky | Y6: Stav položky
A8: Díl: | B8: 1 | C8: C01 Parkové úpravy a krajinářství - opravy a údržba | G8: =SUMIF(AG9:AG67,"<>NOR",G9:G67) -> 0 | I8: =SUM(I9:I67) -> 0 | K8: =SUM(K9:K67) -> 0 | M8: =SUM(M9:M67) -> 0 | O8: =SUM(O9:O67) -> 27.7 | Q8: =SUM(Q9:Q67) -> 0 | V8: =SUM(V9:V67) -> 0 | AG8: DIL
A9: 1 | B9: 184911111 | C9: Znovuuvázání dřeviny ke kůlům, kontrola těsnosti úvazku | D9: ks | E9: 33 | G9: =ROUND(E9*F9,2) -> 0 | I9: =ROUND(E9*H9,2) -> 0 | K9: =ROUND(E9*J9,2) -> 0 | L9: 21 | M9: =G9*(1+L9/100) -> 0 | N9: 0 | O9: =ROUND(E9*N9,2) -> 0 | P9: 0 | Q9: =ROUND(E9*P9,2) -> 0 | S9: Vlastní | T9: Indiv | U9: 0 | V9: =ROUND(E9*U9,2) -> 0 | X9: Práce | Y9: Běžná | AG9: POL1_1
C10: stromy ve volné půdě; 11 ks; 3 roky následná péče 11 x 3 = 33 : | AG10: VV | AH10: 0
C11: 33 | E11: 33 | AG11: VV | AH11: 0
A12: 2 | B12: 184852322 | C12: Řez stromu výchovný alejových stromů v přes 4 do 6 m | D12: ks | E12: 33 | G12: =ROUND(E12*F12,2) -> 0 | I12: =ROUND(E12*H12,2) -> 0 | K12: =ROUND(E12*J12,2) -> 0 | L12: 21 | M12: =G12*(1+L12/100) -> 0 | N12: 0 | O12: =ROUND(E12*N12,2) -> 0 | P12: 0 | Q12: =ROUND(E12*P12,2) -> 0 | S12: Vlastní | T12: Indiv | U12: 0 | V12: =ROUND(E12*U12,2) -> 0 | X12: Práce | Y12: Běžná | AG12: POL1_1
C13: stromy ve volné půdě; 11 ks; 3 roky následná péče 11 x 3 = 33 : | AG13: VV | AH13: 0
C14: 33 | E14: 33 | AG14: VV | AH14: 0
A15: 3 | B15: 184215172 | C15: Odstranění ukotvení kmene dřevin třemi kůly D do 0,1 m dl přes 1 do 2 m | D15: ks | E15: 11 | G15: =ROUND(E15*F15,2) -> 0 | I15: =ROUND(E15*H15,2) -> 0 | K15: =ROUND(E15*J15,2) -> 0 | L15: 21 | M15: =G15*(1+L15/100) -> 0 | N15: 0 | O15: =ROUND(E15*N15,2) -> 0 | P15: 0 | Q15: =ROUND(E15*P15,2) -> 0 | S15: Vlastní | T15: Indiv | U15: 0 | V15: =ROUND(E15*U15,2) -> 0 | X15: Práce | Y15: Běžná | AG15: POL1_1
C16: stromy ve volné půdě, 11 ks, ve třetím roce po výsadbě : | AG16: VV | AH16: 0
C17: 11 | E17: 11 | AG17: VV | AH17: 0
A18: 4 | B18: 184501181 | C18: Odstranění obalu z rákosové nebo kokosové rohože v rovině a svahu do 1:5 | D18: ks | E18: 11 | G18: =ROUND(E18*F18,2) -> 0 | I18: =ROUND(E18*H18,2) -> 0 | K18: =ROUND(E18*J18,2) -> 0 | L18: 21 | M18: =G18*(1+L18/100) -> 0 | N18: 0 | O18: =ROUND(E18*N18,2) -> 0 | P18: 0 | Q18: =ROUND(E18*P18,2) -> 0 | S18: Vlastní | T18: Indiv | U18: 0 | V18: =ROUND(E18*U18,2) -> 0 | X18: Práce | Y18: Běžná | AG18: POL1_1
C19: stromy ve volné půdě, 11 ks, ve třetím roce po výsadbě : | AG19: VV | AH19: 0
C20: 11 | E20: 11 | AG20: VV | AH20: 0
A21: 5 | B21: 184852321 | C21: Řez stromu výchovný špičáků a keřových stromů v do 4 m | D21: ks | E21: 33 | G21: =ROUND(E21*F21,2) -> 0 | I21: =ROUND(E21*H21,2) -> 0 | K21: =ROUND(E21*J21,2) -> 0 | L21: 21 | M21: =G21*(1+L21/100) -> 0 | N21: 0 | O21: =ROUND(E21*N21,2) -> 0 | P21: 0 | Q21: =ROUND(E21*P21,2) -> 0 | S21: Vlastní | T21: Indiv | U21: 0 | V21: =ROUND(E21*U21,2) -> 0 | X21: Práce | Y21: Běžná | AG21: POL1_1
C22: volně rostlé keřet; 11 ks; 3 roky následná péče 11 x 3 = 33 : | AG22: VV | AH22: 0
C23: 33 | E23: 33 | AG23: VV | AH23: 0
A24: 6 | B24: 185804514 | C24: Odplevelení souvislých keřových skupin v rovině a svahu do 1:5 | D24: m2 | E24: 75 | G24: =ROUND(E24*F24,2) -> 0 | I24: =ROUND(E24*H24,2) -> 0 | K24: =ROUND(E24*J24,2) -> 0 | L24: 21 | M24: =G24*(1+L24/100) -> 0 | N24: 0 | O24: =ROUND(E24*N24,2) -> 0 | P24: 0 | Q24: =ROUND(E24*P24,2) -> 0 | S24: Vlastní | T24: Indiv | U24: 0 | V24: =ROUND(E24*U24,2) -> 0 | X24: Práce | Y24: Běžná | AG24: POL1_1
C25: tvarovaný živý plot; 2 opakování/ rok, 12,5 m2; 12,5 x 2 = 25 m2; 3 roky následná péče 25 x 3 = 75 : | AG25: VV | AH25: 0
C26: 75 | E26: 75 | AG26: VV | AH26: 0
A27: 7 | B27: 184803112 | C27: Řez a tvarování živých plotů přímých v přes 0,8 do 1,5 m a š do 1,0 m s odvozem odpadu do 20 km | D27: m2 | E27: 37.5 | G27: =ROUND(E27*F27,2) -> 0 | I27: =ROUND(E27*H27,2) -> 0 | K27: =ROUND(E27*J27,2) -> 0 | L27: 21 | M27: =G27*(1+L27/100) -> 0 | N27: 0 | O27: =ROUND(E27*N27,2) -> 0 | P27: 0 | Q27: =ROUND(E27*P27,2) -> 0 | S27: Vlastní | T27: Indiv | U27: 0 | V27: =ROUND(E27*U27,2) -> 0 | X27: Práce | Y27: Běžná | AG27: POL1_1
C28: tvarovaný živý plot; 1 opakování/ rok, 12,5 m2; 3 roky následná péče 12,5 x 3 = 37,5 : | AG28: VV | AH28: 0
C29: 37,5 | E29: 37.5 | AG29: VV | AH29: 0
A30: 8 | B30: 185804231 | C30: Vypletí záhonu květin s naložením a odvozem odpadu do 20 km ve svahu přes 1:5 do 1:2 | D30: m2 | E30: 52.5 | G30: =ROUND(E30*F30,2) -> 0 | I30: =ROUND(E30*H30,2) -> 0 | K30: =ROUND(E30*J30,2) -> 0 | L30: 21 | M30: =G30*(1+L30/100) -> 0 | N30: 0 | O30: =ROUND(E30*N30,2) -> 0 | P30: 0 | Q30: =ROUND(E30*P30,2) -> 0 | S30: Vlastní | T30: Indiv | U30: 0 | V30: =ROUND(E30*U30,2) -> 0 | X30: Práce | Y30: Běžná | AG30: POL1_1
C31: půdopokryvné rostliny; 1 opakování/ rok, 17,5 m2; 3 roky následná péče 17,5 x 3 = 52,5 : | AG31: VV | AH31: 0
C32: 52,5 | E32: 52.5 | AG32: VV | AH32: 0
A33: 9 | B33: předběžná cena | C33: Přplatek za pletí ve stížených podmínkách | D33: m2 | E33: 52.5 | G33: =ROUND(E33*F33,2) -> 0 | I33: =ROUND(E33*H33,2) -> 0 | K33: =ROUND(E33*J33,2) -> 0 | L33: 21 | M33: =G33*(1+L33/100) -> 0 | N33: 0 | O33: =ROUND(E33*N33,2) -> 0 | P33: 0 | Q33: =ROUND(E33*P33,2) -> 0 | S33: Vlastní | T33: Indiv | U33: 0 | V33: =ROUND(E33*U33,2) -> 0 | X33: Práce | Y33: Běžná | AG33: POL1_1
C34: půdopokryvné rostliny; 1 opakování/ rok, 17,5 m2; 3 roky následná péče 17,5 x 3 = 52,5 : | AG34: VV | AH34: 0
C35: 52,5 | E35: 52.5 | AG35: VV | AH35: 0
A36: 10 | B36: 185804211 | C36: Vypletí záhonu květin s naložením a odvozem odpadu do 20 km v rovině a svahu do 1:5 se složením a, vysbírání případných odpadků ze záhonů | D36: m2 | E36: 45 | G36: =ROUND(E36*F36,2) -> 0 | I36: =ROUND(E36*H36,2) -> 0 | K36: =ROUND(E36*J36,2) -> 0 | L36: 21 | M36: =G36*(1+L36/100) -> 0 | N36: 0 | O36: =ROUND(E36*N36,2) -> 0 | P36: 0 | Q36: =ROUND(E36*P36,2) -> 0 | S36: Vlastní | T36: Indiv | U36: 0 | V36: =ROUND(E36*U36,2) -> 0 | X36: Práce | Y36: Běžná | AG36: POL1_1
C37: trvalkový záhon, 2 opakovaní/ rok; 7,5 x 2 =15 m2; 3 roky následná péče 7,5 x 3 = 45 : | AG37: VV | AH37: 0
C38: 45 | E38: 45 | AG38: VV | AH38: 0
A39: 11 | B39: 183211422 | C39: Dosadba chybějících květin se zalitím, dosadba květin hrnkovaných, průměr květináče přes 80 do 120, mm | D39: ks | E39: 3.8 | G39: =ROUND(E39*F39,2) -> 0 | I39: =ROUND(E39*H39,2) -> 0 | K39: =ROUND(E39*J39,2) -> 0 | L39: 21 | M39: =G39*(1+L39/100) -> 0 | N39: 0 | O39: =ROUND(E39*N39,2) -> 0 | P39: 0 | Q39: =ROUND(E39*P39,2) -> 0 | S39: Vlastní | T39: Indiv | U39: 0 | V39: =ROUND(E39*U39,2) -> 0 | X39: Práce | Y39: Běžná | AG39: POL1_1
C40: trvalkový záhon - trvalky, první rok po výsadbě, cca 10% rostlin; 38/10 = 4 ks : | AG40: VV | AH40: 0
C41: 3,8 | E41: 3.8 | AG41: VV | AH41: 0
A42: 12 | B42: Pol__0012 | C42: rostlinný materiál, květiny hrnkované, K9 | D42: ks | E42: 4 | G42: =ROUND(E42*F42,2) -> 0 | I42: =ROUND(E42*H42,2) -> 0 | K42: =ROUND(E42*J42,2) -> 0 | L42: 21 | M42: =G42*(1+L42/100) -> 0 | N42: 0.003 | O42: =ROUND(E42*N42,2) -> 0.01 | P42: 0 | Q42: =ROUND(E42*P42,2) -> 0 | S42: Vlastní | T42: Indiv | U42: 0 | V42: =ROUND(E42*U42,2) -> 0 | X42: Specifikace | Y42: Běžná | AG42: POL3_0
...
