Workbook

Sheet Rekapitulace stavby
A1: Export Komplet | AZ1: VZ | BA1: 2.0 | BT1: False | BU1: False | BV1: {33a04697-ed80-4e44-ba4c-da142d1eb73b}
AR2: >> skryté sloupce << | BS2: 0,01 | BT2: 21
BS3: 0,01 | BT3: 12
D4: REKAPITULACE STAVBY | AS4: v --- níže se nacházejí doplnkové a pomocné údaje k sestavám --- v | BE4: Návod na vyplnění | BS4: 0,001
D5: Kód: | K5: 260624 | BE5: Měnit lze pouze buňky se žlutým podbarvením! 1) v Rekapitulaci stavby vyplňte údaje o Účastníkovi (přenesou se do ostatních sestav i v jiných listech) 2) na vybraných listech vyplňte v sestavě Soupis prací ceny u položek | BS5: 0,01
D6: Stavba: | K6: Revitalizace zázemí městské knihovny a předprostoru Lázeňského parku Poděbrady | BS6: 0,01
D7: KSO: | AK7: CC-CZ: | AN7: 823 27 | BS7: 0,01
D8: Místo: | K8: par.č. 1889/1, k.ú. Poděbrady | AK8: Datum: | AN8: 24. 6. 2026 | BS8: 0,01
BS9: 0,01
D10: Zadavatel: | AK10: IČ: | BS10: 0,01
E11: Město Poděbrady | AK11: DIČ: | BS11: 0,01
BS12: 0,01
D13: Účastník: | AK13: IČ: | AN13: Vyplň údaj | BS13: 0,01
E14: Vyplň údaj | AK14: DIČ: | AN14: Vyplň údaj | BS14: 0,01
BS15: False
D16: Projektant: | AK16: IČ: | BS16: False
AK17: DIČ: | BS17: True
BS18: 0,01
D19: Zpracovatel: | AK19: IČ: | BS19: 0,01
AK20: DIČ: | BS20: True
D22: Poznámka:
E23: Soupis prací je sestaven s využitím Cenové soustavy ÚRS. Položky, které pochází z této cenové soustavy, jsou ve sloupci 'Cenová soustava' označeny popisem 'CS ÚRS' a úrovní příslušného kalendářního pololetí. Veškeré další informace vymezující popis a podmínky použití těchto položek z Cenové soustavy, které nejsou uvedeny přímo v soupisu prací, jsou neomezeně dálkově k dispozici na webu podminky.urs.cz.
D26: Cena bez DPH | AK26: =ROUND(AG54,2) -> 0
L28: Sazba daně | W28: Základ daně | AK28: Výše daně
D29: DPH | F29: základní | L29: 0.21 | W29: =ROUND(AZ54, 2) -> 0 | AK29: =ROUND(AV54, 2) -> 0
F30: snížená | L30: 0.12 | W30: =ROUND(BA54, 2) -> 0 | AK30: =ROUND(AW54, 2) -> 0
F31: zákl. přenesená | L31: 0.21 | W31: =ROUND(BB54, 2) -> 0 | AK31: 0
F32: sníž. přenesená | L32: 0.12 | W32: =ROUND(BC54, 2) -> 0 | AK32: 0
F33: nulová | L33: 0 | W33: =ROUND(BD54, 2) -> 0 | AK33: 0
D35: Cena s DPH | T35: v | X35: CZK | AK35: =SUM(AK26:AK33) -> 0
C42: REKAPITULACE OBJEKTŮ STAVBY A SOUPISŮ PRACÍ
C44: Kód: | L44: =K5 -> 260624
C45: Stavba: | L45: =K6 -> Revitalizace zázemí městské knihovny a předprostoru Lázeňského parku Poděbrady
C47: Místo: | L47: =IF(K8="","",K8) -> par.č. 1889/1, k.ú. Poděbrady | AI47: Datum: | AM47: =IF(AN8= "","",AN8) -> 24. 6. 2026
C49: Zadavatel: | L49: =IF(E11= "","",E11) -> Město Poděbrady | AI49: Projektant: | AM49: =IF(E17="","",E17) | AS49: Informatívní údaje z listů zakázek
C50: Účastník: | L50: =IF(E14= "Vyplň údaj","",E14) | AI50: Zpracovatel: | AM50: =IF(E20="","",E20)
C52: Kód | I52: Popis | AG52: Cena bez DPH [CZK] | AN52: Cena s DPH [CZK] | AQ52: Typ | AS52: z toho Ostat. náklady [CZK] | AT52: DPH [CZK] | AU52: Normohodiny [h] | AV52: DPH základní [CZK] | AW52: DPH snížená [CZK] | AX52: DPH základní přenesená [CZK] | AY52: DPH snížená přenesená [CZK] | AZ52: Základna DPH základní | BA52: Základna DPH snížená | BB52: Základna DPH zákl. přenesená | BC52: Základna DPH sníž. přenesená | BD52: Základna DPH nulová
C54: Náklady stavby celkem | AG54: =ROUND(SUM(AG55:AG63),2) -> 0 | AN54: =SUM(AG54,AT54) -> 0 | AS54: =ROUND(SUM(AS55:AS63),2) -> 0 | AT54: =ROUND(SUM(AV54:AW54),2) -> 0 | AU54: =ROUND(SUM(AU55:AU63),5) -> 0 | AV54: =ROUND(AZ54*L29,2) -> 0 | AW54: =ROUND(BA54*L30,2) -> 0 | AX54: =ROUND(BB54*L29,2) -> 0 | AY54: =ROUND(BC54*L30,2) -> 0 | AZ54: =ROUND(SUM(AZ55:AZ63),2) -> 0 | BA54: =ROUND(SUM(BA55:BA63),2) -> 0 | BB54: =ROUND(SUM(BB55:BB63),2) -> 0 | BC54: =ROUND(SUM(BC55:BC63),2) -> 0 | BD54: =ROUND(SUM(BD55:BD63),2) -> 0 | BS54: D | BT54: 0 | BU54: ###NOIMPORT### | BV54: IMPORT | BW54: {33a04697-ed80-4e44-ba4c-da142d1eb73b} | BX54: {00000000-0000-0000-0000-000000000000}
A55: / | D55: 01.1 | J55: Nový objekt občers... | AG55: ='01.1 - Nový objekt občers...'!J30 -> 0 | AN55: =SUM(AG55,AT55) -> 0 | AQ55: STA | AS55: 0 | AT55: =ROUND(SUM(AV55:AW55),2) -> 0 | AU55: ='01.1 - Nový objekt občers...'!P89 -> 0 | AV55: ='01.1 - Nový objekt občers...'!J33 -> 0 | AW55: ='01.1 - Nový objekt občers...'!J34 -> 0 | AX55: ='01.1 - Nový objekt občers...'!J35 -> 0 | AY55: ='01.1 - Nový objekt občers...'!J36 -> 0 | AZ55: ='01.1 - Nový objekt občers...'!F33 -> 0 | BA55: ='01.1 - Nový objekt občers...'!F34 -> 0 | BB55: ='01.1 - Nový objekt občers...'!F35 -> 0 | BC55: ='01.1 - Nový objekt občers...'!F36 -> 0 | BD55: ='01.1 - Nový objekt občers...'!F37 -> 0 | BT55: 1 | BV55: IMPORT | BW55: {2875ed70-e10c-4260-983c-adae3bbc13b7} | BX55: {33a04697-ed80-4e44-ba4c-da142d1eb73b} | CM55: 2
A56: / | D56: 01.2 | J56: Nový objekt veřejn... | AG56: ='01.2 - Nový objekt veřejn...'!J30 -> 0 | AN56: =SUM(AG56,AT56) -> 0 | AQ56: STA | AS56: 0 | AT56: =ROUND(SUM(AV56:AW56),2) -> 0 | AU56: ='01.2 - Nový objekt veřejn...'!P84 -> 0 | AV56: ='01.2 - Nový objekt veřejn...'!J33 -> 0 | AW56: ='01.2 - Nový objekt veřejn...'!J34 -> 0 | AX56: ='01.2 - Nový objekt veřejn...'!J35 -> 0 | AY56: ='01.2 - Nový objekt veřejn...'!J36 -> 0 | AZ56: ='01.2 - Nový objekt veřejn...'!F33 -> 0 | BA56: ='01.2 - Nový objekt veřejn...'!F34 -> 0 | BB56: ='01.2 - Nový objekt veřejn...'!F35 -> 0 | BC56: ='01.2 - Nový objekt veřejn...'!F36 -> 0 | BD56: ='01.2 - Nový objekt veřejn...'!F37 -> 0 | BT56: 1 | BV56: IMPORT | BW56: {cea94d99-bd52-4f4b-80fd-ca78ffb702d1} | BX56: {33a04697-ed80-4e44-ba4c-da142d1eb73b} | CM56: 2
...

Sheet 01.1 - Nový objekt občers...
L2: >> skryté sloupce << | AT2: {2875ed70-e10c-4260-983c-adae3bbc13b7}
AT3: 2
D4: KRYCÍ LIST SOUPISU PRACÍ | M4: v --- níže se nacházejí doplnkové a pomocné údaje k sestavám --- v | AT4: False
D6: Stavba:
E7: ='Rekapitulace stavby'!K6 -> Revitalizace zázemí městské knihovny a předprostoru Lázeňského parku Poděbrady
D8: Objekt:
E9: 01.1 - Nový objekt občers...
D11: KSO: | I11: CC-CZ:
D12: Místo: | I12: Datum: | J12: ='Rekapitulace stavby'!AN8 -> 24. 6. 2026
D14: Zadavatel: | I14: IČ: | J14: =IF('Rekapitulace stavby'!AN10="","",'Rekapitulace stavby'!AN10)
E15: =IF('Rekapitulace stavby'!E11="","",'Rekapitulace stavby'!E11) -> Město Poděbrady | I15: DIČ: | J15: =IF('Rekapitulace stavby'!AN11="","",'Rekapitulace stavby'!AN11)
D17: Účastník: | I17: IČ: | J17: ='Rekapitulace stavby'!AN13 -> Vyplň údaj
E18: ='Rekapitulace stavby'!E14 -> Vyplň údaj | I18: DIČ: | J18: ='Rekapitulace stavby'!AN14 -> Vyplň údaj
D20: Projektant: | I20: IČ: | J20: =IF('Rekapitulace stavby'!AN16="","",'Rekapitulace stavby'!AN16)
E21: =IF('Rekapitulace stavby'!E17="","",'Rekapitulace stavby'!E17) | I21: DIČ: | J21: =IF('Rekapitulace stavby'!AN17="","",'Rekapitulace stavby'!AN17)
D23: Zpracovatel: | I23: IČ: | J23: =IF('Rekapitulace stavby'!AN19="","",'Rekapitulace stavby'!AN19)
E24: =IF('Rekapitulace stavby'!E20="","",'Rekapitulace stavby'!E20) | I24: DIČ: | J24: =IF('Rekapitulace stavby'!AN20="","",'Rekapitulace stavby'!AN20)
D26: Poznámka:
D30: Cena bez DPH | J30: =ROUND(J89, 2) -> 0
F32: Základ daně | I32: Sazba daně | J32: Výše daně
D33: DPH | E33: základní | F33: =ROUND((SUM(BE89:BE203)), 2) -> 0 | I33: 0.21 | J33: =ROUND(((SUM(BE89:BE203))*I33), 2) -> 0
E34: snížená | F34: =ROUND((SUM(BF89:BF203)), 2) -> 0 | I34: 0.12 | J34: =ROUND(((SUM(BF89:BF203))*I34), 2) -> 0
E35: zákl. přenesená | F35: =ROUND((SUM(BG89:BG203)), 2) -> 0 | I35: 0.21 | J35: =0 -> 0
E36: sníž. přenesená | F36: =ROUND((SUM(BH89:BH203)), 2) -> 0 | I36: 0.12 | J36: =0 -> 0
E37: nulová | F37: =ROUND((SUM(BI89:BI203)), 2) -> 0 | I37: 0 | J37: =0 -> 0
D39: Cena s DPH | G39: v | H39: CZK | J39: =SUM(J30:J37) -> 0
C45: REKAPITULACE ČLENĚNÍ SOUPISU PRACÍ
C47: Stavba:
E48: =E7 -> Revitalizace zázemí městské knihovny a předprostoru Lázeňského parku Poděbrady
C49: Objekt:
E50: =E9 -> 01.1 - Nový objekt občers...
C52: Místo: | F52: =F12 | I52: Datum: | J52: =IF(J12="","",J12) -> 24. 6. 2026
C54: Zadavatel: | F54: =E15 -> Město Poděbrady | I54: Projektant: | J54: =E21
C55: Účastník: | F55: =IF(E18="","",E18) -> Vyplň údaj | I55: Zpracovatel: | J55: =E24
C57: Kód dílu - Popis | J57: Cena celkem [CZK]
C59: Náklady stavby celkem | J59: =J89 -> 0 | AU59: -1
D60: HSV - Práce a dodávky HSV | J60: =J90 -> 0
D61: 1 - Zemní práce | J61: =J91 -> 0
D62: 2 - Zakládání | J62: =J119 -> 0
D63: 9 - Ostatní konstrukce a práce, bourání | J63: =J137 -> 0
...

Sheet 01.2 - Nový objekt veřejn...
L2: >> skryté sloupce << | AT2: {cea94d99-bd52-4f4b-80fd-ca78ffb702d1}
AT3: 2
D4: KRYCÍ LIST SOUPISU PRACÍ | M4: v --- níže se nacházejí doplnkové a pomocné údaje k sestavám --- v | AT4: False
D6: Stavba:
E7: ='Rekapitulace stavby'!K6 -> Revitalizace zázemí městské knihovny a předprostoru Lázeňského parku Poděbrady
D8: Objekt:
E9: 01.2 - Nový objekt veřejn...
D11: KSO: | I11: CC-CZ:
D12: Místo: | I12: Datum: | J12: ='Rekapitulace stavby'!AN8 -> 24. 6. 2026
D14: Zadavatel: | I14: IČ: | J14: =IF('Rekapitulace stavby'!AN10="","",'Rekapitulace stavby'!AN10)
E15: =IF('Rekapitulace stavby'!E11="","",'Rekapitulace stavby'!E11) -> Město Poděbrady | I15: DIČ: | J15: =IF('Rekapitulace stavby'!AN11="","",'Rekapitulace stavby'!AN11)
D17: Účastník: | I17: IČ: | J17: ='Rekapitulace stavby'!AN13 -> Vyplň údaj
E18: ='Rekapitulace stavby'!E14 -> Vyplň údaj | I18: DIČ: | J18: ='Rekapitulace stavby'!AN14 -> Vyplň údaj
D20: Projektant: | I20: IČ: | J20: =IF('Rekapitulace stavby'!AN16="","",'Rekapitulace stavby'!AN16)
E21: =IF('Rekapitulace stavby'!E17="","",'Rekapitulace stavby'!E17) | I21: DIČ: | J21: =IF('Rekapitulace stavby'!AN17="","",'Rekapitulace stavby'!AN17)
D23: Zpracovatel: | I23: IČ: | J23: =IF('Rekapitulace stavby'!AN19="","",'Rekapitulace stavby'!AN19)
E24: =IF('Rekapitulace stavby'!E20="","",'Rekapitulace stavby'!E20) | I24: DIČ: | J24: =IF('Rekapitulace stavby'!AN20="","",'Rekapitulace stavby'!AN20)
D26: Poznámka:
D30: Cena bez DPH | J30: =ROUND(J84, 2) -> 0
F32: Základ daně | I32: Sazba daně | J32: Výše daně
D33: DPH | E33: základní | F33: =ROUND((SUM(BE84:BE102)), 2) -> 0 | I33: 0.21 | J33: =ROUND(((SUM(BE84:BE102))*I33), 2) -> 0
E34: snížená | F34: =ROUND((SUM(BF84:BF102)), 2) -> 0 | I34: 0.12 | J34: =ROUND(((SUM(BF84:BF102))*I34), 2) -> 0
E35: zákl. přenesená | F35: =ROUND((SUM(BG84:BG102)), 2) -> 0 | I35: 0.21 | J35: =0 -> 0
E36: sníž. přenesená | F36: =ROUND((SUM(BH84:BH102)), 2) -> 0 | I36: 0.12 | J36: =0 -> 0
E37: nulová | F37: =ROUND((SUM(BI84:BI102)), 2) -> 0 | I37: 0 | J37: =0 -> 0
D39: Cena s DPH | G39: v | H39: CZK | J39: =SUM(J30:J37) -> 0
C45: REKAPITULACE ČLENĚNÍ SOUPISU PRACÍ
C47: Stavba:
E48: =E7 -> Revitalizace zázemí městské knihovny a předprostoru Lázeňského parku Poděbrady
C49: Objekt:
E50: =E9 -> 01.2 - Nový objekt veřejn...
C52: Místo: | F52: =F12 | I52: Datum: | J52: =IF(J12="","",J12) -> 24. 6. 2026
C54: Zadavatel: | F54: =E15 -> Město Poděbrady | I54: Projektant: | J54: =E21
C55: Účastník: | F55: =IF(E18="","",E18) -> Vyplň údaj | I55: Zpracovatel: | J55: =E24
C57: Kód dílu - Popis | J57: Cena celkem [CZK]
C59: Náklady stavby celkem | J59: =J84 -> 0 | AU59: -1
D60: HSV - Práce a dodávky HSV | J60: =J85 -> 0
D61: 9 - Ostatní konstrukce a práce, bourání | J61: =J86 -> 0
D62: PSV - Práce a dodávky PSV | J62: =J88 -> 0
D63: 766 - Konstrukce truhlářské | J63: =J89 -> 0
...

Sheet 01.3 - Zpevněné plochy
L2: >> skryté sloupce << | AT2: {ca35488c-7102-423f-a355-e6a37a8cade3}
AT3: 2
D4: KRYCÍ LIST SOUPISU PRACÍ | M4: v --- níže se nacházejí doplnkové a pomocné údaje k sestavám --- v | AT4: False
D6: Stavba:
E7: ='Rekapitulace stavby'!K6 -> Revitalizace zázemí městské knihovny a předprostoru Lázeňského parku Poděbrady
D8: Objekt:
E9: 01.3 - Zpevněné plochy
D11: KSO: | I11: CC-CZ:
D12: Místo: | I12: Datum: | J12: ='Rekapitulace stavby'!AN8 -> 24. 6. 2026
D14: Zadavatel: | I14: IČ: | J14: =IF('Rekapitulace stavby'!AN10="","",'Rekapitulace stavby'!AN10)
E15: =IF('Rekapitulace stavby'!E11="","",'Rekapitulace stavby'!E11) -> Město Poděbrady | I15: DIČ: | J15: =IF('Rekapitulace stavby'!AN11="","",'Rekapitulace stavby'!AN11)
D17: Účastník: | I17: IČ: | J17: ='Rekapitulace stavby'!AN13 -> Vyplň údaj
E18: ='Rekapitulace stavby'!E14 -> Vyplň údaj | I18: DIČ: | J18: ='Rekapitulace stavby'!AN14 -> Vyplň údaj
D20: Projektant: | I20: IČ: | J20: =IF('Rekapitulace stavby'!AN16="","",'Rekapitulace stavby'!AN16)
E21: =IF('Rekapitulace stavby'!E17="","",'Rekapitulace stavby'!E17) | I21: DIČ: | J21: =IF('Rekapitulace stavby'!AN17="","",'Rekapitulace stavby'!AN17)
D23: Zpracovatel: | I23: IČ: | J23: =IF('Rekapitulace stavby'!AN19="","",'Rekapitulace stavby'!AN19)
E24: =IF('Rekapitulace stavby'!E20="","",'Rekapitulace stavby'!E20) | I24: DIČ: | J24: =IF('Rekapitulace stavby'!AN20="","",'Rekapitulace stavby'!AN20)
D26: Poznámka:
D30: Cena bez DPH | J30: =ROUND(J87, 2) -> 0
F32: Základ daně | I32: Sazba daně | J32: Výše daně
D33: DPH | E33: základní | F33: =ROUND((SUM(BE87:BE205)), 2) -> 0 | I33: 0.21 | J33: =ROUND(((SUM(BE87:BE205))*I33), 2) -> 0
E34: snížená | F34: =ROUND((SUM(BF87:BF205)), 2) -> 0 | I34: 0.12 | J34: =ROUND(((SUM(BF87:BF205))*I34), 2) -> 0
E35: zákl. přenesená | F35: =ROUND((SUM(BG87:BG205)), 2) -> 0 | I35: 0.21 | J35: =0 -> 0
E36: sníž. přenesená | F36: =ROUND((SUM(BH87:BH205)), 2) -> 0 | I36: 0.12 | J36: =0 -> 0
E37: nulová | F37: =ROUND((SUM(BI87:BI205)), 2) -> 0 | I37: 0 | J37: =0 -> 0
D39: Cena s DPH | G39: v | H39: CZK | J39: =SUM(J30:J37) -> 0
C45: REKAPITULACE ČLENĚNÍ SOUPISU PRACÍ
C47: Stavba:
E48: =E7 -> Revitalizace zázemí městské knihovny a předprostoru Lázeňského parku Poděbrady
C49: Objekt:
E50: =E9 -> 01.3 - Zpevněné plochy
C52: Místo: | F52: =F12 | I52: Datum: | J52: =IF(J12="","",J12) -> 24. 6. 2026
C54: Zadavatel: | F54: =E15 -> Město Poděbrady | I54: Projektant: | J54: =E21
C55: Účastník: | F55: =IF(E18="","",E18) -> Vyplň údaj | I55: Zpracovatel: | J55: =E24
C57: Kód dílu - Popis | J57: Cena celkem [CZK]
C59: Náklady stavby celkem | J59: =J87 -> 0 | AU59: -1
D60: HSV - Práce a dodávky HSV | J60: =J88 -> 0
D61: 1 - Zemní práce | J61: =J89 -> 0
D62: 5 - Komunikace pozemní | J62: =J143 -> 0
D63: 5.1 - Dlažba ze žulových odseků | J63: =J144 -> 0
...

Sheet 01.4 - Bourací práce
L2: >> skryté sloupce << | AT2: {000937ea-3087-4293-ad6a-406afc656d58}
AT3: 2
D4: KRYCÍ LIST SOUPISU PRACÍ | M4: v --- níže se nacházejí doplnkové a pomocné údaje k sestavám --- v | AT4: False
D6: Stavba:
E7: ='Rekapitulace stavby'!K6 -> Revitalizace zázemí městské knihovny a předprostoru Lázeňského parku Poděbrady
D8: Objekt:
E9: 01.4 - Bourací práce
D11: KSO: | I11: CC-CZ:
D12: Místo: | I12: Datum: | J12: ='Rekapitulace stavby'!AN8 -> 24. 6. 2026
D14: Zadavatel: | I14: IČ: | J14: =IF('Rekapitulace stavby'!AN10="","",'Rekapitulace stavby'!AN10)
E15: =IF('Rekapitulace stavby'!E11="","",'Rekapitulace stavby'!E11) -> Město Poděbrady | I15: DIČ: | J15: =IF('Rekapitulace stavby'!AN11="","",'Rekapitulace stavby'!AN11)
D17: Účastník: | I17: IČ: | J17: ='Rekapitulace stavby'!AN13 -> Vyplň údaj
E18: ='Rekapitulace stavby'!E14 -> Vyplň údaj | I18: DIČ: | J18: ='Rekapitulace stavby'!AN14 -> Vyplň údaj
D20: Projektant: | I20: IČ: | J20: =IF('Rekapitulace stavby'!AN16="","",'Rekapitulace stavby'!AN16)
E21: =IF('Rekapitulace stavby'!E17="","",'Rekapitulace stavby'!E17) | I21: DIČ: | J21: =IF('Rekapitulace stavby'!AN17="","",'Rekapitulace stavby'!AN17)
D23: Zpracovatel: | I23: IČ: | J23: =IF('Rekapitulace stavby'!AN19="","",'Rekapitulace stavby'!AN19)
E24: =IF('Rekapitulace stavby'!E20="","",'Rekapitulace stavby'!E20) | I24: DIČ: | J24: =IF('Rekapitulace stavby'!AN20="","",'Rekapitulace stavby'!AN20)
D26: Poznámka:
D30: Cena bez DPH | J30: =ROUND(J82, 2) -> 0
F32: Základ daně | I32: Sazba daně | J32: Výše daně
D33: DPH | E33: základní | F33: =ROUND((SUM(BE82:BE160)), 2) -> 0 | I33: 0.21 | J33: =ROUND(((SUM(BE82:BE160))*I33), 2) -> 0
E34: snížená | F34: =ROUND((SUM(BF82:BF160)), 2) -> 0 | I34: 0.12 | J34: =ROUND(((SUM(BF82:BF160))*I34), 2) -> 0
E35: zákl. přenesená | F35: =ROUND((SUM(BG82:BG160)), 2) -> 0 | I35: 0.21 | J35: =0 -> 0
E36: sníž. přenesená | F36: =ROUND((SUM(BH82:BH160)), 2) -> 0 | I36: 0.12 | J36: =0 -> 0
E37: nulová | F37: =ROUND((SUM(BI82:BI160)), 2) -> 0 | I37: 0 | J37: =0 -> 0
D39: Cena s DPH | G39: v | H39: CZK | J39: =SUM(J30:J37) -> 0
C45: REKAPITULACE ČLENĚNÍ SOUPISU PRACÍ
C47: Stavba:
E48: =E7 -> Revitalizace zázemí městské knihovny a předprostoru Lázeňského parku Poděbrady
C49: Objekt:
E50: =E9 -> 01.4 - Bourací práce
C52: Místo: | F52: =F12 | I52: Datum: | J52: =IF(J12="","",J12) -> 24. 6. 2026
C54: Zadavatel: | F54: =E15 -> Město Poděbrady | I54: Projektant: | J54: =E21
C55: Účastník: | F55: =IF(E18="","",E18) -> Vyplň údaj | I55: Zpracovatel: | J55: =E24
C57: Kód dílu - Popis | J57: Cena celkem [CZK]
C59: Náklady stavby celkem | J59: =J82 -> 0 | AU59: -1
D60: HSV - Práce a dodávky HSV | J60: =J83 -> 0
D61: 1 - Zemní práce | J61: =J84 -> 0
D62: 997 - Doprava suti a vybouraných hmot | J62: =J112 -> 0
C69: SOUPIS PRACÍ
...

Sheet 02.1 - Vegetační úpravy
L2: >> skryté sloupce << | AT2: {c1087b5f-01c6-47cd-ae68-f4a7db53963f}
AT3: 2
D4: KRYCÍ LIST SOUPISU PRACÍ | M4: v --- níže se nacházejí doplnkové a pomocné údaje k sestavám --- v | AT4: False
D6: Stavba:
E7: ='Rekapitulace stavby'!K6 -> Revitalizace zázemí městské knihovny a předprostoru Lázeňského parku Poděbrady
D8: Objekt:
E9: 02.1 - Vegetační úpravy
D11: KSO: | I11: CC-CZ:
D12: Místo: | I12: Datum: | J12: ='Rekapitulace stavby'!AN8 -> 24. 6. 2026
D14: Zadavatel: | I14: IČ: | J14: =IF('Rekapitulace stavby'!AN10="","",'Rekapitulace stavby'!AN10)
E15: =IF('Rekapitulace stavby'!E11="","",'Rekapitulace stavby'!E11) -> Město Poděbrady | I15: DIČ: | J15: =IF('Rekapitulace stavby'!AN11="","",'Rekapitulace stavby'!AN11)
D17: Účastník: | I17: IČ: | J17: ='Rekapitulace stavby'!AN13 -> Vyplň údaj
E18: ='Rekapitulace stavby'!E14 -> Vyplň údaj | I18: DIČ: | J18: ='Rekapitulace stavby'!AN14 -> Vyplň údaj
D20: Projektant: | I20: IČ: | J20: =IF('Rekapitulace stavby'!AN16="","",'Rekapitulace stavby'!AN16)
E21: =IF('Rekapitulace stavby'!E17="","",'Rekapitulace stavby'!E17) | I21: DIČ: | J21: =IF('Rekapitulace stavby'!AN17="","",'Rekapitulace stavby'!AN17)
D23: Zpracovatel: | I23: IČ: | J23: =IF('Rekapitulace stavby'!AN19="","",'Rekapitulace stavby'!AN19)
E24: =IF('Rekapitulace stavby'!E20="","",'Rekapitulace stavby'!E20) | I24: DIČ: | J24: =IF('Rekapitulace stavby'!AN20="","",'Rekapitulace stavby'!AN20)
D26: Poznámka:
D30: Cena bez DPH | J30: =ROUND(J82, 2) -> 0
F32: Základ daně | I32: Sazba daně | J32: Výše daně
D33: DPH | E33: základní | F33: =ROUND((SUM(BE82:BE257)), 2) -> 0 | I33: 0.21 | J33: =ROUND(((SUM(BE82:BE257))*I33), 2) -> 0
E34: snížená | F34: =ROUND((SUM(BF82:BF257)), 2) -> 0 | I34: 0.12 | J34: =ROUND(((SUM(BF82:BF257))*I34), 2) -> 0
E35: zákl. přenesená | F35: =ROUND((SUM(BG82:BG257)), 2) -> 0 | I35: 0.21 | J35: =0 -> 0
E36: sníž. přenesená | F36: =ROUND((SUM(BH82:BH257)), 2) -> 0 | I36: 0.12 | J36: =0 -> 0
E37: nulová | F37: =ROUND((SUM(BI82:BI257)), 2) -> 0 | I37: 0 | J37: =0 -> 0
D39: Cena s DPH | G39: v | H39: CZK | J39: =SUM(J30:J37) -> 0
C45: REKAPITULACE ČLENĚNÍ SOUPISU PRACÍ
C47: Stavba:
E48: =E7 -> Revitalizace zázemí městské knihovny a předprostoru Lázeňského parku Poděbrady
C49: Objekt:
E50: =E9 -> 02.1 - Vegetační úpravy
C52: Místo: | F52: =F12 | I52: Datum: | J52: =IF(J12="","",J12) -> 24. 6. 2026
C54: Zadavatel: | F54: =E15 -> Město Poděbrady | I54: Projektant: | J54: =E21
C55: Účastník: | F55: =IF(E18="","",E18) -> Vyplň údaj | I55: Zpracovatel: | J55: =E24
C57: Kód dílu - Popis | J57: Cena celkem [CZK]
C59: Náklady stavby celkem | J59: =J82 -> 0 | AU59: -1
D60: HSV - Práce a dodávky HSV | J60: =J83 -> 0
D61: 1 - Trávníky založení nebo rekonstrukce | J61: =J84 -> 0
D62: 2 - Výsadby stromů a keřů | J62: =J123 -> 0
C69: SOUPIS PRACÍ
...

Sheet 02.2 - Mobiliář
L2: >> skryté sloupce << | AT2: {57acb7aa-df37-4d9e-9cf1-30432c28b297}
AT3: 2
D4: KRYCÍ LIST SOUPISU PRACÍ | M4: v --- níže se nacházejí doplnkové a pomocné údaje k sestavám --- v | AT4: False
D6: Stavba:
E7: ='Rekapitulace stavby'!K6 -> Revitalizace zázemí městské knihovny a předprostoru Lázeňského parku Poděbrady
D8: Objekt:
E9: 02.2 - Mobiliář
D11: KSO: | I11: CC-CZ:
D12: Místo: | I12: Datum: | J12: ='Rekapitulace stavby'!AN8 -> 24. 6. 2026
D14: Zadavatel: | I14: IČ: | J14: =IF('Rekapitulace stavby'!AN10="","",'Rekapitulace stavby'!AN10)
E15: =IF('Rekapitulace stavby'!E11="","",'Rekapitulace stavby'!E11) -> Město Poděbrady | I15: DIČ: | J15: =IF('Rekapitulace stavby'!AN11="","",'Rekapitulace stavby'!AN11)
D17: Účastník: | I17: IČ: | J17: ='Rekapitulace stavby'!AN13 -> Vyplň údaj
E18: ='Rekapitulace stavby'!E14 -> Vyplň údaj | I18: DIČ: | J18: ='Rekapitulace stavby'!AN14 -> Vyplň údaj
D20: Projektant: | I20: IČ: | J20: =IF('Rekapitulace stavby'!AN16="","",'Rekapitulace stavby'!AN16)
E21: =IF('Rekapitulace stavby'!E17="","",'Rekapitulace stavby'!E17) | I21: DIČ: | J21: =IF('Rekapitulace stavby'!AN17="","",'Rekapitulace stavby'!AN17)
D23: Zpracovatel: | I23: IČ: | J23: =IF('Rekapitulace stavby'!AN19="","",'Rekapitulace stavby'!AN19)
E24: =IF('Rekapitulace stavby'!E20="","",'Rekapitulace stavby'!E20) | I24: DIČ: | J24: =IF('Rekapitulace stavby'!AN20="","",'Rekapitulace stavby'!AN20)
D26: Poznámka:
D30: Cena bez DPH | J30: =ROUND(J81, 2) -> 0
F32: Základ daně | I32: Sazba daně | J32: Výše daně
D33: DPH | E33: základní | F33: =ROUND((SUM(BE81:BE133)), 2) -> 0 | I33: 0.21 | J33: =ROUND(((SUM(BE81:BE133))*I33), 2) -> 0
E34: snížená | F34: =ROUND((SUM(BF81:BF133)), 2) -> 0 | I34: 0.12 | J34: =ROUND(((SUM(BF81:BF133))*I34), 2) -> 0
E35: zákl. přenesená | F35: =ROUND((SUM(BG81:BG133)), 2) -> 0 | I35: 0.21 | J35: =0 -> 0
E36: sníž. přenesená | F36: =ROUND((SUM(BH81:BH133)), 2) -> 0 | I36: 0.12 | J36: =0 -> 0
E37: nulová | F37: =ROUND((SUM(BI81:BI133)), 2) -> 0 | I37: 0 | J37: =0 -> 0
D39: Cena s DPH | G39: v | H39: CZK | J39: =SUM(J30:J37) -> 0
C45: REKAPITULACE ČLENĚNÍ SOUPISU PRACÍ
C47: Stavba:
E48: =E7 -> Revitalizace zázemí městské knihovny a předprostoru Lázeňského parku Poděbrady
C49: Objekt:
E50: =E9 -> 02.2 - Mobiliář
C52: Místo: | F52: =F12 | I52: Datum: | J52: =IF(J12="","",J12) -> 24. 6. 2026
C54: Zadavatel: | F54: =E15 -> Město Poděbrady | I54: Projektant: | J54: =E21
C55: Účastník: | F55: =IF(E18="","",E18) -> Vyplň údaj | I55: Zpracovatel: | J55: =E24
C57: Kód dílu - Popis | J57: Cena celkem [CZK]
C59: Náklady stavby celkem | J59: =J81 -> 0 | AU59: -1
D60: HSV - Práce a dodávky HSV | J60: =J82 -> 0
D61: 9 - MOBILIÁŘ | J61: =J83 -> 0
C68: SOUPIS PRACÍ
C70: Stavba:
...

Sheet 03 - Zdravotně technické ...
L2: >> skryté sloupce << | AT2: {067a5742-fb48-4f5c-bf49-9883c0a9dd23}
AT3: 2
D4: KRYCÍ LIST SOUPISU PRACÍ | M4: v --- níže se nacházejí doplnkové a pomocné údaje k sestavám --- v | AT4: False
D6: Stavba:
E7: ='Rekapitulace stavby'!K6 -> Revitalizace zázemí městské knihovny a předprostoru Lázeňského parku Poděbrady
D8: Objekt:
E9: 03 - Zdravotně technické ...
D11: KSO: | I11: CC-CZ:
D12: Místo: | I12: Datum: | J12: ='Rekapitulace stavby'!AN8 -> 24. 6. 2026
D14: Zadavatel: | I14: IČ: | J14: =IF('Rekapitulace stavby'!AN10="","",'Rekapitulace stavby'!AN10)
E15: =IF('Rekapitulace stavby'!E11="","",'Rekapitulace stavby'!E11) -> Město Poděbrady | I15: DIČ: | J15: =IF('Rekapitulace stavby'!AN11="","",'Rekapitulace stavby'!AN11)
D17: Účastník: | I17: IČ: | J17: ='Rekapitulace stavby'!AN13 -> Vyplň údaj
E18: ='Rekapitulace stavby'!E14 -> Vyplň údaj | I18: DIČ: | J18: ='Rekapitulace stavby'!AN14 -> Vyplň údaj
D20: Projektant: | I20: IČ: | J20: =IF('Rekapitulace stavby'!AN16="","",'Rekapitulace stavby'!AN16)
E21: =IF('Rekapitulace stavby'!E17="","",'Rekapitulace stavby'!E17) | I21: DIČ: | J21: =IF('Rekapitulace stavby'!AN17="","",'Rekapitulace stavby'!AN17)
D23: Zpracovatel: | I23: IČ: | J23: =IF('Rekapitulace stavby'!AN19="","",'Rekapitulace stavby'!AN19)
E24: =IF('Rekapitulace stavby'!E20="","",'Rekapitulace stavby'!E20) | I24: DIČ: | J24: =IF('Rekapitulace stavby'!AN20="","",'Rekapitulace stavby'!AN20)
D26: Poznámka:
D30: Cena bez DPH | J30: =ROUND(J92, 2) -> 0
F32: Základ daně | I32: Sazba daně | J32: Výše daně
D33: DPH | E33: základní | F33: =ROUND((SUM(BE92:BE840)), 2) -> 0 | I33: 0.21 | J33: =ROUND(((SUM(BE92:BE840))*I33), 2) -> 0
E34: snížená | F34: =ROUND((SUM(BF92:BF840)), 2) -> 0 | I34: 0.12 | J34: =ROUND(((SUM(BF92:BF840))*I34), 2) -> 0
E35: zákl. přenesená | F35: =ROUND((SUM(BG92:BG840)), 2) -> 0 | I35: 0.21 | J35: =0 -> 0
E36: sníž. přenesená | F36: =ROUND((SUM(BH92:BH840)), 2) -> 0 | I36: 0.12 | J36: =0 -> 0
E37: nulová | F37: =ROUND((SUM(BI92:BI840)), 2) -> 0 | I37: 0 | J37: =0 -> 0
D39: Cena s DPH | G39: v | H39: CZK | J39: =SUM(J30:J37) -> 0
C45: REKAPITULACE ČLENĚNÍ SOUPISU PRACÍ
C47: Stavba:
E48: =E7 -> Revitalizace zázemí městské knihovny a předprostoru Lázeňského parku Poděbrady
C49: Objekt:
E50: =E9 -> 03 - Zdravotně technické ...
C52: Místo: | F52: =F12 | I52: Datum: | J52: =IF(J12="","",J12) -> 24. 6. 2026
C54: Zadavatel: | F54: =E15 -> Město Poděbrady | I54: Projektant: | J54: =E21
C55: Účastník: | F55: =IF(E18="","",E18) -> Vyplň údaj | I55: Zpracovatel: | J55: =E24
C57: Kód dílu - Popis | J57: Cena celkem [CZK]
C59: Náklady stavby celkem | J59: =J92 -> 0 | AU59: -1
D60: HSV - Práce a dodávky HSV | J60: =J93 -> 0
D61: 1 - Zemní práce | J61: =J94 -> 0
D62: 2 - Zakládání | J62: =J304 -> 0
D63: 4 - Vodorovné konstrukce | J63: =J334 -> 0
...

Sheet 04 - Elektroinstalace
L2: >> skryté sloupce << | AT2: {8dac4b36-7b64-4324-8636-795a38699567}
AT3: 2
D4: KRYCÍ LIST SOUPISU PRACÍ | M4: v --- níže se nacházejí doplnkové a pomocné údaje k sestavám --- v | AT4: False
D6: Stavba:
E7: ='Rekapitulace stavby'!K6 -> Revitalizace zázemí městské knihovny a předprostoru Lázeňského parku Poděbrady
D8: Objekt:
E9: 04 - Elektroinstalace
D11: KSO: | I11: CC-CZ:
D12: Místo: | I12: Datum: | J12: ='Rekapitulace stavby'!AN8 -> 24. 6. 2026
D14: Zadavatel: | I14: IČ: | J14: =IF('Rekapitulace stavby'!AN10="","",'Rekapitulace stavby'!AN10)
E15: =IF('Rekapitulace stavby'!E11="","",'Rekapitulace stavby'!E11) -> Město Poděbrady | I15: DIČ: | J15: =IF('Rekapitulace stavby'!AN11="","",'Rekapitulace stavby'!AN11)
D17: Účastník: | I17: IČ: | J17: ='Rekapitulace stavby'!AN13 -> Vyplň údaj
E18: ='Rekapitulace stavby'!E14 -> Vyplň údaj | I18: DIČ: | J18: ='Rekapitulace stavby'!AN14 -> Vyplň údaj
D20: Projektant: | I20: IČ: | J20: =IF('Rekapitulace stavby'!AN16="","",'Rekapitulace stavby'!AN16)
E21: =IF('Rekapitulace stavby'!E17="","",'Rekapitulace stavby'!E17) | I21: DIČ: | J21: =IF('Rekapitulace stavby'!AN17="","",'Rekapitulace stavby'!AN17)
D23: Zpracovatel: | I23: IČ: | J23: =IF('Rekapitulace stavby'!AN19="","",'Rekapitulace stavby'!AN19)
E24: =IF('Rekapitulace stavby'!E20="","",'Rekapitulace stavby'!E20) | I24: DIČ: | J24: =IF('Rekapitulace stavby'!AN20="","",'Rekapitulace stavby'!AN20)
D26: Poznámka:
D30: Cena bez DPH | J30: =ROUND(J93, 2) -> 0
F32: Základ daně | I32: Sazba daně | J32: Výše daně
D33: DPH | E33: základní | F33: =ROUND((SUM(BE93:BE239)), 2) -> 0 | I33: 0.21 | J33: =ROUND(((SUM(BE93:BE239))*I33), 2) -> 0
E34: snížená | F34: =ROUND((SUM(BF93:BF239)), 2) -> 0 | I34: 0.12 | J34: =ROUND(((SUM(BF93:BF239))*I34), 2) -> 0
E35: zákl. přenesená | F35: =ROUND((SUM(BG93:BG239)), 2) -> 0 | I35: 0.21 | J35: =0 -> 0
E36: sníž. přenesená | F36: =ROUND((SUM(BH93:BH239)), 2) -> 0 | I36: 0.12 | J36: =0 -> 0
E37: nulová | F37: =ROUND((SUM(BI93:BI239)), 2) -> 0 | I37: 0 | J37: =0 -> 0
D39: Cena s DPH | G39: v | H39: CZK | J39: =SUM(J30:J37) -> 0
C45: REKAPITULACE ČLENĚNÍ SOUPISU PRACÍ
C47: Stavba:
E48: =E7 -> Revitalizace zázemí městské knihovny a předprostoru Lázeňského parku Poděbrady
C49: Objekt:
E50: =E9 -> 04 - Elektroinstalace
C52: Místo: | F52: =F12 | I52: Datum: | J52: =IF(J12="","",J12) -> 24. 6. 2026
C54: Zadavatel: | F54: =E15 -> Město Poděbrady | I54: Projektant: | J54: =E21
C55: Účastník: | F55: =IF(E18="","",E18) -> Vyplň údaj | I55: Zpracovatel: | J55: =E24
C57: Kód dílu - Popis | J57: Cena celkem [CZK]
C59: Náklady stavby celkem | J59: =J93 -> 0 | AU59: -1
D60: 741 - Elektroinstalace | J60: =J94 -> 0
D61: 741.1 - JEDNOŽILOVÉ VODIČE, IZOLACE PVC | J61: =J95 -> 0
D62: 741.2 - KABEL SILOVÝ, IZOLACE PVC | J62: =J104 -> 0
D63: 741.3 - Montáž elektroinstalačních lišt, ohebných trubek trubek | J63: =J119 -> 0
...

Sheet VON - Vedlejší a ostatní ...
L2: >> skryté sloupce << | AT2: {89711b90-3cdc-4ff6-8d9c-48c3e53e240f}
AT3: 2
D4: KRYCÍ LIST SOUPISU PRACÍ | M4: v --- níže se nacházejí doplnkové a pomocné údaje k sestavám --- v | AT4: False
D6: Stavba:
E7: ='Rekapitulace stavby'!K6 -> Revitalizace zázemí městské knihovny a předprostoru Lázeňského parku Poděbrady
D8: Objekt:
E9: VON - Vedlejší a ostatní ...
D11: KSO: | I11: CC-CZ:
D12: Místo: | I12: Datum: | J12: ='Rekapitulace stavby'!AN8 -> 24. 6. 2026
D14: Zadavatel: | I14: IČ: | J14: =IF('Rekapitulace stavby'!AN10="","",'Rekapitulace stavby'!AN10)
E15: =IF('Rekapitulace stavby'!E11="","",'Rekapitulace stavby'!E11) -> Město Poděbrady | I15: DIČ: | J15: =IF('Rekapitulace stavby'!AN11="","",'Rekapitulace stavby'!AN11)
D17: Účastník: | I17: IČ: | J17: ='Rekapitulace stavby'!AN13 -> Vyplň údaj
E18: ='Rekapitulace stavby'!E14 -> Vyplň údaj | I18: DIČ: | J18: ='Rekapitulace stavby'!AN14 -> Vyplň údaj
D20: Projektant: | I20: IČ: | J20: =IF('Rekapitulace stavby'!AN16="","",'Rekapitulace stavby'!AN16)
E21: =IF('Rekapitulace stavby'!E17="","",'Rekapitulace stavby'!E17) | I21: DIČ: | J21: =IF('Rekapitulace stavby'!AN17="","",'Rekapitulace stavby'!AN17)
D23: Zpracovatel: | I23: IČ: | J23: =IF('Rekapitulace stavby'!AN19="","",'Rekapitulace stavby'!AN19)
E24: =IF('Rekapitulace stavby'!E20="","",'Rekapitulace stavby'!E20) | I24: DIČ: | J24: =IF('Rekapitulace stavby'!AN20="","",'Rekapitulace stavby'!AN20)
D26: Poznámka:
D30: Cena bez DPH | J30: =ROUND(J85, 2) -> 0
F32: Základ daně | I32: Sazba daně | J32: Výše daně
D33: DPH | E33: základní | F33: =ROUND((SUM(BE85:BE115)), 2) -> 0 | I33: 0.21 | J33: =ROUND(((SUM(BE85:BE115))*I33), 2) -> 0
E34: snížená | F34: =ROUND((SUM(BF85:BF115)), 2) -> 0 | I34: 0.12 | J34: =ROUND(((SUM(BF85:BF115))*I34), 2) -> 0
E35: zákl. přenesená | F35: =ROUND((SUM(BG85:BG115)), 2) -> 0 | I35: 0.21 | J35: =0 -> 0
E36: sníž. přenesená | F36: =ROUND((SUM(BH85:BH115)), 2) -> 0 | I36: 0.12 | J36: =0 -> 0
E37: nulová | F37: =ROUND((SUM(BI85:BI115)), 2) -> 0 | I37: 0 | J37: =0 -> 0
D39: Cena s DPH | G39: v | H39: CZK | J39: =SUM(J30:J37) -> 0
C45: REKAPITULACE ČLENĚNÍ SOUPISU PRACÍ
C47: Stavba:
E48: =E7 -> Revitalizace zázemí městské knihovny a předprostoru Lázeňského parku Poděbrady
C49: Objekt:
E50: =E9 -> VON - Vedlejší a ostatní ...
C52: Místo: | F52: =F12 | I52: Datum: | J52: =IF(J12="","",J12) -> 24. 6. 2026
C54: Zadavatel: | F54: =E15 -> Město Poděbrady | I54: Projektant: | J54: =E21
C55: Účastník: | F55: =IF(E18="","",E18) -> Vyplň údaj | I55: Zpracovatel: | J55: =E24
C57: Kód dílu - Popis | J57: Cena celkem [CZK]
C59: Náklady stavby celkem | J59: =J85 -> 0 | AU59: -1
D60: VRN - Vedlejší rozpočtové náklady | J60: =J86 -> 0
D61: VRN1 - Průzkumné, geodetické a projektové práce | J61: =J87 -> 0
D62: VRN3 - Zařízení staveniště | J62: =J92 -> 0
D63: VRN4 - Inženýrská činnost | J63: =J96 -> 0
...

Sheet Pokyny pro vyplnění
C3: Struktura údajů, formát souboru a metodika pro zpracování
C4: Struktura
C6: Soubor je složen ze záložky Rekapitulace stavby a záložek s názvem soupisu prací pro jednotlivé objekty ve formátu XLSX. Každá ze záložek přitom obsahuje
C7: ještě samostatné sestavy vymezené orámovaním a nadpisem sestavy.
C9: Rekapitulace stavby obsahuje sestavu Rekapitulace stavby a Rekapitulace objektů stavby a soupisů prací.
D10: V sestavě Rekapitulace stavby jsou uvedeny informace identifikující předmět veřejné zakázky na stavební práce, KSO, CC-CZ, CZ-CPV, CZ-CPA a rekapitulaci
D11: celkové nabídkové ceny účastníka.
D13: Termínem "učastník" (resp. zhotovitel) se myslí "účastník zadávacího řízení" ve smyslu zákona o zadávání veřejných zakázek.
D15: V sestavě Rekapitulace objektů stavby a soupisů prací je uvedena rekapitulace stavebních objektů, inženýrských objektů, provozních souborů,
D16: vedlejších a ostatních nákladů a ostatních nákladů s rekapitulací nabídkové ceny za jednotlivé soupisy prací. Na základě údaje Typ je možné
D17: identifikovat, zda se jedná o objekt nebo soupis prací pro daný objekt:
E18: STA | F18: Stavební objekt pozemní
E19: ING | F19: Stavební objekt inženýrský
E20: PRO | F20: Provozní soubor
E21: VON | F21: Vedlejší a ostatní náklady
E22: OST | F22: Ostatní
E23: Soupis | F23: Soupis prací pro daný typ objektu
C25: Soupis prací pro jednotlivé objekty obsahuje sestavy Krycí list soupisu prací, Rekapitulace členění soupisu prací, Soupis prací. Za soupis prací může být považován
C26: i objekt stavby v případě, že neobsahuje podřízenou zakázku.
D27: Krycí list soupisu obsahuje rekapitulaci informací o předmětu veřejné zakázky ze sestavy Rekapitulace stavby, informaci o zařazení objektu do KSO,
D28: CC-CZ, CZ-CPV, CZ-CPA a rekapitulaci celkové nabídkové ceny účastníka za aktuální soupis prací.
D30: Rekapitulace členění soupisu prací obsahuje rekapitulaci soupisu prací ve všech úrovních členění soupisu tak, jak byla tato členění použita (např.
D31: stavební díly, funkční díly, případně jiné členění) s rekapitulací nabídkové ceny.
D33: Soupis prací obsahuje položky veškerých stavebních nebo montážních prací, dodávek materiálů a služeb nezbytných pro zhotovení stavebního objektu,
D34: inženýrského objektu, provozního souboru, vedlejších a ostatních nákladů.
D35: Pro položky soupisu prací se zobrazují následující informace:
E36: PČ | G36: Pořadové číslo položky v aktuálním soupisu
E37: TYP | G37: Typ položky: K - konstrukce, M - materiál, PP - plný popis, PSC - poznámka k souboru cen, P - poznámka k položce, VV - výkaz výměr, FIG - rozpad figur
E38: Kód | G38: Kód položky
E39: Popis | G39: Zkrácený popis položky
E40: MJ | G40: Měrná jednotka položky
E41: Množství | G41: Množství v měrné jednotce
E42: J.cena | G42: Jednotková cena položky. Zadaní může obsahovat namísto J.ceny sloupce J.materiál a J.montáž, jejichž součet definuje
G43: J.cenu položky.
E44: Cena celkem | G44: Celková cena položky daná jako součin množství a j.ceny
E45: Cenová soustava | G45: Příslušnost položky do cenové soustavy
D47: Ke každé položce soupisu prací se na samostatných řádcích může zobrazovat:
E48: Plný popis položky
E49: Poznámka k souboru cen a poznámka zadavatele
E50: Výkaz výměr
...
