Workbook

Sheet Rekapitulace stavby
A1: Export Komplet | AZ1: VZ | BA1: 2.0 | BT1: False | BU1: False | BV1: {33a04697-ed80-4e44-ba4c-da142d1eb73b}
AR2: >> skryté sloupce << | BS2: 0,01 | BT2: 21
BS3: 0,01 | BT3: 12
D4: REKAPITULACE STAVBY | AS4: v --- níže se nacházejí doplnkové a pomocné údaje k sestavám --- v | BE4: Návod na vyplnění | BS4: 0,001
D5: Kód: | K5: 260624 | BE5: Měnit lze pouze buňky se žlutým podbarvením! 1) v Rekapitulaci stavby vyplňte údaje o Účastníkovi (přenesou se do ostatních sestav i v jiných listech) 2) na vybraných listech vyplňte v sestavě Soupis prací ceny u položek | BS5: 0,01
D6: Stavba: | K6: Revitalizace zázemí městské knihovny a předprostoru Lázeňského parku Poděbrady | BS6: 0,01
D7: KSO: | AK7: CC-CZ: | AN7: 823 27 | BS7: 0,01
D8: Místo: | K8: par.č. 1889/1, k.ú. Poděbrady | AK8: Datum: | AN8: 24. 6. 2026 | BS8: 0,01
BS9: 0,01
D10: Zadavatel: | AK10: IČ: | BS10: 0,01
E11: Město Poděbrady | AK11: DIČ: | BS11: 0,01
BS12: 0,01
D13: Účastník: | AK13: IČ: | AN13: Vyplň údaj | BS13: 0,01
E14: Vyplň údaj | AK14: DIČ: | AN14: Vyplň údaj | BS14: 0,01
BS15: False
D16: Projektant: | AK16: IČ: | BS16: False
AK17: DIČ: | BS17: True
BS18: 0,01
D19: Zpracovatel: | AK19: IČ: | BS19: 0,01
AK20: DIČ: | BS20: True
D22: Poznámka:
E23: Soupis prací je sestaven s využitím Cenové soustavy ÚRS. Položky, které pochází z této cenové soustavy, jsou ve sloupci 'Cenová soustava' označeny popisem 'CS ÚRS' a úrovní příslušného kalendářního pololetí. Veškeré další informace vymezující popis a podmínky použití těchto položek z Cenové soustavy, které nejsou uvedeny přímo v soupisu prací, jsou neomezeně dálkově k dispozici na webu podminky.urs.cz.
D26: Cena bez DPH | AK26: =ROUND(AG54,2) -> 0
L28: Sazba daně | W28: Základ daně | AK28: Výše daně
D29: DPH | F29: základní | L29: 0.21 | W29: =ROUND(AZ54, 2) -> 0 | AK29: =ROUND(AV54, 2) -> 0
F30: snížená | L30: 0.12 | W30: =ROUND(BA54, 2) -> 0 | AK30: =ROUND(AW54, 2) -> 0
F31: zákl. přenesená | L31: 0.21 | W31: =ROUND(BB54, 2) -> 0 | AK31: 0
F32: sníž. přenesená | L32: 0.12 | W32: =ROUND(BC54, 2) -> 0 | AK32: 0
F33: nulová | L33: 0 | W33: =ROUND(BD54, 2) -> 0 | AK33: 0
D35: Cena s DPH | T35: v | X35: CZK | AK35: =SUM(AK26:AK33) -> 0
C42: REKAPITULACE OBJEKTŮ STAVBY A SOUPISŮ PRACÍ
C44: Kód: | L44: =K5 -> 260624
C45: Stavba: | L45: =K6 -> Revitalizace zázemí městské knihovny a předprostoru Lázeňského parku Poděbrady
C47: Místo: | L47: =IF(K8="","",K8) -> par.č. 1889/1, k.ú. Poděbrady | AI47: Datum: | AM47: =IF(AN8= "","",AN8) -> 24. 6. 2026
C49: Zadavatel: | L49: =IF(E11= "","",E11) -> Město Poděbrady | AI49: Projektant: | AM49: =IF(E17="","",E17) | AS49: Informatívní údaje z listů zakázek
C50: Účastník: | L50: =IF(E14= "Vyplň údaj","",E14) | AI50: Zpracovatel: | AM50: =IF(E20="","",E20)
C52: Kód | I52: Popis | AG52: Cena bez DPH [CZK] | AN52: Cena s DPH [CZK] | AQ52: Typ | AS52: z toho Ostat. náklady [CZK] | AT52: DPH [CZK] | AU52: Normohodiny [h] | AV52: DPH základní [CZK] | AW52: DPH snížená [CZK] | AX52: DPH základní přenesená [CZK] | AY52: DPH snížená přenesená [CZK] | AZ52: Základna DPH základní | BA52: Základna DPH snížená | BB52: Základna DPH zákl. přenesená | BC52: Základna DPH sníž. přenesená | BD52: Základna DPH nulová
C54: Náklady stavby celkem | AG54: =ROUND(SUM(AG55:AG63),2) -> 0 | AN54: =SUM(AG54,AT54) -> 0 | AS54: =ROUND(SUM(AS55:AS63),2) -> 0 | AT54: =ROUND(SUM(AV54:AW54),2) -> 0 | AU54: =ROUND(SUM(AU55:AU63),5) -> 0 | AV54: =ROUND(AZ54*L29,2) -> 0 | AW54: =ROUND(BA54*L30,2) -> 0 | AX54: =ROUND(BB54*L29,2) -> 0 | AY54: =ROUND(BC54*L30,2) -> 0 | AZ54: =ROUND(SUM(AZ55:AZ63),2) -> 0 | BA54: =ROUND(SUM(BA55:BA63),2) -> 0 | BB54: =ROUND(SUM(BB55:BB63),2) -> 0 | BC54: =ROUND(SUM(BC55:BC63),2) -> 0 | BD54: =ROUND(SUM(BD55:BD63),2) -> 0 | BS54: D | BT54: 0 | BU54: ###NOIMPORT### | BV54: IMPORT | BW54: {33a04697-ed80-4e44-ba4c-da142d1eb73b} | BX54: {00000000-0000-0000-0000-000000000000}
A55: / | D55: 01.1 | J55: Nový objekt občers... | AG55: ='01.1 - Nový objekt občers...'!J30 -> 0 | AN55: =SUM(AG55,AT55) -> 0 | AQ55: STA | AS55: 0 | AT55: =ROUND(SUM(AV55:AW55),2) -> 0 | AU55: ='01.1 - Nový objekt občers...'!P89 -> 0 | AV55: ='01.1 - Nový objekt občers...'!J33 -> 0 | AW55: ='01.1 - Nový objekt občers...'!J34 -> 0 | AX55: ='01.1 - Nový objekt občers...'!J35 -> 0 | AY55: ='01.1 - Nový objekt občers...'!J36 -> 0 | AZ55: ='01.1 - Nový objekt občers...'!F33 -> 0 | BA55: ='01.1 - Nový objekt občers...'!F34 -> 0 | BB55: ='01.1 - Nový objekt občers...'!F35 -> 0 | BC55: ='01.1 - Nový objekt občers...'!F36 -> 0 | BD55: ='01.1 - Nový objekt občers...'!F37 -> 0 | BT55: 1 | BV55: IMPORT | BW55: {2875ed70-e10c-4260-983c-adae3bbc13b7} | BX55: {33a04697-ed80-4e44-ba4c-da142d1eb73b} | CM55: 2
A56: / | D56: 01.2 | J56: Nový objekt veřejn... | AG56: ='01.2 - Nový objekt veřejn...'!J30 -> 0 | AN56: =SUM(AG56,AT56) -> 0 | AQ56: STA | AS56: 0 | AT56: =ROUND(SUM(AV56:AW56),2) -> 0 | AU56: ='01.2 - Nový objekt veřejn...'!P84 -> 0 | AV56: ='01.2 - Nový objekt veřejn...'!J33 -> 0 | AW56: ='01.2 - Nový objekt veřejn...'!J34 -> 0 | AX56: ='01.2 - Nový objekt veřejn...'!J35 -> 0 | AY56: ='01.2 - Nový objekt veřejn...'!J36 -> 0 | AZ56: ='01.2 - Nový objekt veřejn...'!F33 -> 0 | BA56: ='01.2 - Nový objekt veřejn...'!F34 -> 0 | BB56: ='01.2 - Nový objekt veřejn...'!F35 -> 0 | BC56: ='01.2 - Nový objekt veřejn...'!F36 -> 0 | BD56: ='01.2 - Nový objekt veřejn...'!F37 -> 0 | BT56: 1 | BV56: IMPORT | BW56: {cea94d99-bd52-4f4b-80fd-ca78ffb702d1} | BX56: {33a04697-ed80-4e44-ba4c-da142d1eb73b} | CM56: 2
A57: / | D57: 01.3 | J57: Zpevněné plochy | AG57: ='01.3 - Zpevněné plochy'!J30 -> 0 | AN57: =SUM(AG57,AT57) -> 0 | AQ57: STA | AS57: 0 | AT57: =ROUND(SUM(AV57:AW57),2) -> 0 | AU57: ='01.3 - Zpevněné plochy'!P87 -> 0 | AV57: ='01.3 - Zpevněné plochy'!J33 -> 0 | AW57: ='01.3 - Zpevněné plochy'!J34 -> 0 | AX57: ='01.3 - Zpevněné plochy'!J35 -> 0 | AY57: ='01.3 - Zpevněné plochy'!J36 -> 0 | AZ57: ='01.3 - Zpevněné plochy'!F33 -> 0 | BA57: ='01.3 - Zpevněné plochy'!F34 -> 0 | BB57: ='01.3 - Zpevněné plochy'!F35 -> 0 | BC57: ='01.3 - Zpevněné plochy'!F36 -> 0 | BD57: ='01.3 - Zpevněné plochy'!F37 -> 0 | BT57: 1 | BV57: IMPORT | BW57: {ca35488c-7102-423f-a355-e6a37a8cade3} | BX57: {33a04697-ed80-4e44-ba4c-da142d1eb73b} | CM57: 2
A58: / | D58: 01.4 | J58: Bourací práce | AG58: ='01.4 - Bourací práce'!J30 -> 0 | AN58: =SUM(AG58,AT58) -> 0 | AQ58: STA | AS58: 0 | AT58: =ROUND(SUM(AV58:AW58),2) -> 0 | AU58: ='01.4 - Bourací práce'!P82 -> 0 | AV58: ='01.4 - Bourací práce'!J33 -> 0 | AW58: ='01.4 - Bourací práce'!J34 -> 0 | AX58: ='01.4 - Bourací práce'!J35 -> 0 | AY58: ='01.4 - Bourací práce'!J36 -> 0 | AZ58: ='01.4 - Bourací práce'!F33 -> 0 | BA58: ='01.4 - Bourací práce'!F34 -> 0 | BB58: ='01.4 - Bourací práce'!F35 -> 0 | BC58: ='01.4 - Bourací práce'!F36 -> 0 | BD58: ='01.4 - Bourací práce'!F37 -> 0 | BT58: 1 | BV58: IMPORT | BW58: {000937ea-3087-4293-ad6a-406afc656d58} | BX58: {33a04697-ed80-4e44-ba4c-da142d1eb73b} | CM58: 2
A59: / | D59: 02.1 | J59: Vegetační úpravy | AG59: ='02.1 - Vegetační úpravy'!J30 -> 0 | AN59: =SUM(AG59,AT59) -> 0 | AQ59: STA | AS59: 0 | AT59: =ROUND(SUM(AV59:AW59),2) -> 0 | AU59: ='02.1 - Vegetační úpravy'!P82 -> 0 | AV59: ='02.1 - Vegetační úpravy'!J33 -> 0 | AW59: ='02.1 - Vegetační úpravy'!J34 -> 0 | AX59: ='02.1 - Vegetační úpravy'!J35 -> 0 | AY59: ='02.1 - Vegetační úpravy'!J36 -> 0 | AZ59: ='02.1 - Vegetační úpravy'!F33 -> 0 | BA59: ='02.1 - Vegetační úpravy'!F34 -> 0 | BB59: ='02.1 - Vegetační úpravy'!F35 -> 0 | BC59: ='02.1 - Vegetační úpravy'!F36 -> 0 | BD59: ='02.1 - Vegetační úpravy'!F37 -> 0 | BT59: 1 | BV59: IMPORT | BW59: {c1087b5f-01c6-47cd-ae68-f4a7db53963f} | BX59: {33a04697-ed80-4e44-ba4c-da142d1eb73b} | CM59: 2
A60: / | D60: 02.2 | J60: Mobiliář | AG60: ='02.2 - Mobiliář'!J30 -> 0 | AN60: =SUM(AG60,AT60) -> 0 | AQ60: STA | AS60: 0 | AT60: =ROUND(SUM(AV60:AW60),2) -> 0 | AU60: ='02.2 - Mobiliář'!P81 -> 0 | AV60: ='02.2 - Mobiliář'!J33 -> 0 | AW60: ='02.2 - Mobiliář'!J34 -> 0 | AX60: ='02.2 - Mobiliář'!J35 -> 0 | AY60: ='02.2 - Mobiliář'!J36 -> 0 | AZ60: ='02.2 - Mobiliář'!F33 -> 0 | BA60: ='02.2 - Mobiliář'!F34 -> 0 | BB60: ='02.2 - Mobiliář'!F35 -> 0 | BC60: ='02.2 - Mobiliář'!F36 -> 0 | BD60: ='02.2 - Mobiliář'!F37 -> 0 | BT60: 1 | BV60: IMPORT | BW60: {57acb7aa-df37-4d9e-9cf1-30432c28b297} | BX60: {33a04697-ed80-4e44-ba4c-da142d1eb73b} | CM60: 2
A61: / | D61: 03 | J61: Zdravotně technické ... | AG61: ='03 - Zdravotně technické ...'!J30 -> 0 | AN61: =SUM(AG61,AT61) -> 0 | AQ61: STA | AS61: 0 | AT61: =ROUND(SUM(AV61:AW61),2) -> 0 | AU61: ='03 - Zdravotně technické ...'!P92 -> 0 | AV61: ='03 - Zdravotně technické ...'!J33 -> 0 | AW61: ='03 - Zdravotně technické ...'!J34 -> 0 | AX61: ='03 - Zdravotně technické ...'!J35 -> 0 | AY61: ='03 - Zdravotně technické ...'!J36 -> 0 | AZ61: ='03 - Zdravotně technické ...'!F33 -> 0 | BA61: ='03 - Zdravotně technické ...'!F34 -> 0 | BB61: ='03 - Zdravotně technické ...'!F35 -> 0 | BC61: ='03 - Zdravotně technické ...'!F36 -> 0 | BD61: ='03 - Zdravotně technické ...'!F37 -> 0 | BT61: 1 | BV61: IMPORT | BW61: {067a5742-fb48-4f5c-bf49-9883c0a9dd23} | BX61: {33a04697-ed80-4e44-ba4c-da142d1eb73b} | CM61: 2
A62: / | D62: 04 | J62: Elektroinstalace | AG62: ='04 - Elektroinstalace'!J30 -> 0 | AN62: =SUM(AG62,AT62) -> 0 | AQ62: STA | AS62: 0 | AT62: =ROUND(SUM(AV62:AW62),2) -> 0 | AU62: ='04 - Elektroinstalace'!P93 -> 0 | AV62: ='04 - Elektroinstalace'!J33 -> 0 | AW62: ='04 - Elektroinstalace'!J34 -> 0 | AX62: ='04 - Elektroinstalace'!J35 -> 0 | AY62: ='04 - Elektroinstalace'!J36 -> 0 | AZ62: ='04 - Elektroinstalace'!F33 -> 0 | BA62: ='04 - Elektroinstalace'!F34 -> 0 | BB62: ='04 - Elektroinstalace'!F35 -> 0 | BC62: ='04 - Elektroinstalace'!F36 -> 0 | BD62: ='04 - Elektroinstalace'!F37 -> 0 | BT62: 1 | BV62: IMPORT | BW62: {8dac4b36-7b64-4324-8636-795a38699567} | BX62: {33a04697-ed80-4e44-ba4c-da142d1eb73b} | CM62: 2
A63: / | D63: VON | J63: Vedlejší a ostatní ... | AG63: ='VON - Vedlejší a ostatní ...'!J30 -> 0 | AN63: =SUM(AG63,AT63) -> 0 | AQ63: STA | AS63: 0 | AT63: =ROUND(SUM(AV63:AW63),2) -> 0 | AU63: ='VON - Vedlejší a ostatní ...'!P85 -> 0 | AV63: ='VON - Vedlejší a ostatní ...'!J33 -> 0 | AW63: ='VON - Vedlejší a ostatní ...'!J34 -> 0 | AX63: ='VON - Vedlejší a ostatní ...'!J35 -> 0 | AY63: ='VON - Vedlejší a ostatní ...'!J36 -> 0 | AZ63: ='VON - Vedlejší a ostatní ...'!F33 -> 0 | BA63: ='VON - Vedlejší a ostatní ...'!F34 -> 0 | BB63: ='VON - Vedlejší a ostatní ...'!F35 -> 0 | BC63: ='VON - Vedlejší a ostatní ...'!F36 -> 0 | BD63: ='VON - Vedlejší a ostatní ...'!F37 -> 0 | BT63: 1 | BV63: IMPORT | BW63: {89711b90-3cdc-4ff6-8d9c-48c3e53e240f} | BX63: {33a04697-ed80-4e44-ba4c-da142d1eb73b} | CM63: 2

Sheet 01.1 - Nový objekt občers...
L2: >> skryté sloupce << | AT2: {2875ed70-e10c-4260-983c-adae3bbc13b7}
AT3: 2
D4: KRYCÍ LIST SOUPISU PRACÍ | M4: v --- níže se nacházejí doplnkové a pomocné údaje k sestavám --- v | AT4: False
D6: Stavba:
E7: ='Rekapitulace stavby'!K6 -> Revitalizace zázemí městské knihovny a předprostoru Lázeňského parku Poděbrady
D8: Objekt:
E9: 01.1 - Nový objekt občers...
D11: KSO: | I11: CC-CZ:
D12: Místo: | I12: Datum: | J12: ='Rekapitulace stavby'!AN8 -> 24. 6. 2026
D14: Zadavatel: | I14: IČ: | J14: =IF('Rekapitulace stavby'!AN10="","",'Rekapitulace stavby'!AN10)
E15: =IF('Rekapitulace stavby'!E11="","",'Rekapitulace stavby'!E11) -> Město Poděbrady | I15: DIČ: | J15: =IF('Rekapitulace stavby'!AN11="","",'Rekapitulace stavby'!AN11)
D17: Účastník: | I17: IČ: | J17: ='Rekapitulace stavby'!AN13 -> Vyplň údaj
E18: ='Rekapitulace stavby'!E14 -> Vyplň údaj | I18: DIČ: | J18: ='Rekapitulace stavby'!AN14 -> Vyplň údaj
D20: Projektant: | I20: IČ: | J20: =IF('Rekapitulace stavby'!AN16="","",'Rekapitulace stavby'!AN16)
E21: =IF('Rekapitulace stavby'!E17="","",'Rekapitulace stavby'!E17) | I21: DIČ: | J21: =IF('Rekapitulace stavby'!AN17="","",'Rekapitulace stavby'!AN17)
D23: Zpracovatel: | I23: IČ: | J23: =IF('Rekapitulace stavby'!AN19="","",'Rekapitulace stavby'!AN19)
E24: =IF('Rekapitulace stavby'!E20="","",'Rekapitulace stavby'!E20) | I24: DIČ: | J24: =IF('Rekapitulace stavby'!AN20="","",'Rekapitulace stavby'!AN20)
D26: Poznámka:
D30: Cena bez DPH | J30: =ROUND(J89, 2) -> 0
F32: Základ daně | I32: Sazba daně | J32: Výše daně
D33: DPH | E33: základní | F33: =ROUND((SUM(BE89:BE203)), 2) -> 0 | I33: 0.21 | J33: =ROUND(((SUM(BE89:BE203))*I33), 2) -> 0
E34: snížená | F34: =ROUND((SUM(BF89:BF203)), 2) -> 0 | I34: 0.12 | J34: =ROUND(((SUM(BF89:BF203))*I34), 2) -> 0
E35: zákl. přenesená | F35: =ROUND((SUM(BG89:BG203)), 2) -> 0 | I35: 0.21 | J35: =0 -> 0
E36: sníž. přenesená | F36: =ROUND((SUM(BH89:BH203)), 2) -> 0 | I36: 0.12 | J36: =0 -> 0
E37: nulová | F37: =ROUND((SUM(BI89:BI203)), 2) -> 0 | I37: 0 | J37: =0 -> 0
D39: Cena s DPH | G39: v | H39: CZK | J39: =SUM(J30:J37) -> 0
C45: REKAPITULACE ČLENĚNÍ SOUPISU PRACÍ
C47: Stavba:
E48: =E7 -> Revitalizace zázemí městské knihovny a předprostoru Lázeňského parku Poděbrady
C49: Objekt:
E50: =E9 -> 01.1 - Nový objekt občers...
C52: Místo: | F52: =F12 | I52: Datum: | J52: =IF(J12="","",J12) -> 24. 6. 2026
C54: Zadavatel: | F54: =E15 -> Město Poděbrady | I54: Projektant: | J54: =E21
C55: Účastník: | F55: =IF(E18="","",E18) -> Vyplň údaj | I55: Zpracovatel: | J55: =E24
C57: Kód dílu - Popis | J57: Cena celkem [CZK]
C59: Náklady stavby celkem | J59: =J89 -> 0 | AU59: -1
D60: HSV - Práce a dodávky HSV | J60: =J90 -> 0
D61: 1 - Zemní práce | J61: =J91 -> 0
D62: 2 - Zakládání | J62: =J119 -> 0
D63: 9 - Ostatní konstrukce a práce, bourání | J63: =J137 -> 0
D64: 998 - Přesun hmot | J64: =J147 -> 0
D65: PSV - Práce a dodávky PSV | J65: =J151 -> 0
D66: 762 - Konstrukce tesařské | J66: =J152 -> 0
D67: 764 - Konstrukce klempířské | J67: =J169 -> 0
D68: 766 - Konstrukce truhlářské | J68: =J183 -> 0
D69: 767 - Konstrukce zámečnické | J69: =J201 -> 0
C76: SOUPIS PRACÍ
C78: Stavba:
E79: =E7 -> Revitalizace zázemí městské knihovny a předprostoru Lázeňského parku Poděbrady
C80: Objekt:
E81: =E9 -> 01.1 - Nový objekt občers...
C83: Místo: | F83: =F12 | I83: Datum: | J83: =IF(J12="","",J12) -> 24. 6. 2026
C85: Zadavatel: | F85: =E15 -> Město Poděbrady | I85: Projektant: | J85: =E21
C86: Účastník: | F86: =IF(E18="","",E18) -> Vyplň údaj | I86: Zpracovatel: | J86: =E24
C88: PČ | D88: Typ | E88: Kód | F88: Popis | G88: MJ | H88: Množství | I88: J.cena [CZK] | J88: Cena celkem [CZK] | K88: Cenová soustava | N88: DPH | O88: J. Nh [h] | P88: Nh celkem [h] | Q88: J. hmotnost [t] | R88: Hmotnost celkem [t] | S88: J. suť [t] | T88: Suť Celkem [t]
C89: Náklady soupisu celkem | J89: =SUM(J90,J151) -> 0 | P89: =P90+P151 -> 0 | R89: =R90+R151 -> 2.3847519 | T89: =T90+T151 -> 0 | AT89: D | AU89: -1 | BK89: =BK90+BK151 -> 0
D90: D | E90: HSV | F90: Práce a dodávky HSV | J90: =SUM(J91,J119,J137,J147) -> 0 | P90: =P91+P119+P137+P147 -> 0 | R90: =R91+R119+R137+R147 -> 1.8285895 | T90: =T91+T119+T137+T147 -> 0 | AR90: 1 | AT90: D | AU90: 0 | AY90: ROZPOCET | BK90: =BK91+BK119+BK137+BK147 -> 0
D91: D | E91: 1 | F91: Zemní práce | J91: =BK91 -> 0 | P91: =SUM(P92:P118) -> 0 | R91: =SUM(R92:R118) -> 0 | T91: =SUM(T92:T118) -> 0 | AR91: 1 | AT91: D | AU91: 1 | AY91: ROZPOCET | BK91: =SUM(BK92:BK118) -> 0
C92: 1 | D92: K | E92: 133212811 | F92: Hloubení nezapažených šachet v hornině třídy těžitelnosti I skupiny 3 plocha výkopu do 4 m2 ručně | G92: m3 | H92: 0.648 | J92: =ROUND(I92*H92,2) -> 0 | K92: CS ÚRS 2026 01 | N92: základní | P92: =O92*H92 -> 0 | Q92: 0 | R92: =Q92*H92 -> 0 | S92: 0 | T92: =S92*H92 -> 0 | AR92: 4 | AT92: K | AU92: 2 | AY92: ROZPOCET | BE92: =IF(N92="základní",J92,0) -> 0 | BF92: =IF(N92="snížená",J92,0) -> 0 | BG92: =IF(N92="zákl. přenesená",J92,0) -> 0 | BH92: =IF(N92="sníž. přenesená",J92,0) -> 0 | BI92: =IF(N92="nulová",J92,0) -> 0 | BJ92: 1 | BK92: =ROUND(I92*H92,2) -> 0 | BL92: 4 | BM92: 2
D93: PP | F93: Hloubení nezapažených šachet ručně v horninách třídy těžitelnosti I skupiny 3, půdorysná plocha výkopu do 4 m2 | AT93: PP | AU93: 2
D94: Online PSC | F94: https://podminky.urs.cz/item/CS_URS_2026_01/133212811 | AT94: Online PSC | AU94: 2
D95: VV | F95: viz. výkres č. D.1.1.06 | AT95: VV | AU95: 2 | AV95: 1 | AW95: True | AX95: 0 | AY95: ROZPOCET
D96: VV | F96: Základové patky | AT96: VV | AU96: 2 | AV96: 1 | AW96: True | AX96: 0 | AY96: ROZPOCET
D97: VV | F97: 0,3*0,3*0,9*8 | H97: 0.648 | AT97: VV | AU97: 2 | AV97: 2 | AW97: True | AX97: 0 | AY97: ROZPOCET
D98: VV | F98: Součet | H98: 0.648 | AT98: VV | AU98: 2 | AV98: 4 | AW98: True | AX98: 1 | AY98: ROZPOCET
C99: 2 | D99: K | E99: 162751117 | F99: Vodorovné přemístění přes 9 000 do 10000 m výkopku/sypaniny z horniny třídy těžitelnosti I skupiny 1 až 3 | G99: m3 | H99: 0.648 | J99: =ROUND(I99*H99,2) -> 0 | K99: CS ÚRS 2026 01 | N99: základní | P99: =O99*H99 -> 0 | Q99: 0 | R99: =Q99*H99 -> 0 | S99: 0 | T99: =S99*H99 -> 0 | AR99: 4 | AT99: K | AU99: 2 | AY99: ROZPOCET | BE99: =IF(N99="základní",J99,0) -> 0 | BF99: =IF(N99="snížená",J99,0) -> 0 | BG99: =IF(N99="zákl. přenesená",J99,0) -> 0 | BH99: =IF(N99="sníž. přenesená",J99,0) -> 0 | BI99: =IF(N99="nulová",J99,0) -> 0 | BJ99: 1 | BK99: =ROUND(I99*H99,2) -> 0 | BL99: 4 | BM99: 4
D100: PP | F100: Vodorovné přemístění výkopku nebo sypaniny po suchu na obvyklém dopravním prostředku, bez naložení výkopku, avšak se složením bez rozhrnutí z horniny třídy těžitelnosti I skupiny 1 až 3 na vzdálenost přes 9 000 do 10 000 m | AT100: PP | AU100: 2
D101: Online PSC | F101: https://podminky.urs.cz/item/CS_URS_2026_01/162751117 | AT101: Online PSC | AU101: 2
D102: VV | F102: 0,648 "výpočet v pol.č. 133212011" | H102: 0.648 | AT102: VV | AU102: 2 | AV102: 2 | AW102: True | AX102: 0 | AY102: ROZPOCET
D103: VV | F103: Součet | H103: 0.648 | AT103: VV | AU103: 2 | AV103: 4 | AW103: True | AX103: 1 | AY103: ROZPOCET
C104: 3 | D104: K | E104: 162751119 | F104: Příplatek k vodorovnému přemístění výkopku/sypaniny z horniny třídy těžitelnosti I skupiny 1 až 3 ZKD 1000 m přes 10000 m | G104: m3 | H104: 1.296 | J104: =ROUND(I104*H104,2) -> 0 | K104: CS ÚRS 2026 01 | N104: základní | P104: =O104*H104 -> 0 | Q104: 0 | R104: =Q104*H104 -> 0 | S104: 0 | T104: =S104*H104 -> 0 | AR104: 4 | AT104: K | AU104: 2 | AY104: ROZPOCET | BE104: =IF(N104="základní",J104,0) -> 0 | BF104: =IF(N104="snížená",J104,0) -> 0 | BG104: =IF(N104="zákl. přenesená",J104,0) -> 0 | BH104: =IF(N104="sníž. přenesená",J104,0) -> 0 | BI104: =IF(N104="nulová",J104,0) -> 0 | BJ104: 1 | BK104: =ROUND(I104*H104,2) -> 0 | BL104: 4 | BM104: 6
D105: PP | F105: Vodorovné přemístění výkopku nebo sypaniny po suchu na obvyklém dopravním prostředku, bez naložení výkopku, avšak se složením bez rozhrnutí z horniny třídy těžitelnosti I skupiny 1 až 3 na vzdálenost Příplatek k ceně za každých dalších i započatých 1 000 m | AT105: PP | AU105: 2
D106: Online PSC | F106: https://podminky.urs.cz/item/CS_URS_2026_01/162751119 | AT106: Online PSC | AU106: 2
D107: VV | F107: 0,648*2 "předpoklad skládka do 12km" | H107: 1.296 | AT107: VV | AU107: 2 | AV107: 2 | AW107: True | AX107: 0 | AY107: ROZPOCET
D108: VV | F108: Součet | H108: 1.296 | AT108: VV | AU108: 2 | AV108: 4 | AW108: True | AX108: 1 | AY108: ROZPOCET
C109: 4 | D109: K | E109: 171201201 | F109: Uložení sypaniny na skládky nebo meziskládky | G109: m3 | H109: 0.648 | J109: =ROUND(I109*H109,2) -> 0 | K109: CS ÚRS 2026 01 | N109: základní | P109: =O109*H109 -> 0 | Q109: 0 | R109: =Q109*H109 -> 0 | S109: 0 | T109: =S109*H109 -> 0 | AR109: 4 | AT109: K | AU109: 2 | AY109: ROZPOCET | BE109: =IF(N109="základní",J109,0) -> 0 | BF109: =IF(N109="snížená",J109,0) -> 0 | BG109: =IF(N109="zákl. přenesená",J109,0) -> 0 | BH109: =IF(N109="sníž. přenesená",J109,0) -> 0 | BI109: =IF(N109="nulová",J109,0) -> 0 | BJ109: 1 | BK109: =ROUND(I109*H109,2) -> 0 | BL109: 4 | BM109: 8
D110: PP | F110: Uložení sypaniny na skládky nebo meziskládky bez hutnění s upravením uložené sypaniny do předepsaného tvaru | AT110: PP | AU110: 2
D111: Online PSC | F111: https://podminky.urs.cz/item/CS_URS_2026_01/171201201 | AT111: Online PSC | AU111: 2
D112: VV | F112: 0,648 "výpočet v pol.č. 133202011" | H112: 0.648 | AT112: VV | AU112: 2 | AV112: 2 | AW112: True | AX112: 0 | AY112: ROZPOCET
D113: VV | F113: Součet | H113: 0.648 | AT113: VV | AU113: 2 | AV113: 4 | AW113: True | AX113: 1 | AY113: ROZPOCET
C114: 5 | D114: K | E114: 171201231 | F114: Poplatek za předání recyklačnímu zařízení zeminy a kamení kód odpadu 17 05 04 | G114: t | H114: 1.166 | J114: =ROUND(I114*H114,2) -> 0 | K114: CS ÚRS 2026 01 | N114: základní | P114: =O114*H114 -> 0 | Q114: 0 | R114: =Q114*H114 -> 0 | S114: 0 | T114: =S114*H114 -> 0 | AR114: 4 | AT114: K | AU114: 2 | AY114: ROZPOCET | BE114: =IF(N114="základní",J114,0) -> 0 | BF114: =IF(N114="snížená",J114,0) -> 0 | BG114: =IF(N114="zákl. přenesená",J114,0) -> 0 | BH114: =IF(N114="sníž. přenesená",J114,0) -> 0 | BI114: =IF(N114="nulová",J114,0) -> 0 | BJ114: 1 | BK114: =ROUND(I114*H114,2) -> 0 | BL114: 4 | BM114: 10
D115: PP | F115: Poplatek za předání zeminy a kamení recyklačnímu zařízení zatříděné do Katalogu odpadů pod kódem 17 05 04 | AT115: PP | AU115: 2
D116: Online PSC | F116: https://podminky.urs.cz/item/CS_URS_2026_01/171201231 | AT116: Online PSC | AU116: 2
D117: VV | F117: 0,648*1,8 "Přepočtené koeficientem množství | H117: 1.166 | AT117: VV | AU117: 2 | AV117: 2 | AW117: True | AX117: 0 | AY117: ROZPOCET
D118: VV | F118: Součet | H118: 1.166 | AT118: VV | AU118: 2 | AV118: 4 | AW118: True | AX118: 1 | AY118: ROZPOCET
D119: D | E119: 2 | F119: Zakládání | J119: =BK119 -> 0 | P119: =SUM(P120:P136) -> 0 | R119: =SUM(R120:R136) -> 1.8164787 | T119: =SUM(T120:T136) -> 0 | AR119: 1 | AT119: D | AU119: 1 | AY119: ROZPOCET | BK119: =SUM(BK120:BK136) -> 0
C120: 6 | D120: K | E120: 275321511 | F120: Základové patky ze ŽB bez zvýšených nároků na prostředí tř. C 25/30 | G120: m3 | H120: 0.671 | J120: =ROUND(I120*H120,2) -> 0 | K120: CS ÚRS 2026 01 | N120: základní | P120: =O120*H120 -> 0 | Q120: 2.5018722 | R120: =Q120*H120 -> 1.6787562 | S120: 0 | T120: =S120*H120 -> 0 | AR120: 4 | AT120: K | AU120: 2 | AY120: ROZPOCET | BE120: =IF(N120="základní",J120,0) -> 0 | BF120: =IF(N120="snížená",J120,0) -> 0 | BG120: =IF(N120="zákl. přenesená",J120,0) -> 0 | BH120: =IF(N120="sníž. přenesená",J120,0) -> 0 | BI120: =IF(N120="nulová",J120,0) -> 0 | BJ120: 1 | BK120: =ROUND(I120*H120,2) -> 0 | BL120: 4 | BM120: 12
D121: PP | F121: Základy z betonu železového (bez výztuže) patky z betonu bez zvláštních nároků na prostředí tř. C 25/30 | AT121: PP | AU121: 2
D122: Online PSC | F122: https://podminky.urs.cz/item/CS_URS_2026_01/275321511 | AT122: Online PSC | AU122: 2
D123: VV | F123: viz. výkres č. D.1.1.06 | AT123: VV | AU123: 2 | AV123: 1 | AW123: True | AX123: 0 | AY123: ROZPOCET
D124: VV | F124: 0,3*0,3*0,9*8 | H124: 0.648 | AT124: VV | AU124: 2 | AV124: 2 | AW124: True | AX124: 0 | AY124: ROZPOCET
D125: VV | F125: Mezisoučet | H125: 0.648 | AT125: VV | AU125: 2 | AV125: 3 | AW125: True | AX125: 0 | AY125: ROZPOCET
D126: VV | F126: 0,648*0,035 "3,5% ztratné betonáž do výkopu | H126: 0.023 | AT126: VV | AU126: 2 | AV126: 2 | AW126: True | AX126: 0 | AY126: ROZPOCET
D127: VV | F127: Mezisoučet | H127: 0.023 | AT127: VV | AU127: 2 | AV127: 3 | AW127: True | AX127: 0 | AY127: ROZPOCET
D128: VV | F128: Součet | H128: 0.671 | AT128: VV | AU128: 2 | AV128: 4 | AW128: True | AX128: 1 | AY128: ROZPOCET
C129: 7 | D129: K | E129: 279361821 | F129: Výztuž základových zdí nosných betonářskou ocelí 10 505 | G129: t | H129: 0.13 | J129: =ROUND(I129*H129,2) -> 0 | K129: CS ÚRS 2026 01 | N129: základní | P129: =O129*H129 -> 0 | Q129: 1.0594031 | R129: =Q129*H129 -> 0.13772241 | S129: 0 | T129: =S129*H129 -> 0 | AR129: 4 | AT129: K | AU129: 2 | AY129: ROZPOCET | BE129: =IF(N129="základní",J129,0) -> 0 | BF129: =IF(N129="snížená",J129,0) -> 0 | BG129: =IF(N129="zákl. přenesená",J129,0) -> 0 | BH129: =IF(N129="sníž. přenesená",J129,0) -> 0 | BI129: =IF(N129="nulová",J129,0) -> 0 | BJ129: 1 | BK129: =ROUND(I129*H129,2) -> 0 | BL129: 4 | BM129: 14
D130: PP | F130: Výztuž základových zdí nosných svislých nebo odkloněných od svislice, rovinných nebo oblých, deskových nebo žebrových, včetně výztuže jejich žeber z betonářské oceli 10 505 (R) nebo BSt 500 | AT130: PP | AU130: 2
D131: Online PSC | F131: https://podminky.urs.cz/item/CS_URS_2026_01/279361821 | AT131: Online PSC | AU131: 2
D132: VV | F132: viz. výkres č. D.1.1.06 | AT132: VV | AU132: 2 | AV132: 1 | AW132: True | AX132: 0 | AY132: ROZPOCET
D133: VV | F133: 0,3*0,3*0,9*8 | H133: 0.648 | AT133: VV | AU133: 2 | AV133: 2 | AW133: True | AX133: 0 | AY133: ROZPOCET
...

Sheet 01.2 - Nový objekt veřejn...
L2: >> skryté sloupce << | AT2: {cea94d99-bd52-4f4b-80fd-ca78ffb702d1}
AT3: 2
D4: KRYCÍ LIST SOUPISU PRACÍ | M4: v --- níže se nacházejí doplnkové a pomocné údaje k sestavám --- v | AT4: False
D6: Stavba:
E7: ='Rekapitulace stavby'!K6 -> Revitalizace zázemí městské knihovny a předprostoru Lázeňského parku Poděbrady
D8: Objekt:
E9: 01.2 - Nový objekt veřejn...
D11: KSO: | I11: CC-CZ:
D12: Místo: | I12: Datum: | J12: ='Rekapitulace stavby'!AN8 -> 24. 6. 2026
D14: Zadavatel: | I14: IČ: | J14: =IF('Rekapitulace stavby'!AN10="","",'Rekapitulace stavby'!AN10)
E15: =IF('Rekapitulace stavby'!E11="","",'Rekapitulace stavby'!E11) -> Město Poděbrady | I15: DIČ: | J15: =IF('Rekapitulace stavby'!AN11="","",'Rekapitulace stavby'!AN11)
D17: Účastník: | I17: IČ: | J17: ='Rekapitulace stavby'!AN13 -> Vyplň údaj
E18: ='Rekapitulace stavby'!E14 -> Vyplň údaj | I18: DIČ: | J18: ='Rekapitulace stavby'!AN14 -> Vyplň údaj
D20: Projektant: | I20: IČ: | J20: =IF('Rekapitulace stavby'!AN16="","",'Rekapitulace stavby'!AN16)
E21: =IF('Rekapitulace stavby'!E17="","",'Rekapitulace stavby'!E17) | I21: DIČ: | J21: =IF('Rekapitulace stavby'!AN17="","",'Rekapitulace stavby'!AN17)
D23: Zpracovatel: | I23: IČ: | J23: =IF('Rekapitulace stavby'!AN19="","",'Rekapitulace stavby'!AN19)
E24: =IF('Rekapitulace stavby'!E20="","",'Rekapitulace stavby'!E20) | I24: DIČ: | J24: =IF('Rekapitulace stavby'!AN20="","",'Rekapitulace stavby'!AN20)
D26: Poznámka:
D30: Cena bez DPH | J30: =ROUND(J84, 2) -> 0
F32: Základ daně | I32: Sazba daně | J32: Výše daně
D33: DPH | E33: základní | F33: =ROUND((SUM(BE84:BE102)), 2) -> 0 | I33: 0.21 | J33: =ROUND(((SUM(BE84:BE102))*I33), 2) -> 0
E34: snížená | F34: =ROUND((SUM(BF84:BF102)), 2) -> 0 | I34: 0.12 | J34: =ROUND(((SUM(BF84:BF102))*I34), 2) -> 0
E35: zákl. přenesená | F35: =ROUND((SUM(BG84:BG102)), 2) -> 0 | I35: 0.21 | J35: =0 -> 0
E36: sníž. přenesená | F36: =ROUND((SUM(BH84:BH102)), 2) -> 0 | I36: 0.12 | J36: =0 -> 0
E37: nulová | F37: =ROUND((SUM(BI84:BI102)), 2) -> 0 | I37: 0 | J37: =0 -> 0
D39: Cena s DPH | G39: v | H39: CZK | J39: =SUM(J30:J37) -> 0
C45: REKAPITULACE ČLENĚNÍ SOUPISU PRACÍ
C47: Stavba:
E48: =E7 -> Revitalizace zázemí městské knihovny a předprostoru Lázeňského parku Poděbrady
C49: Objekt:
E50: =E9 -> 01.2 - Nový objekt veřejn...
C52: Místo: | F52: =F12 | I52: Datum: | J52: =IF(J12="","",J12) -> 24. 6. 2026
C54: Zadavatel: | F54: =E15 -> Město Poděbrady | I54: Projektant: | J54: =E21
C55: Účastník: | F55: =IF(E18="","",E18) -> Vyplň údaj | I55: Zpracovatel: | J55: =E24
C57: Kód dílu - Popis | J57: Cena celkem [CZK]
C59: Náklady stavby celkem | J59: =J84 -> 0 | AU59: -1
D60: HSV - Práce a dodávky HSV | J60: =J85 -> 0
D61: 9 - Ostatní konstrukce a práce, bourání | J61: =J86 -> 0
D62: PSV - Práce a dodávky PSV | J62: =J88 -> 0
D63: 766 - Konstrukce truhlářské | J63: =J89 -> 0
D64: 767 - Konstrukce zámečnické | J64: =J100 -> 0
C71: SOUPIS PRACÍ
C73: Stavba:
E74: =E7 -> Revitalizace zázemí městské knihovny a předprostoru Lázeňského parku Poděbrady
C75: Objekt:
E76: =E9 -> 01.2 - Nový objekt veřejn...
C78: Místo: | F78: =F12 | I78: Datum: | J78: =IF(J12="","",J12) -> 24. 6. 2026
C80: Zadavatel: | F80: =E15 -> Město Poděbrady | I80: Projektant: | J80: =E21
C81: Účastník: | F81: =IF(E18="","",E18) -> Vyplň údaj | I81: Zpracovatel: | J81: =E24
C83: PČ | D83: Typ | E83: Kód | F83: Popis | G83: MJ | H83: Množství | I83: J.cena [CZK] | J83: Cena celkem [CZK] | K83: Cenová soustava | N83: DPH | O83: J. Nh [h] | P83: Nh celkem [h] | Q83: J. hmotnost [t] | R83: Hmotnost celkem [t] | S83: J. suť [t] | T83: Suť Celkem [t]
C84: Náklady soupisu celkem | J84: =BK84 -> 0 | P84: =P85+P88 -> 0 | R84: =R85+R88 -> 0 | T84: =T85+T88 -> 0 | AT84: D | AU84: -1 | BK84: =BK85+BK88 -> 0
D85: D | E85: HSV | F85: Práce a dodávky HSV | J85: =BK85 -> 0 | P85: =P86 -> 0 | R85: =R86 -> 0 | T85: =T86 -> 0 | AR85: 1 | AT85: D | AU85: 0 | AY85: ROZPOCET | BK85: =BK86 -> 0
D86: D | E86: 9 | F86: Ostatní konstrukce a práce, bourání | J86: =BK86 -> 0 | P86: =SUM(P87) -> 0 | R86: =SUM(R87) -> 0 | T86: =SUM(T87) -> 0 | AR86: 1 | AT86: D | AU86: 1 | AY86: ROZPOCET | BK86: =SUM(BK87) -> 0
C87: 1 | D87: K | E87: 9R01.2.1 | F87: Dodávka a montáž modulárního kontejneru objektu veřejné toalety vč. bezkontaktní čtečky platebních karet, připojení k přípojným bodům v místě instalace WC, zprovoznění a dopravy | G87: kpl | H87: 1 | J87: =ROUND(I87*H87,2) -> 0 | N87: základní | P87: =O87*H87 -> 0 | Q87: 0 | R87: =Q87*H87 -> 0 | S87: 0 | T87: =S87*H87 -> 0 | AR87: 4 | AT87: K | AU87: 2 | AY87: ROZPOCET | BE87: =IF(N87="základní",J87,0) -> 0 | BF87: =IF(N87="snížená",J87,0) -> 0 | BG87: =IF(N87="zákl. přenesená",J87,0) -> 0 | BH87: =IF(N87="sníž. přenesená",J87,0) -> 0 | BI87: =IF(N87="nulová",J87,0) -> 0 | BJ87: 1 | BK87: =ROUND(I87*H87,2) -> 0 | BL87: 4 | BM87: 2
D88: D | E88: PSV | F88: Práce a dodávky PSV | J88: =BK88 -> 0 | P88: =P89+P100 -> 0 | R88: =R89+R100 -> 0 | T88: =T89+T100 -> 0 | AR88: 2 | AT88: D | AU88: 0 | AY88: ROZPOCET | BK88: =BK89+BK100 -> 0
D89: D | E89: 766 | F89: Konstrukce truhlářské | J89: =BK89 -> 0 | P89: =SUM(P90:P99) -> 0 | R89: =SUM(R90:R99) -> 0 | T89: =SUM(T90:T99) -> 0 | AR89: 2 | AT89: D | AU89: 1 | AY89: ROZPOCET | BK89: =SUM(BK90:BK99) -> 0
C90: 2 | D90: K | E90: 76641721R01.2.2 | F90: Montáž obložení stěn modřínovými profily vč. spojovacích a kotevních prvků | G90: m | H90: 163.2 | J90: =ROUND(I90*H90,2) -> 0 | N90: základní | P90: =O90*H90 -> 0 | Q90: 0 | R90: =Q90*H90 -> 0 | S90: 0 | T90: =S90*H90 -> 0 | AR90: 16 | AT90: K | AU90: 2 | AY90: ROZPOCET | BE90: =IF(N90="základní",J90,0) -> 0 | BF90: =IF(N90="snížená",J90,0) -> 0 | BG90: =IF(N90="zákl. přenesená",J90,0) -> 0 | BH90: =IF(N90="sníž. přenesená",J90,0) -> 0 | BI90: =IF(N90="nulová",J90,0) -> 0 | BJ90: 1 | BK90: =ROUND(I90*H90,2) -> 0 | BL90: 16 | BM90: 4
D91: PP | F91: Montáž obložení stěn modřínovými profily vč. spojovacích a kotevních prvků | AT91: PP | AU91: 2
D92: VV | F92: viz. výkres č. D.1.1.12 | AT92: VV | AU92: 2 | AV92: 1 | AW92: True | AX92: 0 | AY92: ROZPOCET
D93: VV | F93: 2,55*64 | H93: 163.2 | AT93: VV | AU93: 2 | AV93: 2 | AW93: True | AX93: 0 | AY93: ROZPOCET
D94: VV | F94: Součet | H94: 163.2 | AT94: VV | AU94: 2 | AV94: 4 | AW94: True | AX94: 1 | AY94: ROZPOCET
C95: 3 | D95: M | E95: 605PC01.2.1 | F95: dodávka fasádních hranolů modřínových vč. nátěru a prořezu | G95: m | H95: 163.2 | J95: =ROUND(I95*H95,2) -> 0 | N95: základní | P95: =O95*H95 -> 0 | Q95: 0 | R95: =Q95*H95 -> 0 | S95: 0 | T95: =S95*H95 -> 0 | AR95: 32 | AT95: M | AU95: 2 | AY95: ROZPOCET | BE95: =IF(N95="základní",J95,0) -> 0 | BF95: =IF(N95="snížená",J95,0) -> 0 | BG95: =IF(N95="zákl. přenesená",J95,0) -> 0 | BH95: =IF(N95="sníž. přenesená",J95,0) -> 0 | BI95: =IF(N95="nulová",J95,0) -> 0 | BJ95: 1 | BK95: =ROUND(I95*H95,2) -> 0 | BL95: 16 | BM95: 6
D96: PP | F96: dodávka fasádních hranolů modřínových vč. nátěru a prořezu | AT96: PP | AU96: 2
C97: 4 | D97: K | E97: 998766102 | F97: Přesun hmot tonážní pro kce truhlářské v objektech v přes 6 do 12 m | G97: t | H97: 1.699 | J97: =ROUND(I97*H97,2) -> 0 | K97: CS ÚRS 2026 01 | N97: základní | P97: =O97*H97 -> 0 | Q97: 0 | R97: =Q97*H97 -> 0 | S97: 0 | T97: =S97*H97 -> 0 | AR97: 16 | AT97: K | AU97: 2 | AY97: ROZPOCET | BE97: =IF(N97="základní",J97,0) -> 0 | BF97: =IF(N97="snížená",J97,0) -> 0 | BG97: =IF(N97="zákl. přenesená",J97,0) -> 0 | BH97: =IF(N97="sníž. přenesená",J97,0) -> 0 | BI97: =IF(N97="nulová",J97,0) -> 0 | BJ97: 1 | BK97: =ROUND(I97*H97,2) -> 0 | BL97: 16 | BM97: 8
D98: PP | F98: Přesun hmot pro konstrukce truhlářské stanovený z hmotnosti přesunovaného materiálu vodorovná dopravní vzdálenost do 50 m základní v objektech výšky přes 6 do 12 m | AT98: PP | AU98: 2
D99: Online PSC | F99: https://podminky.urs.cz/item/CS_URS_2026_01/998766102 | AT99: Online PSC | AU99: 2
D100: D | E100: 767 | F100: Konstrukce zámečnické | J100: =BK100 -> 0 | P100: =SUM(P101:P102) -> 0 | R100: =SUM(R101:R102) -> 0 | T100: =SUM(T101:T102) -> 0 | AR100: 2 | AT100: D | AU100: 1 | AY100: ROZPOCET | BK100: =SUM(BK101:BK102) -> 0
C101: 5 | D101: K | E101: 767995R01.2.3 | F101: Výroba, dodávka a montáž pomocné ocelové konstrukce dřevěného obložení vč. povrchové úpravy, spojovacích a kotevních prvků, montážních prostředků a výrobní dokumentace | G101: kpl | H101: 1 | J101: =ROUND(I101*H101,2) -> 0 | N101: základní | P101: =O101*H101 -> 0 | Q101: 0 | R101: =Q101*H101 -> 0 | S101: 0 | T101: =S101*H101 -> 0 | AR101: 16 | AT101: K | AU101: 2 | AY101: ROZPOCET | BE101: =IF(N101="základní",J101,0) -> 0 | BF101: =IF(N101="snížená",J101,0) -> 0 | BG101: =IF(N101="zákl. přenesená",J101,0) -> 0 | BH101: =IF(N101="sníž. přenesená",J101,0) -> 0 | BI101: =IF(N101="nulová",J101,0) -> 0 | BJ101: 1 | BK101: =ROUND(I101*H101,2) -> 0 | BL101: 16 | BM101: 10
D102: PP | F102: Výroba, dodávka a montáž pomocné ocelové konstrukce dřevěného obložení vč. povrchové úpravy, spojovacích a kotevních prvků, montážních prostředků a výrobní dokumentace | AT102: PP | AU102: 2

Sheet 01.3 - Zpevněné plochy
L2: >> skryté sloupce << | AT2: {ca35488c-7102-423f-a355-e6a37a8cade3}
AT3: 2
D4: KRYCÍ LIST SOUPISU PRACÍ | M4: v --- níže se nacházejí doplnkové a pomocné údaje k sestavám --- v | AT4: False
D6: Stavba:
E7: ='Rekapitulace stavby'!K6 -> Revitalizace zázemí městské knihovny a předprostoru Lázeňského parku Poděbrady
D8: Objekt:
E9: 01.3 - Zpevněné plochy
D11: KSO: | I11: CC-CZ:
D12: Místo: | I12: Datum: | J12: ='Rekapitulace stavby'!AN8 -> 24. 6. 2026
D14: Zadavatel: | I14: IČ: | J14: =IF('Rekapitulace stavby'!AN10="","",'Rekapitulace stavby'!AN10)
E15: =IF('Rekapitulace stavby'!E11="","",'Rekapitulace stavby'!E11) -> Město Poděbrady | I15: DIČ: | J15: =IF('Rekapitulace stavby'!AN11="","",'Rekapitulace stavby'!AN11)
D17: Účastník: | I17: IČ: | J17: ='Rekapitulace stavby'!AN13 -> Vyplň údaj
E18: ='Rekapitulace stavby'!E14 -> Vyplň údaj | I18: DIČ: | J18: ='Rekapitulace stavby'!AN14 -> Vyplň údaj
D20: Projektant: | I20: IČ: | J20: =IF('Rekapitulace stavby'!AN16="","",'Rekapitulace stavby'!AN16)
E21: =IF('Rekapitulace stavby'!E17="","",'Rekapitulace stavby'!E17) | I21: DIČ: | J21: =IF('Rekapitulace stavby'!AN17="","",'Rekapitulace stavby'!AN17)
D23: Zpracovatel: | I23: IČ: | J23: =IF('Rekapitulace stavby'!AN19="","",'Rekapitulace stavby'!AN19)
E24: =IF('Rekapitulace stavby'!E20="","",'Rekapitulace stavby'!E20) | I24: DIČ: | J24: =IF('Rekapitulace stavby'!AN20="","",'Rekapitulace stavby'!AN20)
D26: Poznámka:
D30: Cena bez DPH | J30: =ROUND(J87, 2) -> 0
F32: Základ daně | I32: Sazba daně | J32: Výše daně
D33: DPH | E33: základní | F33: =ROUND((SUM(BE87:BE205)), 2) -> 0 | I33: 0.21 | J33: =ROUND(((SUM(BE87:BE205))*I33), 2) -> 0
E34: snížená | F34: =ROUND((SUM(BF87:BF205)), 2) -> 0 | I34: 0.12 | J34: =ROUND(((SUM(BF87:BF205))*I34), 2) -> 0
E35: zákl. přenesená | F35: =ROUND((SUM(BG87:BG205)), 2) -> 0 | I35: 0.21 | J35: =0 -> 0
E36: sníž. přenesená | F36: =ROUND((SUM(BH87:BH205)), 2) -> 0 | I36: 0.12 | J36: =0 -> 0
E37: nulová | F37: =ROUND((SUM(BI87:BI205)), 2) -> 0 | I37: 0 | J37: =0 -> 0
D39: Cena s DPH | G39: v | H39: CZK | J39: =SUM(J30:J37) -> 0
C45: REKAPITULACE ČLENĚNÍ SOUPISU PRACÍ
C47: Stavba:
E48: =E7 -> Revitalizace zázemí městské knihovny a předprostoru Lázeňského parku Poděbrady
C49: Objekt:
E50: =E9 -> 01.3 - Zpevněné plochy
C52: Místo: | F52: =F12 | I52: Datum: | J52: =IF(J12="","",J12) -> 24. 6. 2026
C54: Zadavatel: | F54: =E15 -> Město Poděbrady | I54: Projektant: | J54: =E21
C55: Účastník: | F55: =IF(E18="","",E18) -> Vyplň údaj | I55: Zpracovatel: | J55: =E24
C57: Kód dílu - Popis | J57: Cena celkem [CZK]
C59: Náklady stavby celkem | J59: =J87 -> 0 | AU59: -1
D60: HSV - Práce a dodávky HSV | J60: =J88 -> 0
D61: 1 - Zemní práce | J61: =J89 -> 0
D62: 5 - Komunikace pozemní | J62: =J143 -> 0
D63: 5.1 - Dlažba ze žulových odseků | J63: =J144 -> 0
D64: 5.2 - Kamenná mozaika | J64: =J159 -> 0
D65: 5.3 - Zámková dlažba | J65: =J179 -> 0
D66: 9 - Ostatní konstrukce a práce, bourání | J66: =J196 -> 0
D67: 998 - Přesun hmot | J67: =J202 -> 0
C74: SOUPIS PRACÍ
C76: Stavba:
E77: =E7 -> Revitalizace zázemí městské knihovny a předprostoru Lázeňského parku Poděbrady
C78: Objekt:
E79: =E9 -> 01.3 - Zpevněné plochy
C81: Místo: | F81: =F12 | I81: Datum: | J81: =IF(J12="","",J12) -> 24. 6. 2026
C83: Zadavatel: | F83: =E15 -> Město Poděbrady | I83: Projektant: | J83: =E21
C84: Účastník: | F84: =IF(E18="","",E18) -> Vyplň údaj | I84: Zpracovatel: | J84: =E24
C86: PČ | D86: Typ | E86: Kód | F86: Popis | G86: MJ | H86: Množství | I86: J.cena [CZK] | J86: Cena celkem [CZK] | K86: Cenová soustava | N86: DPH | O86: J. Nh [h] | P86: Nh celkem [h] | Q86: J. hmotnost [t] | R86: Hmotnost celkem [t] | S86: J. suť [t] | T86: Suť Celkem [t]
C87: Náklady soupisu celkem | J87: =BK87 -> 0 | P87: =P88 -> 0 | R87: =R88 -> 283.21999 | T87: =T88 -> 0 | AT87: D | AU87: -1 | BK87: =BK88 -> 0
D88: D | E88: HSV | F88: Práce a dodávky HSV | J88: =BK88 -> 0 | P88: =P89+P143+P144+P159+P179+P196+P202 -> 0 | R88: =R89+R143+R144+R159+R179+R196+R202 -> 283.21999 | T88: =T89+T143+T144+T159+T179+T196+T202 -> 0 | AR88: 1 | AT88: D | AU88: 0 | AY88: ROZPOCET | BK88: =BK89+BK143+BK144+BK159+BK179+BK196+BK202 -> 0
D89: D | E89: 1 | F89: Zemní práce | J89: =BK89 -> 0 | P89: =SUM(P90:P142) -> 0 | R89: =SUM(R90:R142) -> 0 | T89: =SUM(T90:T142) -> 0 | AR89: 1 | AT89: D | AU89: 1 | AY89: ROZPOCET | BK89: =SUM(BK90:BK142) -> 0
C90: 1 | D90: K | E90: 121151113 | F90: Sejmutí ornice plochy do 500 m2 tl vrstvy do 200 mm strojně | G90: m2 | H90: 195.77 | J90: =ROUND(I90*H90,2) -> 0 | K90: CS ÚRS 2026 01 | N90: základní | P90: =O90*H90 -> 0 | Q90: 0 | R90: =Q90*H90 -> 0 | S90: 0 | T90: =S90*H90 -> 0 | AR90: 4 | AT90: K | AU90: 2 | AY90: ROZPOCET | BE90: =IF(N90="základní",J90,0) -> 0 | BF90: =IF(N90="snížená",J90,0) -> 0 | BG90: =IF(N90="zákl. přenesená",J90,0) -> 0 | BH90: =IF(N90="sníž. přenesená",J90,0) -> 0 | BI90: =IF(N90="nulová",J90,0) -> 0 | BJ90: 1 | BK90: =ROUND(I90*H90,2) -> 0 | BL90: 4 | BM90: 2
D91: PP | F91: Sejmutí ornice strojně při souvislé ploše přes 100 do 500 m2, tl. vrstvy do 200 mm | AT91: PP | AU91: 2
D92: Online PSC | F92: https://podminky.urs.cz/item/CS_URS_2026_01/121151113 | AT92: Online PSC | AU92: 2
D93: VV | F93: viz. výkres č. D.1.1.03 a D.1.1.05 | AT93: VV | AU93: 2 | AV93: 1 | AW93: True | AX93: 0 | AY93: ROZPOCET
D94: VV | F94: Nově navržené zpevněné plochy | AT94: VV | AU94: 2 | AV94: 1 | AW94: True | AX94: 0 | AY94: ROZPOCET
D95: VV | F95: 351,73 "žulové odseky | H95: 351.73 | AT95: VV | AU95: 2 | AV95: 2 | AW95: True | AX95: 0 | AY95: ROZPOCET
D96: VV | F96: 107,61 "kamenná mozaika | H96: 107.61 | AT96: VV | AU96: 2 | AV96: 2 | AW96: True | AX96: 0 | AY96: ROZPOCET
D97: VV | F97: 56,43 "zámková dlažba | H97: 56.43 | AT97: VV | AU97: 2 | AV97: 2 | AW97: True | AX97: 0 | AY97: ROZPOCET
D98: VV | F98: Mezisoučet | H98: 515.77 | AT98: VV | AU98: 2 | AV98: 3 | AW98: True | AX98: 0 | AY98: ROZPOCET
D99: VV | F99: Bourané stávající zpevněné plochy | AT99: VV | AU99: 2 | AV99: 1 | AW99: True | AX99: 0 | AY99: ROZPOCET
D100: VV | F100: -320,0 | H100: -320 | AT100: VV | AU100: 2 | AV100: 2 | AW100: True | AX100: 0 | AY100: ROZPOCET
D101: VV | F101: Mezisoučet | H101: -320 | AT101: VV | AU101: 2 | AV101: 3 | AW101: True | AX101: 0 | AY101: ROZPOCET
D102: VV | F102: Součet | H102: 195.77 | AT102: VV | AU102: 2 | AV102: 4 | AW102: True | AX102: 1 | AY102: ROZPOCET
C103: 2 | D103: K | E103: 122251104 | F103: Odkopávky a prokopávky nezapažené v hornině třídy těžitelnosti I skupiny 3 objem do 500 m3 strojně | G103: m3 | H103: 174.417 | J103: =ROUND(I103*H103,2) -> 0 | K103: CS ÚRS 2026 01 | N103: základní | P103: =O103*H103 -> 0 | Q103: 0 | R103: =Q103*H103 -> 0 | S103: 0 | T103: =S103*H103 -> 0 | AR103: 4 | AT103: K | AU103: 2 | AY103: ROZPOCET | BE103: =IF(N103="základní",J103,0) -> 0 | BF103: =IF(N103="snížená",J103,0) -> 0 | BG103: =IF(N103="zákl. přenesená",J103,0) -> 0 | BH103: =IF(N103="sníž. přenesená",J103,0) -> 0 | BI103: =IF(N103="nulová",J103,0) -> 0 | BJ103: 1 | BK103: =ROUND(I103*H103,2) -> 0 | BL103: 4 | BM103: 4
D104: PP | F104: Odkopávky a prokopávky nezapažené strojně v hornině třídy těžitelnosti I skupiny 3 přes 100 do 500 m3 | AT104: PP | AU104: 2
D105: Online PSC | F105: https://podminky.urs.cz/item/CS_URS_2026_01/122251104 | AT105: Online PSC | AU105: 2
D106: VV | F106: viz. výkres č. D.1.1.03 a D.1.1.05 | AT106: VV | AU106: 2 | AV106: 1 | AW106: True | AX106: 0 | AY106: ROZPOCET
D107: VV | F107: 351,73*0,35 "žulové odseky | H107: 123.106 | AT107: VV | AU107: 2 | AV107: 2 | AW107: True | AX107: 0 | AY107: ROZPOCET
D108: VV | F108: 107,61*0,33 "kamenná mozaika | H108: 35.511 | AT108: VV | AU108: 2 | AV108: 2 | AW108: True | AX108: 0 | AY108: ROZPOCET
D109: VV | F109: 56,43*0,28 "zámková dlažba | H109: 15.8 | AT109: VV | AU109: 2 | AV109: 2 | AW109: True | AX109: 0 | AY109: ROZPOCET
D110: VV | F110: Součet | H110: 174.417 | AT110: VV | AU110: 2 | AV110: 4 | AW110: True | AX110: 1 | AY110: ROZPOCET
C111: 3 | D111: K | E111: 162751117 | F111: Vodorovné přemístění přes 9 000 do 10000 m výkopku/sypaniny z horniny třídy těžitelnosti I skupiny 1 až 3 | G111: m3 | H111: 174.417 | J111: =ROUND(I111*H111,2) -> 0 | K111: CS ÚRS 2026 01 | N111: základní | P111: =O111*H111 -> 0 | Q111: 0 | R111: =Q111*H111 -> 0 | S111: 0 | T111: =S111*H111 -> 0 | AR111: 4 | AT111: K | AU111: 2 | AY111: ROZPOCET | BE111: =IF(N111="základní",J111,0) -> 0 | BF111: =IF(N111="snížená",J111,0) -> 0 | BG111: =IF(N111="zákl. přenesená",J111,0) -> 0 | BH111: =IF(N111="sníž. přenesená",J111,0) -> 0 | BI111: =IF(N111="nulová",J111,0) -> 0 | BJ111: 1 | BK111: =ROUND(I111*H111,2) -> 0 | BL111: 4 | BM111: 6
D112: PP | F112: Vodorovné přemístění výkopku nebo sypaniny po suchu na obvyklém dopravním prostředku, bez naložení výkopku, avšak se složením bez rozhrnutí z horniny třídy těžitelnosti I skupiny 1 až 3 na vzdálenost přes 9 000 do 10 000 m | AT112: PP | AU112: 2
D113: Online PSC | F113: https://podminky.urs.cz/item/CS_URS_2026_01/162751117 | AT113: Online PSC | AU113: 2
D114: VV | F114: 174,417 "výpočet v pol.č. 122251104" | H114: 174.417 | AT114: VV | AU114: 2 | AV114: 2 | AW114: True | AX114: 0 | AY114: ROZPOCET
D115: VV | F115: Součet | H115: 174.417 | AT115: VV | AU115: 2 | AV115: 4 | AW115: True | AX115: 1 | AY115: ROZPOCET
C116: 4 | D116: K | E116: 162751119 | F116: Příplatek k vodorovnému přemístění výkopku/sypaniny z horniny třídy těžitelnosti I skupiny 1 až 3 ZKD 1000 m přes 10000 m | G116: m3 | H116: 348.834 | J116: =ROUND(I116*H116,2) -> 0 | K116: CS ÚRS 2026 01 | N116: základní | P116: =O116*H116 -> 0 | Q116: 0 | R116: =Q116*H116 -> 0 | S116: 0 | T116: =S116*H116 -> 0 | AR116: 4 | AT116: K | AU116: 2 | AY116: ROZPOCET | BE116: =IF(N116="základní",J116,0) -> 0 | BF116: =IF(N116="snížená",J116,0) -> 0 | BG116: =IF(N116="zákl. přenesená",J116,0) -> 0 | BH116: =IF(N116="sníž. přenesená",J116,0) -> 0 | BI116: =IF(N116="nulová",J116,0) -> 0 | BJ116: 1 | BK116: =ROUND(I116*H116,2) -> 0 | BL116: 4 | BM116: 8
D117: PP | F117: Vodorovné přemístění výkopku nebo sypaniny po suchu na obvyklém dopravním prostředku, bez naložení výkopku, avšak se složením bez rozhrnutí z horniny třídy těžitelnosti I skupiny 1 až 3 na vzdálenost Příplatek k ceně za každých dalších i započatých 1 000 m | AT117: PP | AU117: 2
D118: Online PSC | F118: https://podminky.urs.cz/item/CS_URS_2026_01/162751119 | AT118: Online PSC | AU118: 2
D119: VV | F119: 174,417*2 "předpoklad skládka do 12km" | H119: 348.834 | AT119: VV | AU119: 2 | AV119: 2 | AW119: True | AX119: 0 | AY119: ROZPOCET
D120: VV | F120: Součet | H120: 348.834 | AT120: VV | AU120: 2 | AV120: 4 | AW120: True | AX120: 1 | AY120: ROZPOCET
C121: 5 | D121: K | E121: 171201201 | F121: Uložení sypaniny na skládky nebo meziskládky | G121: m3 | H121: 174.417 | J121: =ROUND(I121*H121,2) -> 0 | K121: CS ÚRS 2026 01 | N121: základní | P121: =O121*H121 -> 0 | Q121: 0 | R121: =Q121*H121 -> 0 | S121: 0 | T121: =S121*H121 -> 0 | AR121: 4 | AT121: K | AU121: 2 | AY121: ROZPOCET | BE121: =IF(N121="základní",J121,0) -> 0 | BF121: =IF(N121="snížená",J121,0) -> 0 | BG121: =IF(N121="zákl. přenesená",J121,0) -> 0 | BH121: =IF(N121="sníž. přenesená",J121,0) -> 0 | BI121: =IF(N121="nulová",J121,0) -> 0 | BJ121: 1 | BK121: =ROUND(I121*H121,2) -> 0 | BL121: 4 | BM121: 10
D122: PP | F122: Uložení sypaniny na skládky nebo meziskládky bez hutnění s upravením uložené sypaniny do předepsaného tvaru | AT122: PP | AU122: 2
D123: Online PSC | F123: https://podminky.urs.cz/item/CS_URS_2026_01/171201201 | AT123: Online PSC | AU123: 2
D124: VV | F124: 174,417 "výpočet v pol.č. 122201102" | H124: 174.417 | AT124: VV | AU124: 2 | AV124: 2 | AW124: True | AX124: 0 | AY124: ROZPOCET
D125: VV | F125: Součet | H125: 174.417 | AT125: VV | AU125: 2 | AV125: 4 | AW125: True | AX125: 1 | AY125: ROZPOCET
C126: 6 | D126: K | E126: 171201231 | F126: Poplatek za předání recyklačnímu zařízení zeminy a kamení kód odpadu 17 05 04 | G126: t | H126: 313.951 | J126: =ROUND(I126*H126,2) -> 0 | K126: CS ÚRS 2026 01 | N126: základní | P126: =O126*H126 -> 0 | Q126: 0 | R126: =Q126*H126 -> 0 | S126: 0 | T126: =S126*H126 -> 0 | AR126: 4 | AT126: K | AU126: 2 | AY126: ROZPOCET | BE126: =IF(N126="základní",J126,0) -> 0 | BF126: =IF(N126="snížená",J126,0) -> 0 | BG126: =IF(N126="zákl. přenesená",J126,0) -> 0 | BH126: =IF(N126="sníž. přenesená",J126,0) -> 0 | BI126: =IF(N126="nulová",J126,0) -> 0 | BJ126: 1 | BK126: =ROUND(I126*H126,2) -> 0 | BL126: 4 | BM126: 12
D127: PP | F127: Poplatek za předání zeminy a kamení recyklačnímu zařízení zatříděné do Katalogu odpadů pod kódem 17 05 04 | AT127: PP | AU127: 2
D128: Online PSC | F128: https://podminky.urs.cz/item/CS_URS_2026_01/171201231 | AT128: Online PSC | AU128: 2
D129: VV | F129: 174,417*1,8 "Přepočtené koeficientem množství | H129: 313.951 | AT129: VV | AU129: 2 | AV129: 2 | AW129: True | AX129: 0 | AY129: ROZPOCET
D130: VV | F130: Součet | H130: 313.951 | AT130: VV | AU130: 2 | AV130: 4 | AW130: True | AX130: 1 | AY130: ROZPOCET
C131: 7 | D131: K | E131: 181351103 | F131: Rozprostření ornice tl vrstvy do 200 mm pl přes 100 do 500 m2 v rovině nebo ve svahu do 1:5 strojně | G131: m2 | H131: 195.77 | J131: =ROUND(I131*H131,2) -> 0 | K131: CS ÚRS 2026 01 | N131: základní | P131: =O131*H131 -> 0 | Q131: 0 | R131: =Q131*H131 -> 0 | S131: 0 | T131: =S131*H131 -> 0 | AR131: 4 | AT131: K | AU131: 2 | AY131: ROZPOCET | BE131: =IF(N131="základní",J131,0) -> 0 | BF131: =IF(N131="snížená",J131,0) -> 0 | BG131: =IF(N131="zákl. přenesená",J131,0) -> 0 | BH131: =IF(N131="sníž. přenesená",J131,0) -> 0 | BI131: =IF(N131="nulová",J131,0) -> 0 | BJ131: 1 | BK131: =ROUND(I131*H131,2) -> 0 | BL131: 4 | BM131: 14
D132: PP | F132: Rozprostření a urovnání ornice v rovině nebo ve svahu sklonu do 1:5 strojně při souvislé ploše přes 100 do 500 m2, tl. vrstvy do 200 mm | AT132: PP | AU132: 2
D133: Online PSC | F133: https://podminky.urs.cz/item/CS_URS_2026_01/181351103 | AT133: Online PSC | AU133: 2
...

Sheet 01.4 - Bourací práce
L2: >> skryté sloupce << | AT2: {000937ea-3087-4293-ad6a-406afc656d58}
AT3: 2
D4: KRYCÍ LIST SOUPISU PRACÍ | M4: v --- níže se nacházejí doplnkové a pomocné údaje k sestavám --- v | AT4: False
D6: Stavba:
E7: ='Rekapitulace stavby'!K6 -> Revitalizace zázemí městské knihovny a předprostoru Lázeňského parku Poděbrady
D8: Objekt:
E9: 01.4 - Bourací práce
D11: KSO: | I11: CC-CZ:
D12: Místo: | I12: Datum: | J12: ='Rekapitulace stavby'!AN8 -> 24. 6. 2026
D14: Zadavatel: | I14: IČ: | J14: =IF('Rekapitulace stavby'!AN10="","",'Rekapitulace stavby'!AN10)
E15: =IF('Rekapitulace stavby'!E11="","",'Rekapitulace stavby'!E11) -> Město Poděbrady | I15: DIČ: | J15: =IF('Rekapitulace stavby'!AN11="","",'Rekapitulace stavby'!AN11)
D17: Účastník: | I17: IČ: | J17: ='Rekapitulace stavby'!AN13 -> Vyplň údaj
E18: ='Rekapitulace stavby'!E14 -> Vyplň údaj | I18: DIČ: | J18: ='Rekapitulace stavby'!AN14 -> Vyplň údaj
D20: Projektant: | I20: IČ: | J20: =IF('Rekapitulace stavby'!AN16="","",'Rekapitulace stavby'!AN16)
E21: =IF('Rekapitulace stavby'!E17="","",'Rekapitulace stavby'!E17) | I21: DIČ: | J21: =IF('Rekapitulace stavby'!AN17="","",'Rekapitulace stavby'!AN17)
D23: Zpracovatel: | I23: IČ: | J23: =IF('Rekapitulace stavby'!AN19="","",'Rekapitulace stavby'!AN19)
E24: =IF('Rekapitulace stavby'!E20="","",'Rekapitulace stavby'!E20) | I24: DIČ: | J24: =IF('Rekapitulace stavby'!AN20="","",'Rekapitulace stavby'!AN20)
D26: Poznámka:
D30: Cena bez DPH | J30: =ROUND(J82, 2) -> 0
F32: Základ daně | I32: Sazba daně | J32: Výše daně
D33: DPH | E33: základní | F33: =ROUND((SUM(BE82:BE160)), 2) -> 0 | I33: 0.21 | J33: =ROUND(((SUM(BE82:BE160))*I33), 2) -> 0
E34: snížená | F34: =ROUND((SUM(BF82:BF160)), 2) -> 0 | I34: 0.12 | J34: =ROUND(((SUM(BF82:BF160))*I34), 2) -> 0
E35: zákl. přenesená | F35: =ROUND((SUM(BG82:BG160)), 2) -> 0 | I35: 0.21 | J35: =0 -> 0
E36: sníž. přenesená | F36: =ROUND((SUM(BH82:BH160)), 2) -> 0 | I36: 0.12 | J36: =0 -> 0
E37: nulová | F37: =ROUND((SUM(BI82:BI160)), 2) -> 0 | I37: 0 | J37: =0 -> 0
D39: Cena s DPH | G39: v | H39: CZK | J39: =SUM(J30:J37) -> 0
C45: REKAPITULACE ČLENĚNÍ SOUPISU PRACÍ
C47: Stavba:
E48: =E7 -> Revitalizace zázemí městské knihovny a předprostoru Lázeňského parku Poděbrady
C49: Objekt:
E50: =E9 -> 01.4 - Bourací práce
C52: Místo: | F52: =F12 | I52: Datum: | J52: =IF(J12="","",J12) -> 24. 6. 2026
C54: Zadavatel: | F54: =E15 -> Město Poděbrady | I54: Projektant: | J54: =E21
C55: Účastník: | F55: =IF(E18="","",E18) -> Vyplň údaj | I55: Zpracovatel: | J55: =E24
C57: Kód dílu - Popis | J57: Cena celkem [CZK]
C59: Náklady stavby celkem | J59: =J82 -> 0 | AU59: -1
D60: HSV - Práce a dodávky HSV | J60: =J83 -> 0
D61: 1 - Zemní práce | J61: =J84 -> 0
D62: 997 - Doprava suti a vybouraných hmot | J62: =J112 -> 0
C69: SOUPIS PRACÍ
C71: Stavba:
E72: =E7 -> Revitalizace zázemí městské knihovny a předprostoru Lázeňského parku Poděbrady
C73: Objekt:
E74: =E9 -> 01.4 - Bourací práce
C76: Místo: | F76: =F12 | I76: Datum: | J76: =IF(J12="","",J12) -> 24. 6. 2026
C78: Zadavatel: | F78: =E15 -> Město Poděbrady | I78: Projektant: | J78: =E21
C79: Účastník: | F79: =IF(E18="","",E18) -> Vyplň údaj | I79: Zpracovatel: | J79: =E24
C81: PČ | D81: Typ | E81: Kód | F81: Popis | G81: MJ | H81: Množství | I81: J.cena [CZK] | J81: Cena celkem [CZK] | K81: Cenová soustava | N81: DPH | O81: J. Nh [h] | P81: Nh celkem [h] | Q81: J. hmotnost [t] | R81: Hmotnost celkem [t] | S81: J. suť [t] | T81: Suť Celkem [t]
C82: Náklady soupisu celkem | J82: =BK82 -> 0 | P82: =P83 -> 0 | R82: =R83 -> 0 | T82: =T83 -> 105.75 | AT82: D | AU82: -1 | BK82: =BK83 -> 0
D83: D | E83: HSV | F83: Práce a dodávky HSV | J83: =BK83 -> 0 | P83: =P84+P112 -> 0 | R83: =R84+R112 -> 0 | T83: =T84+T112 -> 105.75 | AR83: 1 | AT83: D | AU83: 0 | AY83: ROZPOCET | BK83: =BK84+BK112 -> 0
D84: D | E84: 1 | F84: Zemní práce | J84: =BK84 -> 0 | P84: =SUM(P85:P111) -> 0 | R84: =SUM(R85:R111) -> 0 | T84: =SUM(T85:T111) -> 105.75 | AR84: 1 | AT84: D | AU84: 1 | AY84: ROZPOCET | BK84: =SUM(BK85:BK111) -> 0
C85: 1 | D85: K | E85: 113106144 | F85: Rozebrání dlažeb ze zámkových dlaždic komunikací pro pěší strojně pl přes 50 m2 | G85: m2 | H85: 240 | J85: =ROUND(I85*H85,2) -> 0 | K85: CS ÚRS 2026 01 | N85: základní | P85: =O85*H85 -> 0 | Q85: 0 | R85: =Q85*H85 -> 0 | S85: 0.26 | T85: =S85*H85 -> 62.4 | AR85: 4 | AT85: K | AU85: 2 | AY85: ROZPOCET | BE85: =IF(N85="základní",J85,0) -> 0 | BF85: =IF(N85="snížená",J85,0) -> 0 | BG85: =IF(N85="zákl. přenesená",J85,0) -> 0 | BH85: =IF(N85="sníž. přenesená",J85,0) -> 0 | BI85: =IF(N85="nulová",J85,0) -> 0 | BJ85: 1 | BK85: =ROUND(I85*H85,2) -> 0 | BL85: 4 | BM85: 2
D86: PP | F86: Rozebrání dlažeb komunikací pro pěší s přemístěním hmot na skládku na vzdálenost do 3 m nebo s naložením na dopravní prostředek s ložem z kameniva nebo živice a s jakoukoliv výplní spár strojně plochy jednotlivě přes 50 m2 ze zámkové dlažby | AT86: PP | AU86: 2
D87: Online PSC | F87: https://podminky.urs.cz/item/CS_URS_2026_01/113106144 | AT87: Online PSC | AU87: 2
D88: VV | F88: viz. výkres č. D.1.1.02 | AT88: VV | AU88: 2 | AV88: 1 | AW88: True | AX88: 0 | AY88: ROZPOCET
D89: VV | F89: Zámková dlažba | AT89: VV | AU89: 2 | AV89: 1 | AW89: True | AX89: 0 | AY89: ROZPOCET
D90: VV | F90: 240,0 | H90: 240 | AT90: VV | AU90: 2 | AV90: 2 | AW90: True | AX90: 0 | AY90: ROZPOCET
D91: VV | F91: Součet | H91: 240 | AT91: VV | AU91: 2 | AV91: 4 | AW91: True | AX91: 1 | AY91: ROZPOCET
C92: 2 | D92: K | E92: 113106192 | F92: Rozebrání vozovek ze silničních dílců se spárami zalitými cementovou maltou strojně pl do 50 m2 | G92: m2 | H92: 30 | J92: =ROUND(I92*H92,2) -> 0 | K92: CS ÚRS 2026 01 | N92: základní | P92: =O92*H92 -> 0 | Q92: 0 | R92: =Q92*H92 -> 0 | S92: 0.425 | T92: =S92*H92 -> 12.75 | AR92: 4 | AT92: K | AU92: 2 | AY92: ROZPOCET | BE92: =IF(N92="základní",J92,0) -> 0 | BF92: =IF(N92="snížená",J92,0) -> 0 | BG92: =IF(N92="zákl. přenesená",J92,0) -> 0 | BH92: =IF(N92="sníž. přenesená",J92,0) -> 0 | BI92: =IF(N92="nulová",J92,0) -> 0 | BJ92: 1 | BK92: =ROUND(I92*H92,2) -> 0 | BL92: 4 | BM92: 4
D93: PP | F93: Rozebrání dílců vozovek a ploch s přemístěním hmot na skládku na vzdálenost do 3 m nebo s naložením na dopravní prostředek, ze silničních dílců jakýchkoliv rozměrů, s ložem z kameniva nebo živice strojně plochy jednotlivě do 50 m2 se spárami zalitými cementovou maltou | AT93: PP | AU93: 2
D94: Online PSC | F94: https://podminky.urs.cz/item/CS_URS_2026_01/113106192 | AT94: Online PSC | AU94: 2
D95: VV | F95: viz. výkres č. D.1.1.02 | AT95: VV | AU95: 2 | AV95: 1 | AW95: True | AX95: 0 | AY95: ROZPOCET
D96: VV | F96: Betonové panely | AT96: VV | AU96: 2 | AV96: 1 | AW96: True | AX96: 0 | AY96: ROZPOCET
D97: VV | F97: 30,0 | H97: 30 | AT97: VV | AU97: 2 | AV97: 2 | AW97: True | AX97: 0 | AY97: ROZPOCET
D98: VV | F98: Součet | H98: 30 | AT98: VV | AU98: 2 | AV98: 4 | AW98: True | AX98: 1 | AY98: ROZPOCET
C99: 3 | D99: K | E99: 113107222 | F99: Odstranění podkladu z kameniva drceného tl přes 100 do 200 mm strojně pl přes 200 m2 | G99: m2 | H99: 50 | J99: =ROUND(I99*H99,2) -> 0 | K99: CS ÚRS 2026 01 | N99: základní | P99: =O99*H99 -> 0 | Q99: 0 | R99: =Q99*H99 -> 0 | S99: 0.29 | T99: =S99*H99 -> 14.5 | AR99: 4 | AT99: K | AU99: 2 | AY99: ROZPOCET | BE99: =IF(N99="základní",J99,0) -> 0 | BF99: =IF(N99="snížená",J99,0) -> 0 | BG99: =IF(N99="zákl. přenesená",J99,0) -> 0 | BH99: =IF(N99="sníž. přenesená",J99,0) -> 0 | BI99: =IF(N99="nulová",J99,0) -> 0 | BJ99: 1 | BK99: =ROUND(I99*H99,2) -> 0 | BL99: 4 | BM99: 6
D100: PP | F100: Odstranění podkladů nebo krytů strojně plochy jednotlivě přes 200 m2 s přemístěním hmot na skládku na vzdálenost do 20 m nebo s naložením na dopravní prostředek z kameniva hrubého drceného, o tl. vrstvy přes 100 do 200 mm | AT100: PP | AU100: 2
D101: Online PSC | F101: https://podminky.urs.cz/item/CS_URS_2026_01/113107222 | AT101: Online PSC | AU101: 2
D102: VV | F102: viz. výkres č. D.1.1.02 | AT102: VV | AU102: 2 | AV102: 1 | AW102: True | AX102: 0 | AY102: ROZPOCET
D103: VV | F103: Mlatová cesta | AT103: VV | AU103: 2 | AV103: 1 | AW103: True | AX103: 0 | AY103: ROZPOCET
D104: VV | F104: 50,0 | H104: 50 | AT104: VV | AU104: 2 | AV104: 2 | AW104: True | AX104: 0 | AY104: ROZPOCET
D105: VV | F105: Součet | H105: 50 | AT105: VV | AU105: 2 | AV105: 4 | AW105: True | AX105: 1 | AY105: ROZPOCET
C106: 4 | D106: K | E106: 113201111 | F106: Vytrhání obrub chodníkových ležatých | G106: m | H106: 70 | J106: =ROUND(I106*H106,2) -> 0 | K106: CS ÚRS 2026 01 | N106: základní | P106: =O106*H106 -> 0 | Q106: 0 | R106: =Q106*H106 -> 0 | S106: 0.23 | T106: =S106*H106 -> 16.1 | AR106: 4 | AT106: K | AU106: 2 | AY106: ROZPOCET | BE106: =IF(N106="základní",J106,0) -> 0 | BF106: =IF(N106="snížená",J106,0) -> 0 | BG106: =IF(N106="zákl. přenesená",J106,0) -> 0 | BH106: =IF(N106="sníž. přenesená",J106,0) -> 0 | BI106: =IF(N106="nulová",J106,0) -> 0 | BJ106: 1 | BK106: =ROUND(I106*H106,2) -> 0 | BL106: 4 | BM106: 8
D107: PP | F107: Vytrhání obrub s vybouráním lože, s přemístěním hmot na skládku na vzdálenost do 3 m nebo s naložením na dopravní prostředek chodníkových ležatých | AT107: PP | AU107: 2
D108: Online PSC | F108: https://podminky.urs.cz/item/CS_URS_2026_01/113201111 | AT108: Online PSC | AU108: 2
D109: VV | F109: viz. výkres č. D.1.1.02 | AT109: VV | AU109: 2 | AV109: 1 | AW109: True | AX109: 0 | AY109: ROZPOCET
D110: VV | F110: 70,0 | H110: 70 | AT110: VV | AU110: 2 | AV110: 2 | AW110: True | AX110: 0 | AY110: ROZPOCET
D111: VV | F111: Součet | H111: 70 | AT111: VV | AU111: 2 | AV111: 4 | AW111: True | AX111: 1 | AY111: ROZPOCET
D112: D | E112: 997 | F112: Doprava suti a vybouraných hmot | J112: =BK112 -> 0 | P112: =SUM(P113:P160) -> 0 | R112: =SUM(R113:R160) -> 0 | T112: =SUM(T113:T160) -> 0 | AR112: 1 | AT112: D | AU112: 1 | AY112: ROZPOCET | BK112: =SUM(BK113:BK160) -> 0
C113: 5 | D113: K | E113: 997221551 | F113: Vodorovná doprava suti ze sypkých materiálů do 1 km | G113: t | H113: 14.5 | J113: =ROUND(I113*H113,2) -> 0 | K113: CS ÚRS 2026 01 | N113: základní | P113: =O113*H113 -> 0 | Q113: 0 | R113: =Q113*H113 -> 0 | S113: 0 | T113: =S113*H113 -> 0 | AR113: 4 | AT113: K | AU113: 2 | AY113: ROZPOCET | BE113: =IF(N113="základní",J113,0) -> 0 | BF113: =IF(N113="snížená",J113,0) -> 0 | BG113: =IF(N113="zákl. přenesená",J113,0) -> 0 | BH113: =IF(N113="sníž. přenesená",J113,0) -> 0 | BI113: =IF(N113="nulová",J113,0) -> 0 | BJ113: 1 | BK113: =ROUND(I113*H113,2) -> 0 | BL113: 4 | BM113: 10
D114: PP | F114: Vodorovná doprava suti bez naložení, ale se složením a s hrubým urovnáním ze sypkých materiálů, na vzdálenost do 1 km | AT114: PP | AU114: 2
D115: Online PSC | F115: https://podminky.urs.cz/item/CS_URS_2026_01/997221551 | AT115: Online PSC | AU115: 2
D116: VV | F116: Mlatová cesta | AT116: VV | AU116: 2 | AV116: 1 | AW116: True | AX116: 0 | AY116: ROZPOCET
D117: VV | F117: 14,5 | H117: 14.5 | AT117: VV | AU117: 2 | AV117: 2 | AW117: True | AX117: 0 | AY117: ROZPOCET
D118: VV | F118: Součet | H118: 14.5 | AT118: VV | AU118: 2 | AV118: 4 | AW118: True | AX118: 1 | AY118: ROZPOCET
C119: 6 | D119: K | E119: 997221559 | F119: Příplatek ZKD 1 km u vodorovné dopravy suti ze sypkých materiálů | G119: t | H119: 159.5 | J119: =ROUND(I119*H119,2) -> 0 | K119: CS ÚRS 2026 01 | N119: základní | P119: =O119*H119 -> 0 | Q119: 0 | R119: =Q119*H119 -> 0 | S119: 0 | T119: =S119*H119 -> 0 | AR119: 4 | AT119: K | AU119: 2 | AY119: ROZPOCET | BE119: =IF(N119="základní",J119,0) -> 0 | BF119: =IF(N119="snížená",J119,0) -> 0 | BG119: =IF(N119="zákl. přenesená",J119,0) -> 0 | BH119: =IF(N119="sníž. přenesená",J119,0) -> 0 | BI119: =IF(N119="nulová",J119,0) -> 0 | BJ119: 1 | BK119: =ROUND(I119*H119,2) -> 0 | BL119: 4 | BM119: 12
D120: PP | F120: Vodorovná doprava suti bez naložení, ale se složením a s hrubým urovnáním ze sypkých materiálů, na vzdálenost Příplatek k ceně za každý další započatý 1 km přes 1 km | AT120: PP | AU120: 2
D121: Online PSC | F121: https://podminky.urs.cz/item/CS_URS_2026_01/997221559 | AT121: Online PSC | AU121: 2
D122: VV | F122: 14,5*11 "předpoklad skládka do 12km" | H122: 159.5 | AT122: VV | AU122: 2 | AV122: 2 | AW122: True | AX122: 0 | AY122: ROZPOCET
D123: VV | F123: Součet | H123: 159.5 | AT123: VV | AU123: 2 | AV123: 4 | AW123: True | AX123: 1 | AY123: ROZPOCET
C124: 7 | D124: K | E124: 997221561 | F124: Vodorovná doprava suti z kusových materiálů do 1 km | G124: t | H124: 78.5 | J124: =ROUND(I124*H124,2) -> 0 | K124: CS ÚRS 2026 01 | N124: základní | P124: =O124*H124 -> 0 | Q124: 0 | R124: =Q124*H124 -> 0 | S124: 0 | T124: =S124*H124 -> 0 | AR124: 4 | AT124: K | AU124: 2 | AY124: ROZPOCET | BE124: =IF(N124="základní",J124,0) -> 0 | BF124: =IF(N124="snížená",J124,0) -> 0 | BG124: =IF(N124="zákl. přenesená",J124,0) -> 0 | BH124: =IF(N124="sníž. přenesená",J124,0) -> 0 | BI124: =IF(N124="nulová",J124,0) -> 0 | BJ124: 1 | BK124: =ROUND(I124*H124,2) -> 0 | BL124: 4 | BM124: 14
D125: PP | F125: Vodorovná doprava suti bez naložení, ale se složením a s hrubým urovnáním z kusových materiálů, na vzdálenost do 1 km | AT125: PP | AU125: 2
D126: Online PSC | F126: https://podminky.urs.cz/item/CS_URS_2026_01/997221561 | AT126: Online PSC | AU126: 2
D127: VV | F127: Zámková dlažba a obrubník | AT127: VV | AU127: 2 | AV127: 1 | AW127: True | AX127: 0 | AY127: ROZPOCET
D128: VV | F128: 62,4+16,1 | H128: 78.5 | AT128: VV | AU128: 2 | AV128: 2 | AW128: True | AX128: 0 | AY128: ROZPOCET
D129: VV | F129: Součet | H129: 78.5 | AT129: VV | AU129: 2 | AV129: 4 | AW129: True | AX129: 1 | AY129: ROZPOCET
C130: 8 | D130: K | E130: 997221569 | F130: Příplatek ZKD 1 km u vodorovné dopravy suti z kusových materiálů | G130: t | H130: 863.5 | J130: =ROUND(I130*H130,2) -> 0 | K130: CS ÚRS 2026 01 | N130: základní | P130: =O130*H130 -> 0 | Q130: 0 | R130: =Q130*H130 -> 0 | S130: 0 | T130: =S130*H130 -> 0 | AR130: 4 | AT130: K | AU130: 2 | AY130: ROZPOCET | BE130: =IF(N130="základní",J130,0) -> 0 | BF130: =IF(N130="snížená",J130,0) -> 0 | BG130: =IF(N130="zákl. přenesená",J130,0) -> 0 | BH130: =IF(N130="sníž. přenesená",J130,0) -> 0 | BI130: =IF(N130="nulová",J130,0) -> 0 | BJ130: 1 | BK130: =ROUND(I130*H130,2) -> 0 | BL130: 4 | BM130: 16
D131: PP | F131: Vodorovná doprava suti bez naložení, ale se složením a s hrubým urovnáním z kusových materiálů, na vzdálenost Příplatek k ceně za každý další započatý 1 km přes 1 km | AT131: PP | AU131: 2
D132: Online PSC | F132: https://podminky.urs.cz/item/CS_URS_2026_01/997221569 | AT132: Online PSC | AU132: 2
D133: VV | F133: 78,5*11 "předpoklad skládka do 12km" | H133: 863.5 | AT133: VV | AU133: 2 | AV133: 2 | AW133: True | AX133: 0 | AY133: ROZPOCET
...

Sheet 02.1 - Vegetační úpravy
L2: >> skryté sloupce << | AT2: {c1087b5f-01c6-47cd-ae68-f4a7db53963f}
AT3: 2
D4: KRYCÍ LIST SOUPISU PRACÍ | M4: v --- níže se nacházejí doplnkové a pomocné údaje k sestavám --- v | AT4: False
D6: Stavba:
E7: ='Rekapitulace stavby'!K6 -> Revitalizace zázemí městské knihovny a předprostoru Lázeňského parku Poděbrady
D8: Objekt:
E9: 02.1 - Vegetační úpravy
D11: KSO: | I11: CC-CZ:
D12: Místo: | I12: Datum: | J12: ='Rekapitulace stavby'!AN8 -> 24. 6. 2026
D14: Zadavatel: | I14: IČ: | J14: =IF('Rekapitulace stavby'!AN10="","",'Rekapitulace stavby'!AN10)
E15: =IF('Rekapitulace stavby'!E11="","",'Rekapitulace stavby'!E11) -> Město Poděbrady | I15: DIČ: | J15: =IF('Rekapitulace stavby'!AN11="","",'Rekapitulace stavby'!AN11)
D17: Účastník: | I17: IČ: | J17: ='Rekapitulace stavby'!AN13 -> Vyplň údaj
E18: ='Rekapitulace stavby'!E14 -> Vyplň údaj | I18: DIČ: | J18: ='Rekapitulace stavby'!AN14 -> Vyplň údaj
D20: Projektant: | I20: IČ: | J20: =IF('Rekapitulace stavby'!AN16="","",'Rekapitulace stavby'!AN16)
E21: =IF('Rekapitulace stavby'!E17="","",'Rekapitulace stavby'!E17) | I21: DIČ: | J21: =IF('Rekapitulace stavby'!AN17="","",'Rekapitulace stavby'!AN17)
D23: Zpracovatel: | I23: IČ: | J23: =IF('Rekapitulace stavby'!AN19="","",'Rekapitulace stavby'!AN19)
E24: =IF('Rekapitulace stavby'!E20="","",'Rekapitulace stavby'!E20) | I24: DIČ: | J24: =IF('Rekapitulace stavby'!AN20="","",'Rekapitulace stavby'!AN20)
D26: Poznámka:
D30: Cena bez DPH | J30: =ROUND(J82, 2) -> 0
F32: Základ daně | I32: Sazba daně | J32: Výše daně
D33: DPH | E33: základní | F33: =ROUND((SUM(BE82:BE257)), 2) -> 0 | I33: 0.21 | J33: =ROUND(((SUM(BE82:BE257))*I33), 2) -> 0
E34: snížená | F34: =ROUND((SUM(BF82:BF257)), 2) -> 0 | I34: 0.12 | J34: =ROUND(((SUM(BF82:BF257))*I34), 2) -> 0
E35: zákl. přenesená | F35: =ROUND((SUM(BG82:BG257)), 2) -> 0 | I35: 0.21 | J35: =0 -> 0
E36: sníž. přenesená | F36: =ROUND((SUM(BH82:BH257)), 2) -> 0 | I36: 0.12 | J36: =0 -> 0
E37: nulová | F37: =ROUND((SUM(BI82:BI257)), 2) -> 0 | I37: 0 | J37: =0 -> 0
D39: Cena s DPH | G39: v | H39: CZK | J39: =SUM(J30:J37) -> 0
C45: REKAPITULACE ČLENĚNÍ SOUPISU PRACÍ
C47: Stavba:
E48: =E7 -> Revitalizace zázemí městské knihovny a předprostoru Lázeňského parku Poděbrady
C49: Objekt:
E50: =E9 -> 02.1 - Vegetační úpravy
C52: Místo: | F52: =F12 | I52: Datum: | J52: =IF(J12="","",J12) -> 24. 6. 2026
C54: Zadavatel: | F54: =E15 -> Město Poděbrady | I54: Projektant: | J54: =E21
C55: Účastník: | F55: =IF(E18="","",E18) -> Vyplň údaj | I55: Zpracovatel: | J55: =E24
C57: Kód dílu - Popis | J57: Cena celkem [CZK]
C59: Náklady stavby celkem | J59: =J82 -> 0 | AU59: -1
D60: HSV - Práce a dodávky HSV | J60: =J83 -> 0
D61: 1 - Trávníky založení nebo rekonstrukce | J61: =J84 -> 0
D62: 2 - Výsadby stromů a keřů | J62: =J123 -> 0
C69: SOUPIS PRACÍ
C71: Stavba:
E72: =E7 -> Revitalizace zázemí městské knihovny a předprostoru Lázeňského parku Poděbrady
C73: Objekt:
E74: =E9 -> 02.1 - Vegetační úpravy
C76: Místo: | F76: =F12 | I76: Datum: | J76: =IF(J12="","",J12) -> 24. 6. 2026
C78: Zadavatel: | F78: =E15 -> Město Poděbrady | I78: Projektant: | J78: =E21
C79: Účastník: | F79: =IF(E18="","",E18) -> Vyplň údaj | I79: Zpracovatel: | J79: =E24
C81: PČ | D81: Typ | E81: Kód | F81: Popis | G81: MJ | H81: Množství | I81: J.cena [CZK] | J81: Cena celkem [CZK] | K81: Cenová soustava | N81: DPH | O81: J. Nh [h] | P81: Nh celkem [h] | Q81: J. hmotnost [t] | R81: Hmotnost celkem [t] | S81: J. suť [t] | T81: Suť Celkem [t]
C82: Náklady soupisu celkem | J82: =BK82 -> 0 | P82: =P83 -> 0 | R82: =R83 -> 0 | T82: =T83 -> 0 | AT82: D | AU82: -1 | BK82: =BK83 -> 0
D83: D | E83: HSV | F83: Práce a dodávky HSV | J83: =BK83 -> 0 | P83: =P84+P123 -> 0 | R83: =R84+R123 -> 0 | T83: =T84+T123 -> 0 | AR83: 1 | AT83: D | AU83: 0 | AY83: ROZPOCET | BK83: =BK84+BK123 -> 0
D84: D | E84: 1 | F84: Trávníky založení nebo rekonstrukce | J84: =BK84 -> 0 | P84: =SUM(P85:P122) -> 0 | R84: =SUM(R85:R122) -> 0 | T84: =SUM(T85:T122) -> 0 | AR84: 1 | AT84: D | AU84: 1 | AY84: ROZPOCET | BK84: =SUM(BK85:BK122) -> 0
C85: 1 | D85: K | E85: R02.2.1 | F85: Chemické odplevelení před založením kultury | G85: m2 | H85: 612 | J85: =ROUND(I85*H85,2) -> 0 | N85: základní | P85: =O85*H85 -> 0 | Q85: 0 | R85: =Q85*H85 -> 0 | S85: 0 | T85: =S85*H85 -> 0 | AR85: 4 | AT85: K | AU85: 2 | AY85: ROZPOCET | BE85: =IF(N85="základní",J85,0) -> 0 | BF85: =IF(N85="snížená",J85,0) -> 0 | BG85: =IF(N85="zákl. přenesená",J85,0) -> 0 | BH85: =IF(N85="sníž. přenesená",J85,0) -> 0 | BI85: =IF(N85="nulová",J85,0) -> 0 | BJ85: 1 | BK85: =ROUND(I85*H85,2) -> 0 | BL85: 4 | BM85: 2
D86: PP | F86: Chemické odplevelení před založením kultury | AT86: PP | AU86: 2
C87: 2 | D87: K | E87: R02.2.2 | F87: Obdělání půdy frézováním, smykováním a hrabáním se zapravením drnu 2x | G87: m2 | H87: 612 | J87: =ROUND(I87*H87,2) -> 0 | N87: základní | P87: =O87*H87 -> 0 | Q87: 0 | R87: =Q87*H87 -> 0 | S87: 0 | T87: =S87*H87 -> 0 | AR87: 4 | AT87: K | AU87: 2 | AY87: ROZPOCET | BE87: =IF(N87="základní",J87,0) -> 0 | BF87: =IF(N87="snížená",J87,0) -> 0 | BG87: =IF(N87="zákl. přenesená",J87,0) -> 0 | BH87: =IF(N87="sníž. přenesená",J87,0) -> 0 | BI87: =IF(N87="nulová",J87,0) -> 0 | BJ87: 1 | BK87: =ROUND(I87*H87,2) -> 0 | BL87: 4 | BM87: 4
D88: PP | F88: Obdělání půdy frézováním, smykováním a hrabáním se zapravením drnu 2x | AT88: PP | AU88: 2
C89: 3 | D89: K | E89: R02.2.3 | F89: Ruční obdělání v okolí stávajících dřevin 15% plochy | G89: m2 | H89: 92 | J89: =ROUND(I89*H89,2) -> 0 | N89: základní | P89: =O89*H89 -> 0 | Q89: 0 | R89: =Q89*H89 -> 0 | S89: 0 | T89: =S89*H89 -> 0 | AR89: 4 | AT89: K | AU89: 2 | AY89: ROZPOCET | BE89: =IF(N89="základní",J89,0) -> 0 | BF89: =IF(N89="snížená",J89,0) -> 0 | BG89: =IF(N89="zákl. přenesená",J89,0) -> 0 | BH89: =IF(N89="sníž. přenesená",J89,0) -> 0 | BI89: =IF(N89="nulová",J89,0) -> 0 | BJ89: 1 | BK89: =ROUND(I89*H89,2) -> 0 | BL89: 4 | BM89: 6
D90: PP | F90: Ruční obdělání v okolí stávajících dřevin 15% plochy | AT90: PP | AU90: 2
C91: 4 | D91: K | E91: R02.2.4 | F91: Odstranění abiotických zbytků a odpadů | G91: m3 | H91: 4 | J91: =ROUND(I91*H91,2) -> 0 | N91: základní | P91: =O91*H91 -> 0 | Q91: 0 | R91: =Q91*H91 -> 0 | S91: 0 | T91: =S91*H91 -> 0 | AR91: 4 | AT91: K | AU91: 2 | AY91: ROZPOCET | BE91: =IF(N91="základní",J91,0) -> 0 | BF91: =IF(N91="snížená",J91,0) -> 0 | BG91: =IF(N91="zákl. přenesená",J91,0) -> 0 | BH91: =IF(N91="sníž. přenesená",J91,0) -> 0 | BI91: =IF(N91="nulová",J91,0) -> 0 | BJ91: 1 | BK91: =ROUND(I91*H91,2) -> 0 | BL91: 4 | BM91: 8
D92: PP | F92: Odstranění abiotických zbytků a odpadů | AT92: PP | AU92: 2
C93: 5 | D93: K | E93: R02.2.5 | F93: Zapravení písku a kompostu do vegetační vrstvy 30 mm | G93: m2 | H93: 612 | J93: =ROUND(I93*H93,2) -> 0 | N93: základní | P93: =O93*H93 -> 0 | Q93: 0 | R93: =Q93*H93 -> 0 | S93: 0 | T93: =S93*H93 -> 0 | AR93: 4 | AT93: K | AU93: 2 | AY93: ROZPOCET | BE93: =IF(N93="základní",J93,0) -> 0 | BF93: =IF(N93="snížená",J93,0) -> 0 | BG93: =IF(N93="zákl. přenesená",J93,0) -> 0 | BH93: =IF(N93="sníž. přenesená",J93,0) -> 0 | BI93: =IF(N93="nulová",J93,0) -> 0 | BJ93: 1 | BK93: =ROUND(I93*H93,2) -> 0 | BL93: 4 | BM93: 10
D94: PP | F94: Zapravení písku a kompostu do vegetační vrstvy 30 mm | AT94: PP | AU94: 2
C95: 6 | D95: K | E95: R02.2.6 | F95: Plošná úprava terénu +-150mm | G95: m2 | H95: 612 | J95: =ROUND(I95*H95,2) -> 0 | N95: základní | P95: =O95*H95 -> 0 | Q95: 0 | R95: =Q95*H95 -> 0 | S95: 0 | T95: =S95*H95 -> 0 | AR95: 4 | AT95: K | AU95: 2 | AY95: ROZPOCET | BE95: =IF(N95="základní",J95,0) -> 0 | BF95: =IF(N95="snížená",J95,0) -> 0 | BG95: =IF(N95="zákl. přenesená",J95,0) -> 0 | BH95: =IF(N95="sníž. přenesená",J95,0) -> 0 | BI95: =IF(N95="nulová",J95,0) -> 0 | BJ95: 1 | BK95: =ROUND(I95*H95,2) -> 0 | BL95: 4 | BM95: 12
D96: PP | F96: Plošná úprava terénu +-150mm | AT96: PP | AU96: 2
C97: 7 | D97: K | E97: R02.2.7 | F97: Založení trávníku parkového výsevem v rovině nebo svahu se zapravením | G97: m2 | H97: 612 | J97: =ROUND(I97*H97,2) -> 0 | N97: základní | P97: =O97*H97 -> 0 | Q97: 0 | R97: =Q97*H97 -> 0 | S97: 0 | T97: =S97*H97 -> 0 | AR97: 4 | AT97: K | AU97: 2 | AY97: ROZPOCET | BE97: =IF(N97="základní",J97,0) -> 0 | BF97: =IF(N97="snížená",J97,0) -> 0 | BG97: =IF(N97="zákl. přenesená",J97,0) -> 0 | BH97: =IF(N97="sníž. přenesená",J97,0) -> 0 | BI97: =IF(N97="nulová",J97,0) -> 0 | BJ97: 1 | BK97: =ROUND(I97*H97,2) -> 0 | BL97: 4 | BM97: 14
D98: PP | F98: Založení trávníku parkového výsevem v rovině nebo svahu se zapravením | AT98: PP | AU98: 2
C99: 8 | D99: K | E99: R02.2.8 | F99: Přihnojení startovacím hnojivem | G99: m2 | H99: 612 | J99: =ROUND(I99*H99,2) -> 0 | N99: základní | P99: =O99*H99 -> 0 | Q99: 0 | R99: =Q99*H99 -> 0 | S99: 0 | T99: =S99*H99 -> 0 | AR99: 4 | AT99: K | AU99: 2 | AY99: ROZPOCET | BE99: =IF(N99="základní",J99,0) -> 0 | BF99: =IF(N99="snížená",J99,0) -> 0 | BG99: =IF(N99="zákl. přenesená",J99,0) -> 0 | BH99: =IF(N99="sníž. přenesená",J99,0) -> 0 | BI99: =IF(N99="nulová",J99,0) -> 0 | BJ99: 1 | BK99: =ROUND(I99*H99,2) -> 0 | BL99: 4 | BM99: 16
D100: PP | F100: Přihnojení startovacím hnojivem | AT100: PP | AU100: 2
C101: 9 | D101: K | E101: R02.2.9 | F101: Obdělání půdy válením | G101: m2 | H101: 612 | J101: =ROUND(I101*H101,2) -> 0 | N101: základní | P101: =O101*H101 -> 0 | Q101: 0 | R101: =Q101*H101 -> 0 | S101: 0 | T101: =S101*H101 -> 0 | AR101: 4 | AT101: K | AU101: 2 | AY101: ROZPOCET | BE101: =IF(N101="základní",J101,0) -> 0 | BF101: =IF(N101="snížená",J101,0) -> 0 | BG101: =IF(N101="zákl. přenesená",J101,0) -> 0 | BH101: =IF(N101="sníž. přenesená",J101,0) -> 0 | BI101: =IF(N101="nulová",J101,0) -> 0 | BJ101: 1 | BK101: =ROUND(I101*H101,2) -> 0 | BL101: 4 | BM101: 18
D102: PP | F102: Obdělání půdy válením | AT102: PP | AU102: 2
C103: 10 | D103: K | E103: R02.2.10 | F103: Ošetření trávníku po založení s dosevem v rovině | G103: m2 | H103: 612 | J103: =ROUND(I103*H103,2) -> 0 | N103: základní | P103: =O103*H103 -> 0 | Q103: 0 | R103: =Q103*H103 -> 0 | S103: 0 | T103: =S103*H103 -> 0 | AR103: 4 | AT103: K | AU103: 2 | AY103: ROZPOCET | BE103: =IF(N103="základní",J103,0) -> 0 | BF103: =IF(N103="snížená",J103,0) -> 0 | BG103: =IF(N103="zákl. přenesená",J103,0) -> 0 | BH103: =IF(N103="sníž. přenesená",J103,0) -> 0 | BI103: =IF(N103="nulová",J103,0) -> 0 | BJ103: 1 | BK103: =ROUND(I103*H103,2) -> 0 | BL103: 4 | BM103: 20
D104: PP | F104: Ošetření trávníku po založení s dosevem v rovině | AT104: PP | AU104: 2
C105: 11 | D105: K | E105: R02.2.11 | F105: Hnízdový selektivní herbicidní postřik proti dvouděložným plevelům 2x | G105: m2 | H105: 612 | J105: =ROUND(I105*H105,2) -> 0 | N105: základní | P105: =O105*H105 -> 0 | Q105: 0 | R105: =Q105*H105 -> 0 | S105: 0 | T105: =S105*H105 -> 0 | AR105: 4 | AT105: K | AU105: 2 | AY105: ROZPOCET | BE105: =IF(N105="základní",J105,0) -> 0 | BF105: =IF(N105="snížená",J105,0) -> 0 | BG105: =IF(N105="zákl. přenesená",J105,0) -> 0 | BH105: =IF(N105="sníž. přenesená",J105,0) -> 0 | BI105: =IF(N105="nulová",J105,0) -> 0 | BJ105: 1 | BK105: =ROUND(I105*H105,2) -> 0 | BL105: 4 | BM105: 22
D106: PP | F106: Hnízdový selektivní herbicidní postřik proti dvouděložným plevelům 2x | AT106: PP | AU106: 2
C107: 12 | D107: K | E107: R02.2.12 | F107: Kosení trávníku parkového se sběrem 2x | G107: m2 | H107: 612 | J107: =ROUND(I107*H107,2) -> 0 | N107: základní | P107: =O107*H107 -> 0 | Q107: 0 | R107: =Q107*H107 -> 0 | S107: 0 | T107: =S107*H107 -> 0 | AR107: 4 | AT107: K | AU107: 2 | AY107: ROZPOCET | BE107: =IF(N107="základní",J107,0) -> 0 | BF107: =IF(N107="snížená",J107,0) -> 0 | BG107: =IF(N107="zákl. přenesená",J107,0) -> 0 | BH107: =IF(N107="sníž. přenesená",J107,0) -> 0 | BI107: =IF(N107="nulová",J107,0) -> 0 | BJ107: 1 | BK107: =ROUND(I107*H107,2) -> 0 | BL107: 4 | BM107: 24
D108: PP | F108: Kosení trávníku parkového se sběrem 2x | AT108: PP | AU108: 2
C109: 13 | D109: K | E109: R02.2.13 | F109: Přesun hmot pro SÚ | G109: t | H109: 32 | J109: =ROUND(I109*H109,2) -> 0 | N109: základní | P109: =O109*H109 -> 0 | Q109: 0 | R109: =Q109*H109 -> 0 | S109: 0 | T109: =S109*H109 -> 0 | AR109: 4 | AT109: K | AU109: 2 | AY109: ROZPOCET | BE109: =IF(N109="základní",J109,0) -> 0 | BF109: =IF(N109="snížená",J109,0) -> 0 | BG109: =IF(N109="zákl. přenesená",J109,0) -> 0 | BH109: =IF(N109="sníž. přenesená",J109,0) -> 0 | BI109: =IF(N109="nulová",J109,0) -> 0 | BJ109: 1 | BK109: =ROUND(I109*H109,2) -> 0 | BL109: 4 | BM109: 26
D110: PP | F110: Přesun hmot pro SÚ | AT110: PP | AU110: 2
C111: 14 | D111: M | E111: R02.2.14 | F111: Herbicid eko pro celoplošnou přípravu stanoviště pro trávník | G111: lt | H111: 0.6 | J111: =ROUND(I111*H111,2) -> 0 | N111: základní | P111: =O111*H111 -> 0 | Q111: 0 | R111: =Q111*H111 -> 0 | S111: 0 | T111: =S111*H111 -> 0 | AR111: 8 | AT111: M | AU111: 2 | AY111: ROZPOCET | BE111: =IF(N111="základní",J111,0) -> 0 | BF111: =IF(N111="snížená",J111,0) -> 0 | BG111: =IF(N111="zákl. přenesená",J111,0) -> 0 | BH111: =IF(N111="sníž. přenesená",J111,0) -> 0 | BI111: =IF(N111="nulová",J111,0) -> 0 | BJ111: 1 | BK111: =ROUND(I111*H111,2) -> 0 | BL111: 4 | BM111: 28
D112: PP | F112: Herbicid eko pro celoplošnou přípravu stanoviště pro trávník | AT112: PP | AU112: 2
C113: 15 | D113: M | E113: R02.2.15 | F113: Selektivní herbicid proti dvouděložným plevelům | G113: lt | H113: 0.3 | J113: =ROUND(I113*H113,2) -> 0 | N113: základní | P113: =O113*H113 -> 0 | Q113: 0 | R113: =Q113*H113 -> 0 | S113: 0 | T113: =S113*H113 -> 0 | AR113: 8 | AT113: M | AU113: 2 | AY113: ROZPOCET | BE113: =IF(N113="základní",J113,0) -> 0 | BF113: =IF(N113="snížená",J113,0) -> 0 | BG113: =IF(N113="zákl. přenesená",J113,0) -> 0 | BH113: =IF(N113="sníž. přenesená",J113,0) -> 0 | BI113: =IF(N113="nulová",J113,0) -> 0 | BJ113: 1 | BK113: =ROUND(I113*H113,2) -> 0 | BL113: 4 | BM113: 30
D114: PP | F114: Selektivní herbicid proti dvouděložným plevelům | AT114: PP | AU114: 2
C115: 16 | D115: M | E115: R02.2.16 | F115: Hnojivo startovací trávníkové 0,05kg/m2 | G115: kg | H115: 31 | J115: =ROUND(I115*H115,2) -> 0 | N115: základní | P115: =O115*H115 -> 0 | Q115: 0 | R115: =Q115*H115 -> 0 | S115: 0 | T115: =S115*H115 -> 0 | AR115: 8 | AT115: M | AU115: 2 | AY115: ROZPOCET | BE115: =IF(N115="základní",J115,0) -> 0 | BF115: =IF(N115="snížená",J115,0) -> 0 | BG115: =IF(N115="zákl. přenesená",J115,0) -> 0 | BH115: =IF(N115="sníž. přenesená",J115,0) -> 0 | BI115: =IF(N115="nulová",J115,0) -> 0 | BJ115: 1 | BK115: =ROUND(I115*H115,2) -> 0 | BL115: 4 | BM115: 32
D116: PP | F116: Hnojivo startovací trávníkové 0,05kg/m2 | AT116: PP | AU116: 2
C117: 17 | D117: M | E117: R02.2.17 | F117: Travní směs zátěžová parková domácí provenience dle PD 0,025 Kg/m2 | G117: kg | H117: 16 | J117: =ROUND(I117*H117,2) -> 0 | N117: základní | P117: =O117*H117 -> 0 | Q117: 0 | R117: =Q117*H117 -> 0 | S117: 0 | T117: =S117*H117 -> 0 | AR117: 8 | AT117: M | AU117: 2 | AY117: ROZPOCET | BE117: =IF(N117="základní",J117,0) -> 0 | BF117: =IF(N117="snížená",J117,0) -> 0 | BG117: =IF(N117="zákl. přenesená",J117,0) -> 0 | BH117: =IF(N117="sníž. přenesená",J117,0) -> 0 | BI117: =IF(N117="nulová",J117,0) -> 0 | BJ117: 1 | BK117: =ROUND(I117*H117,2) -> 0 | BL117: 4 | BM117: 34
D118: PP | F118: Travní směs zátěžová parková domácí provenience dle PD 0,025 Kg/m2 | AT118: PP | AU118: 2
C119: 18 | D119: M | E119: R02.2.18 | F119: Písek křemitý 0.02m3/m2 | G119: m3 | H119: 12 | J119: =ROUND(I119*H119,2) -> 0 | N119: základní | P119: =O119*H119 -> 0 | Q119: 0 | R119: =Q119*H119 -> 0 | S119: 0 | T119: =S119*H119 -> 0 | AR119: 8 | AT119: M | AU119: 2 | AY119: ROZPOCET | BE119: =IF(N119="základní",J119,0) -> 0 | BF119: =IF(N119="snížená",J119,0) -> 0 | BG119: =IF(N119="zákl. přenesená",J119,0) -> 0 | BH119: =IF(N119="sníž. přenesená",J119,0) -> 0 | BI119: =IF(N119="nulová",J119,0) -> 0 | BJ119: 1 | BK119: =ROUND(I119*H119,2) -> 0 | BL119: 4 | BM119: 36
D120: PP | F120: Písek křemitý 0.02m3/m2 | AT120: PP | AU120: 2
C121: 19 | D121: M | E121: R02.2.19 | F121: Kompost 0.01m3/m2 | G121: m3 | H121: 7 | J121: =ROUND(I121*H121,2) -> 0 | N121: základní | P121: =O121*H121 -> 0 | Q121: 0 | R121: =Q121*H121 -> 0 | S121: 0 | T121: =S121*H121 -> 0 | AR121: 8 | AT121: M | AU121: 2 | AY121: ROZPOCET | BE121: =IF(N121="základní",J121,0) -> 0 | BF121: =IF(N121="snížená",J121,0) -> 0 | BG121: =IF(N121="zákl. přenesená",J121,0) -> 0 | BH121: =IF(N121="sníž. přenesená",J121,0) -> 0 | BI121: =IF(N121="nulová",J121,0) -> 0 | BJ121: 1 | BK121: =ROUND(I121*H121,2) -> 0 | BL121: 4 | BM121: 38
D122: PP | F122: Kompost 0.01m3/m2 | AT122: PP | AU122: 2
D123: D | E123: 2 | F123: Výsadby stromů a keřů | J123: =BK123 -> 0 | P123: =SUM(P124:P257) -> 0 | R123: =SUM(R124:R257) -> 0 | T123: =SUM(T124:T257) -> 0 | AR123: 1 | AT123: D | AU123: 1 | AY123: ROZPOCET | BK123: =SUM(BK124:BK257) -> 0
C124: 20 | D124: K | E124: R02.2.20 | F124: Chemické odplevelení před založením kultury v rovině a svahu | G124: m2 | H124: 175 | J124: =ROUND(I124*H124,2) -> 0 | N124: základní | P124: =O124*H124 -> 0 | Q124: 0 | R124: =Q124*H124 -> 0 | S124: 0 | T124: =S124*H124 -> 0 | AR124: 4 | AT124: K | AU124: 2 | AY124: ROZPOCET | BE124: =IF(N124="základní",J124,0) -> 0 | BF124: =IF(N124="snížená",J124,0) -> 0 | BG124: =IF(N124="zákl. přenesená",J124,0) -> 0 | BH124: =IF(N124="sníž. přenesená",J124,0) -> 0 | BI124: =IF(N124="nulová",J124,0) -> 0 | BJ124: 1 | BK124: =ROUND(I124*H124,2) -> 0 | BL124: 4 | BM124: 40
D125: PP | F125: Chemické odplevelení před založením kultury v rovině a svahu | AT125: PP | AU125: 2
C126: 21 | D126: K | E126: R02.2.21 | F126: Obdělání půdy nakopáním, frézováním a rytím v rovině a svahu | G126: m2 | H126: 175 | J126: =ROUND(I126*H126,2) -> 0 | N126: základní | P126: =O126*H126 -> 0 | Q126: 0 | R126: =Q126*H126 -> 0 | S126: 0 | T126: =S126*H126 -> 0 | AR126: 4 | AT126: K | AU126: 2 | AY126: ROZPOCET | BE126: =IF(N126="základní",J126,0) -> 0 | BF126: =IF(N126="snížená",J126,0) -> 0 | BG126: =IF(N126="zákl. přenesená",J126,0) -> 0 | BH126: =IF(N126="sníž. přenesená",J126,0) -> 0 | BI126: =IF(N126="nulová",J126,0) -> 0 | BJ126: 1 | BK126: =ROUND(I126*H126,2) -> 0 | BL126: 4 | BM126: 42
D127: PP | F127: Obdělání půdy nakopáním, frézováním a rytím v rovině a svahu | AT127: PP | AU127: 2
C128: 22 | D128: K | E128: R02.2.22 | F128: Zřízení záhonů pro keřové a trvalkové skupiny v rovině a svahu | G128: m2 | H128: 91 | J128: =ROUND(I128*H128,2) -> 0 | N128: základní | P128: =O128*H128 -> 0 | Q128: 0 | R128: =Q128*H128 -> 0 | S128: 0 | T128: =S128*H128 -> 0 | AR128: 4 | AT128: K | AU128: 2 | AY128: ROZPOCET | BE128: =IF(N128="základní",J128,0) -> 0 | BF128: =IF(N128="snížená",J128,0) -> 0 | BG128: =IF(N128="zákl. přenesená",J128,0) -> 0 | BH128: =IF(N128="sníž. přenesená",J128,0) -> 0 | BI128: =IF(N128="nulová",J128,0) -> 0 | BJ128: 1 | BK128: =ROUND(I128*H128,2) -> 0 | BL128: 4 | BM128: 44
D129: PP | F129: Zřízení záhonů pro keřové a trvalkové skupiny v rovině a svahu | AT129: PP | AU129: 2
C130: 23 | D130: K | E130: R02.2.23 | F130: Zřízení záhonů pro letničkové výsevy v rovině a svahu s odpíchnutím okrajů | G130: m2 | H130: 78 | J130: =ROUND(I130*H130,2) -> 0 | N130: základní | P130: =O130*H130 -> 0 | Q130: 0 | R130: =Q130*H130 -> 0 | S130: 0 | T130: =S130*H130 -> 0 | AR130: 4 | AT130: K | AU130: 2 | AY130: ROZPOCET | BE130: =IF(N130="základní",J130,0) -> 0 | BF130: =IF(N130="snížená",J130,0) -> 0 | BG130: =IF(N130="zákl. přenesená",J130,0) -> 0 | BH130: =IF(N130="sníž. přenesená",J130,0) -> 0 | BI130: =IF(N130="nulová",J130,0) -> 0 | BJ130: 1 | BK130: =ROUND(I130*H130,2) -> 0 | BL130: 4 | BM130: 46
D131: PP | F131: Zřízení záhonů pro letničkové výsevy v rovině a svahu s odpíchnutím okrajů | AT131: PP | AU131: 2
C132: 24 | D132: K | E132: R02.2.24 | F132: Doplnění zahradnického substrátu a kompostu do záhonů | G132: m2 | H132: 169 | J132: =ROUND(I132*H132,2) -> 0 | N132: základní | P132: =O132*H132 -> 0 | Q132: 0 | R132: =Q132*H132 -> 0 | S132: 0 | T132: =S132*H132 -> 0 | AR132: 4 | AT132: K | AU132: 2 | AY132: ROZPOCET | BE132: =IF(N132="základní",J132,0) -> 0 | BF132: =IF(N132="snížená",J132,0) -> 0 | BG132: =IF(N132="zákl. přenesená",J132,0) -> 0 | BH132: =IF(N132="sníž. přenesená",J132,0) -> 0 | BI132: =IF(N132="nulová",J132,0) -> 0 | BJ132: 1 | BK132: =ROUND(I132*H132,2) -> 0 | BL132: 4 | BM132: 48
D133: PP | F133: Doplnění zahradnického substrátu a kompostu do záhonů | AT133: PP | AU133: 2
...

Sheet 02.2 - Mobiliář
L2: >> skryté sloupce << | AT2: {57acb7aa-df37-4d9e-9cf1-30432c28b297}
AT3: 2
D4: KRYCÍ LIST SOUPISU PRACÍ | M4: v --- níže se nacházejí doplnkové a pomocné údaje k sestavám --- v | AT4: False
D6: Stavba:
E7: ='Rekapitulace stavby'!K6 -> Revitalizace zázemí městské knihovny a předprostoru Lázeňského parku Poděbrady
D8: Objekt:
E9: 02.2 - Mobiliář
D11: KSO: | I11: CC-CZ:
D12: Místo: | I12: Datum: | J12: ='Rekapitulace stavby'!AN8 -> 24. 6. 2026
D14: Zadavatel: | I14: IČ: | J14: =IF('Rekapitulace stavby'!AN10="","",'Rekapitulace stavby'!AN10)
E15: =IF('Rekapitulace stavby'!E11="","",'Rekapitulace stavby'!E11) -> Město Poděbrady | I15: DIČ: | J15: =IF('Rekapitulace stavby'!AN11="","",'Rekapitulace stavby'!AN11)
D17: Účastník: | I17: IČ: | J17: ='Rekapitulace stavby'!AN13 -> Vyplň údaj
E18: ='Rekapitulace stavby'!E14 -> Vyplň údaj | I18: DIČ: | J18: ='Rekapitulace stavby'!AN14 -> Vyplň údaj
D20: Projektant: | I20: IČ: | J20: =IF('Rekapitulace stavby'!AN16="","",'Rekapitulace stavby'!AN16)
E21: =IF('Rekapitulace stavby'!E17="","",'Rekapitulace stavby'!E17) | I21: DIČ: | J21: =IF('Rekapitulace stavby'!AN17="","",'Rekapitulace stavby'!AN17)
D23: Zpracovatel: | I23: IČ: | J23: =IF('Rekapitulace stavby'!AN19="","",'Rekapitulace stavby'!AN19)
E24: =IF('Rekapitulace stavby'!E20="","",'Rekapitulace stavby'!E20) | I24: DIČ: | J24: =IF('Rekapitulace stavby'!AN20="","",'Rekapitulace stavby'!AN20)
D26: Poznámka:
D30: Cena bez DPH | J30: =ROUND(J81, 2) -> 0
F32: Základ daně | I32: Sazba daně | J32: Výše daně
D33: DPH | E33: základní | F33: =ROUND((SUM(BE81:BE133)), 2) -> 0 | I33: 0.21 | J33: =ROUND(((SUM(BE81:BE133))*I33), 2) -> 0
E34: snížená | F34: =ROUND((SUM(BF81:BF133)), 2) -> 0 | I34: 0.12 | J34: =ROUND(((SUM(BF81:BF133))*I34), 2) -> 0
E35: zákl. přenesená | F35: =ROUND((SUM(BG81:BG133)), 2) -> 0 | I35: 0.21 | J35: =0 -> 0
E36: sníž. přenesená | F36: =ROUND((SUM(BH81:BH133)), 2) -> 0 | I36: 0.12 | J36: =0 -> 0
E37: nulová | F37: =ROUND((SUM(BI81:BI133)), 2) -> 0 | I37: 0 | J37: =0 -> 0
D39: Cena s DPH | G39: v | H39: CZK | J39: =SUM(J30:J37) -> 0
C45: REKAPITULACE ČLENĚNÍ SOUPISU PRACÍ
C47: Stavba:
E48: =E7 -> Revitalizace zázemí městské knihovny a předprostoru Lázeňského parku Poděbrady
C49: Objekt:
E50: =E9 -> 02.2 - Mobiliář
C52: Místo: | F52: =F12 | I52: Datum: | J52: =IF(J12="","",J12) -> 24. 6. 2026
C54: Zadavatel: | F54: =E15 -> Město Poděbrady | I54: Projektant: | J54: =E21
C55: Účastník: | F55: =IF(E18="","",E18) -> Vyplň údaj | I55: Zpracovatel: | J55: =E24
C57: Kód dílu - Popis | J57: Cena celkem [CZK]
C59: Náklady stavby celkem | J59: =J81 -> 0 | AU59: -1
D60: HSV - Práce a dodávky HSV | J60: =J82 -> 0
D61: 9 - MOBILIÁŘ | J61: =J83 -> 0
C68: SOUPIS PRACÍ
C70: Stavba:
E71: =E7 -> Revitalizace zázemí městské knihovny a předprostoru Lázeňského parku Poděbrady
C72: Objekt:
E73: =E9 -> 02.2 - Mobiliář
C75: Místo: | F75: =F12 | I75: Datum: | J75: =IF(J12="","",J12) -> 24. 6. 2026
C77: Zadavatel: | F77: =E15 -> Město Poděbrady | I77: Projektant: | J77: =E21
C78: Účastník: | F78: =IF(E18="","",E18) -> Vyplň údaj | I78: Zpracovatel: | J78: =E24
C80: PČ | D80: Typ | E80: Kód | F80: Popis | G80: MJ | H80: Množství | I80: J.cena [CZK] | J80: Cena celkem [CZK] | K80: Cenová soustava | N80: DPH | O80: J. Nh [h] | P80: Nh celkem [h] | Q80: J. hmotnost [t] | R80: Hmotnost celkem [t] | S80: J. suť [t] | T80: Suť Celkem [t]
C81: Náklady soupisu celkem | J81: =BK81 -> 0 | P81: =P82 -> 0 | R81: =R82 -> 0 | T81: =T82 -> 0 | AT81: D | AU81: -1 | BK81: =BK82 -> 0
D82: D | E82: HSV | F82: Práce a dodávky HSV | J82: =BK82 -> 0 | P82: =P83 -> 0 | R82: =R83 -> 0 | T82: =T83 -> 0 | AR82: 1 | AT82: D | AU82: 0 | AY82: ROZPOCET | BK82: =BK83 -> 0
D83: D | E83: 9 | F83: MOBILIÁŘ | J83: =BK83 -> 0 | P83: =SUM(P84:P133) -> 0 | R83: =SUM(R84:R133) -> 0 | T83: =SUM(T84:T133) -> 0 | AR83: 1 | AT83: D | AU83: 1 | AY83: ROZPOCET | BK83: =SUM(BK84:BK133) -> 0
C84: 1 | D84: K | E84: R02.3.1 | F84: Demontáž, přemístění a montáž stávající interaktivní infotabule | G84: ks | H84: 1 | J84: =ROUND(I84*H84,2) -> 0 | N84: základní | P84: =O84*H84 -> 0 | Q84: 0 | R84: =Q84*H84 -> 0 | S84: 0 | T84: =S84*H84 -> 0 | AR84: 4 | AT84: K | AU84: 2 | AY84: ROZPOCET | BE84: =IF(N84="základní",J84,0) -> 0 | BF84: =IF(N84="snížená",J84,0) -> 0 | BG84: =IF(N84="zákl. přenesená",J84,0) -> 0 | BH84: =IF(N84="sníž. přenesená",J84,0) -> 0 | BI84: =IF(N84="nulová",J84,0) -> 0 | BJ84: 1 | BK84: =ROUND(I84*H84,2) -> 0 | BL84: 4 | BM84: 2
D85: PP | F85: Demontáž, přemístění a montáž stávající interaktivní infotabule | AT85: PP | AU85: 2
C86: 2 | D86: K | E86: R02.3.2 | F86: Demontáž a odstranění nevyužitelných prvků (odpadkový koš) | G86: ks | H86: 2 | J86: =ROUND(I86*H86,2) -> 0 | N86: základní | P86: =O86*H86 -> 0 | Q86: 0 | R86: =Q86*H86 -> 0 | S86: 0 | T86: =S86*H86 -> 0 | AR86: 4 | AT86: K | AU86: 2 | AY86: ROZPOCET | BE86: =IF(N86="základní",J86,0) -> 0 | BF86: =IF(N86="snížená",J86,0) -> 0 | BG86: =IF(N86="zákl. přenesená",J86,0) -> 0 | BH86: =IF(N86="sníž. přenesená",J86,0) -> 0 | BI86: =IF(N86="nulová",J86,0) -> 0 | BJ86: 1 | BK86: =ROUND(I86*H86,2) -> 0 | BL86: 4 | BM86: 4
D87: PP | F87: Demontáž a odstranění nevyužitelných prvků (odpadkový koš) | AT87: PP | AU87: 2
C88: 3 | D88: K | E88: R02.3.3 | F88: Demontáž, repase a montáž stabilních laviček a kolostavu a vývěskových tabulí do betonových patek dle technologie výrobce | G88: ks | H88: 6 | J88: =ROUND(I88*H88,2) -> 0 | N88: základní | P88: =O88*H88 -> 0 | Q88: 0 | R88: =Q88*H88 -> 0 | S88: 0 | T88: =S88*H88 -> 0 | AR88: 4 | AT88: K | AU88: 2 | AY88: ROZPOCET | BE88: =IF(N88="základní",J88,0) -> 0 | BF88: =IF(N88="snížená",J88,0) -> 0 | BG88: =IF(N88="zákl. přenesená",J88,0) -> 0 | BH88: =IF(N88="sníž. přenesená",J88,0) -> 0 | BI88: =IF(N88="nulová",J88,0) -> 0 | BJ88: 1 | BK88: =ROUND(I88*H88,2) -> 0 | BL88: 4 | BM88: 6
D89: PP | F89: Demontáž, repase a montáž stabilních laviček a kolostavu a vývěskových tabulí do betonových patek dle technologie výrobce | AT89: PP | AU89: 2
C90: 4 | D90: K | E90: R02.3.4 | F90: Montáž stabilních odpadkových košů do betonových patek dle technologie výrobce | G90: ks | H90: 2 | J90: =ROUND(I90*H90,2) -> 0 | N90: základní | P90: =O90*H90 -> 0 | Q90: 0 | R90: =Q90*H90 -> 0 | S90: 0 | T90: =S90*H90 -> 0 | AR90: 4 | AT90: K | AU90: 2 | AY90: ROZPOCET | BE90: =IF(N90="základní",J90,0) -> 0 | BF90: =IF(N90="snížená",J90,0) -> 0 | BG90: =IF(N90="zákl. přenesená",J90,0) -> 0 | BH90: =IF(N90="sníž. přenesená",J90,0) -> 0 | BI90: =IF(N90="nulová",J90,0) -> 0 | BJ90: 1 | BK90: =ROUND(I90*H90,2) -> 0 | BL90: 4 | BM90: 8
D91: PP | F91: Montáž stabilních odpadkových košů do betonových patek dle technologie výrobce | AT91: PP | AU91: 2
C92: 5 | D92: K | E92: R02.3.5 | F92: pokládka kabelu do 2,5mm2 a zemnícího pásku FeZn | G92: bm | H92: 17 | J92: =ROUND(I92*H92,2) -> 0 | N92: základní | P92: =O92*H92 -> 0 | Q92: 0 | R92: =Q92*H92 -> 0 | S92: 0 | T92: =S92*H92 -> 0 | AR92: 4 | AT92: K | AU92: 2 | AY92: ROZPOCET | BE92: =IF(N92="základní",J92,0) -> 0 | BF92: =IF(N92="snížená",J92,0) -> 0 | BG92: =IF(N92="zákl. přenesená",J92,0) -> 0 | BH92: =IF(N92="sníž. přenesená",J92,0) -> 0 | BI92: =IF(N92="nulová",J92,0) -> 0 | BJ92: 1 | BK92: =ROUND(I92*H92,2) -> 0 | BL92: 4 | BM92: 10
D93: PP | F93: pokládka kabelu do 2,5mm2 a zemnícího pásku FeZn | AT93: PP | AU93: 2
C94: 6 | D94: K | E94: R02.3.6 | F94: pokládka trubky duolight | G94: bm | H94: 19 | J94: =ROUND(I94*H94,2) -> 0 | N94: základní | P94: =O94*H94 -> 0 | Q94: 0 | R94: =Q94*H94 -> 0 | S94: 0 | T94: =S94*H94 -> 0 | AR94: 4 | AT94: K | AU94: 2 | AY94: ROZPOCET | BE94: =IF(N94="základní",J94,0) -> 0 | BF94: =IF(N94="snížená",J94,0) -> 0 | BG94: =IF(N94="zákl. přenesená",J94,0) -> 0 | BH94: =IF(N94="sníž. přenesená",J94,0) -> 0 | BI94: =IF(N94="nulová",J94,0) -> 0 | BJ94: 1 | BK94: =ROUND(I94*H94,2) -> 0 | BL94: 4 | BM94: 12
D95: PP | F95: pokládka trubky duolight | AT95: PP | AU95: 2
C96: 7 | D96: K | E96: R02.3.7 | F96: montáž a zapojení infotabule | G96: ks | H96: 1 | J96: =ROUND(I96*H96,2) -> 0 | N96: základní | P96: =O96*H96 -> 0 | Q96: 0 | R96: =Q96*H96 -> 0 | S96: 0 | T96: =S96*H96 -> 0 | AR96: 4 | AT96: K | AU96: 2 | AY96: ROZPOCET | BE96: =IF(N96="základní",J96,0) -> 0 | BF96: =IF(N96="snížená",J96,0) -> 0 | BG96: =IF(N96="zákl. přenesená",J96,0) -> 0 | BH96: =IF(N96="sníž. přenesená",J96,0) -> 0 | BI96: =IF(N96="nulová",J96,0) -> 0 | BJ96: 1 | BK96: =ROUND(I96*H96,2) -> 0 | BL96: 4 | BM96: 14
D97: PP | F97: montáž a zapojení infotabule | AT97: PP | AU97: 2
C98: 8 | D98: K | E98: R02.3.8 | F98: pískování lože kabelového | G98: m3 | H98: 1 | J98: =ROUND(I98*H98,2) -> 0 | N98: základní | P98: =O98*H98 -> 0 | Q98: 0 | R98: =Q98*H98 -> 0 | S98: 0 | T98: =S98*H98 -> 0 | AR98: 4 | AT98: K | AU98: 2 | AY98: ROZPOCET | BE98: =IF(N98="základní",J98,0) -> 0 | BF98: =IF(N98="snížená",J98,0) -> 0 | BG98: =IF(N98="zákl. přenesená",J98,0) -> 0 | BH98: =IF(N98="sníž. přenesená",J98,0) -> 0 | BI98: =IF(N98="nulová",J98,0) -> 0 | BJ98: 1 | BK98: =ROUND(I98*H98,2) -> 0 | BL98: 4 | BM98: 16
D99: PP | F99: pískování lože kabelového | AT99: PP | AU99: 2
C100: 9 | D100: K | E100: R02.3.9 | F100: zemní práce - výkop/zához 0,8x0,3 m | G100: m3 | H100: 5 | J100: =ROUND(I100*H100,2) -> 0 | N100: základní | P100: =O100*H100 -> 0 | Q100: 0 | R100: =Q100*H100 -> 0 | S100: 0 | T100: =S100*H100 -> 0 | AR100: 4 | AT100: K | AU100: 2 | AY100: ROZPOCET | BE100: =IF(N100="základní",J100,0) -> 0 | BF100: =IF(N100="snížená",J100,0) -> 0 | BG100: =IF(N100="zákl. přenesená",J100,0) -> 0 | BH100: =IF(N100="sníž. přenesená",J100,0) -> 0 | BI100: =IF(N100="nulová",J100,0) -> 0 | BJ100: 1 | BK100: =ROUND(I100*H100,2) -> 0 | BL100: 4 | BM100: 18
D101: PP | F101: zemní práce - výkop/zához 0,8x0,3 m | AT101: PP | AU101: 2
C102: 10 | D102: K | E102: R02.3.10 | F102: hutnění kabelových drážek | G102: bm | H102: 17 | J102: =ROUND(I102*H102,2) -> 0 | N102: základní | P102: =O102*H102 -> 0 | Q102: 0 | R102: =Q102*H102 -> 0 | S102: 0 | T102: =S102*H102 -> 0 | AR102: 4 | AT102: K | AU102: 2 | AY102: ROZPOCET | BE102: =IF(N102="základní",J102,0) -> 0 | BF102: =IF(N102="snížená",J102,0) -> 0 | BG102: =IF(N102="zákl. přenesená",J102,0) -> 0 | BH102: =IF(N102="sníž. přenesená",J102,0) -> 0 | BI102: =IF(N102="nulová",J102,0) -> 0 | BJ102: 1 | BK102: =ROUND(I102*H102,2) -> 0 | BL102: 4 | BM102: 20
D103: PP | F103: hutnění kabelových drážek | AT103: PP | AU103: 2
C104: 11 | D104: K | E104: R02.3.11 | F104: Přesun hmot pro TÚ | G104: t | H104: 14 | J104: =ROUND(I104*H104,2) -> 0 | N104: základní | P104: =O104*H104 -> 0 | Q104: 0 | R104: =Q104*H104 -> 0 | S104: 0 | T104: =S104*H104 -> 0 | AR104: 4 | AT104: K | AU104: 2 | AY104: ROZPOCET | BE104: =IF(N104="základní",J104,0) -> 0 | BF104: =IF(N104="snížená",J104,0) -> 0 | BG104: =IF(N104="zákl. přenesená",J104,0) -> 0 | BH104: =IF(N104="sníž. přenesená",J104,0) -> 0 | BI104: =IF(N104="nulová",J104,0) -> 0 | BJ104: 1 | BK104: =ROUND(I104*H104,2) -> 0 | BL104: 4 | BM104: 22
D105: PP | F105: Přesun hmot pro TÚ | AT105: PP | AU105: 2
C106: 12 | D106: M | E106: R02.3.12 | F106: Lavice parková s opěradlem dřevo/kov - REPASOVANÁ | G106: ks | H106: 3 | J106: =ROUND(I106*H106,2) -> 0 | N106: základní | P106: =O106*H106 -> 0 | Q106: 0 | R106: =Q106*H106 -> 0 | S106: 0 | T106: =S106*H106 -> 0 | AR106: 8 | AT106: M | AU106: 2 | AY106: ROZPOCET | BE106: =IF(N106="základní",J106,0) -> 0 | BF106: =IF(N106="snížená",J106,0) -> 0 | BG106: =IF(N106="zákl. přenesená",J106,0) -> 0 | BH106: =IF(N106="sníž. přenesená",J106,0) -> 0 | BI106: =IF(N106="nulová",J106,0) -> 0 | BJ106: 1 | BK106: =ROUND(I106*H106,2) -> 0 | BL106: 4 | BM106: 24
D107: PP | F107: Lavice parková s opěradlem dřevo/kov - REPASOVANÁ | AT107: PP | AU107: 2
C108: 13 | D108: M | E108: R02.3.13 | F108: Interaktivní infotabule - PŘEMÍSŤOVANÁ | G108: ks | H108: 1 | J108: =ROUND(I108*H108,2) -> 0 | N108: základní | P108: =O108*H108 -> 0 | Q108: 0 | R108: =Q108*H108 -> 0 | S108: 0 | T108: =S108*H108 -> 0 | AR108: 8 | AT108: M | AU108: 2 | AY108: ROZPOCET | BE108: =IF(N108="základní",J108,0) -> 0 | BF108: =IF(N108="snížená",J108,0) -> 0 | BG108: =IF(N108="zákl. přenesená",J108,0) -> 0 | BH108: =IF(N108="sníž. přenesená",J108,0) -> 0 | BI108: =IF(N108="nulová",J108,0) -> 0 | BJ108: 1 | BK108: =ROUND(I108*H108,2) -> 0 | BL108: 4 | BM108: 26
D109: PP | F109: Interaktivní infotabule - PŘEMÍSŤOVANÁ | AT109: PP | AU109: 2
C110: 14 | D110: M | E110: R02.3.14 | F110: Odpadkový koš kov | G110: ks | H110: 2 | J110: =ROUND(I110*H110,2) -> 0 | N110: základní | P110: =O110*H110 -> 0 | Q110: 0 | R110: =Q110*H110 -> 0 | S110: 0 | T110: =S110*H110 -> 0 | AR110: 8 | AT110: M | AU110: 2 | AY110: ROZPOCET | BE110: =IF(N110="základní",J110,0) -> 0 | BF110: =IF(N110="snížená",J110,0) -> 0 | BG110: =IF(N110="zákl. přenesená",J110,0) -> 0 | BH110: =IF(N110="sníž. přenesená",J110,0) -> 0 | BI110: =IF(N110="nulová",J110,0) -> 0 | BJ110: 1 | BK110: =ROUND(I110*H110,2) -> 0 | BL110: 4 | BM110: 28
D111: PP | F111: Odpadkový koš kov | AT111: PP | AU111: 2
C112: 15 | D112: M | E112: R02.3.15 | F112: Stojan na kola kov - REPASOVANÝ | G112: ks | H112: 1 | J112: =ROUND(I112*H112,2) -> 0 | N112: základní | P112: =O112*H112 -> 0 | Q112: 0 | R112: =Q112*H112 -> 0 | S112: 0 | T112: =S112*H112 -> 0 | AR112: 8 | AT112: M | AU112: 2 | AY112: ROZPOCET | BE112: =IF(N112="základní",J112,0) -> 0 | BF112: =IF(N112="snížená",J112,0) -> 0 | BG112: =IF(N112="zákl. přenesená",J112,0) -> 0 | BH112: =IF(N112="sníž. přenesená",J112,0) -> 0 | BI112: =IF(N112="nulová",J112,0) -> 0 | BJ112: 1 | BK112: =ROUND(I112*H112,2) -> 0 | BL112: 4 | BM112: 30
D113: PP | F113: Stojan na kola kov - REPASOVANÝ | AT113: PP | AU113: 2
C114: 16 | D114: M | E114: R02.3.16 | F114: Vývěsková tabule - REPASOVANÁ | G114: ks | H114: 2 | J114: =ROUND(I114*H114,2) -> 0 | N114: základní | P114: =O114*H114 -> 0 | Q114: 0 | R114: =Q114*H114 -> 0 | S114: 0 | T114: =S114*H114 -> 0 | AR114: 8 | AT114: M | AU114: 2 | AY114: ROZPOCET | BE114: =IF(N114="základní",J114,0) -> 0 | BF114: =IF(N114="snížená",J114,0) -> 0 | BG114: =IF(N114="zákl. přenesená",J114,0) -> 0 | BH114: =IF(N114="sníž. přenesená",J114,0) -> 0 | BI114: =IF(N114="nulová",J114,0) -> 0 | BJ114: 1 | BK114: =ROUND(I114*H114,2) -> 0 | BL114: 4 | BM114: 32
D115: PP | F115: Vývěsková tabule - REPASOVANÁ | AT115: PP | AU115: 2
C116: 17 | D116: M | E116: R02.3.17 | F116: kabel CYKY 5Cx2.5 mm2 | G116: bm | H116: 19 | J116: =ROUND(I116*H116,2) -> 0 | N116: základní | P116: =O116*H116 -> 0 | Q116: 0 | R116: =Q116*H116 -> 0 | S116: 0 | T116: =S116*H116 -> 0 | AR116: 8 | AT116: M | AU116: 2 | AY116: ROZPOCET | BE116: =IF(N116="základní",J116,0) -> 0 | BF116: =IF(N116="snížená",J116,0) -> 0 | BG116: =IF(N116="zákl. přenesená",J116,0) -> 0 | BH116: =IF(N116="sníž. přenesená",J116,0) -> 0 | BI116: =IF(N116="nulová",J116,0) -> 0 | BJ116: 1 | BK116: =ROUND(I116*H116,2) -> 0 | BL116: 4 | BM116: 34
D117: PP | F117: kabel CYKY 5Cx2.5 mm2 | AT117: PP | AU117: 2
C118: 18 | D118: M | E118: R02.3.18 | F118: zemnící pásek FeZn 30x4mm | G118: kg | H118: 2 | J118: =ROUND(I118*H118,2) -> 0 | N118: základní | P118: =O118*H118 -> 0 | Q118: 0 | R118: =Q118*H118 -> 0 | S118: 0 | T118: =S118*H118 -> 0 | AR118: 8 | AT118: M | AU118: 2 | AY118: ROZPOCET | BE118: =IF(N118="základní",J118,0) -> 0 | BF118: =IF(N118="snížená",J118,0) -> 0 | BG118: =IF(N118="zákl. přenesená",J118,0) -> 0 | BH118: =IF(N118="sníž. přenesená",J118,0) -> 0 | BI118: =IF(N118="nulová",J118,0) -> 0 | BJ118: 1 | BK118: =ROUND(I118*H118,2) -> 0 | BL118: 4 | BM118: 36
D119: PP | F119: zemnící pásek FeZn 30x4mm | AT119: PP | AU119: 2
C120: 19 | D120: M | E120: R02.3.19 | F120: trubka duolight 110mm | G120: bm | H120: 3 | J120: =ROUND(I120*H120,2) -> 0 | N120: základní | P120: =O120*H120 -> 0 | Q120: 0 | R120: =Q120*H120 -> 0 | S120: 0 | T120: =S120*H120 -> 0 | AR120: 8 | AT120: M | AU120: 2 | AY120: ROZPOCET | BE120: =IF(N120="základní",J120,0) -> 0 | BF120: =IF(N120="snížená",J120,0) -> 0 | BG120: =IF(N120="zákl. přenesená",J120,0) -> 0 | BH120: =IF(N120="sníž. přenesená",J120,0) -> 0 | BI120: =IF(N120="nulová",J120,0) -> 0 | BJ120: 1 | BK120: =ROUND(I120*H120,2) -> 0 | BL120: 4 | BM120: 38
D121: PP | F121: trubka duolight 110mm | AT121: PP | AU121: 2
C122: 20 | D122: M | E122: R02.3.20 | F122: folie výstražná KD 200 | G122: bm | H122: 17 | J122: =ROUND(I122*H122,2) -> 0 | N122: základní | P122: =O122*H122 -> 0 | Q122: 0 | R122: =Q122*H122 -> 0 | S122: 0 | T122: =S122*H122 -> 0 | AR122: 8 | AT122: M | AU122: 2 | AY122: ROZPOCET | BE122: =IF(N122="základní",J122,0) -> 0 | BF122: =IF(N122="snížená",J122,0) -> 0 | BG122: =IF(N122="zákl. přenesená",J122,0) -> 0 | BH122: =IF(N122="sníž. přenesená",J122,0) -> 0 | BI122: =IF(N122="nulová",J122,0) -> 0 | BJ122: 1 | BK122: =ROUND(I122*H122,2) -> 0 | BL122: 4 | BM122: 40
D123: PP | F123: folie výstražná KD 200 | AT123: PP | AU123: 2
C124: 21 | D124: M | E124: R02.3.21 | F124: spojka gelová 230V | G124: ks | H124: 2 | J124: =ROUND(I124*H124,2) -> 0 | N124: základní | P124: =O124*H124 -> 0 | Q124: 0 | R124: =Q124*H124 -> 0 | S124: 0 | T124: =S124*H124 -> 0 | AR124: 8 | AT124: M | AU124: 2 | AY124: ROZPOCET | BE124: =IF(N124="základní",J124,0) -> 0 | BF124: =IF(N124="snížená",J124,0) -> 0 | BG124: =IF(N124="zákl. přenesená",J124,0) -> 0 | BH124: =IF(N124="sníž. přenesená",J124,0) -> 0 | BI124: =IF(N124="nulová",J124,0) -> 0 | BJ124: 1 | BK124: =ROUND(I124*H124,2) -> 0 | BL124: 4 | BM124: 42
D125: PP | F125: spojka gelová 230V | AT125: PP | AU125: 2
C126: 22 | D126: M | E126: R02.3.22 | F126: trubka duolight 50mm | G126: bm | H126: 17 | J126: =ROUND(I126*H126,2) -> 0 | N126: základní | P126: =O126*H126 -> 0 | Q126: 0 | R126: =Q126*H126 -> 0 | S126: 0 | T126: =S126*H126 -> 0 | AR126: 8 | AT126: M | AU126: 2 | AY126: ROZPOCET | BE126: =IF(N126="základní",J126,0) -> 0 | BF126: =IF(N126="snížená",J126,0) -> 0 | BG126: =IF(N126="zákl. přenesená",J126,0) -> 0 | BH126: =IF(N126="sníž. přenesená",J126,0) -> 0 | BI126: =IF(N126="nulová",J126,0) -> 0 | BJ126: 1 | BK126: =ROUND(I126*H126,2) -> 0 | BL126: 4 | BM126: 44
D127: PP | F127: trubka duolight 50mm | AT127: PP | AU127: 2
C128: 23 | D128: M | E128: R02.3.23 | F128: písek lože kabelového | G128: m3 | H128: 1 | J128: =ROUND(I128*H128,2) -> 0 | N128: základní | P128: =O128*H128 -> 0 | Q128: 0 | R128: =Q128*H128 -> 0 | S128: 0 | T128: =S128*H128 -> 0 | AR128: 8 | AT128: M | AU128: 2 | AY128: ROZPOCET | BE128: =IF(N128="základní",J128,0) -> 0 | BF128: =IF(N128="snížená",J128,0) -> 0 | BG128: =IF(N128="zákl. přenesená",J128,0) -> 0 | BH128: =IF(N128="sníž. přenesená",J128,0) -> 0 | BI128: =IF(N128="nulová",J128,0) -> 0 | BJ128: 1 | BK128: =ROUND(I128*H128,2) -> 0 | BL128: 4 | BM128: 46
D129: PP | F129: písek lože kabelového | AT129: PP | AU129: 2
C130: 24 | D130: M | E130: R02.3.24 | F130: spojovací a nespecifikovaný mat. | G130: spr | H130: 1 | J130: =ROUND(I130*H130,2) -> 0 | N130: základní | P130: =O130*H130 -> 0 | Q130: 0 | R130: =Q130*H130 -> 0 | S130: 0 | T130: =S130*H130 -> 0 | AR130: 8 | AT130: M | AU130: 2 | AY130: ROZPOCET | BE130: =IF(N130="základní",J130,0) -> 0 | BF130: =IF(N130="snížená",J130,0) -> 0 | BG130: =IF(N130="zákl. přenesená",J130,0) -> 0 | BH130: =IF(N130="sníž. přenesená",J130,0) -> 0 | BI130: =IF(N130="nulová",J130,0) -> 0 | BJ130: 1 | BK130: =ROUND(I130*H130,2) -> 0 | BL130: 4 | BM130: 48
D131: PP | F131: spojovací a nespecifikovaný mat. | AT131: PP | AU131: 2
C132: 25 | D132: M | E132: R02.3.25 | F132: Beton prostý C20/25 pro kotvení prvků mobiliáře | G132: m3 | H132: 1.5 | J132: =ROUND(I132*H132,2) -> 0 | N132: základní | P132: =O132*H132 -> 0 | Q132: 0 | R132: =Q132*H132 -> 0 | S132: 0 | T132: =S132*H132 -> 0 | AR132: 8 | AT132: M | AU132: 2 | AY132: ROZPOCET | BE132: =IF(N132="základní",J132,0) -> 0 | BF132: =IF(N132="snížená",J132,0) -> 0 | BG132: =IF(N132="zákl. přenesená",J132,0) -> 0 | BH132: =IF(N132="sníž. přenesená",J132,0) -> 0 | BI132: =IF(N132="nulová",J132,0) -> 0 | BJ132: 1 | BK132: =ROUND(I132*H132,2) -> 0 | BL132: 4 | BM132: 50
D133: PP | F133: Beton prostý C20/25 pro kotvení prvků mobiliáře | AT133: PP | AU133: 2

Sheet 03 - Zdravotně technické ...
L2: >> skryté sloupce << | AT2: {067a5742-fb48-4f5c-bf49-9883c0a9dd23}
AT3: 2
D4: KRYCÍ LIST SOUPISU PRACÍ | M4: v --- níže se nacházejí doplnkové a pomocné údaje k sestavám --- v | AT4: False
D6: Stavba:
E7: ='Rekapitulace stavby'!K6 -> Revitalizace zázemí městské knihovny a předprostoru Lázeňského parku Poděbrady
D8: Objekt:
E9: 03 - Zdravotně technické ...
D11: KSO: | I11: CC-CZ:
D12: Místo: | I12: Datum: | J12: ='Rekapitulace stavby'!AN8 -> 24. 6. 2026
D14: Zadavatel: | I14: IČ: | J14: =IF('Rekapitulace stavby'!AN10="","",'Rekapitulace stavby'!AN10)
E15: =IF('Rekapitulace stavby'!E11="","",'Rekapitulace stavby'!E11) -> Město Poděbrady | I15: DIČ: | J15: =IF('Rekapitulace stavby'!AN11="","",'Rekapitulace stavby'!AN11)
D17: Účastník: | I17: IČ: | J17: ='Rekapitulace stavby'!AN13 -> Vyplň údaj
E18: ='Rekapitulace stavby'!E14 -> Vyplň údaj | I18: DIČ: | J18: ='Rekapitulace stavby'!AN14 -> Vyplň údaj
D20: Projektant: | I20: IČ: | J20: =IF('Rekapitulace stavby'!AN16="","",'Rekapitulace stavby'!AN16)
E21: =IF('Rekapitulace stavby'!E17="","",'Rekapitulace stavby'!E17) | I21: DIČ: | J21: =IF('Rekapitulace stavby'!AN17="","",'Rekapitulace stavby'!AN17)
D23: Zpracovatel: | I23: IČ: | J23: =IF('Rekapitulace stavby'!AN19="","",'Rekapitulace stavby'!AN19)
E24: =IF('Rekapitulace stavby'!E20="","",'Rekapitulace stavby'!E20) | I24: DIČ: | J24: =IF('Rekapitulace stavby'!AN20="","",'Rekapitulace stavby'!AN20)
D26: Poznámka:
D30: Cena bez DPH | J30: =ROUND(J92, 2) -> 0
F32: Základ daně | I32: Sazba daně | J32: Výše daně
D33: DPH | E33: základní | F33: =ROUND((SUM(BE92:BE840)), 2) -> 0 | I33: 0.21 | J33: =ROUND(((SUM(BE92:BE840))*I33), 2) -> 0
E34: snížená | F34: =ROUND((SUM(BF92:BF840)), 2) -> 0 | I34: 0.12 | J34: =ROUND(((SUM(BF92:BF840))*I34), 2) -> 0
E35: zákl. přenesená | F35: =ROUND((SUM(BG92:BG840)), 2) -> 0 | I35: 0.21 | J35: =0 -> 0
E36: sníž. přenesená | F36: =ROUND((SUM(BH92:BH840)), 2) -> 0 | I36: 0.12 | J36: =0 -> 0
E37: nulová | F37: =ROUND((SUM(BI92:BI840)), 2) -> 0 | I37: 0 | J37: =0 -> 0
D39: Cena s DPH | G39: v | H39: CZK | J39: =SUM(J30:J37) -> 0
C45: REKAPITULACE ČLENĚNÍ SOUPISU PRACÍ
C47: Stavba:
E48: =E7 -> Revitalizace zázemí městské knihovny a předprostoru Lázeňského parku Poděbrady
C49: Objekt:
E50: =E9 -> 03 - Zdravotně technické ...
C52: Místo: | F52: =F12 | I52: Datum: | J52: =IF(J12="","",J12) -> 24. 6. 2026
C54: Zadavatel: | F54: =E15 -> Město Poděbrady | I54: Projektant: | J54: =E21
C55: Účastník: | F55: =IF(E18="","",E18) -> Vyplň údaj | I55: Zpracovatel: | J55: =E24
C57: Kód dílu - Popis | J57: Cena celkem [CZK]
C59: Náklady stavby celkem | J59: =J92 -> 0 | AU59: -1
D60: HSV - Práce a dodávky HSV | J60: =J93 -> 0
D61: 1 - Zemní práce | J61: =J94 -> 0
D62: 2 - Zakládání | J62: =J304 -> 0
D63: 4 - Vodorovné konstrukce | J63: =J334 -> 0
D64: 5 - Komunikace pozemní | J64: =J371 -> 0
D65: 8 - Vedení trubní dálková a přípojná | J65: =J391 -> 0
D66: 9 - Ostatní konstrukce a práce, bourání | J66: =J602 -> 0
D67: 997 - Doprava suti a vybouraných hmot | J67: =J618 -> 0
D68: 998 - Přesun hmot | J68: =J667 -> 0
D69: PSV - Práce a dodávky PSV | J69: =J671 -> 0
D70: 721 - Zdravotechnika - vnitřní kanalizace | J70: =J672 -> 0
D71: 722 - Zdravotechnika - vnitřní vodovod | J71: =J741 -> 0
D72: 725 - Zdravotechnika - zařizovací předměty | J72: =J823 -> 0
C79: SOUPIS PRACÍ
C81: Stavba:
E82: =E7 -> Revitalizace zázemí městské knihovny a předprostoru Lázeňského parku Poděbrady
C83: Objekt:
E84: =E9 -> 03 - Zdravotně technické ...
C86: Místo: | F86: =F12 | I86: Datum: | J86: =IF(J12="","",J12) -> 24. 6. 2026
C88: Zadavatel: | F88: =E15 -> Město Poděbrady | I88: Projektant: | J88: =E21
C89: Účastník: | F89: =IF(E18="","",E18) -> Vyplň údaj | I89: Zpracovatel: | J89: =E24
C91: PČ | D91: Typ | E91: Kód | F91: Popis | G91: MJ | H91: Množství | I91: J.cena [CZK] | J91: Cena celkem [CZK] | K91: Cenová soustava | N91: DPH | O91: J. Nh [h] | P91: Nh celkem [h] | Q91: J. hmotnost [t] | R91: Hmotnost celkem [t] | S91: J. suť [t] | T91: Suť Celkem [t]
C92: Náklady soupisu celkem | J92: =BK92 -> 0 | P92: =P93+P671 -> 0 | R92: =R93+R671 -> 160.54859 | T92: =T93+T671 -> 5.1042 | AT92: D | AU92: -1 | BK92: =BK93+BK671 -> 0
D93: D | E93: HSV | F93: Práce a dodávky HSV | J93: =BK93 -> 0 | P93: =P94+P304+P334+P371+P391+P602+P618+P667 -> 0 | R93: =R94+R304+R334+R371+R391+R602+R618+R667 -> 160.49899 | T93: =T94+T304+T334+T371+T391+T602+T618+T667 -> 5.1042 | AR93: 1 | AT93: D | AU93: 0 | AY93: ROZPOCET | BK93: =BK94+BK304+BK334+BK371+BK391+BK602+BK618+BK667 -> 0
D94: D | E94: 1 | F94: Zemní práce | J94: =BK94 -> 0 | P94: =SUM(P95:P303) -> 0 | R94: =SUM(R95:R303) -> 114.83636 | T94: =SUM(T95:T303) -> 3.3 | AR94: 1 | AT94: D | AU94: 1 | AY94: ROZPOCET | BK94: =SUM(BK95:BK303) -> 0
C95: 1 | D95: K | E95: 113106123 | F95: Rozebrání dlažeb ze zámkových dlaždic komunikací pro pěší ručně | G95: m2 | H95: 6 | J95: =ROUND(I95*H95,2) -> 0 | K95: CS ÚRS 2026 01 | N95: základní | P95: =O95*H95 -> 0 | Q95: 0 | R95: =Q95*H95 -> 0 | S95: 0.26 | T95: =S95*H95 -> 1.56 | AR95: 4 | AT95: K | AU95: 2 | AY95: ROZPOCET | BE95: =IF(N95="základní",J95,0) -> 0 | BF95: =IF(N95="snížená",J95,0) -> 0 | BG95: =IF(N95="zákl. přenesená",J95,0) -> 0 | BH95: =IF(N95="sníž. přenesená",J95,0) -> 0 | BI95: =IF(N95="nulová",J95,0) -> 0 | BJ95: 1 | BK95: =ROUND(I95*H95,2) -> 0 | BL95: 4 | BM95: 2
D96: PP | F96: Rozebrání dlažeb komunikací pro pěší s přemístěním hmot na skládku na vzdálenost do 3 m nebo s naložením na dopravní prostředek s ložem z kameniva nebo živice a s jakoukoliv výplní spár ručně ze zámkové dlažby | AT96: PP | AU96: 2
D97: Online PSC | F97: https://podminky.urs.cz/item/CS_URS_2026_01/113106123 | AT97: Online PSC | AU97: 2
D98: VV | F98: viz. výkres č. ZT5 | AT98: VV | AU98: 2 | AV98: 1 | AW98: True | AX98: 0 | AY98: ROZPOCET
D99: VV | F99: Kanalizační přípojka | AT99: VV | AU99: 2 | AV99: 1 | AW99: True | AX99: 0 | AY99: ROZPOCET
D100: VV | F100: 1,0*6,0 | H100: 6 | AT100: VV | AU100: 2 | AV100: 2 | AW100: True | AX100: 0 | AY100: ROZPOCET
D101: VV | F101: Součet | H101: 6 | AT101: VV | AU101: 2 | AV101: 4 | AW101: True | AX101: 1 | AY101: ROZPOCET
C102: 2 | D102: K | E102: 113107122 | F102: Odstranění podkladu z kameniva drceného tl přes 100 do 200 mm ručně | G102: m2 | H102: 6 | J102: =ROUND(I102*H102,2) -> 0 | K102: CS ÚRS 2026 01 | N102: základní | P102: =O102*H102 -> 0 | Q102: 0 | R102: =Q102*H102 -> 0 | S102: 0.29 | T102: =S102*H102 -> 1.74 | AR102: 4 | AT102: K | AU102: 2 | AY102: ROZPOCET | BE102: =IF(N102="základní",J102,0) -> 0 | BF102: =IF(N102="snížená",J102,0) -> 0 | BG102: =IF(N102="zákl. přenesená",J102,0) -> 0 | BH102: =IF(N102="sníž. přenesená",J102,0) -> 0 | BI102: =IF(N102="nulová",J102,0) -> 0 | BJ102: 1 | BK102: =ROUND(I102*H102,2) -> 0 | BL102: 4 | BM102: 4
D103: PP | F103: Odstranění podkladů nebo krytů ručně s přemístěním hmot na skládku na vzdálenost do 3 m nebo s naložením na dopravní prostředek z kameniva hrubého drceného, o tl. vrstvy přes 100 do 200 mm | AT103: PP | AU103: 2
D104: Online PSC | F104: https://podminky.urs.cz/item/CS_URS_2026_01/113107122 | AT104: Online PSC | AU104: 2
D105: VV | F105: 6,0 "výpočet v pol.č. 113106123" | H105: 6 | AT105: VV | AU105: 2 | AV105: 2 | AW105: True | AX105: 0 | AY105: ROZPOCET
D106: VV | F106: Součet | H106: 6 | AT106: VV | AU106: 2 | AV106: 4 | AW106: True | AX106: 1 | AY106: ROZPOCET
C107: 3 | D107: K | E107: 119001405 | F107: Dočasné zajištění potrubí z PE DN do 200 mm | G107: m | H107: 1 | J107: =ROUND(I107*H107,2) -> 0 | K107: CS ÚRS 2026 01 | N107: základní | P107: =O107*H107 -> 0 | Q107: 0.0369043 | R107: =Q107*H107 -> 0.0369043 | S107: 0 | T107: =S107*H107 -> 0 | AR107: 4 | AT107: K | AU107: 2 | AY107: ROZPOCET | BE107: =IF(N107="základní",J107,0) -> 0 | BF107: =IF(N107="snížená",J107,0) -> 0 | BG107: =IF(N107="zákl. přenesená",J107,0) -> 0 | BH107: =IF(N107="sníž. přenesená",J107,0) -> 0 | BI107: =IF(N107="nulová",J107,0) -> 0 | BJ107: 1 | BK107: =ROUND(I107*H107,2) -> 0 | BL107: 4 | BM107: 6
D108: PP | F108: Dočasné zajištění podzemního potrubí nebo vedení ve výkopišti ve stavu i poloze, ve kterých byla na začátku zemních prací a to s podepřením, vzepřením nebo vyvěšením, případně s ochranným bedněním, se zřízením a odstraněním zajišťovací konstrukce, s opotřebením hmot potrubí plastového, jmenovité světlosti DN do 200 mm | AT108: PP | AU108: 2
D109: Online PSC | F109: https://podminky.urs.cz/item/CS_URS_2026_01/119001405 | AT109: Online PSC | AU109: 2
D110: VV | F110: viz. výkres č. ZT5 | AT110: VV | AU110: 2 | AV110: 1 | AW110: True | AX110: 0 | AY110: ROZPOCET
D111: VV | F111: 1,0 "plyn | H111: 1 | AT111: VV | AU111: 2 | AV111: 2 | AW111: True | AX111: 0 | AY111: ROZPOCET
D112: VV | F112: Součet | H112: 1 | AT112: VV | AU112: 2 | AV112: 4 | AW112: True | AX112: 1 | AY112: ROZPOCET
C113: 4 | D113: K | E113: 119001421 | F113: Dočasné zajištění kabelů a kabelových tratí ze 3 volně ložených kabelů | G113: m | H113: 4 | J113: =ROUND(I113*H113,2) -> 0 | K113: CS ÚRS 2026 01 | N113: základní | P113: =O113*H113 -> 0 | Q113: 0.0369043 | R113: =Q113*H113 -> 0.1476172 | S113: 0 | T113: =S113*H113 -> 0 | AR113: 4 | AT113: K | AU113: 2 | AY113: ROZPOCET | BE113: =IF(N113="základní",J113,0) -> 0 | BF113: =IF(N113="snížená",J113,0) -> 0 | BG113: =IF(N113="zákl. přenesená",J113,0) -> 0 | BH113: =IF(N113="sníž. přenesená",J113,0) -> 0 | BI113: =IF(N113="nulová",J113,0) -> 0 | BJ113: 1 | BK113: =ROUND(I113*H113,2) -> 0 | BL113: 4 | BM113: 8
D114: PP | F114: Dočasné zajištění podzemního potrubí nebo vedení ve výkopišti ve stavu i poloze, ve kterých byla na začátku zemních prací a to s podepřením, vzepřením nebo vyvěšením, případně s ochranným bedněním, se zřízením a odstraněním zajišťovací konstrukce, s opotřebením hmot kabelů a kabelových tratí z volně ložených kabelů a to do 3 kabelů | AT114: PP | AU114: 2
D115: Online PSC | F115: https://podminky.urs.cz/item/CS_URS_2026_01/119001421 | AT115: Online PSC | AU115: 2
D116: VV | F116: viz. výkres č. ZT5 | AT116: VV | AU116: 2 | AV116: 1 | AW116: True | AX116: 0 | AY116: ROZPOCET
D117: VV | F117: 1,0*4 "elektro NN, VN a cetin | H117: 4 | AT117: VV | AU117: 2 | AV117: 2 | AW117: True | AX117: 0 | AY117: ROZPOCET
D118: VV | F118: Součet | H118: 4 | AT118: VV | AU118: 2 | AV118: 4 | AW118: True | AX118: 1 | AY118: ROZPOCET
C119: 5 | D119: K | E119: 131251100 | F119: Hloubení jam nezapažených v hornině třídy těžitelnosti I skupiny 3 objem do 20 m3 strojně | G119: m3 | H119: 17.342 | J119: =ROUND(I119*H119,2) -> 0 | K119: CS ÚRS 2026 01 | N119: základní | P119: =O119*H119 -> 0 | Q119: 0 | R119: =Q119*H119 -> 0 | S119: 0 | T119: =S119*H119 -> 0 | AR119: 4 | AT119: K | AU119: 2 | AY119: ROZPOCET | BE119: =IF(N119="základní",J119,0) -> 0 | BF119: =IF(N119="snížená",J119,0) -> 0 | BG119: =IF(N119="zákl. přenesená",J119,0) -> 0 | BH119: =IF(N119="sníž. přenesená",J119,0) -> 0 | BI119: =IF(N119="nulová",J119,0) -> 0 | BJ119: 1 | BK119: =ROUND(I119*H119,2) -> 0 | BL119: 4 | BM119: 10
D120: PP | F120: Hloubení nezapažených jam a zářezů strojně s urovnáním dna do předepsaného profilu a spádu v hornině třídy těžitelnosti I skupiny 3 do 20 m3 | AT120: PP | AU120: 2
D121: Online PSC | F121: https://podminky.urs.cz/item/CS_URS_2026_01/131251100 | AT121: Online PSC | AU121: 2
D122: VV | F122: viz. výkres č. ZT2 | AT122: VV | AU122: 2 | AV122: 1 | AW122: True | AX122: 0 | AY122: ROZPOCET
D123: VV | F123: Vsakovací bloky | AT123: VV | AU123: 2 | AV123: 1 | AW123: True | AX123: 0 | AY123: ROZPOCET
D124: VV | F124: 2,6*5,8*1,15 | H124: 17.342 | AT124: VV | AU124: 2 | AV124: 2 | AW124: True | AX124: 0 | AY124: ROZPOCET
D125: VV | F125: Součet | H125: 17.342 | AT125: VV | AU125: 2 | AV125: 4 | AW125: True | AX125: 1 | AY125: ROZPOCET
C126: 6 | D126: K | E126: 132251101 | F126: Hloubení rýh nezapažených š do 800 mm v hornině třídy těžitelnosti I skupiny 3 objem do 20 m3 strojně | G126: m3 | H126: 4.5 | J126: =ROUND(I126*H126,2) -> 0 | K126: CS ÚRS 2026 01 | N126: základní | P126: =O126*H126 -> 0 | Q126: 0 | R126: =Q126*H126 -> 0 | S126: 0 | T126: =S126*H126 -> 0 | AR126: 4 | AT126: K | AU126: 2 | AY126: ROZPOCET | BE126: =IF(N126="základní",J126,0) -> 0 | BF126: =IF(N126="snížená",J126,0) -> 0 | BG126: =IF(N126="zákl. přenesená",J126,0) -> 0 | BH126: =IF(N126="sníž. přenesená",J126,0) -> 0 | BI126: =IF(N126="nulová",J126,0) -> 0 | BJ126: 1 | BK126: =ROUND(I126*H126,2) -> 0 | BL126: 4 | BM126: 12
D127: PP | F127: Hloubení nezapažených rýh šířky do 800 mm strojně s urovnáním dna do předepsaného profilu a spádu v hornině třídy těžitelnosti I skupiny 3 do 20 m3 | AT127: PP | AU127: 2
D128: Online PSC | F128: https://podminky.urs.cz/item/CS_URS_2026_01/132251101 | AT128: Online PSC | AU128: 2
D129: VV | F129: viz. výkres č. ZT2 | AT129: VV | AU129: 2 | AV129: 1 | AW129: True | AX129: 0 | AY129: ROZPOCET
D130: VV | F130: ODHAD HLOUBEK VEDENÍ POTRUBÍ | AT130: VV | AU130: 2 | AV130: 1 | AW130: True | AX130: 0 | AY130: ROZPOCET
D131: VV | F131: Vodovodní přípojka rušená | AT131: VV | AU131: 2 | AV131: 1 | AW131: True | AX131: 0 | AY131: ROZPOCET
D132: VV | F132: 0,5*1,5*6,0 | H132: 4.5 | AT132: VV | AU132: 2 | AV132: 2 | AW132: True | AX132: 0 | AY132: ROZPOCET
D133: VV | F133: Součet | H133: 4.5 | AT133: VV | AU133: 2 | AV133: 4 | AW133: True | AX133: 1 | AY133: ROZPOCET
...

Sheet 04 - Elektroinstalace
L2: >> skryté sloupce << | AT2: {8dac4b36-7b64-4324-8636-795a38699567}
AT3: 2
D4: KRYCÍ LIST SOUPISU PRACÍ | M4: v --- níže se nacházejí doplnkové a pomocné údaje k sestavám --- v | AT4: False
D6: Stavba:
E7: ='Rekapitulace stavby'!K6 -> Revitalizace zázemí městské knihovny a předprostoru Lázeňského parku Poděbrady
D8: Objekt:
E9: 04 - Elektroinstalace
D11: KSO: | I11: CC-CZ:
D12: Místo: | I12: Datum: | J12: ='Rekapitulace stavby'!AN8 -> 24. 6. 2026
D14: Zadavatel: | I14: IČ: | J14: =IF('Rekapitulace stavby'!AN10="","",'Rekapitulace stavby'!AN10)
E15: =IF('Rekapitulace stavby'!E11="","",'Rekapitulace stavby'!E11) -> Město Poděbrady | I15: DIČ: | J15: =IF('Rekapitulace stavby'!AN11="","",'Rekapitulace stavby'!AN11)
D17: Účastník: | I17: IČ: | J17: ='Rekapitulace stavby'!AN13 -> Vyplň údaj
E18: ='Rekapitulace stavby'!E14 -> Vyplň údaj | I18: DIČ: | J18: ='Rekapitulace stavby'!AN14 -> Vyplň údaj
D20: Projektant: | I20: IČ: | J20: =IF('Rekapitulace stavby'!AN16="","",'Rekapitulace stavby'!AN16)
E21: =IF('Rekapitulace stavby'!E17="","",'Rekapitulace stavby'!E17) | I21: DIČ: | J21: =IF('Rekapitulace stavby'!AN17="","",'Rekapitulace stavby'!AN17)
D23: Zpracovatel: | I23: IČ: | J23: =IF('Rekapitulace stavby'!AN19="","",'Rekapitulace stavby'!AN19)
E24: =IF('Rekapitulace stavby'!E20="","",'Rekapitulace stavby'!E20) | I24: DIČ: | J24: =IF('Rekapitulace stavby'!AN20="","",'Rekapitulace stavby'!AN20)
D26: Poznámka:
D30: Cena bez DPH | J30: =ROUND(J93, 2) -> 0
F32: Základ daně | I32: Sazba daně | J32: Výše daně
D33: DPH | E33: základní | F33: =ROUND((SUM(BE93:BE239)), 2) -> 0 | I33: 0.21 | J33: =ROUND(((SUM(BE93:BE239))*I33), 2) -> 0
E34: snížená | F34: =ROUND((SUM(BF93:BF239)), 2) -> 0 | I34: 0.12 | J34: =ROUND(((SUM(BF93:BF239))*I34), 2) -> 0
E35: zákl. přenesená | F35: =ROUND((SUM(BG93:BG239)), 2) -> 0 | I35: 0.21 | J35: =0 -> 0
E36: sníž. přenesená | F36: =ROUND((SUM(BH93:BH239)), 2) -> 0 | I36: 0.12 | J36: =0 -> 0
E37: nulová | F37: =ROUND((SUM(BI93:BI239)), 2) -> 0 | I37: 0 | J37: =0 -> 0
D39: Cena s DPH | G39: v | H39: CZK | J39: =SUM(J30:J37) -> 0
C45: REKAPITULACE ČLENĚNÍ SOUPISU PRACÍ
C47: Stavba:
E48: =E7 -> Revitalizace zázemí městské knihovny a předprostoru Lázeňského parku Poděbrady
C49: Objekt:
E50: =E9 -> 04 - Elektroinstalace
C52: Místo: | F52: =F12 | I52: Datum: | J52: =IF(J12="","",J12) -> 24. 6. 2026
C54: Zadavatel: | F54: =E15 -> Město Poděbrady | I54: Projektant: | J54: =E21
C55: Účastník: | F55: =IF(E18="","",E18) -> Vyplň údaj | I55: Zpracovatel: | J55: =E24
C57: Kód dílu - Popis | J57: Cena celkem [CZK]
C59: Náklady stavby celkem | J59: =J93 -> 0 | AU59: -1
D60: 741 - Elektroinstalace | J60: =J94 -> 0
D61: 741.1 - JEDNOŽILOVÉ VODIČE, IZOLACE PVC | J61: =J95 -> 0
D62: 741.2 - KABEL SILOVÝ, IZOLACE PVC | J62: =J104 -> 0
D63: 741.3 - Montáž elektroinstalačních lišt, ohebných trubek trubek | J63: =J119 -> 0
D64: 741.4 - Montáž elektroinstalačních přístrojů | J64: =J130 -> 0
D65: 741.5 - Montáž svítidel | J65: =J143 -> 0
D66: 741.6 - Montáž rozváděčů litinových, hliníkových nebo plastových skříněk hmotnosti | J66: =J152 -> 0
D67: 741.7 - Slaboproudé, datové rozvody | J67: =J179 -> 0
D68: 741.8 - Ukončení vodičů izolovaných s označením a zapojením v rozváděči nebo na přístroji | J68: =J184 -> 0
D69: 741.9 - Uzemnění | J69: =J191 -> 0
D70: 741.10 - Zkoušky a prohlídky elektrických rozvodů a zařízení celková prohlídka | J70: =J200 -> 0
D71: 741.11 - HODINOVE ZUCTOVACI SAZBY - stávající instalace | J71: =J203 -> 0
D72: 741.12 - HODINOVE ZUCTOVACI SAZBY | J72: =J214 -> 0
D73: 741.13 - Ostatní | J73: =J237 -> 0
C80: SOUPIS PRACÍ
C82: Stavba:
E83: =E7 -> Revitalizace zázemí městské knihovny a předprostoru Lázeňského parku Poděbrady
C84: Objekt:
E85: =E9 -> 04 - Elektroinstalace
C87: Místo: | F87: =F12 | I87: Datum: | J87: =IF(J12="","",J12) -> 24. 6. 2026
C89: Zadavatel: | F89: =E15 -> Město Poděbrady | I89: Projektant: | J89: =E21
C90: Účastník: | F90: =IF(E18="","",E18) -> Vyplň údaj | I90: Zpracovatel: | J90: =E24
C92: PČ | D92: Typ | E92: Kód | F92: Popis | G92: MJ | H92: Množství | I92: J.cena [CZK] | J92: Cena celkem [CZK] | K92: Cenová soustava | N92: DPH | O92: J. Nh [h] | P92: Nh celkem [h] | Q92: J. hmotnost [t] | R92: Hmotnost celkem [t] | S92: J. suť [t] | T92: Suť Celkem [t]
C93: Náklady soupisu celkem | J93: =BK93 -> 0 | P93: =P94 -> 0 | R93: =R94 -> 0 | T93: =T94 -> 0 | AT93: D | AU93: -1 | BK93: =BK94 -> 0
D94: D | E94: 741 | F94: Elektroinstalace | J94: =BK94 -> 0 | P94: =P95+P104+P119+P130+P143+P152+P179+P184+P191+P200+P203+P214+P237 -> 0 | R94: =R95+R104+R119+R130+R143+R152+R179+R184+R191+R200+R203+R214+R237 -> 0 | T94: =T95+T104+T119+T130+T143+T152+T179+T184+T191+T200+T203+T214+T237 -> 0 | AR94: 2 | AT94: D | AU94: 0 | AY94: ROZPOCET | BK94: =BK95+BK104+BK119+BK130+BK143+BK152+BK179+BK184+BK191+BK200+BK203+BK214+BK237 -> 0
D95: D | E95: 741.1 | F95: JEDNOŽILOVÉ VODIČE, IZOLACE PVC | J95: =BK95 -> 0 | P95: =SUM(P96:P103) -> 0 | R95: =SUM(R96:R103) -> 0 | T95: =SUM(T96:T103) -> 0 | AR95: 1 | AT95: D | AU95: 1 | AY95: ROZPOCET | BK95: =SUM(BK96:BK103) -> 0
C96: 1 | D96: K | E96: R04.1 | F96: kabel zelenožlutý CY10 | G96: m | H96: 23 | J96: =ROUND(I96*H96,2) -> 0 | N96: základní | P96: =O96*H96 -> 0 | Q96: 0 | R96: =Q96*H96 -> 0 | S96: 0 | T96: =S96*H96 -> 0 | AR96: 4 | AT96: K | AU96: 2 | AY96: ROZPOCET | BE96: =IF(N96="základní",J96,0) -> 0 | BF96: =IF(N96="snížená",J96,0) -> 0 | BG96: =IF(N96="zákl. přenesená",J96,0) -> 0 | BH96: =IF(N96="sníž. přenesená",J96,0) -> 0 | BI96: =IF(N96="nulová",J96,0) -> 0 | BJ96: 1 | BK96: =ROUND(I96*H96,2) -> 0 | BL96: 4 | BM96: 2
D97: PP | F97: kabel zelenožlutý CY10 | AT97: PP | AU97: 2
C98: 2 | D98: K | E98: R04.2 | F98: kabel zelenožlutý CYA 6 | G98: m | H98: 30 | J98: =ROUND(I98*H98,2) -> 0 | N98: základní | P98: =O98*H98 -> 0 | Q98: 0 | R98: =Q98*H98 -> 0 | S98: 0 | T98: =S98*H98 -> 0 | AR98: 4 | AT98: K | AU98: 2 | AY98: ROZPOCET | BE98: =IF(N98="základní",J98,0) -> 0 | BF98: =IF(N98="snížená",J98,0) -> 0 | BG98: =IF(N98="zákl. přenesená",J98,0) -> 0 | BH98: =IF(N98="sníž. přenesená",J98,0) -> 0 | BI98: =IF(N98="nulová",J98,0) -> 0 | BJ98: 1 | BK98: =ROUND(I98*H98,2) -> 0 | BL98: 4 | BM98: 4
D99: PP | F99: kabel zelenožlutý CYA 6 | AT99: PP | AU99: 2
C100: 3 | D100: K | E100: R04.3 | F100: kabel červený CYA 4 | G100: m | H100: 30 | J100: =ROUND(I100*H100,2) -> 0 | N100: základní | P100: =O100*H100 -> 0 | Q100: 0 | R100: =Q100*H100 -> 0 | S100: 0 | T100: =S100*H100 -> 0 | AR100: 4 | AT100: K | AU100: 2 | AY100: ROZPOCET | BE100: =IF(N100="základní",J100,0) -> 0 | BF100: =IF(N100="snížená",J100,0) -> 0 | BG100: =IF(N100="zákl. přenesená",J100,0) -> 0 | BH100: =IF(N100="sníž. přenesená",J100,0) -> 0 | BI100: =IF(N100="nulová",J100,0) -> 0 | BJ100: 1 | BK100: =ROUND(I100*H100,2) -> 0 | BL100: 4 | BM100: 6
D101: PP | F101: kabel červený CYA 4 | AT101: PP | AU101: 2
C102: 4 | D102: K | E102: R04.4 | F102: kabel černý CYA 4 | G102: m | H102: 30 | J102: =ROUND(I102*H102,2) -> 0 | N102: základní | P102: =O102*H102 -> 0 | Q102: 0 | R102: =Q102*H102 -> 0 | S102: 0 | T102: =S102*H102 -> 0 | AR102: 4 | AT102: K | AU102: 2 | AY102: ROZPOCET | BE102: =IF(N102="základní",J102,0) -> 0 | BF102: =IF(N102="snížená",J102,0) -> 0 | BG102: =IF(N102="zákl. přenesená",J102,0) -> 0 | BH102: =IF(N102="sníž. přenesená",J102,0) -> 0 | BI102: =IF(N102="nulová",J102,0) -> 0 | BJ102: 1 | BK102: =ROUND(I102*H102,2) -> 0 | BL102: 4 | BM102: 8
D103: PP | F103: kabel černý CYA 4 | AT103: PP | AU103: 2
D104: D | E104: 741.2 | F104: KABEL SILOVÝ, IZOLACE PVC | J104: =BK104 -> 0 | P104: =SUM(P105:P118) -> 0 | R104: =SUM(R105:R118) -> 0 | T104: =SUM(T105:T118) -> 0 | AR104: 1 | AT104: D | AU104: 1 | AY104: ROZPOCET | BK104: =SUM(BK105:BK118) -> 0
C105: 10 | D105: K | E105: R04.10 | F105: kabel CYKY-O 3x1,5mm2 | G105: m | H105: 35 | J105: =ROUND(I105*H105,2) -> 0 | N105: základní | P105: =O105*H105 -> 0 | Q105: 0 | R105: =Q105*H105 -> 0 | S105: 0 | T105: =S105*H105 -> 0 | AR105: 4 | AT105: K | AU105: 2 | AY105: ROZPOCET | BE105: =IF(N105="základní",J105,0) -> 0 | BF105: =IF(N105="snížená",J105,0) -> 0 | BG105: =IF(N105="zákl. přenesená",J105,0) -> 0 | BH105: =IF(N105="sníž. přenesená",J105,0) -> 0 | BI105: =IF(N105="nulová",J105,0) -> 0 | BJ105: 1 | BK105: =ROUND(I105*H105,2) -> 0 | BL105: 4 | BM105: 10
D106: PP | F106: kabel CYKY-O 3x1,5mm2 | AT106: PP | AU106: 2
C107: 11 | D107: K | E107: R04.11 | F107: kabel CYKY-J 5x1,5mm2 | G107: m | H107: 40 | J107: =ROUND(I107*H107,2) -> 0 | N107: základní | P107: =O107*H107 -> 0 | Q107: 0 | R107: =Q107*H107 -> 0 | S107: 0 | T107: =S107*H107 -> 0 | AR107: 4 | AT107: K | AU107: 2 | AY107: ROZPOCET | BE107: =IF(N107="základní",J107,0) -> 0 | BF107: =IF(N107="snížená",J107,0) -> 0 | BG107: =IF(N107="zákl. přenesená",J107,0) -> 0 | BH107: =IF(N107="sníž. přenesená",J107,0) -> 0 | BI107: =IF(N107="nulová",J107,0) -> 0 | BJ107: 1 | BK107: =ROUND(I107*H107,2) -> 0 | BL107: 4 | BM107: 12
D108: PP | F108: kabel CYKY-J 5x1,5mm2 | AT108: PP | AU108: 2
C109: 5 | D109: K | E109: R04.5 | F109: kabel CYKY-J 4x16mm2 | G109: m | H109: 8 | J109: =ROUND(I109*H109,2) -> 0 | N109: základní | P109: =O109*H109 -> 0 | Q109: 0 | R109: =Q109*H109 -> 0 | S109: 0 | T109: =S109*H109 -> 0 | AR109: 4 | AT109: K | AU109: 2 | AY109: ROZPOCET | BE109: =IF(N109="základní",J109,0) -> 0 | BF109: =IF(N109="snížená",J109,0) -> 0 | BG109: =IF(N109="zákl. přenesená",J109,0) -> 0 | BH109: =IF(N109="sníž. přenesená",J109,0) -> 0 | BI109: =IF(N109="nulová",J109,0) -> 0 | BJ109: 1 | BK109: =ROUND(I109*H109,2) -> 0 | BL109: 4 | BM109: 14
D110: PP | F110: kabel CYKY-J 4x16mm2 | AT110: PP | AU110: 2
C111: 6 | D111: K | E111: R04.6 | F111: kabel CYKY-J 4x10mm2 | G111: m | H111: 17 | J111: =ROUND(I111*H111,2) -> 0 | N111: základní | P111: =O111*H111 -> 0 | Q111: 0 | R111: =Q111*H111 -> 0 | S111: 0 | T111: =S111*H111 -> 0 | AR111: 4 | AT111: K | AU111: 2 | AY111: ROZPOCET | BE111: =IF(N111="základní",J111,0) -> 0 | BF111: =IF(N111="snížená",J111,0) -> 0 | BG111: =IF(N111="zákl. přenesená",J111,0) -> 0 | BH111: =IF(N111="sníž. přenesená",J111,0) -> 0 | BI111: =IF(N111="nulová",J111,0) -> 0 | BJ111: 1 | BK111: =ROUND(I111*H111,2) -> 0 | BL111: 4 | BM111: 16
D112: PP | F112: kabel CYKY-J 4x10mm2 | AT112: PP | AU112: 2
C113: 7 | D113: K | E113: R04.7 | F113: kabel CYKY-J 5x4mm2 | G113: m | H113: 15 | J113: =ROUND(I113*H113,2) -> 0 | N113: základní | P113: =O113*H113 -> 0 | Q113: 0 | R113: =Q113*H113 -> 0 | S113: 0 | T113: =S113*H113 -> 0 | AR113: 4 | AT113: K | AU113: 2 | AY113: ROZPOCET | BE113: =IF(N113="základní",J113,0) -> 0 | BF113: =IF(N113="snížená",J113,0) -> 0 | BG113: =IF(N113="zákl. přenesená",J113,0) -> 0 | BH113: =IF(N113="sníž. přenesená",J113,0) -> 0 | BI113: =IF(N113="nulová",J113,0) -> 0 | BJ113: 1 | BK113: =ROUND(I113*H113,2) -> 0 | BL113: 4 | BM113: 18
D114: PP | F114: kabel CYKY-J 5x4mm2 | AT114: PP | AU114: 2
C115: 8 | D115: K | E115: R04.8 | F115: kabel CYKY-J 3x2,5mm2 | G115: m | H115: 180 | J115: =ROUND(I115*H115,2) -> 0 | N115: základní | P115: =O115*H115 -> 0 | Q115: 0 | R115: =Q115*H115 -> 0 | S115: 0 | T115: =S115*H115 -> 0 | AR115: 4 | AT115: K | AU115: 2 | AY115: ROZPOCET | BE115: =IF(N115="základní",J115,0) -> 0 | BF115: =IF(N115="snížená",J115,0) -> 0 | BG115: =IF(N115="zákl. přenesená",J115,0) -> 0 | BH115: =IF(N115="sníž. přenesená",J115,0) -> 0 | BI115: =IF(N115="nulová",J115,0) -> 0 | BJ115: 1 | BK115: =ROUND(I115*H115,2) -> 0 | BL115: 4 | BM115: 20
D116: PP | F116: kabel CYKY-J 3x2,5mm2 | AT116: PP | AU116: 2
C117: 9 | D117: K | E117: R04.9 | F117: kabel CYKY-J 3x1,5mm2 | G117: m | H117: 150 | J117: =ROUND(I117*H117,2) -> 0 | N117: základní | P117: =O117*H117 -> 0 | Q117: 0 | R117: =Q117*H117 -> 0 | S117: 0 | T117: =S117*H117 -> 0 | AR117: 4 | AT117: K | AU117: 2 | AY117: ROZPOCET | BE117: =IF(N117="základní",J117,0) -> 0 | BF117: =IF(N117="snížená",J117,0) -> 0 | BG117: =IF(N117="zákl. přenesená",J117,0) -> 0 | BH117: =IF(N117="sníž. přenesená",J117,0) -> 0 | BI117: =IF(N117="nulová",J117,0) -> 0 | BJ117: 1 | BK117: =ROUND(I117*H117,2) -> 0 | BL117: 4 | BM117: 22
D118: PP | F118: kabel CYKY-J 3x1,5mm2 | AT118: PP | AU118: 2
D119: D | E119: 741.3 | F119: Montáž elektroinstalačních lišt, ohebných trubek trubek | J119: =BK119 -> 0 | P119: =SUM(P120:P129) -> 0 | R119: =SUM(R120:R129) -> 0 | T119: =SUM(T120:T129) -> 0 | AR119: 1 | AT119: D | AU119: 1 | AY119: ROZPOCET | BK119: =SUM(BK120:BK129) -> 0
C120: 12 | D120: K | E120: R04.12 | F120: lišta 70x40 | G120: m | H120: 16 | J120: =ROUND(I120*H120,2) -> 0 | N120: základní | P120: =O120*H120 -> 0 | Q120: 0 | R120: =Q120*H120 -> 0 | S120: 0 | T120: =S120*H120 -> 0 | AR120: 4 | AT120: K | AU120: 2 | AY120: ROZPOCET | BE120: =IF(N120="základní",J120,0) -> 0 | BF120: =IF(N120="snížená",J120,0) -> 0 | BG120: =IF(N120="zákl. přenesená",J120,0) -> 0 | BH120: =IF(N120="sníž. přenesená",J120,0) -> 0 | BI120: =IF(N120="nulová",J120,0) -> 0 | BJ120: 1 | BK120: =ROUND(I120*H120,2) -> 0 | BL120: 4 | BM120: 24
D121: PP | F121: lišta 70x40 | AT121: PP | AU121: 2
C122: 13 | D122: K | E122: R04.13 | F122: lišta 40x40 | G122: m | H122: 85 | J122: =ROUND(I122*H122,2) -> 0 | N122: základní | P122: =O122*H122 -> 0 | Q122: 0 | R122: =Q122*H122 -> 0 | S122: 0 | T122: =S122*H122 -> 0 | AR122: 4 | AT122: K | AU122: 2 | AY122: ROZPOCET | BE122: =IF(N122="základní",J122,0) -> 0 | BF122: =IF(N122="snížená",J122,0) -> 0 | BG122: =IF(N122="zákl. přenesená",J122,0) -> 0 | BH122: =IF(N122="sníž. přenesená",J122,0) -> 0 | BI122: =IF(N122="nulová",J122,0) -> 0 | BJ122: 1 | BK122: =ROUND(I122*H122,2) -> 0 | BL122: 4 | BM122: 26
D123: PP | F123: lišta 40x40 | AT123: PP | AU123: 2
C124: 14 | D124: K | E124: R04.14 | F124: lišta 20x20 | G124: m | H124: 60 | J124: =ROUND(I124*H124,2) -> 0 | N124: základní | P124: =O124*H124 -> 0 | Q124: 0 | R124: =Q124*H124 -> 0 | S124: 0 | T124: =S124*H124 -> 0 | AR124: 4 | AT124: K | AU124: 2 | AY124: ROZPOCET | BE124: =IF(N124="základní",J124,0) -> 0 | BF124: =IF(N124="snížená",J124,0) -> 0 | BG124: =IF(N124="zákl. přenesená",J124,0) -> 0 | BH124: =IF(N124="sníž. přenesená",J124,0) -> 0 | BI124: =IF(N124="nulová",J124,0) -> 0 | BJ124: 1 | BK124: =ROUND(I124*H124,2) -> 0 | BL124: 4 | BM124: 28
D125: PP | F125: lišta 20x20 | AT125: PP | AU125: 2
C126: 15 | D126: K | E126: R04.15 | F126: Chránička 50 | G126: m | H126: 30 | J126: =ROUND(I126*H126,2) -> 0 | N126: základní | P126: =O126*H126 -> 0 | Q126: 0 | R126: =Q126*H126 -> 0 | S126: 0 | T126: =S126*H126 -> 0 | AR126: 4 | AT126: K | AU126: 2 | AY126: ROZPOCET | BE126: =IF(N126="základní",J126,0) -> 0 | BF126: =IF(N126="snížená",J126,0) -> 0 | BG126: =IF(N126="zákl. přenesená",J126,0) -> 0 | BH126: =IF(N126="sníž. přenesená",J126,0) -> 0 | BI126: =IF(N126="nulová",J126,0) -> 0 | BJ126: 1 | BK126: =ROUND(I126*H126,2) -> 0 | BL126: 4 | BM126: 30
D127: PP | F127: Chránička 50 | AT127: PP | AU127: 2
C128: 16 | D128: K | E128: R04.16 | F128: Chránička 75 | G128: m | H128: 15 | J128: =ROUND(I128*H128,2) -> 0 | N128: základní | P128: =O128*H128 -> 0 | Q128: 0 | R128: =Q128*H128 -> 0 | S128: 0 | T128: =S128*H128 -> 0 | AR128: 4 | AT128: K | AU128: 2 | AY128: ROZPOCET | BE128: =IF(N128="základní",J128,0) -> 0 | BF128: =IF(N128="snížená",J128,0) -> 0 | BG128: =IF(N128="zákl. přenesená",J128,0) -> 0 | BH128: =IF(N128="sníž. přenesená",J128,0) -> 0 | BI128: =IF(N128="nulová",J128,0) -> 0 | BJ128: 1 | BK128: =ROUND(I128*H128,2) -> 0 | BL128: 4 | BM128: 32
D129: PP | F129: Chránička 75 | AT129: PP | AU129: 2
D130: D | E130: 741.4 | F130: Montáž elektroinstalačních přístrojů | J130: =BK130 -> 0 | P130: =SUM(P131:P142) -> 0 | R130: =SUM(R131:R142) -> 0 | T130: =SUM(T131:T142) -> 0 | AR130: 1 | AT130: D | AU130: 1 | AY130: ROZPOCET | BK130: =SUM(BK131:BK142) -> 0
C131: 17 | D131: K | E131: R04.17 | F131: instalační krabice A9 | G131: ks | H131: 55 | J131: =ROUND(I131*H131,2) -> 0 | N131: základní | P131: =O131*H131 -> 0 | Q131: 0 | R131: =Q131*H131 -> 0 | S131: 0 | T131: =S131*H131 -> 0 | AR131: 4 | AT131: K | AU131: 2 | AY131: ROZPOCET | BE131: =IF(N131="základní",J131,0) -> 0 | BF131: =IF(N131="snížená",J131,0) -> 0 | BG131: =IF(N131="zákl. přenesená",J131,0) -> 0 | BH131: =IF(N131="sníž. přenesená",J131,0) -> 0 | BI131: =IF(N131="nulová",J131,0) -> 0 | BJ131: 1 | BK131: =ROUND(I131*H131,2) -> 0 | BL131: 4 | BM131: 34
D132: PP | F132: instalační krabice A9 | AT132: PP | AU132: 2
C133: 18 | D133: K | E133: R04.18 | F133: vypínač č.1 | G133: ks | H133: 4 | J133: =ROUND(I133*H133,2) -> 0 | N133: základní | P133: =O133*H133 -> 0 | Q133: 0 | R133: =Q133*H133 -> 0 | S133: 0 | T133: =S133*H133 -> 0 | AR133: 4 | AT133: K | AU133: 2 | AY133: ROZPOCET | BE133: =IF(N133="základní",J133,0) -> 0 | BF133: =IF(N133="snížená",J133,0) -> 0 | BG133: =IF(N133="zákl. přenesená",J133,0) -> 0 | BH133: =IF(N133="sníž. přenesená",J133,0) -> 0 | BI133: =IF(N133="nulová",J133,0) -> 0 | BJ133: 1 | BK133: =ROUND(I133*H133,2) -> 0 | BL133: 4 | BM133: 36
...

Sheet VON - Vedlejší a ostatní ...
L2: >> skryté sloupce << | AT2: {89711b90-3cdc-4ff6-8d9c-48c3e53e240f}
AT3: 2
D4: KRYCÍ LIST SOUPISU PRACÍ | M4: v --- níže se nacházejí doplnkové a pomocné údaje k sestavám --- v | AT4: False
D6: Stavba:
E7: ='Rekapitulace stavby'!K6 -> Revitalizace zázemí městské knihovny a předprostoru Lázeňského parku Poděbrady
D8: Objekt:
E9: VON - Vedlejší a ostatní ...
D11: KSO: | I11: CC-CZ:
D12: Místo: | I12: Datum: | J12: ='Rekapitulace stavby'!AN8 -> 24. 6. 2026
D14: Zadavatel: | I14: IČ: | J14: =IF('Rekapitulace stavby'!AN10="","",'Rekapitulace stavby'!AN10)
E15: =IF('Rekapitulace stavby'!E11="","",'Rekapitulace stavby'!E11) -> Město Poděbrady | I15: DIČ: | J15: =IF('Rekapitulace stavby'!AN11="","",'Rekapitulace stavby'!AN11)
D17: Účastník: | I17: IČ: | J17: ='Rekapitulace stavby'!AN13 -> Vyplň údaj
E18: ='Rekapitulace stavby'!E14 -> Vyplň údaj | I18: DIČ: | J18: ='Rekapitulace stavby'!AN14 -> Vyplň údaj
D20: Projektant: | I20: IČ: | J20: =IF('Rekapitulace stavby'!AN16="","",'Rekapitulace stavby'!AN16)
E21: =IF('Rekapitulace stavby'!E17="","",'Rekapitulace stavby'!E17) | I21: DIČ: | J21: =IF('Rekapitulace stavby'!AN17="","",'Rekapitulace stavby'!AN17)
D23: Zpracovatel: | I23: IČ: | J23: =IF('Rekapitulace stavby'!AN19="","",'Rekapitulace stavby'!AN19)
E24: =IF('Rekapitulace stavby'!E20="","",'Rekapitulace stavby'!E20) | I24: DIČ: | J24: =IF('Rekapitulace stavby'!AN20="","",'Rekapitulace stavby'!AN20)
D26: Poznámka:
D30: Cena bez DPH | J30: =ROUND(J85, 2) -> 0
F32: Základ daně | I32: Sazba daně | J32: Výše daně
D33: DPH | E33: základní | F33: =ROUND((SUM(BE85:BE115)), 2) -> 0 | I33: 0.21 | J33: =ROUND(((SUM(BE85:BE115))*I33), 2) -> 0
E34: snížená | F34: =ROUND((SUM(BF85:BF115)), 2) -> 0 | I34: 0.12 | J34: =ROUND(((SUM(BF85:BF115))*I34), 2) -> 0
E35: zákl. přenesená | F35: =ROUND((SUM(BG85:BG115)), 2) -> 0 | I35: 0.21 | J35: =0 -> 0
E36: sníž. přenesená | F36: =ROUND((SUM(BH85:BH115)), 2) -> 0 | I36: 0.12 | J36: =0 -> 0
E37: nulová | F37: =ROUND((SUM(BI85:BI115)), 2) -> 0 | I37: 0 | J37: =0 -> 0
D39: Cena s DPH | G39: v | H39: CZK | J39: =SUM(J30:J37) -> 0
C45: REKAPITULACE ČLENĚNÍ SOUPISU PRACÍ
C47: Stavba:
E48: =E7 -> Revitalizace zázemí městské knihovny a předprostoru Lázeňského parku Poděbrady
C49: Objekt:
E50: =E9 -> VON - Vedlejší a ostatní ...
C52: Místo: | F52: =F12 | I52: Datum: | J52: =IF(J12="","",J12) -> 24. 6. 2026
C54: Zadavatel: | F54: =E15 -> Město Poděbrady | I54: Projektant: | J54: =E21
C55: Účastník: | F55: =IF(E18="","",E18) -> Vyplň údaj | I55: Zpracovatel: | J55: =E24
C57: Kód dílu - Popis | J57: Cena celkem [CZK]
C59: Náklady stavby celkem | J59: =J85 -> 0 | AU59: -1
D60: VRN - Vedlejší rozpočtové náklady | J60: =J86 -> 0
D61: VRN1 - Průzkumné, geodetické a projektové práce | J61: =J87 -> 0
D62: VRN3 - Zařízení staveniště | J62: =J92 -> 0
D63: VRN4 - Inženýrská činnost | J63: =J96 -> 0
D64: VRN7 - Provozní vlivy | J64: =J109 -> 0
D65: VRN9 - Ostatní náklady | J65: =J112 -> 0
C72: SOUPIS PRACÍ
C74: Stavba:
E75: =E7 -> Revitalizace zázemí městské knihovny a předprostoru Lázeňského parku Poděbrady
C76: Objekt:
E77: =E9 -> VON - Vedlejší a ostatní ...
C79: Místo: | F79: =F12 | I79: Datum: | J79: =IF(J12="","",J12) -> 24. 6. 2026
C81: Zadavatel: | F81: =E15 -> Město Poděbrady | I81: Projektant: | J81: =E21
C82: Účastník: | F82: =IF(E18="","",E18) -> Vyplň údaj | I82: Zpracovatel: | J82: =E24
C84: PČ | D84: Typ | E84: Kód | F84: Popis | G84: MJ | H84: Množství | I84: J.cena [CZK] | J84: Cena celkem [CZK] | K84: Cenová soustava | N84: DPH | O84: J. Nh [h] | P84: Nh celkem [h] | Q84: J. hmotnost [t] | R84: Hmotnost celkem [t] | S84: J. suť [t] | T84: Suť Celkem [t]
C85: Náklady soupisu celkem | J85: =BK85 -> 0 | P85: =P86 -> 0 | R85: =R86 -> 0 | T85: =T86 -> 0 | AT85: D | AU85: -1 | BK85: =BK86 -> 0
D86: D | E86: VRN | F86: Vedlejší rozpočtové náklady | J86: =BK86 -> 0 | P86: =P87+P92+P96+P109+P112 -> 0 | R86: =R87+R92+R96+R109+R112 -> 0 | T86: =T87+T92+T96+T109+T112 -> 0 | AR86: 5 | AT86: D | AU86: 0 | AY86: ROZPOCET | BK86: =BK87+BK92+BK96+BK109+BK112 -> 0
D87: D | E87: VRN1 | F87: Průzkumné, geodetické a projektové práce | J87: =BK87 -> 0 | P87: =SUM(P88:P91) -> 0 | R87: =SUM(R88:R91) -> 0 | T87: =SUM(T88:T91) -> 0 | AR87: 5 | AT87: D | AU87: 1 | AY87: ROZPOCET | BK87: =SUM(BK88:BK91) -> 0
C88: 1 | D88: K | E88: 012002000 | F88: Geodetické práce | G88: Kč | H88: 1 | J88: =ROUND(I88*H88,2) -> 0 | N88: základní | P88: =O88*H88 -> 0 | Q88: 0 | R88: =Q88*H88 -> 0 | S88: 0 | T88: =S88*H88 -> 0 | AR88: 4 | AT88: K | AU88: 2 | AY88: ROZPOCET | BE88: =IF(N88="základní",J88,0) -> 0 | BF88: =IF(N88="snížená",J88,0) -> 0 | BG88: =IF(N88="zákl. přenesená",J88,0) -> 0 | BH88: =IF(N88="sníž. přenesená",J88,0) -> 0 | BI88: =IF(N88="nulová",J88,0) -> 0 | BJ88: 1 | BK88: =ROUND(I88*H88,2) -> 0 | BL88: 4 | BM88: 2
D89: PP | F89: Geodetické práce | AT89: PP | AU89: 2
C90: 2 | D90: K | E90: 013254000 | F90: Dokumentace skutečného provedení stavby | G90: Kč | H90: 1 | J90: =ROUND(I90*H90,2) -> 0 | N90: základní | P90: =O90*H90 -> 0 | Q90: 0 | R90: =Q90*H90 -> 0 | S90: 0 | T90: =S90*H90 -> 0 | AR90: 4 | AT90: K | AU90: 2 | AY90: ROZPOCET | BE90: =IF(N90="základní",J90,0) -> 0 | BF90: =IF(N90="snížená",J90,0) -> 0 | BG90: =IF(N90="zákl. přenesená",J90,0) -> 0 | BH90: =IF(N90="sníž. přenesená",J90,0) -> 0 | BI90: =IF(N90="nulová",J90,0) -> 0 | BJ90: 1 | BK90: =ROUND(I90*H90,2) -> 0 | BL90: 4 | BM90: 4
D91: PP | F91: Dokumentace skutečného provedení stavby | AT91: PP | AU91: 2
D92: D | E92: VRN3 | F92: Zařízení staveniště | J92: =BK92 -> 0 | P92: =SUM(P93:P95) -> 0 | R92: =SUM(R93:R95) -> 0 | T92: =SUM(T93:T95) -> 0 | AR92: 5 | AT92: D | AU92: 1 | AY92: ROZPOCET | BK92: =SUM(BK93:BK95) -> 0
C93: 3 | D93: K | E93: 030001000 | F93: Zařízení staveniště | G93: Kč | H93: 1 | J93: =ROUND(I93*H93,2) -> 0 | N93: základní | P93: =O93*H93 -> 0 | Q93: 0 | R93: =Q93*H93 -> 0 | S93: 0 | T93: =S93*H93 -> 0 | AR93: 4 | AT93: K | AU93: 2 | AY93: ROZPOCET | BE93: =IF(N93="základní",J93,0) -> 0 | BF93: =IF(N93="snížená",J93,0) -> 0 | BG93: =IF(N93="zákl. přenesená",J93,0) -> 0 | BH93: =IF(N93="sníž. přenesená",J93,0) -> 0 | BI93: =IF(N93="nulová",J93,0) -> 0 | BJ93: 1 | BK93: =ROUND(I93*H93,2) -> 0 | BL93: 4 | BM93: 6
D94: PP | F94: Zařízení staveniště | AT94: PP | AU94: 2
D95: P | F95: Poznámka k položce: Poznámka k položce: Náklady spojené s vybudváním, provozováním a odstraněním staveniště vč. energií, médií pro stavbu, náklady na ostrahu stavby a staveniště, náklady na závěrečný úklid stavby a okolí | AT95: P | AU95: 2
D96: D | E96: VRN4 | F96: Inženýrská činnost | J96: =BK96 -> 0 | P96: =SUM(P97:P108) -> 0 | R96: =SUM(R97:R108) -> 0 | T96: =SUM(T97:T108) -> 0 | AR96: 5 | AT96: D | AU96: 1 | AY96: ROZPOCET | BK96: =SUM(BK97:BK108) -> 0
C97: 5 | D97: K | E97: 043154000 | F97: Zkoušky hutnicí | G97: Kč | H97: 1 | J97: =ROUND(I97*H97,2) -> 0 | N97: základní | P97: =O97*H97 -> 0 | Q97: 0 | R97: =Q97*H97 -> 0 | S97: 0 | T97: =S97*H97 -> 0 | AR97: 4 | AT97: K | AU97: 2 | AY97: ROZPOCET | BE97: =IF(N97="základní",J97,0) -> 0 | BF97: =IF(N97="snížená",J97,0) -> 0 | BG97: =IF(N97="zákl. přenesená",J97,0) -> 0 | BH97: =IF(N97="sníž. přenesená",J97,0) -> 0 | BI97: =IF(N97="nulová",J97,0) -> 0 | BJ97: 1 | BK97: =ROUND(I97*H97,2) -> 0 | BL97: 4 | BM97: 10
D98: PP | F98: Zkoušky hutnicí | AT98: PP | AU98: 2
C99: 4 | D99: K | E99: 041903R.VON.1 | F99: Dozor inženýrského geologa | G99: Kč | H99: 1 | J99: =ROUND(I99*H99,2) -> 0 | N99: základní | P99: =O99*H99 -> 0 | Q99: 0 | R99: =Q99*H99 -> 0 | S99: 0 | T99: =S99*H99 -> 0 | AR99: 4 | AT99: K | AU99: 2 | AY99: ROZPOCET | BE99: =IF(N99="základní",J99,0) -> 0 | BF99: =IF(N99="snížená",J99,0) -> 0 | BG99: =IF(N99="zákl. přenesená",J99,0) -> 0 | BH99: =IF(N99="sníž. přenesená",J99,0) -> 0 | BI99: =IF(N99="nulová",J99,0) -> 0 | BJ99: 1 | BK99: =ROUND(I99*H99,2) -> 0 | BL99: 4 | BM99: 8
D100: PP | F100: Dozor inženýrského geologa | AT100: PP | AU100: 2
C101: 6 | D101: K | E101: 043194000 | F101: Ostatní zkoušky | G101: Kč | H101: 1 | J101: =ROUND(I101*H101,2) -> 0 | N101: základní | P101: =O101*H101 -> 0 | Q101: 0 | R101: =Q101*H101 -> 0 | S101: 0 | T101: =S101*H101 -> 0 | AR101: 4 | AT101: K | AU101: 2 | AY101: ROZPOCET | BE101: =IF(N101="základní",J101,0) -> 0 | BF101: =IF(N101="snížená",J101,0) -> 0 | BG101: =IF(N101="zákl. přenesená",J101,0) -> 0 | BH101: =IF(N101="sníž. přenesená",J101,0) -> 0 | BI101: =IF(N101="nulová",J101,0) -> 0 | BJ101: 1 | BK101: =ROUND(I101*H101,2) -> 0 | BL101: 4 | BM101: 12
D102: PP | F102: Ostatní zkoušky | AT102: PP | AU102: 2
D103: P | F103: Poznámka k položce: Poznámka k položce: Náklady na zkoušky pro zajištění kontroly a kvality díla | AT103: P | AU103: 2
C104: 7 | D104: K | E104: 045203000 | F104: Kompletační činnost | G104: Kč | H104: 1 | J104: =ROUND(I104*H104,2) -> 0 | N104: základní | P104: =O104*H104 -> 0 | Q104: 0 | R104: =Q104*H104 -> 0 | S104: 0 | T104: =S104*H104 -> 0 | AR104: 4 | AT104: K | AU104: 2 | AY104: ROZPOCET | BE104: =IF(N104="základní",J104,0) -> 0 | BF104: =IF(N104="snížená",J104,0) -> 0 | BG104: =IF(N104="zákl. přenesená",J104,0) -> 0 | BH104: =IF(N104="sníž. přenesená",J104,0) -> 0 | BI104: =IF(N104="nulová",J104,0) -> 0 | BJ104: 1 | BK104: =ROUND(I104*H104,2) -> 0 | BL104: 4 | BM104: 14
D105: PP | F105: Kompletační činnost | AT105: PP | AU105: 2
D106: P | F106: Poznámka k položce: Poznámka k položce: Náklady na zpracování dokladové části k předání stavby (protokoly o zkouškách apod.) | AT106: P | AU106: 2
C107: 8 | D107: K | E107: 045303000 | F107: Koordinační činnost | G107: Kč | H107: 1 | J107: =ROUND(I107*H107,2) -> 0 | N107: základní | P107: =O107*H107 -> 0 | Q107: 0 | R107: =Q107*H107 -> 0 | S107: 0 | T107: =S107*H107 -> 0 | AR107: 4 | AT107: K | AU107: 2 | AY107: ROZPOCET | BE107: =IF(N107="základní",J107,0) -> 0 | BF107: =IF(N107="snížená",J107,0) -> 0 | BG107: =IF(N107="zákl. přenesená",J107,0) -> 0 | BH107: =IF(N107="sníž. přenesená",J107,0) -> 0 | BI107: =IF(N107="nulová",J107,0) -> 0 | BJ107: 1 | BK107: =ROUND(I107*H107,2) -> 0 | BL107: 4 | BM107: 16
D108: PP | F108: Koordinační činnost | AT108: PP | AU108: 2
D109: D | E109: VRN7 | F109: Provozní vlivy | J109: =BK109 -> 0 | P109: =SUM(P110:P111) -> 0 | R109: =SUM(R110:R111) -> 0 | T109: =SUM(T110:T111) -> 0 | AR109: 5 | AT109: D | AU109: 1 | AY109: ROZPOCET | BK109: =SUM(BK110:BK111) -> 0
C110: 9 | D110: K | E110: 07210301R.VON.2 | F110: Zajištění DIO | G110: Kč | H110: 1 | J110: =ROUND(I110*H110,2) -> 0 | N110: základní | P110: =O110*H110 -> 0 | Q110: 0 | R110: =Q110*H110 -> 0 | S110: 0 | T110: =S110*H110 -> 0 | AR110: 4 | AT110: K | AU110: 2 | AY110: ROZPOCET | BE110: =IF(N110="základní",J110,0) -> 0 | BF110: =IF(N110="snížená",J110,0) -> 0 | BG110: =IF(N110="zákl. přenesená",J110,0) -> 0 | BH110: =IF(N110="sníž. přenesená",J110,0) -> 0 | BI110: =IF(N110="nulová",J110,0) -> 0 | BJ110: 1 | BK110: =ROUND(I110*H110,2) -> 0 | BL110: 4 | BM110: 18
D111: PP | F111: Zajištění DIO | AT111: PP | AU111: 2
D112: D | E112: VRN9 | F112: Ostatní náklady | J112: =BK112 -> 0 | P112: =SUM(P113:P115) -> 0 | R112: =SUM(R113:R115) -> 0 | T112: =SUM(T113:T115) -> 0 | AR112: 5 | AT112: D | AU112: 1 | AY112: ROZPOCET | BK112: =SUM(BK113:BK115) -> 0
C113: 10 | D113: K | E113: 091504000 | F113: Náklady související s publikační činností | G113: Kč | H113: 1 | J113: =ROUND(I113*H113,2) -> 0 | N113: základní | P113: =O113*H113 -> 0 | Q113: 0 | R113: =Q113*H113 -> 0 | S113: 0 | T113: =S113*H113 -> 0 | AR113: 4 | AT113: K | AU113: 2 | AY113: ROZPOCET | BE113: =IF(N113="základní",J113,0) -> 0 | BF113: =IF(N113="snížená",J113,0) -> 0 | BG113: =IF(N113="zákl. přenesená",J113,0) -> 0 | BH113: =IF(N113="sníž. přenesená",J113,0) -> 0 | BI113: =IF(N113="nulová",J113,0) -> 0 | BJ113: 1 | BK113: =ROUND(I113*H113,2) -> 0 | BL113: 4 | BM113: 20
D114: PP | F114: Náklady související s publikační činností | AT114: PP | AU114: 2
D115: P | F115: Poznámka k položce: Poznámka k položce: Informační tabule s potřebnými údaji o prováděcí firmě, o zahájení a ukončení výstavby | AT115: P | AU115: 2

Sheet Pokyny pro vyplnění
C3: Struktura údajů, formát souboru a metodika pro zpracování
C4: Struktura
C6: Soubor je složen ze záložky Rekapitulace stavby a záložek s názvem soupisu prací pro jednotlivé objekty ve formátu XLSX. Každá ze záložek přitom obsahuje
C7: ještě samostatné sestavy vymezené orámovaním a nadpisem sestavy.
C9: Rekapitulace stavby obsahuje sestavu Rekapitulace stavby a Rekapitulace objektů stavby a soupisů prací.
D10: V sestavě Rekapitulace stavby jsou uvedeny informace identifikující předmět veřejné zakázky na stavební práce, KSO, CC-CZ, CZ-CPV, CZ-CPA a rekapitulaci
D11: celkové nabídkové ceny účastníka.
D13: Termínem "učastník" (resp. zhotovitel) se myslí "účastník zadávacího řízení" ve smyslu zákona o zadávání veřejných zakázek.
D15: V sestavě Rekapitulace objektů stavby a soupisů prací je uvedena rekapitulace stavebních objektů, inženýrských objektů, provozních souborů,
D16: vedlejších a ostatních nákladů a ostatních nákladů s rekapitulací nabídkové ceny za jednotlivé soupisy prací. Na základě údaje Typ je možné
D17: identifikovat, zda se jedná o objekt nebo soupis prací pro daný objekt:
E18: STA | F18: Stavební objekt pozemní
E19: ING | F19: Stavební objekt inženýrský
E20: PRO | F20: Provozní soubor
E21: VON | F21: Vedlejší a ostatní náklady
E22: OST | F22: Ostatní
E23: Soupis | F23: Soupis prací pro daný typ objektu
C25: Soupis prací pro jednotlivé objekty obsahuje sestavy Krycí list soupisu prací, Rekapitulace členění soupisu prací, Soupis prací. Za soupis prací může být považován
C26: i objekt stavby v případě, že neobsahuje podřízenou zakázku.
D27: Krycí list soupisu obsahuje rekapitulaci informací o předmětu veřejné zakázky ze sestavy Rekapitulace stavby, informaci o zařazení objektu do KSO,
D28: CC-CZ, CZ-CPV, CZ-CPA a rekapitulaci celkové nabídkové ceny účastníka za aktuální soupis prací.
D30: Rekapitulace členění soupisu prací obsahuje rekapitulaci soupisu prací ve všech úrovních členění soupisu tak, jak byla tato členění použita (např.
D31: stavební díly, funkční díly, případně jiné členění) s rekapitulací nabídkové ceny.
D33: Soupis prací obsahuje položky veškerých stavebních nebo montážních prací, dodávek materiálů a služeb nezbytných pro zhotovení stavebního objektu,
D34: inženýrského objektu, provozního souboru, vedlejších a ostatních nákladů.
D35: Pro položky soupisu prací se zobrazují následující informace:
E36: PČ | G36: Pořadové číslo položky v aktuálním soupisu
E37: TYP | G37: Typ položky: K - konstrukce, M - materiál, PP - plný popis, PSC - poznámka k souboru cen, P - poznámka k položce, VV - výkaz výměr, FIG - rozpad figur
E38: Kód | G38: Kód položky
E39: Popis | G39: Zkrácený popis položky
E40: MJ | G40: Měrná jednotka položky
E41: Množství | G41: Množství v měrné jednotce
E42: J.cena | G42: Jednotková cena položky. Zadaní může obsahovat namísto J.ceny sloupce J.materiál a J.montáž, jejichž součet definuje
G43: J.cenu položky.
E44: Cena celkem | G44: Celková cena položky daná jako součin množství a j.ceny
E45: Cenová soustava | G45: Příslušnost položky do cenové soustavy
D47: Ke každé položce soupisu prací se na samostatných řádcích může zobrazovat:
E48: Plný popis položky
E49: Poznámka k souboru cen a poznámka zadavatele
E50: Výkaz výměr
D51: Pokud je k řádku výkazu výměr evidovaný údaj ve sloupci Kód, jedná se o definovaný odkaz, na který se může odvolávat výkaz výměr z jiné položky.
C52: Metodika pro zpracování
C54: Jednotlivé sestavy jsou v souboru provázány. Editovatelné pole jsou zvýrazněny žlutým podbarvením, ostatní pole neslouží k editaci a nesmí být jakkoliv
C55: modifikovány.
C57: Účastník je pro podání nabídky povinen vyplnit žlutě podbarvená pole:
D58: Pole Účastník v sestavě Rekapitulace stavby - zde účastník vyplní svůj název (název subjektu)
D59: Pole IČ a DIČ v sestavě Rekapitulace stavby - zde účastník vyplní svoje IČ a DIČ
D60: Datum v sestavě Rekapitulace stavby - zde účastník vyplní datum vytvoření nabídky
D61: J.cena = jednotková cena v sestavě Soupis prací o maximálním počtu desetinných míst uvedených v poli
D62: - pokud sestavy soupisů prací obsahují pole J.cena, měla by být všechna tato pole vyplněna nenulovými
D63: Poznámka - nepovinný údaj pro položku soupisu
D65: V případě, že sestavy soupisů prací neobsahují pole J.cena, potom ve všech soupisech prací obsahují pole:
D66: - J.materiál - jednotková cena materiálu
D67: - J.montáž - jednotková cena montáže
D68: Účastník v tomto případě by měl vyplnit všechna pole J.materiál a pole J.montáž nenulovými kladnými číslicemi. V případech, kdy položka
D69: neobsahuje žádný materiál je přípustné, aby pole J.materiál bylo vyplněno nulou. V případech, kdy položka neobsahuje žádnou montáž je přípustné,
D70: aby pole J.montáž bylo vyplněno nulou. Obě pole - J.materiál, J.Montáž u jedné položky by však neměly být vyplněny nulou.
C75: Rekapitulace stavby
C76: Název | F76: Povinný | H76: Popis | I76: Typ | J76: Max. počet
C77: atributu | F77: (A/N) | J77: znaků
C79: Kód | F79: A | H79: Kód stavby | I79: String | J79: 20
C80: Stavba | F80: A | H80: Název stavby | I80: String | J80: 120
C81: Místo | F81: N | H81: Místo stavby | I81: String | J81: 50
C82: Datum | F82: A | H82: Datum vykonaného exportu | I82: Date
C83: KSO | F83: N | H83: Klasifikace stavebního objektu | I83: String | J83: 15
C84: CC-CZ | F84: N | H84: Klasifikace stavbeních děl | I84: String | J84: 15
C85: CZ-CPV | F85: N | H85: Společný slovník pro veřejné zakázky | I85: String | J85: 20
C86: CZ-CPA | F86: N | H86: Klasifikace produkce podle činností | I86: String | J86: 20
C87: Zadavatel | F87: N | H87: Zadavatel zadaní | I87: String | J87: 50
C88: IČ | F88: N | H88: IČ zadavatele zadaní | I88: String | J88: 20
C89: DIČ | F89: N | H89: DIČ zadavatele zadaní | I89: String | J89: 20
C90: Účastník | F90: N | H90: Účastník veřejné zakázky | I90: String | J90: 50
C91: Projektant | F91: N | H91: Projektant | I91: String | J91: 50
C92: Poznámka | F92: N | H92: Poznámka k zadání | I92: String | J92: 255
C93: Sazba DPH | F93: A | H93: Rekapitulace sazeb DPH u položek soupisů | I93: eGSazbaDph
C94: Základna DPH | F94: A | H94: Základna DPH určena součtem celkové ceny z položek soupisů | I94: Double
C95: Hodnota DPH | F95: A | H95: Hodnota DPH | I95: Double
C96: Cena bez DPH | F96: A | H96: Celková cena bez DPH za celou stavbu. Sčítává se ze všech listů. | I96: Double
C97: Cena s DPH | F97: A | H97: Celková cena s DPH za celou stavbu | I97: Double
C102: Rekapitulace objektů stavby a soupisů prací
C103: Název | F103: Povinný | H103: Popis | I103: Typ | J103: Max. počet
C104: atributu | F104: (A/N) | J104: znaků
C106: Kód | F106: A | H106: Přebírá se z Rekapitulace stavby | I106: String | J106: 20
C107: Stavba | F107: A | H107: Přebírá se z Rekapitulace stavby | I107: String | J107: 120
C108: Místo | F108: N | H108: Přebírá se z Rekapitulace stavby | I108: String | J108: 50
C109: Datum | F109: A | H109: Přebírá se z Rekapitulace stavby | I109: Date
C110: Zadavatel | F110: N | H110: Přebírá se z Rekapitulace stavby | I110: String | J110: 50
C111: Projektant | F111: N | H111: Přebírá se z Rekapitulace stavby | I111: String | J111: 50
C112: Účastník | F112: N | H112: Přebírá se z Rekapitulace stavby | I112: String | J112: 50
C113: Kód | F113: A | H113: Kód objektu | I113: String | J113: 20
C114: Objektu, Soupis prací | F114: A | H114: Název objektu | I114: String | J114: 120
C115: Cena bez DPH | F115: A | H115: Cena bez DPH za daný objekt | I115: Double
C116: Cena s DPH | F116: A | H116: Cena spolu s DPH za daný objekt | I116: Double
C117: Typ | F117: A | H117: Typ zakázky | I117: eGTypZakazky
C122: Krycí list soupisu
C123: Název | F123: Povinný | H123: Popis | I123: Typ | J123: Max. počet
C124: atributu | F124: (A/N) | J124: znaků
C126: Stavba | F126: A | H126: Přebírá se z Rekapitulace stavby | I126: String | J126: 120
C127: Objekt | F127: A | H127: Kód a název objektu | I127: String | J127: 20 + 120
C128: Soupis | F128: A | H128: Kód a název soupisu | I128: String | J128: 20 + 120
...
